Workbook

Sheet Processing & Summary
B1: Group ID | C1: A | E1: B | H1: D | K1: E | M1: F | O1: G | R1: H | T1: J* | U1: K | X1: L | Y1: M | AB1: N | AC1: O | AF1: P | AG1: Q | AJ1: R | AM1: S | AO1: T | AQ1: U | AS1: Legend
B2: Cell ID | C2: A1 | D2: A2 | E2: B1 | F2: B2 | G2: B3 | H2: D1 | I2: D2 | J2: D3 | K2: E1 | L2: E2 | M2: F1 | N2: F2 | O2: G1 | P2: G2 | Q2: G3 | R2: H1 | S2: H2 | T2: J1 | U2: K1 | V2: K2 | W2: K3 | X2: L1 | Y2: M1 | Z2: M2 | AA2: M3 | AB2: N3 | AC2: O1 | AD2: O2 | AE2: O3 | AF2: P1 | AG2: Q1 | AH2: Q2 | AI2: Q3 | AJ2: R1 | AK2: R2 | AL2: R3 | AM2: S1 | AN2: S2 | AO2: T1 | AP2: T2 | AQ2: U1 | AT2: No data was provided
A3: Group parameters | B3: Electrode diameter / mm | C3: 10 | D3: 10 | E3: 10 | F3: 10 | G3: 10 | H3: 10 | I3: 10 | J3: 10 | K3: 10 | L3: 10 | M3: 9.5 | N3: 9.5 | O3: 5 | P3: 5 | Q3: 5 | R3: 10 | S3: 10 | T3: 10 | U3: 10 | V3: 10 | W3: 10 | X3: 10 | Y3: 7 | Z3: 7 | AA3: 7 | AB3: 10 | AC3: 8 | AD3: 8 | AE3: 8 | AF3: 10 | AG3: 7 | AH3: 7 | AI3: 7 | AJ3: 10 | AK3: 10 | AL3: 10 | AM3: 10 | AN3: 10 | AO3: 13 | AP3: 13 | AQ3: 13 | AS3: ABC | AT3: Calculated/ estimated values
B4: Separator pressure / Mpa | C4: 100 | D4: 100 | E4: hand-pressed | F4: hand-pressed | G4: hand-pressed | H4: 300 | I4: 300 | J4: 300 | K4: 127 | L4: 127 | M4: 350 | N4: 350 | O4: 50 | P4: 50 | Q4: 50 | R4: 70 | S4: 70 | T4: 460 | U4: 62 | V4: 62 | W4: 62 | X4: 370 | Y4: 255 | Z4: 255 | AA4: 255 | AB4: 395 | AC4: 590 | AD4: 590 | AE4: 590 | AF4: 720 | AG4: 380 | AH4: 380 | AI4: 380 | AJ4: 98 | AK4: 98 | AL4: 98 | AM4: 100 | AN4: 100 | AO4: 25 | AP4: 25 | AQ4: 72
B5: Separator compression time / min | C5: 0.02 | D5: 0.02 | E5: - | F5: - | G5: - | H5: 0 | I5: 0 | J5: 0 | K5: 1 | L5: 1 | M5: 5 | N5: 5 | O5: 1 | P5: 1 | Q5: 1 | R5: 1 | S5: 1 | T5: 3.5 | U5: 1 | V5: 1 | W5: 1 | X5: 1 | Y5: 10 | Z5: 10 | AA5: 10 | AB5: 3 | AC5: 5 | AD5: 5 | AE5: 5 | AF5: 3 | AG5: 1 | AH5: 1 | AI5: 1 | AJ5: 1 | AK5: 1 | AL5: 1 | AM5: 1 | AN5: 1 | AO5: 0.5 | AP5: 0.5 | AQ5: 1
B6: Cathode composite pressure / Mpa | C6: 370 | D6: 370 | E6: 380 | F6: 380 | G6: 380 | H6: 350 | I6: 350 | J6: 350 | K6: 304 | L6: 304 | M6: 350 | N6: 350 | O6: 50 | P6: 50 | Q6: 50 | R6: 300 | S6: 300 | T6: 400 | U6: 434 | V6: 434 | W6: 434 | X6: 370 | Y6: 255 | Z6: 255 | AA6: 255 | AB6: 395 | AC6: 590 | AD6: 590 | AE6: 590 | AF6: 720 | AG6: 510 | AH6: 510 | AI6: 510 | AJ6: 395 | AK6: 395 | AL6: 395 | AM6: 380 | AN6: 380 | AO6: - | AP6: - | AQ6: 370
B7: Cathode composite compression time / min | C7: 3 | D7: 3 | E7: 3 | F7: 3 | G7: 3 | H7: 2 | I7: 2 | J7: 2 | K7: 5 | L7: 5 | M7: 5 | N7: 5 | O7: 1 | P7: 1 | Q7: 1 | R7: 3 | S7: 3 | T7: 3.5 | U7: 3 | V7: 3 | W7: 3 | X7: 1 | Y7: 10 | Z7: 10 | AA7: 10 | AB7: 3 | AC7: 5 | AD7: 5 | AE7: 5 | AF7: 3 | AG7: 1 | AH7: 1 | AI7: 1 | AJ7: 1 | AK7: 1 | AL7: 1 | AM7: 3 | AN7: 3 | AO7: - | AP7: - | AQ7: 3
B8: Complete battery cell pressure / MPa | C8: 100 | D8: 100 | E8: - | F8: - | G8: - | H8: 10 | I8: 10 | J8: 10 | K8: 50 | L8: 50 | M8: 25 | N8: 25 | O8: 400 | P8: 400 | Q8: 400 | R8: hand-pressed | S8: hand-pressed | T8: 100 | U8: 0 | V8: 0 | W8: 0 | X8: 150 | Y8: 50 | Z8: 50 | AA8: 50 | AB8: 55 | AC8: 195 | AD8: 195 | AE8: 195 | AF8: 36 | AG8: 400 | AH8: 400 | AI8: 400 | AJ8: 68 | AK8: 68 | AL8: 68 | AM8: - | AN8: - | AO8: 360 | AP8: 360 | AQ8: 40
B9: Complete battery cell compression time / min | C9: 0.02 | D9: 0.02 | E9: - | F9: - | G9: - | H9: 0 | I9: 0 | J9: 0 | K9: 1 | L9: 1 | M9: 5 | N9: 5 | O9: 5 | P9: 5 | Q9: 5 | R9: - | S9: - | T9: 2 | U9: 0 | V9: 0 | W9: 0 | X9: 0.5 | Y9: =3/60 -> 0.05 | Z9: =3/60 -> 0.05 | AA9: =3/60 -> 0.05 | AB9: - | AC9: 5 | AD9: 5 | AE9: 5 | AF9: 2 | AG9: - | AH9: - | AI9: - | AJ9: - | AK9: - | AL9: - | AM9: - | AN9: - | AO9: 1 | AP9: 1 | AQ9: 3
B10: Cycling pressure / MPa | C10: 70 | D10: 70 | E10: 50 | F10: 50 | G10: 50 | H10: - | I10: - | J10: - | K10: 50 | L10: 50 | M10: 10 | N10: 10 | O10: 1 | P10: 1 | Q10: 1 | R10: 60 | S10: 60 | T10: 60 | U10: 81 | V10: 81 | W10: 81 | X10: 75 | Y10: 50 | Z10: 50 | AA10: 50 | AB10: 55 | AC10: 40 | AD10: 40 | AE10: 40 | AF10: 50 | AG10: 400 | AH10: 400 | AI10: 400 | AJ10: 68 | AK10: 68 | AL10: 68 | AM10: 50 | AN10: 50 | AO10: 25 | AP10: 25 | AQ10: 70
B11: Pressure control (Yes/No) | C11: N | D11: N | E11: N | F11: N | G11: N | H11: N | I11: N | J11: N | K11: N | L11: N | M11: N | N11: N | O11: N | P11: N | Q11: N | R11: N | S11: N | T11: Y | U11: N | V11: N | W11: N | X11: N | Y11: N | Z11: N | AA11: N | AB11: N | AC11: Y | AD11: Y | AE11: Y | AF11: Y | AG11: N | AH11: N | AI11: N | AJ11: Y | AK11: Y | AL11: Y | AM11: N | AN11: N | AO11: N | AP11: N | AQ11: N
B12: Cycling temperature / °C | C12: 25 | D12: 25 | E12: 25 | F12: 25 | G12: 25 | H12: 25 | I12: 25 | J12: 25 | K12: 25 | L12: 25 | M12: 25 | N12: 25 | O12: 25 | P12: 25 | Q12: 25 | R12: 25 | S12: 25 | T12: 25 | U12: 25 | V12: 25 | W12: 25 | X12: 23-26 | Y12: 25 | Z12: 25 | AA12: 25 | AB12: 25 | AC12: 25 | AD12: 25 | AE12: 25 | AF12: 25 | AG12: 23-25 | AH12: 23-25 | AI12: 23-25 | AJ12: 24-26 | AK12: 24-26 | AL12: 24-26 | AM12: 25 | AN12: 25 | AO12: 25 | AP12: 25 | AQ12: 30
B13: Solvents in glovebox? (Yes/No) ** | C13: N | D13: N | E13: Y | F13: Y | G13: Y | H13: N | I13: N | J13: N | K13: N | L13: N | M13: N | N13: N | O13: N | P13: N | Q13: N | R13: N | S13: N | T13: N | U13: N | V13: N | W13: N | X13: N | Y13: N | Z13: N | AA13: N | AB13: Y | AC13: Y | AD13: Y | AE13: Y | AF13: N | AG13: N | AH13: N | AI13: N | AJ13: Y | AK13: Y | AL13: Y | AM13: N | AN13: N | AO13: Y | AP13: Y | AQ13: N
B14: [H2O] in glovebox / ppm | C14: < 0.1 | D14: < 0.1 | E14: 1.3 | F14: 1.3 | G14: 1.3 | H14: < 0.1 | I14: < 0.1 | J14: < 0.1 | K14: < 1 | L14: < 1 | M14: < 1 | N14: < 1 | O14: < 1 | P14: < 1 | Q14: < 1 | R14: < 0.1 | S14: < 0.1 | T14: < 0.5 | U14: < 0.1 | V14: < 0.1 | W14: < 0.1 | X14: < 0.5 | Y14: < 1 | Z14: < 1 | AA14: < 1 | AB14: < 0.1 | AC14: < 1 | AD14: < 1 | AE14: < 1 | AF14: < 3 | AG14: < 1 | AH14: < 1 | AI14: < 1 | AJ14: < 0.1 | AK14: < 0.1 | AL14: < 0.1 | AM14: < 0.1 | AN14: < 0.1 | AO14: < 0.1 | AP14: < 0.1 | AQ14: < 0.7
B15: [O2] in glovebox / ppm | C15: < 0.1 | D15: < 0.1 | E15: < 0.1 | F15: < 0.1 | G15: < 0.1 | H15: < 0.1 | I15: < 0.1 | J15: < 0.1 | K15: < 2 | L15: < 2 | M15: < 2 | N15: < 2 | O15: < 1 | P15: < 1 | Q15: < 1 | R15: < 0.5 | S15: < 0.5 | T15: < 0.5 | U15: < 0.1 | V15: < 0.1 | W15: < 0.1 | X15: < 0.1 | Y15: < 1 | Z15: < 1 | AA15: < 1 | AB15: < 0.1 | AC15: < 1 | AD15: < 1 | AE15: < 1 | AF15: < 1 | AG15: < 5 | AH15: < 5 | AI15: < 5 | AJ15: < 0.1 | AK15: < 0.1 | AL15: < 0.1 | AM15: < 1 | AN15: < 1 | AO15: < 0.1 | AP15: < 0.1 | AQ15: < 0.2
A16: Cell parameters | B16: Time elapsed between cell assembly and OCV measurement / h | C16: 12 | D16: 12 | E16: 5 | F16: 5 | G16: 5 | H16: 0.5 | I16: 0.5 | J16: 0.5 | K16: 1.67 | L16: 0.83 | M16: 12 | N16: 12 | O16: 0.5 | P16: 0.5 | Q16: 0.5 | R16: 0.17 | S16: 0.17 | T16: 3 | U16: =15/60 -> 0.25 | V16: =15/60 -> 0.25 | W16: =15/60 -> 0.25 | X16: 0.2 | Y16: 2 | Z16: 2 | AA16: 2 | AB16: 3 | AC16: =120/60 -> 2 | AD16: =120/60 -> 2 | AE16: =120/60 -> 2 | AF16: 24 | AG16: 0.5 | AH16: 0.5 | AI16: 0.5 | AJ16: 4.25 | AK16: 6.5 | AL16: 0.3 | AM16: 0.5 | AN16: 0.5 | AO16: 0.5 | AP16: 0.5 | AQ16: 6
B17: Thickness lIn/InLi / µm | C17: 130 | D17: 130 | E17: 150 | F17: 150 | G17: 150 | H17: 100 | I17: 100 | J17: 100 | K17: 200 | L17: 200 | M17: 195 | N17: 195 | R17: 200 | S17: 200 | T17: 140 | U17: 100 | V17: 100 | W17: 100 | X17: 150 | Y17: 90 | Z17: 90 | AA17: 100 | AC17: 140 | AD17: 150 | AE17: 140 | AF17: 100 | AG17: 100 | AH17: 100 | AI17: 100 | AM17: 140 | AN17: 140 | AO17: 140 | AP17: 140
B18: Thickness lSE / µm | C18: 500 | D18: 500 | E18: 500 | F18: 460 | G18: 480 | H18: 500 | I18: 500 | J18: 500 | K18: 500 | L18: 500 | M18: 450 | N18: 450 | R18: 452 | S18: 451 | T18: 527.93 | U18: 430 | V18: 430 | W18: 430 | X18: 511 | Y18: 500 | Z18: 510 | AA18: 520 | AB18: 420 | AC18: 499 | AD18: 478 | AE18: 482 | AF18: 520 | AG18: 543 | AH18: 517 | AI18: 513 | AM18: 200 | AN18: 200
B19: Thickness lCC / µm | C19: 60 | D19: 60 | K19: 50 | L19: 50 | M19: 70 | N19: 70 | R19: 58 | S19: 77 | T19: 159.07 | U19: 85 | V19: 85 | W19: 85 | X19: 180 | Y19: 50 | Z19: 50 | AA19: 40 | AB19: 42.6 | AC19: 112 | AD19: 132 | AE19: 109 | AF19: 160 | AG19: 23 | AH19: 14 | AI19: 62 | AM19: 36 | AN19: 36
B20: mLi / mg | C20: 1.8 | D20: 1.8 | E20: 1.5 | F20: 1.5 | G20: 1.5 | H20: 0.67 | I20: 0.67 | J20: 0.67 | K20: 1.1 | L20: 1.1 | M20: 1 | N20: 1.2 | O20: 0.61 | P20: 0.55 | Q20: 0.51 | R20: 0.51 | S20: 0.51 | T20: 1.057 | U20: 0.6 | V20: 0.5 | W20: 0.5 | Y20: 0.5 | Z20: 0.5 | AA20: 0.5 | AB20: 4.8 | AC20: 1.299 | AD20: 1.304 | AE20: 1.29 | AF20: 3.7 | AG20: 0.7 | AH20: 0.7 | AI20: 0.7 | AJ20: 2.1 | AK20: 2.2 | AL20: 2.2 | AM20: 1.71 | AN20: 1.71 | AO20: 1.9 | AP20: 2.06
B21: mIn / mg | C21: 36 | D21: 36 | E21: 47 | F21: 47 | G21: 47 | H21: 48.2 | I21: 48.2 | J21: 48.2 | K21: 62.9 | L21: 62.9 | M21: 88 | N21: 92.16 | O21: 13.73 | P21: 14.18 | Q21: 13.67 | R21: 55.78 | S21: 55.78 | T21: 52.14276 | U21: 48.9 | V21: 49.8 | W21: 50.8 | Y21: 20.5 | Z21: 20.5 | AA21: 21 | AB21: 61.2 | AC21: 39.61 | AD21: 40.04 | AE21: 39.33 | AF21: 40.1 | AG21: 28.7 | AH21: 30.8 | AI21: 27.9 | AJ21: 48 | AK21: 48.4 | AL21: 50.1 | AM21: 46.7 | AN21: 46.7 | AO21: 100.44 | AP21: 98.1
B22: mSE / mg | C22: 58.8 | D22: 58.8 | E22: 60.09 | F22: 60.01 | G22: 60.2 | H22: 60 | I22: 60 | J22: 60 | K22: 58.7 | L22: 58.5 | M22: 54 | N22: 53.51 | O22: 16.03 | P22: 14.08 | Q22: 14.76 | R22: 60 | S22: 60 | T22: 60 | U22: 60.1 | V22: 60.2 | W22: 60.6 | X22: 58.9 | Y22: 28.8 | Z22: 28.8 | AA22: 29 | AB22: 57.3 | AC22: 36.12 | AD22: 35.79 | AE22: 35.99 | AF22: 57.5 | AG22: 29.6 | AH22: 29.2 | AI22: 29 | AJ22: 43 | AK22: 59 | AL22: 59 | AM22: 60.03 | AN22: 59.95 | AO22: 99.81 | AP22: 100.17 | AQ22: 100
B23: mCC / mg | C23: 11.2 | D23: 11.2 | E23: 12 | F23: 11.93 | G23: 11.98 | H23: 11.2 | I23: 11.2 | J23: 11.2 | K23: 11.5 | L23: 11.8 | M23: 10 | N23: 10.7 | O23: 2.94 | P23: 3.1 | Q23: 2.7 | R23: 12 | S23: 12 | T23: 11.78571 | U23: 12.1 | V23: 12.2 | W23: 12.2 | X23: 11.8 | Y23: 5.6 | Z23: 5.6 | AA23: 5.5 | AB23: 11.7 | AC23: 7.46 | AD23: 7.99 | AE23: 7.5 | AF23: 11.7 | AG23: 5.8 | AH23: 5.6 | AI23: 5.9 | AJ23: 12.1 | AK23: 12.2 | AL23: 12.4 | AM23: 11.58 | AN23: 12.03 | AO23: 13.63 | AP23: 13.6 | AQ23: 19
B24: mCAM / mg | C24: =C23*0.7 -> 7.84 | D24: =D23*0.7 -> 7.84 | E24: =E23*0.7 -> 8.4 | F24: =F23*0.7 -> 8.351 | G24: =G23*0.7 -> 8.386 | H24: =H23*0.7 -> 7.84 | I24: =I23*0.7 -> 7.84 | J24: =J23*0.7 -> 7.84 | ... AQ24: =AQ23*0.7 -> 13.3
B25: CAM loading / mg⋅cm-2 | C25: =C24/((C3/20)^2*PI()) -> 9.982198 | D25: =D24/((D3/20)^2*PI()) -> 9.982198 | E25: =E24/((E3/20)^2*PI()) -> 10.695212 | F25: =F24/((F3/20)^2*PI()) -> 10.632823 | G25: =G24/((G3/20)^2*PI()) -> 10.677387 | H25: =H24/((H3/20)^2*PI()) -> 9.982198 | I25: =I24/((I3/20)^2*PI()) -> 9.982198 | J25: =J24/((J3/20)^2*PI()) -> 9.982198 | ... AQ25: =AQ24/((AQ3/20)^2*PI()) -> 10.020169
B26: Initial OCV / V vs. Li+/Li | C26: 1.803 | D26: 1.845 | E26: 2.6488 | F26: 2.6704 | G26: 2.6484 | H26: 2.57 | I26: 2.58 | J26: 2.71 | K26: 2.354 | L26: 2.29 | M26: 2.122 | N26: 1.822 | O26: 2.384 | P26: 2.473 | Q26: 2.209 | R26: 2.62 | S26: 2.64 | T26: 2.33978 | U26: 2.5 | V26: 2.5 | W26: 2.5 | X26: 2.79 | Y26: 2.55 | Z26: 2.54 | AA26: 2.55 | AB26: 2.61 | AC26: 2.626 | AD26: 2.593 | AE26: 2.531 | AF26: 2.3086 | AG26: 2.72 | AH26: 2.62 | AI26: 2.72 | AJ26: 2.58 | AK26: 2.51 | AL26: 2.45 | AM26: 2.504 | AN26: 2.493 | AO26: 2.502 | AP26: 2.495 | AQ26: 2.689
B27: Applied current I (0.1C) / mA | C27: 0.157 | D27: 0.157 | E27: 0.168 | F27: 0.167 | G27: 0.168 | H27: 0.156 | I27: 0.156 | J27: 0.156 | K27: 0.161 | L27: 0.165 | M27: 0.15 | N27: 0.15 | O27: 0.0412 | P27: 0.0434 | Q27: 0.0378 | R27: 0.168 | S27: 0.168 | T27: 0.165 | U27: 0.1694 | V27: 0.1708 | W27: 0.1708 | X27: 0.1569 | Y27: 0.079 | Z27: 0.078 | AA27: 0.077 | AB27: 0.118 | AC27: 0.1043542 | AD27: 0.111714 | AE27: 0.105008 | AF27: 0.1637 | AG27: 0.0813 | AH27: 0.0826 | AI27: 0.0826 | AJ27: 0.169 | AK27: 0.1712 | AL27: 0.174 | AM27: 0.168 | AN27: 0.168 | AO27: 0.2 | AP27: 0.2 | AQ27: 0.266
B28: In:Li ratio / wt%:wt% | C28: 20 | D28: 20 | E28: 31.33 | F28: 31.33 | G28: 31.33 | H28: 71.94 | I28: 71.94 | J28: 71.94 | K28: 57.18 | L28: 57.18 | M28: 88 | N28: 76.8 | O28: 22.51 | P28: 25.78 | Q28: 26.8 | R28: 109.37 | S28: 109.37 | T28: 49.33 | U28: 81.5 | V28: 99.6 | W28: 101.6 | Y28: 41 | Z28: 41 | AA28: 42 | AB28: 12.75 | AC28: 30.49 | AD28: 30.71 | AE28: 30.49 | AF28: 10.84 | AG28: 41 | AH28: 44 | AI28: 39.86 | AJ28: 22.86 | AK28: 22 | AL28: 22.77 | AM28: 27.31 | AN28: 27.31 | AO28: 52.86 | AP28: 47.62
B29: In:Li ratio / at%:at% | C29: 1.21 | D29: 1.21 | E29: 1.89 | F29: 1.89 | G29: 1.89 | H29: 4.35 | I29: 4.35 | J29: 4.35 | K29: 3.46 | L29: 3.46 | M29: 5.32 | N29: 4.64 | O29: 1.36 | P29: 1.56 | Q29: 1.62 | R29: 6.61 | S29: 6.61 | T29: 2.98 | U29: 4.93 | V29: 6.02 | W29: 6.14 | Y29: 2.48 | Z29: 2.48 | AA29: 2.54 | AB29: 0.77 | AC29: 1.84 | AD29: 1.86 | AE29: 1.84 | AF29: 0.66 | AG29: 2.48 | AH29: 2.66 | AI29: 2.41 | AJ29: 1.38 | AK29: 1.33 | AL29: 1.38 | AM29: 1.65 | AN29: 1.65 | AO29: 3.2 | AP29: 2.88
A30: Pretreatment (0.05C) | B30: 1st cycle spec. discharge capacity / mAh⋅g-1 | C30: 56.10163 | D30: 62.45824 | E30: 142.90761 | F30: 144.11802 | G30: 143.76185 | K30: 64.3498 | L30: 95.32685 | M30: 94.05703 | N30: 159.01775 | U30: 146.4909 | V30: 148.5375 | W30: 137.25709 | Y30: 144.30482 | Z30: 135.37171 | AA30: 134.22161 | AC30: 148.88345 | AD30: 147.73794 | AE30: 152.93373 | AG30: 144.49972 | AH30: 137.16709 | AJ30: 93.13607 | AK30: 101.06948 | AL30: 87.61809 | AM30: 132.17878 | AN30: 132.0936 | AO30: 46.57057 | AP30: 60.26071
B31: 2nd cycle spec. discharge capacity / mAh⋅g-1 | C31: 57.27264 | D31: 64.22749 | E31: 141.3645 | F31: 142.42361 | G31: 142.27574 | K31: 46.32001 | L31: 84.90418 | M31: 91.26871 | N31: 156.96389 | U31: 144.75639 | V31: 146.8187 | W31: 137.73497 | Y31: 144.40234 | Z31: 134.31471 | AA31: 135.93691 | AC31: 146.8021 | AD31: 146.14981 | AE31: 151.02276 | AG31: 142.95477 | AH31: 135.28495 | AJ31: 92.55136 | AK31: 96.97658 | AL31: 82.60657 | AM31: 132.45017 | AN31: 132.88635 | AO31: 46.00368 | AP31: 55.33514
B32: 1st cycle spec. charge capacity / mAh⋅g-1 | C32: 101.14919 | D32: 112.1524 | E32: 188.06961 | F32: 189.85335 | G32: 189.15003 | K32: 96.39266 | L32: 129.26024 | M32: 138.23706 | N32: 218.81909 | U32: 188.38314 | V32: 189.18236 | W32: 178.08298 | Y32: 187.20301 | Z32: 179.47343 | AA32: 176.85465 | AC32: 190.67019 | AD32: 188.45908 | AE32: 194.63659 | AG32: 187.58395 | AH32: 179.2946 | AJ32: 115.60567 | AK32: 126.96331 | AL32: 116.26728 | AM32: 170.81992 | AN32: 169.75194 | AO32: 71.19163 | AP32: 89.66296
B33: 2nd cycle spec. charge capacity / mAh⋅g-1 | C33: 64.39099 | D33: 69.37615 | E33: 143.06478 | F33: 144.1196 | G33: 144.22393 | K33: 53.22931 | L33: 90.8053 | M33: 95.31403 | N33: 160.51 | U33: 148.60298 | V33: 230.76988 | W33: 140.71638 | Y33: 147.97497 | Z33: 138.76565 | AA33: 139.66257 | AC33: 148.45453 | AD33: 147.78592 | AE33: 153.02964 | AG33: 144.24435 | AH33: 136.92374 | AJ33: 89.12662 | AK33: 94.30367 | AL33: 82.43952 | AM33: 135.50877 | AN33: 134.61365 | AO33: 53.6126 | AP33: 60.87786
A34: 0.1C cycling (50 cycles) | B34: Initial spec. discharge capacity / mAh⋅g-1 | C34: 32.73 | D34: 48.03 | E34: 125.74 | F34: 125.72 | G34: 126.6 | H34: 131.7 | I34: 107.7 | J34: 77.8 | K34: 20.68 | L34: 58.95 | M34: 75.05 | N34: 139.57 | O34: 99.6 | P34: 73.6 | Q34: 68.2 | R34: 141.6 | S34: 143.1 | T34: 66.8 | U34: 133.2 | V34: 136.9 | W34: 134.6 | X34: 108.2 | Y34: 132.10555 | Z34: 119.61457 | AA34: 122.44982 | AB34: 48.64064 | AC34: 134.19449 | AD34: 134.37849 | AE34: 137.77184 | AG34: 129.86795 | AH34: 121.90704 | AJ34: 74.05295 | AK34: 75.76105 | AL34: 65.49189 | AM34: 118.27527 | AN34: 122.0915 | AO34: 23.71198 | AP34: 32.87201 | AQ34: 83.309085
B35: Final spec. discharge capacity / mAh⋅g-1 | C35: 73.54 | D35: 75.8 | E35: 125 | F35: 122.6 | G35: 125.5 | H35: 28.7 | I35: 53.3 | J35: 33 | K35: 15.86 | L35: 39.19 | M35: 40.44 | N35: 67.27 | O35: 12.7 | P35: 14.6 | Q35: 0.33 | R35: 145.9 | S35: 137.3 | T35: 61.3 | U35: 113.9 | V35: 120.1 | W35: 107.3 | X35: 105.6 | Y35: 111.20089 | Z35: 90.996985 | AA35: 95.362627 | AB35: 44.1669 | AC35: 126.20114 | AD35: 126.37116 | AE35: 126.219 | AG35: 124.42561 | AH35: 110.04255 | AJ35: 75.8697 | AK35: 73.53762 | AL35: 66.86761 | AM35: 126.51786 | AN35: 126.84571 | AO35: 16.70425 | AP35: 19.56908 | AQ35: 77.679192
B36: Initial spec. charge capacity / mAh⋅g-1 | C36: 38.84 | D36: 54.9 | E36: 136.07 | F36: 136.94 | G36: 137.14 | H36: 137.4 | I36: 120.4 | J36: 102.6 | K36: 27.77 | L36: 67.92 | M36: 80.98 | N36: 148.54 | O36: 115.7 | P36: 104.1 | Q36: 106.9 | R36: 148.1 | S36: 150.3 | T36: 93.4 | U36: 133.2 | V36: 143.3 | W36: 140 | X36: 114.2 | Y36: 140.49815 | Z36: 129.28693 | AA36: 131.21008 | AB36: 49.18788 | AC36: 141.75231 | AD36: 141.73339 | AE36: 146.18385 | AG36: 138.35247 | AH36: 130.53717 | AJ36: 80.41051 | AK36: 84.14002 | AL36: 71.74905 | AM36: 126.49396 | AN36: 128.52577 | AO36: 31.90265 | AP36: 40.52571 | AQ36: 87.455088
B37: Initial Coulomb efficiency / % | C37: 84.268795 | D37: 87.486339 | E37: 92.408319 | F37: 91.806631 | G37: 92.314423 | H37: 95.851528 | I37: 89.451827 | J37: 75.82846 | K37: 74.468851 | L37: 86.793286 | M37: 92.677204 | N37: 93.961223 | O37: 86.084702 | P37: 70.701249 | Q37: 63.797942 | R37: 95.611074 | S37: 95.209581 | T37: 71.520343 | U37: 100 | V37: 95.533845 | W37: 96.142857 | X37: 94.74606 | Y37: 94.02654 | Z37: 92.518684 | AA37: 93.323485 | AB37: 98.88745 | AC37: 94.668289 | AD37: 94.81075 | AE37: 94.245593 | AG37: 93.867463 | AH37: 93.388761 | AJ37: 92.093621 | AK37: 90.041635 | AL37: 91.279104 | AM37: 93.502702 | AN37: 94.99379 | AO37: 74.326051 | AP37: 81.113964 | AQ37: 95.259278
B38: Final Coulomb efficiency / % | C38: 99.91 | D38: 99.78 | E38: 99.87 | F38: 99.96 | G38: 100.15 | H38: 99.59 | I38: 100 | J38: 103.02 | K38: 96.2 | L38: 97.21 | M38: 94.8 | N38: 97.09 | O38: 82.8 | P38: 79.6 | Q38: 38.8 | R38: 99.7 | S38: 99.6 | T38: 95.3 | U38: 99.7 | V38: 99.9 | W38: 99.6 | X38: 100.7 | Y38: 94.02654 | Z38: 92.518684 | AA38: 93.323485 | AB38: 99.70587 | AC38: 100.04974 | AD38: 99.019249 | AE38: 100.07141 | AG38: 99.783287 | AH38: 99.18433 | AJ38: 100.57292 | AK38: 100.31465 | AL38: 101.82761 | AM38: 100.02087 | AN38: 99.85405 | AO38: 99.23728 | AP38: 99.83583 | AQ38: 100.12178
B39: Initial polarization voltage / V | C39: 0.836 | D39: 0.489 | E39: 0.218 | F39: 0.222 | G39: 0.216 | K39: 0.66383 | L39: 0.46407 | M39: 0.27655 | N39: 0.21006 | O39: 0.15 | P39: 0.23 | Q39: 0.22 | R39: 0.13 | S39: 0.15 | T39: 0.43 | U39: 0.15476808 | V39: 0.12873543 | W39: 0.17357068 | X39: 0.1808595 | Y39: 0.17622818 | Z39: 0.22894275 | AA39: 0.20272097 | AB39: 0.24418 | AC39: 0.15149 | AD39: 0.13995 | AE39: 0.14749972 | AG39: 0.17730826 | AH39: 0.18959679 | AJ39: 0.2957 | AK39: 0.31578 | AL39: 0.33398 | AM39: 0.19782 | AN39: 0.16517 | AO39: 0.60984569 | AP39: 0.53564242 | AQ39: 0.20579652
B40: Final polarization voltage / V | C40: 0.477 | D40: 0.291 | E40: 0.203 | F40: 0.236 | G40: 0.211 | K40: 0.71623 | L40: 0.62746 | M40: 0.28771 | N40: 0.156 | O40: 0.42 | P40: 0.3 | Q40: 0.92 | R40: 0.13 | S40: 0.16 | T40: 0.4 | U40: 0.20240623 | V40: 0.18805007 | W40: 0.20135365 | X40: 0.16799825 | Y40: 0.20023317 | Z40: 0.42681502 | AA40: 0.22645972 | AB40: 0.2356 | AC40: 0.22594 | AD40: 0.19262853 | AE40: 0.17514805 | AG40: 0.20720787 | AH40: 0.22814765 | AJ40: 0.29162 | AK40: 0.27884 | AL40: 0.30472 | AM40: 0.20253 | AN40: 0.17775 | AO40: 0.73882468 | AP40: 0.71247714 | AQ40: 0.24599167
B41: Capacity retention (based on 0.1C discharge capacity) / % | C41: 224.68683 | D41: 157.81803 | E41: 99.411484 | F41: 97.518295 | G41: 99.131122 | H41: 21.791951 | I41: 49.489322 | J41: 42.416452 | K41: 76.692456 | L41: 66.480068 | M41: 53.884077 | N41: 48.198037 | O41: 12.751004 | P41: 19.836957 | Q41: 0.48387097 | R41: 103.03672 | S41: 95.94689 | T41: 91.766467 | U41: 85.510511 | V41: 87.728269 | W41: 79.717682 | X41: 97.597043 | Y41: 84.17579 | Z41: 76.075171 | AA41: 77.878947 | AB41: 90.802465 | AC41: 94.04346 | AD41: 94.041212 | AE41: 91.614513 | AG41: 95.809328 | AH41: 90.267586 | AJ41: 102.45331 | AK41: 97.065207 | AL41: 102.1006 | AM41: 106.96899 | AN41: 103.89397 | AO41: 70.446458 | AP41: 59.531133 | AQ41: 93.242161
B42: Initial energy density / Wh/kg | C42: 6.4429779 | D42: 10.217151 | E42: 27.190358 | F42: 27.036265 | G42: 27.325624 | K42: 3.4592106 | L42: 10.552647 | M42: 10.543362 | N42: 20.574275 | O42: 19.352678 | P42: 15.449321 | Q42: 13.299674 | R42: 29.321842 | S42: 29.506995 | T42: 14.177831 | U42: 29.209833 | V42: 30.190817 | W42: 29.047882 | X42: 24.500299 | Y42: 29.326655 | Z42: 26.293477 | AA42: 26.26076 | AB42: 9.636907 | AC42: 26.174908 | AD42: 27.899819 | AE42: 27.156735 | AG42: 25.520353 | AH42: 22.538652 | AJ42: 18.078962 | AK42: 16.039949 | AL42: 13.782357 | AM42: 24.872241 | AN42: 26.77262 | AO42: 2.9581306 | AP42: 4.1854573 | AQ42: 18.588902
B43: Specific power / W/kg | C43: 3.942069 | D43: 4.2599139 | E43: 4.3248541 | F43: 4.3005135 | G43: 4.324051 | K43: 3.3454648 | L43: 3.5758682 | M43: 3.0103824 | N43: 2.9521736 | O43: 3.8898564 | P43: 4.198185 | Q43: 3.9001978 | R43: 4.1415032 | S43: 4.1239685 | T43: 4.244861 | U43: 4.3858608 | V43: 4.410638 | W43: 4.3161786 | X43: 4.301174 | Y43: 4.4738611 | Z43: 4.3739367 | AA43: 4.2892282 | AB43: 2.8545424 | AC43: 3.8978359 | AD43: 4.1470036 | AE43: 3.9425769 | AG43: 3.9350404 | AH43: 3.8957683 | AJ43: 4.8711827 | AK43: 4.2442689 | AL43: 4.2185721 | AM43: 4.3583656 | AN43: 4.3747281 | AO43: 2.6150839 | AP43: 2.6749132 | AQ43: 4.4626349
B44: Extrapolated initial energy densities / Wh/kg | C44: 42.23519 | D44: 66.975758 | E44: 190.13664 | F44: 189.59353 | G44: 191.44718 | K44: 27.723449 | L44: 83.146362 | M44: 109.48743 | N44: 210.05513 | O44: 151.63585 | P44: 111.75765 | Q44: 104.9061 | R44: 218.13415 | S44: 219.51155 | T44: 104.04935 | U44: 204.9501 | V44: 212.34949 | W44: 206.64174 | X44: 174.14083 | Y44: 198.86139 | Z44: 178.29369 | AA44: 182.2309 | AB44: 76.777278 | AC44: 204.45107 | AD44: 209.30651 | AE44: 210.39053 | AG44: 197.57703 | AH44: 182.9025 | AJ44: 109.65229 | AK44: 111.99073 | AL44: 96.621606 | AM44: 177.42562 | AN44: 186.5804 | AO44: 28.376871 | AP44: 39.859347 | AQ44: 123.13941
B45: Extrapolated specific power / W/kg | C45: 25.841162 | D45: 27.924708 | E45: 30.242825 | F45: 30.157624 | G45: 30.294911 | K45: 26.811846 | L45: 28.174962 | M45: 31.261283 | N45: 30.140514 | O45: 30.478556 | P45: 30.368926 | Q45: 30.764254 | R45: 30.809908 | S45: 30.679462 | T45: 31.152513 | U45: 30.773288 | V45: 31.02257 | W45: 30.704567 | X45: 30.571465 | Y45: 30.336847 | Z45: 29.659268 | AA45: 29.764178 | AB45: 22.742151 | AC45: 30.445827 | AD45: 31.111128 | AE45: 30.544204 | AG45: 30.464845 | AH45: 31.614392 | AJ45: 29.544635 | AK45: 29.633433 | AL45: 29.574421 | AM45: 31.090312 | AN45: 30.487809 | AO45: 25.086079 | AP45: 25.473989 | AQ45: 29.562059
A46: Charge 1 - Resistances | B46: Rtot⋅A / Ω⋅cm2 | H46: 263.81502 | I46: 240.01748 | K46: 533.6776 | L46: 330.73089 | O46: 140.60579 | P46: 124.93711 | Q46: 186.64972 | R46: 129.82621 | S46: 149.69676 | U46: 114.11826 | V46: 114.03972 | W46: 164.54078 | X46: 83.095056 | Y46: 186.61123 | Z46: 260.8093 | AA46: 226.86599 | AB46: 139.4866 | AC46: 175.47665 | AD46: 157.88375 | AE46: 169.49506 | AF46: 535.95525 | AG46: 188.95878 | AH46: 193.26905 | AJ46: 198.46995 | AK46: 213.3925 | AL46: 217.94781 | AM46: 169.09608 | AN46: 151.03194 | AO46: 675.73952 | AP46: 565.70454 | AQ46: 149.3237
B47: R0⋅A / Ω⋅cm2 | H47: 50.893758 | I47: 54.428047 | K47: 29.766565 | L47: 23.404846 | O47: 24.308053 | P47: 24.582942 | Q47: 24.406227 | R47: 48.537565 | S47: 49.401503 | U47: 27.803071 | V47: 27.803071 | W47: 31.57298 | X47: 33.457934 | Y47: 39.79295 | Z47: 43.448975 | AA47: 41.871112 | AB47: 39.505494 | AC47: 22.468652 | AD47: 21.16175 | AE47: 17.894497 | AF47: 49.872741 | AG47: 19.434661 | AH47: 21.74373 | AJ47: 27.410373 | AK47: 36.992222 | AL47: 37.463461 | AM47: 32.593996 | AN47: 31.4159 | AO47: 42.208832 | AP47: 32.253919 | AQ47: 39.02326
B48: C0 / F | H48: 0.7555 | I48: 0 | K48: 0.112 | L48: 0.1836 | O48: 0.1796 | P48: 0.161 | Q48: 0.2216 | R48: 0.759 | S48: 0.7978 | U48: 0.7427 | V48: 0.7694 | W48: 0.6344 | X48: 1 | Y48: 0.5865 | Z48: 0.385 | AA48: 0.3424 | AB48: 0.967 | AC48: 0.0449 | AD48: 0.7169 | AE48: 0.4281 | AF48: 0.0426 | AG48: 2 | AH48: 0.9808 | AJ48: 0.415 | AK48: 0.3354 | AL48: 0.2494 | AM48: 0.543 | AN48: 0.7017 | AO48: 0.1364 | AP48: 0.1689 | AQ48: 2.5
B49: L0 / H | H49: 1.118e-07 | I49: 0 | K49: 0 | L49: 0 | O49: 0 | P49: 0 | Q49: 0 | R49: 0 | S49: 0 | U49: 0 | V49: 0 | W49: 0 | X49: 9.747e-07 | Y49: 0 | Z49: 0 | AA49: 0 | AB49: 0 | AC49: 0 | AD49: 0 | AE49: 0 | AF49: 7.7e-06 | AG49: 0 | AH49: 0 | AJ49: 4.458e-07 | AK49: 6.61e-08 | AL49: 0 | AM49: 0 | AN49: 0 | AO49: 0 | AP49: 0 | AQ49: 0
A50: Charge 2 - Resistances | B50: Rtot⋅A / Ω⋅cm2 | H50: 293.58159 | I50: 295.54508 | K50: 651.72285 | L50: 416.49629 | O50: 149.00954 | P50: 154.09499 | Q50: 133.08561 | R50: 130.45452 | S50: 156.84388 | U50: 140.74323 | V50: 136.97332 | W50: 193.52194 | X50: 82.702357 | Y50: 224.71086 | Z50: 295.71473 | AA50: 253.92058 | AB50: 165.40471 | AC50: 202.46919 | AD50: 168.89188 | AE50: 171.95807 | AF50: 485.53273 | AG50: 222.67119 | AH50: 234.40895 | AJ50: 227.37258 | AK50: 243.86592 | AL50: 272.45439 | AM50: 174.35824 | AN50: 159.59277 | AO50: 789.49099 | AP50: 675.47405 | AQ50: 235.73235
B51: R0⋅A / Ω⋅cm2 | H51: 54.663666 | I51: 54.506587 | K51: 31.101741 | L51: 23.876084 | O51: 25.01491 | P51: 24.720386 | Q51: 25.446879 | R51: 49.087344 | S51: 50.579599 | U51: 27.881611 | V51: 29.295327 | W51: 31.57298 | X51: 33.379394 | Y51: 45.219261 | Z51: 44.603509 | AA51: 41.139906 | AB51: 46.574072 | AC51: 22.418386 | AD51: 21.312547 | AE51: 17.140515 | AF51: 51.207917 | AG51: 19.434661 | AH51: 23.167655 | AJ51: 29.452406 | AK51: 37.934699 | AL51: 37.227841 | AM51: 32.515456 | AN51: 31.49444 | AO51: 40.21785 | AP51: 32.652116 | AQ51: 46.190798
B52: C0 / F | H52: 0.6582 | I52: 0 | K52: 0.0787 | L52: 0.1971 | O52: 0.197 | P52: 0.1725 | Q52: 0.1632 | R52: 1.1 | S52: 1 | U52: 0.9327 | V52: 0 | W52: 0.678 | X52: 1.5 | Y52: 0.5051 | Z52: 0.4002 | AA52: 0.3946 | AB52: 0.5145 | AC52: 0.4974 | AD52: 0.4626 | AE52: 0.3648 | AF52: 0.0299 | AG52: 1.4 | AH52: 1.7 | AJ52: 468.3 | AK52: 227.2 | AL52: 178.4 | AM52: 0.6801 | AN52: 0.6217 | AO52: 0.1303 | AP52: 0.137 | AQ52: 2.9
B53: L0 / H | H53: 0 | I53: 0 | K53: 0 | L53: 0 | O53: 0 | P53: 0 | Q53: 0 | R53: 0 | S53: 0 | U53: 0 | V53: 0 | W53: 0 | X53: 9.567e-07 | Y53: 0 | Z53: 0 | AA53: 0 | AB53: 0 | AC53: 0 | AD53: 0 | AE53: 0 | AF53: 7.5e-06 | AG53: 0 | AH53: 0 | AJ53: 3.455e-07 | AK53: 0 | AL53: 0 | AM53: 0 | AN53: 0 | AO53: 0 | AP53: 0 | AQ53: 0
A54: Charge 51 - Resistances | B54: Rtot⋅A / Ω⋅cm2 | H54: 265.30728 | I54: 290.83269 | K54: 942.477 | L54: 638.05693 | O54: 569.41319 | P54: 274.88912 | Q54: 3887.7176 | R54: 114.43242 | S54: 149.69676 | U54: 181.5839 | V54: 182.60492 | W54: 207.42348 | X54: 78.853909 | Y54: 210.43312 | Z54: 500.29821 | AA54: 216.01337 | AB54: 227.6082 | AC54: 277.51549 | AD54: 215.73927 | AE54: 233.53323 | AF54: 1649.3347 | AG54: 278.08883 | AH54: 282.66849 | AJ54: 240.09602 | AK54: 233.7343 | AL54: 262.32277 | AM54: 176.47882 | AN54: 169.56732 | AO54: 1294.2715 | AP54: 1327.3218 | AQ54: 286.43604
B55: R0⋅A / Ω⋅cm2 | H55: 61.025386 | I55: 58.590653 | K55: 34.950189 | L55: 31.023201 | O55: 29.138247 | P55: 33.929172 | Q55: 31.553345 | R55: 59.218972 | S55: 62.91034 | U55: 34.321871 | V55: 34.40041 | W55: 39.426955 | X55: 35.499967 | Y55: 59.497002 | Z55: 51.723138 | AA55: 59.227611 | AB55: 54.977825 | AC55: 22.770244 | AD55: 20.558565 | AE55: 16.286003 | AF55: 51.443536 | AG55: 18.741941 | AH55: 22.85978 | AJ55: 36.049745 | AK55: 45.317436 | AL55: 43.589561 | AM55: 37.463461 | AN55: 35.342887 | AO55: 36.634081 | AP55: 26.944632 | AQ55: 45.527137
B56: C0 / F | H56: 0.9222 | I56: 0.2727 | K56: 0.0721 | L56: 0.1381 | O56: 0.0831 | P56: 0.1447 | Q56: 0.0011 | R56: 1.6 | S56: 1.2 | U56: 0.3357 | V56: 0.4554 | W56: 0.2851 | X56: 0.8622 | Y56: 0.7523 | Z56: 0.3623 | AA56: 0.378 | AB56: 0.8267 | AC56: 0.4238 | AD56: 0.4424 | AE56: 0.2661 | AF56: 0.0065 | AG56: 0.3521 | AH56: 0.2457 | AJ56: 0.2334 | AK56: 0.2687 | AL56: 0.3748 | AM56: 0.5568 | AN56: 0.751 | AO56: 0.1627 | AP56: 0 | AQ56: 1.9
B57: L0 / H | H57: 0 | I57: 0 | K57: 0 | L57: 0 | O57: 0 | P57: 0 | Q57: 0 | R57: 0 | S57: 0 | U57: 0 | V57: 0 | W57: 0 | X57: 2.5e-06 | Y57: 0 | Z57: 0 | AA57: 0 | AB57: 0 | AC57: 0 | AD57: 0 | AE57: 0 | AF57: 7.7e-06 | AG57: 0 | AH57: 0 | AJ57: 0 | AK57: 0 | AL57: 0 | AM57: 0 | AN57: 0 | AO57: 0 | AP57: 0 | AQ57: 0
B58: λ | H58: 0.2 | I58: 0.2 | K58: 0.1 | L58: 0.1 | O58: 0.1 | P58: 0.1 | Q58: 0.1 | R58: 0.3 | S58: 0.3 | U58: 0.1 | V58: 0.1 | W58: 0.1 | X58: 0.2 | Y58: 0.2 | Z58: 0.2 | AA58: 0.2 | AB58: 0.2 | AC58: 0.1 | AD58: 0.1 | AE58: 0.1 | AF58: 0.1 | AG58: 0.1 | AH58: 0.1 | AJ58: 0.1 | AK58: 0.1 | AL58: 0.1 | AM58: 0.1 | AN58: 0.1 | AO58: 0.3 | AP58: 0.3 | AQ58: 0.3
A60: * Cycling was performed between 3.0 V and 4.3 V vs. In/(InLi)x, corresponding to a potential window of 3.62 V and 4.92 V vs. Li+/Li.
A61: ** All gloveboxes that are reported to handle solvents (Y) are equipped with a solvent filter.

Sheet Supp. Fig. 2
A1: Spec. discharge capacities / mAh g-1 | C1: A | E1: B | H1: D | K1: E | M1: F | O1: G | R1: H | T1: J | U1: K | X1: L | Y1: M | AB1: N | AC1: O | AF1: Q | AH1: R | AK1: S | AM1: T | AO1: U
A2: C-Rate | B2: Cycle No | C2: A1 | D2: A2 | E2: B1 | F2: B2 | G2: B3 | H2: D1 | I2: D2 | J2: D3 | K2: E1 | L2: E2 | M2: F1 | N2: F2 | O2: G1 | P2: G2 | Q2: G3 | R2: H1 | S2: H2 | T2: J1 | U2: K1 | V2: K2 | W2: K3 | X2: L1 | Y2: M1 | Z2: M2 | AA2: M3 | AB2: N3 | AC2: O1 | AD2: O2 | AE2: O3 | AF2: Q1 | AG2: Q2 | AH2: R1 | AI2: R2 | AJ2: R3 | AK2: S1 | AL2: S2 | AM2: T1 | AN2: T2 | AO2: U1
A3: Pretreatment (0.05C) | B3: 1 | C3: 56.10163 | D3: 62.45824 | E3: 142.90761 | F3: 144.11802 | G3: 143.76185 | K3: 64.3498 | L3: 95.32685 | M3: 94.05703 | N3: 159.01775 | U3: 147.70157 | V3: 148.25107 | W3: 136.99241 | Y3: 144.30482 | Z3: 135.37171 | AA3: 134.22161 | AC3: 148.88345 | AD3: 147.73794 | AE3: 152.93373 | AF3: 144.49972 | AG3: 137.16709 | AH3: 93.13607 | AI3: 101.06948 | AJ3: 87.61809 | AK3: 132.17878 | AL3: 132.0936 | AM3: 46.57057 | AN3: 60.26071
A4: Pretreatment (0.05C) | B4: 2 | C4: 57.27264 | D4: 64.22749 | E4: 141.3645 | F4: 142.42361 | G4: 142.27574 | K4: 46.32001 | L4: 84.90418 | M4: 91.26871 | N4: 156.96389 | U4: 145.93549 | V4: 146.53558 | W4: 137.46937 | Y4: 144.40234 | Z4: 134.31471 | AA4: 135.93691 | AC4: 146.8021 | AD4: 146.14981 | AE4: 151.02276 | AF4: 142.95477 | AG4: 135.28495 | AH4: 92.55136 | AI4: 96.97658 | AJ4: 82.60657 | AK4: 132.45017 | AL4: 132.88635 | AM4: 46.00368 | AN4: 55.33514
A5: 0.1C | B5: 1 | C5: 32.72583 | D5: 48.03506 | E5: 125.74106 | F5: 125.71934 | G5: 126.6045 | H5: 131.7 | I5: 107.7 | J5: 77.8 | K5: 20.68382 | L5: 58.94909 | M5: 75.05259 | N5: 139.5669 | O5: 99.64333 | P5: 73.552355 | Q5: 68.207745 | R5: 141.59737 | S5: 143.07733 | T5: 66.778495 | U5: 133.39551 | V5: 136.91857 | W5: 127.22524 | X5: 108.20554 | Y5: 132.10555 | Z5: 119.61457 | AA5: 122.44982 | AB5: 48.640641 | AC5: 134.19449 | AD5: 134.37849 | AE5: 137.77184 | AF5: 129.86795 | AG5: 121.90704 | AH5: 74.05295 | AI5: 75.76105 | AJ5: 65.49189 | AK5: 118.27527 | AL5: 122.0915 | AM5: 23.71198 | AN5: 32.87201 | AO5: 83.309085
A6: 0.1C | B6: 2 | C6: 35.35084 | D6: 51.02744 | E6: 123.35403 | F6: 123.47187 | G6: 124.52215 | H6: 130.1 | I6: 104.9 | J6: 67.4 | K6: 23.38646 | L6: 59.99045 | M6: 78.26351 | N6: 140.70426 | O6: 96.32653 | P6: 63.769393 | Q6: 64.670635 | R6: 142.19721 | S6: 143.6002 | T6: 66.858771 | U6: 132.02935 | V6: 136.41383 | W6: 127.50369 | X6: 111.31289 | Y6: 132.40251 | Z6: 119.14322 | AA6: 122.31903 | AB6: 47.389151 | AC6: 134.18355 | AD6: 133.48993 | AE6: 136.882 | AF6: 130.2166 | AG6: 121.65081 | AH6: 74.33744 | AI6: 76.69242 | AJ6: 66.89289 | AK6: 120.18276 | AL6: 123.17422 | AM6: 24.38258 | AN6: 34.10041 | AO6: 84.109386
A7: 0.1C | B7: 3 | C7: 37.60514 | D7: 53.38194 | E7: 123.62241 | F7: 123.44422 | G7: 124.97601 | H7: 127.3 | I7: 103.4 | J7: 57 | K7: 24.6528 | L7: 60.07159 | M7: 78.67948 | N7: 141.65492 | O7: 92.92611 | P7: 54.082949 | Q7: 61.439888 | R7: 142.65123 | S7: 143.65754 | T7: 70.522387 | U7: 131.20317 | V7: 135.89711 | W7: 127.36481 | X7: 109.30186 | Y7: 131.81536 | Z7: 118.23211 | AA7: 122.13219 | AB7: 46.633689 | AC7: 133.2975 | AD7: 133.45683 | AE7: 136.82558 | AF7: 128.65725 | AG7: 120.16962 | AH7: 74.36643 | AI7: 77.25196 | AJ7: 66.79488 | AK7: 121.30009 | AL7: 123.81577 | AM7: 24.79461 | AN7: 34.49393 | AO7: 84.176078
A8: 0.1C | B8: 4 | C8: 39.73922 | D8: 55.36239 | E8: 124.08995 | F8: 123.7185 | G8: 125.14766 | H8: 121 | I8: 99 | J8: 50.3 | K8: 25.33257 | L8: 59.88079 | M8: 78.96168 | N8: 141.19718 | O8: 89.07974 | P8: 51.583333 | Q8: 58.487654 | R8: 143.42908 | S8: 143.6017 | T8: 70.088373 | U8: 130.41593 | V8: 135.39917 | W8: 127.45924 | X8: 109.84665 | Y8: 131.746 | Z8: 117.37947 | AA8: 121.34974 | AB8: 45.993535 | AC8: 132.41562 | AD8: 132.59593 | AE8: 136.88449 | AF8: 129.69884 | AG8: 120.05301 | AH8: 75.26414 | AI8: 77.57623 | AJ8: 67.55207 | AK8: 122.10624 | AL8: 124.21999 | AM8: 25.00891 | AN8: 34.76005 | AO8: 84.353922
A9: 0.1C | B9: 5 | C9: 41.62282 | D9: 57.05562 | E9: 123.96627 | F9: 123.68653 | G9: 125.14671 | H9: 109.6 | I9: 93.4 | J9: 46.6 | K9: 25.65222 | L9: 59.56779 | M9: 79.01009 | N9: 141.5072 | O9: 85.67933 | P9: 49.944444 | Q9: 55.591123 | R9: 143.41607 | S9: 143.10032 | T9: 66.880224 | U9: 129.89805 | V9: 135.01457 | W9: 127.13635 | X9: 109.78612 | Y9: 131.27241 | Z9: 116.69677 | AA9: 120.88422 | AB9: 45.667149 | AC9: 132.40934 | AD9: 132.59909 | AE9: 135.99711 | AF9: 129.16567 | AG9: 119.71801 | AH9: 75.47364 | AI9: 77.805 | AJ9: 68.08658 | AK9: 123.04316 | AL9: 124.79406 | AM9: 25.15629 | AN9: 34.84316 | AO9: 84.281673
A10: 0.1C | B10: 6 | C10: 43.40956 | D10: 58.48168 | E10: 124.08701 | F10: 123.49209 | G10: 125.21298 | H10: 101.1 | I10: 84.3 | J10: 42.8 | K10: 25.71744 | L10: 59.12237 | M10: 78.99859 | N10: 142.09014 | O10: 81.83296 | P10: 47.333333 | Q10: 52.861699 | R10: 143.97097 | S10: 142.98619 | T10: 68.263823 | U10: 129.18936 | V10: 134.54815 | W10: 126.72163 | X10: 108.22572 | Y10: 130.96353 | Z10: 116.05331 | AA10: 120.17575 | AB10: 45.415615 | AC10: 132.41751 | AD10: 131.71137 | AE10: 135.99458 | AF10: 128.97013 | AG10: 120.84807 | AH10: 75.74893 | AI10: 78.50849 | AJ10: 67.98662 | AK10: 123.59175 | AL10: 124.91427 | AM10: 25.22707 | AN10: 34.8143 | AO10: 84.4301
A11: 0.1C | B11: 7 | C11: 45.02598 | D11: 59.72405 | E11: 124.00461 | F11: 123.28545 | G11: 124.9315 | H11: 92 | I11: 79 | J11: 39.3 | K11: 25.68393 | L11: 58.43239 | M11: 51.52203 | N11: 142.0055 | O11: 77.98658 | P11: 44.888889 | Q11: 50.271531 | R11: 143.41492 | S11: 143.05894 | T11: 73.759228 | U11: 128.58749 | V11: 133.86446 | W11: 126.39947 | X11: 111.14474 | Y11: 130.46566 | Z11: 115.27896 | AA11: 119.40235 | AB11: 45.175385 | AC11: 132.31687 | AD11: 131.71225 | AE11: 135.09983 | AF11: 127.8705 | AG11: 118.03416 | AH11: 76.02329 | AI11: 78.25909 | AJ11: 68.12372 | AK11: 123.98286 | AL11: 125.14519 | AM11: 25.26176 | AN11: 34.74579 | AO11: 84.198308
A12: 0.1C | B12: 8 | C12: 46.56893 | D12: 60.81947 | E12: 123.95983 | F12: 123.28045 | G12: 125.07517 | H12: 84.5 | I12: 74 | J12: 37 | K12: 25.51327 | L12: 57.52277 | M12: 81.36985 | N12: 140.94987 | O12: 74.61404 | P12: 41.611111 | Q12: 47.681364 | R12: 143.41535 | S12: 143.0536 | T12: 71.470207 | U12: 128.20492 | V12: 133.63066 | W12: 125.67399 | X12: 108.44095 | Y12: 129.91513 | Z12: 114.55801 | AA12: 118.70939 | AB12: 45.002256 | AC12: 131.51849 | AD12: 131.65006 | AE12: 135.10621 | AF12: 127.91417 | AG12: 118.66172 | AH12: 76.28406 | AI12: 77.82463 | AJ12: 68.9534 | AK12: 124.39766 | AL12: 125.36747 | AM12: 25.24606 | AN12: 34.51112 | AO12: 83.976003
A13: 0.1C | B13: 9 | C13: 47.99499 | D13: 61.80803 | E13: 123.92428 | F13: 123.0702 | G13: 124.94506 | H13: 78.5 | I13: 67.6 | J13: 34.9 | K13: 25.31763 | L13: 56.40114 | M13: 76.5101 | N13: 139.5555 | O13: 70.71192 | P13: 38.527778 | Q13: 44.589874 | R13: 144.02513 | S13: 143.05909 | T13: 72.131827 | U13: 127.70251 | V13: 133.11426 | W13: 125.4701 | X13: 108.49475 | Y13: 129.66037 | Z13: 113.73133 | AA13: 117.17553 | AB13: 44.904263 | AC13: 131.41483 | AD13: 130.8223 | AE13: 134.21442 | AF13: 128.1287 | AG13: 117.31624 | AH13: 75.90734 | AI13: 78.20786 | AJ13: 68.77739 | AK13: 124.68799 | AL13: 125.4424 | AM13: 25.15372 | AN13: 34.24455 | AO13: 83.948214
A14: 0.1C | B14: 10 | C14: 49.39098 | D14: 62.70975 | E14: 123.78562 | F14: 122.99258 | G14: 124.78995 | H14: 71.6 | I14: 62.7 | J14: 32.4 | K14: 25.01331 | L14: 54.93613 | M14: 77.03678 | N14: 139.60049 | O14: 66.89342 | P14: 35.944444 | Q14: 41.247722 | R14: 144.03276 | S14: 143.06715 | T14: 75.780804 | U14: 127.33327 | V14: 132.74008 | W14: 125.07816 | X14: 109.58434 | Y14: 128.81443 | Z14: 112.9601 | AA14: 116.88611 | AB14: 44.833823 | AC14: 130.63197 | AD14: 131.71584 | AE14: 134.21297 | AF14: 126.84345 | AG14: 118.20149 | AH14: 75.85679 | AI14: 77.79888 | AJ14: 68.29522 | AK14: 124.8266 | AL14: 125.51693 | AM14: 25.00358 | AN14: 33.85628 | AO14: 83.69812
A15: 0.1C | B15: 11 | C15: 50.65339 | D15: 63.5046 | E15: 123.74142 | F15: 122.84943 | G15: 124.68331 | H15: 67.5 | I15: 60.6 | J15: 30.7 | K15: 24.71398 | L15: 53.41232 | M15: 76.96212 | N15: 138.68924 | O15: 63.38152 | P15: 33.5 | Q15: 37.599206 | R15: 144.03223 | S15: 142.92545 | T15: 71.767381 | U15: 126.68315 | V15: 132.35466 | W15: 124.32424 | X15: 106.82002 | Y15: 128.66601 | Z15: 112.24075 | AA15: 116.47926 | AB15: 44.762691 | AC15: 130.63672 | AD15: 131.69194 | AE15: 134.21638 | AF15: 126.35325 | AG15: 116.30976 | AH15: 76.00267 | AI15: 77.62401 | AJ15: 68.41194 | AK15: 125.06509 | AL15: 125.6148 | AM15: 24.8633 | AN15: 33.40992 | AO15: 83.564737
A16: 0.1C | B16: 12 | C16: 51.85235 | D16: 64.21596 | E16: 123.60621 | F16: 122.67997 | G16: 124.5704 | H16: 62.3 | I16: 57.7 | J16: 29.5 | K16: 24.16396 | L16: 52.22623 | M16: 76.20221 | N16: 138.33824 | O16: 59.39579 | P16: 31.105991 | Q16: 33.839286 | R16: 144.02839 | S16: 142.43461 | T16: 70.201325 | U16: 126.17838 | V16: 131.83136 | W16: 124.00357 | X16: 108.73016 | Y16: 127.78984 | Z16: 111.63701 | AA16: 115.7233 | AB16: 44.616878 | AC16: 130.62015 | AD16: 130.82274 | AE16: 134.11716 | AF16: 125.65301 | AG16: 115.69803 | AH16: 75.58798 | AI16: 78.15085 | AJ16: 69.18566 | AK16: 125.23103 | AL16: 125.81413 | AM16: 24.63113 | AN16: 32.99755 | AO16: 83.459142
... A54: 0.1C | B54: 50 | C54: 73.54377 | D54: 75.80476 | E54: 125.00157 | F54: 122.59799 | G54: 125.30903 | H54: 28.7 | I54: 53.3 | J54: 33 | K54: 15.85817 | L54: 39.18888 | M54: 40.44018 | N54: 67.2707 | O54: 12.65401 | P54: 14.571429 | Q54: 0.33421517 | R54: 145.90884 | S54: 137.25643 | T54: 61.326196 | U54: 113.49104 | V54: 119.5257 | W54: 106.38979 | X54: 107.47915 | Y54: 111.20089 | Z54: 90.99699 | AA54: 95.36263 | AB54: 44.166903 | AC54: 126.20114 | AD54: 126.37116 | AE54: 126.219 | AF54: 124.42561 | AG54: 110.04255 | AH54: 75.8697 | AI54: 73.53762 | AJ54: 66.86761 | AK54: 126.51786 | AL54: 126.82059 | AM54: 16.52268 | AN54: 19.42898 | AO54: 77.679192

Sheet Supp. Fig. 3
A1: Coulomb efficiency / % | C1: A | E1: B | H1: D | K1: E | M1: F | O1: G | R1: H | T1: J | U1: K | X1: L | Y1: M | AB1: N | AC1: O | AF1: Q | AH1: R | AK1: S | AM1: T | AO1: U
A2: C-Rate | B2: Cycle No | C2: A1 | D2: A2 | E2: B1 | F2: B2 | G2: B3 | H2: D1 | I2: D2 | J2: D3 | K2: E1 | L2: E2 | M2: F1 | N2: F2 | O2: G1 | P2: G2 | Q2: G3 | R2: H1 | S2: H2 | T2: J1 | U2: K1 | V2: K2 | W2: K3 | X2: L1 | Y2: M1 | Z2: M2 | AA2: M3 | AB2: N3 | AC2: O1 | AD2: O2 | AE2: O3 | AF2: Q1 | AG2: Q2 | AH2: R1 | AI2: R2 | AJ2: R3 | AK2: S1 | AL2: S2 | AM2: T1 | AN2: T2 | AO2: U1
A3: Pretreatment (0.05C) | B3: 1 | C3: ='Supp. Fig. 2'!C3/'Spec. charge capacity'!C3*100 -> 55.46424 | D3: ='Supp. Fig. 2'!D3/'Spec. charge capacity'!D3*100 -> 55.690507 | E3: ='Supp. Fig. 2'!E3/'Spec. charge capacity'!E3*100 -> 75.986551 | F3: ='Supp. Fig. 2'!F3/'Spec. charge capacity'!F3*100 -> 75.91018 | G3: ='Supp. Fig. 2'!G3/'Spec. charge capacity'!G3*100 -> 76.004138 | K3: ='Supp. Fig. 2'!K3/'Spec. charge capacity'!K3*100 -> 66.757988 | L3: ='Supp. Fig. 2'!L3/'Spec. charge capacity'!L3*100 -> 73.748006 | M3: ='Supp. Fig. 2'!M3/'Spec. charge capacity'!M3*100 -> 68.040387 | N3: ='Supp. Fig. 2'!N3/'Spec. charge capacity'!N3*100 -> 72.670876 | U3: ='Supp. Fig. 2'!U3/'Spec. charge capacity'!U3*100 -> 77.762215 | V3: ='Supp. Fig. 2'!V3/'Spec. charge capacity'!V3*100 -> 78.515514 | W3: ='Supp. Fig. 2'!W3/'Spec. charge capacity'!W3*100 -> 77.083602 | Y3: ='Supp. Fig. 2'!Y3/'Spec. charge capacity'!Y3*100 -> 77.084669 | Z3: ='Supp. Fig. 2'!Z3/'Spec. charge capacity'!Z3*100 -> 75.427159 | AA3: ='Supp. Fig. 2'!AA3/'Spec. charge capacity'!AA3*100 -> 75.893741 | AC3: ='Supp. Fig. 2'!AC3/'Spec. charge capacity'!AC3*100 -> 78.084283 | AD3: ='Supp. Fig. 2'!AD3/'Spec. charge capacity'!AD3*100 -> 78.392583 | AE3: ='Supp. Fig. 2'!AE3/'Spec. charge capacity'!AE3*100 -> 78.573988 | AF3: ='Supp. Fig. 2'!AF3/'Spec. charge capacity'!AF3*100 -> 77.032028 | AG3: ='Supp. Fig. 2'!AG3/'Spec. charge capacity'!AG3*100 -> 76.503749 | AH3: ='Supp. Fig. 2'!AH3/'Spec. charge capacity'!AH3*100 -> 80.563583 | AI3: ='Supp. Fig. 2'!AI3/'Spec. charge capacity'!AI3*100 -> 79.605265 | AJ3: ='Supp. Fig. 2'!AJ3/'Spec. charge capacity'!AJ3*100 -> 75.359198 | ... AN3: ='Supp. Fig. 2'!AN3/'Spec. charge capacity'!AN3*100 -> 67.208031
A4: Pretreatment (0.05C) | B4: 2 | C4: ='Supp. Fig. 2'!C4/'Spec. charge capacity'!C4*100 -> 88.945115 | D4: ='Supp. Fig. 2'!D4/'Spec. charge capacity'!D4*100 -> 92.578631 | E4: ='Supp. Fig. 2'!E4/'Spec. charge capacity'!E4*100 -> 98.811531 | F4: ='Supp. Fig. 2'!F4/'Spec. charge capacity'!F4*100 -> 98.823207 | G4: ='Supp. Fig. 2'!G4/'Spec. charge capacity'!G4*100 -> 98.649191 | K4: ='Supp. Fig. 2'!K4/'Spec. charge capacity'!K4*100 -> 87.019745 | L4: ='Supp. Fig. 2'!L4/'Spec. charge capacity'!L4*100 -> 93.501348 | M4: ='Supp. Fig. 2'!M4/'Spec. charge capacity'!M4*100 -> 95.755798 | N4: ='Supp. Fig. 2'!N4/'Spec. charge capacity'!N4*100 -> 97.790723 | U4: ='Supp. Fig. 2'!U4/'Spec. charge capacity'!U4*100 -> 97.399993 | V4: ='Supp. Fig. 2'!V4/'Spec. charge capacity'!V4*100 -> 63.590632 | W4: ='Supp. Fig. 2'!W4/'Spec. charge capacity'!W4*100 -> 97.881265 | Y4: ='Supp. Fig. 2'!Y4/'Spec. charge capacity'!Y4*100 -> 97.585652 | Z4: ='Supp. Fig. 2'!Z4/'Spec. charge capacity'!Z4*100 -> 96.792477 | AA4: ='Supp. Fig. 2'!AA4/'Spec. charge capacity'!AA4*100 -> 97.332385 | AC4: ='Supp. Fig. 2'!AC4/'Spec. charge capacity'!AC4*100 -> 98.886912 | AD4: ='Supp. Fig. 2'!AD4/'Spec. charge capacity'!AD4*100 -> 98.892919 | AE4: ='Supp. Fig. 2'!AE4/'Spec. charge capacity'!AE4*100 -> 98.688568 | AF4: ='Supp. Fig. 2'!AF4/'Spec. charge capacity'!AF4*100 -> 99.105975 | AG4: ='Supp. Fig. 2'!AG4/'Spec. charge capacity'!AG4*100 -> 98.803137 | AH4: ='Supp. Fig. 2'!AH4/'Spec. charge capacity'!AH4*100 -> 103.84256 | AI4: ='Supp. Fig. 2'!AI4/'Spec. charge capacity'!AI4*100 -> 102.83436 | AJ4: ='Supp. Fig. 2'!AJ4/'Spec. charge capacity'!AJ4*100 -> 100.20263 | ... AN4: ='Supp. Fig. 2'!AN4/'Spec. charge capacity'!AN4*100 -> 90.895344
A5: 0.1C | B5: 1 | C5: ='Supp. Fig. 2'!C5/'Spec. charge capacity'!C5*100 -> 84.248992 | D5: ='Supp. Fig. 2'!D5/'Spec. charge capacity'!D5*100 -> 87.498472 | E5: ='Supp. Fig. 2'!E5/'Spec. charge capacity'!E5*100 -> 92.406606 | F5: ='Supp. Fig. 2'!F5/'Spec. charge capacity'!F5*100 -> 91.805874 | G5: ='Supp. Fig. 2'!G5/'Spec. charge capacity'!G5*100 -> 92.319273 | H5: ='Supp. Fig. 2'!H5/'Spec. charge capacity'!H5*100 -> 95.851528 | I5: ='Supp. Fig. 2'!I5/'Spec. charge capacity'!I5*100 -> 89.451827 | J5: ='Supp. Fig. 2'!J5/'Spec. charge capacity'!J5*100 -> 75.82846 | ... AO5: ='Supp. Fig. 2'!AO5/'Spec. charge capacity'!AO5*100 -> 95.259278
A6: 0.1C | B6: 2 | C6: ='Supp. Fig. 2'!C6/'Spec. charge capacity'!C6*100 -> 93.680866 | D6: ='Supp. Fig. 2'!D6/'Spec. charge capacity'!D6*100 -> 96.160854 | E6: ='Supp. Fig. 2'!E6/'Spec. charge capacity'!E6*100 -> 99.234867 | F6: ='Supp. Fig. 2'!F6/'Spec. charge capacity'!F6*100 -> 99.446252 | G6: ='Supp. Fig. 2'!G6/'Spec. charge capacity'!G6*100 -> 100.55075 | H6: ='Supp. Fig. 2'!H6/'Spec. charge capacity'!H6*100 -> 97.526237 | I6: ='Supp. Fig. 2'!I6/'Spec. charge capacity'!I6*100 -> 96.326905 | J6: ='Supp. Fig. 2'!J6/'Spec. charge capacity'!J6*100 -> 83.107275 | ... AO6: ='Supp. Fig. 2'!AO6/'Spec. charge capacity'!AO6*100 -> 99.187312
A7: 0.1C | B7: 3 | C7: ='Supp. Fig. 2'!C7/'Spec. charge capacity'!C7*100 -> 96.511509 | D7: ='Supp. Fig. 2'!D7/'Spec. charge capacity'!D7*100 -> 97.911182 | E7: ='Supp. Fig. 2'!E7/'Spec. charge capacity'!E7*100 -> 99.785573 | F7: ='Supp. Fig. 2'!F7/'Spec. charge capacity'!F7*100 -> 99.871177 | G7: ='Supp. Fig. 2'!G7/'Spec. charge capacity'!G7*100 -> 100.23438 | H7: ='Supp. Fig. 2'!H7/'Spec. charge capacity'!H7*100 -> 96.366389 | I7: ='Supp. Fig. 2'!I7/'Spec. charge capacity'!I7*100 -> 98.102467 | J7: ='Supp. Fig. 2'!J7/'Spec. charge capacity'!J7*100 -> 83.577713 | ... AO7: ='Supp. Fig. 2'!AO7/'Spec. charge capacity'!AO7*100 -> 99.500723
A8: 0.1C | B8: 4 | C8: ='Supp. Fig. 2'!C8/'Spec. charge capacity'!C8*100 -> 97.805366 | D8: ='Supp. Fig. 2'!D8/'Spec. charge capacity'!D8*100 -> 98.526 | E8: ='Supp. Fig. 2'!E8/'Spec. charge capacity'!E8*100 -> 99.992272 | F8: ='Supp. Fig. 2'!F8/'Spec. charge capacity'!F8*100 -> 99.971484 | G8: ='Supp. Fig. 2'!G8/'Spec. charge capacity'!G8*100 -> 100.12157 | H8: ='Supp. Fig. 2'!H8/'Spec. charge capacity'!H8*100 -> 93.220339 | I8: ='Supp. Fig. 2'!I8/'Spec. charge capacity'!I8*100 -> 95.192308 | J8: ='Supp. Fig. 2'!J8/'Spec. charge capacity'!J8*100 -> 86.426117 | ... AO8: ='Supp. Fig. 2'!AO8/'Spec. charge capacity'!AO8*100 -> 99.828992
A9: 0.1C | B9: 5 | C9: ='Supp. Fig. 2'!C9/'Spec. charge capacity'!C9*100 -> 98.157051 | D9: ='Supp. Fig. 2'!D9/'Spec. charge capacity'!D9*100 -> 98.814276 | E9: ='Supp. Fig. 2'!E9/'Spec. charge capacity'!E9*100 -> 99.925833 | F9: ='Supp. Fig. 2'!F9/'Spec. charge capacity'!F9*100 -> 99.986605 | G9: ='Supp. Fig. 2'!G9/'Spec. charge capacity'!G9*100 -> 100.13275 | H9: ='Supp. Fig. 2'!H9/'Spec. charge capacity'!H9*100 -> 90.954357 | I9: ='Supp. Fig. 2'!I9/'Spec. charge capacity'!I9*100 -> 93.587174 | J9: ='Supp. Fig. 2'!J9/'Spec. charge capacity'!J9*100 -> 90.485437 | ... AO9: ='Supp. Fig. 2'!AO9/'Spec. charge capacity'!AO9*100 -> 99.710698
A10: 0.1C | B10: 6 | C10: ='Supp. Fig. 2'!C10/'Spec. charge capacity'!C10*100 -> 98.708993 | D10: ='Supp. Fig. 2'!D10/'Spec. charge capacity'!D10*100 -> 98.965763 | E10: ='Supp. Fig. 2'!E10/'Spec. charge capacity'!E10*100 -> 99.971182 | F10: ='Supp. Fig. 2'!F10/'Spec. charge capacity'!F10*100 -> 99.945548 | G10: ='Supp. Fig. 2'!G10/'Spec. charge capacity'!G10*100 -> 100.2586 | H10: ='Supp. Fig. 2'!H10/'Spec. charge capacity'!H10*100 -> 91.16321 | I10: ='Supp. Fig. 2'!I10/'Spec. charge capacity'!I10*100 -> 90.160428 | J10: ='Supp. Fig. 2'!J10/'Spec. charge capacity'!J10*100 -> 89.915966 | ... AO10: ='Supp. Fig. 2'!AO10/'Spec. charge capacity'!AO10*100 -> 100.03099
A11: 0.1C | B11: 7 | C11: ='Supp. Fig. 2'!C11/'Spec. charge capacity'!C11*100 -> 98.84163 | D11: ='Supp. Fig. 2'!D11/'Spec. charge capacity'!D11*100 -> 99.030899 | E11: ='Supp. Fig. 2'!E11/'Spec. charge capacity'!E11*100 -> 99.919028 | F11: ='Supp. Fig. 2'!F11/'Spec. charge capacity'!F11*100 -> 99.876108 | G11: ='Supp. Fig. 2'!G11/'Spec. charge capacity'!G11*100 -> 99.911837 | H11: ='Supp. Fig. 2'!H11/'Spec. charge capacity'!H11*100 -> 90.640394 | I11: ='Supp. Fig. 2'!I11/'Spec. charge capacity'!I11*100 -> 92.941176 | J11: ='Supp. Fig. 2'!J11/'Spec. charge capacity'!J11*100 -> 90.972222 | ... AO11: ='Supp. Fig. 2'!AO11/'Spec. charge capacity'!AO11*100 -> 99.743235
A12: 0.1C | B12: 8 | C12: ='Supp. Fig. 2'!C12/'Spec. charge capacity'!C12*100 -> 99.083357 | D12: ='Supp. Fig. 2'!D12/'Spec. charge capacity'!D12*100 -> 99.123656 | E12: ='Supp. Fig. 2'!E12/'Spec. charge capacity'!E12*100 -> 99.851198 | F12: ='Supp. Fig. 2'!F12/'Spec. charge capacity'!F12*100 -> 99.982798 | G12: ='Supp. Fig. 2'!G12/'Spec. charge capacity'!G12*100 -> 99.989455 | H12: ='Supp. Fig. 2'!H12/'Spec. charge capacity'!H12*100 -> 91.2527 | I12: ='Supp. Fig. 2'!I12/'Spec. charge capacity'!I12*100 -> 92.384519 | J12: ='Supp. Fig. 2'!J12/'Spec. charge capacity'!J12*100 -> 92.73183 | ... AO12: ='Supp. Fig. 2'!AO12/'Spec. charge capacity'!AO12*100 -> 99.808442
A13: 0.1C | B13: 9 | C13: ='Supp. Fig. 2'!C13/'Spec. charge capacity'!C13*100 -> 99.274681 | D13: ='Supp. Fig. 2'!D13/'Spec. charge capacity'!D13*100 -> 99.174758 | E13: ='Supp. Fig. 2'!E13/'Spec. charge capacity'!E13*100 -> 99.93335 | F13: ='Supp. Fig. 2'!F13/'Spec. charge capacity'!F13*100 -> 99.934844 | G13: ='Supp. Fig. 2'!G13/'Spec. charge capacity'!G13*100 -> 99.891302 | H13: ='Supp. Fig. 2'!H13/'Spec. charge capacity'!H13*100 -> 91.705607 | I13: ='Supp. Fig. 2'!I13/'Spec. charge capacity'!I13*100 -> 90.495315 | J13: ='Supp. Fig. 2'!J13/'Spec. charge capacity'!J13*100 -> 92.572944 | ... AO13: ='Supp. Fig. 2'!AO13/'Spec. charge capacity'!AO13*100 -> 99.916131
A14: 0.1C | B14: 10 | C14: ='Supp. Fig. 2'!C14/'Spec. charge capacity'!C14*100 -> 99.408472 | D14: ='Supp. Fig. 2'!D14/'Spec. charge capacity'!D14*100 -> 99.223205 | E14: ='Supp. Fig. 2'!E14/'Spec. charge capacity'!E14*100 -> 99.942821 | F14: ='Supp. Fig. 2'!F14/'Spec. charge capacity'!F14*100 -> 99.93231 | G14: ='Supp. Fig. 2'!G14/'Spec. charge capacity'!G14*100 -> 99.96155 | H14: ='Supp. Fig. 2'!H14/'Spec. charge capacity'!H14*100 -> 91.443167 | I14: ='Supp. Fig. 2'!I14/'Spec. charge capacity'!I14*100 -> 92.341679 | J14: ='Supp. Fig. 2'!J14/'Spec. charge capacity'!J14*100 -> 92.571429 | ... AO14: ='Supp. Fig. 2'!AO14/'Spec. charge capacity'!AO14*100 -> 99.781356
A15: 0.1C | B15: 11 | C15: ='Supp. Fig. 2'!C15/'Spec. charge capacity'!C15*100 -> 99.436167 | D15: ='Supp. Fig. 2'!D15/'Spec. charge capacity'!D15*100 -> 99.243212 | E15: ='Supp. Fig. 2'!E15/'Spec. charge capacity'!E15*100 -> 99.926134 | F15: ='Supp. Fig. 2'!F15/'Spec. charge capacity'!F15*100 -> 99.929337 | G15: ='Supp. Fig. 2'!G15/'Spec. charge capacity'!G15*100 -> 99.979889 | H15: ='Supp. Fig. 2'!H15/'Spec. charge capacity'!H15*100 -> 92.592593 | I15: ='Supp. Fig. 2'!I15/'Spec. charge capacity'!I15*100 -> 96.190476 | J15: ='Supp. Fig. 2'!J15/'Spec. charge capacity'!J15*100 -> 94.461538 | ... AO15: ='Supp. Fig. 2'!AO15/'Spec. charge capacity'!AO15*100 -> 99.973404
A16: 0.1C | B16: 12 | C16: ='Supp. Fig. 2'!C16/'Spec. charge capacity'!C16*100 -> 99.570321 | D16: ='Supp. Fig. 2'!D16/'Spec. charge capacity'!D16*100 -> 99.277157 | E16: ='Supp. Fig. 2'!E16/'Spec. charge capacity'!E16*100 -> 99.887527 | F16: ='Supp. Fig. 2'!F16/'Spec. charge capacity'!F16*100 -> 99.910888 | G16: ='Supp. Fig. 2'!G16/'Spec. charge capacity'!G16*100 -> 99.831728 | H16: ='Supp. Fig. 2'!H16/'Spec. charge capacity'!H16*100 -> 92.296296 | I16: ='Supp. Fig. 2'!I16/'Spec. charge capacity'!I16*100 -> 94.590164 | J16: ='Supp. Fig. 2'!J16/'Spec. charge capacity'!J16*100 -> 95.469256 | ... AO16: ='Supp. Fig. 2'!AO16/'Spec. charge capacity'!AO16*100 -> 99.940104
... A54: 0.1C | B54: 50 | C54: ='Supp. Fig. 2'!C54/'Spec. charge capacity'!C54*100 -> 99.909252 | D54: ='Supp. Fig. 2'!D54/'Spec. charge capacity'!D54*100 -> 99.775821 | E54: ='Supp. Fig. 2'!E54/'Spec. charge capacity'!E54*100 -> 99.873434 | F54: ='Supp. Fig. 2'!F54/'Spec. charge capacity'!F54*100 -> 99.957962 | G54: ='Supp. Fig. 2'!G54/'Spec. charge capacity'!G54*100 -> 99.84722 | H54: ='Supp. Fig. 2'!H54/'Spec. charge capacity'!H54*100 -> 99.652778 | I54: ='Supp. Fig. 2'!I54/'Spec. charge capacity'!I54*100 -> 100 | J54: ='Supp. Fig. 2'!J54/'Spec. charge capacity'!J54*100 -> 103.125 | ... AO54: ='Supp. Fig. 2'!AO54/'Spec. charge capacity'!AO54*100 -> 100.12178

Sheet Supp. Fig. 4
A1: Polarization voltage / V | C1: A | E1: B | H1: D | K1: E | M1: F | O1: G | R1: H | T1: J | U1: K | X1: L | Y1: M | AB1: N | AC1: O | AF1: Q | AH1: R | AK1: S | AM1: T | AO1: U
A2: C-Rate | B2: Cycle No | C2: A1 | D2: A2 | E2: B1 | F2: B2 | G2: B3 | H2: D1 | I2: D2 | J2: D3 | K2: E1 | L2: E2 | M2: F1 | N2: F2 | O2: G1 | P2: G2 | Q2: G3 | R2: H1 | S2: H2 | T2: J1 | U2: K1 | V2: K2 | W2: K3 | X2: L1 | Y2: M1 | Z2: M2 | AA2: M3 | AB2: N3 | AC2: O1 | AD2: O2 | AE2: O3 | AF2: Q1 | AG2: Q2 | AH2: R1 | AI2: R2 | AJ2: R3 | AK2: S1 | AL2: S2 | AM2: T1 | AN2: T2 | AO2: U1
A3: Pretreatment (0.05C) | B3: 1 | C3: 0.41432 | D3: 0.08758 | E3: 0.05016 | F3: 0.050173961 | G3: 0.051153833 | K3: 0.29691 | L3: 0.13834 | M3: 0.10646 | N3: 0.05022 | U3: 0.055568888 | V3: 0.032067088 | W3: 0.079803591 | Y3: 0.06746 | Z3: 0.09973 | AA3: 0.09378 | AC3: 0.03148 | AD3: 0.03808 | AE3: 0.05973 | AF3: 0.05391 | AG3: 0.04965 | AH3: 0.12224 | AI3: 0.12333 | AJ3: 0.13932 | AK3: 0.08841 | AL3: 0.06186 | AM3: 0.04738 | AN3: 0.04747
A4: Pretreatment (0.05C) | B4: 2 | C4: 0.56542 | D4: 0.06181 | E4: 0.11787 | F4: 0.11865189 | G4: 0.11769605 | K4: 0.52368 | L4: 0.28157 | M4: 0.19867 | N4: 0.13172 | U4: 0.1186481 | V4: 0.075429597 | W4: 0.1301379 | Y4: 0.11954 | Z4: 0.15013 | AA4: 0.14131 | AC4: 0.098 | AD4: 0.09557 | AE4: 0.10663 | AF4: 0.12055 | AG4: 0.12898 | AH4: 0.19578 | AI4: 0.21634 | AJ4: 0.23474 | AK4: 0.13981 | AL4: 0.11323 | AM4: 0.46633 | AN4: 0.43131
A5: 0.1C | B5: 1 | C5: 0.83573 | D5: 0.48914 | E5: 0.21792 | F5: 0.2216328 | G5: 0.21624912 | K5: 0.66383 | L5: 0.46407 | M5: 0.27655 | N5: 0.21006 | O5: 0.15055657 | P5: 0.22652542 | Q5: 0.21930088 | R5: 0.13058062 | S5: 0.14942019 | T5: 0.43935649 | U5: 0.15476808 | V5: 0.12873543 | W5: 0.17357068 | X5: 0.1808595 | Y5: 0.17623 | Z5: 0.22894 | AA5: 0.20272 | AB5: 0.24417614 | AC5: 0.15149 | AD5: 0.13995 | AE5: 0.1475 | AF5: 0.17731 | AG5: 0.1896 | AH5: 0.2957 | AI5: 0.31578 | AJ5: 0.33398 | AK5: 0.19782 | AL5: 0.16517 | AM5: 0.52153 | AN5: 0.49335 | AO5: 0.20579652
A6: 0.1C | B6: 2 | C6: 0.81106 | D6: 0.46904 | E6: 0.21614 | F6: 0.22066894 | G6: 0.21973871 | K6: 0.65964 | L6: 0.47828 | M6: 0.27907 | N6: 0.21646 | O6: 0.15906057 | P6: 0.25552664 | Q6: 0.21633011 | R6: 0.13028129 | S6: 0.15315942 | T6: 0.50963714 | U6: 0.16797779 | V6: 0.14139032 | W6: 0.18211634 | X6: 0.16450804 | Y6: 0.18513 | Z6: 0.24388 | AA6: 0.21058 | AB6: 0.21860629 | AC6: 0.16427 | AD6: 0.15084 | AE6: 0.16533 | AF6: 0.18622 | AG6: 0.20458 | AH6: 0.30438 | AI6: 0.32641 | AJ6: 0.3373 | AK6: 0.19975 | AL6: 0.16886 | AM6: 0.53043 | AN6: 0.48424 | AO6: 0.2034864
A7: 0.1C | B7: 3 | C7: 0.79514 | D7: 0.45213 | E7: 0.21612 | F7: 0.22217346 | G7: 0.21580853 | K7: 0.65715 | L7: 0.4801 | M7: 0.28776 | N7: 0.21803 | O7: 0.16214093 | P7: 0.2842419 | Q7: 0.21300337 | R7: 0.13734028 | S7: 0.15432651 | T7: 0.51101225 | U7: 0.17033724 | V7: 0.14364172 | W7: 0.18279363 | X7: 0.16975127 | Y7: 0.18783 | Z7: 0.25165 | AA7: 0.21146 | AB7: 0.22714115 | AC7: 0.16756 | AD7: 0.15121 | AE7: 0.1639 | AF7: 0.19132 | AG7: 0.20477 | AH7: 0.31213 | AI7: 0.32353 | AJ7: 0.33711 | AK7: 0.19867 | AL7: 0.1681 | AM7: 0.5299 | AN7: 0.48743 | AO7: 0.20584224
A8: 0.1C | B8: 4 | C8: 0.77751 | D8: 0.43572 | E8: 0.21529 | F8: 0.22236255 | G8: 0.21538437 | K8: 0.65809 | L8: 0.48079 | M8: 0.29539 | N8: 0.22007 | O8: 0.16506292 | P8: 0.27220349 | Q8: 0.21140407 | R8: 0.13040993 | S8: 0.15254206 | T8: 0.48318134 | U8: 0.17126538 | V8: 0.14562439 | W8: 0.18392537 | X8: 0.17045473 | Y8: 0.18824 | Z8: 0.26052 | AA8: 0.2146 | AB8: 0.22505192 | AC8: 0.17224 | AD8: 0.14954 | AE8: 0.16874 | AF8: 0.18832 | AG8: 0.21447 | AH8: 0.308 | AI8: 0.32133 | AJ8: 0.33588 | AK8: 0.19705 | AL8: 0.16713 | AM8: 0.53568 | AN8: 0.4748 | AO8: 0.20733889
A9: 0.1C | B9: 5 | C9: 0.76189 | D9: 0.42072 | E9: 0.21585 | F9: 0.22310992 | G9: 0.21572464 | K9: 0.65399 | L9: 0.48135 | M9: 0.29867 | N9: 0.22172 | O9: 0.1692625 | P9: 0.27236525 | Q9: 0.21179931 | R9: 0.13227921 | S9: 0.15636496 | T9: 0.50653633 | U9: 0.17348904 | V9: 0.1495951 | W9: 0.1836114 | X9: 0.1679588 | Y9: 0.19043 | Z9: 0.26609 | AA9: 0.21336 | AB9: 0.22874028 | AC9: 0.16975 | AD9: 0.14453 | AE9: 0.16838 | AF9: 0.19154 | AG9: 0.20789 | AH9: 0.30661 | AI9: 0.3171 | AJ9: 0.32783 | AK9: 0.19594 | AL9: 0.16612 | AM9: 0.53825 | AN9: 0.47881 | AO9: 0.2088298
A10: 0.1C | B10: 6 | C10: 0.74555 | D10: 0.40749 | E10: 0.21703 | F10: 0.22425268 | G10: 0.21640739 | K10: 0.65582 | L10: 0.48203 | M10: 0.30503 | N10: 0.22218 | O10: 0.1707159 | P10: 0.28319795 | Q10: 0.21644706 | R10: 0.13363098 | S10: 0.1611785 | T10: 0.52558615 | U10: 0.17383779 | V10: 0.15210217 | W10: 0.18585162 | X10: 0.17461269 | Y10: 0.19067 | Z10: 0.27395 | AA10: 0.21625 | AB10: 0.22955164 | AC10: 0.17417 | AD10: 0.15062 | AE10: 0.17273 | AF10: 0.18607 | AG10: 0.21292 | AH10: 0.30364 | AI10: 0.31192 | AJ10: 0.32749 | AK10: 0.19385 | AL10: 0.16502 | AM10: 0.53096 | AN10: 0.48003 | AO10: 0.21006628
A11: 0.1C | B11: 7 | C11: 0.73206 | D11: 0.39822 | E11: 0.21716 | F11: 0.22648485 | G11: 0.21803753 | K11: 0.65864 | L11: 0.48513 | M11: 0.16981 | N11: 0.22127 | O11: 0.17536052 | P11: 0.29380895 | Q11: 0.22392106 | R11: 0.13125752 | S11: 0.15575984 | T11: 0.49867146 | U11: 0.17445979 | V11: 0.15481466 | W11: 0.18804956 | X11: 0.16897894 | Y11: 0.19315 | Z11: 0.27965 | AA11: 0.2147 | AB11: 0.23066984 | AC11: 0.17877 | AD11: 0.15123 | AE11: 0.16916 | AF11: 0.19952 | AG11: 0.2085 | AH11: 0.30178 | AI11: 0.30431 | AJ11: 0.32882 | AK11: 0.19405 | AL11: 0.16508 | AM11: 0.5345 | AN11: 0.48356 | AO11: 0.21070934
A12: 0.1C | B12: 8 | C12: 0.71564 | D12: 0.38737 | E12: 0.2179 | F12: 0.22727537 | G12: 0.21805771 | K12: 0.65892 | L12: 0.49073 | M12: 0.34784 | N12: 0.22424 | O12: 0.17982648 | P12: 0.28582303 | Q12: 0.23190577 | R12: 0.13568513 | S12: 0.16061314 | T12: 0.48098136 | U12: 0.17783545 | V12: 0.15528519 | W12: 0.18974698 | X12: 0.17111157 | Y12: 0.19314 | Z12: 0.2878 | AA12: 0.21814 | AB12: 0.22982642 | AC12: 0.18214 | AD12: 0.15512 | AE12: 0.17226 | AF12: 0.19373 | AG12: 0.2217 | AH12: 0.29874 | AI12: 0.30774 | AJ12: 0.32159 | AK12: 0.193 | AL12: 0.16451 | AM12: 0.53801 | AN12: 0.48711 | AO12: 0.2131215
A13: 0.1C | B13: 9 | C13: 0.70466 | D13: 0.37993 | E13: 0.21907 | F13: 0.22912994 | G13: 0.2200344 | K13: 0.66024 | L13: 0.49748 | M13: 0.33583 | N13: 0.2343 | O13: 0.18202561 | P13: 0.26756007 | Q13: 0.24245692 | R13: 0.1317028 | S13: 0.1563037 | T13: 0.49595589 | U13: 0.17865582 | V13: 0.15887976 | W13: 0.19042723 | X13: 0.17630845 | Y13: 0.19559 | Z13: 0.29287 | AA13: 0.21933 | AB13: 0.22803407 | AC13: 0.17692 | AD13: 0.15492 | AE13: 0.17668 | AF13: 0.19915 | AG13: 0.21378 | AH13: 0.29788 | AI13: 0.30377 | AJ13: 0.31786 | AK13: 0.19152 | AL13: 0.16457 | AM13: 0.54135 | AN13: 0.4907 | AO13: 0.21399511
A14: 0.1C | B14: 10 | C14: 0.69156 | D14: 0.37294 | E14: 0.22065 | F14: 0.23096718 | G14: 0.22045463 | K14: 0.66219 | L14: 0.50644 | M14: 0.3394 | N14: 0.23505 | O14: 0.18811187 | P14: 0.25812151 | Q14: 0.25528435 | R14: 0.13295812 | S14: 0.15725996 | T14: 0.48715303 | U14: 0.18038143 | V14: 0.15994452 | W14: 0.1895823 | X14: 0.17037855 | Y14: 0.19596 | Z14: 0.30053 | AA14: 0.22156 | AB14: 0.22802773 | AC14: 0.1861 | AD14: 0.16642 | AE14: 0.17428 | AF14: 0.19583 | AG14: 0.22178 | AH14: 0.29904 | AI14: 0.30075 | AJ14: 0.32064 | AK14: 0.19107 | AL14: 0.1649 | AM14: 0.54506 | AN14: 0.49452 | AO14: 0.21521923
A15: 0.1C | B15: 11 | C15: 0.68138 | D15: 0.366 | E15: 0.22033 | F15: 0.23293387 | G15: 0.2216621 | K15: 0.66216 | L15: 0.51422 | M15: 0.33337 | N15: 0.24155 | O15: 0.19240353 | P15: 0.25313827 | Q15: 0.26951389 | R15: 0.13108027 | S15: 0.16076065 | T15: 0.46977721 | U15: 0.18055212 | V15: 0.16276357 | W15: 0.19084355 | X15: 0.17664664 | Y15: 0.19652 | Z15: 0.30468 | AA15: 0.21815 | AB15: 0.23262049 | AC15: 0.18533 | AD15: 0.16173 | AE15: 0.17895 | AF15: 0.20548 | AG15: 0.21686 | AH15: 0.2972 | AI15: 0.30203 | AJ15: 0.32252 | AK15: 0.1912 | AL15: 0.16506 | AM15: 0.53018 | AN15: 0.49849 | AO15: 0.21683924
A16: 0.1C | B16: 12 | C16: 0.66845 | D16: 0.36064 | E16: 0.22168 | F16: 0.2340993 | G16: 0.22233303 | K16: 0.66538 | L16: 0.52193 | M16: 0.34422 | N16: 0.24242 | O16: 0.19486198 | P16: 0.2513525 | Q16: 0.28348153 | R16: 0.13433863 | S16: 0.15976974 | T16: 0.49791959 | U16: 0.18264553 | V16: 0.16497428 | W16: 0.19303178 | X16: 0.1772 | Y16: 0.19755 | Z16: 0.31134 | AA16: 0.21883 | AB16: 0.23000722 | AC16: 0.19007 | AD16: 0.15911 | AE16: 0.17971 | AF16: 0.20475 | AG16: 0.22938 | AH16: 0.29685 | AI16: 0.29735 | AJ16: 0.31528 | AK16: 0.19115 | AL16: 0.16533 | AM16: 0.53354 | AN16: 0.50268 | AO16: 0.21701072
... A54: 0.1C | B54: 50 | C54: 0.47728 | D54: 0.29107 | E54: 0.19097 | F54: 0.22450012 | G54: 0.19947211 | K54: 0.71623 | L54: 0.62746 | M54: 0.28771 | N54: 0.15587 | O54: 0.42381858 | P54: 0.29705 | Q54: 0.9238125 | R54: 0.12722419 | S54: 0.16433873 | T54: 0.57616253 | U54: 0.20240623 | V54: 0.18805007 | W54: 0.20135365 | X54: 0.16799825 | Y54: 0.20023 | Z54: 0.42682 | AA54: 0.22646 | AB54: 0.23560395 | AC54: 0.22594 | AD54: 0.20174 | AE54: 0.22412 | AF54: 0.20721 | AG54: 0.22815 | AH54: 0.29162 | AI54: 0.27884 | AJ54: 0.30472 | AK54: 0.20356 | AL54: 0.17772 | AM54: 0.59078 | AN54: 0.55039 | AO54: 0.24599167

Sheet Spec. charge capacity
A1: Spec. charge capacities / mAh g-1 | C1: A | E1: B | H1: D | K1: E | M1: F | O1: G | R1: H | T1: J | U1: K | X1: L | Y1: M | AB1: N | AC1: O | AF1: Q | AH1: R | AK1: S | AM1: T | AO1: U
A2: C-Rate | B2: Cycle No | C2: A1 | D2: A2 | E2: B1 | F2: B2 | G2: B3 | H2: D1 | I2: D2 | J2: D3 | K2: E1 | L2: E2 | M2: F1 | N2: F2 | O2: G1 | P2: G2 | Q2: G3 | R2: H1 | S2: H2 | T2: J1 | U2: K1 | V2: K2 | W2: K3 | X2: L1 | Y2: M1 | Z2: M2 | AA2: M3 | AB2: N3 | AC2: O1 | AD2: O2 | AE2: O3 | AF2: Q1 | AG2: Q2 | AH2: R1 | AI2: R2 | AJ2: R3 | AK2: S1 | AL2: S2 | AM2: T1 | AN2: T2 | AO2: U1
A3: Pretreatment (0.05C) | B3: 1 | C3: 101.14919 | D3: 112.1524 | E3: 188.06961 | F3: 189.85335 | G3: 189.15003 | K3: 96.39266 | L3: 129.26024 | M3: 138.23706 | N3: 218.81909 | U3: 189.94002 | V3: 188.81755 | W3: 177.71926 | Y3: 187.20301 | Z3: 179.47343 | AA3: 176.85465 | AC3: 190.67019 | AD3: 188.45908 | AE3: 194.63659 | AF3: 187.58395 | AG3: 179.2946 | AH3: 115.60567 | AI3: 126.96331 | AJ3: 116.26728 | AK3: 170.81992 | AL3: 169.75194 | AM3: 71.19163 | AN3: 89.66296
A4: Pretreatment (0.05C) | B4: 2 | C4: 64.39099 | D4: 69.37615 | E4: 143.06478 | F4: 144.1196 | G4: 144.22393 | K4: 53.22931 | L4: 90.8053 | M4: 95.31403 | N4: 160.51 | U4: 149.8311 | V4: 230.4358 | W4: 140.44502 | Y4: 147.97497 | Z4: 138.76565 | AA4: 139.66257 | AC4: 148.45453 | AD4: 147.78592 | AE4: 153.02964 | AF4: 144.24435 | AG4: 136.92374 | AH4: 89.12662 | AI4: 94.30367 | AJ4: 82.43952 | AK4: 135.50877 | AL4: 134.61365 | AM4: 53.6126 | AN4: 60.87786
A5: 0.1C | B5: 1 | C5: 38.84418 | D5: 54.89817 | E5: 136.07367 | F5: 136.94041 | G5: 137.13767 | H5: 137.4 | I5: 120.4 | J5: 102.6 | K5: 27.71025 | L5: 67.91899 | M5: 80.97843 | N5: 148.53726 | O5: 115.69222 | P5: 104.13153 | Q5: 106.88316 | R5: 148.10531 | S5: 150.28342 | T5: 93.427487 | U5: 141.6416 | V5: 143.49383 | W5: 134.35731 | X5: 114.205 | Y5: 140.49815 | Z5: 129.28693 | AA5: 131.21008 | AB5: 49.18788 | AC5: 141.75231 | AD5: 140.85501 | AE5: 146.18385 | AF5: 138.35247 | AG5: 130.53717 | AH5: 80.41051 | AI5: 84.14002 | AJ5: 71.74905 | AK5: 126.49396 | AL5: 128.52577 | AM5: 31.90265 | AN5: 40.52571 | AO5: 87.455088
A6: 0.1C | B6: 2 | C6: 37.73539 | D6: 53.06467 | E6: 124.30513 | F6: 124.1594 | G6: 123.8401 | H6: 133.4 | I6: 108.9 | J6: 81.1 | K6: 25.636 | L6: 61.67976 | M6: 79.6232 | N6: 141.08825 | O6: 107.01045 | P6: 96.054147 | Q6: 92.837081 | R6: 143.09506 | S6: 144.13347 | T6: 70.680502 | U6: 133.70906 | V6: 136.90671 | W6: 128.05901 | X6: 110.74119 | Y6: 133.2885 | Z6: 120.89462 | AA6: 124.34866 | AB6: 48.829047 | AC6: 134.13463 | AD6: 134.16423 | AE6: 138.57159 | AF6: 129.99373 | AG6: 121.57555 | AH6: 76.38576 | AI6: 78.34252 | AJ6: 67.52601 | AK6: 121.0119 | AL6: 123.67778 | AM6: 27.54474 | AN6: 36.47174 | AO6: 84.798534
A7: 0.1C | B7: 3 | C7: 38.96441 | D7: 54.52078 | E7: 123.88806 | F7: 123.60345 | G7: 124.68377 | H7: 132.1 | I7: 105.4 | J7: 68.2 | K7: 26.34073 | L7: 61.10242 | M7: 79.72056 | N7: 141.15382 | O7: 103.1827 | P7: 97.670507 | Q7: 87.7949 | R7: 143.87834 | S7: 144.23916 | T7: 69.754382 | U7: 132.23524 | V7: 136.43775 | W7: 127.92334 | X7: 110.67393 | Y7: 133.06502 | Z7: 120.18221 | AA7: 123.84086 | AB7: 47.660988 | AC7: 133.88662 | AD7: 134.06146 | AE7: 136.89661 | AF7: 129.83362 | AG7: 121.81398 | AH7: 75.45142 | AI7: 78.5121 | AJ7: 67.62106 | AK7: 121.65172 | AL7: 124.05275 | AM7: 27.05389 | AN7: 36.22032 | AO7: 84.598459
A8: 0.1C | B8: 4 | C8: 40.63092 | D8: 56.19064 | E8: 124.09954 | F8: 123.75379 | G8: 124.9957 | H8: 129.8 | I8: 104 | J8: 58.2 | K8: 26.81268 | L8: 60.731 | M8: 79.44176 | N8: 141.87201 | O8: 99.465905 | P8: 92.747824 | Q8: 83.002058 | R8: 143.82054 | S8: 143.63347 | T8: 73.017177 | U8: 131.3246 | V8: 135.6484 | W8: 127.65581 | X8: 108.81087 | Y8: 132.65553 | Z8: 119.24328 | AA8: 122.93494 | AB8: 46.852477 | AC8: 133.22558 | AD8: 133.80571 | AE8: 136.85012 | AF8: 128.82025 | AG8: 119.62194 | AH8: 75.74517 | AI8: 78.55794 | AJ8: 67.70353 | AK8: 122.36303 | AL8: 124.48215 | AM8: 26.83791 | AN8: 36.22602 | AO8: 84.498421
A9: 0.1C | B9: 5 | C9: 42.40431 | D9: 57.74026 | E9: 124.05828 | F9: 123.7031 | G9: 124.9808 | H9: 120.5 | I9: 99.8 | J9: 51.5 | K9: 27.11352 | L9: 60.37042 | M9: 79.94958 | N9: 141.33665 | O9: 95.416262 | P9: 82.231183 | Q9: 78.763301 | R9: 144.44142 | S9: 144.22362 | T9: 70.232775 | U9: 130.38568 | V9: 135.25277 | W9: 127.66749 | X9: 111.11784 | Y9: 132.30885 | Z9: 118.83749 | AA9: 122.72441 | AB9: 46.279484 | AC9: 132.34978 | AD9: 132.38134 | AE9: 136.57539 | AF9: 129.42264 | AG9: 120.57063 | AH9: 76.12704 | AI9: 78.75005 | AJ9: 68.48243 | AK9: 122.99239 | AL9: 124.80371 | AM9: 26.63119 | AN9: 36.12748 | AO9: 84.526209
A10: 0.1C | B10: 6 | C10: 43.97731 | D10: 59.09284 | E10: 124.12278 | F10: 123.55937 | G10: 124.89001 | H10: 110.9 | I10: 93.5 | J10: 47.6 | K10: 27.11102 | L10: 60.11912 | M10: 79.71737 | N10: 141.70651 | O10: 92.087787 | P10: 73.669355 | Q10: 74.138889 | R10: 144.44827 | S10: 143.57158 | T10: 67.655437 | U10: 130.02109 | V10: 134.78401 | W10: 127.10864 | X10: 108.52166 | Y10: 132.18799 | Z10: 117.59346 | AA10: 121.55215 | AB10: 45.851195 | AC10: 132.35947 | AD10: 133.11399 | AE10: 136.01902 | AF10: 129.94968 | AG10: 119.40482 | AH10: 76.30661 | AI10: 78.9856 | AJ10: 68.66563 | AK10: 123.8159 | AL10: 125.23786 | AM10: 26.5669 | AN10: 35.9826 | AO10: 84.403941
A11: 0.1C | B11: 7 | C11: 45.55366 | D11: 60.3085 | E11: 124.1051 | F11: 123.43838 | G11: 125.04174 | H11: 101.5 | I11: 85 | J11: 43.2 | K11: 27.16873 | L11: 59.9089 | M11: 79.67633 | N11: 142.47268 | O11: 88.010407 | P11: 67.643625 | Q11: 69.555556 | R11: 144.44627 | S11: 143.55994 | T11: 70.703307 | U11: 129.25684 | V11: 134.19243 | W11: 126.80024 | X11: 109.2884 | Y11: 131.59983 | Z11: 117.10267 | AA11: 121.35877 | AB11: 45.570556 | AC11: 131.47397 | AD11: 132.3858 | AE11: 135.7449 | AF11: 127.7637 | AG11: 120.83563 | AH11: 76.43947 | AI11: 79.62641 | AJ11: 68.54279 | AK11: 124.12757 | AL11: 125.27013 | AM11: 26.44382 | AN11: 35.8344 | AO11: 84.415056
A12: 0.1C | B12: 8 | C12: 46.99975 | D12: 61.35717 | E12: 124.14456 | F12: 123.30166 | G12: 125.08836 | H12: 92.6 | I12: 80.1 | J12: 39.9 | K12: 27.21529 | L12: 59.91633 | M12: 56.17468 | N12: 141.69116 | O12: 84.127187 | P12: 62.03149 | Q12: 66.047031 | R12: 144.43883 | S12: 143.58969 | T12: 74.442481 | U12: 128.93898 | V12: 133.97802 | W12: 126.20425 | X12: 110.47888 | Y12: 131.37967 | Z12: 116.05275 | AA12: 119.96687 | AB12: 45.35625 | AC12: 132.14784 | AD12: 132.38626 | AE12: 135.12407 | AF12: 128.55999 | AG12: 117.28589 | AH12: 76.70839 | AI12: 78.7679 | AJ12: 68.90134 | AK12: 124.51401 | AL12: 125.50168 | AM12: 26.36086 | AN12: 35.50857 | AO12: 84.137174
A13: 0.1C | B13: 9 | C13: 48.34565 | D13: 62.32234 | E13: 124.00693 | F13: 123.15044 | G13: 125.08102 | H13: 85.6 | I13: 74.7 | J13: 37.7 | K13: 27.06488 | L13: 59.74383 | M13: 76.64133 | N13: 140.53563 | O13: 80.82645 | P13: 56.28597 | Q13: 61.833333 | R13: 144.44101 | S13: 143.56911 | T13: 72.242804 | U13: 128.24064 | V13: 133.37967 | W13: 125.78657 | X13: 107.58676 | Y13: 130.67505 | Z13: 115.5237 | AA13: 119.20329 | AB13: 45.147017 | AC13: 131.20875 | AD13: 132.17158 | AE13: 135.12014 | AF13: 127.19533 | AG13: 119.13338 | AH13: 76.69758 | AI13: 78.76735 | AJ13: 69.42131 | AK13: 124.84136 | AL13: 125.6602 | AM13: 26.21003 | AN13: 35.20344 | AO13: 84.01868
A14: 0.1C | B14: 10 | C14: 49.68488 | D14: 63.20069 | E14: 123.85644 | F14: 123.07589 | G14: 124.83795 | H14: 78.3 | I14: 67.9 | J14: 35 | K14: 26.83369 | L14: 59.79789 | M14: 76.468 | N14: 139.98003 | O14: 76.749069 | P14: 51.368088 | Q14: 56.861111 | R14: 144.4368 | S14: 142.96659 | T14: 73.746332 | U14: 127.83341 | V14: 132.93215 | W14: 125.31977 | X14: 109.92063 | Y14: 130.50019 | Z14: 114.34596 | AA14: 117.84155 | AB14: 45.022334 | AC14: 131.47061 | AD14: 130.55803 | AE14: 134.23998 | AF14: 128.44293 | AG14: 116.96524 | AH14: 76.27663 | AI14: 78.93104 | AJ14: 69.04411 | AK14: 125.03549 | AL14: 125.67466 | AM14: 26.02496 | AN14: 34.74387 | AO14: 83.881523
A15: 0.1C | B15: 11 | C15: 50.94061 | D15: 63.98886 | E15: 123.83289 | F15: 122.9363 | G15: 124.70839 | H15: 72.9 | I15: 63 | J15: 32.5 | K15: 26.55892 | L15: 59.65609 | M15: 77.5615 | N15: 138.85244 | O15: 72.921323 | P15: 47.244496 | Q15: 51.611111 | R15: 144.43649 | S15: 142.97319 | T15: 76.437948 | U15: 127.32374 | V15: 132.56088 | W15: 124.93088 | X15: 107.95669 | Y15: 129.8969 | Z15: 114.04342 | AA15: 117.95749 | AB15: 45.000838 | AC15: 130.58945 | AD15: 131.17109 | AE15: 134.24046 | AF15: 126.2271 | AG15: 118.40333 | AH15: 76.32934 | AI15: 78.42784 | AJ15: 68.63706 | AK15: 125.18476 | AL15: 125.76723 | AM15: 25.81093 | AN15: 34.20874 | AO15: 83.586967
A16: 0.1C | B16: 12 | C16: 52.07611 | D16: 64.68352 | E16: 123.74539 | F16: 122.78939 | G16: 124.78037 | H16: 67.5 | I16: 61 | J16: 30.9 | K16: 26.5605 | L16: 58.76246 | M16: 77.12784 | N16: 138.6769 | O16: 69.78701 | P16: 43.182604 | Q16: 46.25 | R16: 145.05224 | S16: 143.59627 | T16: 72.172874 | U16: 126.83608 | V16: 132.08047 | W16: 124.43605 | X16: 106.90073 | Y16: 129.59097 | Z16: 112.89228 | AA16: 117.12361 | AB16: 44.869808 | AC16: 130.58277 | AD16: 131.22392 | AE16: 133.8509 | AF16: 126.45183 | AG16: 115.64785 | AH16: 76.24665 | AI16: 78.71951 | AJ16: 68.95585 | AK16: 125.38088 | AL16: 125.82571 | AM16: 25.51433 | AN16: 33.71494 | AO16: 83.50916
... A54: 0.1C | B54: 50 | C54: 73.61057 | D54: 75.97508 | E54: 125.15998 | F54: 122.64955 | G54: 125.50077 | H54: 28.8 | I54: 53.3 | J54: 32 | K54: 16.48536 | L54: 40.31269 | M54: 42.66051 | N54: 69.28604 | O54: 15.283244 | P54: 18.305556 | Q54: 0.86111111 | R54: 146.33573 | S54: 137.79372 | T54: 64.37569 | U54: 113.79201 | V54: 119.602 | W54: 106.8365 | X54: 106.93436 | Y54: 112.06428 | Z54: 91.65997 | AA54: 95.88347 | AB54: 44.297195 | AC54: 126.13839 | AD54: 126.73766 | AE54: 126.12893 | AF54: 124.69584 | AG54: 110.94751 | AH54: 75.43751 | AI54: 73.30696 | AJ54: 65.66746 | AK54: 126.49146 | AL54: 127.00596 | AM54: 16.64967 | AN54: 19.46093 | AO54: 77.584712

Sheet Stdev and median rel error 
C1: Cycle 1 (0.1C) | K1: Cycle 50 (0.1C)
C2: Spec. discharge capacity /mAh g-1 | K2: Spec. discharge capacity /mAh g-1
A3: Group | B3: Amount of cells working | C3: Cell 1 | D3: Cell 2 | E3: Cell 3 | F3: Average | G3: Standard deviation | H3: Relative standard deviation | I3: Median relative error (outliers included) / % | J3: Median relative error (outliers excluded) / % | K3: Cell 1 (cycle 50) | L3: Cell 2 (cycle 50) | M3: Cell3 (cycle 50) | N3: Average (cycle 50) | O3: Standard deviation (cycle 50) | P3: Relative standard deviation / % | Q3: Median relative error (outliers included, cycle 50) / % | R3: Median relative error (outliersexcluded, cycle 50) / %
A4: S | B4: 2 | C4: 118.27527 | D4: 122.0915 | F4: =AVERAGE(Tabelle2[[#This Row],[Cell 1]:[Cell 2]]) -> 120.18339 | G4: =_xlfn.STDEV.P(Tabelle2[[#This Row],[Cell 1]:[Cell 2]]) -> 1.908115 | H4: =Tabelle2[[#This Row],[Standard deviation]]/Tabelle2[[#This Row],[Average]]*100 -> 1.5876695 | I4: =(ABS(($B$48-Tabelle2[[#This Row],[Average]]))/$B$48)*100 -> 1.6132831 | J4: =(ABS(($D$48-Tabelle2[[#This Row],[Average]]))/$D$48)*100 -> 1.4139124 | K4: 126.51786 | L4: 126.84571 | N4: =AVERAGE(Tabelle2[[#This Row],[Cell 1 (cycle 50)]:[Cell 2 (cycle 50)]]) -> 126.68178 | O4: =_xlfn.STDEV.P(Tabelle2[[#This Row],[Cell 1 (cycle 50)]:[Cell 2 (cycle 50)]]) -> 0.163925 | P4: =Tabelle2[[#This Row],[Standard deviation (cycle 50)]]/Tabelle2[[#This Row],[Average (cycle 50)]]*100 -> 0.12939903 | Q4: =(ABS(($C$48-Tabelle2[[#This Row],[Average (cycle 50)]]))/$C$48)*100 -> 63.083294 | R4: =(ABS(($E$48-Tabelle2[[#This Row],[Average (cycle 50)]]))/$E$48)*100 -> 19.963812
A5: M | B5: 3 | C5: 132.10555 | D5: 119.61457 | E5: 122.44982 | F5: =AVERAGE(Tabelle2[[#This Row],[Cell 1]:[Cell 3]]) -> 124.72331 | G5: =_xlfn.STDEV.P(Tabelle2[[#This Row],[Cell 1]:[Cell 3]]) -> 5.3468211 | H5: =Tabelle2[[#This Row],[Standard deviation]]/Tabelle2[[#This Row],[Average]]*100 -> 4.2869461 | I5: =(ABS(($B$48-Tabelle2[[#This Row],[Average]]))/$B$48)*100 -> 5.4517231 | J5: =(ABS(($D$48-Tabelle2[[#This Row],[Average]]))/$D$48)*100 -> 2.3101754 | K5: 111.20089 | L5: 90.996985 | M5: 95.362627 | N5: =AVERAGE(Tabelle2[[#This Row],[Cell 1 (cycle 50)]:[Cell3 (cycle 50)]]) -> 99.186834 | O5: =_xlfn.STDEV.P(Tabelle2[[#This Row],[Cell 1 (cycle 50)]:[Cell3 (cycle 50)]]) -> 8.6801635 | P5: =Tabelle2[[#This Row],[Standard deviation (cycle 50)]]/Tabelle2[[#This Row],[Average (cycle 50)]]*100 -> 8.7513263 | Q5: =(ABS(($C$48-Tabelle2[[#This Row],[Average (cycle 50)]]))/$C$48)*100 -> 27.687778 | R5: =(ABS(($E$48-Tabelle2[[#This Row],[Average (cycle 50)]]))/$E$48)*100 -> 6.0730739
A6: Q | B6: 2 | C6: 129.86795 | D6: 121.90704 | F6: =AVERAGE(Tabelle2[[#This Row],[Cell 1]:[Cell 2]]) -> 125.8875 | G6: =_xlfn.STDEV.P(Tabelle2[[#This Row],[Cell 1]:[Cell 2]]) -> 3.9804535 | H6: =Tabelle2[[#This Row],[Standard deviation]]/Tabelle2[[#This Row],[Average]]*100 -> 3.1619133 | I6: =(ABS(($B$48-Tabelle2[[#This Row],[Average]]))/$B$48)*100 -> 6.4360261 | J6: =(ABS(($D$48-Tabelle2[[#This Row],[Average]]))/$D$48)*100 -> 3.2651547 | K6: 124.42561 | L6: 110.04255 | N6: =AVERAGE(Tabelle2[[#This Row],[Cell 1 (cycle 50)]:[Cell 2 (cycle 50)]]) -> 117.23408 | O6: =_xlfn.STDEV.P(Tabelle2[[#This Row],[Cell 1 (cycle 50)]:[Cell 2 (cycle 50)]]) -> 7.1915326 | P6: =Tabelle2[[#This Row],[Standard deviation (cycle 50)]]/Tabelle2[[#This Row],[Average (cycle 50)]]*100 -> 6.1343363 | Q6: =(ABS(($C$48-Tabelle2[[#This Row],[Average (cycle 50)]]))/$C$48)*100 -> 50.920827 | R6: =(ABS(($E$48-Tabelle2[[#This Row],[Average (cycle 50)]]))/$E$48)*100 -> 11.01712
A7: B | B7: 3 | C7: 125.74 | D7: 125.72 | E7: 126.6 | F7: =AVERAGE(Tabelle2[[#This Row],[Cell 1]:[Cell 3]]) -> 126.02 | G7: =_xlfn.STDEV.P(Tabelle2[[#This Row],[Cell 1]:[Cell 3]]) -> 0.4102032 | H7: =Tabelle2[[#This Row],[Standard deviation]]/Tabelle2[[#This Row],[Average]]*100 -> 0.32550643 | I7: =(ABS(($B$48-Tabelle2[[#This Row],[Average]]))/$B$48)*100 -> 6.5480552 | J7: =(ABS(($D$48-Tabelle2[[#This Row],[Average]]))/$D$48)*100 -> 3.3738463 | K7: 125 | L7: 122.6 | M7: 125.5 | N7: =AVERAGE(Tabelle2[[#This Row],[Cell 1 (cycle 50)]:[Cell3 (cycle 50)]]) -> 124.36667 | O7: =_xlfn.STDEV.P(Tabelle2[[#This Row],[Cell 1 (cycle 50)]:[Cell3 (cycle 50)]]) -> 1.2657892 | P7: =Tabelle2[[#This Row],[Standard deviation (cycle 50)]]/Tabelle2[[#This Row],[Average (cycle 50)]]*100 -> 1.0177881 | Q7: =(ABS(($C$48-Tabelle2[[#This Row],[Average (cycle 50)]]))/$C$48)*100 -> 60.102936 | R7: =(ABS(($E$48-Tabelle2[[#This Row],[Average (cycle 50)]]))/$E$48)*100 -> 17.771465
A8: L | B8: 1 | C8: 108.2 | F8: =Tabelle2[[#This Row],[Cell 1]] -> 108.2 | I8: =(ABS(($B$48-Tabelle2[[#This Row],[Average]]))/$B$48)*100 -> 8.5184925 | J8: =(ABS(($D$48-Tabelle2[[#This Row],[Average]]))/$D$48)*100 -> 11.243849 | K8: 105.6 | N8: =Tabelle2[[#This Row],[Cell 1 (cycle 50)]] -> 105.6 | Q8: =(ABS(($C$48-Tabelle2[[#This Row],[Average (cycle 50)]]))/$C$48)*100 -> 35.943742 | R8: =(ABS(($E$48-Tabelle2[[#This Row],[Average (cycle 50)]]))/$E$48)*100 -> 0
A9: F | B9: 2 | C9: 75.05 | D9: 139.57 | F9: =AVERAGE(Tabelle2[[#This Row],[Cell 1]:[Cell 2]]) -> 107.31 | G9: =_xlfn.STDEV.P(Tabelle2[[#This Row],[Cell 1]:[Cell 2]]) -> 32.26 | H9: =Tabelle2[[#This Row],[Standard deviation]]/Tabelle2[[#This Row],[Average]]*100 -> 30.062436 | I9: =(ABS(($B$48-Tabelle2[[#This Row],[Average]]))/$B$48)*100 -> 9.2709744 | J9: =(ABS(($D$48-Tabelle2[[#This Row],[Average]]))/$D$48)*100 -> 11.973913 | K9: 40.44 | L9: 67.27 | N9: =AVERAGE(Tabelle2[[#This Row],[Cell 1 (cycle 50)]:[Cell 2 (cycle 50)]]) -> 53.855 | O9: =_xlfn.STDEV.P(Tabelle2[[#This Row],[Cell 1 (cycle 50)]:[Cell 2 (cycle 50)]]) -> 13.415 | P9: =Tabelle2[[#This Row],[Standard deviation (cycle 50)]]/Tabelle2[[#This Row],[Average (cycle 50)]]*100 -> 24.909479 | Q9: =(ABS(($C$48-Tabelle2[[#This Row],[Average (cycle 50)]]))/$C$48)*100 -> 30.669979 | R9: =(ABS(($E$48-Tabelle2[[#This Row],[Average (cycle 50)]]))/$E$48)*100 -> 49.000947
A10: D | B10: 3 | C10: 131.7 | D10: 107.7 | E10: 77.8 | F10: =AVERAGE(Tabelle2[[#This Row],[Cell 1]:[Cell 3]]) -> 105.73333 | G10: =_xlfn.STDEV.P(Tabelle2[[#This Row],[Cell 1]:[Cell 3]]) -> 22.048482 | H10: =Tabelle2[[#This Row],[Standard deviation]]/Tabelle2[[#This Row],[Average]]*100 -> 20.852915 | I10: =(ABS(($B$48-Tabelle2[[#This Row],[Average]]))/$B$48)*100 -> 10.604023 | J10: =(ABS(($D$48-Tabelle2[[#This Row],[Average]]))/$D$48)*100 -> 13.267249 | K10: 28.7 | L10: 53.3 | M10: 33 | N10: =AVERAGE(Tabelle2[[#This Row],[Cell 1 (cycle 50)]:[Cell3 (cycle 50)]]) -> 38.333333 | O10: =_xlfn.STDEV.P(Tabelle2[[#This Row],[Cell 1 (cycle 50)]:[Cell3 (cycle 50)]]) -> 10.727638 | P10: =Tabelle2[[#This Row],[Standard deviation (cycle 50)]]/Tabelle2[[#This Row],[Average (cycle 50)]]*100 -> 27.985143 | Q10: =(ABS(($C$48-Tabelle2[[#This Row],[Average (cycle 50)]]))/$C$48)*100 -> 50.651735 | R10: =(ABS(($E$48-Tabelle2[[#This Row],[Average (cycle 50)]]))/$E$48)*100 -> 63.699495
A11: K | B11: 3 | C11: 133.2 | D11: 136.9 | E11: 134.6 | F11: =AVERAGE(Tabelle2[[#This Row],[Cell 1]:[Cell 3]]) -> 134.9 | G11: =_xlfn.STDEV.P(Tabelle2[[#This Row],[Cell 1]:[Cell 3]]) -> 1.5253415 | H11: =Tabelle2[[#This Row],[Standard deviation]]/Tabelle2[[#This Row],[Average]]*100 -> 1.1307202 | I11: =(ABS(($B$48-Tabelle2[[#This Row],[Average]]))/$B$48)*100 -> 14.055965 | J11: =(ABS(($D$48-Tabelle2[[#This Row],[Average]]))/$D$48)*100 -> 10.658085 | K11: 113.9 | L11: 120.1 | M11: 107.3 | N11: =AVERAGE(Tabelle2[[#This Row],[Cell 1 (cycle 50)]:[Cell3 (cycle 50)]]) -> 113.76667 | O11: =_xlfn.STDEV.P(Tabelle2[[#This Row],[Cell 1 (cycle 50)]:[Cell3 (cycle 50)]]) -> 5.2264286 | P11: =Tabelle2[[#This Row],[Standard deviation (cycle 50)]]/Tabelle2[[#This Row],[Average (cycle 50)]]*100 -> 4.5939894 | Q11: =(ABS(($C$48-Tabelle2[[#This Row],[Average (cycle 50)]]))/$C$48)*100 -> 46.457068 | R11: =(ABS(($E$48-Tabelle2[[#This Row],[Average (cycle 50)]]))/$E$48)*100 -> 7.7335859
A12: O | B12: 3 | C12: 134.19449 | D12: 134.37849 | E12: 137.77184 | F12: =AVERAGE(Tabelle2[[#This Row],[Cell 1]:[Cell 3]]) -> 135.44827 | G12: =_xlfn.STDEV.P(Tabelle2[[#This Row],[Cell 1]:[Cell 3]]) -> 1.6447269 | H12: =Tabelle2[[#This Row],[Standard deviation]]/Tabelle2[[#This Row],[Average]]*100 -> 1.2142841 | I12: =(ABS(($B$48-Tabelle2[[#This Row],[Average]]))/$B$48)*100 -> 14.519521 | J12: =(ABS(($D$48-Tabelle2[[#This Row],[Average]]))/$D$48)*100 -> 11.107831 | K12: 126.20114 | L12: 126.37116 | M12: 126.219 | N12: =AVERAGE(Tabelle2[[#This Row],[Cell 1 (cycle 50)]:[Cell3 (cycle 50)]]) -> 126.26377 | O12: =_xlfn.STDEV.P(Tabelle2[[#This Row],[Cell 1 (cycle 50)]:[Cell3 (cycle 50)]]) -> 0.076288335 | P12: =Tabelle2[[#This Row],[Standard deviation (cycle 50)]]/Tabelle2[[#This Row],[Average (cycle 50)]]*100 -> 0.060419816 | Q12: =(ABS(($C$48-Tabelle2[[#This Row],[Average (cycle 50)]]))/$C$48)*100 -> 62.545159 | R12: =(ABS(($E$48-Tabelle2[[#This Row],[Average (cycle 50)]]))/$E$48)*100 -> 19.56796
A13: H | B13: 2 | C13: 141.6 | D13: 143.1 | F13: =AVERAGE(Tabelle2[[#This Row],[Cell 1]:[Cell 2]]) -> 142.35 | G13: =_xlfn.STDEV.P(Tabelle2[[#This Row],[Cell 1]:[Cell 2]]) -> 0.75 | H13: =Tabelle2[[#This Row],[Standard deviation]]/Tabelle2[[#This Row],[Average]]*100 -> 0.52687039 | I13: =(ABS(($B$48-Tabelle2[[#This Row],[Average]]))/$B$48)*100 -> 20.35483 | J13: =(ABS(($D$48-Tabelle2[[#This Row],[Average]]))/$D$48)*100 -> 16.769299 | K13: 145.9 | L13: 137.3 | N13: =AVERAGE(Tabelle2[[#This Row],[Cell 1 (cycle 50)]:[Cell 2 (cycle 50)]]) -> 141.6 | O13: =_xlfn.STDEV.P(Tabelle2[[#This Row],[Cell 1 (cycle 50)]:[Cell 2 (cycle 50)]]) -> 4.3 | P13: =Tabelle2[[#This Row],[Standard deviation (cycle 50)]]/Tabelle2[[#This Row],[Average (cycle 50)]]*100 -> 3.0367232 | Q13: =(ABS(($C$48-Tabelle2[[#This Row],[Average (cycle 50)]]))/$C$48)*100 -> 82.2882 | R13: =(ABS(($E$48-Tabelle2[[#This Row],[Average (cycle 50)]]))/$E$48)*100 -> 34.090909
A14: U | B14: 1 | C14: 83.309085 | F14: =Tabelle2[[#This Row],[Cell 1]] -> 83.309085 | I14: =(ABS(($B$48-Tabelle2[[#This Row],[Average]]))/$B$48)*100 -> 29.563395 | J14: =(ABS(($D$48-Tabelle2[[#This Row],[Average]]))/$D$48)*100 -> 31.661795 | K14: 77.679192 | N14: =Tabelle2[[#This Row],[Cell 1 (cycle 50)]] -> 77.679192 | Q14: =(ABS(($C$48-Tabelle2[[#This Row],[Average (cycle 50)]]))/$C$48)*100 -> 0 | R14: =(ABS(($E$48-Tabelle2[[#This Row],[Average (cycle 50)]]))/$E$48)*100 -> 26.440159
A15: G | B15: 3 | C15: 99.6 | D15: 73.6 | E15: 68.2 | F15: =AVERAGE(Tabelle2[[#This Row],[Cell 1]:[Cell 3]]) -> 80.466667 | G15: =_xlfn.STDEV.P(Tabelle2[[#This Row],[Cell 1]:[Cell 3]]) -> 13.707743 | H15: =Tabelle2[[#This Row],[Standard deviation]]/Tabelle2[[#This Row],[Average]]*100 -> 17.035306 | I15: =(ABS(($B$48-Tabelle2[[#This Row],[Average]]))/$B$48)*100 -> 31.966618 | J15: =(ABS(($D$48-Tabelle2[[#This Row],[Average]]))/$D$48)*100 -> 33.993423 | K15: 12.7 | L15: 14.6 | M15: 0.33 | N15: =AVERAGE(Tabelle2[[#This Row],[Cell 1 (cycle 50)]:[Cell3 (cycle 50)]]) -> 9.21 | O15: =_xlfn.STDEV.P(Tabelle2[[#This Row],[Cell 1 (cycle 50)]:[Cell3 (cycle 50)]]) -> 6.326837 | P15: =Tabelle2[[#This Row],[Standard deviation (cycle 50)]]/Tabelle2[[#This Row],[Average (cycle 50)]]*100 -> 68.695299 | Q15: =(ABS(($C$48-Tabelle2[[#This Row],[Average (cycle 50)]]))/$C$48)*100 -> 88.143543 | R15: =(ABS(($E$48-Tabelle2[[#This Row],[Average (cycle 50)]]))/$E$48)*100 -> 91.278409
A16: R | B16: 3 | C16: 74.05295 | D16: 75.76105 | E16: 65.49189 | F16: =AVERAGE(Tabelle2[[#This Row],[Cell 1]:[Cell 3]]) -> 71.76863 | G16: =_xlfn.STDEV.P(Tabelle2[[#This Row],[Cell 1]:[Cell 3]]) -> 4.492772 | H16: =Tabelle2[[#This Row],[Standard deviation]]/Tabelle2[[#This Row],[Average]]*100 -> 6.2600777 | I16: =(ABS(($B$48-Tabelle2[[#This Row],[Average]]))/$B$48)*100 -> 39.32068 | J16: =(ABS(($D$48-Tabelle2[[#This Row],[Average]]))/$D$48)*100 -> 41.128398 | K16: 75.8697 | L16: 73.53762 | M16: 66.86761 | N16: =AVERAGE(Tabelle2[[#This Row],[Cell 1 (cycle 50)]:[Cell3 (cycle 50)]]) -> 72.091643 | O16: =_xlfn.STDEV.P(Tabelle2[[#This Row],[Cell 1 (cycle 50)]:[Cell3 (cycle 50)]]) -> 3.8146684 | P16: =Tabelle2[[#This Row],[Standard deviation (cycle 50)]]/Tabelle2[[#This Row],[Average (cycle 50)]]*100 -> 5.2914155 | Q16: =(ABS(($C$48-Tabelle2[[#This Row],[Average (cycle 50)]]))/$C$48)*100 -> 7.1931083 | R16: =(ABS(($E$48-Tabelle2[[#This Row],[Average (cycle 50)]]))/$E$48)*100 -> 31.731398
A17: J | B17: 1 | C17: 66.8 | F17: =Tabelle2[[#This Row],[Cell 1]] -> 66.8 | I17: =(ABS(($B$48-Tabelle2[[#This Row],[Average]]))/$B$48)*100 -> 43.521583 | J17: =(ABS(($D$48-Tabelle2[[#This Row],[Average]]))/$D$48)*100 -> 45.204151 | K17: 61.3 | N17: =Tabelle2[[#This Row],[Cell 1 (cycle 50)]] -> 61.3 | Q17: =(ABS(($C$48-Tabelle2[[#This Row],[Average (cycle 50)]]))/$C$48)*100 -> 21.085688 | R17: =(ABS(($E$48-Tabelle2[[#This Row],[Average (cycle 50)]]))/$E$48)*100 -> 41.950758
A18: N | B18: 1 | C18: 48.64064 | F18: =Tabelle2[[#This Row],[Cell 1]] -> 48.64064 | I18: =(ABS(($B$48-Tabelle2[[#This Row],[Average]]))/$B$48)*100 -> 58.875055 | J18: =(ABS(($D$48-Tabelle2[[#This Row],[Average]]))/$D$48)*100 -> 60.100222 | K18: 44.1669 | N18: =Tabelle2[[#This Row],[Cell 1 (cycle 50)]] -> 44.1669 | Q18: =(ABS(($C$48-Tabelle2[[#This Row],[Average (cycle 50)]]))/$C$48)*100 -> 43.141916 | R18: =(ABS(($E$48-Tabelle2[[#This Row],[Average (cycle 50)]]))/$E$48)*100 -> 58.175284
A19: A | B19: 2 | C19: 32.73 | D19: 48.03 | F19: =AVERAGE(Tabelle2[[#This Row],[Cell 1]:[Cell 2]]) -> 40.38 | G19: =_xlfn.STDEV.P(Tabelle2[[#This Row],[Cell 1]:[Cell 2]]) -> 7.65 | H19: =Tabelle2[[#This Row],[Standard deviation]]/Tabelle2[[#This Row],[Average]]*100 -> 18.945022 | I19: =(ABS(($B$48-Tabelle2[[#This Row],[Average]]))/$B$48)*100 -> 65.859304 | J19: =(ABS(($D$48-Tabelle2[[#This Row],[Average]]))/$D$48)*100 -> 66.876401 | K19: 73.54 | L19: 75.8 | N19: =AVERAGE(Tabelle2[[#This Row],[Cell 1 (cycle 50)]:[Cell 2 (cycle 50)]]) -> 74.67 | O19: =_xlfn.STDEV.P(Tabelle2[[#This Row],[Cell 1 (cycle 50)]:[Cell 2 (cycle 50)]]) -> 1.13 | P19: =Tabelle2[[#This Row],[Standard deviation (cycle 50)]]/Tabelle2[[#This Row],[Average (cycle 50)]]*100 -> 1.5133253 | Q19: =(ABS(($C$48-Tabelle2[[#This Row],[Average (cycle 50)]]))/$C$48)*100 -> 3.8738711 | R19: =(ABS(($E$48-Tabelle2[[#This Row],[Average (cycle 50)]]))/$E$48)*100 -> 29.289773
A20: E | B20: 2 | C20: 20.68 | D20: 58.95 | F20: =AVERAGE(Tabelle2[[#This Row],[Cell 1]:[Cell 2]]) -> 39.815 | G20: =_xlfn.STDEV.P(Tabelle2[[#This Row],[Cell 1]:[Cell 2]]) -> 19.135 | H20: =Tabelle2[[#This Row],[Standard deviation]]/Tabelle2[[#This Row],[Average]]*100 -> 48.059776 | I20: =(ABS(($B$48-Tabelle2[[#This Row],[Average]]))/$B$48)*100 -> 66.337004 | J20: =(ABS(($D$48-Tabelle2[[#This Row],[Average]]))/$D$48)*100 -> 67.339869 | K20: 15.86 | L20: 39.19 | N20: =AVERAGE(Tabelle2[[#This Row],[Cell 1 (cycle 50)]:[Cell 2 (cycle 50)]]) -> 27.525 | O20: =_xlfn.STDEV.P(Tabelle2[[#This Row],[Cell 1 (cycle 50)]:[Cell 2 (cycle 50)]]) -> 11.665 | P20: =Tabelle2[[#This Row],[Standard deviation (cycle 50)]]/Tabelle2[[#This Row],[Average (cycle 50)]]*100 -> 42.379655 | Q20: =(ABS(($C$48-Tabelle2[[#This Row],[Average (cycle 50)]]))/$C$48)*100 -> 64.5658 | R20: =(ABS(($E$48-Tabelle2[[#This Row],[Average (cycle 50)]]))/$E$48)*100 -> 73.934659
A21: T | B21: 2 | C21: 23.71198 | D21: 32.87201 | F21: =AVERAGE(Tabelle2[[#This Row],[Cell 1]:[Cell 2]]) -> 28.291995 | G21: =_xlfn.STDEV.P(Tabelle2[[#This Row],[Cell 1]:[Cell 2]]) -> 4.580015 | H21: =Tabelle2[[#This Row],[Standard deviation]]/Tabelle2[[#This Row],[Average]]*100 -> 16.188378 | I21: =(ABS(($B$48-Tabelle2[[#This Row],[Average]]))/$B$48)*100 -> 76.079535 | J21: =(ABS(($D$48-Tabelle2[[#This Row],[Average]]))/$D$48)*100 -> 76.792157 | K21: 16.70425 | L21: 19.56908 | N21: =AVERAGE(Tabelle2[[#This Row],[Cell 1 (cycle 50)]:[Cell 2 (cycle 50)]]) -> 18.136665 | O21: =_xlfn.STDEV.P(Tabelle2[[#This Row],[Cell 1 (cycle 50)]:[Cell 2 (cycle 50)]]) -> 1.432415 | P21: =Tabelle2[[#This Row],[Standard deviation (cycle 50)]]/Tabelle2[[#This Row],[Average (cycle 50)]]*100 -> 7.8978963 | Q21: =(ABS(($C$48-Tabelle2[[#This Row],[Average (cycle 50)]]))/$C$48)*100 -> 76.651836 | R21: =(ABS(($E$48-Tabelle2[[#This Row],[Average (cycle 50)]]))/$E$48)*100 -> 82.825128
B25: Cycle 1 | E25: Cycle 50
A26: Group | B26: Cell 1 | C26: Cell 2 | D26: Cell 3 | E26: Cell 1 | F26: Cell 2 | G26: Cell 3
A27: A | B27: 32.73 | C27: 48.03 | E27: 73.54 | F27: 75.8
A28: B | B28: 125.74 | C28: 125.72 | D28: 126.6 | E28: 125 | F28: 122.6 | G28: 125.5
A29: D | B29: 131.7 | C29: 107.7 | D29: 77.8 | E29: 28.7 | F29: 53.3 | G29: 33
A30: E | B30: 20.68 | C30: 58.95 | E30: 15.86 | F30: 39.19
A31: F | B31: 75.05 | C31: 139.57 | E31: 40.44 | F31: 67.27
A32: G | B32: 99.6 | C32: 73.6 | D32: 68.2 | E32: 12.7 | F32: 14.6 | G32: 0.33
A33: H | B33: 141.6 | C33: 143.1 | E33: 145.9 | F33: 137.3
A34: J | B34: 66.8 | E34: 61.3
A35: K | B35: 133.2 | C35: 136.9 | D35: 134.6 | E35: 113.9 | F35: 120.1 | G35: 107.3
A36: L | B36: 108.2 | E36: 105.6
A37: M | B37: 132.10555 | C37: 119.61457 | D37: 122.44982 | E37: 111.20089 | F37: 90.996985 | G37: 95.362627
A38: N | B38: 48.64064 | E38: 44.1669
A39: O | B39: 134.19449 | C39: 134.37849 | D39: 137.77184 | E39: 126.20114 | F39: 126.37116 | G39: 126.219
A40: Q | B40: 129.86795 | C40: 121.90704 | E40: 124.42561 | F40: 110.04255
A41: R | B41: 74.05295 | C41: 75.76105 | D41: 65.49189 | E41: 75.8697 | F41: 73.53762 | G41: 66.86761
A42: S | B42: 118.27527 | C42: 122.0915 | E42: 126.51786 | F42: 126.84571
A43: T | B43: 23.71198 | C43: 32.87201 | E43: 16.70425 | F43: 19.56908
A44: U | B44: 83.309085 | E44: 77.679192
B46: Outliers included | D46: Outliers excluded
B47: Cycle 1 | C47: Cycle 50 | D47: Cycle 1 | E47: Cycle 50
A48: Median | B48: =MEDIAN(B27:B44,C27:C33,C35,C37,C39:C43,D41,D39,D37,D35,D32,D28:D29) -> 118.27527 | C48: =MEDIAN(E27:E44,F27:F33,F35,F37,F39:F43,G41,G39,G37,G35,G32,G28:G29) -> 77.679192 | D48: =MEDIAN(B28:B29,B32:B33,B35:B43,C28:C29,C32:C33,C35,C37,C39:C43,B44,D41,D39,D37,D35,D32,D29,D28,B30) -> 121.90704 | E48: =MEDIAN(E28:E29,E32:E33,E35:E43,F28:F29,F32:F33,F35,F37,F39:F43,E44,G41,G39,G37,G35,G32,G29,G28,E30) -> 105.6
A49: Average | B49: =AVERAGE(B27:B44,C27:C33,C35,C37,C39:C43,D41,D39,D37,D35,D32,D28:D29) -> 98.783747 | C49: =AVERAGE(E27:E44,F27:F33,F35,F37,F39:F43,G41,G39,G37,G35,G32,G28:G29) -> 80.969433 | D49: =AVERAGE(B28:B29,B32:B33,B35:B43,C28:C29,C32:C33,C35,C37,C39:C43,B44,D41,D39,D37,D35,D32,D29,D28,B30) -> 103.98291 | E49: =AVERAGE(E28:E29,E32:E33,E35:E43,F28:F29,F32:F33,F35,F37,F39:F43,E44,G41,G39,G37,G35,G32,G29,G28,E30) -> 84.856602
B52: Median Stabw | C52: Average Stabw | D52: MW Stabw
A53: 2 Cells | B53: 4.580015 | C53: 10.697935 | D53: 10.037655
A54: 3 Cells | B54: 4.492772 | C54: 7.3924831 | D54: 7.0251557
