Workbook

Sheet Geochemical Data
A1: Lab ID | B1: Sample | C1: Elevation (cm) | D1: ε205 Tl | E1: 2σ | F1: n | G1: [Tl] (ppb) | H1: d13C(org) | I1: TOC | J1: DOP | K1: MnO2 | L1: Mn (ppm) | M1: Fe2O3 | N1: Fe (wt%) | O1: Al2O3 | P1: Al (wt%) | Q1: Ref
A2: SN 6-4 | B2: GH-1 | C2: 763 | D2: -2.2977446 | E2: 0.033387893 | F2: 2 | G2: 6.014 | H2: -27.533086 | I2: 1.8488176 | J2: 0.47229105 | K2: 0.032443816 | L2: =K2*0.6319*10000 -> 205.01247 | M2: 4.86415 | N2: =M2*69.94 -> 340.19865 | O2: 10.293439 | P2: =O2*0.5293 -> 5.4483175 | Q2: I-P from Algeo et al. 2011
A3: SN 6-5 | B3: GH-2 | C3: 759 | D3: -1.764941 | E3: 0.43381571 | F3: 2 | G3: 7.645 | H3: -27.480047 | I3: 1.0794728 | J3: 0.68510873 | K3: 0.035380693 | L3: =K3*0.6319*10000 -> 223.5706 | M3: 4.9340878 | N3: =M3*69.94 -> 345.0901 | O3: 12.542241 | P3: =O3*0.5293 -> 6.6386083 | Q3: ""
A4: SN 3-1 | B4: GH-3 | C4: 749 | D4: -1.8184806 | E4: 0.22525772 | F4: 3 | G4: 31.482767 | H4: -26.59245 | I4: 1.0549733 | J4: 0.49318579 | K4: 0.031116222 | L4: =K4*0.6319*10000 -> 196.62341 | M4: 3.0281406 | N4: =M4*69.94 -> 211.78815 | O4: 10.869175 | P4: =O4*0.5293 -> 5.7530544 | Q4: ""
A5: SN 6-7 | B5: GH-4 | C5: 746 | D5: -2.4231625 | E5: 0.17885201 | F5: 2 | G5: 3.514 | H5: -27.035022 | I5: 1.2981759 | J5: 0.50101342 | K5: 0.031912125 | L5: =K5*0.6319*10000 -> 201.65272 | M5: 4.428795 | N5: =M5*69.94 -> 309.74992 | O5: 12.455591 | P5: =O5*0.5293 -> 6.5927441 | Q5: ""
A6: SN 6-8 | B6: GH-5 | C6: 741 | D6: -1.8946895 | E6: 0.38805896 | F6: 2 | G6: 8.386 | H6: -27.338001 | I6: 1.8736159 | J6: 0.48465662 | K6: 0.027120876 | L6: =K6*0.6319*10000 -> 171.37681 | M6: 4.0760097 | N6: =M6*69.94 -> 285.07612 | O6: 10.789312 | P6: =O6*0.5293 -> 5.710783 | Q6: ""
A7: SN 6-9 | B7: GH-6 | C7: 737 | D7: -3.0677233 | E7: 0.32851708 | F7: 3 | G7: 6.304 | H7: -27.137379 | I7: 0.56757225 | J7: 0.71132733 | K7: 0.043206947 | L7: =K7*0.6319*10000 -> 273.0247 | M7: 5.4171948 | N7: =M7*69.94 -> 378.8786 | O7: 10.534726 | P7: =O7*0.5293 -> 5.5760306 | Q7: ""
A8: SN 6-10 | B8: GH-7 | C8: 733 | D8: -1.6446534 | E8: 0.31185775 | F8: 2 | G8: 6.982 | H8: -26.622767 | I8: 2.0389378 | J8: 0.36396447 | K8: 0.021209938 | L8: =K8*0.6319*10000 -> 134.0256 | M8: 3.4015578 | N8: =M8*69.94 -> 237.90495 | O8: 8.7971978 | P8: =O8*0.5293 -> 4.6563568 | Q8: ""
A9: SN 6-11 | B9: GH-8 | C9: 729 | D9: -1.6831801 | E9: 0.10021455 | F9: 2 | G9: 13.58 | H9: -26.237935 | I9: 0.77522063 | J9: 0.64173691 | K9: 0.032171812 | L9: =K9*0.6319*10000 -> 203.29368 | M9: 3.8935631 | N9: =M9*69.94 -> 272.31581 | O9: 10.755872 | P9: =O9*0.5293 -> 5.693083 | Q9: ""
A10: SN 6-12 | B10: GH-9 | C10: 724 | D10: -1.2217041 | E10: 0.13860812 | F10: 3 | G10: 5.921 | H10: -27.161133 | I10: 0.74076196 | J10: 0.54229946 | K10: 0.030527388 | L10: =K10*0.6319*10000 -> 192.90256 | M10: 4.4334089 | N10: =M10*69.94 -> 310.07262 | O10: 7.3258159 | P10: =O10*0.5293 -> 3.8775544 | Q10: ""
A11: SN 4-1 | B11: GH-10 | C11: 719 | D11: -3.9917843 | E11: 0.10942467 | F11: 3 | G11: 0.038075719 | H11: -27.874255 | I11: 1.4318277 | J11: 0.65545585 | K11: 0.025998979 | L11: =K11*0.6319*10000 -> 164.28755 | M11: 3.4409632 | N11: =M11*69.94 -> 240.66097 | O11: 9.0687832 | P11: =O11*0.5293 -> 4.8001069 | Q11: ""
A12: SN 6-13 | B12: GH-11 | C12: 713 | D12: -2.1360574 | E12: 0.23787467 | F12: 2 | G12: 6.535 | H12: -27.767291 | I12: 1.5262405 | J12: 0.41903906 | K12: 0.022206002 | L12: =K12*0.6319*10000 -> 140.31972 | M12: 3.4426953 | N12: =M12*69.94 -> 240.78211 | O12: 8.7040432 | P12: =O12*0.5293 -> 4.6070501 | Q12: ""
A13: SN 6-14 | B13: GH-12 | C13: 710 | D13: -2.4379805 | E13: 0.20527126 | F13: 2 | G13: 7.66 | H13: -27.710311 | I13: 1.324966 | J13: 0.63191462 | K13: 0.023155926 | L13: =K13*0.6319*10000 -> 146.3223 | M13: 3.6610345 | N13: =M13*69.94 -> 256.05276 | O13: 8.501844 | P13: =O13*0.5293 -> 4.500026 | Q13: ""
... A18: SN 3-3 | B18: GH-18 | C18: 683 | D18: -1.5364319 | E18: 0.040267805 | F18: 2 | G18: 1.1125689 | H18: -25.704437 | I18: 0.21392265 | J18: 0.47012301 | K18: 0.010138617 | L18: =K18*0.6319*10000 -> 64.06592 | M18: 2.1697588 | N18: =M18*69.94 -> 151.75293 | O18: 4.476531 | P18: =O18*0.5293 -> 2.3694279 | Q18: ""
A19: SN 4-3 | B19: GH-25 | C19: 644 | D19: -2.8287516 | E19: 0.10817796 | F19: 3 | G19: 0.14934178 | H19: -27.25 | I19: 0.26451516 | J19: - | K19: 0.010573265 | L19: =K19*0.6319*10000 -> 66.81246 | M19: 2.660396 | N19: =M19*69.94 -> 186.0681 | O19: 0.66212671 | P19: =O19*0.5293 -> 0.35046367 | Q19: ""
A20: SN 4-4 | B20: GH-29 | C20: 603 | D20: -3.2591916 | E20: 0.022358403 | F20: 2 | G20: 0.016162087 | H20: -25.785616 | I20: 0.19848596 | J20: - | K20: 0.0048810806 | L20: =K20*0.6319*10000 -> 30.843548 | M20: 1.2301945 | N20: =M20*69.94 -> 86.039803 | O20: 0.5 | P20: =O20*0.5293 -> 0.26465 | Q20: ""
A21: SN 4-5 | B21: GH-40 | C21: 480 | D21: -2.7746261 | E21: 0.23465652 | F21: 2 | G21: 0.015618308 | H21: -26.75785 | I21: 0.29787833 | J21: - | K21: 0.0066737613 | L21: =K21*0.6319*10000 -> 42.171498 | M21: 1.4145887 | N21: =M21*69.94 -> 98.936337 | O21: 0.77163596 | P21: =O21*0.5293 -> 0.40842691 | Q21: ""
A22: SN 4-6 | B22: GH-70 | C22: 273 | D22: -3.5312153 | E22: 0.57916126 | F22: 3 | G22: 0.027821487 | H22: -28.021629 | I22: 0.14390979 | J22: - | K22: 0.0085694811 | L22: =K22*0.6319*10000 -> 54.150551 | M22: 2.4869915 | N22: =M22*69.94 -> 173.94019 | O22: 2.9271782 | P22: =O22*0.5293 -> 1.5493554 | Q22: ""
A23: SN 3-4 | B23: GH-99 | C23: 22 | D23: -4.0626704 | E23: 0.36786313 | F23: 2 | G23: 0.030520842 | H23: -22.4246 | I23: 0.16591952 | J23: - | K23: 0.020681481 | L23: =K23*0.6319*10000 -> 130.68628 | M23: 8.8576403 | N23: =M23*69.94 -> 619.50336 | O23: 1.61794 | P23: =O23*0.5293 -> 0.85637566 | Q23: ""
A24: SN 3-5 | B24: UB-1 | C24: 5 | D24: -1.5226257 | E24: 0.23518416 | F24: 3 | G24: 0.76548594 | H24: -27.890676 | I24: 0.32163224 | J24: 0.41565865 | K24: 0.016797698 | L24: =K24*0.6319*10000 -> 106.14465 | M24: 2.1937792 | N24: =M24*69.94 -> 153.43291 | O24: 3.8821262 | P24: =O24*0.5293 -> 2.0548094 | Q24: ""
A25: SN 5-1 | B25: UB-8 | C25: 54 | D25: -1.5129149 | E25: 0.2936925 | F25: 4 | G25: 0.049421437 | H25: -29.245504 | I25: 0.13805864 | J25: 0.47559928 | K25: 0.013978696 | L25: =K25*0.6319*10000 -> 88.331379 | M25: 2.0986507 | N25: =M25*69.94 -> 146.77963 | O25: 4.4253676 | P25: =O25*0.5293 -> 2.3423471 | Q25: ""
A26: SN 6-17 | B26: UB-10 | C26: 62.5 | D26: -2.5060365 | E26: 0.48811056 | F26: 3 | G26: 1.876 | H26: -28.149326 | I26: 0.13987521 | J26: 0.67113745 | K26: 0.019618179 | L26: =K26*0.6319*10000 -> 123.96728 | M26: 2.5395739 | N26: =M26*69.94 -> 177.6178 | O26: 5.3659948 | P26: =O26*0.5293 -> 2.8402211 | Q26: ""
A27: SN 6-18 | B27: UB-11 | C27: 67.5 | D27: -2.478353 | E27: 0.43133195 | F27: 3 | G27: 1.917 | H27: -29.57516 | I27: 0.10233294 | J27: 0.46801396 | K27: 0.026940412 | L27: =K27*0.6319*10000 -> 170.23646 | M27: 2.512495 | N27: =M27*69.94 -> 175.7239 | O27: 5.0828997 | P27: =O27*0.5293 -> 2.6903788 | Q27: ""
A28: SN 6-19 | B28: UB-12 | C28: 69.8 | D28: -2.124845 | E28: 0.3535826 | F28: 2 | G28: 2.573 | H28: -28.453253 | I28: 0.12049855 | J28: 0.62052516 | K28: 0.037644274 | L28: =K28*0.6319*10000 -> 237.87416 | M28: 2.152678 | N28: =M28*69.94 -> 150.5583 | O28: 4.8895026 | P28: =O28*0.5293 -> 2.5880137 | Q28: ""
A29: SN 6-20 | B29: UB-13 | C29: 73.8 | D29: -3.115919 | E29: 0.41685611 | F29: 2 | G29: 1.729 | H29: -28.572287 | I29: 0.090222535 | J29: 0.575283 | K29: 0.11029494 | L29: =K29*0.6319*10000 -> 696.95375 | M29: 3.2145219 | N29: =M29*69.94 -> 224.82366 | O29: 5.7090938 | P29: =O29*0.5293 -> 3.0218233 | Q29: ""
A30: SN 5-2 | B30: UB-14 | C30: 77.8 | D30: -3.3439388 | E30: 0.088922954 | F30: 4 | G30: 0.06187882 | H30: -31.318749 | I30: 0.16409602 | J30: 0.31638921 | K30: 0.36538914 | L30: =K30*0.6319*10000 -> 2308.894 | M30: 3.5669027 | N30: =M30*69.94 -> 249.46917 | O30: 1.3345201 | P30: =O30*0.5293 -> 0.70636149 | Q30: ""
A31: SN 5-3 | B31: UB-15 | C31: 82.8 | D31: -2.6105701 | E31: 0.048932108 | F31: 2 | G31: 1.854 | H31: -28.083843 | I31: 0.09869982 | J31: 0.60757129 | K31: 0.033767188 | L31: =K31*0.6319*10000 -> 213.37486 | M31: 2.719443 | N31: =M31*69.94 -> 190.19784 | O31: 7.0264513 | P31: =O31*0.5293 -> 3.7191007 | Q31: ""
A32: SN 3-6 | B32: UB-16 | C32: 90.8 | D32: -2.5361456 | E32: 0.46440559 | F32: 3 | G32: 0.28080357 | H32: -28.325452 | I32: 0.088910574 | J32: 0.65503446 | K32: 0.03651645 | L32: =K32*0.6319*10000 -> 230.74745 | M32: 2.893757 | N32: =M32*69.94 -> 202.38937 | O32: 8.5230532 | P32: =O32*0.5293 -> 4.5112521 | Q32: ""
A33: SN 3-7 | B33: UB-17 | C33: 91.8 | D33: -6.5077704 | E33: 0.15531057 | F33: 3 | G33: 11.052421 | H33: - | I33: 0.19033524 | J33: 0.7520617 | K33: 0.042529755 | L33: =K33*0.6319*10000 -> 268.74552 | M33: 20.51378 | N33: =M33*69.94 -> 1434.7337 | O33: 3.6598829 | P33: =O33*0.5293 -> 1.937176 | Q33: ""
A34: SN 6-22 | B34: UB-18 | C34: 103.8 | D34: -4.4228209 | E34: 0.25397269 | F34: 2 | G34: 3.3 | H34: -27.928749 | I34: 0.099305341 | J34: 0.21231449 | K34: 0.03980978 | L34: =K34*0.6319*10000 -> 251.558 | M34: 4.659676 | N34: =M34*69.94 -> 325.89774 | O34: 10.821912 | P34: =O34*0.5293 -> 5.7280381 | Q34: ""
A35: SN 6-23 | B35: UB-19 | C35: 107.8 | D35: -3.1599219 | E35: 0.26232397 | F35: 3 | G35: 6.032 | H35: -28.374734 | I35: 0.095268538 | J35: 0.74142164 | K35: 0.027205046 | L35: =K35*0.6319*10000 -> 171.90868 | M35: 4.6335853 | N35: =M35*69.94 -> 324.07296 | O35: 9.0739459 | P35: =O35*0.5293 -> 4.8028396 | Q35: ""
A36: SN 5-4 | B36: UB-20 | C36: 111.8 | D36: -0.78754348 | E36: 0.10850334 | F36: 2 | G36: 2.3431896 | H36: -30.152395 | I36: 0.73308333 | J36: 0.74363944 | K36: 0.022930747 | L36: =K36*0.6319*10000 -> 144.89939 | M36: 4.2794448 | N36: =M36*69.94 -> 299.30437 | O36: 8.7342328 | P36: =O36*0.5293 -> 4.6230294 | Q36: ""
A37: SN 6-24 | B37: UB-21 | C37: 116.8 | D37: -0.79247851 | E37: 0.31715014 | F37: 4 | G37: 19.69 | H37: -29.381888 | I37: 0.7249088 | J37: 0.59572059 | K37: 0.026810769 | L37: =K37*0.6319*10000 -> 169.41725 | M37: 1.9136215 | N37: =M37*69.94 -> 133.83869 | O37: 8.3130843 | P37: =O37*0.5293 -> 4.4001155 | Q37: ""
A38: SN 5-5 | B38: UB-22 | C38: 118.8 | D38: -0.86340425 | E38: 0.41898751 | F38: 4 | G38: 4.555402 | H38: -29.18594 | I38: 1.1255614 | J38: 0.7175278 | K38: 0.018957482 | L38: =K38*0.6319*10000 -> 119.79233 | M38: 3.9973155 | N38: =M38*69.94 -> 279.57225 | O38: 8.628897 | P38: =O38*0.5293 -> 4.5672752 | Q38: ""
A39: SN 5-6 | B39: UB-24 | C39: 127.8 | D39: -1.7058542 | E39: 0.20341631 | F39: 2 | G39: 1.9134916 | H39: -28.504144 | I39: 0.45434212 | J39: 0.69055397 | K39: 0.024476805 | L39: =K39*0.6319*10000 -> 154.66893 | M39: 2.0435424 | N39: =M39*69.94 -> 142.92535 | O39: 9.3579561 | P39: =O39*0.5293 -> 4.9531662 | Q39: ""
A40: SN 3-8 | B40: UB-25 | C40: 133.8 | D40: -0.86541506 | E40: 0.078434405 | F40: 3 | G40: 18.522676 | H40: -29.899426 | I40: 0.51035275 | J40: 0.4981985 | K40: 0.018975573 | L40: =K40*0.6319*10000 -> 119.90664 | M40: 3.7812386 | N40: =M40*69.94 -> 264.45983 | O40: 9.8748353 | P40: =O40*0.5293 -> 5.2267503 | Q40: ""
A41: SN 10-4 | B41: OCX -210 | C41: -210 | D41: - | E41: - | F41: - | G41: - | H41: - | I41: - | J41: - | K41: - | L41: - | M41: - | N41: - | O41: - | P41: - | Q41: H-P from Schoepfer et al 2013
A42: SN 10-5 | B42: OCX -150 | C42: -150 | D42: -7.2650004 | E42: 0.17682031 | F42: 2 | G42: - | H42: - | I42: - | J42: - | K42: - | L42: - | M42: - | N42: - | O42: - | P42: - | Q42: ""
A43: SN 10-6 | B43: OCX -70 | C43: -70 | D43: -6.1773011 | E43: 0.15715904 | F43: 3 | G43: - | H43: - | I43: - | J43: - | K43: - | L43: - | M43: - | N43: - | O43: - | P43: - | Q43: ""
A44: SN 10-7 | B44: OCX -4 | C44: -4 | D44: -5.5721111 | E44: 0.30907315 | F44: 2 | G44: - | H44: - | I44: - | J44: - | K44: - | L44: - | M44: - | N44: - | O44: - | P44: - | Q44: ""
...

Sheet Model Parameters
A1: Initial Parameters | E1: Testing Changes in Mn-oxide Burial
B2: Tl (moles) | C2: ε205Tl | E2: Test # | F2: Duration at steady state (kyr) | G2: Duration decreasing Mn-oxide burial (kyr) | H2: Duration at 20% Mn-oxide burial (kyr) | I2: Duration of increased Mn-oxide burial (kyr) | J2: Increased Mn-oxide burial flux (%) | K2: Duration at 20% Mn-oxide burial (kyr)
A3: Marine Reservoir | B3: 8.6 × 1010 | C3: -6
B4: Tl flux (moles/year) | C4: ε205Tl | E4: 0 | F4: 200 | G4: 1280 | H4: 20 | I4: ='Combined Results Key'!B2 -> 0 | J4: ='Combined Results Key'!C2 -> 0.2 | K4: =500-I4 -> 500
A5: Sources | B5: 484.3 × 104 | C5: -1.77 | E5: 1 | F5: 200 | G5: 1280 | H5: 20 | I5: ='Combined Results Key'!B3 -> 1 | J5: ='Combined Results Key'!C3 -> 14 | K5: =500-I5 -> 499
A6: Mn-oxide Burial | B6: 151.7 × 104 | C6: 16 | E6: 2 | F6: 200 | G6: 1280 | H6: 20 | I6: ='Combined Results Key'!B4 -> 5 | J6: ='Combined Results Key'!C4 -> 3.25 | K6: =500-I6 -> 495
A7: Altered Oceanic Crust | B7: 332.7 × 104 | C7: -7.14 | E7: 3 | F7: 200 | G7: 1280 | H7: 20 | I7: ='Combined Results Key'!B5 -> 10 | J7: ='Combined Results Key'!C5 -> 2 | K7: =500-I7 -> 490
E8: 4 | F8: 200 | G8: 1280 | H8: 20 | I8: ='Combined Results Key'!B6 -> 20 | J8: ='Combined Results Key'!C6 -> 1.3 | K8: =500-I8 -> 480
E9: 5 | F9: 200 | G9: 1280 | H9: 20 | I9: ='Combined Results Key'!B7 -> 50 | J9: ='Combined Results Key'!C7 -> 1 | K9: =500-I9 -> 450

Sheet Test0
A1: Time (myr) | B1: Mn oxide | C1: AOC | D1: Ocean Reservoir | E1: Change in Ocean Isotopes | F1: Ocean Isotopes | H1: Parameters
A2: 0 | B2: 151.7 | C2: 332.7 | D2: 8.6 | E2: 0 | F2: -6 | H2: Total Time | I2: 2myr
A3: 0.001 | B3: 151.7 | C3: 332.7 | D3: 8.6 | E3: 0 | F3: -6 | H3: Integration Intervals | I3: 0.001myr
A4: 0.002 | B4: 151.7 | C4: 332.7 | D4: 8.6 | E4: 0 | F4: -6 | H4: Steady State Maintained for | I4: 0.000-0.500myr | J4: at e205Tl = -6 (100% Mn-oxide burial)
A5: 0.003 | B5: 151.7 | C5: 332.7 | D5: 8.6 | E5: 0 | F5: -6 | H5: Steady Decrease in Mn-oxide burial | I5: 0.501-1.480myr | J5: at -0.0625% per integration interval (ends at 20% Mn-oxide burial)
A6: 0.004 | B6: 151.7 | C6: 332.7 | D6: 8.6 | E6: 0 | F6: -6 | H6: Reoxygenation | I6: -
A7: 0.005 | B7: 151.7 | C7: 332.7 | D7: 8.6 | E7: 0 | F7: -6 | H7: Low Mn-oxide maintained | I7: 1.500-2.000myr | J7: 20% Mn-oxide burial
A8: 0.006 | B8: 151.7 | C8: 332.7 | D8: 8.6 | E8: 0 | F8: -6
A9: 0.007 | B9: 151.7 | C9: 332.7 | D9: 8.6 | E9: 0 | F9: -6
A10: 0.008 | B10: 151.7 | C10: 332.7 | D10: 8.6 | E10: 0 | F10: -6
A11: 0.009 | B11: 151.7 | C11: 332.7 | D11: 8.6 | E11: 0 | F11: -6
A12: 0.01 | B12: 151.7 | C12: 332.7 | D12: 8.6 | E12: 0 | F12: -6
A13: 0.011 | B13: 151.7 | C13: 332.7 | D13: 8.6 | E13: 0 | F13: -6
A14: 0.012 | B14: 151.7 | C14: 332.7 | D14: 8.6 | E14: 0 | F14: -6
A15: 0.013 | B15: 151.7 | C15: 332.7 | D15: 8.6 | E15: 0 | F15: -6
A16: 0.014 | B16: 151.7 | C16: 332.7 | D16: 8.6 | E16: 0 | F16: -6
A17: 0.015 | B17: 151.7 | C17: 332.7 | D17: 8.6 | E17: 0 | F17: -6
A18: 0.016 | B18: 151.7 | C18: 332.7 | D18: 8.6 | E18: 0 | F18: -6
A19: 0.017 | B19: 151.7 | C19: 332.7 | D19: 8.6 | E19: 0 | F19: -6
... A23: 0.021 | B23: 151.7 | C23: 332.7 | D23: 8.6 | E23: 0 | F23: -6
A24: 0.022 | B24: 151.7 | C24: 332.7 | D24: 8.6 | E24: 0 | F24: -6 | H24: Duration of oxic seafloor (kyr) | I24: 0
A25: 0.023 | B25: 151.7 | C25: 332.7 | D25: 8.6 | E25: 0 | F25: -6 | H25: x Mn-oxide burial | I25: 0.2
A26: 0.024 | B26: 151.7 | C26: 332.7 | D26: 8.6 | E26: 0 | F26: -6 | H26: Min Tl value | I26: =MIN(F1500:F1600) -> -2.11
A27: 0.025 | B27: 151.7 | C27: 332.7 | D27: 8.6 | E27: 0 | F27: -6 | H27: Duration of excursion (kyr) | I27: =COUNTIF(F1500:F1700,"<-2.3") -> 0
A28: 0.026 | B28: 151.7 | C28: 332.7 | D28: 8.6 | E28: 0 | F28: -6
A29: 0.027 | B29: 151.7 | C29: 332.7 | D29: 8.6 | E29: 0 | F29: -6
A30: 0.028 | B30: 151.7 | C30: 332.7 | D30: 8.6 | E30: 0 | F30: -6
A31: 0.029 | B31: 151.7 | C31: 332.7 | D31: 8.6 | E31: 0 | F31: -6
A32: 0.03 | B32: 151.7 | C32: 332.7 | D32: 8.6 | E32: 0 | F32: -6
A33: 0.031 | B33: 151.7 | C33: 332.7 | D33: 8.6 | E33: 0 | F33: -6
A34: 0.032 | B34: 151.7 | C34: 332.7 | D34: 8.6 | E34: 0 | F34: -6
A35: 0.033 | B35: 151.7 | C35: 332.7 | D35: 8.6 | E35: 0 | F35: -6
A36: 0.034 | B36: 151.7 | C36: 332.7 | D36: 8.6 | E36: 0 | F36: -6
A37: 0.035 | B37: 151.7 | C37: 332.7 | D37: 8.6 | E37: 0 | F37: -6
A38: 0.036 | B38: 151.7 | C38: 332.7 | D38: 8.6 | E38: 0 | F38: -6
A39: 0.037 | B39: 151.7 | C39: 332.7 | D39: 8.6 | E39: 0 | F39: -6
... A2001: 1.999 | B2001: 40.48 | C2001: 443.92 | D2001: 11.47 | E2001: 0 | F2001: -2.06
A2002: 2 | D2002: 11.47 | F2002: -2.06

Sheet Test1
A1: Time (myr) | B1: Mn oxide | C1: AOC | D1: Ocean Reservoir | E1: Change in Ocean Isotopes | F1: Ocean Isotopes | H1: Parameters
A2: 0 | B2: 151.7 | C2: 332.7 | D2: 8.6 | E2: 0 | F2: -6 | H2: Total Time | I2: 2myr
A3: 0.001 | B3: 151.7 | C3: 332.7 | D3: 8.6 | E3: 0 | F3: -6 | H3: Integration Intervals | I3: 0.001myr
A4: 0.002 | B4: 151.7 | C4: 332.7 | D4: 8.6 | E4: 0 | F4: -6 | H4: Steady State Maintained for | I4: 0.000-0.500myr | J4: at e205Tl = -6 (100% Mn-oxide burial)
A5: 0.003 | B5: 151.7 | C5: 332.7 | D5: 8.6 | E5: 0 | F5: -6 | H5: Steady Decrease in Mn-oxide burial | I5: 0.501-1.480myr | J5: at -0.0625% per integration interval (ends at 20% Mn-oxide burial)
A6: 0.004 | B6: 151.7 | C6: 332.7 | D6: 8.6 | E6: 0 | F6: -6 | H6: Reoxygenation | I6: 1.500-1.500myr | J6: 1400% Mn-oxide burial for 1 interval
A7: 0.005 | B7: 151.7 | C7: 332.7 | D7: 8.6 | E7: 0 | F7: -6 | H7: Low Mn-oxide maintained | I7: 1.300-2.000myr | J7: 20% Mn-oxide burial
A8: 0.006 | B8: 151.7 | C8: 332.7 | D8: 8.6 | E8: 0 | F8: -6
A9: 0.007 | B9: 151.7 | C9: 332.7 | D9: 8.6 | E9: 0 | F9: -6
A10: 0.008 | B10: 151.7 | C10: 332.7 | D10: 8.6 | E10: 0 | F10: -6
A11: 0.009 | B11: 151.7 | C11: 332.7 | D11: 8.6 | E11: 0 | F11: -6
A12: 0.01 | B12: 151.7 | C12: 332.7 | D12: 8.6 | E12: 0 | F12: -6
A13: 0.011 | B13: 151.7 | C13: 332.7 | D13: 8.6 | E13: 0 | F13: -6
A14: 0.012 | B14: 151.7 | C14: 332.7 | D14: 8.6 | E14: 0 | F14: -6
A15: 0.013 | B15: 151.7 | C15: 332.7 | D15: 8.6 | E15: 0 | F15: -6
A16: 0.014 | B16: 151.7 | C16: 332.7 | D16: 8.6 | E16: 0 | F16: -6
A17: 0.015 | B17: 151.7 | C17: 332.7 | D17: 8.6 | E17: 0 | F17: -6
A18: 0.016 | B18: 151.7 | C18: 332.7 | D18: 8.6 | E18: 0 | F18: -6
A19: 0.017 | B19: 151.7 | C19: 332.7 | D19: 8.6 | E19: 0 | F19: -6
... A23: 0.021 | B23: 151.7 | C23: 332.7 | D23: 8.6 | E23: 0 | F23: -6
A24: 0.022 | B24: 151.7 | C24: 332.7 | D24: 8.6 | E24: 0 | F24: -6 | H24: Duration of oxic seafloor (kyr) | I24: 1
A25: 0.023 | B25: 151.7 | C25: 332.7 | D25: 8.6 | E25: 0 | F25: -6 | H25: x Mn-oxide burial | I25: 14
A26: 0.024 | B26: 151.7 | C26: 332.7 | D26: 8.6 | E26: 0 | F26: -6 | H26: Min Tl value | I26: =MIN(F1500:F1600) -> -6
A27: 0.025 | B27: 151.7 | C27: 332.7 | D27: 8.6 | E27: 0 | F27: -6 | H27: Duration of excursion (kyr) | I27: =COUNTIF(F1500:F1700,"<-2.3") -> 57
A28: 0.026 | B28: 151.7 | C28: 332.7 | D28: 8.6 | E28: 0 | F28: -6
A29: 0.027 | B29: 151.7 | C29: 332.7 | D29: 8.6 | E29: 0 | F29: -6
A30: 0.028 | B30: 151.7 | C30: 332.7 | D30: 8.6 | E30: 0 | F30: -6
A31: 0.029 | B31: 151.7 | C31: 332.7 | D31: 8.6 | E31: 0 | F31: -6
A32: 0.03 | B32: 151.7 | C32: 332.7 | D32: 8.6 | E32: 0 | F32: -6
A33: 0.031 | B33: 151.7 | C33: 332.7 | D33: 8.6 | E33: 0 | F33: -6
A34: 0.032 | B34: 151.7 | C34: 332.7 | D34: 8.6 | E34: 0 | F34: -6
A35: 0.033 | B35: 151.7 | C35: 332.7 | D35: 8.6 | E35: 0 | F35: -6
A36: 0.034 | B36: 151.7 | C36: 332.7 | D36: 8.6 | E36: 0 | F36: -6
A37: 0.035 | B37: 151.7 | C37: 332.7 | D37: 8.6 | E37: 0 | F37: -6
A38: 0.036 | B38: 151.7 | C38: 332.7 | D38: 8.6 | E38: 0 | F38: -6
A39: 0.037 | B39: 151.7 | C39: 332.7 | D39: 8.6 | E39: 0 | F39: -6
... A2001: 1.999 | B2001: 40.48 | C2001: 443.92 | D2001: 11.47 | E2001: 0 | F2001: -2.06
A2002: 2 | D2002: 11.47 | F2002: -2.06

Sheet Test2
A1: Time (myr) | B1: Mn oxide | C1: AOC | D1: Ocean Reservoir | E1: Change in Ocean Isotopes | F1: Ocean Isotopes | H1: Parameters
A2: 0 | B2: 151.7 | C2: 332.7 | D2: 8.6 | E2: 0 | F2: -6 | H2: Total Time | I2: 2myr
A3: 0.001 | B3: 151.7 | C3: 332.7 | D3: 8.6 | E3: 0 | F3: -6 | H3: Integration Intervals | I3: 0.001myr
A4: 0.002 | B4: 151.7 | C4: 332.7 | D4: 8.6 | E4: 0 | F4: -6 | H4: Steady State Maintained for | I4: 0.000-0.500myr | J4: at e205Tl = -6 (100% Mn-oxide burial)
A5: 0.003 | B5: 151.7 | C5: 332.7 | D5: 8.6 | E5: 0 | F5: -6 | H5: Steady Decrease in Mn-oxide burial | I5: 0.501-1.480myr | J5: at -0.0625% per integration interval (ends at 20% Mn-oxide burial)
A6: 0.004 | B6: 151.7 | C6: 332.7 | D6: 8.6 | E6: 0 | F6: -6 | H6: Reoxygenation | I6: 1.500-1.504 | J6: 325% Mn-oxide burial for 5 intervals
A7: 0.005 | B7: 151.7 | C7: 332.7 | D7: 8.6 | E7: 0 | F7: -6 | H7: Low Mn-oxide maintained | I7: 1.300-2.000myr | J7: 20% Mn-oxide burial
A8: 0.006 | B8: 151.7 | C8: 332.7 | D8: 8.6 | E8: 0 | F8: -6
A9: 0.007 | B9: 151.7 | C9: 332.7 | D9: 8.6 | E9: 0 | F9: -6
A10: 0.008 | B10: 151.7 | C10: 332.7 | D10: 8.6 | E10: 0 | F10: -6
A11: 0.009 | B11: 151.7 | C11: 332.7 | D11: 8.6 | E11: 0 | F11: -6
A12: 0.01 | B12: 151.7 | C12: 332.7 | D12: 8.6 | E12: 0 | F12: -6
A13: 0.011 | B13: 151.7 | C13: 332.7 | D13: 8.6 | E13: 0 | F13: -6
A14: 0.012 | B14: 151.7 | C14: 332.7 | D14: 8.6 | E14: 0 | F14: -6
A15: 0.013 | B15: 151.7 | C15: 332.7 | D15: 8.6 | E15: 0 | F15: -6
A16: 0.014 | B16: 151.7 | C16: 332.7 | D16: 8.6 | E16: 0 | F16: -6
A17: 0.015 | B17: 151.7 | C17: 332.7 | D17: 8.6 | E17: 0 | F17: -6
A18: 0.016 | B18: 151.7 | C18: 332.7 | D18: 8.6 | E18: 0 | F18: -6
A19: 0.017 | B19: 151.7 | C19: 332.7 | D19: 8.6 | E19: 0 | F19: -6
... A23: 0.021 | B23: 151.7 | C23: 332.7 | D23: 8.6 | E23: 0 | F23: -6
A24: 0.022 | B24: 151.7 | C24: 332.7 | D24: 8.6 | E24: 0 | F24: -6 | H24: Duration of oxic seafloor (kyr) | I24: 5
A25: 0.023 | B25: 151.7 | C25: 332.7 | D25: 8.6 | E25: 0 | F25: -6 | H25: x Mn-oxide burial | I25: 3.25
A26: 0.024 | B26: 151.7 | C26: 332.7 | D26: 8.6 | E26: 0 | F26: -6 | H26: Min Tl value | I26: =MIN(F1500:F1600) -> -5.99
A27: 0.025 | B27: 151.7 | C27: 332.7 | D27: 8.6 | E27: 0 | F27: -6 | H27: Duration of excursion (kyr) | I27: =COUNTIF(F1500:F1700,"<-2.3") -> 62
A28: 0.026 | B28: 151.7 | C28: 332.7 | D28: 8.6 | E28: 0 | F28: -6
A29: 0.027 | B29: 151.7 | C29: 332.7 | D29: 8.6 | E29: 0 | F29: -6
A30: 0.028 | B30: 151.7 | C30: 332.7 | D30: 8.6 | E30: 0 | F30: -6
A31: 0.029 | B31: 151.7 | C31: 332.7 | D31: 8.6 | E31: 0 | F31: -6
A32: 0.03 | B32: 151.7 | C32: 332.7 | D32: 8.6 | E32: 0 | F32: -6
A33: 0.031 | B33: 151.7 | C33: 332.7 | D33: 8.6 | E33: 0 | F33: -6
A34: 0.032 | B34: 151.7 | C34: 332.7 | D34: 8.6 | E34: 0 | F34: -6
A35: 0.033 | B35: 151.7 | C35: 332.7 | D35: 8.6 | E35: 0 | F35: -6
A36: 0.034 | B36: 151.7 | C36: 332.7 | D36: 8.6 | E36: 0 | F36: -6
A37: 0.035 | B37: 151.7 | C37: 332.7 | D37: 8.6 | E37: 0 | F37: -6
A38: 0.036 | B38: 151.7 | C38: 332.7 | D38: 8.6 | E38: 0 | F38: -6
A39: 0.037 | B39: 151.7 | C39: 332.7 | D39: 8.6 | E39: 0 | F39: -6
... A2001: 1.999 | B2001: 40.48 | C2001: 443.92 | D2001: 11.47 | E2001: 0 | F2001: -2.06
A2002: 2 | D2002: 11.47 | F2002: -2.06

Sheet Test3
A1: Time (myr) | B1: Mn oxide | C1: AOC | D1: Ocean Reservoir | E1: Change in Ocean Isotopes | F1: Ocean Isotopes | H1: Parameters
A2: 0 | B2: 151.7 | C2: 332.7 | D2: 8.6 | E2: 0 | F2: -6 | H2: Total Time | I2: 2myr
A3: 0.001 | B3: 151.7 | C3: 332.7 | D3: 8.6 | E3: 0 | F3: -6 | H3: Integration Intervals | I3: 0.001myr
A4: 0.002 | B4: 151.7 | C4: 332.7 | D4: 8.6 | E4: 0 | F4: -6 | H4: Steady State Maintained for | I4: 0.000-0.500myr | J4: at e205Tl = -6 (100% Mn-oxide burial)
A5: 0.003 | B5: 151.7 | C5: 332.7 | D5: 8.6 | E5: 0 | F5: -6 | H5: Steady Decrease in Mn-oxide burial | I5: 0.501-1.480myr | J5: at -0.0625% per integration interval (ends at 20% Mn-oxide burial)
A6: 0.004 | B6: 151.7 | C6: 332.7 | D6: 8.6 | E6: 0 | F6: -6 | H6: Reoxygenation | I6: 1.500-1.509 | J6: 200% Mn-oxide burial for 10 intervals
A7: 0.005 | B7: 151.7 | C7: 332.7 | D7: 8.6 | E7: 0 | F7: -6 | H7: Low Mn-oxide maintained | I7: 1.300-2.000myr | J7: 20% Mn-oxide burial
A8: 0.006 | B8: 151.7 | C8: 332.7 | D8: 8.6 | E8: 0 | F8: -6
A9: 0.007 | B9: 151.7 | C9: 332.7 | D9: 8.6 | E9: 0 | F9: -6
A10: 0.008 | B10: 151.7 | C10: 332.7 | D10: 8.6 | E10: 0 | F10: -6
A11: 0.009 | B11: 151.7 | C11: 332.7 | D11: 8.6 | E11: 0 | F11: -6
A12: 0.01 | B12: 151.7 | C12: 332.7 | D12: 8.6 | E12: 0 | F12: -6
A13: 0.011 | B13: 151.7 | C13: 332.7 | D13: 8.6 | E13: 0 | F13: -6
A14: 0.012 | B14: 151.7 | C14: 332.7 | D14: 8.6 | E14: 0 | F14: -6
A15: 0.013 | B15: 151.7 | C15: 332.7 | D15: 8.6 | E15: 0 | F15: -6
A16: 0.014 | B16: 151.7 | C16: 332.7 | D16: 8.6 | E16: 0 | F16: -6
A17: 0.015 | B17: 151.7 | C17: 332.7 | D17: 8.6 | E17: 0 | F17: -6
A18: 0.016 | B18: 151.7 | C18: 332.7 | D18: 8.6 | E18: 0 | F18: -6
A19: 0.017 | B19: 151.7 | C19: 332.7 | D19: 8.6 | E19: 0 | F19: -6
... A23: 0.021 | B23: 151.7 | C23: 332.7 | D23: 8.6 | E23: 0 | F23: -6
A24: 0.022 | B24: 151.7 | C24: 332.7 | D24: 8.6 | E24: 0 | F24: -6 | H24: Duration of oxic seafloor (kyr) | I24: 10
A25: 0.023 | B25: 151.7 | C25: 332.7 | D25: 8.6 | E25: 0 | F25: -6 | H25: x Mn-oxide burial | I25: 2
A26: 0.024 | B26: 151.7 | C26: 332.7 | D26: 8.6 | E26: 0 | F26: -6 | H26: Min Tl value | I26: =MIN(F1400:F1600) -> -6.14
A27: 0.025 | B27: 151.7 | C27: 332.7 | D27: 8.6 | E27: 0 | F27: -6 | H27: Duration of excursion (kyr) | I27: =COUNTIF(F1500:F1700,"<-2.3") -> 68
A28: 0.026 | B28: 151.7 | C28: 332.7 | D28: 8.6 | E28: 0 | F28: -6
A29: 0.027 | B29: 151.7 | C29: 332.7 | D29: 8.6 | E29: 0 | F29: -6
A30: 0.028 | B30: 151.7 | C30: 332.7 | D30: 8.6 | E30: 0 | F30: -6
A31: 0.029 | B31: 151.7 | C31: 332.7 | D31: 8.6 | E31: 0 | F31: -6
A32: 0.03 | B32: 151.7 | C32: 332.7 | D32: 8.6 | E32: 0 | F32: -6
A33: 0.031 | B33: 151.7 | C33: 332.7 | D33: 8.6 | E33: 0 | F33: -6
A34: 0.032 | B34: 151.7 | C34: 332.7 | D34: 8.6 | E34: 0 | F34: -6
A35: 0.033 | B35: 151.7 | C35: 332.7 | D35: 8.6 | E35: 0 | F35: -6
A36: 0.034 | B36: 151.7 | C36: 332.7 | D36: 8.6 | E36: 0 | F36: -6
A37: 0.035 | B37: 151.7 | C37: 332.7 | D37: 8.6 | E37: 0 | F37: -6
A38: 0.036 | B38: 151.7 | C38: 332.7 | D38: 8.6 | E38: 0 | F38: -6
A39: 0.037 | B39: 151.7 | C39: 332.7 | D39: 8.6 | E39: 0 | F39: -6
... A2001: 1.999 | B2001: 40.48 | C2001: 443.92 | D2001: 11.47 | E2001: 0 | F2001: -2.06
A2002: 2 | D2002: 11.47 | F2002: -2.06

Sheet Test4
A1: Time (myr) | B1: Mn oxide | C1: AOC | D1: Ocean Reservoir | E1: Change in Ocean Isotopes | F1: Ocean Isotopes | H1: Parameters
A2: 0 | B2: 151.7 | C2: 332.7 | D2: 8.6 | E2: 0 | F2: -6 | H2: Total Time | I2: 2myr
A3: 0.001 | B3: 151.7 | C3: 332.7 | D3: 8.6 | E3: 0 | F3: -6 | H3: Integration Intervals | I3: 0.001myr
A4: 0.002 | B4: 151.7 | C4: 332.7 | D4: 8.6 | E4: 0 | F4: -6 | H4: Steady State Maintained for | I4: 0.000-0.500myr | J4: at e205Tl = -6 (100% Mn-oxide burial)
A5: 0.003 | B5: 151.7 | C5: 332.7 | D5: 8.6 | E5: 0 | F5: -6 | H5: Steady Decrease in Mn-oxide burial | I5: 0.501-1.480myr | J5: at -0.0625% per integration interval (ends at 20% Mn-oxide burial)
A6: 0.004 | B6: 151.7 | C6: 332.7 | D6: 8.6 | E6: 0 | F6: -6 | H6: Reoxygenation | I6: 1.500-1.519 | J6: 130% Mn-oxide burial for 20 intervals
A7: 0.005 | B7: 151.7 | C7: 332.7 | D7: 8.6 | E7: 0 | F7: -6 | H7: Low Mn-oxide maintained | I7: 1.300-2.000myr | J7: 20% Mn-oxide burial
A8: 0.006 | B8: 151.7 | C8: 332.7 | D8: 8.6 | E8: 0 | F8: -6
A9: 0.007 | B9: 151.7 | C9: 332.7 | D9: 8.6 | E9: 0 | F9: -6
A10: 0.008 | B10: 151.7 | C10: 332.7 | D10: 8.6 | E10: 0 | F10: -6
A11: 0.009 | B11: 151.7 | C11: 332.7 | D11: 8.6 | E11: 0 | F11: -6
A12: 0.01 | B12: 151.7 | C12: 332.7 | D12: 8.6 | E12: 0 | F12: -6
A13: 0.011 | B13: 151.7 | C13: 332.7 | D13: 8.6 | E13: 0 | F13: -6
A14: 0.012 | B14: 151.7 | C14: 332.7 | D14: 8.6 | E14: 0 | F14: -6
A15: 0.013 | B15: 151.7 | C15: 332.7 | D15: 8.6 | E15: 0 | F15: -6
A16: 0.014 | B16: 151.7 | C16: 332.7 | D16: 8.6 | E16: 0 | F16: -6
A17: 0.015 | B17: 151.7 | C17: 332.7 | D17: 8.6 | E17: 0 | F17: -6
A18: 0.016 | B18: 151.7 | C18: 332.7 | D18: 8.6 | E18: 0 | F18: -6
A19: 0.017 | B19: 151.7 | C19: 332.7 | D19: 8.6 | E19: 0 | F19: -6
... A23: 0.021 | B23: 151.7 | C23: 332.7 | D23: 8.6 | E23: 0 | F23: -6
A24: 0.022 | B24: 151.7 | C24: 332.7 | D24: 8.6 | E24: 0 | F24: -6 | H24: Duration of oxic seafloor (kyr) | I24: 20
A25: 0.023 | B25: 151.7 | C25: 332.7 | D25: 8.6 | E25: 0 | F25: -6 | H25: x Mn-oxide burial | I25: 1.3
A26: 0.024 | B26: 151.7 | C26: 332.7 | D26: 8.6 | E26: 0 | F26: -6 | H26: Min Tl value | I26: =MIN(F1400:F1600) -> -5.99
A27: 0.025 | B27: 151.7 | C27: 332.7 | D27: 8.6 | E27: 0 | F27: -6 | H27: Duration of excursion (kyr) | I27: =COUNTIF(F1500:F1700,"<-2.3") -> 77
A28: 0.026 | B28: 151.7 | C28: 332.7 | D28: 8.6 | E28: 0 | F28: -6
A29: 0.027 | B29: 151.7 | C29: 332.7 | D29: 8.6 | E29: 0 | F29: -6
A30: 0.028 | B30: 151.7 | C30: 332.7 | D30: 8.6 | E30: 0 | F30: -6
A31: 0.029 | B31: 151.7 | C31: 332.7 | D31: 8.6 | E31: 0 | F31: -6
A32: 0.03 | B32: 151.7 | C32: 332.7 | D32: 8.6 | E32: 0 | F32: -6
A33: 0.031 | B33: 151.7 | C33: 332.7 | D33: 8.6 | E33: 0 | F33: -6
A34: 0.032 | B34: 151.7 | C34: 332.7 | D34: 8.6 | E34: 0 | F34: -6
A35: 0.033 | B35: 151.7 | C35: 332.7 | D35: 8.6 | E35: 0 | F35: -6
A36: 0.034 | B36: 151.7 | C36: 332.7 | D36: 8.6 | E36: 0 | F36: -6
A37: 0.035 | B37: 151.7 | C37: 332.7 | D37: 8.6 | E37: 0 | F37: -6
A38: 0.036 | B38: 151.7 | C38: 332.7 | D38: 8.6 | E38: 0 | F38: -6
A39: 0.037 | B39: 151.7 | C39: 332.7 | D39: 8.6 | E39: 0 | F39: -6
... A2001: 1.999 | B2001: 40.48 | C2001: 443.92 | D2001: 11.47 | E2001: 0 | F2001: -2.06
A2002: 2 | D2002: 11.47 | F2002: -2.06

Sheet Test5
A1: Time (myr) | B1: Mn oxide | C1: AOC | D1: Ocean Reservoir | E1: Change in Ocean Isotopes | F1: Ocean Isotopes | H1: Parameters
A2: 0 | B2: 151.7 | C2: 332.7 | D2: 8.6 | E2: 0 | F2: -6 | H2: Total Time | I2: 2myr
A3: 0.001 | B3: 151.7 | C3: 332.7 | D3: 8.6 | E3: 0 | F3: -6 | H3: Integration Intervals | I3: 0.001myr
A4: 0.002 | B4: 151.7 | C4: 332.7 | D4: 8.6 | E4: 0 | F4: -6 | H4: Steady State Maintained for | I4: 0.000-0.500myr | J4: at e205Tl = -6 (100% Mn-oxide burial)
A5: 0.003 | B5: 151.7 | C5: 332.7 | D5: 8.6 | E5: 0 | F5: -6 | H5: Steady Decrease in Mn-oxide burial | I5: 0.501-1.480myr | J5: at -0.0625% per integration interval (ends at 20% Mn-oxide burial)
A6: 0.004 | B6: 151.7 | C6: 332.7 | D6: 8.6 | E6: 0 | F6: -6 | H6: Reoxygenation | I6: 1.500-1.549 | J6: 100% Mn-oxide burial for 50 intervals
A7: 0.005 | B7: 151.7 | C7: 332.7 | D7: 8.6 | E7: 0 | F7: -6 | H7: Low Mn-oxide maintained | I7: 1.300-2.000myr | J7: 20% Mn-oxide burial
A8: 0.006 | B8: 151.7 | C8: 332.7 | D8: 8.6 | E8: 0 | F8: -6
A9: 0.007 | B9: 151.7 | C9: 332.7 | D9: 8.6 | E9: 0 | F9: -6
A10: 0.008 | B10: 151.7 | C10: 332.7 | D10: 8.6 | E10: 0 | F10: -6
A11: 0.009 | B11: 151.7 | C11: 332.7 | D11: 8.6 | E11: 0 | F11: -6
A12: 0.01 | B12: 151.7 | C12: 332.7 | D12: 8.6 | E12: 0 | F12: -6
A13: 0.011 | B13: 151.7 | C13: 332.7 | D13: 8.6 | E13: 0 | F13: -6
A14: 0.012 | B14: 151.7 | C14: 332.7 | D14: 8.6 | E14: 0 | F14: -6
A15: 0.013 | B15: 151.7 | C15: 332.7 | D15: 8.6 | E15: 0 | F15: -6
A16: 0.014 | B16: 151.7 | C16: 332.7 | D16: 8.6 | E16: 0 | F16: -6
A17: 0.015 | B17: 151.7 | C17: 332.7 | D17: 8.6 | E17: 0 | F17: -6
A18: 0.016 | B18: 151.7 | C18: 332.7 | D18: 8.6 | E18: 0 | F18: -6
A19: 0.017 | B19: 151.7 | C19: 332.7 | D19: 8.6 | E19: 0 | F19: -6
... A23: 0.021 | B23: 151.7 | C23: 332.7 | D23: 8.6 | E23: 0 | F23: -6
A24: 0.022 | B24: 151.7 | C24: 332.7 | D24: 8.6 | E24: 0 | F24: -6 | H24: Duration of oxic seafloor (kyr) | I24: 50
A25: 0.023 | B25: 151.7 | C25: 332.7 | D25: 8.6 | E25: 0 | F25: -6 | H25: x Mn-oxide burial | I25: 1
A26: 0.024 | B26: 151.7 | C26: 332.7 | D26: 8.6 | E26: 0 | F26: -6 | H26: Min Tl value | I26: =MIN(F1500:F1600) -> -5.94
A27: 0.025 | B27: 151.7 | C27: 332.7 | D27: 8.6 | E27: 0 | F27: -6 | H27: Duration of excursion (kyr) | I27: =COUNTIF(F1500:F1700,"<-2.3") -> 106
A28: 0.026 | B28: 151.7 | C28: 332.7 | D28: 8.6 | E28: 0 | F28: -6
A29: 0.027 | B29: 151.7 | C29: 332.7 | D29: 8.6 | E29: 0 | F29: -6
A30: 0.028 | B30: 151.7 | C30: 332.7 | D30: 8.6 | E30: 0 | F30: -6
A31: 0.029 | B31: 151.7 | C31: 332.7 | D31: 8.6 | E31: 0 | F31: -6
A32: 0.03 | B32: 151.7 | C32: 332.7 | D32: 8.6 | E32: 0 | F32: -6
A33: 0.031 | B33: 151.7 | C33: 332.7 | D33: 8.6 | E33: 0 | F33: -6
A34: 0.032 | B34: 151.7 | C34: 332.7 | D34: 8.6 | E34: 0 | F34: -6
A35: 0.033 | B35: 151.7 | C35: 332.7 | D35: 8.6 | E35: 0 | F35: -6
A36: 0.034 | B36: 151.7 | C36: 332.7 | D36: 8.6 | E36: 0 | F36: -6
A37: 0.035 | B37: 151.7 | C37: 332.7 | D37: 8.6 | E37: 0 | F37: -6
A38: 0.036 | B38: 151.7 | C38: 332.7 | D38: 8.6 | E38: 0 | F38: -6
A39: 0.037 | B39: 151.7 | C39: 332.7 | D39: 8.6 | E39: 0 | F39: -6
... A2001: 1.999 | B2001: 40.48 | C2001: 443.92 | D2001: 11.47 | E2001: 0 | F2001: -2.06
A2002: 2 | D2002: 11.47 | F2002: -2.06

Sheet Combined Results Key
A1: Test | B1: Duration of Oxic Seafloor (kyr) | C1: Mn-oxide Burial Rate | D1: ε205Tl Excursion Size | E1: Duration of Excursion (kyr) | H1: Mn-oxide Burial Rate (moles/year)
A2: 0 | B2: =Test0!$I$24 -> 0 | C2: =Test0!$I$25 -> 0.2 | D2: =Test0!$I$26 -> -2.11 | E2: =Test0!$I$27 -> 0 | H2: =C2*1517000 -> 303400
A3: 1 | B3: =Test1!$I$24 -> 1 | C3: =Test1!$I$25 -> 14 | D3: =Test1!$I$26 -> -6 | E3: =Test1!$I$27 -> 57 | H3: =C3*1517000 -> 21238000
A4: 2 | B4: =Test2!$I$24 -> 5 | C4: =Test2!$I$25 -> 3.25 | D4: =Test2!$I$26 -> -5.99 | E4: =Test2!$I$27 -> 62 | H4: =C4*1517000 -> 4930250
A5: 3 | B5: =Test3!$I$24 -> 10 | C5: =Test3!$I$25 -> 2 | D5: =Test3!$I$26 -> -6.14 | E5: =Test3!$I$27 -> 68 | H5: =C5*1517000 -> 3034000
A6: 4 | B6: =Test4!$I$24 -> 20 | C6: =Test4!$I$25 -> 1.3 | D6: =Test4!$I$26 -> -5.99 | E6: =Test4!$I$27 -> 77 | H6: =C6*1517000 -> 1972100
A7: 5 | B7: =Test5!$I$24 -> 50 | C7: =Test5!$I$25 -> 1 | D7: =Test5!$I$26 -> -5.94 | E7: =Test5!$I$27 -> 106 | H7: =C7*1517000 -> 1517000
