Workbook
Name AmplitudeResults_perChannel: Amplitude_perChannel!$A$1:$G$937
Name LatencyResults_perChannel: Latency_perChannel!$A$1:$G$937

Sheet mainResults
A1: Combined results for text | T1: Formatted results for in-text reporting
B2: Mean amplitude (6 - 16 s post stimulus onset) | H2: Peak latency | N2: Connectivity | T2: (β = | U2: μmol/L·com, SE = | V2: , t( | W2: ) = | X2: ~ p = | Y2: ) | AF2: , SE =
B3: beta | C3: SE | D3: df | E3: t | F3: p | H3: beta | I3: SE | J3: df | K3: t | L3: p | N3: beta | O3: SE | P3: df | Q3: t | R3: p | T3: Mean amplitude (6 - 16 s post stimulus onset) | Z3: Peak latency | AF3: Connectivity
A4: (Intercept) | B4: 0.844 | C4: 0.01 | D4: 111.324 | E4: 85.333 | F4: < 0.001 | H4: 11.222 | I4: 0.033 | J4: 105.146 | K4: 341.599 | L4: < 0.001 | N4: 0.134 | O4: 0.006 | P4: 60.184 | Q4: 21.52 | R4: <.001 | T4: =$T$2&TEXT(ROUND(B4,3),"0.000")&$U$2&TEXT(ROUND(C4,3),"0.000")&$V$2&TEXT(ROUND(D4,2),"0.00")&$W$2&TEXT(ROUND(E4,2),"0.00")&$X$2&F4&$Y$2 -> (β = 0.844 μmol/L·com, SE = 0.010, t(111.32) = 85.33 ~ p = < 0.001 ) | Z4: =$T$2&H4&$U$2&I4&$V$2&J4&$W$2&K4&$X$2&L4&$Y$2 -> (β = 11.222 μmol/L·com, SE = 0.033, t(105.146) = 341.599 ~ p = < 0.001 ) | AF4: =$T$2&N4&$AF$2&O4&$V$2&P4&$W$2&Q4&$X$2&R4&$Y$2 -> (β = 0.134, SE = 0.006, t(60.184) = 21.52 ~ p = <.001 )
A5: Group (Contrast 1: Passive control vs. mean(Active control, Test)) | B5: -0.022 | C5: 0.018 | D5: 83.477 | E5: -1.257 | F5: 0.21 | H5: -0.288 | I5: 0.083 | J5: 104.031 | K5: -3.453 | L5: < 0.001 | N5: 0.037 | O5: 0.016 | P5: 49.484 | Q5: 2.273 | R5: 0.027 | T5: =$T$2&TEXT(ROUND(B5,3),"0.000")&$U$2&TEXT(ROUND(C5,3),"0.000")&$V$2&TEXT(ROUND(D5,2),"0.00")&$W$2&TEXT(ROUND(E5,2),"0.00")&$X$2&F5&$Y$2 -> (β = -0.022 μmol/L·com, SE = 0.018, t(83.48) = -1.26 ~ p = 0.21) | Z5: =$T$2&H5&$U$2&I5&$V$2&J5&$W$2&K5&$X$2&L5&$Y$2 -> (β = -0.288 μmol/L·com, SE = 0.083, t(104.031) = -3.453 ~ p = < 0.001 ) | AF5: =$T$2&N5&$AF$2&O5&$V$2&P5&$W$2&Q5&$X$2&R5&$Y$2 -> (β = 0.037, SE = 0.016, t(49.484) = 2.273 ~ p = 0.027)
A6: Group (Contrast 2: Active control vs. Test) | B6: -0.03 | C6: 0.019 | D6: 73.478 | E6: -1.554 | F6: 0.12 | H6: -0.552 | I6: 0.132 | J6: 78.379 | K6: -4.198 | L6: < 0.001 | N6: -0.015 | O6: 0.013 | P6: 49.014 | Q6: -1.194 | R6: 0.24 | T6: =$T$2&TEXT(ROUND(B6,3),"0.000")&$U$2&TEXT(ROUND(C6,3),"0.000")&$V$2&TEXT(ROUND(D6,2),"0.00")&$W$2&TEXT(ROUND(E6,2),"0.00")&$X$2&F6&$Y$2 -> (β = -0.030 μmol/L·com, SE = 0.019, t(73.48) = -1.55 ~ p = 0.12) | Z6: =$T$2&H6&$U$2&I6&$V$2&J6&$W$2&K6&$X$2&L6&$Y$2 -> (β = -0.552 μmol/L·com, SE = 0.132, t(78.379) = -4.198 ~ p = < 0.001 ) | AF6: =$T$2&N6&$AF$2&O6&$V$2&P6&$W$2&Q6&$X$2&R6&$Y$2 -> (β = -0.015, SE = 0.013, t(49.014) = -1.194 ~ p = 0.24)
A7: Stimulus type (Backwards vs. Forwards) | B7: 0.027 | C7: 0.01 | D7: 99.831 | E7: 2.712 | F7: 0.008 | H7: -0.163 | I7: 0.057 | J7: 89.696 | K7: -2.843 | L7: 0.006 | T7: =$T$2&TEXT(ROUND(B7,3),"0.000")&$U$2&TEXT(ROUND(C7,3),"0.000")&$V$2&TEXT(ROUND(D7,2),"0.00")&$W$2&TEXT(ROUND(E7,2),"0.00")&$X$2&F7&$Y$2 -> (β = 0.027 μmol/L·com, SE = 0.010, t(99.83) = 2.71 ~ p = 0.008) | Z7: =$T$2&H7&$U$2&I7&$V$2&J7&$W$2&K7&$X$2&L7&$Y$2 -> (β = -0.163 μmol/L·com, SE = 0.057, t(89.696) = -2.843 ~ p = 0.006)
A8: Phase (Contrast 1: T0 vs. mean(T1, T2)) | B8: -0.015 | C8: 0.015 | D8: 68.892 | E8: -1.011 | F8: 0.32 | H8: -0.275 | I8: 0.067 | J8: 106.249 | K8: -4.107 | L8: < 0.001 | N8: 0.068 | O8: 0.014 | P8: 49.244 | Q8: 4.7 | R8: <.001 | T8: =$T$2&TEXT(ROUND(B8,3),"0.000")&$U$2&TEXT(ROUND(C8,3),"0.000")&$V$2&TEXT(ROUND(D8,2),"0.00")&$W$2&TEXT(ROUND(E8,2),"0.00")&$X$2&F8&$Y$2 -> (β = -0.015 μmol/L·com, SE = 0.015, t(68.89) = -1.01 ~ p = 0.32) | Z8: =$T$2&H8&$U$2&I8&$V$2&J8&$W$2&K8&$X$2&L8&$Y$2 -> (β = -0.275 μmol/L·com, SE = 0.067, t(106.249) = -4.107 ~ p = < 0.001 ) | AF8: =$T$2&N8&$AF$2&O8&$V$2&P8&$W$2&Q8&$X$2&R8&$Y$2 -> (β = 0.068, SE = 0.014, t(49.244) = 4.7 ~ p = <.001 )
A9: Phase (Contrast 2: T1 vs. T2) | B9: 0.053 | C9: 0.02 | D9: 95.966 | E9: 2.708 | F9: 0.008 | H9: -0.038 | I9: 0.063 | J9: 66.748 | K9: -0.605 | L9: 0.55 | N9: 0.146 | O9: 0.017 | P9: 50.024 | Q9: 8.693 | R9: <.001 | T9: =$T$2&TEXT(ROUND(B9,3),"0.000")&$U$2&TEXT(ROUND(C9,3),"0.000")&$V$2&TEXT(ROUND(D9,2),"0.00")&$W$2&TEXT(ROUND(E9,2),"0.00")&$X$2&F9&$Y$2 -> (β = 0.053 μmol/L·com, SE = 0.020, t(95.97) = 2.71 ~ p = 0.008) | Z9: =$T$2&H9&$U$2&I9&$V$2&J9&$W$2&K9&$X$2&L9&$Y$2 -> (β = -0.038 μmol/L·com, SE = 0.063, t(66.748) = -0.605 ~ p = 0.55) | AF9: =$T$2&N9&$AF$2&O9&$V$2&P9&$W$2&Q9&$X$2&R9&$Y$2 -> (β = 0.146, SE = 0.017, t(50.024) = 8.693 ~ p = <.001 )
A10: Group (Contrast 1) x Stimulus type | B10: 0.025 | C10: 0.019 | D10: 73.441 | E10: 1.344 | F10: 0.18 | H10: -0.287 | I10: 0.119 | J10: 82.286 | K10: -2.42 | L10: 0.018 | T10: =$T$2&TEXT(ROUND(B10,3),"0.000")&$U$2&TEXT(ROUND(C10,3),"0.000")&$V$2&TEXT(ROUND(D10,2),"0.00")&$W$2&TEXT(ROUND(E10,2),"0.00")&$X$2&F10&$Y$2 -> (β = 0.025 μmol/L·com, SE = 0.019, t(73.44) = 1.34 ~ p = 0.18) | Z10: =$T$2&H10&$U$2&I10&$V$2&J10&$W$2&K10&$X$2&L10&$Y$2 -> (β = -0.287 μmol/L·com, SE = 0.119, t(82.286) = -2.42 ~ p = 0.018)
A11: Group (Contrast 2) x Stimulus type | B11: 0.05 | C11: 0.022 | D11: 83.293 | E11: 2.274 | F11: 0.026 | H11: -0.539 | I11: 0.159 | J11: 106.474 | K11: -3.388 | L11: < 0.001 | T11: =$T$2&TEXT(ROUND(B11,3),"0.000")&$U$2&TEXT(ROUND(C11,3),"0.000")&$V$2&TEXT(ROUND(D11,2),"0.00")&$W$2&TEXT(ROUND(E11,2),"0.00")&$X$2&F11&$Y$2 -> (β = 0.050 μmol/L·com, SE = 0.022, t(83.29) = 2.27 ~ p = 0.026) | Z11: =$T$2&H11&$U$2&I11&$V$2&J11&$W$2&K11&$X$2&L11&$Y$2 -> (β = -0.539 μmol/L·com, SE = 0.159, t(106.474) = -3.388 ~ p = < 0.001 )
A12: Group (Contrast 1) x Phase (Contrast 1) | B12: 0.007 | C12: 0.034 | D12: 79.868 | E12: 0.212 | F12: 0.83 | H12: -0.428 | I12: 0.135 | J12: 103.42 | K12: -3.173 | L12: 0.002 | N12: 0.078 | O12: 0.04 | P12: 49.219 | Q12: 1.95 | R12: 0.057 | T12: =$T$2&TEXT(ROUND(B12,3),"0.000")&$U$2&TEXT(ROUND(C12,3),"0.000")&$V$2&TEXT(ROUND(D12,2),"0.00")&$W$2&TEXT(ROUND(E12,2),"0.00")&$X$2&F12&$Y$2 -> (β = 0.007 μmol/L·com, SE = 0.034, t(79.87) = 0.21 ~ p = 0.83) | Z12: =$T$2&H12&$U$2&I12&$V$2&J12&$W$2&K12&$X$2&L12&$Y$2 -> (β = -0.428 μmol/L·com, SE = 0.135, t(103.42) = -3.173 ~ p = 0.002) | AF12: =$T$2&N12&$AF$2&O12&$V$2&P12&$W$2&Q12&$X$2&R12&$Y$2 -> (β = 0.078, SE = 0.04, t(49.219) = 1.95 ~ p = 0.057)
A13: Group (Contrast 1) x Phase (Contrast 2) | B13: 0.084 | C13: 0.04 | D13: 84.906 | E13: 2.084 | F13: 0.04 | H13: 0.038 | I13: 0.143 | J13: 81.974 | K13: 0.266 | L13: 0.79 | N13: 0.161 | O13: 0.047 | P13: 49.481 | Q13: 3.454 | R13: 0.001 | T13: =$T$2&TEXT(ROUND(B13,3),"0.000")&$U$2&TEXT(ROUND(C13,3),"0.000")&$V$2&TEXT(ROUND(D13,2),"0.00")&$W$2&TEXT(ROUND(E13,2),"0.00")&$X$2&F13&$Y$2 -> (β = 0.084 μmol/L·com, SE = 0.040, t(84.91) = 2.08 ~ p = 0.04) | Z13: =$T$2&H13&$U$2&I13&$V$2&J13&$W$2&K13&$X$2&L13&$Y$2 -> (β = 0.038 μmol/L·com, SE = 0.143, t(81.974) = 0.266 ~ p = 0.79) | AF13: =$T$2&N13&$AF$2&O13&$V$2&P13&$W$2&Q13&$X$2&R13&$Y$2 -> (β = 0.161, SE = 0.047, t(49.481) = 3.454 ~ p = 0.001)
A14: Group (Contrast 2) x Phase (Contrast 1) | B14: -0.049 | C14: 0.038 | D14: 80.58 | E14: -1.275 | F14: 0.21 | H14: -0.846 | I14: 0.193 | J14: 97.766 | K14: -4.377 | L14: < 0.001 | N14: -0.013 | O14: 0.031 | P14: 48.997 | Q14: -0.405 | R14: 0.69 | T14: =$T$2&TEXT(ROUND(B14,3),"0.000")&$U$2&TEXT(ROUND(C14,3),"0.000")&$V$2&TEXT(ROUND(D14,2),"0.00")&$W$2&TEXT(ROUND(E14,2),"0.00")&$X$2&F14&$Y$2 -> (β = -0.049 μmol/L·com, SE = 0.038, t(80.58) = -1.28 ~ p = 0.21) | Z14: =$T$2&H14&$U$2&I14&$V$2&J14&$W$2&K14&$X$2&L14&$Y$2 -> (β = -0.846 μmol/L·com, SE = 0.193, t(97.766) = -4.377 ~ p = < 0.001 ) | AF14: =$T$2&N14&$AF$2&O14&$V$2&P14&$W$2&Q14&$X$2&R14&$Y$2 -> (β = -0.013, SE = 0.031, t(48.997) = -0.405 ~ p = 0.69)
A15: Group (Contrast 2) x Phase (Contrast 2) | B15: 0.162 | C15: 0.052 | D15: 108.283 | E15: 3.112 | F15: 0.002 | H15: -0.058 | I15: 0.154 | J15: 69.874 | K15: -0.38 | L15: 0.71 | N15: -0.038 | O15: 0.036 | P15: 49.185 | Q15: -1.054 | R15: 0.3 | T15: =$T$2&TEXT(ROUND(B15,3),"0.000")&$U$2&TEXT(ROUND(C15,3),"0.000")&$V$2&TEXT(ROUND(D15,2),"0.00")&$W$2&TEXT(ROUND(E15,2),"0.00")&$X$2&F15&$Y$2 -> (β = 0.162 μmol/L·com, SE = 0.052, t(108.28) = 3.11 ~ p = 0.002) | Z15: =$T$2&H15&$U$2&I15&$V$2&J15&$W$2&K15&$X$2&L15&$Y$2 -> (β = -0.058 μmol/L·com, SE = 0.154, t(69.874) = -0.38 ~ p = 0.71) | AF15: =$T$2&N15&$AF$2&O15&$V$2&P15&$W$2&Q15&$X$2&R15&$Y$2 -> (β = -0.038, SE = 0.036, t(49.185) = -1.054 ~ p = 0.3)
A16: Stimulus type x Phase (Contrast 1) | B16: 0.012 | C16: 0.022 | D16: 78.486 | E16: 0.56 | F16: 0.58 | H16: -0.224 | I16: 0.084 | J16: 91.721 | K16: -2.681 | L16: 0.009 | T16: =$T$2&TEXT(ROUND(B16,3),"0.000")&$U$2&TEXT(ROUND(C16,3),"0.000")&$V$2&TEXT(ROUND(D16,2),"0.00")&$W$2&TEXT(ROUND(E16,2),"0.00")&$X$2&F16&$Y$2 -> (β = 0.012 μmol/L·com, SE = 0.022, t(78.49) = 0.56 ~ p = 0.58) | Z16: =$T$2&H16&$U$2&I16&$V$2&J16&$W$2&K16&$X$2&L16&$Y$2 -> (β = -0.224 μmol/L·com, SE = 0.084, t(91.721) = -2.681 ~ p = 0.009)
A17: Stimulus type x Phase (Contrast 2) | B17: 0.014 | C17: 0.024 | D17: 82.853 | E17: 0.588 | F17: 0.56 | H17: -0.052 | I17: 0.103 | J17: 69.504 | K17: -0.511 | L17: 0.61 | T17: =$T$2&TEXT(ROUND(B17,3),"0.000")&$U$2&TEXT(ROUND(C17,3),"0.000")&$V$2&TEXT(ROUND(D17,2),"0.00")&$W$2&TEXT(ROUND(E17,2),"0.00")&$X$2&F17&$Y$2 -> (β = 0.014 μmol/L·com, SE = 0.024, t(82.85) = 0.59 ~ p = 0.56) | Z17: =$T$2&H17&$U$2&I17&$V$2&J17&$W$2&K17&$X$2&L17&$Y$2 -> (β = -0.052 μmol/L·com, SE = 0.103, t(69.504) = -0.511 ~ p = 0.61)
A18: Group (Contrast 1) x Stimulus type x Phase (Contrast 1) | B18: 0.051 | C18: 0.045 | D18: 71.252 | E18: 1.136 | F18: 0.26 | H18: -0.292 | I18: 0.167 | J18: 80.046 | K18: -1.754 | L18: 0.083 | T18: =$T$2&TEXT(ROUND(B18,3),"0.000")&$U$2&TEXT(ROUND(C18,3),"0.000")&$V$2&TEXT(ROUND(D18,2),"0.00")&$W$2&TEXT(ROUND(E18,2),"0.00")&$X$2&F18&$Y$2 -> (β = 0.051 μmol/L·com, SE = 0.045, t(71.25) = 1.14 ~ p = 0.26) | Z18: =$T$2&H18&$U$2&I18&$V$2&J18&$W$2&K18&$X$2&L18&$Y$2 -> (β = -0.292 μmol/L·com, SE = 0.167, t(80.046) = -1.754 ~ p = 0.083)
A19: Group (Contrast 1) x Stimulus type x Phase (Contrast 2) | B19: 0.071 | C19: 0.049 | D19: 74.074 | E19: 1.457 | F19: 0.15 | H19: 0.016 | I19: 0.217 | J19: 66.569 | K19: 0.073 | L19: 0.94 | T19: =$T$2&TEXT(ROUND(B19,3),"0.000")&$U$2&TEXT(ROUND(C19,3),"0.000")&$V$2&TEXT(ROUND(D19,2),"0.00")&$W$2&TEXT(ROUND(E19,2),"0.00")&$X$2&F19&$Y$2 -> (β = 0.071 μmol/L·com, SE = 0.049, t(74.07) = 1.46 ~ p = 0.15) | Z19: =$T$2&H19&$U$2&I19&$V$2&J19&$W$2&K19&$X$2&L19&$Y$2 -> (β = 0.016 μmol/L·com, SE = 0.217, t(66.569) = 0.073 ~ p = 0.94)
A20: Group (Contrast 2) x Stimulus type x Phase (Contrast 1) | B20: 0.052 | C20: 0.052 | D20: 78.037 | E20: 0.992 | F20: 0.32 | H20: -0.569 | I20: 0.209 | J20: 94.984 | K20: -2.722 | L20: 0.008 | T20: =$T$2&TEXT(ROUND(B20,3),"0.000")&$U$2&TEXT(ROUND(C20,3),"0.000")&$V$2&TEXT(ROUND(D20,2),"0.00")&$W$2&TEXT(ROUND(E20,2),"0.00")&$X$2&F20&$Y$2 -> (β = 0.052 μmol/L·com, SE = 0.052, t(78.04) = 0.99 ~ p = 0.32) | Z20: =$T$2&H20&$U$2&I20&$V$2&J20&$W$2&K20&$X$2&L20&$Y$2 -> (β = -0.569 μmol/L·com, SE = 0.209, t(94.984) = -2.722 ~ p = 0.008)
A21: Group (Contrast 2) x Stimulus type x Phase (Contrast 2) | B21: 0.125 | C21: 0.058 | D21: 86.741 | E21: 2.152 | F21: 0.034 | H21: -0.143 | I21: 0.249 | J21: 70.295 | K21: -0.572 | L21: 0.57 | T21: =$T$2&TEXT(ROUND(B21,3),"0.000")&$U$2&TEXT(ROUND(C21,3),"0.000")&$V$2&TEXT(ROUND(D21,2),"0.00")&$W$2&TEXT(ROUND(E21,2),"0.00")&$X$2&F21&$Y$2 -> (β = 0.125 μmol/L·com, SE = 0.058, t(86.74) = 2.15 ~ p = 0.034) | Z21: =$T$2&H21&$U$2&I21&$V$2&J21&$W$2&K21&$X$2&L21&$Y$2 -> (β = -0.143 μmol/L·com, SE = 0.249, t(70.295) = -0.572 ~ p = 0.57)
A24: Amplitude
A25: Main model
A26: 247104observations; nGroups:66 52
B27: beta | C27: SE | D27: df | E27: t | F27: p
A28: (Intercept) | B28: 0.844 | C28: 0.01 | D28: 111.324 | E28: 85.333 | F28: <.001
A29: Group (Contrast 1) | B29: -0.022 | C29: 0.018 | D29: 83.477 | E29: -1.257 | F29: 0.21
A30: Group (Contrast 2) | B30: -0.03 | C30: 0.019 | D30: 73.478 | E30: -1.554 | F30: 0.12
A31: Stimulus type | B31: 0.027 | C31: 0.01 | D31: 99.831 | E31: 2.712 | F31: 0.008
A32: Phase (Contrast 1) | B32: -0.015 | C32: 0.015 | D32: 68.892 | E32: -1.011 | F32: 0.32
A33: Phase (Contrast 2) | B33: 0.053 | C33: 0.02 | D33: 95.966 | E33: 2.708 | F33: 0.008
A34: Group (Contrast 1) x Stimulus type | B34: 0.025 | C34: 0.019 | D34: 73.441 | E34: 1.344 | F34: 0.18
A35: Group (Contrast 2) x Stimulus type | B35: 0.05 | C35: 0.022 | D35: 83.293 | E35: 2.274 | F35: 0.026
A36: Group (Contrast 1) x Phase (Contrast 1) | B36: 0.007 | C36: 0.034 | D36: 79.868 | E36: 0.212 | F36: 0.83
A37: Group (Contrast 1) x Phase (Contrast 2) | B37: 0.084 | C37: 0.04 | D37: 84.906 | E37: 2.084 | F37: 0.04
A38: Group (Contrast 2) x Phase (Contrast 1) | B38: -0.049 | C38: 0.038 | D38: 80.58 | E38: -1.275 | F38: 0.21
A39: Group (Contrast 2) x Phase (Contrast 2) | B39: 0.162 | C39: 0.052 | D39: 108.283 | E39: 3.112 | F39: 0.002
A40: Stimulus type x Phase (Contrast 1) | B40: 0.012 | C40: 0.022 | D40: 78.486 | E40: 0.56 | F40: 0.58
... A45: Group (Contrast 2) x Stimulus type x Phase (Contrast 2) | B45: 0.125 | C45: 0.058 | D45: 86.741 | E45: 2.152 | F45: 0.034
A47: Channels with significant interactions (alpha=0.05, uncorrected)
A48: Predictor | B48: Channel | C48: Estimate | D48: Std. Error | E48: df | F48: t value | G48: p
A49: Group (Contrast 2) x Stimulus type x Phase (Contrast 2) | B49: 7 | C49: 0.679 | D49: 0.22 | E49: 63.003 | F49: 3.089 | G49: 0.003 | I49: {=B49:B54} -> 7 | J49: =$T$2&C49&$U$2&D49&$V$2&E49&$W$2&F49&$X$2&G49&$Y$2 -> (β = 0.679 μmol/L·com, SE = 0.22, t(63.003) = 3.089 ~ p = 0.003)
A50: Group (Contrast 2) x Stimulus type x Phase (Contrast 2) | B50: 45 | C50: 0.653 | D50: 0.227 | E50: 62.995 | F50: 2.881 | G50: 0.005 | I50: 45 | J50: =$T$2&C50&$U$2&D50&$V$2&E50&$W$2&F50&$X$2&G50&$Y$2 -> (β = 0.653 μmol/L·com, SE = 0.227, t(62.995) = 2.881 ~ p = 0.005)
A51: Group (Contrast 2) x Stimulus type x Phase (Contrast 2) | B51: 10 | C51: 0.519 | D51: 0.19 | E51: 62.997 | F51: 2.731 | G51: 0.008 | I51: 10 | J51: =$T$2&C51&$U$2&D51&$V$2&E51&$W$2&F51&$X$2&G51&$Y$2 -> (β = 0.519 μmol/L·com, SE = 0.19, t(62.997) = 2.731 ~ p = 0.008)
A52: Group (Contrast 2) x Stimulus type x Phase (Contrast 2) | B52: 25 | C52: 0.554 | D52: 0.214 | E52: 62.997 | F52: 2.593 | G52: 0.012 | I52: 25 | J52: =$T$2&C52&$U$2&D52&$V$2&E52&$W$2&F52&$X$2&G52&$Y$2 -> (β = 0.554 μmol/L·com, SE = 0.214, t(62.997) = 2.593 ~ p = 0.012)
A53: Group (Contrast 2) x Stimulus type x Phase (Contrast 2) | B53: 19 | C53: 0.409 | D53: 0.187 | E53: 63 | F53: 2.189 | G53: 0.032 | I53: 19 | J53: =$T$2&C53&$U$2&D53&$V$2&E53&$W$2&F53&$X$2&G53&$Y$2 -> (β = 0.409 μmol/L·com, SE = 0.187, t(63) = 2.189 ~ p = 0.032)
A54: Group (Contrast 2) x Stimulus type x Phase (Contrast 2) | B54: 37 | C54: 0.452 | D54: 0.217 | E54: 62.994 | F54: 2.089 | G54: 0.041 | I54: 37 | J54: =$T$2&C54&$U$2&D54&$V$2&E54&$W$2&F54&$X$2&G54&$Y$2 -> (β = 0.452 μmol/L·com, SE = 0.217, t(62.994) = 2.089 ~ p = 0.041)
A56: Latency
A57: Main model
A58: 247104observations; nGroups:66 52
B59: beta | C59: SE | D59: df | E59: t | F59: p
A60: (Intercept) | B60: 11.222 | C60: 0.033 | D60: 105.146 | E60: 341.599 | F60: <.001
A61: Group (Contrast 1) | B61: -0.288 | C61: 0.083 | D61: 104.031 | E61: -3.453 | F61: <.001
A62: Group (Contrast 2) | B62: -0.552 | C62: 0.132 | D62: 78.379 | E62: -4.198 | F62: <.001
A63: Stimulus type | B63: -0.163 | C63: 0.057 | D63: 89.696 | E63: -2.843 | F63: 0.006
A64: Phase (Contrast 1) | B64: -0.275 | C64: 0.067 | D64: 106.249 | E64: -4.107 | F64: <.001
A65: Phase (Contrast 2) | B65: -0.038 | C65: 0.063 | D65: 66.748 | E65: -0.605 | F65: 0.55
A66: Group (Contrast 1) x Stimulus type | B66: -0.287 | C66: 0.119 | D66: 82.286 | E66: -2.42 | F66: 0.018
A67: Group (Contrast 2) x Stimulus type | B67: -0.539 | C67: 0.159 | D67: 106.474 | E67: -3.388 | F67: <.001
A68: Group (Contrast 1) x Phase (Contrast 1) | B68: -0.428 | C68: 0.135 | D68: 103.42 | E68: -3.173 | F68: 0.002
A69: Group (Contrast 1) x Phase (Contrast 2) | B69: 0.038 | C69: 0.143 | D69: 81.974 | E69: 0.266 | F69: 0.79
A70: Group (Contrast 2) x Phase (Contrast 1) | B70: -0.846 | C70: 0.193 | D70: 97.766 | E70: -4.377 | F70: <.001
A71: Group (Contrast 2) x Phase (Contrast 2) | B71: -0.058 | C71: 0.154 | D71: 69.874 | E71: -0.38 | F71: 0.71
A72: Stimulus type x Phase (Contrast 1) | B72: -0.224 | C72: 0.084 | D72: 91.721 | E72: -2.681 | F72: 0.009
A73: Stimulus type x Phase (Contrast 2) | B73: -0.052 | C73: 0.103 | D73: 69.504 | E73: -0.511 | F73: 0.61
A74: Group (Contrast 1) x Stimulus type x Phase (Contrast 1) | B74: -0.292 | C74: 0.167 | D74: 80.046 | E74: -1.754 | F74: 0.083
A75: Group (Contrast 1) x Stimulus type x Phase (Contrast 2) | B75: 0.016 | C75: 0.217 | D75: 66.569 | E75: 0.073 | F75: 0.94
A76: Group (Contrast 2) x Stimulus type x Phase (Contrast 1) | B76: -0.569 | C76: 0.209 | D76: 94.984 | E76: -2.722 | F76: 0.008
A77: Group (Contrast 2) x Stimulus type x Phase (Contrast 2) | B77: -0.143 | C77: 0.249 | D77: 70.295 | E77: -0.572 | F77: 0.57
A79: Channels with significant interactions (alpha=0.05, uncorrected)
A80: Predictor | B80: Channel | C80: Estimate | D80: Std. Error | E80: df | F80: t value | G80: p
A81: Group (Contrast 2) x Stimulus type x Phase (Contrast 1) | B81: 6 | C81: -2.96 | D81: 0.63 | E81: 62.998 | F81: -4.702 | G81: <.001 | I81: 6 | J81: =$T$2&C81&$U$2&D81&$V$2&E81&$W$2&F81&$X$2&G81&$Y$2 -> (β = -2.96 μmol/L·com, SE = 0.63, t(62.998) = -4.702 ~ p = <.001 )
A82: Group (Contrast 2) x Stimulus type x Phase (Contrast 1) | B82: 43 | C82: -3.788 | D82: 0.815 | E82: 62.995 | F82: -4.647 | G82: <.001 | I82: 43 | J82: =$T$2&C82&$U$2&D82&$V$2&E82&$W$2&F82&$X$2&G82&$Y$2 -> (β = -3.788 μmol/L·com, SE = 0.815, t(62.995) = -4.647 ~ p = <.001 )
A83: Group (Contrast 2) x Stimulus type x Phase (Contrast 1) | B83: 44 | C83: -2.869 | D83: 0.694 | E83: 63 | F83: -4.137 | G83: <.001 | I83: 44 | J83: =$T$2&C83&$U$2&D83&$V$2&E83&$W$2&F83&$X$2&G83&$Y$2 -> (β = -2.869 μmol/L·com, SE = 0.694, t(63) = -4.137 ~ p = <.001 )
A84: Group (Contrast 2) x Stimulus type x Phase (Contrast 1) | B84: 2 | C84: -2.604 | D84: 0.843 | E84: 63.007 | F84: -3.09 | G84: 0.003 | I84: 2 | J84: =$T$2&C84&$U$2&D84&$V$2&E84&$W$2&F84&$X$2&G84&$Y$2 -> (β = -2.604 μmol/L·com, SE = 0.843, t(63.007) = -3.09 ~ p = 0.003)
A85: Group (Contrast 2) x Stimulus type x Phase (Contrast 1) | B85: 16 | C85: -2.153 | D85: 0.867 | E85: 63.002 | F85: -2.483 | G85: 0.016 | I85: 16 | J85: =$T$2&C85&$U$2&D85&$V$2&E85&$W$2&F85&$X$2&G85&$Y$2 -> (β = -2.153 μmol/L·com, SE = 0.867, t(63.002) = -2.483 ~ p = 0.016)
A89: Connectivity
A90: Main model
A91: 52416 observations | B91: nGroups: 336 52
B92: beta | C92: SE | D92: df | E92: t | F92: p
A93: (Intercept) | B93: 0.173 | C93: 0.01 | D93: 112.81 | E93: 17.841 | F93: <.001
A94: Group (Contrast 1: Passive control vs. mean(Active control, Test)) | B94: 0.055 | C94: 0.022 | D94: 50.125 | E94: 2.545 | F94: 0.014
A95: Group (Contrast 2: Active control vs. Test) | B95: -0.022 | C95: 0.017 | D95: 48.991 | E95: -1.305 | F95: 0.2
A96: Phase (Contrast 1: T0 vs. mean(T1, T2)) | B96: 0.091 | C96: 0.018 | D96: 51.494 | E96: 5.205 | F96: <.001
A97: Phase (Contrast 2: T1 vs. T2) | B97: 0.182 | C97: 0.023 | D97: 55.294 | E97: 7.93 | F97: <.001
A98: Group (Contrast 1) x Phase (Contrast 1) | B98: 0.098 | C98: 0.048 | D98: 49.007 | E98: 2.037 | F98: 0.047
A99: Group (Contrast 1) x Phase (Contrast 2) | B99: 0.217 | C99: 0.062 | D99: 50.235 | E99: 3.483 | F99: 0.001
A100: Group (Contrast 2) x Phase (Contrast 1) | B100: -0.015 | C100: 0.038 | D100: 51.125 | E100: -0.39 | F100: 0.7 | J100: =3024/(9) -> 336 | K100: =32/J100 -> 0.095238095
A101: Group (Contrast 2) x Phase (Contrast 2) | B101: -0.017 | C101: 0.048 | D101: 49.108 | E101: -0.358 | F101: 0.72
A103: Channels with significant interactions (alpha=0.05, uncorrected)
A104: Predictor | B104: fromChannel | C104: toChannel | D104: beta | E104: SE | F104: df | G104: t | H104: p | J104: (Ch | K104: : β = | O104: from region | P104: to region
A105: Group (Contrast 1) x Phase (Contrast 2) | B105: 2 | C105: 14 | D105: -0.8500745 | E105: 0.2951967 | F105: 49.0002 | G105: -2.879689 | H105: 0.0058874 | J105: =$J$104&B105&" & "&C105&$K$104&ROUND(D105,3)&$AF$2&ROUND(E105,3)&$V$2&ROUND(F105,2)&$W$2&ROUND(G105,2)&$X$2&ROUND(H105,3)&$Y$2 -> (Ch 2 & 14: β = -0.85, SE = 0.295, t(49) = -2.88 ~ p = 0.006) | O105: =VLOOKUP(B105,channelList!$A$2:$F$53,6) -> Inferior frontal gyrus (triangular) left | P105: =VLOOKUP(C105,channelList!$A$2:$F$53,6) -> Middle occipital gyrus left | S105: 1
A106: Group (Contrast 1) x Phase (Contrast 2) | B106: 39 | C106: 45 | D106: -0.7899919 | E106: 0.2968442 | F106: 48.99866 | G106: -2.661301 | H106: 0.0104956 | J106: =$J$104&B106&" & "&C106&$K$104&ROUND(D106,3)&$AF$2&ROUND(E106,3)&$V$2&ROUND(F106,2)&$W$2&ROUND(G106,2)&$X$2&ROUND(H106,3)&$Y$2 -> (Ch 39 & 45: β = -0.79, SE = 0.297, t(49) = -2.66 ~ p = 0.01) | O106: =VLOOKUP(B106,channelList!$A$2:$F$53,6) -> Inferior frontal gyrus (triangular) right | P106: =VLOOKUP(C106,channelList!$A$2:$F$53,6) -> Superior temporal gyrus right | S106: 2
A107: Group (Contrast 1) x Phase (Contrast 2) | B107: 2 | C107: 10 | D107: 0.7919174 | E107: 0.3882394 | F107: 48.99984 | G107: 2.039766 | H107: 0.046784 | J107: =$J$104&B107&" & "&C107&$K$104&ROUND(D107,3)&$AF$2&ROUND(E107,3)&$V$2&ROUND(F107,2)&$W$2&ROUND(G107,2)&$X$2&ROUND(H107,3)&$Y$2 -> (Ch 2 & 10: β = 0.792, SE = 0.388, t(49) = 2.04 ~ p = 0.047) | O107: =VLOOKUP(B107,channelList!$A$2:$F$53,6) -> Inferior frontal gyrus (triangular) left | P107: =VLOOKUP(C107,channelList!$A$2:$F$53,6) -> Superior temporal gyrus left | S107: 3
A108: Group (Contrast 1) x Phase (Contrast 2) | B108: 6 | C108: 45 | D108: 0.8949165 | E108: 0.4386228 | F108: 48.99982 | G108: 2.040287 | H108: 0.04673 | J108: =$J$104&B108&" & "&C108&$K$104&ROUND(D108,3)&$AF$2&ROUND(E108,3)&$V$2&ROUND(F108,2)&$W$2&ROUND(G108,2)&$X$2&ROUND(H108,3)&$Y$2 -> (Ch 6 & 45: β = 0.895, SE = 0.439, t(49) = 2.04 ~ p = 0.047) | O108: =VLOOKUP(B108,channelList!$A$2:$F$53,6) -> Inferior frontal gyrus (opercular) left | P108: =VLOOKUP(C108,channelList!$A$2:$F$53,6) -> Superior temporal gyrus right | S108: 4
A109: Group (Contrast 1) x Phase (Contrast 2) | B109: 17 | C109: 44 | D109: 0.6389514 | E109: 0.3076805 | F109: 48.99968 | G109: 2.076672 | H109: 0.0430975 | J109: =$J$104&B109&" & "&C109&$K$104&ROUND(D109,3)&$AF$2&ROUND(E109,3)&$V$2&ROUND(F109,2)&$W$2&ROUND(G109,2)&$X$2&ROUND(H109,3)&$Y$2 -> (Ch 17 & 44: β = 0.639, SE = 0.308, t(49) = 2.08 ~ p = 0.043) | O109: =VLOOKUP(B109,channelList!$A$2:$F$53,6) -> Supramarginal gyrus left | P109: =VLOOKUP(C109,channelList!$A$2:$F$53,6) -> Inferior frontal gyrus (opercular) right | S109: 5
A110: Group (Contrast 1) x Phase (Contrast 2) | B110: 6 | C110: 39 | D110: 0.760421 | E110: 0.3652957 | F110: 49 | G110: 2.081659 | H110: 0.0426193 | J110: =$J$104&B110&" & "&C110&$K$104&ROUND(D110,3)&$AF$2&ROUND(E110,3)&$V$2&ROUND(F110,2)&$W$2&ROUND(G110,2)&$X$2&ROUND(H110,3)&$Y$2 -> (Ch 6 & 39: β = 0.76, SE = 0.365, t(49) = 2.08 ~ p = 0.043) | O110: =VLOOKUP(B110,channelList!$A$2:$F$53,6) -> Inferior frontal gyrus (opercular) left | P110: =VLOOKUP(C110,channelList!$A$2:$F$53,6) -> Inferior frontal gyrus (triangular) right | S110: 6
A111: Group (Contrast 1) x Phase (Contrast 2) | B111: 7 | C111: 45 | D111: 0.90517 | E111: 0.4316211 | F111: 48.99962 | G111: 2.09714 | H111: 0.0411642 | J111: =$J$104&B111&" & "&C111&$K$104&ROUND(D111,3)&$AF$2&ROUND(E111,3)&$V$2&ROUND(F111,2)&$W$2&ROUND(G111,2)&$X$2&ROUND(H111,3)&$Y$2 -> (Ch 7 & 45: β = 0.905, SE = 0.432, t(49) = 2.1 ~ p = 0.041) | O111: =VLOOKUP(B111,channelList!$A$2:$F$53,6) -> Superior temporal gyrus left | P111: =VLOOKUP(C111,channelList!$A$2:$F$53,6) -> Superior temporal gyrus right | S111: 7
A112: Group (Contrast 1) x Phase (Contrast 2) | B112: 10 | C112: 44 | D112: 0.6433194 | E112: 0.304036 | F112: 49.00009 | G112: 2.115932 | H112: 0.0394562 | J112: =$J$104&B112&" & "&C112&$K$104&ROUND(D112,3)&$AF$2&ROUND(E112,3)&$V$2&ROUND(F112,2)&$W$2&ROUND(G112,2)&$X$2&ROUND(H112,3)&$Y$2 -> (Ch 10 & 44: β = 0.643, SE = 0.304, t(49) = 2.12 ~ p = 0.039) | O112: =VLOOKUP(B112,channelList!$A$2:$F$53,6) -> Superior temporal gyrus left | P112: =VLOOKUP(C112,channelList!$A$2:$F$53,6) -> Inferior frontal gyrus (opercular) right | S112: 8
A113: Group (Contrast 1) x Phase (Contrast 2) | B113: 4 | C113: 7 | D113: 0.8561209 | E113: 0.402646 | F113: 49.00008 | G113: 2.126237 | H113: 0.0385462 | J113: =$J$104&B113&" & "&C113&$K$104&ROUND(D113,3)&$AF$2&ROUND(E113,3)&$V$2&ROUND(F113,2)&$W$2&ROUND(G113,2)&$X$2&ROUND(H113,3)&$Y$2 -> (Ch 4 & 7: β = 0.856, SE = 0.403, t(49) = 2.13 ~ p = 0.039) | O113: =VLOOKUP(B113,channelList!$A$2:$F$53,6) -> Inferior frontal gyrus (triangular) left | P113: =VLOOKUP(C113,channelList!$A$2:$F$53,6) -> Superior temporal gyrus left | S113: 9
...

Sheet blups_amplitude
A1: ` | B1: Intercept | C1: Group_passiveVsActive | D1: Group_activeCtrlVsTest | E1: StimType | F1: Phase_prePostExposure | G1: Phase_noSleepVsSleep | H1: Group_passiveVsActive.StimType | I1: Group_activeCtrlVsTest.StimType | J1: Group_passiveVsActive.Phase_prePostExposure | K1: Group_passiveVsActive.Phase_noSleepVsSleep | L1: Group_activeCtrlVsTest.Phase_prePostExposure | M1: Group_activeCtrlVsTest.Phase_noSleepVsSleep | N1: StimType.Phase_prePostExposure | O1: StimType.Phase_noSleepVsSleep | P1: Group_passiveVsActive.StimType.Phase_prePostExposure | Q1: Group_passiveVsActive.StimType.Phase_noSleepVsSleep | R1: Group_activeCtrlVsTest.StimType.Phase_prePostExposure | S1: Group_activeCtrlVsTest.StimType.Phase_noSleepVsSleep
A2: 1 | B2: 0.8449 | C2: 0.0287 | D2: -0.0044 | E2: 0.0121 | F2: -0.0017 | G2: 0.0256 | H2: -0.0215 | I2: -0.005 | J2: -0.0834 | K2: 0.0924 | L2: 0.0189 | M2: 0.1228 | N2: -0.0027 | O2: -0.0737 | P2: 0.0664 | Q2: 0.153 | R2: -0.0602 | S2: 0.1044
A3: 2 | B3: 0.8285 | C3: 0.0139 | D3: -0.0197 | E3: -0.0071 | F3: -0.0065 | G3: -0.002 | H3: -0.03 | I3: 0.0363 | J3: 0.054 | K3: 0.0058 | L3: 0.0286 | M3: -0.0508 | N3: 0.0389 | O3: -0.0136 | P3: -0.0527 | Q3: 0.1129 | R3: 0.1123 | S3: 0.1136
A4: 3 | B4: 0.8903 | C4: -0.0141 | D4: -0.0072 | E4: 0.001 | F4: 0.0071 | G4: 0.0369 | H4: -0.0283 | I4: -0.0175 | J4: 0.0178 | K4: 0.1108 | L4: -0.0081 | M4: -0.0497 | N4: -0.0391 | O4: -0.0389 | P4: -0.0276 | Q4: -0.0126 | R4: -0.0551 | S4: 0.1575
A5: 4 | B5: 0.8531 | C5: -0.0149 | D5: -0.0329 | E5: 0.0238 | F5: -0.0061 | G5: 0.0226 | H5: 0.0346 | I5: 0.0361 | J5: -0.0405 | K5: -0.0686 | L5: 0.0321 | M5: -0.065 | N5: 0.0437 | O5: 0.0083 | P5: 0.0154 | Q5: 0.0331 | R5: 0.1408 | S5: 0.0648
A6: 5 | B6: 0.8339 | C6: 0.0056 | D6: 0.0047 | E6: 0.0042 | F6: -0.0079 | G6: 0.0184 | H6: 0.0391 | I6: -0.0062 | J6: -0.0548 | K6: 0.0797 | L6: 0.0531 | M6: 0.0906 | N6: -0.0308 | O6: -0.0567 | P6: -0.0669 | Q6: 0.1168 | R6: -0.0311 | S6: 0.2408
A7: 6 | B7: 0.8628 | C7: -0.0716 | D7: -0.0353 | E7: 0.0663 | F7: -0.0201 | G7: -0.0185 | H7: 0.0443 | I7: 0.0084 | J7: 0.0112 | K7: 0.005 | L7: 0.0505 | M7: -0.025 | N7: -0.0339 | O7: 0.0428 | P7: 0.0462 | Q7: 0.0076 | R7: -0.0403 | S7: 0.0004
A8: 7 | B8: 0.8628 | C8: -0.2056 | D8: -0.1594 | E8: 0.1539 | F8: -0.0346 | G8: 0.182 | H8: 0.075 | I8: 0.1656 | J8: -0.2171 | K8: 0.4227 | L8: -0.0547 | M8: 0.3703 | N8: 0.0761 | O8: 0.1477 | P8: 0.0383 | Q8: 0.2914 | R8: 0.2887 | S8: 0.5875
A9: 8 | B9: 0.861 | C9: -0.0328 | D9: -0.0427 | E9: 0.0451 | F9: -0.0483 | G9: 0.089 | H9: 0.0464 | I9: 0.0359 | J9: -0.0737 | K9: 0.057 | L9: 0.0392 | M9: 0.0475 | N9: 0.0883 | O9: 0.0464 | P9: 0.0972 | Q9: 0.0766 | R9: -0.0049 | S9: 0.0201
A10: 9 | B10: 0.755 | C10: -0.0021 | D10: -0.0095 | E10: 0.0074 | F10: -0.0274 | G10: -0.0025 | H10: 0.0233 | I10: 0.0737 | J10: -0.0606 | K10: -0.0646 | L10: -0.0256 | M10: 0.0566 | N10: 0.0165 | O10: -0.0319 | P10: 0.0871 | Q10: -0.0869 | R10: -0.0505 | S10: 0.1481
A11: 10 | B11: 0.8696 | C11: -0.0537 | D11: -0.0366 | E11: 0.1023 | F11: -0.0234 | G11: 0.2015 | H11: 0.1039 | I11: 0.0961 | J11: 0.0923 | K11: 0.0608 | L11: -0.284 | M11: 0.4372 | N11: 0.0938 | O11: 0.0968 | P11: 0.1023 | Q11: 0.2486 | R11: 0.2593 | S11: 0.4544
A12: 11 | B12: 0.7613 | C12: -0.0128 | D12: -0.0178 | E12: 0.014 | F12: -0.0001 | G12: 0.0582 | H12: 0.023 | I12: -0.0176 | J12: 0.0005 | K12: -0.1213 | L12: 0.0184 | M12: 0.1079 | N12: 0.0095 | O12: -0.0432 | P12: 0.1534 | Q12: 0.0333 | R12: -0.0617 | S12: 0.0555
A13: 12 | B13: 0.8307 | C13: -0.0841 | D13: -0.1637 | E13: 0.0693 | F13: -0.0706 | G13: 0.1158 | H13: 0.0304 | I13: -0.0114 | J13: -0.0005 | K13: 0.1797 | L13: -0.1311 | M13: 0.6501 | N13: -0.0371 | O13: -0.0052 | P13: 0.0321 | Q13: 0.0356 | R13: 0.0748 | S13: 0.0579
... A53: 52 | B53: 0.8318 | C53: -0.002 | D53: -0.0299 | E53: 0.0222 | F53: -0.0023 | G53: 0.0424 | H53: 0.0344 | I53: 0.0237 | J53: 0.0162 | K53: 0.0542 | L53: -0.0879 | M53: 0.1053 | N53: -0.0488 | O53: -0.0113 | P53: 0.0685 | Q53: 0.0039 | R53: -0.1248 | S53: 0.1472

Sheet Amplitude_perChannel
A1: Channel | B1: Predictor | C1: Estimate | D1: Std. Error | E1: df | F1: t value | G1: Pr(>|t|)
A2: 1 | B2: (Intercept) | C2: 0.84492319 | D2: 0.031066177 | E2: 63.012321 | F2: 27.197527 | G2: 1.5814386e-36
A3: 1 | B3: Group_passiveVsActive | C3: 0.033039119 | D3: 0.066698466 | E3: 63.012321 | F3: 0.4953505 | G3: 0.62207581
A4: 1 | B4: Group_activeCtrlVsTest | C4: -7.9608505e-05 | D4: 0.075264604 | E4: 63.01232 | F4: -0.001057715 | G4: 0.99915941
A5: 1 | B5: StimType | C5: 0.010337692 | D5: 0.041012471 | E5: 62.996833 | F5: 0.25206215 | G5: 0.80181357
A6: 1 | B6: Phase_prePostExposure | C6: 0.0032996963 | D6: 0.061972255 | E6: 62.980578 | F6: 0.053244736 | G6: 0.95770544
A7: 1 | B7: Phase_noSleepVsSleep | C7: 0.024071429 | D7: 0.068220662 | E7: 63.021605 | F7: 0.3528466 | G7: 0.72538087
A8: 1 | B8: Group_passiveVsActive:StimType | C8: -0.046694919 | D8: 0.088052962 | E8: 62.996833 | F8: -0.53030492 | G8: 0.59776491
A9: 1 | B9: Group_activeCtrlVsTest:StimType | C9: -0.019530461 | D9: 0.099361675 | E9: 62.996834 | F9: -0.1965593 | G9: 0.84480516
A10: 1 | B10: Group_passiveVsActive:Phase_prePostExposure | C10: -0.094796157 | D10: 0.1330532 | E10: 62.980577 | F10: -0.71246807 | G10: 0.47880625
A11: 1 | B11: Group_passiveVsActive:Phase_noSleepVsSleep | C11: 0.093128851 | D11: 0.14646841 | E11: 63.021605 | F11: 0.63582893 | G11: 0.52719023
A12: 1 | B12: Group_activeCtrlVsTest:Phase_prePostExposure | C12: 0.02701417 | D12: 0.15014133 | E12: 62.980576 | F12: 0.17992494 | G12: 0.85778916
A13: 1 | B13: Group_activeCtrlVsTest:Phase_noSleepVsSleep | C13: 0.12153565 | D13: 0.16527946 | E13: 63.021606 | F13: 0.73533423 | G13: 0.46486378
... A937: 9 | B937: Group_activeCtrlVsTest:StimType:Phase_noSleepVsSleep | C937: 0.15260002 | D937: 0.21707881 | E937: 63.004349 | F937: 0.70297061 | G937: 0.48466356

Sheet blups_latency
A1: Channel | B1: Intercept | C1: Group_passiveVsActive | D1: Group_activeCtrlVsTest | E1: StimType | F1: Phase_prePostExposure | G1: Phase_noSleepVsSleep | H1: Group_passiveVsActive.StimType | I1: Group_activeCtrlVsTest.StimType | J1: Group_passiveVsActive.Phase_prePostExposure | K1: Group_passiveVsActive.Phase_noSleepVsSleep | L1: Group_activeCtrlVsTest.Phase_prePostExposure | M1: Group_activeCtrlVsTest.Phase_noSleepVsSleep | N1: StimType.Phase_prePostExposure | O1: StimType.Phase_noSleepVsSleep | P1: Group_passiveVsActive.StimType.Phase_prePostExposure | Q1: Group_passiveVsActive.StimType.Phase_noSleepVsSleep | R1: Group_activeCtrlVsTest.StimType.Phase_prePostExposure | S1: Group_activeCtrlVsTest.StimType.Phase_noSleepVsSleep
A2: 1 | B2: 11.1583 | C2: -0.0418 | D2: -0.3223 | E2: -0.0516 | F2: -0.3543 | G2: -0.0837 | H2: -0.3608 | I2: -0.3787 | J2: 0.1848 | K2: 0.2264 | L2: -0.1706 | M2: -0.2031 | N2: -0.4257 | O2: -0.0329 | P2: -0.4158 | Q2: -0.2801 | R2: -0.2336 | S2: 0.0944
A3: 2 | B3: 11.1294 | C3: -0.9702 | D3: -2.432 | E3: -0.6147 | F3: -0.7585 | G3: -0.0345 | H3: -0.927 | I3: -2.2717 | J3: -0.9527 | K3: -0.1367 | L3: -3.1603 | M3: -0.2258 | N3: -0.8697 | O3: -0.2425 | P3: -0.968 | Q3: -0.1383 | R3: -2.1827 | S3: -0.6062
A4: 3 | B4: 11.1235 | C4: -0.2738 | D4: -0.5848 | E4: -0.1022 | F4: -0.2862 | G4: -0.0409 | H4: -0.2258 | I4: -0.3078 | J4: -0.7027 | K4: 0.3594 | L4: -0.8339 | M4: -0.0836 | N4: -0.4411 | O4: 0.1437 | P4: -0.6207 | Q4: -0.0487 | R4: -0.7776 | S4: -0.4056
A5: 4 | B5: 11.0914 | C5: -1.033 | D5: -2.178 | E5: -0.4099 | F5: -0.8534 | G5: -0.0069 | H5: -0.5377 | I5: -1.8068 | J5: -1.5986 | K5: 0.1421 | L5: -2.0618 | M5: -0.1278 | N5: -0.2556 | O5: -0.1674 | P5: -0.3869 | Q5: -0.136 | R5: -0.5584 | S5: 0.0492
A6: 5 | B6: 11.1403 | C6: 0.1308 | D6: 0.0882 | E6: -0.1672 | F6: -0.1514 | G6: -0.0072 | H6: -0.139 | I6: -0.0969 | J6: -0.1087 | K6: -0.2134 | L6: -0.3488 | M6: -0.26 | N6: -0.0068 | O6: -0.1475 | P6: 0.2627 | Q6: 0.289 | R6: -0.0344 | S6: -0.0122
A7: 6 | B7: 11.1013 | C7: -1.4014 | D7: -2.4104 | E7: -0.468 | F7: -1.0524 | G7: -0.0544 | H7: -0.9806 | I7: -2.2665 | J7: -1.2375 | K7: 0.1934 | L7: -3.7226 | M7: 0.0216 | N7: -0.7622 | O7: -0.2158 | P7: -0.8887 | Q7: 0.0623 | R7: -2.465 | S7: -0.8217
A8: 7 | B8: 11.1134 | C8: -1.4665 | D8: -2.3719 | E8: -0.0356 | F8: -0.7824 | G8: -0.1697 | H8: -0.2777 | I8: -0.6419 | J8: -0.5595 | K8: 0.2292 | L8: -2.0752 | M8: 0.0184 | N8: -0.28 | O8: -0.1521 | P8: 0.148 | Q8: 0.0492 | R8: -0.7213 | S8: -0.0436
A9: 8 | B9: 11.0343 | C9: -0.6096 | D9: -1.5703 | E9: -0.1081 | F9: -0.5145 | G9: -0.0998 | H9: -0.2139 | I9: -0.4916 | J9: -1.3308 | K9: 0.2429 | L9: -2.1621 | M9: -0.3873 | N9: -0.4569 | O9: 0.0205 | P9: -0.781 | Q9: -0.0996 | R9: -0.5955 | S9: -0.28
A10: 9 | B10: 11.1641 | C10: -0.1002 | D10: -0.1665 | E10: -0.0331 | F10: -0.1868 | G10: -0.0603 | H10: 0.053 | I10: 0.0823 | J10: -0.6312 | K10: -0.1596 | L10: -0.2112 | M10: -0.2544 | N10: 0.2033 | O10: -0.0451 | P10: 0.0666 | Q10: -0.219 | R10: 0.2033 | S10: -0.5948
A11: 10 | B11: 10.9763 | C11: -0.7504 | D11: -0.8219 | E11: -0.2373 | F11: -0.5406 | G11: -0.0817 | H11: -0.4365 | I11: -0.2275 | J11: -0.4417 | K11: 0.5942 | L11: -0.4964 | M11: -0.0562 | N11: -0.1799 | O11: 0.2553 | P11: -0.402 | Q11: 0.0831 | R11: 0.0448 | S11: -0.1458
A12: 11 | B12: 10.9781 | C12: -0.272 | D12: 0.0019 | E12: -0.1656 | F12: -0.2905 | G12: -0.0618 | H12: 0.2858 | I12: -0.0598 | J12: 0.1165 | K12: 0.1271 | L12: -1.3756 | M12: -0.1063 | N12: -0.4143 | O12: -0.2431 | P12: -0.4748 | Q12: -0.1253 | R12: -0.5575 | S12: 0.0442
A13: 12 | B13: 11.2736 | C13: -0.1699 | D13: -0.2327 | E13: -0.0804 | F13: -0.0479 | G13: 0.0273 | H13: 0.0223 | I13: 0.3023 | J13: 0.344 | K13: -0.145 | L13: -0.2204 | M13: 0.3278 | N13: -0.2376 | O13: 0.1421 | P13: -0.2541 | Q13: 0.1674 | R13: -0.0732 | S13: 0.2151
... A53: 52 | B53: 11.2243 | C53: -0.2307 | D53: -0.0512 | E53: 0.0791 | F53: -0.1665 | G53: -0.0757 | H53: -0.114 | I53: 0.1013 | J53: -0.3351 | K53: 0.7033 | L53: 0.3033 | M53: 0.035 | N53: -0.015 | O53: 0.0812 | P53: 0.1143 | Q53: 0.1273 | R53: -1.1252 | S53: 0.3047

Sheet Latency_perChannel
A1: Channel | B1: Predictor | C1: Estimate | D1: Std. Error | E1: df | F1: t value | G1: Pr(>|t|)
A2: 1 | B2: (Intercept) | C2: 11.152652 | D2: 0.11161521 | E2: 63.015371 | F2: 99.920534 | G2: 4.0098935e-71
A3: 1 | B3: Group_passiveVsActive | C3: -0.03122575 | D3: 0.23963565 | E3: 63.015371 | F3: -0.13030511 | G3: 0.89674011
A4: 1 | B4: Group_activeCtrlVsTest | C4: -0.31875274 | D4: 0.27041224 | E4: 63.015371 | F4: -1.1787659 | G4: 0.24292322
A5: 1 | B5: StimType | C5: -0.028956229 | D5: 0.19662853 | E5: 63.000555 | F5: -0.14726362 | G5: 0.88339422
A6: 1 | B6: Phase_prePostExposure | C6: -0.36079545 | D6: 0.20762095 | E6: 62.995763 | F6: -1.7377604 | G6: 0.087139585
A7: 1 | B7: Phase_noSleepVsSleep | C7: -0.15770202 | D7: 0.24775619 | E7: 62.950796 | F7: -0.63652101 | G7: 0.52674471
A8: 1 | B8: Group_passiveVsActive:StimType | C8: -0.38275132 | D8: 0.42215755 | E8: 63.000555 | F8: -0.90665517 | G8: 0.36804394
A9: 1 | B9: Group_activeCtrlVsTest:StimType | C9: -0.36564559 | D9: 0.47637558 | E9: 63.000555 | F9: -0.76755736 | G9: 0.44561744
A10: 1 | B10: Group_passiveVsActive:Phase_prePostExposure | C10: 0.25363757 | D10: 0.44575806 | E10: 62.995763 | F10: 0.56900276 | G10: 0.57137745
A11: 1 | B11: Group_passiveVsActive:Phase_noSleepVsSleep | C11: 0.28494709 | D11: 0.53192762 | E11: 62.950796 | F11: 0.53568771 | G11: 0.59406206
A12: 1 | B12: Group_activeCtrlVsTest:Phase_prePostExposure | C12: -0.14270422 | D12: 0.50300713 | E12: 62.995763 | F12: -0.28370217 | G12: 0.77756896
A13: 1 | B13: Group_activeCtrlVsTest:Phase_noSleepVsSleep | C13: -0.33277339 | D13: 0.60024352 | E13: 62.950796 | F13: -0.5543973 | G13: 0.5812713
... A937: 9 | B937: Group_activeCtrlVsTest:StimType:Phase_noSleepVsSleep | C937: -1.1222826 | D937: 1.3340383 | E937: 63.00022 | F937: -0.84126715 | G937: 0.4033802

Sheet blups_Connectivity
A1: ChannelPair | B1: X.Intercept. | C1: Group_passiveVsActive | D1: Group_activeCtrlVsTest | E1: Phase_prePostExposure | F1: Phase_noSleepVsSleep | G1: Group_passiveVsActive.Phase_prePostExposure | H1: Group_passiveVsActive.Phase_noSleepVsSleep | I1: Group_activeCtrlVsTest.Phase_prePostExposure | J1: Group_activeCtrlVsTest.Phase_noSleepVsSleep
A2: Ch10to11 | B2: 0.090595075 | C2: 0.053119048 | D2: -0.021952719 | E2: 0.068944222 | F2: 0.2276267 | G2: 0.097671859 | H2: 0.1909616 | I2: 0.051468249 | J2: -0.027047255
A3: Ch10to12 | B3: 0.14668663 | C3: 0.066652421 | D3: -0.021952719 | E3: 0.1128839 | F3: 0.067859538 | G3: 0.09767362 | H3: 0.19733925 | I3: -0.0091400647 | J3: -0.017935099
A4: Ch10to13 | B4: 0.16725498 | C4: 0.059420861 | D4: -0.021952719 | E4: 0.089470503 | F4: 0.25150849 | G4: 0.097674117 | H4: 0.24269265 | I4: 0.014207946 | J4: -0.01530364
A5: Ch10to14 | B5: 0.16246183 | C5: 0.054314759 | D5: -0.021952719 | E5: 0.099548277 | F5: 0.19662287 | G5: 0.097671541 | H5: 0.23084988 | I5: -0.044386226 | J5: -0.010945327
A6: Ch10to15 | B6: 0.095896675 | C6: 0.077304135 | D6: -0.021952719 | E6: 0.099177378 | F6: 0.26357035 | G6: 0.097670436 | H6: 0.18520072 | I6: -0.0065921077 | J6: -0.017805623
A7: Ch10to16 | B7: 0.14105755 | C7: 0.052400373 | D7: -0.021952719 | E7: 0.039641619 | F7: 0.17954229 | G7: 0.097673504 | H7: 0.25624959 | I7: 0.10527973 | J7: -0.016461196
A8: Ch10to17 | B8: 0.13193755 | C8: 0.056398624 | D8: -0.021952719 | E8: 0.10538539 | F8: 0.2382633 | G8: 0.097671984 | H8: 0.17045389 | I8: -0.016150344 | J8: -0.012087136
A9: Ch10to18 | B9: 0.17466405 | C9: 0.04694509 | D9: -0.021952719 | E9: 0.088990614 | F9: 0.12010963 | G9: 0.097675524 | H9: 0.18866883 | I9: 0.075218936 | J9: -0.017914199
A10: Ch10to19 | B10: 0.16617198 | C10: 0.054687761 | D10: -0.021952719 | E10: 0.078748488 | F10: 0.20112645 | G10: 0.09767271 | H10: 0.20699841 | I10: 0.011556869 | J10: -0.023030229
A11: Ch10to20 | B11: 0.1101201 | C11: 0.042229879 | D11: -0.021952719 | E11: 0.099409049 | F11: 0.2510667 | G11: 0.097673722 | H11: 0.15607714 | I11: -0.021787302 | J11: -0.022891048
A12: Ch10to21 | B12: 0.17789795 | C12: 0.057251116 | D12: -0.021952719 | E12: 0.090119715 | F12: 0.14295061 | G12: 0.09767498 | H12: 0.15698884 | I12: 0.014399945 | J12: -0.016604344
A13: Ch10to22 | B13: 0.18283542 | C13: 0.040232474 | D13: -0.021952719 | E13: 0.085194559 | F13: 0.12473788 | G13: 0.097672162 | H13: 0.24462759 | I13: 0.033045785 | J13: -0.020249618
... A337: Ch9to45 | B337: 0.20483696 | C337: 0.039350786 | D337: -0.021952719 | E337: 0.097650052 | F337: 0.24886901 | G337: 0.097668779 | H337: 0.27078463 | I337: -0.062590559 | J337: -0.014616989

Sheet Connectivity_perChannel
A1: fromChannel | B1: toChannel | C1: Predictor | D1: Estimate | E1: Std. Error | F1: df | G1: t value | H1: Pr(>|t|)
A2: Ch1 | B2: 2 | C2: (Intercept) | D2: 0.29023409 | E2: 0.051561162 | F2: 48.998645 | G2: 5.6289285 | H2: 8.6837112e-07
A3: Ch1 | B3: 2 | C3: Group_passiveVsActive | D3: 0.20942639 | E3: 0.1429074 | F3: 48.998645 | G3: 1.4654692 | H3: 0.14918094
A4: Ch1 | B4: 2 | C4: Group_activeCtrlVsTest | D4: -0.11484253 | E4: 0.11210579 | F4: 48.998645 | G4: -1.0244122 | H4: 0.3106717
A5: Ch1 | B5: 2 | C5: Phase_prePostExposure | D5: 0.16247096 | E5: 0.13001999 | F5: 49.000145 | G5: 1.2495844 | H5: 0.21738727
A6: Ch1 | B6: 2 | C6: Phase_noSleepVsSleep | D6: 0.28024181 | E6: 0.12771969 | F6: 48.999632 | G6: 2.1941943 | H6: 0.032992977
A7: Ch1 | B7: 2 | C7: Group_passiveVsActive:Phase_prePostExposure | D7: -0.0706761 | E7: 0.36036462 | F7: 49.000145 | G7: -0.19612386 | H7: 0.84532434
A8: Ch1 | B8: 2 | C8: Group_passiveVsActive:Phase_noSleepVsSleep | D8: 0.40945693 | E8: 0.35398909 | F8: 48.999632 | G8: 1.1566937 | H8: 0.25300573
A9: Ch1 | B9: 2 | C9: Group_activeCtrlVsTest:Phase_prePostExposure | D9: -0.1976173 | E9: 0.28269326 | F9: 49.000145 | G9: -0.69905201 | H9: 0.48782458
A10: Ch1 | B10: 2 | C10: Group_activeCtrlVsTest:Phase_noSleepVsSleep | D10: -0.27416101 | E10: 0.27769189 | F10: 48.999632 | G10: -0.98728491 | H10: 0.32835327
A11: Ch1 | B11: 6 | C11: (Intercept) | D11: 0.17335533 | E11: 0.052183138 | F11: 48.999972 | G11: 3.3220564 | H11: 0.0016948074
A12: Ch1 | B12: 6 | C12: Group_passiveVsActive | D12: 0.18598022 | E12: 0.14463127 | F12: 48.999972 | G12: 1.2858922 | H12: 0.2045243
A13: Ch1 | B13: 6 | C13: Group_activeCtrlVsTest | D13: 0.028868809 | E13: 0.1134581 | F13: 48.999972 | G13: 0.25444467 | H13: 0.80021686
... A3025: Ch45 | B3025: 52 | C3025: Group_activeCtrlVsTest:Phase_noSleepVsSleep | D3025: 0.46766916 | E3025: 0.24596808 | F3025: 49.00015 | G3025: 1.9013409 | H3025: 0.063146217

Sheet Connectivity_signifCounts
A1: Predictor | B1: fromChannel | C1: toChannel | D1: beta | E1: SE | F1: df | G1: t | H1: p | I1: isDuplicateListing | J1: from region | K1: to region | L1: FromCount | M1: (Ch | N1: : β = | O1: , SE = | P1: , t( | Q1: ) = | R1: ~ p = | S1: )
A2: Group (Contrast 1) x Phase (Contrast 2) | B2: 2 | C2: 5 | D2: 1.0777651 | E2: 0.34761188 | F2: 48.999678 | G2: 3.1004841 | H2: 0.0031997815 | I2: 0 | J2: =VLOOKUP(B2,channelList!$A$2:$F$53,6) -> Inferior frontal gyrus (triangular) left | K2: =VLOOKUP(C2,channelList!$A$2:$F$53,6) -> Superior temporal gyrus left | L2: =IF(J2=J1,L1+1,1) -> 1 | M2: =$M$1&B2&" & "&C2&$N$1&ROUND(D2,3)&$O$1&ROUND(E2,3)&$P$1&ROUND(F2,3)&$Q$1&ROUND(G2,3)&$R$1&ROUND(H2,3)&$S$1 -> (Ch 2 & 5: β = 1.078, SE = 0.348, t(49) = 3.1 ~ p = 0.003)
A3: Group (Contrast 1) x Phase (Contrast 2) | B3: 2 | C3: 7 | D3: 1.0775423 | E3: 0.38005809 | F3: 49.000317 | G3: 2.8352042 | H3: 0.0066368657 | I3: 0 | J3: =VLOOKUP(B3,channelList!$A$2:$F$53,6) -> Inferior frontal gyrus (triangular) left | K3: =VLOOKUP(C3,channelList!$A$2:$F$53,6) -> Superior temporal gyrus left | L3: =IF(J3=J2,L2+1,1) -> 2 | M3: =$M$1&B3&" & "&C3&$N$1&ROUND(D3,3)&$O$1&ROUND(E3,3)&$P$1&ROUND(F3,3)&$Q$1&ROUND(G3,3)&$R$1&ROUND(H3,3)&$S$1 -> (Ch 2 & 7: β = 1.078, SE = 0.38, t(49) = 2.835 ~ p = 0.007)
A4: Group (Contrast 1) x Phase (Contrast 2) | B4: 2 | C4: 10 | D4: 0.7919174 | E4: 0.38823941 | F4: 48.999842 | G4: 2.0397656 | H4: 0.046783956 | I4: 0 | J4: =VLOOKUP(B4,channelList!$A$2:$F$53,6) -> Inferior frontal gyrus (triangular) left | K4: =VLOOKUP(C4,channelList!$A$2:$F$53,6) -> Superior temporal gyrus left | L4: =IF(J4=J3,L3+1,1) -> 3 | M4: =$M$1&B4&" & "&C4&$N$1&ROUND(D4,3)&$O$1&ROUND(E4,3)&$P$1&ROUND(F4,3)&$Q$1&ROUND(G4,3)&$R$1&ROUND(H4,3)&$S$1 -> (Ch 2 & 10: β = 0.792, SE = 0.388, t(49) = 2.04 ~ p = 0.047)
A5: Group (Contrast 1) x Phase (Contrast 2) | B5: 2 | C5: 14 | D5: -0.85007454 | E5: 0.29519666 | F5: 49.000197 | G5: -2.8796889 | H5: 0.0058873527 | I5: 0 | J5: =VLOOKUP(B5,channelList!$A$2:$F$53,6) -> Inferior frontal gyrus (triangular) left | K5: =VLOOKUP(C5,channelList!$A$2:$F$53,6) -> Middle occipital gyrus left | L5: =IF(J5=J4,L4+1,1) -> 4 | M5: =$M$1&B5&" & "&C5&$N$1&ROUND(D5,3)&$O$1&ROUND(E5,3)&$P$1&ROUND(F5,3)&$Q$1&ROUND(G5,3)&$R$1&ROUND(H5,3)&$S$1 -> (Ch 2 & 14: β = -0.85, SE = 0.295, t(49) = -2.88 ~ p = 0.006)
A6: Group (Contrast 1) x Phase (Contrast 2) | B6: 2 | C6: 16 | D6: 0.86299566 | E6: 0.29786927 | F6: 48.999811 | G6: 2.8972296 | H6: 0.0056140573 | I6: 0 | J6: =VLOOKUP(B6,channelList!$A$2:$F$53,6) -> Inferior frontal gyrus (triangular) left | K6: =VLOOKUP(C6,channelList!$A$2:$F$53,6) -> Inferior frontal gyrus (opercular) left | L6: =IF(J6=J5,L5+1,1) -> 5 | M6: =$M$1&B6&" & "&C6&$N$1&ROUND(D6,3)&$O$1&ROUND(E6,3)&$P$1&ROUND(F6,3)&$Q$1&ROUND(G6,3)&$R$1&ROUND(H6,3)&$S$1 -> (Ch 2 & 16: β = 0.863, SE = 0.298, t(49) = 2.897 ~ p = 0.006)
A7: Group (Contrast 1) x Phase (Contrast 2) | B7: 2 | C7: 23 | D7: 0.87404473 | E7: 0.33803954 | F7: 48.999625 | G7: 2.5856287 | H7: 0.012745391 | I7: 0 | J7: =VLOOKUP(B7,channelList!$A$2:$F$53,6) -> Inferior frontal gyrus (triangular) left | K7: =VLOOKUP(C7,channelList!$A$2:$F$53,6) -> Angular gyrus left | L7: =IF(J7=J6,L6+1,1) -> 6 | M7: =$M$1&B7&" & "&C7&$N$1&ROUND(D7,3)&$O$1&ROUND(E7,3)&$P$1&ROUND(F7,3)&$Q$1&ROUND(G7,3)&$R$1&ROUND(H7,3)&$S$1 -> (Ch 2 & 23: β = 0.874, SE = 0.338, t(49) = 2.586 ~ p = 0.013)
A8: Group (Contrast 1) x Phase (Contrast 2) | B8: 2 | C8: 25 | D8: 1.1313895 | E8: 0.38297265 | F8: 49.000256 | G8: 2.9542304 | H8: 0.0048052213 | I8: 0 | J8: =VLOOKUP(B8,channelList!$A$2:$F$53,6) -> Inferior frontal gyrus (triangular) left | K8: =VLOOKUP(C8,channelList!$A$2:$F$53,6) -> Inferior parietal lobule left | L8: =IF(J8=J7,L7+1,1) -> 7 | M8: =$M$1&B8&" & "&C8&$N$1&ROUND(D8,3)&$O$1&ROUND(E8,3)&$P$1&ROUND(F8,3)&$Q$1&ROUND(G8,3)&$R$1&ROUND(H8,3)&$S$1 -> (Ch 2 & 25: β = 1.131, SE = 0.383, t(49) = 2.954 ~ p = 0.005)
A9: Group (Contrast 1) x Phase (Contrast 2) | B9: 2 | C9: 48 | D9: 0.6840482 | E9: 0.30420703 | F9: 48.998172 | G9: 2.2486272 | H9: 0.029066888 | I9: 0 | J9: =VLOOKUP(B9,channelList!$A$2:$F$53,6) -> Inferior frontal gyrus (triangular) left | K9: =VLOOKUP(C9,channelList!$A$2:$F$53,6) -> Superior temporal gyrus right | L9: =IF(J9=J8,L8+1,1) -> 8 | M9: =$M$1&B9&" & "&C9&$N$1&ROUND(D9,3)&$O$1&ROUND(E9,3)&$P$1&ROUND(F9,3)&$Q$1&ROUND(G9,3)&$R$1&ROUND(H9,3)&$S$1 -> (Ch 2 & 48: β = 0.684, SE = 0.304, t(48.998) = 2.249 ~ p = 0.029)
A10: Group (Contrast 1) x Phase (Contrast 2) | B10: 4 | C10: 7 | D10: 0.85612087 | E10: 0.40264596 | F10: 49.000083 | G10: 2.1262373 | H10: 0.038546163 | I10: 0 | J10: =VLOOKUP(B10,channelList!$A$2:$F$53,6) -> Inferior frontal gyrus (triangular) left | K10: =VLOOKUP(C10,channelList!$A$2:$F$53,6) -> Superior temporal gyrus left | L10: =IF(J10=J9,L9+1,1) -> 9 | M10: =$M$1&B10&" & "&C10&$N$1&ROUND(D10,3)&$O$1&ROUND(E10,3)&$P$1&ROUND(F10,3)&$Q$1&ROUND(G10,3)&$R$1&ROUND(H10,3)&$S$1 -> (Ch 4 & 7: β = 0.856, SE = 0.403, t(49) = 2.126 ~ p = 0.039)
A11: Group (Contrast 1) x Phase (Contrast 2) | B11: 5 | C11: 2 | D11: 1.0777651 | E11: 0.34761188 | F11: 48.999678 | G11: 3.1004841 | H11: 0.0031997815 | I11: 1 | J11: =VLOOKUP(B11,channelList!$A$2:$F$53,6) -> Superior temporal gyrus left | K11: =VLOOKUP(C11,channelList!$A$2:$F$53,6) -> Inferior frontal gyrus (triangular) left | L11: =IF(J11=J10,L10+1,1) -> 1 | M11: =$M$1&B11&" & "&C11&$N$1&ROUND(D11,3)&$O$1&ROUND(E11,3)&$P$1&ROUND(F11,3)&$Q$1&ROUND(G11,3)&$R$1&ROUND(H11,3)&$S$1 -> (Ch 5 & 2: β = 1.078, SE = 0.348, t(49) = 3.1 ~ p = 0.003)
A12: Group (Contrast 1) x Phase (Contrast 2) | B12: 5 | C12: 7 | D12: 1.1395484 | E12: 0.3639983 | F12: 49.000169 | G12: 3.1306421 | H12: 0.0029385888 | I12: 0 | J12: =VLOOKUP(B12,channelList!$A$2:$F$53,6) -> Superior temporal gyrus left | K12: =VLOOKUP(C12,channelList!$A$2:$F$53,6) -> Superior temporal gyrus left | L12: =IF(J12=J11,L11+1,1) -> 2 | M12: =$M$1&B12&" & "&C12&$N$1&ROUND(D12,3)&$O$1&ROUND(E12,3)&$P$1&ROUND(F12,3)&$Q$1&ROUND(G12,3)&$R$1&ROUND(H12,3)&$S$1 -> (Ch 5 & 7: β = 1.14, SE = 0.364, t(49) = 3.131 ~ p = 0.003)
A13: Group (Contrast 1) x Phase (Contrast 2) | B13: 6 | C13: 7 | D13: 0.88597777 | E13: 0.3984386 | F13: 49.000006 | G13: 2.2236243 | H13: 0.030815596 | I13: 0 | J13: =VLOOKUP(B13,channelList!$A$2:$F$53,6) -> Inferior frontal gyrus (opercular) left | K13: =VLOOKUP(C13,channelList!$A$2:$F$53,6) -> Superior temporal gyrus left | L13: =IF(J13=J12,L12+1,1) -> 1 | M13: =$M$1&B13&" & "&C13&$N$1&ROUND(D13,3)&$O$1&ROUND(E13,3)&$P$1&ROUND(F13,3)&$Q$1&ROUND(G13,3)&$R$1&ROUND(H13,3)&$S$1 -> (Ch 6 & 7: β = 0.886, SE = 0.398, t(49) = 2.224 ~ p = 0.031)
... A65: Group (Contrast 1) x Phase (Contrast 2) | B65: 51 | C65: 10 | D65: 0.76984317 | E65: 0.31291545 | F65: 49.000924 | G65: 2.4602275 | H65: 0.017458223 | I65: 1 | J65: =VLOOKUP(B65,channelList!$A$2:$F$53,6) -> Middle occipital gyrus right | K65: =VLOOKUP(C65,channelList!$A$2:$F$53,6) -> Superior temporal gyrus left | L65: =IF(J65=J64,L64+1,1) -> 1 | M65: =$M$1&B65&" & "&C65&$N$1&ROUND(D65,3)&$O$1&ROUND(E65,3)&$P$1&ROUND(F65,3)&$Q$1&ROUND(G65,3)&$R$1&ROUND(H65,3)&$S$1 -> (Ch 51 & 10: β = 0.77, SE = 0.313, t(49.001) = 2.46 ~ p = 0.017)

Sheet channelList
A1: Channel | B1: Distance_cm | C1: x | D1: y | E1: z | F1: AAL_neonatal
A2: 1 | B2: 2 | C2: -37 | D2: 10 | E2: -12 | F2: Temporal pole (superior) left
A3: 2 | B3: 1.8 | C3: -39 | D3: 14 | E3: 7 | F3: Inferior frontal gyrus (triangular) left
A4: 3 | B4: 3.5 | C4: -36 | D4: 11 | E4: -12 | F4: Temporal pole (superior) left
A5: 4 | B5: 2 | C5: -37 | D5: 18 | E5: 10 | F5: Inferior frontal gyrus (triangular) left
A6: 5 | B6: 2.5 | C6: -41 | D6: 3 | E6: -1 | F6: Superior temporal gyrus left
A7: 6 | B7: 2 | C7: -40 | D7: 9 | E7: 15 | F7: Inferior frontal gyrus (opercular) left
A8: 7 | B8: 2.2 | C8: -42 | D8: -6 | E8: 5 | F8: Superior temporal gyrus left
A9: 8 | B9: 2.5 | C9: -42 | D9: 2 | E9: 12 | F9: Postcentral gyrus left
A10: 9 | B10: 2.5 | C10: -36 | D10: -36 | E10: -5 | F10: Inferior temporal gyrus left
A11: 10 | B11: 2.8 | C11: -42 | D11: -25 | E11: 9 | F11: Superior temporal gyrus left
A12: 11 | B12: 2 | C12: -38 | D12: -48 | E12: 6 | F12: Middle temporal gyrus left
A13: 12 | B13: 2.3 | C13: -40 | D13: -43 | E13: 18 | F13: Angular gyrus left
... A53: 52 | B53: 2 | C53: 31 | D53: -46 | E53: -10 | F53: Inferior temporal gyrus right
