Workbook

Sheet Bin summaries
A1: Supplementary Table 3. Assembly statistics, taxonomic information, and key metabolic genes of the 12 metagenome-assembled genomes (MAGs).
A2: GenomeBin | B2: Completeness | C2: Contamination | D2: Genome size | E2: NCBI taxonomy | F2: GTDB taxonomy | G2: Proportion of metagenome | H2: Reads mapped | M2: Reads mapped / Genome size | R2: Reads mapped / genome size / sample depth * 1,000,000
H3: Subtidal 2-5 cm | I3: Subtidal 15-18 cm | J3: Intertidal 2-5 cm | K3: Intertidal 15-18 cm | L3: Flow-Through Reactor | M3: Subtidal 2-5 cm | N3: Subtidal 15-18 cm | O3: Intertidal 2-5 cm | P3: Intertidal 15-18 cm | Q3: Flow-Through Reactor | R3: Subtidal 2-5 cm | S3: Subtidal 15-18 cm | T3: Intertidal 2-5 cm | U3: Intertidal 15-18 cm | V3: Flow-Through Reactor
A4: GroopM.bin_3 | B4: 81.08 | C4: 1.57 | D4: 1939840 | E4: d__Bacteria; p__Proteobacteria; c__Alphaproteobacteria; o__Sphingomonadales; f__Erythrobacteraceae; g__Erythrobacter; s__ | F4: d__Bacteria;p__Proteobacteria;c__Alphaproteobacteria;o__Sphingomonadales;f__Sphingomonadaceae;g__Erythrobacter_C;s__ | G4: 0.25921631 | H4: 22194 | I4: 45658 | J4: 59611 | K4: 99741 | L4: 136943 | M4: =H4/$D4 -> 0.01144115 | N4: =I4/$D4 -> 0.023536993 | O4: =J4/$D4 -> 0.030729854 | P4: =K4/$D4 -> 0.051417127 | Q4: =L4/$D4 -> 0.070594998 | R4: =M4/'Sample depths'!$C$4*1000000 -> 0.00070117982 | S4: =N4/'Sample depths'!$C$5*1000000 -> 0.00060222116 | T4: =O4/'Sample depths'!$C$2*1000000 -> 0.0011054126 | U4: =P4/'Sample depths'!$C$3*1000000 -> 0.0016053747 | V4: =Q4/'Sample depths'!$C$6*1000000 -> 0.0027956448
A5: GroopM.bin_13 | B5: 77.14 | C5: 1.84 | D5: 2710016 | E5: d__Bacteria; p__Proteobacteria; c__Alphaproteobacteria; o__Rhodobacterales; f__Hyphomonadaceae; g__Robiginitomaculum; s__ | F5: d__Bacteria;p__Proteobacteria;c__Alphaproteobacteria;o__Caulobacterales;f__Maricaulaceae;g__Robiginitomaculum_A;s__ | G5: 0.31728687 | H5: 23050.5 | I5: 57378.5 | J5: 87465.5 | K5: 124323 | L5: 153507 | M5: =H5/$D5 -> 0.0085056693 | N5: =I5/$D5 -> 0.021172753 | O5: =J5/$D5 -> 0.032274902 | P5: =K5/$D5 -> 0.045875375 | Q5: =L5/$D5 -> 0.056644315 | R5: =M5/'Sample depths'!$C$4*1000000 -> 0.00052127661 | S5: =N5/'Sample depths'!$C$5*1000000 -> 0.00054172936 | T5: =O5/'Sample depths'!$C$2*1000000 -> 0.0011609909 | U5: =P5/'Sample depths'!$C$3*1000000 -> 0.0014323469 | V5: =Q5/'Sample depths'!$C$6*1000000 -> 0.0022431814
A6: GroopM.bin_14 | B6: 82.6 | C6: 2.49 | D6: 3394151 | E6: d__Bacteria; p__Proteobacteria; c__Gammaproteobacteria; o__Chromatiales; f__Woeseiaceae; g__; s__ | F6: d__Bacteria;p__Proteobacteria;c__Gammaproteobacteria;o__Woeseiales;f__Woeseiaceae;g__;s__ | G6: 0.74675771 | H6: 43325 | I6: 126571 | J6: 184925 | K6: 315421 | L6: 378803 | M6: =H6/$D6 -> 0.012764606 | N6: =I6/$D6 -> 0.037290916 | O6: =J6/$D6 -> 0.054483433 | P6: =K6/$D6 -> 0.092930751 | Q6: =L6/$D6 -> 0.11160464 | R6: =M6/'Sample depths'!$C$4*1000000 -> 0.00078228887 | S6: =N6/'Sample depths'!$C$5*1000000 -> 0.00095413119 | T6: =O6/'Sample depths'!$C$2*1000000 -> 0.001959875 | U6: =P6/'Sample depths'!$C$3*1000000 -> 0.0029015365 | V6: =Q6/'Sample depths'!$C$6*1000000 -> 0.0044196749
A7: MaxBin.003 | B7: 93.43 | C7: 7.95 | D7: 3079230 | E7: d__Bacteria; p__Bacteroidetes; c__Flavobacteriia; o__Flavobacteriales; f__Flavobacteriaceae; g__; s__ | F7: d__Bacteria;p__Bacteroidota;c__Bacteroidia;o__Flavobacteriales;f__Flavobacteriaceae;g__;s__ | G7: 1.3503722 | H7: 103616 | I7: 207998.5 | J7: 385354.5 | K7: 496164.5 | L7: 703869 | M7: =H7/$D7 -> 0.033649971 | N7: =I7/$D7 -> 0.067548868 | O7: =J7/$D7 -> 0.12514638 | P7: =K7/$D7 -> 0.16113265 | Q7: =L7/$D7 -> 0.22858604 | R7: =M7/'Sample depths'!$C$4*1000000 -> 0.0020622648 | S7: =N7/'Sample depths'!$C$5*1000000 -> 0.0017283159 | T7: =O7/'Sample depths'!$C$2*1000000 -> 0.0045017587 | U7: =P7/'Sample depths'!$C$3*1000000 -> 0.0050309749 | V7: =Q7/'Sample depths'!$C$6*1000000 -> 0.0090522759
A8: MaxBin.036 | B8: 85.11 | C8: 7.68 | D8: 3185338 | E8: d__Bacteria; p__Proteobacteria; c__Alphaproteobacteria; o__Rhodobacterales; f__Rhodobacteraceae; g__Boseongicola; s__ | F8: d__Bacteria;p__Proteobacteria;c__Alphaproteobacteria;o__Rhodobacterales;f__Rhodobacteraceae;g__Boseongicola;s__ | G8: 0.54229831 | H8: 41533 | I8: 102837 | J8: 140530 | K8: 208385.5 | L8: 268535 | M8: =H8/$D8 -> 0.013038805 | N8: =I8/$D8 -> 0.032284486 | O8: =J8/$D8 -> 0.044117767 | P8: =K8/$D8 -> 0.065420216 | Q8: =L8/$D8 -> 0.084303455 | R8: =M8/'Sample depths'!$C$4*1000000 -> 0.00079909335 | S8: =N8/'Sample depths'!$C$5*1000000 -> 0.00082603589 | T8: =O8/'Sample depths'!$C$2*1000000 -> 0.0015870018 | U8: =P8/'Sample depths'!$C$3*1000000 -> 0.002042587 | V8: =Q8/'Sample depths'!$C$6*1000000 -> 0.0033385159
A9: MaxBin.051 | B9: 54.57 | C9: 2.7 | D9: 2241832 | E9: d__Bacteria; p__Proteobacteria; c__Deltaproteobacteria; o__Desulfobacterales; f__Desulfobulbaceae; g__; s__ | F9: d__Bacteria;p__Desulfobacterota;c__Desulfobulbia;o__Desulfobulbales;f__Desulfocapsaceae;g__;s__ | G9: 0.16583859 | H9: 4262 | I9: 18022 | J9: 34890.5 | K9: 69875 | L9: 105920.5 | M9: =H9/$D9 -> 0.0019011237 | N9: =I9/$D9 -> 0.008038961 | O9: =J9/$D9 -> 0.015563387 | P9: =K9/$D9 -> 0.031168705 | Q9: =L9/$D9 -> 0.047247296 | R9: =M9/'Sample depths'!$C$4*1000000 -> 0.00011651186 | S9: =N9/'Sample depths'!$C$5*1000000 -> 0.00020568611 | T9: =O9/'Sample depths'!$C$2*1000000 -> 0.0005598453 | U9: =P9/'Sample depths'!$C$3*1000000 -> 0.00097316695 | V9: =Q9/'Sample depths'!$C$6*1000000 -> 0.0018710484
A10: MaxBin.075 | B10: 80.32 | C10: 4.52 | D10: 1818743 | E10: d__Bacteria; p__Proteobacteria; c__Alphaproteobacteria; o__Sphingomonadales; f__Sphingomonadaceae; g__Sphingomonas; s__ | F10: d__Bacteria;p__Proteobacteria;c__Alphaproteobacteria;o__Sphingomonadales;f__Sphingomonadaceae;g__Sphingomonas_A;s__ | G10: 0.19349484 | H10: 17334 | I10: 35342 | J10: 47083 | K10: 78677.5 | L10: 93385 | M10: =H10/$D10 -> 0.0095307583 | N10: =I10/$D10 -> 0.019432102 | O10: =J10/$D10 -> 0.02588766 | P10: =K10/$D10 -> 0.043259273 | Q10: =L10/$D10 -> 0.051345902 | R10: =M10/'Sample depths'!$C$4*1000000 -> 0.00058409999 | S10: =N10/'Sample depths'!$C$5*1000000 -> 0.0004971928 | T10: =O10/'Sample depths'!$C$2*1000000 -> 0.00093122944 | U10: =P10/'Sample depths'!$C$3*1000000 -> 0.0013506655 | V10: =Q10/'Sample depths'!$C$6*1000000 -> 0.0020333581
A11: MetaBAT.bin.5 | B11: 78.92 | C11: 5.07 | D11: 2405689 | E11: d__Bacteria; p__Bacteroidetes; c__Flavobacteriia; o__Flavobacteriales; f__Flavobacteriaceae; g__; s__ | F11: d__Bacteria;p__Bacteroidota;c__Bacteroidia;o__Flavobacteriales;f__Flavobacteriaceae;g__;s__ | G11: 0.70348819 | H11: 38757 | I11: 86384 | J11: 193522 | K11: 271034 | L11: 398563 | M11: =H11/$D11 -> 0.016110561 | N11: =I11/$D11 -> 0.035908216 | O11: =J11/$D11 -> 0.080443482 | P11: =K11/$D11 -> 0.11266377 | Q11: =L11/$D11 -> 0.1656752 | R11: =M11/'Sample depths'!$C$4*1000000 -> 0.00098734836 | S11: =N11/'Sample depths'!$C$5*1000000 -> 0.00091875321 | T11: =O11/'Sample depths'!$C$2*1000000 -> 0.0028937084 | U11: =P11/'Sample depths'!$C$3*1000000 -> 0.0035176521 | V11: =Q11/'Sample depths'!$C$6*1000000 -> 0.0065609325
A12: MetaBAT.bin.10 | B12: 93.33 | C12: 2.26 | D12: 4312764 | E12: d__Bacteria; p__Proteobacteria; c__Deltaproteobacteria; o__Myxococcales; f__Sandaracinaceae; g__Sandaracinus; s__ | F12: d__Bacteria;p__Myxococcota;c__Polyangia;o__Polyangiales;f__SG8-38;g__SG8-38;s__ | G12: 1.0842631 | H12: 35553 | I12: 124216 | J12: 218299.5 | K12: 495299.5 | L12: 649804.5 | M12: =H12/$D12 -> 0.0082436693 | N12: =I12/$D12 -> 0.028801947 | O12: =J12/$D12 -> 0.050617075 | P12: =K12/$D12 -> 0.11484503 | Q12: =L12/$D12 -> 0.15067008 | R12: =M12/'Sample depths'!$C$4*1000000 -> 0.00050521973 | S12: =N12/'Sample depths'!$C$5*1000000 -> 0.0007369311 | T12: =O12/'Sample depths'!$C$2*1000000 -> 0.0018207946 | U12: =P12/'Sample depths'!$C$3*1000000 -> 0.0035857565 | V12: =Q12/'Sample depths'!$C$6*1000000 -> 0.0059667122
A13: MetaBAT.bin.17 | B13: 82.3 | C13: 1.28 | D13: 2550234 | E13: d__Bacteria; p__Actinobacteria; c__Acidimicrobiia; o__; f__; g__; s__ | F13: d__Bacteria;p__Actinobacteriota;c__Acidimicrobiia;o__UBA5794;f__;g__;s__ | G13: 0.40492072 | H13: 18207 | I13: 59273.5 | J13: 92766.5 | K13: 167266 | L13: 231319.5 | M13: =H13/$D13 -> 0.0071393449 | N13: =I13/$D13 -> 0.023242377 | O13: =J13/$D13 -> 0.036375682 | P13: =K13/$D13 -> 0.065588491 | Q13: =L13/$D13 -> 0.090705206 | R13: =M13/'Sample depths'!$C$4*1000000 -> 0.00043754034 | S13: =N13/'Sample depths'!$C$5*1000000 -> 0.00059468308 | T13: =O13/'Sample depths'!$C$2*1000000 -> 0.001308504 | U13: =P13/'Sample depths'!$C$3*1000000 -> 0.002047841 | V13: =Q13/'Sample depths'!$C$6*1000000 -> 0.0035920327
A14: MetaBAT.bin.19 | B14: 83.19 | C14: 4.27 | D14: 3480653 | E14: d__Bacteria; p__Actinobacteria; c__Acidimicrobiia; o__Acidimicrobiales; f__Acidimicrobiaceae; g__; s__ | F14: d__Bacteria;p__Actinobacteriota;c__Acidimicrobiia;o__Microtrichales;f__UBA11606;g__;s__ | G14: 0.49539518 | H14: 20149 | I14: 76541.5 | J14: 116995 | K14: 201747 | L14: 280498.5 | M14: =H14/$D14 -> 0.0057888563 | N14: =I14/$D14 -> 0.021990558 | O14: =J14/$D14 -> 0.033612946 | P14: =K14/$D14 -> 0.0579624 | Q14: =L14/$D14 -> 0.080587895 | R14: =M14/'Sample depths'!$C$4*1000000 -> 0.00035477459 | S14: =N14/'Sample depths'!$C$5*1000000 -> 0.00056265383 | T14: =O14/'Sample depths'!$C$2*1000000 -> 0.001209123 | U14: =P14/'Sample depths'!$C$3*1000000 -> 0.0018097349 | V14: =Q14/'Sample depths'!$C$6*1000000 -> 0.0031913753
A15: MetaBAT.bin.27 | B15: 91.52 | C15: 3.61 | D15: 2841121 | E15: d__Bacteria; p__Proteobacteria; c__Gammaproteobacteria; o__Cellvibrionales; f__; g__; s__ | F15: d__Bacteria;p__Proteobacteria;c__Gammaproteobacteria;o__Pseudomonadales;f__UBA7434;g__UBA7434;s__ | G15: 0.37502428 | H15: 23640.5 | I15: 64828.5 | J15: 100647 | K15: 141125 | L15: 196593 | M15: =H15/$D15 -> 0.0083208353 | N15: =I15/$D15 -> 0.02281793 | O15: =J15/$D15 -> 0.035425102 | P15: =K15/$D15 -> 0.049672295 | Q15: =L15/$D15 -> 0.069195575 | R15: =M15/'Sample depths'!$C$4*1000000 -> 0.00050994891 | S15: =N15/'Sample depths'!$C$5*1000000 -> 0.00058382311 | T15: =O15/'Sample depths'!$C$2*1000000 -> 0.0012743098 | U15: =P15/'Sample depths'!$C$3*1000000 -> 0.0015508965 | V15: =Q15/'Sample depths'!$C$6*1000000 -> 0.0027402261

Sheet Bin metabolism
A1: GenomeBin | B1: NCBI taxonomy | C1: GTDB taxonomy | D1: atpA | E1: HCO | F1: cydA | G1: napA | H1: narG | I1: sqr | J1: atpA | K1: pfor | L1: Hydrogenase
A2: GroopM.bin_3 | B2: d__Bacteria; p__Proteobacteria; c__Alphaproteobacteria; o__Sphingomonadales; f__Erythrobacteraceae; g__Erythrobacter; s__ | C2: d__Bacteria;p__Proteobacteria;c__Alphaproteobacteria;o__Sphingomonadales;f__Sphingomonadaceae;g__Erythrobacter_C;s__ | D2: x | I2: x | J2: x
A3: GroopM.bin_13 | B3: d__Bacteria; p__Proteobacteria; c__Alphaproteobacteria; o__Rhodobacterales; f__Hyphomonadaceae; g__Robiginitomaculum; s__ | C3: d__Bacteria;p__Proteobacteria;c__Alphaproteobacteria;o__Caulobacterales;f__Maricaulaceae;g__Robiginitomaculum_A;s__ | D3: x | E3: x | I3: x | J3: x
A4: GroopM.bin_14 | B4: d__Bacteria; p__Proteobacteria; c__Gammaproteobacteria; o__Chromatiales; f__Woeseiaceae; g__; s__ | C4: d__Bacteria;p__Proteobacteria;c__Gammaproteobacteria;o__Woeseiales;f__Woeseiaceae;g__;s__ | D4: x | E4: x | I4: x | J4: x | K4: x | L4: Group 1e, Group 3d
A5: MaxBin.003 | B5: d__Bacteria; p__Bacteroidetes; c__Flavobacteriia; o__Flavobacteriales; f__Flavobacteriaceae; g__; s__ | C5: d__Bacteria;p__Bacteroidota;c__Bacteroidia;o__Flavobacteriales;f__Flavobacteriaceae;g__;s__ | D5: x | E5: x | I5: x | J5: x
A6: MaxBin.036 | B6: d__Bacteria; p__Proteobacteria; c__Alphaproteobacteria; o__Rhodobacterales; f__Rhodobacteraceae; g__Boseongicola; s__ | C6: d__Bacteria;p__Proteobacteria;c__Alphaproteobacteria;o__Rhodobacterales;f__Rhodobacteraceae;g__Boseongicola;s__ | D6: x | E6: x | I6: x | J6: x | K6: x
A7: MaxBin.051 | B7: d__Bacteria; p__Proteobacteria; c__Deltaproteobacteria; o__Desulfobacterales; f__Desulfobulbaceae; g__; s__ | C7: d__Bacteria;p__Desulfobacterota;c__Desulfobulbia;o__Desulfobulbales;f__Desulfocapsaceae;g__;s__ | E7: x | F7: x | G7: x | I7: x | L7: Group 1b
A8: MaxBin.075 | B8: d__Bacteria; p__Proteobacteria; c__Alphaproteobacteria; o__Sphingomonadales; f__Sphingomonadaceae; g__Sphingomonas; s__ | C8: d__Bacteria;p__Proteobacteria;c__Alphaproteobacteria;o__Sphingomonadales;f__Sphingomonadaceae;g__Sphingomonas_A;s__ | D8: x | E8: x | I8: x | J8: x
A9: MetaBAT.bin.5 | B9: d__Bacteria; p__Bacteroidetes; c__Flavobacteriia; o__Flavobacteriales; f__Flavobacteriaceae; g__; s__ | C9: d__Bacteria;p__Bacteroidota;c__Bacteroidia;o__Flavobacteriales;f__Flavobacteriaceae;g__;s__ | D9: x | E9: x | I9: x | J9: x
A10: MetaBAT.bin.10 | B10: d__Bacteria; p__Proteobacteria; c__Deltaproteobacteria; o__Myxococcales; f__Sandaracinaceae; g__Sandaracinus; s__ | C10: d__Bacteria;p__Myxococcota;c__Polyangia;o__Polyangiales;f__SG8-38;g__SG8-38;s__ | D10: x | E10: x | F10: x | I10: x | J10: x | L10: Group 1f, Group 3b
A11: MetaBAT.bin.17 | B11: d__Bacteria; p__Actinobacteria; c__Acidimicrobiia; o__; f__; g__; s__ | C11: d__Bacteria;p__Actinobacteriota;c__Acidimicrobiia;o__UBA5794;f__;g__;s__ | D11: x | E11: x | J11: x | L11: Group 3b, Group 3d
A12: MetaBAT.bin.19 | B12: d__Bacteria; p__Actinobacteria; c__Acidimicrobiia; o__Acidimicrobiales; f__Acidimicrobiaceae; g__; s__ | C12: d__Bacteria;p__Actinobacteriota;c__Acidimicrobiia;o__Microtrichales;f__UBA11606;g__;s__ | D12: x | E12: x | I12: x | J12: x | L12: Group 3b
A13: MetaBAT.bin.27 | B13: d__Bacteria; p__Proteobacteria; c__Gammaproteobacteria; o__Cellvibrionales; f__; g__; s__ | C13: d__Bacteria;p__Proteobacteria;c__Gammaproteobacteria;o__Pseudomonadales;f__UBA7434;g__UBA7434;s__ | D13: x | E13: x | H13: x | I13: x | J13: x | L13: Group 3d

Sheet Sample depths
A1: Sample | B1: Raw reads (paired) | C1: QC reads (paired)
A2: Intertidal 2-5 cm | B2: 28664127 | C2: 27799443
A3: Intertidal 15-18 cm | B3: 32994712 | C3: 32028117
A4: Subtidal 2-5 cm | B4: 16822942 | C4: 16316998
A5: Subtidal 15-18 cm | B5: 40069155 | C5: 39083636
A6: Flow-through reactor | B6: 25974280 | C6: 25251776
A7: Total | B7: =SUM(B2:B6) -> 144525216 | C7: =SUM(C2:C6) -> 140479970
