Workbook
Name acc: #REF!
Name access: #REF!
Name age: #REF!
Name bb: #REF!
Name bs: #REF!
Name bsac: #REF!
Name clde: #REF!
Name coun: #REF!
Name count: #REF!
Name ctx: #REF!
Name date: #REF!
Name des: 'T1-Data'!$B:$D
Name err: #REF!
Name errdea: 'T1-Data'!$A:$D
Name fr: #REF!
Name group: 'T1-Data'!$B$7682
Name group: 'T5-Database metdata'!$D:$N
Name hybrid: #REF!
Name kl: 'T5-Database metdata'!$U$1:$V$25
Name korder: '[1]K order'!$A$1:$B$79
Name ktype: #REF!
Name labels: #REF!
Name lane: #REF!
Name linCC: #REF!
Name lineage: #REF!
Name lu: #REF!
Name newd: 'T5-Database metdata'!$D:$E
Name newkKL: 'T5-Database metdata'!$I:$J
Name newkl: 'T5-Database metdata'!$G:$H
Name norm: #REF!
Name oh: #REF!
Name ord: #REF!
Name order: #REF!
Name phy: #REF!
Name phylo: 'T1-Data'!$V:$W
Name pp: #REF!
Name res: 'T1-Data'!$B:$E
Name result: 'T1-Data'!$A:$E
Name simp: 'T5-Database metdata'!$D:$O
Name tab: #REF!
Name tes: #REF!
Name vl: [1]malawi!$A$1:$B$24
Name year: #REF!

Sheet T1-Data
A1: Accession/FTP | B1: ID | D1: Designation | E1: Group | F1: Group simple | G1: Phylotype | H1: Lineage | I1: CC131 clade | J1: Country | K1: Paper | L1: Colleciton type | M1: country-collection | N1: Data type | O1: Top K-type selection | P1: Inferred invasiveness | Q1: Collection year | R1: MDR
A2: Deposited at https://zenodo.org/records/14000489 | B2: 14792_19_clean_Escherichia_coli-SC20_ST59 | D2: KL110 | E2: G2-atypical | F2: G2 | G2: F | H2: PP20_CC59 | I2: NA | J2: UK | K2: Maklin 2022/Shao 2024 | L2: neonatal carriage | M2: UK_neonatal carriage | N2: metagenomic assemblies | O2: include | P2: include | Q2: 2014-2017 | R2: NA
A3: Deposited at https://zenodo.org/records/14000489 | B3: 14792_20_clean_Escherichia_coli-SC20_ST59 | D3: KL110 | E3: G2-atypical | F3: G2 | G3: F | H3: PP20_CC59 | I3: NA | J3: UK | K3: Maklin 2022/Shao 2024 | L3: neonatal carriage | M3: UK_neonatal carriage | N3: metagenomic assemblies | O3: non-independent | P3: non-independent | Q3: 2014-2017 | R3: NA
A4: Deposited at https://zenodo.org/records/14000489 | B4: 14792_21_clean_Escherichia_coli-SC20_ST59 | D4: KL110 | E4: G2-atypical | F4: G2 | G4: F | H4: PP20_CC59 | I4: NA | J4: UK | K4: Maklin 2022/Shao 2024 | L4: neonatal carriage | M4: UK_neonatal carriage | N4: metagenomic assemblies | O4: include | P4: include | Q4: 2014-2017 | R4: NA
A5: Deposited at https://zenodo.org/records/14000489 | B5: 14792_22_clean_Escherichia_coli-SC20_ST59 | D5: KL110 | E5: G2-atypical | F5: G2 | G5: F | H5: PP20_CC59 | I5: NA | J5: UK | K5: Maklin 2022/Shao 2024 | L5: neonatal carriage | M5: UK_neonatal carriage | N5: metagenomic assemblies | O5: non-independent | P5: non-independent | Q5: 2014-2017 | R5: NA
A6: Deposited at https://zenodo.org/records/14000489 | B6: 14792_23_clean_Escherichia_coli-SC20_ST59 | D6: KL110 | E6: G2-atypical | F6: G2 | G6: F | H6: PP20_CC59 | I6: NA | J6: UK | K6: Maklin 2022/Shao 2024 | L6: neonatal carriage | M6: UK_neonatal carriage | N6: metagenomic assemblies | O6: non-independent | P6: non-independent | Q6: 2014-2017 | R6: NA
A7: Deposited at https://zenodo.org/records/14000489 | B7: 14794_10_clean_Escherichia_coli-SC16_ST38 | D7: K5 | E7: G2 | F7: G2 | G7: D | H7: PP16_CC38 | I7: NA | J7: UK | K7: Maklin 2022/Shao 2024 | L7: neonatal carriage | M7: UK_neonatal carriage | N7: metagenomic assemblies | O7: include | P7: include | Q7: 2014-2017 | R7: NA
A8: Deposited at https://zenodo.org/records/14000489 | B8: 14794_11_clean_Escherichia_coli-SC16_ST38 | D8: K5 | E8: G2 | F8: G2 | G8: D | H8: PP16_CC38 | I8: NA | J8: UK | K8: Maklin 2022/Shao 2024 | L8: neonatal carriage | M8: UK_neonatal carriage | N8: metagenomic assemblies | O8: non-independent | P8: non-independent | Q8: 2014-2017 | R8: NA
A9: Deposited at https://zenodo.org/records/14000489 | B9: 14794_12_clean_Escherichia_coli-SC16_ST38 | D9: K5 | E9: G2 | F9: G2 | G9: D | H9: PP16_CC38 | I9: NA | J9: UK | K9: Maklin 2022/Shao 2024 | L9: neonatal carriage | M9: UK_neonatal carriage | N9: metagenomic assemblies | O9: non-independent | P9: non-independent | Q9: 2014-2017 | R9: NA
A10: Deposited at https://zenodo.org/records/14000489 | B10: 14794_13_clean_Escherichia_coli-SC16_ST38 | D10: K5 | E10: G2 | F10: G2 | G10: D | H10: PP16_CC38 | I10: NA | J10: UK | K10: Maklin 2022/Shao 2024 | L10: neonatal carriage | M10: UK_neonatal carriage | N10: metagenomic assemblies | O10: non-independent | P10: non-independent | Q10: 2014-2017 | R10: NA
A11: Deposited at https://zenodo.org/records/14000489 | B11: 14794_15_clean_Escherichia_coli-SC6_ST69 | D11: K54_K96 | E11: G3-A | F11: G3 | G11: D | H11: PP6_CC69 | I11: NA | J11: UK | K11: Maklin 2022/Shao 2024 | L11: neonatal carriage | M11: UK_neonatal carriage | N11: metagenomic assemblies | O11: include | P11: include | Q11: 2014-2017 | R11: NA
A12: Deposited at https://zenodo.org/records/14000489 | B12: 14794_16_clean_Escherichia_coli-SC6_ST69 | D12: K54_K96 | E12: G3-A | F12: G3 | G12: D | H12: PP6_CC69 | I12: NA | J12: UK | K12: Maklin 2022/Shao 2024 | L12: neonatal carriage | M12: UK_neonatal carriage | N12: metagenomic assemblies | O12: non-independent | P12: non-independent | Q12: 2014-2017 | R12: NA
... A29: Deposited at https://zenodo.org/records/14000489 | B29: 18403_11_clean_Escherichia_coli-SC6_ST69 | D29: K52 | E29: G2 | F29: G2 | G29: D | H29: PP6_CC69 | I29: NA | J29: UK | K29: Maklin 2022/Shao 2024 | L29: neonatal carriage | M29: UK_neonatal carriage | N29: metagenomic assemblies | O29: include | P29: include | Q29: 2014-2017 | R29: NA
A30: Deposited at https://zenodo.org/records/14000489 | B30: 18403_12_clean_Escherichia_coli-SC65_ST399 | D30: Non G2-G3 | E30: likely G1-G4 | G30: A | H30: PP65_CC399 | I30: NA | J30: UK | K30: Maklin 2022/Shao 2024 | L30: neonatal carriage | M30: UK_neonatal carriage | N30: metagenomic assemblies | O30: include | P30: include | Q30: 2014-2017 | R30: NA
A31: Deposited at https://zenodo.org/records/14000489 | B31: 18403_15_clean_Escherichia_coli-SC163_ST1567 | D31: Non G2-G3 | E31: likely G1-G4 | G31: D | H31: PP163_CC1567 | I31: NA | J31: UK | K31: Maklin 2022/Shao 2024 | L31: neonatal carriage | M31: UK_neonatal carriage | N31: metagenomic assemblies | O31: include | P31: include | Q31: 2014-2017 | R31: NA
A32: Deposited at https://zenodo.org/records/14000489 | B32: 18403_16_clean_Escherichia_coli-SC18_ST141 | D32: K1 | E32: G2 | F32: G2 | G32: B2 | H32: PP18_CC141 | I32: NA | J32: UK | K32: Maklin 2022/Shao 2024 | L32: neonatal carriage | M32: UK_neonatal carriage | N32: metagenomic assemblies | O32: include | P32: include | Q32: 2014-2017 | R32: NA
A33: Deposited at https://zenodo.org/records/14000489 | B33: 18403_20_clean_Escherichia_coli-SC5_ST95 | D33: K1 | E33: G2 | F33: G2 | G33: B2 | H33: PP5_CC95 | I33: NA | J33: UK | K33: Maklin 2022/Shao 2024 | L33: neonatal carriage | M33: UK_neonatal carriage | N33: metagenomic assemblies | O33: include | P33: include | Q33: 2014-2017 | R33: NA
A34: Deposited at https://zenodo.org/records/14000489 | B34: 18403_21_clean_Escherichia_coli-SC5_ST95 | D34: K1 | E34: G2 | F34: G2 | G34: B2 | H34: PP5_CC95 | I34: NA | J34: UK | K34: Maklin 2022/Shao 2024 | L34: neonatal carriage | M34: UK_neonatal carriage | N34: metagenomic assemblies | O34: include | P34: include | Q34: 2014-2017 | R34: NA
A35: Deposited at https://zenodo.org/records/14000489 | B35: 18403_23_clean_Escherichia_coli-SC82_ST362 | D35: K98 | E35: G3-A | F35: G3 | G35: D | H35: PP82_CC362 | I35: NA | J35: UK | K35: Maklin 2022/Shao 2024 | L35: neonatal carriage | M35: UK_neonatal carriage | N35: metagenomic assemblies | O35: include | P35: include | Q35: 2014-2017 | R35: NA
A36: Deposited at https://zenodo.org/records/14000489 | B36: 18403_3_clean_Escherichia_coli-SC11_ST127 | D36: K2 | E36: G2 | F36: G2 | G36: B2 | H36: PP11_CC127 | I36: NA | J36: UK | K36: Maklin 2022/Shao 2024 | L36: neonatal carriage | M36: UK_neonatal carriage | N36: metagenomic assemblies | O36: include | P36: include | Q36: 2014-2017 | R36: NA
A37: Deposited at https://zenodo.org/records/14000489 | B37: 18403_5_clean_Escherichia_coli-SC8_ST1193 | D37: K5 | E37: G2 | F37: G2 | G37: B2 | H37: PP8_CC1193 | I37: NA | J37: UK | K37: Maklin 2022/Shao 2024 | L37: neonatal carriage | M37: UK_neonatal carriage | N37: metagenomic assemblies | O37: include | P37: include | Q37: 2014-2017 | R37: NA
A38: Deposited at https://zenodo.org/records/14000489 | B38: 18403_7_clean_Escherichia_coli-SC43_ST206 | D38: Non G2-G3 | E38: likely G1-G4 | G38: A | H38: PP443 | I38: NA | J38: UK | K38: Maklin 2022/Shao 2024 | L38: neonatal carriage | M38: UK_neonatal carriage | N38: metagenomic assemblies | O38: include | P38: include | Q38: 2014-2017 | R38: NA
A39: Deposited at https://zenodo.org/records/14000489 | B39: 18403_7_clean_Escherichia_coli-SC46_ST746 | D39: Non G2-G3 | E39: likely G1-G4 | G39: A | H39: PP446_CC746 | I39: NA | J39: UK | K39: Maklin 2022/Shao 2024 | L39: neonatal carriage | M39: UK_neonatal carriage | N39: metagenomic assemblies | O39: include | P39: include | Q39: 2014-2017 | R39: NA
A40: Deposited at https://zenodo.org/records/14000489 | B40: 18403_7_clean_Escherichia_coli-SC4_ST10 | D40: Non G2-G3 | E40: likely G1-G4 | G40: A | H40: PP4_CC10 | I40: NA | J40: UK | K40: Maklin 2022/Shao 2024 | L40: neonatal carriage | M40: UK_neonatal carriage | N40: metagenomic assemblies | O40: include | P40: include | Q40: 2014-2017 | R40: NA
A41: Deposited at https://zenodo.org/records/14000489 | B41: 19646_4_14_clean_Escherichia_coli-SC18_ST141 | D41: K1 | E41: G2 | F41: G2 | G41: B2 | H41: PP18_CC141 | I41: NA | J41: UK | K41: Maklin 2022/Shao 2024 | L41: neonatal carriage | M41: UK_neonatal carriage | N41: metagenomic assemblies | O41: include | P41: include | Q41: 2014-2017 | R41: NA
A42: Deposited at https://zenodo.org/records/14000489 | B42: 19646_4_16_clean_Escherichia_coli-SC14_ST405 | D42: K5 | E42: G2 | F42: G2 | G42: D | H42: PP14_CC405 | I42: NA | J42: UK | K42: Maklin 2022/Shao 2024 | L42: neonatal carriage | M42: UK_neonatal carriage | N42: metagenomic assemblies | O42: include | P42: include | Q42: 2014-2017 | R42: NA
A43: Deposited at https://zenodo.org/records/14000489 | B43: 19646_4_19_clean_Escherichia_coli-SC6_ST69 | D43: K54_K96 | E43: G3-A | F43: G3 | G43: D | H43: PP6_CC69 | I43: NA | J43: UK | K43: Maklin 2022/Shao 2024 | L43: neonatal carriage | M43: UK_neonatal carriage | N43: metagenomic assemblies | O43: include | P43: include | Q43: 2014-2017 | R43: NA
A44: Deposited at https://zenodo.org/records/14000489 | B44: 19646_4_19_clean_Escherichia_coli-SC92_ST1722 | D44: KL117 | E44: G2-atypical | F44: G2 | G44: F | H44: PP92_CC1722 | I44: NA | J44: UK | K44: Maklin 2022/Shao 2024 | L44: neonatal carriage | M44: UK_neonatal carriage | N44: metagenomic assemblies | O44: include | P44: include | Q44: 2014-2017 | R44: NA
A45: Deposited at https://zenodo.org/records/14000489 | B45: 19646_4_1_clean_Escherichia_coli-SC8_ST1193 | D45: K5 | E45: G2 | F45: G2 | G45: B2 | H45: PP8_CC1193 | I45: NA | J45: UK | K45: Maklin 2022/Shao 2024 | L45: neonatal carriage | M45: UK_neonatal carriage | N45: metagenomic assemblies | O45: include | P45: include | Q45: 2014-2017 | R45: NA
A46: Deposited at https://zenodo.org/records/14000489 | B46: 19646_4_21_clean_Escherichia_coli-SC4_ST10 | D46: Non G2-G3 | E46: likely G1-G4 | G46: A | H46: PP4_CC10 | I46: NA | J46: UK | K46: Maklin 2022/Shao 2024 | L46: neonatal carriage | M46: UK_neonatal carriage | N46: metagenomic assemblies | O46: include | P46: include | Q46: 2014-2017 | R46: NA
A47: Deposited at https://zenodo.org/records/14000489 | B47: 19646_4_3_clean_Escherichia_coli-SC51_ST93 | D47: KL111 | E47: G2 | F47: G2 | G47: A | H47: PP51_CC93 | I47: NA | J47: UK | K47: Maklin 2022/Shao 2024 | L47: neonatal carriage | M47: UK_neonatal carriage | N47: metagenomic assemblies | O47: include | P47: include | Q47: 2014-2017 | R47: NA
A48: Deposited at https://zenodo.org/records/14000489 | B48: 19646_4_4_clean_Escherichia_coli-SC51_ST93 | D48: KL111 | E48: G2 | F48: G2 | G48: A | H48: PP51_CC93 | I48: NA | J48: UK | K48: Maklin 2022/Shao 2024 | L48: neonatal carriage | M48: UK_neonatal carriage | N48: metagenomic assemblies | O48: non-independent | P48: non-independent | Q48: 2014-2017 | R48: NA
A49: Deposited at https://zenodo.org/records/14000489 | B49: 19646_5_10_clean_Escherichia_coli-SC27_ST328 | D49: Non G2-G3 | E49: likely G1-G4 | G49: B1 | H49: PP27_CC328 | I49: NA | J49: UK | K49: Maklin 2022/Shao 2024 | L49: neonatal carriage | M49: UK_neonatal carriage | N49: metagenomic assemblies | O49: include | P49: include | Q49: 2014-2017 | R49: NA
A50: Deposited at https://zenodo.org/records/14000489 | B50: 19646_5_17_clean_Escherichia_coli-SC65_ST399 | D50: Non G2-G3 | E50: likely G1-G4 | G50: A | H50: PP65_CC399 | I50: NA | J50: UK | K50: Maklin 2022/Shao 2024 | L50: neonatal carriage | M50: UK_neonatal carriage | N50: metagenomic assemblies | O50: include | P50: include | Q50: 2014-2017 | R50: NA
A51: Deposited at https://zenodo.org/records/14000489 | B51: 19646_5_20_clean_Escherichia_coli-SC2_ST131 | D51: K5 | E51: G2 | F51: G2 | G51: B2 | H51: PP2_CC131 | I51: B | J51: UK | K51: Maklin 2022/Shao 2024 | L51: neonatal carriage | M51: UK_neonatal carriage | N51: metagenomic assemblies | O51: include | P51: include | Q51: 2014-2017 | R51: NA
A52: Deposited at https://zenodo.org/records/14000489 | B52: 19646_5_21_clean_Escherichia_coli-SC2_ST131 | D52: K5 | E52: G2 | F52: G2 | G52: B2 | H52: PP2_CC131 | I52: B | J52: UK | K52: Maklin 2022/Shao 2024 | L52: neonatal carriage | M52: UK_neonatal carriage | N52: metagenomic assemblies | O52: non-independent | P52: non-independent | Q52: 2014-2017 | R52: NA
A53: Deposited at https://zenodo.org/records/14000489 | B53: 19646_5_22_clean_Escherichia_coli-SC65_ST399 | D53: Non G2-G3 | E53: likely G1-G4 | G53: A | H53: PP65_CC399 | I53: NA | J53: UK | K53: Maklin 2022/Shao 2024 | L53: neonatal carriage | M53: UK_neonatal carriage | N53: metagenomic assemblies | O53: include | P53: include | Q53: 2014-2017 | R53: NA
A54: Deposited at https://zenodo.org/records/14000489 | B54: 19646_5_2_clean_Escherichia_coli-SC2_ST131 | D54: K100 | E54: G2 | F54: G2 | G54: B2 | H54: PP2_CC131 | I54: A | J54: UK | K54: Maklin 2022/Shao 2024 | L54: neonatal carriage | M54: UK_neonatal carriage | N54: metagenomic assemblies | O54: include | P54: include | Q54: 2014-2017 | R54: NA
A55: Deposited at https://zenodo.org/records/14000489 | B55: 19646_5_3_clean_Escherichia_coli-SC3_ST73 | D55: K13_K23 | E55: G2 | F55: G2 | G55: B2 | H55: PP3_CC73 | I55: NA | J55: UK | K55: Maklin 2022/Shao 2024 | L55: neonatal carriage | M55: UK_neonatal carriage | N55: metagenomic assemblies | O55: include | P55: include | Q55: 2014-2017 | R55: NA
A56: Deposited at https://zenodo.org/records/14000489 | B56: 19646_5_3_clean_Escherichia_coli-SC51_ST93 | D56: KL122 | E56: G2 | F56: G2 | G56: A | H56: PP51_CC93 | I56: NA | J56: UK | K56: Maklin 2022/Shao 2024 | L56: neonatal carriage | M56: UK_neonatal carriage | N56: metagenomic assemblies | O56: include | P56: include | Q56: 2014-2017 | R56: NA
A57: Deposited at https://zenodo.org/records/14000489 | B57: 19646_5_8_clean_Escherichia_coli-SC14_ST405 | D57: K5 | E57: G2 | F57: G2 | G57: D | H57: PP14_CC405 | I57: NA | J57: UK | K57: Maklin 2022/Shao 2024 | L57: neonatal carriage | M57: UK_neonatal carriage | N57: metagenomic assemblies | O57: include | P57: include | Q57: 2014-2017 | R57: NA
A58: Deposited at https://zenodo.org/records/14000489 | B58: 20596_4_13_clean_Escherichia_coli-SC5_ST95 | D58: K1 | E58: G2 | F58: G2 | G58: B2 | H58: PP5_CC95 | I58: NA | J58: UK | K58: Maklin 2022/Shao 2024 | L58: neonatal carriage | M58: UK_neonatal carriage | N58: metagenomic assemblies | O58: include | P58: include | Q58: 2014-2017 | R58: NA
A59: Deposited at https://zenodo.org/records/14000489 | B59: 20596_4_14_clean_Escherichia_coli-SC5_ST95 | D59: K1 | E59: G2 | F59: G2 | G59: B2 | H59: PP5_CC95 | I59: NA | J59: UK | K59: Maklin 2022/Shao 2024 | L59: neonatal carriage | M59: UK_neonatal carriage | N59: metagenomic assemblies | O59: non-independent | P59: non-independent | Q59: 2014-2017 | R59: NA
A60: Deposited at https://zenodo.org/records/14000489 | B60: 20596_4_15_clean_Escherichia_coli-SC5_ST95 | D60: K1 | E60: G2 | F60: G2 | G60: B2 | H60: PP5_CC95 | I60: NA | J60: UK | K60: Maklin 2022/Shao 2024 | L60: neonatal carriage | M60: UK_neonatal carriage | N60: metagenomic assemblies | O60: non-independent | P60: non-independent | Q60: 2014-2017 | R60: NA
A61: Deposited at https://zenodo.org/records/14000489 | B61: 20596_4_18_clean_Escherichia_coli-SC6_ST69 | D61: KL130 | E61: G2 | F61: G2 | G61: D | H61: PP6_CC69 | I61: NA | J61: UK | K61: Maklin 2022/Shao 2024 | L61: neonatal carriage | M61: UK_neonatal carriage | N61: metagenomic assemblies | O61: include | P61: include | Q61: 2014-2017 | R61: NA
A62: Deposited at https://zenodo.org/records/14000489 | B62: 20596_4_1_clean_Escherichia_coli-SC12_ST410 | D62: Non G2-G3 | E62: likely G1-G4 | G62: C | H62: PP12_CC410 | I62: NA | J62: UK | K62: Maklin 2022/Shao 2024 | L62: neonatal carriage | M62: UK_neonatal carriage | N62: metagenomic assemblies | O62: include | P62: include | Q62: 2014-2017 | R62: NA
A63: Deposited at https://zenodo.org/records/14000489 | B63: 20596_4_21_clean_Escherichia_coli-SC3_ST73 | D63: K13_K23 | E63: G2 | F63: G2 | G63: B2 | H63: PP3_CC73 | I63: NA | J63: UK | K63: Maklin 2022/Shao 2024 | L63: neonatal carriage | M63: UK_neonatal carriage | N63: metagenomic assemblies | O63: include | P63: include | Q63: 2014-2017 | R63: NA
A64: Deposited at https://zenodo.org/records/14000489 | B64: 20596_4_22_clean_Escherichia_coli-SC3_ST73 | D64: K13_K23 | E64: G2 | F64: G2 | G64: B2 | H64: PP3_CC73 | I64: NA | J64: UK | K64: Maklin 2022/Shao 2024 | L64: neonatal carriage | M64: UK_neonatal carriage | N64: metagenomic assemblies | O64: non-independent | P64: non-independent | Q64: 2014-2017 | R64: NA
A65: Deposited at https://zenodo.org/records/14000489 | B65: 20596_4_23_clean_Escherichia_coli-SC3_ST73 | D65: K13_K23 | E65: G2 | F65: G2 | G65: B2 | H65: PP3_CC73 | I65: NA | J65: UK | K65: Maklin 2022/Shao 2024 | L65: neonatal carriage | M65: UK_neonatal carriage | N65: metagenomic assemblies | O65: non-independent | P65: non-independent | Q65: 2014-2017 | R65: NA
A66: Deposited at https://zenodo.org/records/14000489 | B66: 20596_4_5_clean_Escherichia_coli-SC5_ST95 | D66: K1 | E66: G2 | F66: G2 | G66: B2 | H66: PP5_CC95 | I66: NA | J66: UK | K66: Maklin 2022/Shao 2024 | L66: neonatal carriage | M66: UK_neonatal carriage | N66: metagenomic assemblies | O66: include | P66: include | Q66: 2014-2017 | R66: NA
A67: Deposited at https://zenodo.org/records/14000489 | B67: 20596_4_7_clean_Escherichia_coli-SC65_ST399 | D67: Non G2-G3 | E67: likely G1-G4 | G67: A | H67: PP65_CC399 | I67: NA | J67: UK | K67: Maklin 2022/Shao 2024 | L67: neonatal carriage | M67: UK_neonatal carriage | N67: metagenomic assemblies | O67: include | P67: include | Q67: 2014-2017 | R67: NA
A68: Deposited at https://zenodo.org/records/14000489 | B68: 20596_5_10_clean_Escherichia_coli-SC18_ST141 | D68: K1 | E68: G2 | F68: G2 | G68: B2 | H68: PP18_CC141 | I68: NA | J68: UK | K68: Maklin 2022/Shao 2024 | L68: neonatal carriage | M68: UK_neonatal carriage | N68: metagenomic assemblies | O68: include | P68: include | Q68: 2014-2017 | R68: NA
A69: Deposited at https://zenodo.org/records/14000489 | B69: 20596_5_10_clean_Escherichia_coli-SC4_ST10 | D69: Non G2-G3 | E69: likely G1-G4 | G69: A | H69: PP4_CC10 | I69: NA | J69: UK | K69: Maklin 2022/Shao 2024 | L69: neonatal carriage | M69: UK_neonatal carriage | N69: metagenomic assemblies | O69: include | P69: include | Q69: 2014-2017 | R69: NA
A70: Deposited at https://zenodo.org/records/14000489 | B70: 20596_5_11_clean_Escherichia_coli-SC18_ST141 | D70: K1 | E70: G2 | F70: G2 | G70: B2 | H70: PP18_CC141 | I70: NA | J70: UK | K70: Maklin 2022/Shao 2024 | L70: neonatal carriage | M70: UK_neonatal carriage | N70: metagenomic assemblies | O70: non-independent | P70: non-independent | Q70: 2014-2017 | R70: NA
A71: Deposited at https://zenodo.org/records/14000489 | B71: 20596_5_18_clean_Escherichia_coli-SC46_ST746 | D71: Non G2-G3 | E71: likely G1-G4 | G71: A | H71: PP46_CC746 | I71: NA | J71: UK | K71: Maklin 2022/Shao 2024 | L71: neonatal carriage | M71: UK_neonatal carriage | N71: metagenomic assemblies | O71: include | P71: include | Q71: 2014-2017 | R71: NA
A72: Deposited at https://zenodo.org/records/14000489 | B72: 20596_5_18_clean_Escherichia_coli-SC4_ST10 | D72: Non G2-G3 | E72: likely G1-G4 | G72: A | H72: PP4_CC10 | I72: NA | J72: UK | K72: Maklin 2022/Shao 2024 | L72: neonatal carriage | M72: UK_neonatal carriage | N72: metagenomic assemblies | O72: include | P72: include | Q72: 2014-2017 | R72: NA
A73: Deposited at https://zenodo.org/records/14000489 | B73: 20596_5_1_clean_Escherichia_coli-SC5_ST95 | D73: K1 | E73: G2 | F73: G2 | G73: B2 | H73: PP5_CC95 | I73: NA | J73: UK | K73: Maklin 2022/Shao 2024 | L73: neonatal carriage | M73: UK_neonatal carriage | N73: metagenomic assemblies | O73: include | P73: include | Q73: 2014-2017 | R73: NA
A74: Deposited at https://zenodo.org/records/14000489 | B74: 20596_5_23_clean_Escherichia_coli-SC198_ST720 | D74: KL119 | E74: G2 | F74: G2 | G74: D | H74: PP198_CC720 | I74: NA | J74: UK | K74: Maklin 2022/Shao 2024 | L74: neonatal carriage | M74: UK_neonatal carriage | N74: metagenomic assemblies | O74: include | P74: include | Q74: 2014-2017 | R74: NA
A75: Deposited at https://zenodo.org/records/14000489 | B75: 20596_5_24_clean_Escherichia_coli-SC198_ST720 | D75: KL119 | E75: G2 | F75: G2 | G75: D | H75: PP198_CC720 | I75: NA | J75: UK | K75: Maklin 2022/Shao 2024 | L75: neonatal carriage | M75: UK_neonatal carriage | N75: metagenomic assemblies | O75: non-independent | P75: non-independent | Q75: 2014-2017 | R75: NA
A76: Deposited at https://zenodo.org/records/14000489 | B76: 20596_5_2_clean_Escherichia_coli-SC5_ST95 | D76: K1 | E76: G2 | F76: G2 | G76: B2 | H76: PP5_CC95 | I76: NA | J76: UK | K76: Maklin 2022/Shao 2024 | L76: neonatal carriage | M76: UK_neonatal carriage | N76: metagenomic assemblies | O76: non-independent | P76: non-independent | Q76: 2014-2017 | R76: NA
A77: Deposited at https://zenodo.org/records/14000489 | B77: 20596_5_3_clean_Escherichia_coli-SC5_ST95 | D77: K1 | E77: G2 | F77: G2 | G77: B2 | H77: PP5_CC95 | I77: NA | J77: UK | K77: Maklin 2022/Shao 2024 | L77: neonatal carriage | M77: UK_neonatal carriage | N77: metagenomic assemblies | O77: non-independent | P77: non-independent | Q77: 2014-2017 | R77: NA
A78: Deposited at https://zenodo.org/records/14000489 | B78: 20727_3_10_clean_Escherichia_coli-SC6_ST69 | D78: K5 | E78: G2 | F78: G2 | G78: D | H78: PP6_CC69 | I78: NA | J78: UK | K78: Maklin 2022/Shao 2024 | L78: neonatal carriage | M78: UK_neonatal carriage | N78: metagenomic assemblies | O78: include | P78: include | Q78: 2014-2017 | R78: NA
A79: Deposited at https://zenodo.org/records/14000489 | B79: 20727_3_11_clean_Escherichia_coli-SC6_ST69 | D79: K5 | E79: G2 | F79: G2 | G79: D | H79: PP6_CC69 | I79: NA | J79: UK | K79: Maklin 2022/Shao 2024 | L79: neonatal carriage | M79: UK_neonatal carriage | N79: metagenomic assemblies | O79: non-independent | P79: non-independent | Q79: 2014-2017 | R79: NA
A80: Deposited at https://zenodo.org/records/14000489 | B80: 20727_3_20_clean_Escherichia_coli-SC65_ST399 | D80: K19 | E80: G3-C | F80: G3 | G80: A | H80: PP65_CC399 | I80: NA | J80: UK | K80: Maklin 2022/Shao 2024 | L80: neonatal carriage | M80: UK_neonatal carriage | N80: metagenomic assemblies | O80: include | P80: include | Q80: 2014-2017 | R80: NA
A81: Deposited at https://zenodo.org/records/14000489 | B81: 20727_3_22_clean_Escherichia_coli-SC65_ST399 | D81: Non G2-G3 | E81: likely G1-G4 | G81: A | H81: PP65_CC399 | I81: NA | J81: UK | K81: Maklin 2022/Shao 2024 | L81: neonatal carriage | M81: UK_neonatal carriage | N81: metagenomic assemblies | O81: include | P81: include | Q81: 2014-2017 | R81: NA
A82: Deposited at https://zenodo.org/records/14000489 | B82: 20727_3_23_clean_Escherichia_coli-SC65_ST399 | D82: Non G2-G3 | E82: likely G1-G4 | G82: A | H82: PP65_CC399 | I82: NA | J82: UK | K82: Maklin 2022/Shao 2024 | L82: neonatal carriage | M82: UK_neonatal carriage | N82: metagenomic assemblies | O82: non-independent | P82: non-independent | Q82: 2014-2017 | R82: NA
A83: Deposited at https://zenodo.org/records/14000489 | B83: 20727_3_2_clean_Escherichia_coli-SC32_ST80 | D83: K1 | E83: G2 | F83: G2 | G83: B2 | H83: PP32_CC80 | I83: NA | J83: UK | K83: Maklin 2022/Shao 2024 | L83: neonatal carriage | M83: UK_neonatal carriage | N83: metagenomic assemblies | O83: include | P83: include | Q83: 2014-2017 | R83: NA
A84: Deposited at https://zenodo.org/records/14000489 | B84: 20727_3_3_clean_Escherichia_coli-SC32_ST80 | D84: K1 | E84: G2 | F84: G2 | G84: B2 | H84: PP32_CC80 | I84: NA | J84: UK | K84: Maklin 2022/Shao 2024 | L84: neonatal carriage | M84: UK_neonatal carriage | N84: metagenomic assemblies | O84: non-independent | P84: non-independent | Q84: 2014-2017 | R84: NA
A85: Deposited at https://zenodo.org/records/14000489 | B85: 20727_4_10_clean_Escherichia_coli-SC65_ST399 | D85: Non G2-G3 | E85: likely G1-G4 | G85: A | H85: PP65_CC399 | I85: NA | J85: UK | K85: Maklin 2022/Shao 2024 | L85: neonatal carriage | M85: UK_neonatal carriage | N85: metagenomic assemblies | O85: include | P85: include | Q85: 2014-2017 | R85: NA
A86: Deposited at https://zenodo.org/records/14000489 | B86: 20727_4_24_clean_Escherichia_coli-SC5_ST95 | D86: K1 | E86: G2 | F86: G2 | G86: B2 | H86: PP5_CC95 | I86: NA | J86: UK | K86: Maklin 2022/Shao 2024 | L86: neonatal carriage | M86: UK_neonatal carriage | N86: metagenomic assemblies | O86: include | P86: include | Q86: 2014-2017 | R86: NA
A87: Deposited at https://zenodo.org/records/14000489 | B87: 20727_5_15_clean_Escherichia_coli-SC5_ST95 | D87: K1 | E87: G2 | F87: G2 | G87: B2 | H87: PP5_CC95 | I87: NA | J87: UK | K87: Maklin 2022/Shao 2024 | L87: neonatal carriage | M87: UK_neonatal carriage | N87: metagenomic assemblies | O87: include | P87: include | Q87: 2014-2017 | R87: NA
A88: Deposited at https://zenodo.org/records/14000489 | B88: 20727_5_16_clean_Escherichia_coli-SC5_ST95 | D88: K1 | E88: G2 | F88: G2 | G88: B2 | H88: PP5_CC95 | I88: NA | J88: UK | K88: Maklin 2022/Shao 2024 | L88: neonatal carriage | M88: UK_neonatal carriage | N88: metagenomic assemblies | O88: non-independent | P88: non-independent | Q88: 2014-2017 | R88: NA
A89: Deposited at https://zenodo.org/records/14000489 | B89: 20727_5_17_clean_Escherichia_coli-SC10_ST17 | D89: Non G2-G3 | E89: likely G1-G4 | G89: B1 | H89: PP10_CC17 | I89: NA | J89: UK | K89: Maklin 2022/Shao 2024 | L89: neonatal carriage | M89: UK_neonatal carriage | N89: metagenomic assemblies | O89: include | P89: include | Q89: 2014-2017 | R89: NA
A90: Deposited at https://zenodo.org/records/14000489 | B90: 20727_5_18_clean_Escherichia_coli-SC61_ST91 | D90: K4 | E90: G2 | F90: G2 | G90: B2 | H90: PP61_CC91 | I90: NA | J90: UK | K90: Maklin 2022/Shao 2024 | L90: neonatal carriage | M90: UK_neonatal carriage | N90: metagenomic assemblies | O90: include | P90: include | Q90: 2014-2017 | R90: NA
A91: Deposited at https://zenodo.org/records/14000489 | B91: 20727_5_19_clean_Escherichia_coli-SC61_ST91 | D91: K4 | E91: G2 | F91: G2 | G91: B2 | H91: PP61_CC91 | I91: NA | J91: UK | K91: Maklin 2022/Shao 2024 | L91: neonatal carriage | M91: UK_neonatal carriage | N91: metagenomic assemblies | O91: non-independent | P91: non-independent | Q91: 2014-2017 | R91: NA
A92: Deposited at https://zenodo.org/records/14000489 | B92: 20727_5_1_clean_Escherichia_coli-SC5_ST95 | D92: K1 | E92: G2 | F92: G2 | G92: B2 | H92: PP5_CC95 | I92: NA | J92: UK | K92: Maklin 2022/Shao 2024 | L92: neonatal carriage | M92: UK_neonatal carriage | N92: metagenomic assemblies | O92: non-independent | P92: non-independent | Q92: 2014-2017 | R92: NA
A93: Deposited at https://zenodo.org/records/14000489 | B93: 20727_5_20_clean_Escherichia_coli-SC18_ST141 | D93: K1 | E93: G2 | F93: G2 | G93: B2 | H93: PP18_CC141 | I93: NA | J93: UK | K93: Maklin 2022/Shao 2024 | L93: neonatal carriage | M93: UK_neonatal carriage | N93: metagenomic assemblies | O93: include | P93: include | Q93: 2014-2017 | R93: NA
A94: Deposited at https://zenodo.org/records/14000489 | B94: 20727_5_21_clean_Escherichia_coli-SC18_ST141 | D94: K1 | E94: G2 | F94: G2 | G94: B2 | H94: PP18_CC141 | I94: NA | J94: UK | K94: Maklin 2022/Shao 2024 | L94: neonatal carriage | M94: UK_neonatal carriage | N94: metagenomic assemblies | O94: non-independent | P94: non-independent | Q94: 2014-2017 | R94: NA
A95: Deposited at https://zenodo.org/records/14000489 | B95: 20727_5_2_clean_Escherichia_coli-SC5_ST95 | D95: K1 | E95: G2 | F95: G2 | G95: B2 | H95: PP5_CC95 | I95: NA | J95: UK | K95: Maklin 2022/Shao 2024 | L95: neonatal carriage | M95: UK_neonatal carriage | N95: metagenomic assemblies | O95: non-independent | P95: non-independent | Q95: 2014-2017 | R95: NA
A96: Deposited at https://zenodo.org/records/14000489 | B96: 20727_5_3_clean_Escherichia_coli-SC70_ST607 | D96: Non G2-G3 | E96: likely G1-G4 | G96: A | H96: PP70_CC607 | I96: NA | J96: UK | K96: Maklin 2022/Shao 2024 | L96: neonatal carriage | M96: UK_neonatal carriage | N96: metagenomic assemblies | O96: include | P96: include | Q96: 2014-2017 | R96: NA
A97: Deposited at https://zenodo.org/records/14000489 | B97: 20727_5_3_clean_Escherichia_coli-SC8_ST1193 | D97: K1 | E97: G2 | F97: G2 | G97: B2 | H97: PP8_CC1193 | I97: NA | J97: UK | K97: Maklin 2022/Shao 2024 | L97: neonatal carriage | M97: UK_neonatal carriage | N97: metagenomic assemblies | O97: include | P97: include | Q97: 2014-2017 | R97: NA
A98: Deposited at https://zenodo.org/records/14000489 | B98: 20727_5_8_clean_Escherichia_coli-SC229_ST401 | D98: Non G2-G3 | E98: likely G1-G4 | G98: A | H98: PP229_CC401 | I98: NA | J98: UK | K98: Maklin 2022/Shao 2024 | L98: neonatal carriage | M98: UK_neonatal carriage | N98: metagenomic assemblies | O98: include | P98: include | Q98: 2014-2017 | R98: NA
A99: Deposited at https://zenodo.org/records/14000489 | B99: 20727_5_9_clean_Escherichia_coli-SC229_ST401 | D99: Non G2-G3 | E99: likely G1-G4 | G99: A | H99: PP229_CC401 | I99: NA | J99: UK | K99: Maklin 2022/Shao 2024 | L99: neonatal carriage | M99: UK_neonatal carriage | N99: metagenomic assemblies | O99: non-independent | P99: non-independent | Q99: 2014-2017 | R99: NA
A100: Deposited at https://zenodo.org/records/14000489 | B100: 20727_6_10_clean_Escherichia_coli-SC4_ST10 | D100: Non G2-G3 | E100: likely G1-G4 | G100: A | H100: PP4_CC10 | I100: NA | J100: UK | K100: Maklin 2022/Shao 2024 | L100: neonatal carriage | M100: UK_neonatal carriage | N100: metagenomic assemblies | O100: non-independent | P100: non-independent | Q100: 2014-2017 | R100: NA
A101: Deposited at https://zenodo.org/records/14000489 | B101: 20727_6_10_clean_Escherichia_coli-SC81_ST13 | D101: Non G2-G3 | E101: likely G1-G4 | G101: B1 | H101: PP81_CC13 | I101: NA | J101: UK | K101: Maklin 2022/Shao 2024 | L101: neonatal carriage | M101: UK_neonatal carriage | N101: metagenomic assemblies | O101: include | P101: include | Q101: 2014-2017 | R101: NA
A102: Deposited at https://zenodo.org/records/14000489 | B102: 20727_6_15_clean_Escherichia_coli-SC3_ST73 | D102: K5 | E102: G2 | F102: G2 | G102: B2 | H102: PP3_CC73 | I102: NA | J102: UK | K102: Maklin 2022/Shao 2024 | L102: neonatal carriage | M102: UK_neonatal carriage | N102: metagenomic assemblies | O102: include | P102: include | Q102: 2014-2017 | R102: NA
A103: Deposited at https://zenodo.org/records/14000489 | B103: 20727_6_16_clean_Escherichia_coli-SC3_ST73 | D103: K7 | E103: G2 | F103: G2 | G103: B2 | H103: PP3_CC73 | I103: NA | J103: UK | K103: Maklin 2022/Shao 2024 | L103: neonatal carriage | M103: UK_neonatal carriage | N103: metagenomic assemblies | O103: include | P103: include | Q103: 2014-2017 | R103: NA
A104: Deposited at https://zenodo.org/records/14000489 | B104: 20727_6_24_clean_Escherichia_coli-SC16_ST38 | D104: KL116 | E104: G2 | F104: G2 | G104: D | H104: PP16_CC38 | I104: NA | J104: UK | K104: Maklin 2022/Shao 2024 | L104: neonatal carriage | M104: UK_neonatal carriage | N104: metagenomic assemblies | O104: include | P104: include | Q104: 2014-2017 | R104: NA
A105: Deposited at https://zenodo.org/records/14000489 | B105: 20727_6_2_clean_Escherichia_coli-SC65_ST399 | D105: Non G2-G3 | E105: likely G1-G4 | G105: A | H105: PP65_CC399 | I105: NA | J105: UK | K105: Maklin 2022/Shao 2024 | L105: neonatal carriage | M105: UK_neonatal carriage | N105: metagenomic assemblies | O105: include | P105: include | Q105: 2014-2017 | R105: NA
A106: Deposited at https://zenodo.org/records/14000489 | B106: 20727_6_4_clean_Escherichia_coli-SC4_ST10 | D106: KL115 | E106: G2 | F106: G2 | G106: A | H106: PP4_CC10 | I106: NA | J106: UK | K106: Maklin 2022/Shao 2024 | L106: neonatal carriage | M106: UK_neonatal carriage | N106: metagenomic assemblies | O106: include | P106: include | Q106: 2014-2017 | R106: NA
A107: Deposited at https://zenodo.org/records/14000489 | B107: 20727_6_5_clean_Escherichia_coli-SC11_ST127 | D107: K14 | E107: G2 | F107: G2 | G107: B2 | H107: PP11_CC127 | I107: NA | J107: UK | K107: Maklin 2022/Shao 2024 | L107: neonatal carriage | M107: UK_neonatal carriage | N107: metagenomic assemblies | O107: include | P107: include | Q107: 2014-2017 | R107: NA
A108: Deposited at https://zenodo.org/records/14000489 | B108: 20727_6_7_clean_Escherichia_coli-SC65_ST399 | D108: Non G2-G3 | E108: likely G1-G4 | G108: A | H108: PP65_CC399 | I108: NA | J108: UK | K108: Maklin 2022/Shao 2024 | L108: neonatal carriage | M108: UK_neonatal carriage | N108: metagenomic assemblies | O108: include | P108: include | Q108: 2014-2017 | R108: NA
A109: Deposited at https://zenodo.org/records/14000489 | B109: 20727_6_8_clean_Escherichia_coli-SC4_ST10 | D109: K1 | E109: G2 | F109: G2 | G109: A | H109: PP4_CC10 | I109: NA | J109: UK | K109: Maklin 2022/Shao 2024 | L109: neonatal carriage | M109: UK_neonatal carriage | N109: metagenomic assemblies | O109: include | P109: include | Q109: 2014-2017 | R109: NA
A110: Deposited at https://zenodo.org/records/14000489 | B110: 20727_6_8_clean_Escherichia_coli-SC81_ST13 | D110: Non G2-G3 | E110: likely G1-G4 | G110: B1 | H110: PP81_CC13 | I110: NA | J110: UK | K110: Maklin 2022/Shao 2024 | L110: neonatal carriage | M110: UK_neonatal carriage | N110: metagenomic assemblies | O110: non-independent | P110: non-independent | Q110: 2014-2017 | R110: NA
A111: Deposited at https://zenodo.org/records/14000489 | B111: 20727_6_9_clean_Escherichia_coli-SC4_ST10 | D111: K1 | E111: G2 | F111: G2 | G111: A | H111: PP4_CC10 | I111: NA | J111: UK | K111: Maklin 2022/Shao 2024 | L111: neonatal carriage | M111: UK_neonatal carriage | N111: metagenomic assemblies | O111: include | P111: include | Q111: 2014-2017 | R111: NA
A112: Deposited at https://zenodo.org/records/14000489 | B112: 20727_6_9_clean_Escherichia_coli-SC81_ST13 | D112: Non G2-G3 | E112: likely G1-G4 | G112: B1 | H112: PP81_CC13 | I112: NA | J112: UK | K112: Maklin 2022/Shao 2024 | L112: neonatal carriage | M112: UK_neonatal carriage | N112: metagenomic assemblies | O112: non-independent | P112: non-independent | Q112: 2014-2017 | R112: NA
A113: Deposited at https://zenodo.org/records/14000489 | B113: 20727_7_11_clean_Escherichia_coli-SC69_ST349 | D113: K1 | E113: G2 | F113: G2 | G113: D | H113: PP69_CC349 | I113: NA | J113: UK | K113: Maklin 2022/Shao 2024 | L113: neonatal carriage | M113: UK_neonatal carriage | N113: metagenomic assemblies | O113: include | P113: include | Q113: 2014-2017 | R113: NA
A114: Deposited at https://zenodo.org/records/14000489 | B114: 20727_7_12_clean_Escherichia_coli-SC69_ST349 | D114: K1 | E114: G2 | F114: G2 | G114: D | H114: PP69_CC349 | I114: NA | J114: UK | K114: Maklin 2022/Shao 2024 | L114: neonatal carriage | M114: UK_neonatal carriage | N114: metagenomic assemblies | O114: non-independent | P114: non-independent | Q114: 2014-2017 | R114: NA
A115: Deposited at https://zenodo.org/records/14000489 | B115: 20727_7_13_clean_Escherichia_coli-SC17_ST58 | D115: Non G2-G3 | E115: likely G1-G4 | G115: B1 | H115: PP17_CC58 | I115: NA | J115: UK | K115: Maklin 2022/Shao 2024 | L115: neonatal carriage | M115: UK_neonatal carriage | N115: metagenomic assemblies | O115: include | P115: include | Q115: 2014-2017 | R115: NA
A116: Deposited at https://zenodo.org/records/14000489 | B116: 20727_7_13_clean_Escherichia_coli-SC25_ST517 | D116: Non G2-G3 | E116: likely G1-G4 | G116: B1 | H116: PP25_CC517 | I116: NA | J116: UK | K116: Maklin 2022/Shao 2024 | L116: neonatal carriage | M116: UK_neonatal carriage | N116: metagenomic assemblies | O116: non-independent | P116: non-independent | Q116: 2014-2017 | R116: NA
...

Sheet T2-Phylogroups
A1: Supplementary Data T1. Distribution of G2 and G3 capsular loci across phylogroups in European BSIs (Kallonen et al 2017, Gladstone et al 2021, Pontinen et al 2024, Lipworth et al 2024 (2009 and 2018 only))
A3: Phylogroup | B3: Count | C3: G2 | D3: G3
A4: All | B4: 5863 | C4: 0.81272386 | D4: 0.035306157
A5: A | B5: 297 | C5: 0.24915825 | D5: 0.04040404
A6: B1 | B6: 330 | C6: 0.072727273 | D6: 0.015151515
A7: B2 | B7: 3988 | C7: 0.94232698 | D7: 0.022066199
A8: C | B8: 133 | C8: 0.007518797 | D8: 0
A9: D | B9: 850 | C9: 0.84117647 | D9: 0.11529412
A10: E | B10: 14 | C10: 0 | D10: 0
A11: F | B11: 203 | C11: 0.94581281 | D11: 0.014778325
A12: G | B12: 48 | C12: 0 | D12: 0

Sheet T3-OHK typing NORM
A1: ID | B1: pp_NORM | C1: O | D1: H | E1: K
A2: 30134_6#100 | B2: pp1_ST73 | C2: O25 | D2: H1 | E2: K5
A3: 30134_6#104 | B3: pp1_ST73 | C3: O25 | D3: H1 | E3: K5
A4: 30134_6#123 | B4: pp11_ST10 | C4: O32 | D4: H37 | E4: Non G2-G3
A5: 30134_6#124 | B5: pp8_ST127 | C5: O6 | D5: H31 | E5: K14
A6: 30134_6#128 | B6: pp12_ST88 | C6: O8 | D6: H4 | E6: Non G2-G3
A7: 30134_6#132 | B7: pp11_ST10 | C7: O6 | D7: H10 | E7: KL136
A8: 30134_6#136 | B8: pp2_ST95 | C8: O1 | D8: H7 | E8: K1
A9: 30134_6#153 | B9: pp4_ST131 | C9: O16 | D9: H5 | E9: KL115
A10: 30134_6#157 | B10: pp1_ST73 | C10: O2-O50-Gp7 | D10: H1 | E10: K7
A11: 30134_6#161 | B11: pp2_ST95 | C11: O18-Gp12 | D11: H7 | E11: K1
A12: 30134_6#164 | B12: pp6_ST58 | C12: Onovel4 | D12: H21 | E12: Non G2-G3
... A87: 30224_1#221 | B87: pp3_ST69 | C87: O25 | D87: H18 | E87: K4
A88: 30224_1#225 | B88: pp11_ST10 | D88: H30 | E88: Non G2-G3
A89: 30224_1#23 | B89: pp13_ST59 | C89: O1 | D89: H7 | E89: K1
A90: 30224_1#231 | B90: pp7_ST12 | C90: O4 | D90: H5 | E90: K12
A91: 30224_1#235 | B91: pp2_ST95 | C91: O18-Gp12 | D91: H7 | E91: K1
A92: 30224_1#245 | B92: pp4_ST131 | C92: O25 | D92: H4 | E92: K5
A93: 30224_1#249 | B93: pp13_ST59 | C93: O1 | D93: H7 | E93: K1
A94: 30224_1#254 | B94: pp7_ST12 | C94: O4 | D94: H5 | E94: K3
A95: 30224_1#258 | B95: pp13_ST59 | C95: O1 | D95: H7 | E95: K1
A96: 30224_1#264 | B96: pp56_ST1567 | C96: Onovel29 | D96: H48 | E96: Non G2-G3
A97: 30224_1#268 | B97: pp3_ST69 | C97: O17-044-O77-Gp9 | D97: H18 | E97: K52
A98: 30224_1#27 | B98: pp2_ST95 | C98: O18-Gp12 | D98: H7 | E98: K1
A99: 30224_1#278 | B99: pp5_ST14 | C99: O75 | D99: H7 | E99: K1
A100: 30224_1#282 | B100: pp2_ST95 | C100: O2-O50-Gp7 | D100: H7 | E100: K1
... A135: 30224_1#96 | B135: pp8_ST127 | C135: O6 | D135: H31 | E135: K14
A136: 30345_1#111 | B136: pp1_ST73 | D136: H1 | E136: K2
A137: 30345_1#118 | B137: pp2_ST95 | C137: O2-O50-Gp7 | D137: H7 | E137: K1
A138: 30345_1#122 | B138: pp1_ST73 | C138: O2-O50-Gp7 | D138: H1 | E138: K7
A139: 30345_1#126 | B139: pp8_ST127 | C139: O6 | D139: H31 | E139: K14
A140: 30345_1#130 | B140: pp6_ST58 | C140: O37 | D140: H10 | E140: Non G2-G3
A141: 30345_1#139 | B141: pp1_ST73 | C141: O6 | D141: H1 | E141: K5
A142: 30345_1#150 | B142: pp15_ST372 | C142: O83 | D142: H31 | E142: K14
A143: 30345_1#154 | B143: pp6_ST58 | C143: O108 | D143: H2 | E143: Non G2-G3
A144: 30345_1#158 | B144: pp37_ST973 | C144: O11 | D144: H15 | E144: KL126
A145: 30345_1#162 | B145: pp9_ST141 | C145: O134 | D145: H31 | E145: K1
A146: 30345_1#163 | B146: pp23_ST978 | C146: O4 | D146: H27 | E146: KL122
A147: 30345_1#182 | B147: pp13_ST59 | C147: O1 | D147: H7 | E147: K1
A148: 30345_1#186 | B148: pp4_ST131 | C148: O25 | D148: H4 | E148: K5
... A177: 30345_1#334 | B177: pp5_ST14 | C177: O75 | D177: H5 | E177: KL113
A178: 30345_1#343 | B178: pp10_ST357 | D178: H4 | E178: KL115
A179: 30345_1#347 | B179: pp4_ST131 | C179: O25 | D179: H4 | E179: K5
A180: 30345_1#351 | B180: pp10_ST357 | C180: O129-O13-O135-Gp10 | D180: H4 | E180: K92
A181: 30345_1#36 | B181: pp4_ST131 | C181: O25 | D181: H4 | E181: K5
A182: 30345_1#360 | B182: pp1_ST73 | C182: O18ac | D182: H1 | E182: KL111
A183: 30345_1#367 | B183: pp2_ST95 | C183: O1 | D183: H7 | E183: K1
A184: 30345_1#372 | B184: pp9_ST141 | C184: O2-O50-Gp7 | D184: H6 | E184: K1
A185: 30345_1#376 | B185: pp33_ST93 | C185: O5 | D185: H4 | E185: K7
A186: 30345_1#380 | B186: pp2_ST95 | C186: O2-O50-Gp7 | D186: H7 | E186: K1
A187: 30345_1#4 | B187: pp7_ST12 | C187: O4 | D187: H5 | E187: K7
A188: 30345_1#53 | B188: pp3_ST69 | C188: O153var1 | D188: H2 | E188: K52
A189: 30345_1#56 | B189: pp15_ST372 | C189: O18-Gp12 | D189: H31 | E189: K24
A190: 30345_1#60 | B190: pp1_ST73 | C190: O22 | D190: H1 | E190: K13_K23
... A199: 30348_1#114 | B199: pp12_ST88 | C199: O8 | D199: H19 | E199: Non G2-G3
A200: 30348_1#118 | B200: pp1_ST73 | D200: H1 | E200: K13_K23
A201: 30348_1#140 | B201: pp18_ST405 | C201: O102 | D201: H6 | E201: K2
A202: 30348_1#145 | B202: pp9_ST141 | C202: O2-O50-Gp7 | D202: H6 | E202: K1
A203: 30348_1#147 | B203: pp37_ST973 | C203: O11 | D203: H15 | E203: KL126
A204: 30348_1#151 | B204: pp3_ST69 | C204: O17-044-O77-Gp9 | D204: H18 | E204: K52
A205: 30348_1#172 | B205: pp2_ST95 | C205: O2-O50-Gp7 | D205: H5 | E205: K1
A206: 30348_1#177 | B206: pp1_ST73 | C206: O6 | D206: H1 | E206: K13_K23
A207: 30348_1#179 | B207: pp12_ST88 | C207: O8 | D207: H19 | E207: Non G2-G3
A208: 30348_1#18 | B208: pp13_ST59 | C208: O1 | D208: H7 | E208: K82
A209: 30348_1#183 | B209: pp41_ST567 | C209: O83 | D209: H33 | E209: K1
A210: 30348_1#204 | B210: pp12_ST88 | C210: O8 | D210: H19 | E210: Non G2-G3
A211: 30348_1#205 | B211: pp1_ST73 | C211: O25 | D211: H1 | E211: K5
A212: 30348_1#215 | B212: pp3_ST69 | C212: O17-044-O77-Gp9 | D212: H18 | E212: K52
... A225: 30348_1#275 | B225: pp3_ST69 | C225: O17-044-O77-Gp9 | D225: H18 | E225: K54_K96
A226: 30348_1#276 | B226: pp13_ST59 | D226: H7 | E226: K1
A227: 30348_1#278 | B227: pp8_ST127 | C227: O6 | D227: H31 | E227: K2
A228: 30348_1#28 | B228: pp18_ST405 | C228: O102 | D228: H6 | E228: KL111
A229: 30348_1#282 | B229: pp8_ST127 | C229: O6 | D229: H31 | E229: K14
A230: 30348_1#293 | B230: pp2_ST95 | C230: O1 | D230: H7 | E230: K1
A231: 30348_1#297 | B231: pp1_ST73 | C231: O18-Gp12 | D231: H1 | E231: K5
A232: 30348_1#304 | B232: pp5_ST14 | C232: O75 | D232: H7 | E232: K1
A233: 30348_1#306 | B233: pp3_ST69 | C233: O17-044-O77-Gp9 | D233: H18 | E233: KL137
A234: 30348_1#307 | B234: pp13_ST59 | C234: O1 | D234: H7 | E234: KL110
A235: 30348_1#308 | B235: pp6_ST58 | C235: O179 | D235: H8 | E235: Non G2-G3
A236: 30348_1#310 | B236: pp7_ST12 | C236: O4 | D236: H1 | E236: K12
A237: 30348_1#314 | B237: pp1_ST73 | C237: O2-O50-Gp7 | D237: H1 | E237: K7
A238: 30348_1#318 | B238: pp13_ST59 | C238: O1 | D238: H7 | E238: K1
... A299: 30602_1#340 | B299: pp4_ST131 | C299: O25 | D299: H4 | E299: K14
A300: 30602_1#36 | B300: pp1_ST73 | D300: H1 | E300: K5
A301: 30602_1#368 | B301: pp5_ST14 | C301: O18-Gp12 | D301: H5 | E301: K5
A302: 30602_1#372 | B302: pp1_ST73 | C302: O6 | D302: H1 | E302: K5
A303: 30602_1#45 | B303: pp2_ST95 | C303: O2-O50-Gp7 | D303: H7 | E303: K1
A304: 30602_1#49 | B304: pp1_ST73 | C304: O25 | D304: H1 | E304: K5
A305: 30602_1#56 | B305: pp2_ST95 | C305: O1 | D305: H7 | E305: K1
A306: 30602_1#64 | B306: pp4_ST131 | C306: O25 | D306: H4 | E306: K14
A307: 30602_1#77 | B307: pp3_ST69 | C307: O17-044-O77-Gp9 | D307: H18 | E307: K54_K96
A308: 30602_1#88 | B308: pp2_ST95 | C308: O2-O50-Gp7 | D308: H4 | E308: K1
A309: 30602_1#92 | B309: pp10_ST357 | C309: Onovel3 | D309: H4 | E309: KL120
A310: 30602_1#96 | B310: pp11_ST10 | C310: O8 | D310: H10 | E310: Non G2-G3
A311: 30602_2#190 | B311: pp1_ST73 | C311: O2-O50-Gp7 | D311: H1 | E311: K2
A312: 30602_2#245 | B312: pp12_ST88 | C312: O9 | D312: H4 | E312: Non G2-G3
... A326: 30602_2#342 | B326: pp7_ST12 | C326: O4 | D326: H1 | E326: K12
A327: 30602_2#346 | B327: pp12_ST88 | D327: H12 | E327: Non G2-G3
A328: 30602_2#354 | B328: pp1_ST73 | C328: O2-O50-Gp7 | D328: H1 | E328: K7
A329: 30602_2#358 | B329: pp11_ST10 | C329: O129-O13-O135-Gp10 | D329: H11 | E329: Non G2-G3
...

Sheet T4-OHK SDI
A1: Simpsons diversity index 1-D per lineage
A2: Lineage | B2: O | C2: H | D2: K
A3: pp1_ST73 | B3: 0.65792442 | C3: 0.02475128 | D3: 0.69403093
A4: pp10_ST357 | B4: 0.71822715 | C4: 0.34612245 | D4: 0.81034014
A5: pp11_ST10 | B5: 0.88524219 | C5: 0.85678585 | D5: 0.76268861
A6: pp12_ST88 | B6: 0.68212891 | C6: 0.78935185 | D6: NA
A7: pp13_ST59 | B7: 0.035076531 | C7: 0 | D7: 0.27085257
A8: pp14_ST38 | B8: 0.73140496 | C8: 0.64888889 | D8: 0.81185185
A9: pp15_ST372 | B9: 0.73015873 | C9: 0 | D9: 0.67061144
A10: pp16_ST393 | B10: 0.1820345 | C10: 0.36644854 | D10: 0.13920286
A11: pp17_ST144 | B11: 0 | C11: 0 | D11: 0
A12: pp18_ST405 | B12: 0.46749452 | C12: 0.43827611 | D12: 0.8385683
A13: pp19_ST117 | B13: 0.75171468 | C13: 0.13265306 | D13: NA
A14: pp2_ST95 | B14: 0.63990702 | C14: 0.19978092 | D14: 0
A15: pp20_ST136 | B15: 0.33106576 | C15: 0.58049887 | D15: NA
A16: pp21_ST62 | B16: 0 | C16: 0 | D16: 0
A17: pp22_ST453 | B17: 0.5 | C17: 0.5 | D17: 0.7768595
A18: pp23_ST978 | B18: 0.60444444 | C18: 0.49777778 | D18: 0.49777778
A19: pp24_ST409 | B19: 0.65306122 | C19: 0.35714286 | D19: NA
A20: pp25_ST648 | B20: 0.67346939 | C20: 0.52040816 | D20: 0.78106509
A21: pp26_ST28 | B21: 0.86 | C21: 0.375 | D21: NA
A22: pp27_ST399 | B22: 0.86 | C22: 0.76033058 | D22: NA
A23: pp28_ST362 | B23: 0.34 | C23: 0.18 | D23: 0.78
A24: pp29_ST491 | B24: 0.40625 | C24: 0 | D24: NA
A25: pp3_ST69 | B25: 0.65641631 | C25: 0.33452456 | D25: 0.76283074
A26: pp30_ST2015 | B26: 0.46875 | C26: 0.46875 | D26: 0.46875
A27: pp31_ST349 | B27: 0.40625 | C27: 0.40625 | D27: 0.75
A28: pp32_ST355 | B28: 0.72222222 | C28: 0.24489796 | D28: 0.69387755
A29: pp33_ST93 | B29: 0.69387755 | C29: 0.57142857 | D29: 0.73469388
A30: pp34_ST1304 | B30: 0.83333333 | C30: 0.61111111 | D30: NA
A31: pp35_ST5644 | B31: 0 | C31: 0 | D31: 0
A32: pp36_ST224 | B32: 0.83333333 | C32: 0.66666667 | D32: NA
A33: pp37_ST973 | B33: 0 | C33: 0 | D33: 0.5
A34: pp38_ST126 | B34: NA | C34: 0 | D34: 0
A35: pp39_ST398 | B35: 0.72 | C35: 0.8 | D35: NA
A36: pp4_ST131 | B36: 0.39255215 | C36: 0.38727292 | D36: 0.74926629
A37: pp40_ST685 | B37: NA | C37: 0.56 | D37: NA
A38: pp41_ST567 | B38: 0 | C38: 0 | D38: 0
A39: pp5_ST14 | B39: 0.39530582 | C39: 0.34599376 | D39: 0.55590942
A40: pp6_ST58 | B40: 0.92421476 | C40: 0.90349865 | D40: 0.56
A41: pp7_ST12 | B41: 0.13711911 | C41: 0.38783943 | D41: 0.74680935
A42: pp8_ST127 | B42: 0 | C42: 0.02908737 | D42: 0.36290809
A43: pp9_ST141 | B43: 0.32825627 | C43: 0.37114951 | D43: 0.46472222

Sheet T5-Database metdata
A1: Accession | B1: ID | C1: old ID | D1: old Designation | E1: Designation | F1: Count T1 | G1: old KL | H1: KL | I1: old K_KL | J1: K_KL | K1: in-silico K | L1: K-phenotype | M1: K-relatedness | N1: Group | O1: Group simiple | P1: K-phenotype evidence | Q1: *SSI = Statens Serum Institute
A2: CP000243 | B2: K1_G2_KL1_CP000243 | C2: K1_G2_KL8A1_CP000243 | D2: K1 | E2: K1 | F2: 1802 | G2: KL8A1 | H2: KL1 | I2: KL8A1_K1 | J2: K1_KL1 | K2: K1 | L2: =K2 -> K1 | N2: G2 | O2: G2 | P2: SSI x3, NCTC x 6, Genbank x 13, Enterobase x 37
A3: MG736912 | B3: K2ab_G2_KL2_MG736912 | C3: K2ab_G2_KL3_MG736912 | D3: K2 | E3: K2 | F3: 291 | G3: KL3 | H3: KL2 | I3: KL3_K2ab | J3: K2_KL2 | K3: K2 | L3: K2ab | N3: G2 | O3: G2 | P3: SSI x5, genbank x1
A4: ERZ24115085 | B4: K3_G3_KL3_30224_1.254_1 | C4: K3_G3_KL26_30224_1.254_1 | D4: K3 | E4: K3 | F4: 7 | G4: KL26 | H4: KL3 | I4: KL26_K3 | J4: K3_KL3 | K4: K3 | L4: =K4 -> K3 | N4: G3-A | O4: G3 | P4: SSI x1
A5: ERZ24119942 | B5: K4_G2_KL4_30602_1.132_1 | C5: K4_G2_KL29_30602_1.132_1 | D5: K4 | E5: K4 | F5: 34 | G5: KL29 | H5: KL4 | I5: KL29_K4 | J5: K4_KL4 | K5: K4 | L5: =K5 -> K4 | N5: G2 | O5: G2 | P5: genbank x1
A6: CP013831 | B6: K5_G2_KL5_CP013831 | C6: K5_G2_KL6_CP013831 | D6: K5 | E6: K5 | F6: 78 | G6: KL6 | H6: KL5 | I6: KL6_K5 | J6: K5_KL5 | K6: K5 | L6: =K6 -> K5 | N6: G2 | O6: G2 | P6: SSI x5, NCTC x2, genbank x7
A7: ERZ24123698 | B7: K7_G2_KL7_30821_1.45_1 | C7: K7_G2_KL10_30821_1.45_1 | D7: K7 | E7: K7 | F7: 25 | G7: KL10 | H7: KL7 | I7: KL10_K7 | J7: K7_KL7 | K7: K7 | L7: =K7 -> K7 | N7: G2 | O7: G2 | P7: SSI x2, 4x enterobase
A8: ERR972368 | B8: K10_G3_KL10_ERR972368 | C8: K10_G3_KL15_ERR972368 | D8: K10 | E8: K10 | F8: 515 | G8: KL15 | H8: KL10 | I8: KL15_K10 | J8: K10_KL10 | K8: K10 | L8: =K8 -> K10 | N8: G3-A | O8: G3 | P8: SSI x2, NCTC x 1
A9: MG736913 | B9: K11_G3_KL11_MG736913 | C9: K11_G3_KL57_MG736913 | D9: K11 | E9: K11 | F9: 81 | G9: KL57 | H9: KL11 | I9: KL57_K11 | J9: K11_KL11 | K9: K11 | L9: =K9 -> K11 | N9: G3-B | O9: G3 | P9: SSI x1, NCTC x3, genbank x1
A10: ERZ24115694 | B10: K12_G2_KL12_30224_1.85_2 | C10: K12_G2_KL86_30224_1.85_2 | D10: K12 | E10: K12 | F10: 1340 | G10: KL86 | H10: KL12 | I10: KL86_K12 | J10: K12_KL12 | K10: K12 | L10: =K10 -> K12 | N10: G2 | O10: G2 | P10: SSI x1, Enterobase x 5
A11: ERR999921 | B11: K13_K23_G2_KL13_ERR999921 | C11: K13_K23_G2_KL21_ERR999921 | D11: K13_K23 | E11: K13_K23 | F11: 239 | G11: KL21 | H11: KL13 | I11: KL21_K13-K23 | J11: K13_K23_KL13 | K11: K13_K23 | L11: K13 | N11: G2 | O11: G2 | P11: SSI x5, NCTC x 2
A12: ERZ24119801 | B12: K14_G2_KL14_30348_2.90_1 | C12: K14_G2_KL16_30348_2.90_1 | D12: K14 | E12: K14 | F12: 13 | G12: KL16 | H12: KL14 | I12: KL16_K14 | J12: K14_KL14 | K12: K14 | L12: =K12 -> K14 | N12: G2 | O12: G2 | P12: SSI x1, genbank x2, NCTC x1
A13: CP000247 | B13: K15_G2_KL15_CP000247 | C13: K15_G2_KL40_CP000247 | D13: K15 | E13: K15 | F13: 9 | G13: KL40 | H13: KL15 | I13: KL40_K15 | J13: K15_KL15 | K13: K15 | L13: =K13 -> K15 | N13: G2 | O13: G2 | P13: SSI x2, genbank x1
A14: ERZ24115561 | B14: K16_G2_KL16_30224_1.383_1 | C14: K16_G2_KL47_30224_1.383_1 | D14: K16 | E14: K16 | F14: 131 | G14: KL47 | H14: KL16 | I14: KL47_K16 | J14: K16_KL16 | K14: K16 | L14: =K14 -> K16 | N14: G2 | O14: G2 | P14: SSI x1, enterobase x 2
A15: ERR1025281 | B15: K19_G3_KL19_ERR1025281 | C15: K19_G3_KL160_ERR1025281 | D15: K19 | E15: K19 | F15: 174 | G15: KL160 | H15: KL19 | I15: KL160_K19 | J15: K19_KL19 | K15: K19 | L15: =K15 -> K19 | N15: G3-C | O15: G3 | P15: NCTC x1
A16: MG739438 | B16: K20_G2_KL20_MG739438 | C16: K20_G2_KL9_MG739438 | D16: K20 | E16: K20 | F16: 66 | G16: KL9 | H16: KL20 | I16: KL9_K20 | J16: K20_KL20 | K16: K20 | L16: =K16 -> K20 | N16: G2 | O16: G2 | P16: SSI x1, NCTC x1, genbank x1
A17: ERZ24113823 | B17: K24_G2_KL24_30134_6.170_3 | C17: K24_G2_KL14_30134_6.170_3 | D17: K24 | E17: K24 | F17: 41 | G17: KL14 | H17: KL24 | I17: KL14_K24 | J17: K24_KL24 | K17: K24 | L17: =K17 -> K24 | N17: G2 | O17: G2 | P17: genbank x1 MG739439 K24, SSI conflicting x2 K6 (inconsistent with literature)
A18: CU928163 | B18: K52_G2_KL52_CU928163 | C18: K52_G2_KL11_CU928163 | D18: K52 | E18: K52 | F18: 338 | G18: KL11 | H18: KL52 | I18: KL11_K52 | J18: K52_KL52 | K18: K52 | L18: =K18 -> K52 | N18: G2 | O18: G2 | P18: genbank x1, enterobase x 3
A19: ERZ24125771 | B19: K53_G2_KL53_31663_7.272_1 | C19: K53_G2_KL28_31663_7.272_1 | D19: K53 | E19: K53 | F19: 30 | G19: KL28 | H19: KL53 | I19: KL28_K53 | J19: K53_KL53 | K19: K53 | L19: =K19 -> K53 | N19: G2 | O19: G2 | P19: SSI x1, enterobase x 2
A20: MG736915 | B20: K96_G3_KL96_MG736915 | C20: K96_G3_KL36_MG736915 | D20: K54_K96 | E20: K54_K96 | F20: 134 | G20: KL36 | H20: KL96 | I20: KL36_K54-K96 | J20: K54_K96_KL96 | K20: K54_K96 | L20: K96 | N20: G3-A | O20: G3 | P20: SSI x4, genbank x2
A21: ERZ24117436 | B21: K82_G2_KL82_30348_1.18_1 | C21: K82_G2_KL12_30348_1.18_1 | D21: K82 | E21: K82 | F21: 51 | G21: KL12 | H21: KL82 | I21: KL12_K82 | J21: K82_KL82 | K21: K82 | L21: =K21 -> K82 | N21: G2 | O21: G2 | P21: Conflicting SSI K+ K82neg x2, NCTC K82 x1
A22: MG739441 | B22: K92_G2_KL92_MG739441 | C22: K92_G2_KL8A2_MG739441 | D22: K92 | E22: K92 | F22: 34 | G22: KL8A2 | H22: KL92 | I22: KL8A2_K92 | J22: K92_KL92 | K22: K92 | L22: =K22 -> K92 | N22: G2 | O22: G2 | P22: SSI x1, genbank x1
A23: ERR1036227 | B23: K93_G2_KL93_ERR1036227 | C23: K93_G2_KL4_ERR1036227 | D23: K93 | E23: K93 | F23: 17 | G23: KL4 | H23: KL93 | I23: KL4_K93 | J23: K93_KL93 | K23: K93 | L23: =K23 -> K93 | N23: G2 | O23: G2 | P23: SSI x1, NCTC x1
A24: ERZ24114480 | B24: K98_G3_KL98_30134_6.69_2 | C24: K98_G3_KL20_30134_6.69_2 | D24: K98 | E24: K98 | F24: 251 | G24: KL20 | H24: KL98 | I24: KL20_K98 | J24: K98_KL98 | K24: K98 | L24: =K24 -> K98 | N24: G3-A | O24: G3 | P24: SSI x2 ERZ24123621 and ERZ24114480
A25: CP013658 | B25: K100_G2_KL100_CP013658 | C25: K100_G2_KL2_CP013658 | D25: K100 | E25: K100 | F25: 123 | G25: KL2 | H25: KL100 | I25: KL2_K100 | J25: K100_KL100 | K25: K100 | L25: =K25 -> K100 | N25: G2 | O25: G2 | P25: SSI x3, Enterobase x10
A26: ERZ24121880 | B26: G2_KL142_30602_2.290_1 | C26: G2_KL105_30602_2.290_1 | D26: KL105 | E26: KL142 | F26: 3 | G26: KL105 | H26: KL142 | I26: KL105 | J26: KL142 | N26: G2-atypical_order | O26: G2 | P26: Required
A27: ERZ24115395 | B27: G2_KL111_30224_1.33_1 | C27: G2_KL7_30224_1.33_1 | D27: KL7 | E27: KL111 | F27: 104 | G27: KL7 | H27: KL111 | I27: KL7 | J27: KL111 | N27: G2 | O27: G2 | P27: SSI K+ x1
A28: ERZ24118500 | B28: G2_KL110_30348_2.133_1 | C28: G2_KL13_30348_2.133_1 | D28: KL13 | E28: KL110 | F28: 141 | G28: KL13 | H28: KL110 | I28: KL13 | J28: KL110 | N28: G2-atypical_order | O28: G2 | P28: Required
A29: ERR999925 | B29: G2_KL113_ERR999925 | C29: G2_KL31_ERR999925 | D29: KL31 | E29: KL113 | F29: 64 | G29: KL31 | H29: KL113 | I29: KL31 | J29: KL113 | N29: G2 | O29: G2 | P29: Required
A30: ERR9845308 | B30: G2_KL114_ERR9845308 | C30: G2_KL126_ERR9845308 | D30: KL126 | E30: KL114 | F30: 51 | G30: KL126 | H30: KL114 | I30: KL126 | J30: KL114 | M30: K14-like | N30: G2 | O30: G2 | P30: SSI x1
A31: ERZ24113780 | B31: G2_KL115_30134_6.153_1 | C31: G2_KL30_30134_6.153_1 | D31: KL30 | E31: KL115 | F31: 45 | G31: KL30 | H31: KL115 | I31: KL30 | J31: KL115 | N31: G2 | O31: G2 | P31: Required
A32: ERZ24124531 | B32: G2_KL116_30859_5.251_1 | C32: G2_KL5_30859_5.251_1 | D32: KL5 | E32: KL116 | F32: 43 | G32: KL5 | H32: KL116 | I32: KL5 | J32: KL116 | N32: G2 | O32: G2 | P32: Required
A33: ERZ24115930 | B33: G2_KL169_30345_1.148_2 | C33: G2_KL34_30345_1.148_2 | D33: KL34 | E33: KL169 | F33: 0 | G33: KL34 | H33: KL169 | I33: KL34 | J33: KL169 | N33: G2-atypical_order | O33: G2 | P33: Required
A34: ERZ24117328 | B34: G2_KL118_30348_1.159_2 | C34: G2_KL17_30348_1.159_2 | D34: KL17 | E34: KL118 | F34: 37 | G34: KL17 | H34: KL118 | I34: KL17 | J34: KL118 | N34: G2 | O34: G2 | P34: SSI K+ x1
A35: ERR3970455 | B35: G2_KL119_ERR3970455 | C35: G2_KL70_ERR3970455 | D35: KL70 | E35: KL119 | F35: 32 | G35: KL70 | H35: KL119 | I35: KL70 | J35: KL119 | N35: G2 | O35: G2 | P35: SSI K+ x1
A36: ERZ24117759 | B36: G2_KL120_30348_1.272_1 | C36: G2_KL42_30348_1.272_1 | D36: KL42 | E36: KL120 | F36: 32 | G36: KL42 | H36: KL120 | I36: KL42 | J36: KL120 | N36: G2 | O36: G2 | P36: Required
A37: ERZ24124658 | B37: G2_KL121_30859_5.286_1 | C37: G2_KL112_30859_5.286_1 | D37: KL112 | E37: KL121 | F37: 29 | G37: KL112 | H37: KL121 | I37: KL112 | J37: KL121 | N37: G2 | O37: G2 | P37: Required
A38: ERZ24120237 | B38: G2_KL122_30602_1.193_1 | C38: G2_KL23_30602_1.193_1 | D38: KL23 | E38: KL122 | F38: 29 | G38: KL23 | H38: KL122 | I38: KL23 | J38: KL122 | N38: G2 | O38: G2 | P38: SSI K+ x1
A39: ERZ24118717 | B39: G2_KL123_30348_2.175_1 | C39: G2_KL35_30348_2.175_1 | D39: KL35 | E39: KL123 | F39: 22 | G39: KL35 | H39: KL123 | I39: KL35 | J39: KL123 | N39: G2 | O39: G2 | P39: SSI K+ x1
A40: ERZ24122877 | B40: G2_KL124_30821_1.165_1 | C40: G2_KL22_30821_1.165_1 | D40: KL22 | E40: KL124 | F40: 20 | G40: KL22 | H40: KL124 | I40: KL22 | J40: KL124 | N40: G2 | O40: G2 | P40: Required
A41: SAMN04993121 | B41: G2_KL125_SAMN04993121 | C41: G2_KL71_SAMN04993121 | D41: KL71 | E41: KL125 | F41: 20 | G41: KL71 | H41: KL125 | I41: KL71 | J41: KL125 | N41: G2 | O41: G2 | P41: Required
A42: ERZ24115961 | B42: G2_KL126_30345_1.158_1 | C42: G2_KL39_30345_1.158_1 | D42: KL39 | E42: KL126 | F42: 17 | G42: KL39 | H42: KL126 | I42: KL39 | J42: KL126 | N42: G2 | O42: G2 | P42: SSI K+ x1
A43: ERZ24117066 | B43: G2_KL127_30345_1.78_1 | C43: G2_KL91_30345_1.78_1 | D43: KL91 | E43: KL127 | F43: 13 | G43: KL91 | H43: KL127 | I43: KL91 | J43: KL127 | M43: K5-like | N43: G2 | O43: G2 | P43: Required
A44: SAMN04096287 | B44: G2_KL128_SAMN04096287 | C44: G2_KL183_SAMN04096287 | D44: KL183 | E44: KL128 | F44: 11 | G44: KL183 | H44: KL128 | I44: KL183 | J44: KL128 | N44: G2 | O44: G2 | P44: Required
A45: ERR435357 | B45: G2_KL129_ERR435357 | C45: G2_KL173_ERR435357 | D45: KL173 | E45: KL129 | F45: 11 | G45: KL173 | H45: KL129 | I45: KL173 | J45: KL129 | N45: G2 | O45: G2 | P45: Required
A46: ERR3970833 | B46: G2_KL130_ERR3970833 | C46: G2_KL82_ERR3970833 | D46: KL82 | E46: KL130 | F46: 11 | G46: KL82 | H46: KL130 | I46: KL82 | J46: KL130 | M46: K1-K92-like | N46: G2 | O46: G2 | P46: Required
A47: SAMEA3322059 | B47: G2_KL131_SAMEA3322059 | C47: G2_KL74_SAMEA3322059 | D47: KL74 | E47: KL131 | F47: 10 | G47: KL74 | H47: KL131 | I47: KL74 | J47: KL131 | N47: G2 | O47: G2 | P47: Required
A48: ERR13369541 | B48: G3_KL132_47624_1.46 | C48: G3_KL139_47624_1.46 | D48: KL139 | E48: KL132 | F48: 7 | G48: KL139 | H48: KL132 | I48: KL139 | J48: KL132 | N48: G3-B | O48: G3 | P48: Required
A49: ERZ24116432 | B49: G2_KL133_30345_1.260_1 | C49: G2_KL24_30345_1.260_1 | D49: KL24 | E49: KL133 | F49: 7 | G49: KL24 | H49: KL133 | I49: KL24 | J49: KL133 | N49: G2 | O49: G2 | P49: SSI K+ x1
A50: ERZ24113830 | B50: G2_KL134_30134_6.174_1 | C50: G2_KL43_30134_6.174_1 | D50: KL43 | E50: KL134 | F50: 5 | G50: KL43 | H50: KL134 | I50: KL43 | J50: KL134 | N50: G2-atypical_order | O50: G2 | P50: Required
A51: ERR4034834 | B51: G2_KL135_ERR4034834 | C51: G2_KL72_ERR4034834 | D51: KL72 | E51: KL135 | F51: 5 | G51: KL72 | H51: KL135 | I51: KL72 | J51: KL135 | N51: G2 | O51: G2 | P51: Required
A52: ERR4036254 | B52: G3_KL136_ERR4036254 | C52: G3_KL60_ERR4036254 | D52: KL60 | E52: KL136 | F52: 5 | G52: KL60 | H52: KL136 | I52: KL60 | J52: KL136 | N52: G3-B | O52: G3 | P52: Required
A53: ERZ24123960 | B53: G2_KL112_30859_5.10_1 | C53: G2_KL44_30859_5.10_1 | D53: KL44 | E53: KL112 | F53: 70 | G53: KL44 | H53: KL112 | I53: KL44 | J53: KL112 | N53: G2-atypical_order | O53: G2 | P53: Required
A54: ERZ24123974 | B54: G2_KL138_30859_5.114_1 | C54: G2_KL103_30859_5.114_1 | D54: KL103 | E54: KL138 | F54: 4 | G54: KL103 | H54: KL138 | I54: KL103 | J54: KL138 | M54: K100-like | N54: G2 | O54: G2 | P54: SSI x1
A55: ERR434849 | B55: G2_KL139_ERR434849 | C55: G2_KL80_ERR434849 | D55: KL80 | E55: KL139 | F55: 4 | G55: KL80 | H55: KL139 | I55: KL80 | J55: KL139 | M55: K13-K20-K23-like | N55: G2 | O55: G2 | P55: SSI x1
A56: ERR1609148 | B56: G3_KL140_ERR1609148 | C56: G3_KL55_ERR1609148 | D56: KL55 | E56: KL140 | F56: 3 | G56: KL55 | H56: KL140 | I56: KL55 | J56: KL140 | N56: G3-B | O56: G3 | P56: Required
A57: ERR435091 | B57: G2_KL141_ERR435091 | C57: G2_KL180_ERR435091 | D57: KL180 | E57: KL141 | F57: 3 | G57: KL180 | H57: KL141 | I57: KL180 | J57: KL141 | N57: G2 | O57: G2 | P57: Required
A58: ERZ24123693 | B58: G2_KL117_30821_1.44_1 | C58: G2_KL45_30821_1.44_1 | D58: KL45 | E58: KL117 | F58: 39 | G58: KL45 | H58: KL117 | I58: KL45 | J58: KL117 | N58: G2-atypical_order | O58: G2 | P58: Required
A59: ERR12107526 | B59: G3_KL143_ERR12107526 | C59: G3_KL59_ERR12107526 | D59: KL59 | E59: KL143 | F59: 2 | G59: KL59 | H59: KL143 | I59: KL59 | J59: KL143 | N59: G3-A | O59: G3 | P59: Required
A60: ERR4034177 | B60: G2_KL144_ERR4034177 | C60: G2_KL73_ERR4034177 | D60: KL73 | E60: KL144 | F60: 2 | G60: KL73 | H60: KL144 | I60: KL73 | J60: KL144 | N60: G2-atypical_order | O60: G2 | P60: SSI K+ x1
A61: ERR435060 | B61: G2_KL145_ERR435060 | C61: G2_KL182_ERR435060 | D61: KL182 | E61: KL145 | F61: 2 | G61: KL182 | H61: KL145 | I61: KL182 | J61: KL145 | N61: G2 | O61: G2 | P61: Required
A62: ERR435310 | B62: G2_KL146_ERR435310 | C62: G2_KL46_ERR435310 | D62: KL46 | E62: KL146 | F62: 2 | G62: KL46 | H62: KL146 | I62: KL46 | J62: KL146 | M62: K7-like | N62: G2 | O62: G2 | P62: Required
A63: ERZ24125319 | B63: G3_KL147_30859_5.60_1 | C63: G3_KL113_30859_5.60_1 | D63: KL113 | E63: KL147 | F63: 2 | G63: KL113 | H63: KL147 | I63: KL113 | J63: KL147 | N63: G3-A | O63: G3 | P63: Required
A64: ERZ24124537 | B64: G2_KL148_30859_5.252_1 | C64: G2_KL111_30859_5.252_1 | D64: KL111 | E64: KL148 | F64: 2 | G64: KL111 | H64: KL148 | I64: KL111 | J64: KL148 | M64: K4-like | N64: G2 | O64: G2 | P64: SSI K+ x1
A65: ERR434290 | B65: G2_KL149_ERR434290 | C65: G2_KL110_ERR434290 | D65: KL110 | E65: KL149 | F65: 2 | G65: KL110 | H65: KL149 | I65: KL110 | J65: KL149 | N65: G2 | O65: G2 | P65: Required
A66: ERZ24118502 | B66: G3_KL150_30348_2.134_1 | C66: G3_KL27_30348_2.134_1 | D66: KL27 | E66: KL150 | F66: 2 | G66: KL27 | H66: KL150 | I66: KL27 | J66: KL150 | N66: G3-A | O66: G3 | P66: Conflicting. SSI K+ K98 negative x1 ERZ24118502, enterobase x1 K98
A67: ERR1790491 | B67: G3_KL151_ERR1790491 | C67: G3_KL66_ERR1790491 | D67: KL66 | E67: KL151 | F67: 1 | G67: KL66 | H67: KL151 | I67: KL66 | J67: KL151 | N67: G3-B | O67: G3 | P67: Required
A68: SRR6107012 | B68: G3_KL152_SRR6107012 | C68: G3_KL214_SRR6107012 | D68: KL214 | E68: KL152 | F68: 1 | G68: KL214 | H68: KL152 | I68: KL214 | J68: KL152 | N68: G3-B | O68: G3 | P68: Required
A69: SAMEA3357406 | B69: G2_KL153_SAMEA3357406 | C69: G2_KL177_SAMEA3357406 | D69: KL177 | E69: KL153 | F69: 1 | G69: KL177 | H69: KL153 | I69: KL177 | J69: KL153 | M69: K5-like | N69: G2 | O69: G2 | P69: Required
A70: ERZ24125854 | B70: G2_KL154_31663_7.316_1 | C70: G2_KL141_31663_7.316_1 | D70: KL141 | E70: KL154 | F70: 1 | G70: KL141 | H70: KL154 | I70: KL141 | J70: KL154 | N70: G2 | O70: G2 | P70: SSI K+ x1
A71: SAMEA4428255 | B71: G2_KL155_SAMEA4428255 | C71: G2_KL144_SAMEA4428255 | D71: KL144 | E71: KL155 | F71: 1 | G71: KL144 | H71: KL155 | I71: KL144 | J71: KL155 | N71: G2 | O71: G2 | P71: Required
A72: ERZ24115709 | B72: G2_KL156_30224_1.94_1 | C72: G2_KL88_30224_1.94_1 | D72: KL88 | E72: KL156 | F72: 1 | G72: KL88 | H72: KL156 | I72: KL88 | J72: KL156 | M72: K4-like | N72: G2 | O72: G2 | P72: SSI K+ x2
A73: ERZ24117455 | B73: G2_KL157_30348_1.198_2 | C73: G2_KL93_30348_1.198_2 | D73: KL93 | E73: KL157 | F73: 1 | G73: KL93 | H73: KL157 | I73: KL93 | J73: KL157 | N73: G2 | O73: G2 | P73: Required
A74: ERZ24117861 | B74: G3_KL158_30348_1.301_1 | C74: G3_KL97_30348_1.301_1 | D74: KL97 | E74: KL158 | F74: 1 | G74: KL97 | H74: KL158 | I74: KL97 | J74: KL158 | N74: G3-A | O74: G3 | P74: Required
A75: ERZ24118911 | B75: G2_KL159_30348_2.21_1 | C75: G2_KL225_30348_2.21_1 | D75: KL225 | E75: KL159 | F75: 1 | G75: KL225 | H75: KL159 | I75: KL225 | J75: KL159 | N75: G2 | O75: G2 | P75: SSI K+ x1
A76: ERR3905540 | B76: G3_KL160_ERR3905540 | C76: G3_KL75_ERR3905540 | D76: KL75 | E76: KL160 | F76: 0 | G76: KL75 | H76: KL160 | I76: KL75 | J76: KL160 | N76: G3-E | O76: G3 | P76: Required
A77: ERR3970235 | B77: G2_KL161_ERR3970235 | C77: G2_KL78_ERR3970235 | D77: KL78 | E77: KL161 | F77: 0 | G77: KL78 | H77: KL161 | I77: KL78 | J77: KL161 | N77: G2 | O77: G2 | P77: Required
A78: ERR1609138 | B78: G3_KL162_ERR1609138 | C78: G3_KL58_ERR1609138 | D78: KL58 | E78: KL162 | F78: 0 | G78: KL58 | H78: KL162 | I78: KL58 | J78: KL162 | N78: G3-B | O78: G3 | P78: Required
A79: ERR1609624 | B79: G3_KL163_ERR1609624 | C79: G3_KL64_ERR1609624 | D79: KL64 | E79: KL163 | F79: 0 | G79: KL64 | H79: KL163 | I79: KL64 | J79: KL163 | N79: G3-B | O79: G3 | P79: Required
A80: SRR6111979 | B80: G2_KL164_SRR6111979 | C80: G2_KL218_SRR6111979 | D80: KL218 | E80: KL164 | F80: 0 | G80: KL218 | H80: KL164 | I80: KL218 | J80: KL164 | M80: K53-K93-like | N80: G2 | O80: G2 | P80: Required
A81: SAMN07177512 | B81: G2_KL165_SAMN07177512 | C81: G2_KL187_SAMN07177512 | D81: KL187 | E81: KL165 | F81: 0 | G81: KL187 | H81: KL165 | I81: KL187 | J81: KL165 | N81: G2 | O81: G2 | P81: Required
A82: ERR1609308 | B82: G3_KL166_ERR1609308 | C82: G3_KL56_ERR1609308 | D82: KL56 | E82: KL166 | F82: 0 | G82: KL56 | H82: KL166 | I82: KL56 | J82: KL166 | N82: G3-B | O82: G3 | P82: Required
A83: ERZ24123486 | B83: G2_KL167_30821_1.332_1 | C83: G2_KL96_30821_1.332_1 | D83: KL96 | E83: KL167 | F83: 0 | G83: KL96 | H83: KL167 | I83: KL96 | J83: KL167 | N83: G2-atypical_order | O83: G2 | P83: Required
A84: ERR1609361 | B84: G3_KL168_ERR1609361 | C84: G3_KL61_ERR1609361 | D84: KL61 | E84: KL168 | F84: 0 | G84: KL61 | H84: KL168 | I84: KL61 | J84: KL168 | N84: G3-B | O84: G3 | P84: Required
A85: ERZ24117881 | B85: G2_KL137_30348_1.306_2 | C85: G2_KL98_30348_1.306_2 | D85: KL98 | E85: KL137 | F85: 4 | G85: KL98 | H85: KL137 | I85: KL98 | J85: KL137 | N85: G2-atypical_order | O85: G2 | P85: Required
A86: SAMN02801815 | B86: G2_KL170_SAMN02801815 | C86: G2_KL181_SAMN02801815 | D86: KL181 | E86: KL170 | F86: 0 | G86: KL181 | H86: KL170 | I86: KL181 | J86: KL170 | M86: K7-like | N86: G2 | O86: G2 | P86: Required
A87: ERR13369634 | B87: G2_KL171_47624_1.139 | C87: G2_KL138_47624_1.139 | D87: KL138 | E87: KL171 | F87: 0 | G87: KL138 | H87: KL171 | I87: KL138 | J87: KL171 | N87: G2 | O87: G2 | P87: Required
A88: ERR1622244 | B88: G3_KL172_ERR1622244 | C88: G3_KL65_ERR1622244 | D88: KL65 | E88: KL172 | F88: 0 | G88: KL65 | H88: KL172 | I88: KL65 | J88: KL172 | N88: G3-D | O88: G3 | P88: Required
A89: ERR1016526 | B89: G3_KL173_ERR1016526 | C89: G3_KL134_ERR1016526 | D89: KL134 | E89: KL173 | F89: 0 | G89: KL134 | H89: KL173 | I89: KL134 | J89: KL173 | N89: G3-A | O89: G3 | P89: Required
A90: SAMEA4559551 | B90: G2_KL174_SAMEA4559551 | C90: G2_KL179_SAMEA4559551 | D90: KL179 | E90: KL174 | F90: 0 | G90: KL179 | H90: KL174 | I90: KL179 | J90: KL174 | M90: K2-like | N90: G2 | O90: G2 | P90: Required
A91: ERR13499600 | B91: G2_KL175_47728_2.307 | C91: G2_KL48_47728_2.307 | D91: KL48 | E91: KL175 | F91: 0 | G91: KL48 | H91: KL175 | I91: KL48 | J91: KL175 | M91: K4-like | N91: G2 | O91: G2 | P91: Required

Sheet T6-Known K-types
A1: Group2 | B1: DB | C1: Discrimination | E1: Group3 | F1: DB | G1: Discrimination
A2: K1 | B2: Y | C2: Full | E2: K3 | F2: Y | G2: Full
A3: K2a/K2ab | B3: Y | C3: Partial | E3: K10 | F3: Y | G3: Full
A4: K4 | B4: Y | C4: Full | E4: K11 | F4: Y | G4: Full
A5: K5 | B5: Y | C5: Full | E5: K54 | F5: Y | G5: Partial
A6: K6 | B6: N | E6: K96 | F6: Y | G6: Partial
A7: K7 | B7: Y | C7: Full | E7: K98 | F7: Y | G7: Full
A8: K12 | B8: Y | C8: Full
A9: K13 | B9: Y | C9: Partial
A10: K14 | B10: Y | C10: Full
A11: K15 | B11: Y | C11: Full
A12: K16 | B12: Y | C12: Full
A13: K18a/K18ab | B13: N
A14: K19 | B14: Y | C14: Full
A15: K20 | B15: Y | C15: Full
A16: K22 | B16: N
A17: K23 | B17: Y | C17: Partial
A18: K24 | B18: Y | C18: Full
A19: K51 | B19: N
A20: K52 | B20: Y | C20: Full
A21: K53 | B21: Y | C21: Full
A22: K92 | B22: Y | C22: Full
A23: K93 | B23: Y | C23: Full
A24: K95 | B24: N
A25: K97 | B25: N
A26: K100 | B26: Y | C26: Full

Sheet T7-SSI isolate results
A1: Isolate accession | B1: Replicates | C1: Detected O-phenotype | D1: Detected K-phenotype | E1: SSI Comment | F1: in-silico O-type | G1: K group | I1: Inferred G2-G3 K-type | J1: Notes | K1: Concordance category | L1: Action | N1: Key | O1: Info
A2: ERZ24115756 | B2: 1 | C2: O 2 | D2: K- | E2: Blue (not fermenting lactose), Negative in K1 | F2: O2,O50 | G2: G2 | H2: =COUNTIF('T5-Database metdata'!A$116:A$125,'T7-SSI isolate results'!#REF!) -> 0 | I2: K1 | J2: K- but has kps locus | K2: Discordant, G1/4 or K negative but kps locus present | L2: None, confirmed in other isolates | N2: K+: | O2: Positive precipitate with Cetavlon and neutral O antigen. Negative with known K antigens. Strain most likely contains a sour K antigen that we can´t detect.
A3: ERZ24114609 | B3: 1 | C3: O 18ac | D3: K1 | F3: O18ac | G3: G2 | H3: =COUNTIF('T5-Database metdata'!A$116:A$125,'T7-SSI isolate results'!#REF!) -> 0 | I3: K1 | J3: NA | K3: Confirmed DB pheno | L3: None, confirmed | N3: K?: | O3: Positive precipitate with Cetavlon which can be a result of a sour O antigen and cross reactions between sour O and K antigens. Negative with known K antigens.
A4: ERR4037371 | B4: 1 | C4: O 13 | D4: K1 | F4: O129,O13,O135 | G4: G2 | H4: =COUNTIF('T5-Database metdata'!A$116:A$125,'T7-SSI isolate results'!#REF!) -> 0 | I4: K1 | J4: NA | K4: Confirmed DB pheno | L4: None, confirmed | N4: K-: | O4: No reactions with Cetavlon. No capsuel K antigen. Strain with neutral O antigen with cross reaction to a sour O antigen
A5: ERR4036950 | B5: 1 | C5: O 1 | D5: K1 | F5: O1 | G5: G2 | H5: =COUNTIF('T5-Database metdata'!A$116:A$125,'T7-SSI isolate results'!#REF!) -> 0 | I5: K1 | J5: NA | K5: Confirmed DB pheno | L5: None, confirmed
A6: ERZ24124150 | B6: 1 | C6: O 23 | D6: K10 | F6: O23 | G6: G3-A | H6: =COUNTIF('T5-Database metdata'!A$116:A$125,'T7-SSI isolate results'!#REF!) -> 0 | I6: K10 | J6: NA | K6: Confirmed DB pheno | L6: None, confirmed | N6: Oru: | O6: O antigen can´t be detected. Self-agglutinating and O antigen is "rough"
A7: ERZ24115405 | B7: 1 | C7: O101 | D7: K10 | F7: O25 | G7: G3-A | H7: =COUNTIF('T5-Database metdata'!A$116:A$125,'T7-SSI isolate results'!#REF!) -> 0 | I7: K10 | J7: NA | K7: Confirmed DB pheno | L7: None, confirmed | N7: O?: | O7: Strain is "smooth". K capsule hides the O antigen and colonies with no K expression can´t be detected. Uncertain if O antigen can be detected.
A8: ERZ24121232 | B8: 2 | C8: O 16() | D8: K100 | E8: Weak reaction in O16 | F8: O16 | G8: G2 | H8: =COUNTIF('T5-Database metdata'!A$116:A$125,'T7-SSI isolate results'!#REF!) -> 0 | I8: K100 | J8: NA | K8: Confirmed DB pheno | L8: None, confirmed | N8: O+: | O8: Strain is "smooth". K capsule hides the O antigen and colonies with no K expression can be detected. O antigen can´t be detected
A9: ERZ24118430 | B9: 1 | C9: O 25 | D9: K100 | F9: O25 | G9: G2 | H9: =COUNTIF('T5-Database metdata'!A$116:A$125,'T7-SSI isolate results'!#REF!) -> 0 | I9: K100 | J9: NA | K9: Confirmed DB pheno | L9: None, confirmed
A10: ERZ24118400 | B10: 1 | C10: O 16 | D10: K100 | F10: O16 | G10: G2 | H10: =COUNTIF('T5-Database metdata'!A$116:A$125,'T7-SSI isolate results'!#REF!) -> 0 | I10: K100 | J10: NA | K10: Confirmed DB pheno | L10: None, confirmed
A11: ERZ24117724 | B11: 1 | C11: O 16() | D11: K- | E11: Blue (not fermenting lactose), weak reaction in O16, Negative in K100 | F11: O16 | G11: G2 | H11: =COUNTIF('T5-Database metdata'!A$116:A$125,'T7-SSI isolate results'!#REF!) -> 0 | I11: K100 | J11: K- but has kps locus | K11: Discordant, G1/4 or K negative but kps locus present | L11: None, confirmed in other isolates
A12: ERR4034338 | B12: 1 | C12: O 13 | D12: K- | E12: Negative in K100 | F12: O129,O13,O135 | G12: G2 | H12: =COUNTIF('T5-Database metdata'!A$116:A$125,'T7-SSI isolate results'!#REF!) -> 0 | I12: K100 | J12: K- but has kps locus | K12: Discordant, G1/4 or K negative but kps locus present | L12: None, confirmed in other isolates
A13: ERZ24123925 | B13: 1 | C13: O 77 | D13: K11 | F13: O17,O44,O77 | G13: G3-B | H13: =COUNTIF('T5-Database metdata'!A$116:A$125,'T7-SSI isolate results'!#REF!) -> 0 | I13: K11 | J13: NA | K13: Confirmed DB pheno | L13: None, confirmed
A14: ERZ24116845 | B14: 1 | C14: O 1 | D14: K+ | E14: Negative in K12 | F14: O1 | G14: G2 | H14: =COUNTIF('T5-Database metdata'!A$116:A$125,'T7-SSI isolate results'!#REF!) -> 0 | I14: K12 | J14: K positive, negative reaction with expected sera | K14: K postive but n=1 negative reaction with expected sera | L14: Further data needed
A15: ERZ24115694 | B15: 1 | C15: O 4 | D15: K12 | F15: O4 | G15: G2 | H15: =COUNTIF('T5-Database metdata'!A$116:A$125,'T7-SSI isolate results'!#REF!) -> 0 | I15: K12 | J15: NA | K15: Confirmed DB pheno | L15: None, confirmed
A16: ERZ24125580 | B16: 1 | C16: O120 | D16: K13 | E16: Sour O | F16: O120 | G16: G2 | H16: =COUNTIF('T5-Database metdata'!A$116:A$125,'T7-SSI isolate results'!#REF!) -> 0 | I16: K13_K23 | J16: NA | K16: Confirmed DB pheno | L16: None, confirmed
A17: ERZ24121497 | B17: 1 | C17: O 6 | D17: K23 | F17: O6 | G17: G2 | H17: =COUNTIF('T5-Database metdata'!A$116:A$125,'T7-SSI isolate results'!#REF!) -> 0 | I17: K13_K23 | J17: NA | K17: Confirmed DB pheno | L17: None, confirmed
A18: ERZ24120132 | B18: 1 | C18: O 22 | D18: K13 | F18: O22 | G18: G2 | H18: =COUNTIF('T5-Database metdata'!A$116:A$125,'T7-SSI isolate results'!#REF!) -> 0 | I18: K13_K23 | J18: NA | K18: Confirmed DB pheno | L18: None, confirmed
A19: ERZ24119257 | B19: 1 | C19: O 6 | D19: K23 | F19: O6 | G19: G2 | H19: =COUNTIF('T5-Database metdata'!A$116:A$125,'T7-SSI isolate results'!#REF!) -> 0 | I19: K13_K23 | J19: NA | K19: Confirmed DB pheno | L19: None, confirmed
A20: ERZ24118304 | B20: 1 | C20: O 6 | D20: K13 | F20: O6 | G20: G2 | H20: =COUNTIF('T5-Database metdata'!A$116:A$125,'T7-SSI isolate results'!#REF!) -> 0 | I20: K13_K23 | J20: NA | K20: Confirmed DB pheno | L20: None, confirmed
A21: ERZ24118881 | B21: 1 | C21: O rough | D21: K14 | F21: O2,O50 | G21: G2 | H21: =COUNTIF('T5-Database metdata'!A$116:A$125,'T7-SSI isolate results'!#REF!) -> 0 | I21: K14 | J21: NA | K21: Confirmed DB pheno | L21: None, confirmed
A22: ERZ24124600 | B22: 1 | C22: O 44 | D22: K15 | F22: O17,O44,O77 | G22: G2 | H22: =COUNTIF('T5-Database metdata'!A$116:A$125,'T7-SSI isolate results'!#REF!) -> 0 | I22: K15 | J22: NA | K22: Confirmed DB pheno | L22: None, confirmed
A23: ERZ24114336 | B23: 1 | C23: O rough | D23: K15 | G23: G2 | H23: =COUNTIF('T5-Database metdata'!A$116:A$125,'T7-SSI isolate results'!#REF!) -> 0 | I23: K15 | J23: NA | K23: Confirmed DB pheno | L23: None, confirmed
A24: ERZ24119709 | B24: 1 | C24: O 25 | D24: K16 | F24: O25 | G24: G2 | H24: =COUNTIF('T5-Database metdata'!A$116:A$125,'T7-SSI isolate results'!#REF!) -> 0 | I24: K16 | J24: NA | K24: Confirmed DB pheno | L24: None, confirmed
A25: ERZ24116316 | B25: 1 | C25: O 25 | D25: K- | F25: O25 | G25: G2 | H25: =COUNTIF('T5-Database metdata'!A$116:A$125,'T7-SSI isolate results'!#REF!) -> 0 | I25: K16 | J25: K- but has kps locus | K25: Discordant, G1/4 or K negative but kps locus present | L25: None, confirmed in other isolates
A26: ERZ24121890 | B26: 2 | C26: O153 | D26: K2 | F26: O153var1 | G26: G2 | H26: =COUNTIF('T5-Database metdata'!A$116:A$125,'T7-SSI isolate results'!#REF!) -> 0 | I26: K2 | J26: NA | K26: Confirmed DB pheno | L26: None, confirmed
A27: ERZ24120336 | B27: 1 | C27: O 6 | D27: K2 | F27: O6 | G27: G2 | H27: =COUNTIF('T5-Database metdata'!A$116:A$125,'T7-SSI isolate results'!#REF!) -> 0 | I27: K2 | J27: NA | K27: Confirmed DB pheno | L27: None, confirmed
A28: ERZ24120001 | B28: 1 | C28: O 25 | D28: K2 | F28: O25 | G28: G2 | H28: =COUNTIF('T5-Database metdata'!A$116:A$125,'T7-SSI isolate results'!#REF!) -> 0 | I28: K2 | J28: NA | K28: Confirmed DB pheno | L28: None, confirmed
A29: ERZ24117382 | B29: 1 | C29: O 6 | D29: K2 | F29: O6 | G29: G2 | H29: =COUNTIF('T5-Database metdata'!A$116:A$125,'T7-SSI isolate results'!#REF!) -> 0 | I29: K2 | J29: NA | K29: Confirmed DB pheno | L29: None, confirmed
A30: ERZ24114926 | B30: 1 | C30: O 6 | D30: K- | E30: Negative in K2 | F30: O6 | G30: G2 | H30: =COUNTIF('T5-Database metdata'!A$116:A$125,'T7-SSI isolate results'!#REF!) -> 0 | I30: K2 | J30: K- but has kps locus | K30: Discordant, G1/4 or K negative but kps locus present | L30: None, confirmed in other isolates
A31: ERZ24114667 | B31: 2 | C31: O 6 | D31: K2 | F31: O6 | G31: G2 | H31: =COUNTIF('T5-Database metdata'!A$116:A$125,'T7-SSI isolate results'!#REF!) -> 0 | I31: K2 | J31: NA | K31: Confirmed DB pheno | L31: None, confirmed
A32: ERZ24122022 | B32: 2 | C32: O 6 | D32: K2 | F32: O6 | G32: G2 | H32: =COUNTIF('T5-Database metdata'!A$116:A$125,'T7-SSI isolate results'!#REF!) -> 0 | I32: K2 | J32: NA | K32: Confirmed DB pheno | L32: None, confirmed
A33: ERZ24123170 | B33: 2 | C33: O 4 | D33: K2 | F33: O4 | G33: G2 | H33: =COUNTIF('T5-Database metdata'!A$116:A$125,'T7-SSI isolate results'!#REF!) -> 0 | I33: K2 | J33: NA | K33: Confirmed DB pheno | L33: None, confirmed
A34: ERZ24119113 | B34: 2 | C34: O 6 | D34: K2 | F34: O6 | G34: G2 | H34: =COUNTIF('T5-Database metdata'!A$116:A$125,'T7-SSI isolate results'!#REF!) -> 0 | I34: K2 | J34: NA | K34: Confirmed DB pheno | L34: None, confirmed
A35: ERR4035693 | B35: 1 | C35: O 6 | D35: K2 | F35: O6 | G35: G2 | H35: =COUNTIF('T5-Database metdata'!A$116:A$125,'T7-SSI isolate results'!#REF!) -> 0 | I35: K2 | J35: NA | K35: Confirmed DB pheno | L35: None, confirmed
A36: ERZ24117034 | B36: 1 | C36: O 21 | D36: K20 | F36: O21 | G36: G2 | H36: =COUNTIF('T5-Database metdata'!A$116:A$125,'T7-SSI isolate results'!#REF!) -> 0 | I36: K20 | J36: NA | K36: Confirmed DB pheno | L36: None, confirmed
A37: ERZ24118577 | B37: 1 | C37: O 18ac | D37: K6 | F37: O18 | G37: G2 | H37: =COUNTIF('T5-Database metdata'!A$116:A$125,'T7-SSI isolate results'!#REF!) -> 0 | I37: K24 | J37: Shares genes with KL14 | K37: Provided extra pheno | L37: Further data needed
A38: ERZ24125990 | B38: 1 | C38: O 18ac | D38: K6 | E38: Negative in K24 | F38: O18 | G38: G2 | H38: =COUNTIF('T5-Database metdata'!A$116:A$125,'T7-SSI isolate results'!#REF!) -> 0 | I38: K24 | J38: conflicting serotype iformation from SSI and published work MG739439 | K38: Provided extra pheno | L38: Added K6 to KL14_K24
A39: ERZ24113823 | B39: 3 | C39: O 25 | D39: K6 | F39: O25 | G39: G2 | H39: =COUNTIF('T5-Database metdata'!A$116:A$125,'T7-SSI isolate results'!#REF!) -> 0 | I39: K24 | J39: 3 reps | K39: Provided extra pheno | L39: Added K6 to KL14_K24
A40: ERR4037295 | B40: 2 | C40: O 83 | D40: K2 | E40: Sour O | F40: O83 | G40: G2 | H40: =COUNTIF('T5-Database metdata'!A$116:A$125,'T7-SSI isolate results'!#REF!) -> 0 | I40: K24 | J40: Discordant, only one gene shared with K2, one rep K? | K40: Discordant G2 pheno geno | L40: None, confirmed in other isolates
A41: ERZ24115085 | B41: 1 | C41: O 4 | D41: K3 | F41: O4 | G41: G3-A | H41: =COUNTIF('T5-Database metdata'!A$116:A$125,'T7-SSI isolate results'!#REF!) -> 0 | I41: K3 | J41: NA | K41: Confirmed DB pheno | L41: None, confirmed
A42: ERZ24122281 | B42: 1 | C42: O 39 | D42: K39 | E42: Negative in K4 | F42: O39 | G42: G2 | H42: =COUNTIF('T5-Database metdata'!A$116:A$125,'T7-SSI isolate results'!#REF!) -> 0 | I42: K4 | J42: G1 pheno but has K4 kps genes | K42: Discordant, G1/4 phenotype but kps locus present | L42: Further data needed
A43: ERZ24119942 | B43: 1 | C43: O rough | D43: K18 | E43: Negative in K4 | G43: G2 | H43: =COUNTIF('T5-Database metdata'!A$116:A$125,'T7-SSI isolate results'!#REF!) -> 0 | I43: K4 | J43: Discordant, K18 phenotype reported for three unrelated KL's with no shared region 2 genes, unclear which may really be K18 | K43: Discordant G2 pheno geno | L43: Further data needed
A44: ERZ24125954 | B44: 2 | C44: O 77 | D44: K- | E44: Negative in K4 | F44: O17,O44,O77 | G44: G2 | H44: =COUNTIF('T5-Database metdata'!A$116:A$125,'T7-SSI isolate results'!#REF!) -> 0 | I44: K4 | J44: K- but has kps locus 2 reps | K44: Discordant, K negative but kps locus present | L44: Further data needed
A45: ERZ24122486 | B45: 1 | C45: O102 | D45: K- | E45: Negative in K4 | F45: O102 | G45: G2 | H45: =COUNTIF('T5-Database metdata'!A$116:A$125,'T7-SSI isolate results'!#REF!) -> 0 | I45: K4 | J45: K- but has kps locus | K45: Discordant, K negative but kps locus present | L45: Further data needed
A46: ERZ24115926 | B46: 2 | C46: O 25 | D46: K4 | F46: O25 | G46: G2 | H46: =COUNTIF('T5-Database metdata'!A$116:A$125,'T7-SSI isolate results'!#REF!) -> 0 | I46: K4 | J46: Update DB K4 2 reps | L46: None, confirmed
A47: ERZ24114981 | B47: 1 | C47: O 25 | D47: K4 | F47: O25 | G47: G2 | H47: =COUNTIF('T5-Database metdata'!A$116:A$125,'T7-SSI isolate results'!#REF!) -> 0 | I47: K4 | J47: NA | K47: Confirmed DB pheno | L47: None, confirmed
A48: ERZ24120110 | B48: 1 | C48: O 25 | D48: K5 | F48: O25 | G48: G2 | H48: =COUNTIF('T5-Database metdata'!A$116:A$125,'T7-SSI isolate results'!#REF!) -> 0 | I48: K5 | J48: NA | K48: Confirmed DB pheno | L48: None, confirmed
A49: ERZ24119833 | B49: 1 | C49: O 8 | D49: K5 | F49: O86 | G49: G2 | H49: =COUNTIF('T5-Database metdata'!A$116:A$125,'T7-SSI isolate results'!#REF!) -> 0 | I49: K5 | J49: NA | K49: Confirmed DB pheno | L49: None, confirmed
A50: ERZ24119072 | B50: 1 | C50: No growth | F50: O19 | G50: G2 | H50: =COUNTIF('T5-Database metdata'!A$116:A$125,'T7-SSI isolate results'!#REF!) -> 0 | I50: K5 | J50: NA | K50: No growth | L50: None, confirmed
A51: ERZ24117199 | B51: 1 | C51: O 25 | D51: K5 | F51: O25 | G51: G2 | H51: =COUNTIF('T5-Database metdata'!A$116:A$125,'T7-SSI isolate results'!#REF!) -> 0 | I51: K5 | J51: NA | K51: Confirmed DB pheno | L51: None, confirmed
A52: ERZ24116927 | B52: 1 | C52: O 25 | D52: K5 | F52: O25 | G52: G2 | H52: =COUNTIF('T5-Database metdata'!A$116:A$125,'T7-SSI isolate results'!#REF!) -> 0 | I52: K5 | J52: NA | K52: Confirmed DB pheno | L52: None, confirmed
A53: ERZ24113831 | B53: 1 | C53: O 25 | D53: K5 | F53: O25 | G53: G2 | H53: =COUNTIF('T5-Database metdata'!A$116:A$125,'T7-SSI isolate results'!#REF!) -> 0 | I53: K5 | J53: NA | K53: Confirmed DB pheno | L53: None, confirmed
A54: ERZ24119736 | B54: 1 | C54: O rough | D54: K52 | F54: O15 | G54: G2 | H54: =COUNTIF('T5-Database metdata'!A$116:A$125,'T7-SSI isolate results'!#REF!) -> 0 | I54: K52 | J54: Update DB | K54: Provided extra pheno | L54: None, confirmed
A55: ERZ24117118 | B55: 1 | C55: O 15 | D55: K+ | F55: O15 | G55: G2 | H55: =COUNTIF('T5-Database metdata'!A$116:A$125,'T7-SSI isolate results'!#REF!) -> 0 | I55: K52 | J55: K positive, putative novel | K55: Confirmed K-postiive putative novel | L55: None, confirmed in other isolates
A56: ERZ24116432 | B56: 1 | C56: O 11 | D56: K52 | F56: O11 | G56: G2 | H56: =COUNTIF('T5-Database metdata'!A$116:A$125,'T7-SSI isolate results'!#REF!) -> 0 | I56: K52 | J56: Update DB | K56: Provided extra pheno | L56: None, confirmed
A57: ERZ24116124 | B57: 1 | C57: O 15 | D57: K+ | E57: Negative in K52 | F57: O15 | G57: G2 | H57: =COUNTIF('T5-Database metdata'!A$116:A$125,'T7-SSI isolate results'!#REF!) -> 0 | I57: K52 | J57: K positive, putative novel | K57: Confirmed K-postiive putative novel | L57: None, confirmed in other isolates
A58: ERZ24115989 | B58: 1 | C58: O 4 | D58: K- | E58: Negative in K52 | F58: O15 | G58: G2 | H58: =COUNTIF('T5-Database metdata'!A$116:A$125,'T7-SSI isolate results'!#REF!) -> 0 | I58: K52 | J58: K- but has kps locus | K58: Discordant, G1/4 or K negative but kps locus present | L58: None, confirmed in other isolates
A59: ERZ24115746 | B59: 1 | C59: O117 | D59: K52 | E59: Blue (not fermenting lactose) | F59: O117 | G59: G2 | H59: =COUNTIF('T5-Database metdata'!A$116:A$125,'T7-SSI isolate results'!#REF!) -> 0 | I59: K52 | J59: Update DB | K59: Provided extra pheno | L59: None, confirmed
A60: ERZ24115504 | B60: 1 | C60: O 6 | D60: K53 | F60: O6 | G60: G2 | H60: =COUNTIF('T5-Database metdata'!A$116:A$125,'T7-SSI isolate results'!#REF!) -> 0 | I60: K53 | J60: NA | K60: Confirmed DB pheno | L60: None, confirmed
A61: ERZ24123482 | B61: 1 | C61: O rough | D61: K96 | F61: O17,O44,O77 | G61: G3-A | H61: =COUNTIF('T5-Database metdata'!A$116:A$125,'T7-SSI isolate results'!#REF!) -> 0 | I61: K54_K96 | J61: NA | K61: Confirmed DB pheno | L61: None, confirmed
A62: ERZ24118254 | B62: 1 | C62: O rough | D62: K96 | F62: O17,O44,O77 | G62: G3-A | H62: =COUNTIF('T5-Database metdata'!A$116:A$125,'T7-SSI isolate results'!#REF!) -> 0 | I62: K54_K96 | J62: NA | K62: Confirmed DB pheno | L62: None, confirmed
A63: ERZ24117022 | B63: 1 | C63: O rough | D63: K96 | F63: O17,O44,O77 | G63: G3-A | H63: =COUNTIF('T5-Database metdata'!A$116:A$125,'T7-SSI isolate results'!#REF!) -> 0 | I63: K54_K96 | J63: NA | K63: Confirmed DB pheno | L63: None, confirmed
A64: ERZ24116984 | B64: 1 | C64: O rough | D64: K96 | F64: O17,O44,O77 | G64: G3-A | H64: =COUNTIF('T5-Database metdata'!A$116:A$125,'T7-SSI isolate results'!#REF!) -> 0 | I64: K54_K96 | J64: NA | K64: Confirmed DB pheno | L64: None, confirmed
A65: ERZ24118358 | B65: 1 | C65: O rough | D65: K7 | E65: Blue (not fermenting lactose) | F65: O2,O50 | G65: G2 | H65: =COUNTIF('T5-Database metdata'!A$116:A$125,'T7-SSI isolate results'!#REF!) -> 0 | I65: K7 | J65: NA | K65: Confirmed DB pheno | L65: None, confirmed
A66: ERZ24114882 | B66: 1 | C66: O 2 | D66: K7 | F66: O2,O50 | G66: G2 | H66: =COUNTIF('T5-Database metdata'!A$116:A$125,'T7-SSI isolate results'!#REF!) -> 0 | I66: K7 | J66: NA | K66: Confirmed DB pheno | L66: None, confirmed
A67: ERZ24121181 | B67: 1 | C67: O 5 | D67: K+ | E67: Negative in K82 | F67: O5 | G67: G2 | H67: =COUNTIF('T5-Database metdata'!A$116:A$125,'T7-SSI isolate results'!#REF!) -> 0 | I67: K82 | J67: K positive, negative reaction with expected sera | K67: K postive but n= 2 negative reaction with expected sera | L67: Further data needed
A68: ERZ24117436 | B68: 1 | C68: O 1 | D68: K+ | E68: Indol positive, Negative in K82 | F68: O1 | G68: G2 | H68: =COUNTIF('T5-Database metdata'!A$116:A$125,'T7-SSI isolate results'!#REF!) -> 0 | I68: K82 | J68: K positive, negative reaction with expected sera | K68: K postive but n= 2 negative reaction with expected sera | L68: Further data needed
A69: ERZ24117973 | B69: 1 | C69: O 13 | D69: K92 | F69: O129,O13,O135 | G69: G2 | H69: =COUNTIF('T5-Database metdata'!A$116:A$125,'T7-SSI isolate results'!#REF!) -> 0 | I69: K92 | J69: NA | K69: Confirmed DB pheno | L69: None, confirmed
A70: ERZ24124734 | B70: 1 | C70: O 73 | D70: K93 | F70: O17,O44,O77 | G70: G2 | H70: =COUNTIF('T5-Database metdata'!A$116:A$125,'T7-SSI isolate results'!#REF!) -> 0 | I70: K93 | J70: NA | K70: Confirmed DB pheno | L70: None, confirmed
A71: ERZ24123621 | B71: 1 | C71: O 15 | D71: K98 | E71: Negative in K20 | F71: O15 | G71: G3-A | H71: =COUNTIF('T5-Database metdata'!A$116:A$125,'T7-SSI isolate results'!#REF!) -> 0 | I71: K98 | J71: NA | K71: Provided extra pheno | L71: Added K98 phenotype to DB KL20
A72: ERZ24114480 | B72: 1 | C72: O 77 | D72: K98 | F72: O17,O44,O77 | G72: G3-A | H72: =COUNTIF('T5-Database metdata'!A$116:A$125,'T7-SSI isolate results'!#REF!) -> 0 | I72: K98 | J72: NA | K72: Provided extra pheno | L72: Added K98 phenotype to DB KL20
A73: ERZ24115971 | B73: 1 | C73: O 1 | D73: K+ | E73: Negative in K52 | F73: O1 | G73: G2 | H73: =COUNTIF('T5-Database metdata'!A$116:A$125,'T7-SSI isolate results'!#REF!) -> 0 | I73: KL111 | J73: K positive, putative novel | K73: Confirmed K-postiive putative novel | L73: Further data needed
A74: ERZ24115395 | B74: 1 | C74: O 17 | D74: K- | F74: O17,O44,O77 | G74: G2 | H74: =COUNTIF('T5-Database metdata'!A$116:A$125,'T7-SSI isolate results'!#REF!) -> 0 | I74: KL111 | J74: K- but has kps locus | K74: Discordant, K negative but kps locus present | L74: Further data needed
A75: ERR4034970 | B75: 1 | C75: O 11 | D75: K- | F75: O11 | G75: G2 | H75: =COUNTIF('T5-Database metdata'!A$116:A$125,'T7-SSI isolate results'!#REF!) -> 0 | I75: KL111 | J75: K- but has kps locus | K75: Discordant, K negative but kps locus present | L75: Further data needed
A76: ERZ24120847 | B76: 1 | C76: O 22 | D76: K22 | E76: Sour O | F76: O22 | G76: G2 | H76: =COUNTIF('T5-Database metdata'!A$116:A$125,'T7-SSI isolate results'!#REF!) -> 0 | I76: KL112 | J76: Discordant, K22 phenotype reported for three unrelated KL's with no shared region 2 genes, unclear which may really be K22 | K76: Discordant G2 pheno geno | L76: Further data needed
A77: ERZ24116104 | B77: 1 | C77: O 21 | D77: K5 | E77: K74 provided, we do not have K74-sera | F77: O21 | G77: G2 | H77: =COUNTIF('T5-Database metdata'!A$116:A$125,'T7-SSI isolate results'!#REF!) -> 0 | I77: KL113 | J77: Discordant, KL31 does not contain K5 genes | K77: Discordant G2 pheno geno | L77: Further data needed
A78: ERR4035121 | B78: 1 | C78: O 25 | D78: K- | E78: K74 provided, we do not have K74-sera | F78: O25 | G78: G2 | H78: =COUNTIF('T5-Database metdata'!A$116:A$125,'T7-SSI isolate results'!#REF!) -> 0 | I78: KL113 | J78: K- but has kps locus | K78: Discordant, K negative but kps locus present | L78: Further data needed
A79: ERZ24122088 | B79: 1 | C79: O 25 | D79: K+ | E79: Negative in K14 | F79: O25 | G79: G2 | H79: =COUNTIF('T5-Database metdata'!A$116:A$125,'T7-SSI isolate results'!#REF!) -> 0 | I79: KL114 | J79: K positive, putative novel | K79: Confirmed K-postiive putative novel | L79: Further data needed
A80: ERZ24120790 | B80: 1 | C80: O 16 | D80: K14 | F80: O16 | G80: G2 | H80: =COUNTIF('T5-Database metdata'!A$116:A$125,'T7-SSI isolate results'!#REF!) -> 0 | I80: KL114 | J80: NA | K80: Confirmed DB pheno | L80: None, confirmed
A81: ERZ24113780 | B81: 1 | C81: O 16 | D81: K- | F81: O16 | G81: G2 | H81: =COUNTIF('T5-Database metdata'!A$116:A$125,'T7-SSI isolate results'!#REF!) -> 0 | I81: KL115 | J81: K- but has kps locus | K81: Discordant, K negative but kps locus present | L81: Further data needed
A82: ERZ24124531 | B82: 1 | C82: O rough | D82: K18,K22 | F82: NA | G82: G2 | H82: =COUNTIF('T5-Database metdata'!A$116:A$125,'T7-SSI isolate results'!#REF!) -> 0 | I82: KL116 | J82: Reacts with two sera, putative novel type. K22 and K18 phenotype reported for three unrelated KL's with no shared region 2 genes | K82: Confirmed K-postiive putative novel | L82: Further data needed
A83: ERZ24117328 | B83: 1 | C83: O 17 | D83: K+ | F83: O17,O44,O77 | G83: G2 | H83: =COUNTIF('T5-Database metdata'!A$116:A$125,'T7-SSI isolate results'!#REF!) -> 0 | I83: KL118 | J83: K positive, putative novel | K83: Confirmed K-postiive putative novel | L83: Further data needed
A84: ERZ24116019 | B84: 1 | C84: O 44 | D84: K16 | F84: O17,O44,O77 | G84: G2 | H84: =COUNTIF('T5-Database metdata'!A$116:A$125,'T7-SSI isolate results'!#REF!) -> 0 | I84: KL119 | J84: Discordant, related to KL47_K16 but no shared region 2 genes | K84: Discordant G2 pheno geno | L84: Further data needed
A85: ERR4036483 | B85: 1 | C85: O17,O106 | D85: K+ | F85: O17,O44,O77 | G85: G2 | H85: =COUNTIF('T5-Database metdata'!A$116:A$125,'T7-SSI isolate results'!#REF!) -> 0 | I85: KL119 | J85: K positive, putative novel | K85: Confirmed K-postiive putative novel | L85: Further data needed
A86: ERR4034616 | B86: 1 | C86: O 17 | D86: K- | F86: O17,O77,O106 | G86: G2 | H86: =COUNTIF('T5-Database metdata'!A$116:A$125,'T7-SSI isolate results'!#REF!) -> 0 | I86: KL119 | J86: K- but has kps locus | K86: Discordant, K negative but kps locus present | L86: Further data needed
A87: ERZ24117759 | B87: 1 | C87: O 18ac | D87: K- | F87: O18 | G87: G2 | H87: =COUNTIF('T5-Database metdata'!A$116:A$125,'T7-SSI isolate results'!#REF!) -> 0 | I87: KL120 | J87: K- but has kps locus | K87: Discordant, K negative but kps locus present | L87: Further data needed
A88: ERZ24124658 | B88: 1 | C88: O 73 | D88: K37,K39 | F88: O17,O44,O77 | G88: G2 | H88: =COUNTIF('T5-Database metdata'!A$116:A$125,'T7-SSI isolate results'!#REF!) -> 0 | I88: KL121 | J88: G1 pheno but has kps locus present | K88: Discordant, G1/4 phenotype but kps locus present | L88: Further data needed
A89: ERZ24121846 | B89: 1 | C89: O 4 | D89: K+ | F89: O4 | G89: G2 | H89: =COUNTIF('T5-Database metdata'!A$116:A$125,'T7-SSI isolate results'!#REF!) -> 0 | I89: KL122 | J89: K positive, putative novel | K89: Confirmed K-postiive putative novel | L89: Further data needed
A90: ERZ24120237 | B90: 1 | C90: O rough | D90: K18 | F90: O23 | G90: G2 | H90: =COUNTIF('T5-Database metdata'!A$116:A$125,'T7-SSI isolate results'!#REF!) -> 0 | I90: KL122 | J90: Discordant, K18 phenotype reported for three unrelated KL's with no shared region 2 genes, unclear which may really be K18 | K90: Discordant G2 pheno geno | L90: Further data needed
A91: ERR4034520 | B91: 1 | C91: O rough | D91: K22 | F91: O4 | G91: G2 | H91: =COUNTIF('T5-Database metdata'!A$116:A$125,'T7-SSI isolate results'!#REF!) -> 0 | I91: KL122 | J91: Discordant, K22 phenotype reported for three unrelated KL's with no shared region 2 genes, unclear which may really be K22 | K91: Discordant G2 pheno geno | L91: Further data needed
A92: ERZ24118717 | B92: 1 | C92: O 2 | D92: K+ | F92: O2,O50 | G92: G2 | H92: =COUNTIF('T5-Database metdata'!A$116:A$125,'T7-SSI isolate results'!#REF!) -> 0 | I92: KL123 | J92: K positive, putative novel | K92: Confirmed K-postiive putative novel | L92: Further data needed
A93: ERZ24122877 | B93: 1 | C93: O 22 | D93: K- | E93: Sour O | F93: O22 | G93: G2 | H93: =COUNTIF('T5-Database metdata'!A$116:A$125,'T7-SSI isolate results'!#REF!) -> 0 | I93: KL124 | J93: K- but has kps locus | K93: Discordant, K negative but kps locus present | L93: Further data needed
A94: ERZ24123266 | B94: 1 | C94: O 16 | D94: K- | F94: O16 | G94: G2 | H94: =COUNTIF('T5-Database metdata'!A$116:A$125,'T7-SSI isolate results'!#REF!) -> 0 | I94: KL125 | J94: K- but has kps locus | K94: Discordant, K negative but kps locus present | L94: Further data needed
A95: ERZ24115961 | B95: 1 | C95: O 11 | D95: K+ | F95: O11 | G95: G2 | H95: =COUNTIF('T5-Database metdata'!A$116:A$125,'T7-SSI isolate results'!#REF!) -> 0 | I95: KL126 | J95: K positive, putative novel | K95: Confirmed K-postiive putative novel | L95: Further data needed
A96: ERZ24117066 | B96: 1 | C96: O 6 | D96: K- | E96: Negative in K5 | F96: O6 | G96: G2 | H96: =COUNTIF('T5-Database metdata'!A$116:A$125,'T7-SSI isolate results'!#REF!) -> 0 | I96: KL127 | J96: K- but has kps locus | K96: Discordant, K negative but kps locus present | L96: Further data needed
A97: ERZ24116380 | B97: 1 | C97: O175 | D97: K? | E97: Sour O | F97: O175 | G97: G2 | H97: =COUNTIF('T5-Database metdata'!A$116:A$125,'T7-SSI isolate results'!#REF!) -> 0 | I97: KL133 | J97: K? putative novel type | K97: Confirmed K-postiive putative novel | L97: Further data needed
A98: ERR4034834 | B98: 1 | C98: No growth | F98: O23 | G98: G2 | H98: =COUNTIF('T5-Database metdata'!A$116:A$125,'T7-SSI isolate results'!#REF!) -> 0 | I98: KL135 | J98: NA | K98: No growth | L98: Further data needed
A99: ERZ24123974 | B99: 1 | C99: O rough | D99: K100 | E99: Blue (not fermenting lactose) | F99: O16 | G99: G2 | H99: =COUNTIF('T5-Database metdata'!A$116:A$125,'T7-SSI isolate results'!#REF!) -> 0 | I99: KL138 | J99: NA | K99: Confirmed DB pheno | L99: None, confirmed
A100: ERZ24119680 | B100: 1 | C100: O 16 | D100: K- | E100: Blue (not fermenting lactose), Negative in K100 | F100: O16 | G100: G2 | H100: =COUNTIF('T5-Database metdata'!A$116:A$125,'T7-SSI isolate results'!#REF!) -> 0 | I100: KL138 | J100: K- but has kps locus | K100: Discordant, G1/4 or K negative but kps locus present | L100: None, confirmed in other isolates
...

Sheet T8-CTX-M prop
A1: The proportion of isoaltes in each lineage seen in UK or Norwegian BSIs that are CTXf-M positive, used in the invasiveness model as a proxy for MDR
A4: Lineage | B4: CTX-M negative | C4: CTX-M positive | D4: Grand Total | E4: Proportion
A5: PP10_CC17 | B5: 2 | D5: 2 | E5: 0
A6: PP100_CC6701 | B6: 1 | D6: 1 | E6: 0
A7: PP102_CC973 | B7: 9 | D7: 9 | E7: 0
A8: PP105_CC636 | B8: 8 | D8: 8 | E8: 0
A9: PP106_CC126 | B9: 8 | D9: 8 | E9: 0
A10: PP108_CC1236 | B10: 6 | D10: 6 | E10: 0
A11: PP109_CC327 | B11: 2 | D11: 2 | E11: 0
A12: PP11_CC127 | B12: 189 | C12: 1 | D12: 190 | E12: 0.0052631579
A13: PP111_CC691 | B13: 1 | D13: 1 | E13: 0
A14: PP112_CC355 | B14: 6 | D14: 6 | E14: 0
A15: PP117_CC226 | B15: 1 | D15: 1 | E15: 0
A16: PP119_CC919 | B16: 7 | D16: 7 | E16: 0
A17: PP12_CC410 | B17: 112 | C17: 5 | D17: 117 | E17: 0.042735043
A18: PP120_CC706 | B18: 5 | D18: 5 | E18: 0
A19: PP121_CC452 | B19: 3 | D19: 3 | E19: 0
A20: PP127_CC847 | B20: 5 | D20: 5 | E20: 0
A21: PP128_CC1324 | B21: 2 | D21: 2 | E21: 0
A22: PP13_CC442 | B22: 1 | D22: 1 | E22: 0
A23: PP130_CC640 | B23: 5 | D23: 5 | E23: 0
A24: PP131_CC929 | B24: 9 | D24: 9 | E24: 0
A25: PP132_CC2015 | B25: 6 | D25: 6 | E25: 0
A26: PP133_CC1434 | B26: 1 | D26: 1 | E26: 0
A27: PP14_CC405 | B27: 53 | C27: 10 | D27: 63 | E27: 0.15873016
A28: PP141_CC6260 | B28: 1 | D28: 1 | E28: 0
A29: PP142_CC75 | B29: 3 | D29: 3 | E29: 0
A30: PP145_CC1170 | B30: 3 | C30: 1 | D30: 4 | E30: 0.25
A31: PP146_CC646 | B31: 3 | D31: 3 | E31: 0
A32: PP147_CC2178 | B32: 3 | D32: 3 | E32: 0
A33: PP149_CC224 | B33: 2 | D33: 2 | E33: 0
A34: PP15_CC648 | B34: 22 | C34: 8 | D34: 30 | E34: 0.26666667
A35: PP156_CC52 | B35: 1 | D35: 1 | E35: 0
A36: PP158_CC120 | B36: 1 | D36: 1 | E36: 0
A37: PP159_CC1851 | B37: 2 | D37: 2 | E37: 0
A38: PP16_CC38 | B38: 63 | C38: 17 | D38: 80 | E38: 0.2125
A39: PP161_CC999 | B39: 4 | D39: 4 | E39: 0
A40: PP162_CC108 | B40: 3 | D40: 3 | E40: 0
A41: PP163_CC1567 | B41: 2 | D41: 2 | E41: 0
A42: PP165_CC1643 | B42: 5 | D42: 5 | E42: 0
A43: PP166_CC6537 | B43: 4 | D43: 4 | E43: 0
A44: PP167_CC68 | B44: 3 | D44: 3 | E44: 0
A45: PP168_CC115 | B45: 2 | D45: 2 | E45: 0
A46: PP169_CC361 | B46: 1 | D46: 1 | E46: 0
A47: PP17_CC58 | B47: 81 | C47: 3 | D47: 84 | E47: 0.035714286
A48: PP18_CC141 | B48: 126 | C48: 1 | D48: 127 | E48: 0.0078740157
A49: PP180_CC3672 | B49: 3 | D49: 3 | E49: 0
A50: PP182_CC1882 | B50: 3 | D50: 3 | E50: 0
A51: PP183_CC6426 | B51: 2 | D51: 2 | E51: 0
A52: PP187_CC1674 | B52: 1 | D52: 1 | E52: 0
A53: PP189_CC547 | B53: 3 | D53: 3 | E53: 0
A54: PP190_CC1001 | B54: 2 | D54: 2 | E54: 0
A55: PP191_CC2650 | B55: 1 | D55: 1 | E55: 0
A56: PP192_CC618 | B56: 2 | D56: 2 | E56: 0
A57: PP193_CC967 | B57: 1 | D57: 1 | E57: 0
A58: PP194_CC625 | B58: 1 | D58: 1 | E58: 0
A59: PP195_CC1459 | B59: 3 | D59: 3 | E59: 0
A60: PP2_CC131 | B60: 384 | C60: 173 | D60: 557 | E60: 0.31059246
A61: PP20_CC59 | B61: 88 | D61: 88 | E61: 0
A62: PP21_CC393 | B62: 75 | C62: 3 | D62: 78 | E62: 0.038461538
A63: PP212_CC70 | B63: 1 | D63: 1 | E63: 0
A64: PP214_CC5148 | B64: 1 | D64: 1 | E64: 0
A65: PP218_CC1011 | B65: 2 | D65: 2 | E65: 0
A66: PP22_CC398 | B66: 9 | C66: 1 | D66: 10 | E66: 0.1
A67: PP228_CC2425 | B67: 1 | D67: 1 | E67: 0
A68: PP229_CC401 | B68: 1 | D68: 1 | E68: 0
A69: PP24_CC443 | B69: 12 | C69: 3 | D69: 15 | E69: 0.2
A70: PP240_CC8579 | B70: 2 | D70: 2 | E70: 0
A71: PP244_CC1861 | B71: 1 | D71: 1 | E71: 0
A72: PP249_CC1486 | B72: 1 | D72: 1 | E72: 0
A73: PP25_CC517 | B73: 20 | C73: 1 | D73: 21 | E73: 0.047619048
A74: PP250_CC2474 | B74: 3 | D74: 3 | E74: 0
A75: PP251_CC2494 | B75: 1 | D75: 1 | E75: 0
A76: PP252_CC2802 | B76: 1 | D76: 1 | E76: 0
A77: PP253_CC3290 | B77: 2 | D77: 2 | E77: 0
A78: PP254_CC352 | B78: 2 | D78: 2 | E78: 0
A79: PP255_1220 | B79: 1 | D79: 1 | E79: 0
A80: PP257_CC714 | B80: 3 | D80: 3 | E80: 0
A81: PP27_CC328 | B81: 2 | D81: 2 | E81: 0
A82: PP275_CC1276 | B82: 2 | D82: 2 | E82: 0
A83: PP28_CC101 | B83: 25 | D83: 25 | E83: 0
A84: PP281_CC1670 | B84: 1 | D84: 1 | E84: 0
A85: PP29_CC144 | B85: 66 | D85: 66 | E85: 0
A86: PP3_CC73 | B86: 907 | C86: 2 | D86: 909 | E86: 0.00220022
A87: PP30_CC372 | B87: 62 | C87: 1 | D87: 63 | E87: 0.015873016
A88: PP32_CC80 | B88: 59 | C88: 1 | D88: 60 | E88: 0.016666667
A89: PP33_CC357 | B89: 57 | D89: 57 | E89: 0
A90: PP336_CC10283 | B90: 1 | D90: 1 | E90: 0
A91: PP34_CC641 | B91: 25 | C91: 1 | D91: 26 | E91: 0.038461538
A92: PP341_CC111 | B92: 1 | D92: 1 | E92: 0
A93: PP342_CC2522 | B93: 1 | D93: 1 | E93: 0
A94: PP346_CC3057 | B94: 1 | D94: 1 | E94: 0
A95: PP347_CC1115 | B95: 1 | D95: 1 | E95: 0
A96: PP348_CC1086 | B96: 2 | D96: 2 | E96: 0
A97: PP35_CC354 | B97: 8 | D97: 8 | E97: 0
A98: PP350_CC5261 | B98: 2 | D98: 2 | E98: 0
A99: PP352_CC3246 | B99: 2 | D99: 2 | E99: 0
A100: PP354_CC4566 | B100: 1 | D100: 1 | E100: 0
A101: PP357_CC4624 | B101: 3 | D101: 3 | E101: 0
A102: PP369_CC5308 | B102: 1 | D102: 1 | E102: 0
...

Sheet T9-661 data
A1: kpsF or kpsM(K11/K96) positive | C1: Country metadata for kpsF positive assembies in the 661K database
A2: SAMN03570444 | C2: Country | D2: Continent | E2: Assembly count | G2: Continent | H2: Count
A3: SAMN09384666 | C3: Brazil | D3: South America | E3: 64 | G3: Europe | H3: 2932
A4: SAMEA3981095 | C4: Argentina | D4: South America | E4: 16 | G4: North America | H4: 2784
A5: SAMEA3980760 | C5: Colombia | D5: South America | E5: 4 | G5: Asia | H5: 705
A6: SAMEA3981675 | C6: Bolivia | D6: South America | E6: 3 | G6: Oceania | H6: 323
A7: SAMN09207737 | C7: Peru | D7: South America | E7: 2 | G7: Africa | H7: 99
A8: SAMEA3981013 | C8: Ecuador | D8: South America | E8: 1 | G8: South America | H8: 91
A9: SAMEA78911668 | C9: Venezuela | D9: South America | E9: 1 | G9: Unknown | H9: 4689
A10: SAMN05567333 | C10: Australia | D10: Oceania | E10: 306 | G10: Total | H10: =SUM(H3:H9) -> 11623
A11: SAMN09233331 | C11: New Zealand | D11: Oceania | E11: 14
A12: SAMN09233332 | C12: Papua New Guinea | D12: Oceania | E12: 2
A13: SAMN07450629 | C13: Tonga | D13: Oceania | E13: 1
A14: SAMEA3981785 | C14: USA | D14: North America | E14: 2692
A15: SAMEA3980730 | C15: Canada | D15: North America | E15: 80
A16: SAMN10221644 | C16: Mexico | D16: North America | E16: 8
A17: SAMD00053189 | C17: Dominican Republic | D17: North America | E17: 2
A18: SAMEA3981783 | C18: Guatemala | D18: North America | E18: 2
A19: SAMN03495971 | C19: United Kingdom | D19: Europe | E19: 1629
A20: SAMEA104146888 | C20: Netherlands | D20: Europe | E20: 481
A21: SAMEA104146891 | C21: Germany | D21: Europe | E21: 285
A22: SAMN05171909 | C22: Denmark | D22: Europe | E22: 219
... A72: SAMEA3980849 | C72: Unknown | D72: Unknown | E72: 4689
A73: SAMEA3980803 | D73: Total | E73: =SUM(E3:E72) -> 11623
A74: SAMEA3980790
A75: SAMEA3982165
A76: SAMN06036107
A77: SAMEA4061505
A78: SAMEA3981706
A79: SAMEA3981745
A80: SAMN04992978
A81: SAMN03358856
A82: SAMN04881305
A83: SAMEA4470351
A84: SAMEA4061368
A85: SAMEA4061413
... A12571: SAMEA3304811

Sheet T10-KL lookup table
A1: For kaptive runs using the database V1 or V2 downloaded before 6/11/25 the KL names had been update to reflect the phenotypes, or KL110+
A2: V1 and V2 KL names | B2: V3 KL names
A3: KL10 | B3: KL7
A4: KL103 | B4: KL138
A5: KL105 | B5: KL142
A6: KL11 | B6: KL52
A7: KL110 | B7: KL149
A8: KL111 | B8: KL148
A9: KL112 | B9: KL121
A10: KL113 | B10: KL147
A11: KL12 | B11: KL82
A12: KL126 | B12: KL114
A13: KL13 | B13: KL110
... A92: KL98 | B92: KL137

Sheet T11-Database history
A1: Date | B1: K-locus | C1: Action | D1: Reason
A2: 45755 | B2: KL137_v1v2 | C2: removed from database | D2: Frequent mistyping of KL14 as KL137_v1v2. KL137_v1 differed from KL14 by a disrupted vatD. This can be captured with Kaptive logic once any phenotypic difference is known making inclusion in the database redundant.
A3: 45755 | B3: KL114_v1v2 | C3: removed from database | D3: Frequent mistyping of KL2 as KL114_v1v2. KL114_v1 group97 is an allele of kslC that was not clustered with kslC due to a disrupted mosaic of kslC and group97 in KL53_v1v2.
A4: 45755 | B4: KL53_v1v2 | C4: removed from database | D4: Frequent mistyping of KL2 as KL53_v1v2. KL53_v1 differs from KL2 by a disrupted kslC/group97 gene. This can be captured with Kaptive logic once any phenotypic difference is known making inclusion in the database redundant.
A5: 45755 | B5: KL140_v1v2 | C5: removed from database | D5: Frequent mistyping of KL7 as KL140_v1v2. KL140_v1 differs from KL7 due to a disrupted rffE gene. This can be captured with Kaptive logic once any phenotypic difference is known making inclusion in the database redundant.
A6: 45755 | B6: KL189_v1v2 | C6: removed from database | D6: Frequent mistyping of KL52 as KL189_v1v2. KL189_v1 was only observed once in a low-quality assembly which could have misassemblies, it has an insertion of two genes and kpsT is split. As it has not been seen in other isolates and is interferring with correctly tying the common KL7 it has been removed.
A7: 45755 | B7: KL37_v1v2 | C7: removed from database | D7: Frequent mistyping of KL7 as KL37_v1v2. KL37_v1 differs from KL7 due to a disrupted group195 gene. This can be captured with Kaptive logic once any phenotypic difference is known making inclusion in the database redundant.
A8: 45755 | B8: KL89_v1v2 | C8: removed from database | D8: Frequent mistyping of KL7 as KL89_v1v2. KL89_v1 differed from KL7 by an IS and a truncation of group30 gene. This can be captured with Kaptive logic once any phenotypic difference is known making inclusion in the database redundant.
A9: 45755 | B9: KL18_v1v2 | C9: removed from database | D9: Frequent mistyping of KL2 as KL18_v1v2. KL18_v1 differed from KL2 by disruption of the kslD gene. Both KL2 and KL18_v1 phenotype as K2. If any subsequenct phenotypic difference is discovered it can be included with Kaptive logic making inclusion in the database redundant.
A10: 45755 | B10: KL87_v1v2 | C10: removed from database | D10: Frequent mistyping of KL12 as KL87_v1v2. KL87_v1 differed from KL12 by a disruption of the group77 gene. This can be captured with Kaptive logic once any phenotypic difference is known making inclusion in the database redundant.
A11: 45755 | B11: KL107_v1v2 | C11: removed from database | D11: Frequent mistyping of KL4 as KL107_v1v2. KL107_v1 differs from KL4 by an IS element and a disruption of the kfoB gene. This can be captured with Kaptive logic once any phenotypic difference is known making inclusion in the database redundant.
A12: 45755 | B12: KL31_v1v2 | C12: phenotype removed | D12: Phenotype K74 was reported for 1 NCTC strain but K74 is not considered a K-antigen anymore.
A13: 45755 | B13: KL150 | C13: phenotype removed | D13: Phenotype K98 reported for 1 enterobase strain but KL27 is negative for K98. KL20 was confirmed to K98.
... A15: 45901 | B15: KL99_v1v2 | C15: removed from database | D15: Frequent mistyping of KL110 as KL99_v1v2. KL99_v1 differed from KL110 and KL169 by a duplication of group 154.
A16: 45954 | B16: KL7 | C16: KL10_v1v2->KL7 KL nomenclature changed to reflect phenotypes, with novel types starting from KL110.
A17: 45954 | B17: KL138 | C17: KL103_v1v2->KL138 KL nomenclature changed to reflect phenotypes, with novel types starting from KL110.
A18: 45954 | B18: KL142 | C18: KL105_v1v2->KL142 KL nomenclature changed to reflect phenotypes, with novel types starting from KL110.
A19: 45954 | B19: KL52 | C19: KL11_v1v2->KL52 KL nomenclature changed to reflect phenotypes, with novel types starting from KL110.
A20: 45954 | B20: KL149 | C20: KL110_v1v2->KL149 KL nomenclature changed to reflect phenotypes, with novel types starting from KL110.
A21: 45954 | B21: KL148 | C21: KL111_v1v2->KL148 KL nomenclature changed to reflect phenotypes, with novel types starting from KL110.
A22: 45954 | B22: KL121 | C22: KL112_v1v2->KL121 KL nomenclature changed to reflect phenotypes, with novel types starting from KL110.
A23: 45954 | B23: KL147 | C23: KL113_v1v2->KL147 KL nomenclature changed to reflect phenotypes, with novel types starting from KL110.
A24: 45954 | B24: KL82 | C24: KL12_v1v2->KL82 KL nomenclature changed to reflect phenotypes, with novel types starting from KL110.
A25: 45954 | B25: KL114 | C25: KL126_v1v2->KL114 KL nomenclature changed to reflect phenotypes, with novel types starting from KL110.
A26: 45954 | B26: KL110 | C26: KL13_v1v2->KL110 KL nomenclature changed to reflect phenotypes, with novel types starting from KL110.
A27: 45954 | B27: KL173 | C27: KL134_v1v2->KL173 KL nomenclature changed to reflect phenotypes, with novel types starting from KL110.
... A105: 45954 | B105: KL137 | C105: KL98_v1v2->KL137 KL nomenclature changed to reflect phenotypes, with novel types starting from KL110.

Sheet T12-K-locus insilico primers
A1: In-silico primers NOT VALIDATED FOR LABORATORY USE!
A2: Target | B2: Group | C2: Fwd | D2: Rvs | E2: max length
A3: kpsM to kpsF | B3: G2 | C3: ATGGCAAGAAGTGGATTTGAAGTCCAGAAAGT | D3: ATGTCTGAAAGACATTTACCTGATGACCAGAGC | E3: 30000
A4: kpsM to kpsF (alternative) | B4: G2 | C4: ATGGCAAGAAGTGGATTTGAAG | D4: ATGTCTGAAAGACATTTACCTGATGACC | E4: 30000
A5: kpsD to kpsS | B5: G3 | C5: GTGAAGATAACGAAT | D5: TTAGCGTTCGAGTTCGGAATC | E5: 30000
