Workbook
Name acc: #REF!
Name access: #REF!
Name age: #REF!
Name bb: #REF!
Name bs: #REF!
Name bsac: #REF!
Name clde: #REF!
Name coun: #REF!
Name count: #REF!
Name ctx: #REF!
Name date: #REF!
Name des: 'T1-Data'!$B:$D
Name err: #REF!
Name errdea: 'T1-Data'!$A:$D
Name fr: #REF!
Name group: 'T1-Data'!$B$7682
Name group: 'T5-Database metdata'!$D:$N
Name hybrid: #REF!
Name kl: 'T5-Database metdata'!$U$1:$V$25
Name korder: '[1]K order'!$A$1:$B$79
Name ktype: #REF!
Name labels: #REF!
Name lane: #REF!
Name linCC: #REF!
Name lineage: #REF!
Name lu: #REF!
Name newd: 'T5-Database metdata'!$D:$E
Name newkKL: 'T5-Database metdata'!$I:$J
Name newkl: 'T5-Database metdata'!$G:$H
Name norm: #REF!
Name oh: #REF!
Name ord: #REF!
Name order: #REF!
Name phy: #REF!
Name phylo: 'T1-Data'!$V:$W
Name pp: #REF!
Name res: 'T1-Data'!$B:$E
Name result: 'T1-Data'!$A:$E
Name simp: 'T5-Database metdata'!$D:$O
Name tab: #REF!
Name tes: #REF!
Name vl: [1]malawi!$A$1:$B$24
Name year: #REF!

Sheet T1-Data
A1: Accession/FTP | B1: ID | D1: Designation | E1: Group | F1: Group simple | G1: Phylotype | H1: Lineage | I1: CC131 clade | J1: Country | K1: Paper | L1: Colleciton type | M1: country-collection | N1: Data type | O1: Top K-type selection | P1: Inferred invasiveness | Q1: Collection year | R1: MDR
A2: Deposited at https://zenodo.org/records/14000489 | B2: 14792_19_clean_Escherichia_coli-SC20_ST59 | D2: KL110 | E2: G2-atypical | F2: G2 | G2: F | H2: PP20_CC59 | I2: NA | J2: UK | K2: Maklin 2022/Shao 2024 | L2: neonatal carriage | M2: UK_neonatal carriage | N2: metagenomic assemblies | O2: include | P2: include | Q2: 2014-2017 | R2: NA
A3: Deposited at https://zenodo.org/records/14000489 | B3: 14792_20_clean_Escherichia_coli-SC20_ST59 | D3: KL110 | E3: G2-atypical | F3: G2 | G3: F | H3: PP20_CC59 | I3: NA | J3: UK | K3: Maklin 2022/Shao 2024 | L3: neonatal carriage | M3: UK_neonatal carriage | N3: metagenomic assemblies | O3: non-independent | P3: non-independent | Q3: 2014-2017 | R3: NA
A4: Deposited at https://zenodo.org/records/14000489 | B4: 14792_21_clean_Escherichia_coli-SC20_ST59 | D4: KL110 | E4: G2-atypical | F4: G2 | G4: F | H4: PP20_CC59 | I4: NA | J4: UK | K4: Maklin 2022/Shao 2024 | L4: neonatal carriage | M4: UK_neonatal carriage | N4: metagenomic assemblies | O4: include | P4: include | Q4: 2014-2017 | R4: NA
A5: Deposited at https://zenodo.org/records/14000489 | B5: 14792_22_clean_Escherichia_coli-SC20_ST59 | D5: KL110 | E5: G2-atypical | F5: G2 | G5: F | H5: PP20_CC59 | I5: NA | J5: UK | K5: Maklin 2022/Shao 2024 | L5: neonatal carriage | M5: UK_neonatal carriage | N5: metagenomic assemblies | O5: non-independent | P5: non-independent | Q5: 2014-2017 | R5: NA
A6: Deposited at https://zenodo.org/records/14000489 | B6: 14792_23_clean_Escherichia_coli-SC20_ST59 | D6: KL110 | E6: G2-atypical | F6: G2 | G6: F | H6: PP20_CC59 | I6: NA | J6: UK | K6: Maklin 2022/Shao 2024 | L6: neonatal carriage | M6: UK_neonatal carriage | N6: metagenomic assemblies | O6: non-independent | P6: non-independent | Q6: 2014-2017 | R6: NA
A7: Deposited at https://zenodo.org/records/14000489 | B7: 14794_10_clean_Escherichia_coli-SC16_ST38 | D7: K5 | E7: G2 | F7: G2 | G7: D | H7: PP16_CC38 | I7: NA | J7: UK | K7: Maklin 2022/Shao 2024 | L7: neonatal carriage | M7: UK_neonatal carriage | N7: metagenomic assemblies | O7: include | P7: include | Q7: 2014-2017 | R7: NA
A8: Deposited at https://zenodo.org/records/14000489 | B8: 14794_11_clean_Escherichia_coli-SC16_ST38 | D8: K5 | E8: G2 | F8: G2 | G8: D | H8: PP16_CC38 | I8: NA | J8: UK | K8: Maklin 2022/Shao 2024 | L8: neonatal carriage | M8: UK_neonatal carriage | N8: metagenomic assemblies | O8: non-independent | P8: non-independent | Q8: 2014-2017 | R8: NA
A9: Deposited at https://zenodo.org/records/14000489 | B9: 14794_12_clean_Escherichia_coli-SC16_ST38 | D9: K5 | E9: G2 | F9: G2 | G9: D | H9: PP16_CC38 | I9: NA | J9: UK | K9: Maklin 2022/Shao 2024 | L9: neonatal carriage | M9: UK_neonatal carriage | N9: metagenomic assemblies | O9: non-independent | P9: non-independent | Q9: 2014-2017 | R9: NA
A10: Deposited at https://zenodo.org/records/14000489 | B10: 14794_13_clean_Escherichia_coli-SC16_ST38 | D10: K5 | E10: G2 | F10: G2 | G10: D | H10: PP16_CC38 | I10: NA | J10: UK | K10: Maklin 2022/Shao 2024 | L10: neonatal carriage | M10: UK_neonatal carriage | N10: metagenomic assemblies | O10: non-independent | P10: non-independent | Q10: 2014-2017 | R10: NA
A11: Deposited at https://zenodo.org/records/14000489 | B11: 14794_15_clean_Escherichia_coli-SC6_ST69 | D11: K54_K96 | E11: G3-A | F11: G3 | G11: D | H11: PP6_CC69 | I11: NA | J11: UK | K11: Maklin 2022/Shao 2024 | L11: neonatal carriage | M11: UK_neonatal carriage | N11: metagenomic assemblies | O11: include | P11: include | Q11: 2014-2017 | R11: NA
A12: Deposited at https://zenodo.org/records/14000489 | B12: 14794_16_clean_Escherichia_coli-SC6_ST69 | D12: K54_K96 | E12: G3-A | F12: G3 | G12: D | H12: PP6_CC69 | I12: NA | J12: UK | K12: Maklin 2022/Shao 2024 | L12: neonatal carriage | M12: UK_neonatal carriage | N12: metagenomic assemblies | O12: non-independent | P12: non-independent | Q12: 2014-2017 | R12: NA
... A29: Deposited at https://zenodo.org/records/14000489 | B29: 18403_11_clean_Escherichia_coli-SC6_ST69 | D29: K52 | E29: G2 | F29: G2 | G29: D | H29: PP6_CC69 | I29: NA | J29: UK | K29: Maklin 2022/Shao 2024 | L29: neonatal carriage | M29: UK_neonatal carriage | N29: metagenomic assemblies | O29: include | P29: include | Q29: 2014-2017 | R29: NA
A30: Deposited at https://zenodo.org/records/14000489 | B30: 18403_12_clean_Escherichia_coli-SC65_ST399 | D30: Non G2-G3 | E30: likely G1-G4 | G30: A | H30: PP65_CC399 | I30: NA | J30: UK | K30: Maklin 2022/Shao 2024 | L30: neonatal carriage | M30: UK_neonatal carriage | N30: metagenomic assemblies | O30: include | P30: include | Q30: 2014-2017 | R30: NA
A31: Deposited at https://zenodo.org/records/14000489 | B31: 18403_15_clean_Escherichia_coli-SC163_ST1567 | D31: Non G2-G3 | E31: likely G1-G4 | G31: D | H31: PP163_CC1567 | I31: NA | J31: UK | K31: Maklin 2022/Shao 2024 | L31: neonatal carriage | M31: UK_neonatal carriage | N31: metagenomic assemblies | O31: include | P31: include | Q31: 2014-2017 | R31: NA
A32: Deposited at https://zenodo.org/records/14000489 | B32: 18403_16_clean_Escherichia_coli-SC18_ST141 | D32: K1 | E32: G2 | F32: G2 | G32: B2 | H32: PP18_CC141 | I32: NA | J32: UK | K32: Maklin 2022/Shao 2024 | L32: neonatal carriage | M32: UK_neonatal carriage | N32: metagenomic assemblies | O32: include | P32: include | Q32: 2014-2017 | R32: NA
A33: Deposited at https://zenodo.org/records/14000489 | B33: 18403_20_clean_Escherichia_coli-SC5_ST95 | D33: K1 | E33: G2 | F33: G2 | G33: B2 | H33: PP5_CC95 | I33: NA | J33: UK | K33: Maklin 2022/Shao 2024 | L33: neonatal carriage | M33: UK_neonatal carriage | N33: metagenomic assemblies | O33: include | P33: include | Q33: 2014-2017 | R33: NA
A34: Deposited at https://zenodo.org/records/14000489 | B34: 18403_21_clean_Escherichia_coli-SC5_ST95 | D34: K1 | E34: G2 | F34: G2 | G34: B2 | H34: PP5_CC95 | I34: NA | J34: UK | K34: Maklin 2022/Shao 2024 | L34: neonatal carriage | M34: UK_neonatal carriage | N34: metagenomic assemblies | O34: include | P34: include | Q34: 2014-2017 | R34: NA
A35: Deposited at https://zenodo.org/records/14000489 | B35: 18403_23_clean_Escherichia_coli-SC82_ST362 | D35: K98 | E35: G3-A | F35: G3 | G35: D | H35: PP82_CC362 | I35: NA | J35: UK | K35: Maklin 2022/Shao 2024 | L35: neonatal carriage | M35: UK_neonatal carriage | N35: metagenomic assemblies | O35: include | P35: include | Q35: 2014-2017 | R35: NA
A36: Deposited at https://zenodo.org/records/14000489 | B36: 18403_3_clean_Escherichia_coli-SC11_ST127 | D36: K2 | E36: G2 | F36: G2 | G36: B2 | H36: PP11_CC127 | I36: NA | J36: UK | K36: Maklin 2022/Shao 2024 | L36: neonatal carriage | M36: UK_neonatal carriage | N36: metagenomic assemblies | O36: include | P36: include | Q36: 2014-2017 | R36: NA
A37: Deposited at https://zenodo.org/records/14000489 | B37: 18403_5_clean_Escherichia_coli-SC8_ST1193 | D37: K5 | E37: G2 | F37: G2 | G37: B2 | H37: PP8_CC1193 | I37: NA | J37: UK | K37: Maklin 2022/Shao 2024 | L37: neonatal carriage | M37: UK_neonatal carriage | N37: metagenomic assemblies | O37: include | P37: include | Q37: 2014-2017 | R37: NA
A38: Deposited at https://zenodo.org/records/14000489 | B38: 18403_7_clean_Escherichia_coli-SC43_ST206 | D38: Non G2-G3 | E38: likely G1-G4 | G38: A | H38: PP443 | I38: NA | J38: UK | K38: Maklin 2022/Shao 2024 | L38: neonatal carriage | M38: UK_neonatal carriage | N38: metagenomic assemblies | O38: include | P38: include | Q38: 2014-2017 | R38: NA
A39: Deposited at https://zenodo.org/records/14000489 | B39: 18403_7_clean_Escherichia_coli-SC46_ST746 | D39: Non G2-G3 | E39: likely G1-G4 | G39: A | H39: PP446_CC746 | I39: NA | J39: UK | K39: Maklin 2022/Shao 2024 | L39: neonatal carriage | M39: UK_neonatal carriage | N39: metagenomic assemblies | O39: include | P39: include | Q39: 2014-2017 | R39: NA
A40: Deposited at https://zenodo.org/records/14000489 | B40: 18403_7_clean_Escherichia_coli-SC4_ST10 | D40: Non G2-G3 | E40: likely G1-G4 | G40: A | H40: PP4_CC10 | I40: NA | J40: UK | K40: Maklin 2022/Shao 2024 | L40: neonatal carriage | M40: UK_neonatal carriage | N40: metagenomic assemblies | O40: include | P40: include | Q40: 2014-2017 | R40: NA
A41: Deposited at https://zenodo.org/records/14000489 | B41: 19646_4_14_clean_Escherichia_coli-SC18_ST141 | D41: K1 | E41: G2 | F41: G2 | G41: B2 | H41: PP18_CC141 | I41: NA | J41: UK | K41: Maklin 2022/Shao 2024 | L41: neonatal carriage | M41: UK_neonatal carriage | N41: metagenomic assemblies | O41: include | P41: include | Q41: 2014-2017 | R41: NA
A42: Deposited at https://zenodo.org/records/14000489 | B42: 19646_4_16_clean_Escherichia_coli-SC14_ST405 | D42: K5 | E42: G2 | F42: G2 | G42: D | H42: PP14_CC405 | I42: NA | J42: UK | K42: Maklin 2022/Shao 2024 | L42: neonatal carriage | M42: UK_neonatal carriage | N42: metagenomic assemblies | O42: include | P42: include | Q42: 2014-2017 | R42: NA
A43: Deposited at https://zenodo.org/records/14000489 | B43: 19646_4_19_clean_Escherichia_coli-SC6_ST69 | D43: K54_K96 | E43: G3-A | F43: G3 | G43: D | H43: PP6_CC69 | I43: NA | J43: UK | K43: Maklin 2022/Shao 2024 | L43: neonatal carriage | M43: UK_neonatal carriage | N43: metagenomic assemblies | O43: include | P43: include | Q43: 2014-2017 | R43: NA
A44: Deposited at https://zenodo.org/records/14000489 | B44: 19646_4_19_clean_Escherichia_coli-SC92_ST1722 | D44: KL117 | E44: G2-atypical | F44: G2 | G44: F | H44: PP92_CC1722 | I44: NA | J44: UK | K44: Maklin 2022/Shao 2024 | L44: neonatal carriage | M44: UK_neonatal carriage | N44: metagenomic assemblies | O44: include | P44: include | Q44: 2014-2017 | R44: NA
A45: Deposited at https://zenodo.org/records/14000489 | B45: 19646_4_1_clean_Escherichia_coli-SC8_ST1193 | D45: K5 | E45: G2 | F45: G2 | G45: B2 | H45: PP8_CC1193 | I45: NA | J45: UK | K45: Maklin 2022/Shao 2024 | L45: neonatal carriage | M45: UK_neonatal carriage | N45: metagenomic assemblies | O45: include | P45: include | Q45: 2014-2017 | R45: NA
A46: Deposited at https://zenodo.org/records/14000489 | B46: 19646_4_21_clean_Escherichia_coli-SC4_ST10 | D46: Non G2-G3 | E46: likely G1-G4 | G46: A | H46: PP4_CC10 | I46: NA | J46: UK | K46: Maklin 2022/Shao 2024 | L46: neonatal carriage | M46: UK_neonatal carriage | N46: metagenomic assemblies | O46: include | P46: include | Q46: 2014-2017 | R46: NA
A47: Deposited at https://zenodo.org/records/14000489 | B47: 19646_4_3_clean_Escherichia_coli-SC51_ST93 | D47: KL111 | E47: G2 | F47: G2 | G47: A | H47: PP51_CC93 | I47: NA | J47: UK | K47: Maklin 2022/Shao 2024 | L47: neonatal carriage | M47: UK_neonatal carriage | N47: metagenomic assemblies | O47: include | P47: include | Q47: 2014-2017 | R47: NA
A48: Deposited at https://zenodo.org/records/14000489 | B48: 19646_4_4_clean_Escherichia_coli-SC51_ST93 | D48: KL111 | E48: G2 | F48: G2 | G48: A | H48: PP51_CC93 | I48: NA | J48: UK | K48: Maklin 2022/Shao 2024 | L48: neonatal carriage | M48: UK_neonatal carriage | N48: metagenomic assemblies | O48: non-independent | P48: non-independent | Q48: 2014-2017 | R48: NA
A49: Deposited at https://zenodo.org/records/14000489 | B49: 19646_5_10_clean_Escherichia_coli-SC27_ST328 | D49: Non G2-G3 | E49: likely G1-G4 | G49: B1 | H49: PP27_CC328 | I49: NA | J49: UK | K49: Maklin 2022/Shao 2024 | L49: neonatal carriage | M49: UK_neonatal carriage | N49: metagenomic assemblies | O49: include | P49: include | Q49: 2014-2017 | R49: NA
A50: Deposited at https://zenodo.org/records/14000489 | B50: 19646_5_17_clean_Escherichia_coli-SC65_ST399 | D50: Non G2-G3 | E50: likely G1-G4 | G50: A | H50: PP65_CC399 | I50: NA | J50: UK | K50: Maklin 2022/Shao 2024 | L50: neonatal carriage | M50: UK_neonatal carriage | N50: metagenomic assemblies | O50: include | P50: include | Q50: 2014-2017 | R50: NA
A51: Deposited at https://zenodo.org/records/14000489 | B51: 19646_5_20_clean_Escherichia_coli-SC2_ST131 | D51: K5 | E51: G2 | F51: G2 | G51: B2 | H51: PP2_CC131 | I51: B | J51: UK | K51: Maklin 2022/Shao 2024 | L51: neonatal carriage | M51: UK_neonatal carriage | N51: metagenomic assemblies | O51: include | P51: include | Q51: 2014-2017 | R51: NA
A52: Deposited at https://zenodo.org/records/14000489 | B52: 19646_5_21_clean_Escherichia_coli-SC2_ST131 | D52: K5 | E52: G2 | F52: G2 | G52: B2 | H52: PP2_CC131 | I52: B | J52: UK | K52: Maklin 2022/Shao 2024 | L52: neonatal carriage | M52: UK_neonatal carriage | N52: metagenomic assemblies | O52: non-independent | P52: non-independent | Q52: 2014-2017 | R52: NA
A53: Deposited at https://zenodo.org/records/14000489 | B53: 19646_5_22_clean_Escherichia_coli-SC65_ST399 | D53: Non G2-G3 | E53: likely G1-G4 | G53: A | H53: PP65_CC399 | I53: NA | J53: UK | K53: Maklin 2022/Shao 2024 | L53: neonatal carriage | M53: UK_neonatal carriage | N53: metagenomic assemblies | O53: include | P53: include | Q53: 2014-2017 | R53: NA
A54: Deposited at https://zenodo.org/records/14000489 | B54: 19646_5_2_clean_Escherichia_coli-SC2_ST131 | D54: K100 | E54: G2 | F54: G2 | G54: B2 | H54: PP2_CC131 | I54: A | J54: UK | K54: Maklin 2022/Shao 2024 | L54: neonatal carriage | M54: UK_neonatal carriage | N54: metagenomic assemblies | O54: include | P54: include | Q54: 2014-2017 | R54: NA
A55: Deposited at https://zenodo.org/records/14000489 | B55: 19646_5_3_clean_Escherichia_coli-SC3_ST73 | D55: K13_K23 | E55: G2 | F55: G2 | G55: B2 | H55: PP3_CC73 | I55: NA | J55: UK | K55: Maklin 2022/Shao 2024 | L55: neonatal carriage | M55: UK_neonatal carriage | N55: metagenomic assemblies | O55: include | P55: include | Q55: 2014-2017 | R55: NA
A56: Deposited at https://zenodo.org/records/14000489 | B56: 19646_5_3_clean_Escherichia_coli-SC51_ST93 | D56: KL122 | E56: G2 | F56: G2 | G56: A | H56: PP51_CC93 | I56: NA | J56: UK | K56: Maklin 2022/Shao 2024 | L56: neonatal carriage | M56: UK_neonatal carriage | N56: metagenomic assemblies | O56: include | P56: include | Q56: 2014-2017 | R56: NA
...

Sheet T2-Phylogroups
A1: Supplementary Data T1. Distribution of G2 and G3 capsular loci across phylogroups in European BSIs (Kallonen et al 2017, Gladstone et al 2021, Pontinen et al 2024, Lipworth et al 2024 (2009 and 2018 only))
A3: Phylogroup | B3: Count | C3: G2 | D3: G3
A4: All | B4: 5863 | C4: 0.81272386 | D4: 0.035306157
A5: A | B5: 297 | C5: 0.24915825 | D5: 0.04040404
A6: B1 | B6: 330 | C6: 0.072727273 | D6: 0.015151515
A7: B2 | B7: 3988 | C7: 0.94232698 | D7: 0.022066199
A8: C | B8: 133 | C8: 0.007518797 | D8: 0
A9: D | B9: 850 | C9: 0.84117647 | D9: 0.11529412
A10: E | B10: 14 | C10: 0 | D10: 0
A11: F | B11: 203 | C11: 0.94581281 | D11: 0.014778325
A12: G | B12: 48 | C12: 0 | D12: 0

Sheet T3-OHK typing NORM
A1: ID | B1: pp_NORM | C1: O | D1: H | E1: K
A2: 30134_6#100 | B2: pp1_ST73 | C2: O25 | D2: H1 | E2: K5
A3: 30134_6#104 | B3: pp1_ST73 | C3: O25 | D3: H1 | E3: K5
A4: 30134_6#123 | B4: pp11_ST10 | C4: O32 | D4: H37 | E4: Non G2-G3
A5: 30134_6#124 | B5: pp8_ST127 | C5: O6 | D5: H31 | E5: K14
A6: 30134_6#128 | B6: pp12_ST88 | C6: O8 | D6: H4 | E6: Non G2-G3
A7: 30134_6#132 | B7: pp11_ST10 | C7: O6 | D7: H10 | E7: KL136
A8: 30134_6#136 | B8: pp2_ST95 | C8: O1 | D8: H7 | E8: K1
A9: 30134_6#153 | B9: pp4_ST131 | C9: O16 | D9: H5 | E9: KL115
A10: 30134_6#157 | B10: pp1_ST73 | C10: O2-O50-Gp7 | D10: H1 | E10: K7
A11: 30134_6#161 | B11: pp2_ST95 | C11: O18-Gp12 | D11: H7 | E11: K1
A12: 30134_6#164 | B12: pp6_ST58 | C12: Onovel4 | D12: H21 | E12: Non G2-G3
... A87: 30224_1#221 | B87: pp3_ST69 | C87: O25 | D87: H18 | E87: K4
A88: 30224_1#225 | B88: pp11_ST10 | D88: H30 | E88: Non G2-G3
A89: 30224_1#23 | B89: pp13_ST59 | C89: O1 | D89: H7 | E89: K1
A90: 30224_1#231 | B90: pp7_ST12 | C90: O4 | D90: H5 | E90: K12
A91: 30224_1#235 | B91: pp2_ST95 | C91: O18-Gp12 | D91: H7 | E91: K1
A92: 30224_1#245 | B92: pp4_ST131 | C92: O25 | D92: H4 | E92: K5
A93: 30224_1#249 | B93: pp13_ST59 | C93: O1 | D93: H7 | E93: K1
A94: 30224_1#254 | B94: pp7_ST12 | C94: O4 | D94: H5 | E94: K3
A95: 30224_1#258 | B95: pp13_ST59 | C95: O1 | D95: H7 | E95: K1
A96: 30224_1#264 | B96: pp56_ST1567 | C96: Onovel29 | D96: H48 | E96: Non G2-G3
A97: 30224_1#268 | B97: pp3_ST69 | C97: O17-044-O77-Gp9 | D97: H18 | E97: K52
A98: 30224_1#27 | B98: pp2_ST95 | C98: O18-Gp12 | D98: H7 | E98: K1
A99: 30224_1#278 | B99: pp5_ST14 | C99: O75 | D99: H7 | E99: K1
A100: 30224_1#282 | B100: pp2_ST95 | C100: O2-O50-Gp7 | D100: H7 | E100: K1
... A135: 30224_1#96 | B135: pp8_ST127 | C135: O6 | D135: H31 | E135: K14
A136: 30345_1#111 | B136: pp1_ST73 | D136: H1 | E136: K2
A137: 30345_1#118 | B137: pp2_ST95 | C137: O2-O50-Gp7 | D137: H7 | E137: K1
A138: 30345_1#122 | B138: pp1_ST73 | C138: O2-O50-Gp7 | D138: H1 | E138: K7
A139: 30345_1#126 | B139: pp8_ST127 | C139: O6 | D139: H31 | E139: K14
A140: 30345_1#130 | B140: pp6_ST58 | C140: O37 | D140: H10 | E140: Non G2-G3
A141: 30345_1#139 | B141: pp1_ST73 | C141: O6 | D141: H1 | E141: K5
A142: 30345_1#150 | B142: pp15_ST372 | C142: O83 | D142: H31 | E142: K14
A143: 30345_1#154 | B143: pp6_ST58 | C143: O108 | D143: H2 | E143: Non G2-G3
A144: 30345_1#158 | B144: pp37_ST973 | C144: O11 | D144: H15 | E144: KL126
A145: 30345_1#162 | B145: pp9_ST141 | C145: O134 | D145: H31 | E145: K1
A146: 30345_1#163 | B146: pp23_ST978 | C146: O4 | D146: H27 | E146: KL122
A147: 30345_1#182 | B147: pp13_ST59 | C147: O1 | D147: H7 | E147: K1
A148: 30345_1#186 | B148: pp4_ST131 | C148: O25 | D148: H4 | E148: K5
...

Sheet T4-OHK SDI
A1: Simpsons diversity index 1-D per lineage
A2: Lineage | B2: O | C2: H | D2: K
A3: pp1_ST73 | B3: 0.65792442 | C3: 0.02475128 | D3: 0.69403093
A4: pp10_ST357 | B4: 0.71822715 | C4: 0.34612245 | D4: 0.81034014
A5: pp11_ST10 | B5: 0.88524219 | C5: 0.85678585 | D5: 0.76268861
A6: pp12_ST88 | B6: 0.68212891 | C6: 0.78935185 | D6: NA
A7: pp13_ST59 | B7: 0.035076531 | C7: 0 | D7: 0.27085257
A8: pp14_ST38 | B8: 0.73140496 | C8: 0.64888889 | D8: 0.81185185
A9: pp15_ST372 | B9: 0.73015873 | C9: 0 | D9: 0.67061144
A10: pp16_ST393 | B10: 0.1820345 | C10: 0.36644854 | D10: 0.13920286
A11: pp17_ST144 | B11: 0 | C11: 0 | D11: 0
A12: pp18_ST405 | B12: 0.46749452 | C12: 0.43827611 | D12: 0.8385683
A13: pp19_ST117 | B13: 0.75171468 | C13: 0.13265306 | D13: NA
A14: pp2_ST95 | B14: 0.63990702 | C14: 0.19978092 | D14: 0
A15: pp20_ST136 | B15: 0.33106576 | C15: 0.58049887 | D15: NA
A16: pp21_ST62 | B16: 0 | C16: 0 | D16: 0
A17: pp22_ST453 | B17: 0.5 | C17: 0.5 | D17: 0.7768595
A18: pp23_ST978 | B18: 0.60444444 | C18: 0.49777778 | D18: 0.49777778
A19: pp24_ST409 | B19: 0.65306122 | C19: 0.35714286 | D19: NA
A20: pp25_ST648 | B20: 0.67346939 | C20: 0.52040816 | D20: 0.78106509
A21: pp26_ST28 | B21: 0.86 | C21: 0.375 | D21: NA
A22: pp27_ST399 | B22: 0.86 | C22: 0.76033058 | D22: NA
A23: pp28_ST362 | B23: 0.34 | C23: 0.18 | D23: 0.78
A24: pp29_ST491 | B24: 0.40625 | C24: 0 | D24: NA
A25: pp3_ST69 | B25: 0.65641631 | C25: 0.33452456 | D25: 0.76283074
A26: pp30_ST2015 | B26: 0.46875 | C26: 0.46875 | D26: 0.46875
A27: pp31_ST349 | B27: 0.40625 | C27: 0.40625 | D27: 0.75
A28: pp32_ST355 | B28: 0.72222222 | C28: 0.24489796 | D28: 0.69387755
A29: pp33_ST93 | B29: 0.69387755 | C29: 0.57142857 | D29: 0.73469388
A30: pp34_ST1304 | B30: 0.83333333 | C30: 0.61111111 | D30: NA
A31: pp35_ST5644 | B31: 0 | C31: 0 | D31: 0
A32: pp36_ST224 | B32: 0.83333333 | C32: 0.66666667 | D32: NA
A33: pp37_ST973 | B33: 0 | C33: 0 | D33: 0.5
A34: pp38_ST126 | B34: NA | C34: 0 | D34: 0
A35: pp39_ST398 | B35: 0.72 | C35: 0.8 | D35: NA
A36: pp4_ST131 | B36: 0.39255215 | C36: 0.38727292 | D36: 0.74926629
A37: pp40_ST685 | B37: NA | C37: 0.56 | D37: NA
A38: pp41_ST567 | B38: 0 | C38: 0 | D38: 0
A39: pp5_ST14 | B39: 0.39530582 | C39: 0.34599376 | D39: 0.55590942
A40: pp6_ST58 | B40: 0.92421476 | C40: 0.90349865 | D40: 0.56
...

Sheet T5-Database metdata
A1: Accession | B1: ID | C1: old ID | D1: old Designation | E1: Designation | F1: Count T1 | G1: old KL | H1: KL | I1: old K_KL | J1: K_KL | K1: in-silico K | L1: K-phenotype | M1: K-relatedness | N1: Group | O1: Group simiple | P1: K-phenotype evidence | Q1: *SSI = Statens Serum Institute
A2: CP000243 | B2: K1_G2_KL1_CP000243 | C2: K1_G2_KL8A1_CP000243 | D2: K1 | E2: K1 | F2: 1802 | G2: KL8A1 | H2: KL1 | I2: KL8A1_K1 | J2: K1_KL1 | K2: K1 | L2: =K2 -> K1 | N2: G2 | O2: G2 | P2: SSI x3, NCTC x 6, Genbank x 13, Enterobase x 37
A3: MG736912 | B3: K2ab_G2_KL2_MG736912 | C3: K2ab_G2_KL3_MG736912 | D3: K2 | E3: K2 | F3: 291 | G3: KL3 | H3: KL2 | I3: KL3_K2ab | J3: K2_KL2 | K3: K2 | L3: K2ab | N3: G2 | O3: G2 | P3: SSI x5, genbank x1
A4: ERZ24115085 | B4: K3_G3_KL3_30224_1.254_1 | C4: K3_G3_KL26_30224_1.254_1 | D4: K3 | E4: K3 | F4: 7 | G4: KL26 | H4: KL3 | I4: KL26_K3 | J4: K3_KL3 | K4: K3 | L4: =K4 -> K3 | N4: G3-A | O4: G3 | P4: SSI x1
A5: ERZ24119942 | B5: K4_G2_KL4_30602_1.132_1 | C5: K4_G2_KL29_30602_1.132_1 | D5: K4 | E5: K4 | F5: 34 | G5: KL29 | H5: KL4 | I5: KL29_K4 | J5: K4_KL4 | K5: K4 | L5: =K5 -> K4 | N5: G2 | O5: G2 | P5: genbank x1
A6: CP013831 | B6: K5_G2_KL5_CP013831 | C6: K5_G2_KL6_CP013831 | D6: K5 | E6: K5 | F6: 78 | G6: KL6 | H6: KL5 | I6: KL6_K5 | J6: K5_KL5 | K6: K5 | L6: =K6 -> K5 | N6: G2 | O6: G2 | P6: SSI x5, NCTC x2, genbank x7
A7: ERZ24123698 | B7: K7_G2_KL7_30821_1.45_1 | C7: K7_G2_KL10_30821_1.45_1 | D7: K7 | E7: K7 | F7: 25 | G7: KL10 | H7: KL7 | I7: KL10_K7 | J7: K7_KL7 | K7: K7 | L7: =K7 -> K7 | N7: G2 | O7: G2 | P7: SSI x2, 4x enterobase
A8: ERR972368 | B8: K10_G3_KL10_ERR972368 | C8: K10_G3_KL15_ERR972368 | D8: K10 | E8: K10 | F8: 515 | G8: KL15 | H8: KL10 | I8: KL15_K10 | J8: K10_KL10 | K8: K10 | L8: =K8 -> K10 | N8: G3-A | O8: G3 | P8: SSI x2, NCTC x 1
A9: MG736913 | B9: K11_G3_KL11_MG736913 | C9: K11_G3_KL57_MG736913 | D9: K11 | E9: K11 | F9: 81 | G9: KL57 | H9: KL11 | I9: KL57_K11 | J9: K11_KL11 | K9: K11 | L9: =K9 -> K11 | N9: G3-B | O9: G3 | P9: SSI x1, NCTC x3, genbank x1
A10: ERZ24115694 | B10: K12_G2_KL12_30224_1.85_2 | C10: K12_G2_KL86_30224_1.85_2 | D10: K12 | E10: K12 | F10: 1340 | G10: KL86 | H10: KL12 | I10: KL86_K12 | J10: K12_KL12 | K10: K12 | L10: =K10 -> K12 | N10: G2 | O10: G2 | P10: SSI x1, Enterobase x 5
A11: ERR999921 | B11: K13_K23_G2_KL13_ERR999921 | C11: K13_K23_G2_KL21_ERR999921 | D11: K13_K23 | E11: K13_K23 | F11: 239 | G11: KL21 | H11: KL13 | I11: KL21_K13-K23 | J11: K13_K23_KL13 | K11: K13_K23 | L11: K13 | N11: G2 | O11: G2 | P11: SSI x5, NCTC x 2
A12: ERZ24119801 | B12: K14_G2_KL14_30348_2.90_1 | C12: K14_G2_KL16_30348_2.90_1 | D12: K14 | E12: K14 | F12: 13 | G12: KL16 | H12: KL14 | I12: KL16_K14 | J12: K14_KL14 | K12: K14 | L12: =K12 -> K14 | N12: G2 | O12: G2 | P12: SSI x1, genbank x2, NCTC x1
A13: CP000247 | B13: K15_G2_KL15_CP000247 | C13: K15_G2_KL40_CP000247 | D13: K15 | E13: K15 | F13: 9 | G13: KL40 | H13: KL15 | I13: KL40_K15 | J13: K15_KL15 | K13: K15 | L13: =K13 -> K15 | N13: G2 | O13: G2 | P13: SSI x2, genbank x1
A14: ERZ24115561 | B14: K16_G2_KL16_30224_1.383_1 | C14: K16_G2_KL47_30224_1.383_1 | D14: K16 | E14: K16 | F14: 131 | G14: KL47 | H14: KL16 | I14: KL47_K16 | J14: K16_KL16 | K14: K16 | L14: =K14 -> K16 | N14: G2 | O14: G2 | P14: SSI x1, enterobase x 2
A15: ERR1025281 | B15: K19_G3_KL19_ERR1025281 | C15: K19_G3_KL160_ERR1025281 | D15: K19 | E15: K19 | F15: 174 | G15: KL160 | H15: KL19 | I15: KL160_K19 | J15: K19_KL19 | K15: K19 | L15: =K15 -> K19 | N15: G3-C | O15: G3 | P15: NCTC x1
A16: MG739438 | B16: K20_G2_KL20_MG739438 | C16: K20_G2_KL9_MG739438 | D16: K20 | E16: K20 | F16: 66 | G16: KL9 | H16: KL20 | I16: KL9_K20 | J16: K20_KL20 | K16: K20 | L16: =K16 -> K20 | N16: G2 | O16: G2 | P16: SSI x1, NCTC x1, genbank x1
A17: ERZ24113823 | B17: K24_G2_KL24_30134_6.170_3 | C17: K24_G2_KL14_30134_6.170_3 | D17: K24 | E17: K24 | F17: 41 | G17: KL14 | H17: KL24 | I17: KL14_K24 | J17: K24_KL24 | K17: K24 | L17: =K17 -> K24 | N17: G2 | O17: G2 | P17: genbank x1 MG739439 K24, SSI conflicting x2 K6 (inconsistent with literature)
A18: CU928163 | B18: K52_G2_KL52_CU928163 | C18: K52_G2_KL11_CU928163 | D18: K52 | E18: K52 | F18: 338 | G18: KL11 | H18: KL52 | I18: KL11_K52 | J18: K52_KL52 | K18: K52 | L18: =K18 -> K52 | N18: G2 | O18: G2 | P18: genbank x1, enterobase x 3
A19: ERZ24125771 | B19: K53_G2_KL53_31663_7.272_1 | C19: K53_G2_KL28_31663_7.272_1 | D19: K53 | E19: K53 | F19: 30 | G19: KL28 | H19: KL53 | I19: KL28_K53 | J19: K53_KL53 | K19: K53 | L19: =K19 -> K53 | N19: G2 | O19: G2 | P19: SSI x1, enterobase x 2
A20: MG736915 | B20: K96_G3_KL96_MG736915 | C20: K96_G3_KL36_MG736915 | D20: K54_K96 | E20: K54_K96 | F20: 134 | G20: KL36 | H20: KL96 | I20: KL36_K54-K96 | J20: K54_K96_KL96 | K20: K54_K96 | L20: K96 | N20: G3-A | O20: G3 | P20: SSI x4, genbank x2
A21: ERZ24117436 | B21: K82_G2_KL82_30348_1.18_1 | C21: K82_G2_KL12_30348_1.18_1 | D21: K82 | E21: K82 | F21: 51 | G21: KL12 | H21: KL82 | I21: KL12_K82 | J21: K82_KL82 | K21: K82 | L21: =K21 -> K82 | N21: G2 | O21: G2 | P21: Conflicting SSI K+ K82neg x2, NCTC K82 x1
A22: MG739441 | B22: K92_G2_KL92_MG739441 | C22: K92_G2_KL8A2_MG739441 | D22: K92 | E22: K92 | F22: 34 | G22: KL8A2 | H22: KL92 | I22: KL8A2_K92 | J22: K92_KL92 | K22: K92 | L22: =K22 -> K92 | N22: G2 | O22: G2 | P22: SSI x1, genbank x1
A23: ERR1036227 | B23: K93_G2_KL93_ERR1036227 | C23: K93_G2_KL4_ERR1036227 | D23: K93 | E23: K93 | F23: 17 | G23: KL4 | H23: KL93 | I23: KL4_K93 | J23: K93_KL93 | K23: K93 | L23: =K23 -> K93 | N23: G2 | O23: G2 | P23: SSI x1, NCTC x1
A24: ERZ24114480 | B24: K98_G3_KL98_30134_6.69_2 | C24: K98_G3_KL20_30134_6.69_2 | D24: K98 | E24: K98 | F24: 251 | G24: KL20 | H24: KL98 | I24: KL20_K98 | J24: K98_KL98 | K24: K98 | L24: =K24 -> K98 | N24: G3-A | O24: G3 | P24: SSI x2 ERZ24123621 and ERZ24114480
A25: CP013658 | B25: K100_G2_KL100_CP013658 | C25: K100_G2_KL2_CP013658 | D25: K100 | E25: K100 | F25: 123 | G25: KL2 | H25: KL100 | I25: KL2_K100 | J25: K100_KL100 | K25: K100 | L25: =K25 -> K100 | N25: G2 | O25: G2 | P25: SSI x3, Enterobase x10
A26: ERZ24121880 | B26: G2_KL142_30602_2.290_1 | C26: G2_KL105_30602_2.290_1 | D26: KL105 | E26: KL142 | F26: 3 | G26: KL105 | H26: KL142 | I26: KL105 | J26: KL142 | N26: G2-atypical_order | O26: G2 | P26: Required
A27: ERZ24115395 | B27: G2_KL111_30224_1.33_1 | C27: G2_KL7_30224_1.33_1 | D27: KL7 | E27: KL111 | F27: 104 | G27: KL7 | H27: KL111 | I27: KL7 | J27: KL111 | N27: G2 | O27: G2 | P27: SSI K+ x1
A28: ERZ24118500 | B28: G2_KL110_30348_2.133_1 | C28: G2_KL13_30348_2.133_1 | D28: KL13 | E28: KL110 | F28: 141 | G28: KL13 | H28: KL110 | I28: KL13 | J28: KL110 | N28: G2-atypical_order | O28: G2 | P28: Required
A29: ERR999925 | B29: G2_KL113_ERR999925 | C29: G2_KL31_ERR999925 | D29: KL31 | E29: KL113 | F29: 64 | G29: KL31 | H29: KL113 | I29: KL31 | J29: KL113 | N29: G2 | O29: G2 | P29: Required
A30: ERR9845308 | B30: G2_KL114_ERR9845308 | C30: G2_KL126_ERR9845308 | D30: KL126 | E30: KL114 | F30: 51 | G30: KL126 | H30: KL114 | I30: KL126 | J30: KL114 | M30: K14-like | N30: G2 | O30: G2 | P30: SSI x1
A31: ERZ24113780 | B31: G2_KL115_30134_6.153_1 | C31: G2_KL30_30134_6.153_1 | D31: KL30 | E31: KL115 | F31: 45 | G31: KL30 | H31: KL115 | I31: KL30 | J31: KL115 | N31: G2 | O31: G2 | P31: Required
A32: ERZ24124531 | B32: G2_KL116_30859_5.251_1 | C32: G2_KL5_30859_5.251_1 | D32: KL5 | E32: KL116 | F32: 43 | G32: KL5 | H32: KL116 | I32: KL5 | J32: KL116 | N32: G2 | O32: G2 | P32: Required
A33: ERZ24115930 | B33: G2_KL169_30345_1.148_2 | C33: G2_KL34_30345_1.148_2 | D33: KL34 | E33: KL169 | F33: 0 | G33: KL34 | H33: KL169 | I33: KL34 | J33: KL169 | N33: G2-atypical_order | O33: G2 | P33: Required
A34: ERZ24117328 | B34: G2_KL118_30348_1.159_2 | C34: G2_KL17_30348_1.159_2 | D34: KL17 | E34: KL118 | F34: 37 | G34: KL17 | H34: KL118 | I34: KL17 | J34: KL118 | N34: G2 | O34: G2 | P34: SSI K+ x1
A35: ERR3970455 | B35: G2_KL119_ERR3970455 | C35: G2_KL70_ERR3970455 | D35: KL70 | E35: KL119 | F35: 32 | G35: KL70 | H35: KL119 | I35: KL70 | J35: KL119 | N35: G2 | O35: G2 | P35: SSI K+ x1
A36: ERZ24117759 | B36: G2_KL120_30348_1.272_1 | C36: G2_KL42_30348_1.272_1 | D36: KL42 | E36: KL120 | F36: 32 | G36: KL42 | H36: KL120 | I36: KL42 | J36: KL120 | N36: G2 | O36: G2 | P36: Required
A37: ERZ24124658 | B37: G2_KL121_30859_5.286_1 | C37: G2_KL112_30859_5.286_1 | D37: KL112 | E37: KL121 | F37: 29 | G37: KL112 | H37: KL121 | I37: KL112 | J37: KL121 | N37: G2 | O37: G2 | P37: Required
A38: ERZ24120237 | B38: G2_KL122_30602_1.193_1 | C38: G2_KL23_30602_1.193_1 | D38: KL23 | E38: KL122 | F38: 29 | G38: KL23 | H38: KL122 | I38: KL23 | J38: KL122 | N38: G2 | O38: G2 | P38: SSI K+ x1
A39: ERZ24118717 | B39: G2_KL123_30348_2.175_1 | C39: G2_KL35_30348_2.175_1 | D39: KL35 | E39: KL123 | F39: 22 | G39: KL35 | H39: KL123 | I39: KL35 | J39: KL123 | N39: G2 | O39: G2 | P39: SSI K+ x1
A40: ERZ24122877 | B40: G2_KL124_30821_1.165_1 | C40: G2_KL22_30821_1.165_1 | D40: KL22 | E40: KL124 | F40: 20 | G40: KL22 | H40: KL124 | I40: KL22 | J40: KL124 | N40: G2 | O40: G2 | P40: Required
...

Sheet T6-Known K-types
A1: Group2 | B1: DB | C1: Discrimination | E1: Group3 | F1: DB | G1: Discrimination
A2: K1 | B2: Y | C2: Full | E2: K3 | F2: Y | G2: Full
A3: K2a/K2ab | B3: Y | C3: Partial | E3: K10 | F3: Y | G3: Full
A4: K4 | B4: Y | C4: Full | E4: K11 | F4: Y | G4: Full
A5: K5 | B5: Y | C5: Full | E5: K54 | F5: Y | G5: Partial
A6: K6 | B6: N | E6: K96 | F6: Y | G6: Partial
A7: K7 | B7: Y | C7: Full | E7: K98 | F7: Y | G7: Full
A8: K12 | B8: Y | C8: Full
A9: K13 | B9: Y | C9: Partial
A10: K14 | B10: Y | C10: Full
A11: K15 | B11: Y | C11: Full
A12: K16 | B12: Y | C12: Full
A13: K18a/K18ab | B13: N
A14: K19 | B14: Y | C14: Full
A15: K20 | B15: Y | C15: Full
A16: K22 | B16: N
A17: K23 | B17: Y | C17: Partial
A18: K24 | B18: Y | C18: Full
A19: K51 | B19: N
A20: K52 | B20: Y | C20: Full
A21: K53 | B21: Y | C21: Full
A22: K92 | B22: Y | C22: Full
A23: K93 | B23: Y | C23: Full
A24: K95 | B24: N
A25: K97 | B25: N
A26: K100 | B26: Y | C26: Full

Sheet T7-SSI isolate results
A1: Isolate accession | B1: Replicates | C1: Detected O-phenotype | D1: Detected K-phenotype | E1: SSI Comment | F1: in-silico O-type | G1: K group | I1: Inferred G2-G3 K-type | J1: Notes | K1: Concordance category | L1: Action | N1: Key | O1: Info
A2: ERZ24115756 | B2: 1 | C2: O 2 | D2: K- | E2: Blue (not fermenting lactose), Negative in K1 | F2: O2,O50 | G2: G2 | H2: =COUNTIF('T5-Database metdata'!A$116:A$125,'T7-SSI isolate results'!#REF!) -> 0 | I2: K1 | J2: K- but has kps locus | K2: Discordant, G1/4 or K negative but kps locus present | L2: None, confirmed in other isolates | N2: K+: | O2: Positive precipitate with Cetavlon and neutral O antigen. Negative with known K antigens. Strain most likely contains a sour K antigen that we can´t detect.
A3: ERZ24114609 | B3: 1 | C3: O 18ac | D3: K1 | F3: O18ac | G3: G2 | H3: =COUNTIF('T5-Database metdata'!A$116:A$125,'T7-SSI isolate results'!#REF!) -> 0 | I3: K1 | J3: NA | K3: Confirmed DB pheno | L3: None, confirmed | N3: K?: | O3: Positive precipitate with Cetavlon which can be a result of a sour O antigen and cross reactions between sour O and K antigens. Negative with known K antigens.
A4: ERR4037371 | B4: 1 | C4: O 13 | D4: K1 | F4: O129,O13,O135 | G4: G2 | H4: =COUNTIF('T5-Database metdata'!A$116:A$125,'T7-SSI isolate results'!#REF!) -> 0 | I4: K1 | J4: NA | K4: Confirmed DB pheno | L4: None, confirmed | N4: K-: | O4: No reactions with Cetavlon. No capsuel K antigen. Strain with neutral O antigen with cross reaction to a sour O antigen
A5: ERR4036950 | B5: 1 | C5: O 1 | D5: K1 | F5: O1 | G5: G2 | H5: =COUNTIF('T5-Database metdata'!A$116:A$125,'T7-SSI isolate results'!#REF!) -> 0 | I5: K1 | J5: NA | K5: Confirmed DB pheno | L5: None, confirmed
A6: ERZ24124150 | B6: 1 | C6: O 23 | D6: K10 | F6: O23 | G6: G3-A | H6: =COUNTIF('T5-Database metdata'!A$116:A$125,'T7-SSI isolate results'!#REF!) -> 0 | I6: K10 | J6: NA | K6: Confirmed DB pheno | L6: None, confirmed | N6: Oru: | O6: O antigen can´t be detected. Self-agglutinating and O antigen is "rough"
A7: ERZ24115405 | B7: 1 | C7: O101 | D7: K10 | F7: O25 | G7: G3-A | H7: =COUNTIF('T5-Database metdata'!A$116:A$125,'T7-SSI isolate results'!#REF!) -> 0 | I7: K10 | J7: NA | K7: Confirmed DB pheno | L7: None, confirmed | N7: O?: | O7: Strain is "smooth". K capsule hides the O antigen and colonies with no K expression can´t be detected. Uncertain if O antigen can be detected.
A8: ERZ24121232 | B8: 2 | C8: O 16() | D8: K100 | E8: Weak reaction in O16 | F8: O16 | G8: G2 | H8: =COUNTIF('T5-Database metdata'!A$116:A$125,'T7-SSI isolate results'!#REF!) -> 0 | I8: K100 | J8: NA | K8: Confirmed DB pheno | L8: None, confirmed | N8: O+: | O8: Strain is "smooth". K capsule hides the O antigen and colonies with no K expression can be detected. O antigen can´t be detected
A9: ERZ24118430 | B9: 1 | C9: O 25 | D9: K100 | F9: O25 | G9: G2 | H9: =COUNTIF('T5-Database metdata'!A$116:A$125,'T7-SSI isolate results'!#REF!) -> 0 | I9: K100 | J9: NA | K9: Confirmed DB pheno | L9: None, confirmed
A10: ERZ24118400 | B10: 1 | C10: O 16 | D10: K100 | F10: O16 | G10: G2 | H10: =COUNTIF('T5-Database metdata'!A$116:A$125,'T7-SSI isolate results'!#REF!) -> 0 | I10: K100 | J10: NA | K10: Confirmed DB pheno | L10: None, confirmed
A11: ERZ24117724 | B11: 1 | C11: O 16() | D11: K- | E11: Blue (not fermenting lactose), weak reaction in O16, Negative in K100 | F11: O16 | G11: G2 | H11: =COUNTIF('T5-Database metdata'!A$116:A$125,'T7-SSI isolate results'!#REF!) -> 0 | I11: K100 | J11: K- but has kps locus | K11: Discordant, G1/4 or K negative but kps locus present | L11: None, confirmed in other isolates
A12: ERR4034338 | B12: 1 | C12: O 13 | D12: K- | E12: Negative in K100 | F12: O129,O13,O135 | G12: G2 | H12: =COUNTIF('T5-Database metdata'!A$116:A$125,'T7-SSI isolate results'!#REF!) -> 0 | I12: K100 | J12: K- but has kps locus | K12: Discordant, G1/4 or K negative but kps locus present | L12: None, confirmed in other isolates
A13: ERZ24123925 | B13: 1 | C13: O 77 | D13: K11 | F13: O17,O44,O77 | G13: G3-B | H13: =COUNTIF('T5-Database metdata'!A$116:A$125,'T7-SSI isolate results'!#REF!) -> 0 | I13: K11 | J13: NA | K13: Confirmed DB pheno | L13: None, confirmed
A14: ERZ24116845 | B14: 1 | C14: O 1 | D14: K+ | E14: Negative in K12 | F14: O1 | G14: G2 | H14: =COUNTIF('T5-Database metdata'!A$116:A$125,'T7-SSI isolate results'!#REF!) -> 0 | I14: K12 | J14: K positive, negative reaction with expected sera | K14: K postive but n=1 negative reaction with expected sera | L14: Further data needed
A15: ERZ24115694 | B15: 1 | C15: O 4 | D15: K12 | F15: O4 | G15: G2 | H15: =COUNTIF('T5-Database metdata'!A$116:A$125,'T7-SSI isolate results'!#REF!) -> 0 | I15: K12 | J15: NA | K15: Confirmed DB pheno | L15: None, confirmed
A16: ERZ24125580 | B16: 1 | C16: O120 | D16: K13 | E16: Sour O | F16: O120 | G16: G2 | H16: =COUNTIF('T5-Database metdata'!A$116:A$125,'T7-SSI isolate results'!#REF!) -> 0 | I16: K13_K23 | J16: NA | K16: Confirmed DB pheno | L16: None, confirmed
A17: ERZ24121497 | B17: 1 | C17: O 6 | D17: K23 | F17: O6 | G17: G2 | H17: =COUNTIF('T5-Database metdata'!A$116:A$125,'T7-SSI isolate results'!#REF!) -> 0 | I17: K13_K23 | J17: NA | K17: Confirmed DB pheno | L17: None, confirmed
A18: ERZ24120132 | B18: 1 | C18: O 22 | D18: K13 | F18: O22 | G18: G2 | H18: =COUNTIF('T5-Database metdata'!A$116:A$125,'T7-SSI isolate results'!#REF!) -> 0 | I18: K13_K23 | J18: NA | K18: Confirmed DB pheno | L18: None, confirmed
A19: ERZ24119257 | B19: 1 | C19: O 6 | D19: K23 | F19: O6 | G19: G2 | H19: =COUNTIF('T5-Database metdata'!A$116:A$125,'T7-SSI isolate results'!#REF!) -> 0 | I19: K13_K23 | J19: NA | K19: Confirmed DB pheno | L19: None, confirmed
A20: ERZ24118304 | B20: 1 | C20: O 6 | D20: K13 | F20: O6 | G20: G2 | H20: =COUNTIF('T5-Database metdata'!A$116:A$125,'T7-SSI isolate results'!#REF!) -> 0 | I20: K13_K23 | J20: NA | K20: Confirmed DB pheno | L20: None, confirmed
A21: ERZ24118881 | B21: 1 | C21: O rough | D21: K14 | F21: O2,O50 | G21: G2 | H21: =COUNTIF('T5-Database metdata'!A$116:A$125,'T7-SSI isolate results'!#REF!) -> 0 | I21: K14 | J21: NA | K21: Confirmed DB pheno | L21: None, confirmed
A22: ERZ24124600 | B22: 1 | C22: O 44 | D22: K15 | F22: O17,O44,O77 | G22: G2 | H22: =COUNTIF('T5-Database metdata'!A$116:A$125,'T7-SSI isolate results'!#REF!) -> 0 | I22: K15 | J22: NA | K22: Confirmed DB pheno | L22: None, confirmed
A23: ERZ24114336 | B23: 1 | C23: O rough | D23: K15 | G23: G2 | H23: =COUNTIF('T5-Database metdata'!A$116:A$125,'T7-SSI isolate results'!#REF!) -> 0 | I23: K15 | J23: NA | K23: Confirmed DB pheno | L23: None, confirmed
A24: ERZ24119709 | B24: 1 | C24: O 25 | D24: K16 | F24: O25 | G24: G2 | H24: =COUNTIF('T5-Database metdata'!A$116:A$125,'T7-SSI isolate results'!#REF!) -> 0 | I24: K16 | J24: NA | K24: Confirmed DB pheno | L24: None, confirmed
A25: ERZ24116316 | B25: 1 | C25: O 25 | D25: K- | F25: O25 | G25: G2 | H25: =COUNTIF('T5-Database metdata'!A$116:A$125,'T7-SSI isolate results'!#REF!) -> 0 | I25: K16 | J25: K- but has kps locus | K25: Discordant, G1/4 or K negative but kps locus present | L25: None, confirmed in other isolates
A26: ERZ24121890 | B26: 2 | C26: O153 | D26: K2 | F26: O153var1 | G26: G2 | H26: =COUNTIF('T5-Database metdata'!A$116:A$125,'T7-SSI isolate results'!#REF!) -> 0 | I26: K2 | J26: NA | K26: Confirmed DB pheno | L26: None, confirmed
A27: ERZ24120336 | B27: 1 | C27: O 6 | D27: K2 | F27: O6 | G27: G2 | H27: =COUNTIF('T5-Database metdata'!A$116:A$125,'T7-SSI isolate results'!#REF!) -> 0 | I27: K2 | J27: NA | K27: Confirmed DB pheno | L27: None, confirmed
A28: ERZ24120001 | B28: 1 | C28: O 25 | D28: K2 | F28: O25 | G28: G2 | H28: =COUNTIF('T5-Database metdata'!A$116:A$125,'T7-SSI isolate results'!#REF!) -> 0 | I28: K2 | J28: NA | K28: Confirmed DB pheno | L28: None, confirmed
A29: ERZ24117382 | B29: 1 | C29: O 6 | D29: K2 | F29: O6 | G29: G2 | H29: =COUNTIF('T5-Database metdata'!A$116:A$125,'T7-SSI isolate results'!#REF!) -> 0 | I29: K2 | J29: NA | K29: Confirmed DB pheno | L29: None, confirmed
A30: ERZ24114926 | B30: 1 | C30: O 6 | D30: K- | E30: Negative in K2 | F30: O6 | G30: G2 | H30: =COUNTIF('T5-Database metdata'!A$116:A$125,'T7-SSI isolate results'!#REF!) -> 0 | I30: K2 | J30: K- but has kps locus | K30: Discordant, G1/4 or K negative but kps locus present | L30: None, confirmed in other isolates
A31: ERZ24114667 | B31: 2 | C31: O 6 | D31: K2 | F31: O6 | G31: G2 | H31: =COUNTIF('T5-Database metdata'!A$116:A$125,'T7-SSI isolate results'!#REF!) -> 0 | I31: K2 | J31: NA | K31: Confirmed DB pheno | L31: None, confirmed
A32: ERZ24122022 | B32: 2 | C32: O 6 | D32: K2 | F32: O6 | G32: G2 | H32: =COUNTIF('T5-Database metdata'!A$116:A$125,'T7-SSI isolate results'!#REF!) -> 0 | I32: K2 | J32: NA | K32: Confirmed DB pheno | L32: None, confirmed
A33: ERZ24123170 | B33: 2 | C33: O 4 | D33: K2 | F33: O4 | G33: G2 | H33: =COUNTIF('T5-Database metdata'!A$116:A$125,'T7-SSI isolate results'!#REF!) -> 0 | I33: K2 | J33: NA | K33: Confirmed DB pheno | L33: None, confirmed
A34: ERZ24119113 | B34: 2 | C34: O 6 | D34: K2 | F34: O6 | G34: G2 | H34: =COUNTIF('T5-Database metdata'!A$116:A$125,'T7-SSI isolate results'!#REF!) -> 0 | I34: K2 | J34: NA | K34: Confirmed DB pheno | L34: None, confirmed
A35: ERR4035693 | B35: 1 | C35: O 6 | D35: K2 | F35: O6 | G35: G2 | H35: =COUNTIF('T5-Database metdata'!A$116:A$125,'T7-SSI isolate results'!#REF!) -> 0 | I35: K2 | J35: NA | K35: Confirmed DB pheno | L35: None, confirmed
A36: ERZ24117034 | B36: 1 | C36: O 21 | D36: K20 | F36: O21 | G36: G2 | H36: =COUNTIF('T5-Database metdata'!A$116:A$125,'T7-SSI isolate results'!#REF!) -> 0 | I36: K20 | J36: NA | K36: Confirmed DB pheno | L36: None, confirmed
A37: ERZ24118577 | B37: 1 | C37: O 18ac | D37: K6 | F37: O18 | G37: G2 | H37: =COUNTIF('T5-Database metdata'!A$116:A$125,'T7-SSI isolate results'!#REF!) -> 0 | I37: K24 | J37: Shares genes with KL14 | K37: Provided extra pheno | L37: Further data needed
A38: ERZ24125990 | B38: 1 | C38: O 18ac | D38: K6 | E38: Negative in K24 | F38: O18 | G38: G2 | H38: =COUNTIF('T5-Database metdata'!A$116:A$125,'T7-SSI isolate results'!#REF!) -> 0 | I38: K24 | J38: conflicting serotype iformation from SSI and published work MG739439 | K38: Provided extra pheno | L38: Added K6 to KL14_K24
A39: ERZ24113823 | B39: 3 | C39: O 25 | D39: K6 | F39: O25 | G39: G2 | H39: =COUNTIF('T5-Database metdata'!A$116:A$125,'T7-SSI isolate results'!#REF!) -> 0 | I39: K24 | J39: 3 reps | K39: Provided extra pheno | L39: Added K6 to KL14_K24
A40: ERR4037295 | B40: 2 | C40: O 83 | D40: K2 | E40: Sour O | F40: O83 | G40: G2 | H40: =COUNTIF('T5-Database metdata'!A$116:A$125,'T7-SSI isolate results'!#REF!) -> 0 | I40: K24 | J40: Discordant, only one gene shared with K2, one rep K? | K40: Discordant G2 pheno geno | L40: None, confirmed in other isolates
...

Sheet T8-CTX-M prop
A1: The proportion of isoaltes in each lineage seen in UK or Norwegian BSIs that are CTXf-M positive, used in the invasiveness model as a proxy for MDR
A4: Lineage | B4: CTX-M negative | C4: CTX-M positive | D4: Grand Total | E4: Proportion
A5: PP10_CC17 | B5: 2 | D5: 2 | E5: 0
A6: PP100_CC6701 | B6: 1 | D6: 1 | E6: 0
A7: PP102_CC973 | B7: 9 | D7: 9 | E7: 0
A8: PP105_CC636 | B8: 8 | D8: 8 | E8: 0
A9: PP106_CC126 | B9: 8 | D9: 8 | E9: 0
A10: PP108_CC1236 | B10: 6 | D10: 6 | E10: 0
A11: PP109_CC327 | B11: 2 | D11: 2 | E11: 0
A12: PP11_CC127 | B12: 189 | C12: 1 | D12: 190 | E12: 0.0052631579
A13: PP111_CC691 | B13: 1 | D13: 1 | E13: 0
A14: PP112_CC355 | B14: 6 | D14: 6 | E14: 0
A15: PP117_CC226 | B15: 1 | D15: 1 | E15: 0
A16: PP119_CC919 | B16: 7 | D16: 7 | E16: 0
A17: PP12_CC410 | B17: 112 | C17: 5 | D17: 117 | E17: 0.042735043
A18: PP120_CC706 | B18: 5 | D18: 5 | E18: 0
A19: PP121_CC452 | B19: 3 | D19: 3 | E19: 0
A20: PP127_CC847 | B20: 5 | D20: 5 | E20: 0
A21: PP128_CC1324 | B21: 2 | D21: 2 | E21: 0
A22: PP13_CC442 | B22: 1 | D22: 1 | E22: 0
A23: PP130_CC640 | B23: 5 | D23: 5 | E23: 0
A24: PP131_CC929 | B24: 9 | D24: 9 | E24: 0
A25: PP132_CC2015 | B25: 6 | D25: 6 | E25: 0
A26: PP133_CC1434 | B26: 1 | D26: 1 | E26: 0
A27: PP14_CC405 | B27: 53 | C27: 10 | D27: 63 | E27: 0.15873016
A28: PP141_CC6260 | B28: 1 | D28: 1 | E28: 0
A29: PP142_CC75 | B29: 3 | D29: 3 | E29: 0
A30: PP145_CC1170 | B30: 3 | C30: 1 | D30: 4 | E30: 0.25
A31: PP146_CC646 | B31: 3 | D31: 3 | E31: 0
A32: PP147_CC2178 | B32: 3 | D32: 3 | E32: 0
A33: PP149_CC224 | B33: 2 | D33: 2 | E33: 0
A34: PP15_CC648 | B34: 22 | C34: 8 | D34: 30 | E34: 0.26666667
A35: PP156_CC52 | B35: 1 | D35: 1 | E35: 0
A36: PP158_CC120 | B36: 1 | D36: 1 | E36: 0
A37: PP159_CC1851 | B37: 2 | D37: 2 | E37: 0
A38: PP16_CC38 | B38: 63 | C38: 17 | D38: 80 | E38: 0.2125
A39: PP161_CC999 | B39: 4 | D39: 4 | E39: 0
A40: PP162_CC108 | B40: 3 | D40: 3 | E40: 0
A41: PP163_CC1567 | B41: 2 | D41: 2 | E41: 0
A42: PP165_CC1643 | B42: 5 | D42: 5 | E42: 0
...

Sheet T9-661 data
A1: kpsF or kpsM(K11/K96) positive | C1: Country metadata for kpsF positive assembies in the 661K database
A2: SAMN03570444 | C2: Country | D2: Continent | E2: Assembly count | G2: Continent | H2: Count
A3: SAMN09384666 | C3: Brazil | D3: South America | E3: 64 | G3: Europe | H3: 2932
A4: SAMEA3981095 | C4: Argentina | D4: South America | E4: 16 | G4: North America | H4: 2784
A5: SAMEA3980760 | C5: Colombia | D5: South America | E5: 4 | G5: Asia | H5: 705
A6: SAMEA3981675 | C6: Bolivia | D6: South America | E6: 3 | G6: Oceania | H6: 323
A7: SAMN09207737 | C7: Peru | D7: South America | E7: 2 | G7: Africa | H7: 99
A8: SAMEA3981013 | C8: Ecuador | D8: South America | E8: 1 | G8: South America | H8: 91
A9: SAMEA78911668 | C9: Venezuela | D9: South America | E9: 1 | G9: Unknown | H9: 4689
A10: SAMN05567333 | C10: Australia | D10: Oceania | E10: 306 | G10: Total | H10: =SUM(H3:H9) -> 11623
A11: SAMN09233331 | C11: New Zealand | D11: Oceania | E11: 14
A12: SAMN09233332 | C12: Papua New Guinea | D12: Oceania | E12: 2
A13: SAMN07450629 | C13: Tonga | D13: Oceania | E13: 1
A14: SAMEA3981785 | C14: USA | D14: North America | E14: 2692
A15: SAMEA3980730 | C15: Canada | D15: North America | E15: 80
A16: SAMN10221644 | C16: Mexico | D16: North America | E16: 8
A17: SAMD00053189 | C17: Dominican Republic | D17: North America | E17: 2
A18: SAMEA3981783 | C18: Guatemala | D18: North America | E18: 2
A19: SAMN03495971 | C19: United Kingdom | D19: Europe | E19: 1629
A20: SAMEA104146888 | C20: Netherlands | D20: Europe | E20: 481
A21: SAMEA104146891 | C21: Germany | D21: Europe | E21: 285
A22: SAMN05171909 | C22: Denmark | D22: Europe | E22: 219
... A72: SAMEA3980849 | C72: Unknown | D72: Unknown | E72: 4689
A73: SAMEA3980803 | D73: Total | E73: =SUM(E3:E72) -> 11623
A74: SAMEA3980790
A75: SAMEA3982165
A76: SAMN06036107
A77: SAMEA4061505
A78: SAMEA3981706
A79: SAMEA3981745
A80: SAMN04992978
A81: SAMN03358856
A82: SAMN04881305
A83: SAMEA4470351
A84: SAMEA4061368
A85: SAMEA4061413
... A12571: SAMEA3304811

Sheet T10-KL lookup table
A1: For kaptive runs using the database V1 or V2 downloaded before 6/11/25 the KL names had been update to reflect the phenotypes, or KL110+
A2: V1 and V2 KL names | B2: V3 KL names
A3: KL10 | B3: KL7
A4: KL103 | B4: KL138
A5: KL105 | B5: KL142
A6: KL11 | B6: KL52
A7: KL110 | B7: KL149
A8: KL111 | B8: KL148
A9: KL112 | B9: KL121
A10: KL113 | B10: KL147
A11: KL12 | B11: KL82
A12: KL126 | B12: KL114
A13: KL13 | B13: KL110
... A92: KL98 | B92: KL137

Sheet T11-Database history
A1: Date | B1: K-locus | C1: Action | D1: Reason
A2: 45755 | B2: KL137_v1v2 | C2: removed from database | D2: Frequent mistyping of KL14 as KL137_v1v2. KL137_v1 differed from KL14 by a disrupted vatD. This can be captured with Kaptive logic once any phenotypic difference is known making inclusion in the database redundant.
A3: 45755 | B3: KL114_v1v2 | C3: removed from database | D3: Frequent mistyping of KL2 as KL114_v1v2. KL114_v1 group97 is an allele of kslC that was not clustered with kslC due to a disrupted mosaic of kslC and group97 in KL53_v1v2.
A4: 45755 | B4: KL53_v1v2 | C4: removed from database | D4: Frequent mistyping of KL2 as KL53_v1v2. KL53_v1 differs from KL2 by a disrupted kslC/group97 gene. This can be captured with Kaptive logic once any phenotypic difference is known making inclusion in the database redundant.
A5: 45755 | B5: KL140_v1v2 | C5: removed from database | D5: Frequent mistyping of KL7 as KL140_v1v2. KL140_v1 differs from KL7 due to a disrupted rffE gene. This can be captured with Kaptive logic once any phenotypic difference is known making inclusion in the database redundant.
A6: 45755 | B6: KL189_v1v2 | C6: removed from database | D6: Frequent mistyping of KL52 as KL189_v1v2. KL189_v1 was only observed once in a low-quality assembly which could have misassemblies, it has an insertion of two genes and kpsT is split. As it has not been seen in other isolates and is interferring with correctly tying the common KL7 it has been removed.
A7: 45755 | B7: KL37_v1v2 | C7: removed from database | D7: Frequent mistyping of KL7 as KL37_v1v2. KL37_v1 differs from KL7 due to a disrupted group195 gene. This can be captured with Kaptive logic once any phenotypic difference is known making inclusion in the database redundant.
A8: 45755 | B8: KL89_v1v2 | C8: removed from database | D8: Frequent mistyping of KL7 as KL89_v1v2. KL89_v1 differed from KL7 by an IS and a truncation of group30 gene. This can be captured with Kaptive logic once any phenotypic difference is known making inclusion in the database redundant.
A9: 45755 | B9: KL18_v1v2 | C9: removed from database | D9: Frequent mistyping of KL2 as KL18_v1v2. KL18_v1 differed from KL2 by disruption of the kslD gene. Both KL2 and KL18_v1 phenotype as K2. If any subsequenct phenotypic difference is discovered it can be included with Kaptive logic making inclusion in the database redundant.
A10: 45755 | B10: KL87_v1v2 | C10: removed from database | D10: Frequent mistyping of KL12 as KL87_v1v2. KL87_v1 differed from KL12 by a disruption of the group77 gene. This can be captured with Kaptive logic once any phenotypic difference is known making inclusion in the database redundant.
A11: 45755 | B11: KL107_v1v2 | C11: removed from database | D11: Frequent mistyping of KL4 as KL107_v1v2. KL107_v1 differs from KL4 by an IS element and a disruption of the kfoB gene. This can be captured with Kaptive logic once any phenotypic difference is known making inclusion in the database redundant.
A12: 45755 | B12: KL31_v1v2 | C12: phenotype removed | D12: Phenotype K74 was reported for 1 NCTC strain but K74 is not considered a K-antigen anymore.
A13: 45755 | B13: KL150 | C13: phenotype removed | D13: Phenotype K98 reported for 1 enterobase strain but KL27 is negative for K98. KL20 was confirmed to K98.
... A15: 45901 | B15: KL99_v1v2 | C15: removed from database | D15: Frequent mistyping of KL110 as KL99_v1v2. KL99_v1 differed from KL110 and KL169 by a duplication of group 154.
A16: 45954 | B16: KL7 | C16: KL10_v1v2->KL7 KL nomenclature changed to reflect phenotypes, with novel types starting from KL110.
A17: 45954 | B17: KL138 | C17: KL103_v1v2->KL138 KL nomenclature changed to reflect phenotypes, with novel types starting from KL110.
A18: 45954 | B18: KL142 | C18: KL105_v1v2->KL142 KL nomenclature changed to reflect phenotypes, with novel types starting from KL110.
A19: 45954 | B19: KL52 | C19: KL11_v1v2->KL52 KL nomenclature changed to reflect phenotypes, with novel types starting from KL110.
A20: 45954 | B20: KL149 | C20: KL110_v1v2->KL149 KL nomenclature changed to reflect phenotypes, with novel types starting from KL110.
A21: 45954 | B21: KL148 | C21: KL111_v1v2->KL148 KL nomenclature changed to reflect phenotypes, with novel types starting from KL110.
A22: 45954 | B22: KL121 | C22: KL112_v1v2->KL121 KL nomenclature changed to reflect phenotypes, with novel types starting from KL110.
A23: 45954 | B23: KL147 | C23: KL113_v1v2->KL147 KL nomenclature changed to reflect phenotypes, with novel types starting from KL110.
A24: 45954 | B24: KL82 | C24: KL12_v1v2->KL82 KL nomenclature changed to reflect phenotypes, with novel types starting from KL110.
A25: 45954 | B25: KL114 | C25: KL126_v1v2->KL114 KL nomenclature changed to reflect phenotypes, with novel types starting from KL110.
A26: 45954 | B26: KL110 | C26: KL13_v1v2->KL110 KL nomenclature changed to reflect phenotypes, with novel types starting from KL110.
A27: 45954 | B27: KL173 | C27: KL134_v1v2->KL173 KL nomenclature changed to reflect phenotypes, with novel types starting from KL110.
... A105: 45954 | B105: KL137 | C105: KL98_v1v2->KL137 KL nomenclature changed to reflect phenotypes, with novel types starting from KL110.

Sheet T12-K-locus insilico primers
A1: In-silico primers NOT VALIDATED FOR LABORATORY USE!
A2: Target | B2: Group | C2: Fwd | D2: Rvs | E2: max length
A3: kpsM to kpsF | B3: G2 | C3: ATGGCAAGAAGTGGATTTGAAGTCCAGAAAGT | D3: ATGTCTGAAAGACATTTACCTGATGACCAGAGC | E3: 30000
A4: kpsM to kpsF (alternative) | B4: G2 | C4: ATGGCAAGAAGTGGATTTGAAG | D4: ATGTCTGAAAGACATTTACCTGATGACC | E4: 30000
A5: kpsD to kpsS | B5: G3 | C5: GTGAAGATAACGAAT | D5: TTAGCGTTCGAGTTCGGAATC | E5: 30000
