Workbook
Name IS_pmoles: VLOOKUP('CoQ MQ DMQ rel to sum PE_PG '!$B1,'Lipid List'!$A$1:$D$100,4,FALSE)
Name IS_pmoles: VLOOKUP('Molar Amounts (pmole)'!$B1,'Lipid List'!$A$1:$D$100,4,FALSE)

Sheet Peak Areas from TraceFinder
B1: AK01_NDH2_1_Ecoli_pure_4_12 | C1: AK02_NDH2_2_Ecoli_pure_9_12 | D1: AK03_NDH2_3_Ecoli_pure_6_1 | E1: AK04_NDH2_1_Bsubtilis_mem_SEC | F1: AK05_NDH2_2_Bsubtilis_mem_SEC | G1: AK06_NDH2_3_Bsubtilis_mem_SEC | H1: AK10_1uL_Bsubtilis_mem_4L_1 | I1: AK11_1uL_Bsubtilis_mem_4L_2 | J1: AK12_1uL_E_coli_mem_2L_1 | K1: AK13_1uL_E_coli_mem_2L_2 | L1: ExtBlank01_20260224001056 | M1: ExtBlank02 | N1: ExtBlank03 | O1: ISExt01 | P1: ISExt02 | Q1: ISExt03 | R1: Menaquinone-7_1_nmol
A2: MQ-7; [M+H]+ | B2: 39715532 | C2: 25126911 | D2: 98386084 | E2: 4492856513 | F2: 6247172146 | G2: 3937777747 | H2: 15635469211 | I2: 13364497766 | J2: 1418260349 | K2: 823728118 | L2: N/F | M2: N/F | N2: 856374 | O2: 1815962 | P2: 426582 | Q2: N/F | R2: 3968029322
A3: CoQ6; [M+H]+ | B3: 22819074 | C3: 25737253 | D3: 16276813 | E3: 21904120 | F3: 21846424 | G3: 10289067 | H3: 2021202 | I3: 2623292 | J3: 484717642 | K3: 179099909 | L3: 2198673 | M3: 1550847 | N3: 1236104 | O3: 1727755 | P3: 1004214 | Q3: 1224420 | R3: 851027
A4: CoQ7; [M+H]+ | B4: 447742655 | C4: 515815814 | D4: 406116916 | E4: 514485782 | F4: 614646523 | G4: 292682460 | H4: 5909168 | I4: 9253366 | J4: 4115180666 | K4: 1495873496 | L4: 16111490 | M4: 19831723 | N4: 16295898 | O4: 19787186 | P4: 20437518 | Q4: 19445820 | R4: 14874031
A5: CoQ8; [M+H]+ | B5: 10121924137 | C5: 9281365024 | D5: 10250226630 | E5: 10957595008 | F5: 12839221608 | G5: 9388486717 | H5: 6405799 | I5: 8949299 | J5: 20965876131 | K5: 10837639163 | L5: 533545 | M5: 459894 | N5: 299940 | O5: 13491328 | P5: 9647446 | Q5: 9020331 | R5: 5420697
A6: CoQ9; [M+H]+ | B6: 89285433 | C6: 59346482 | D6: 72191124 | E6: 94623544 | F6: 128067549 | G6: 79276340 | H6: 214210 | I6: N/F | J6: 225447274 | K6: 103998064 | L6: 295253 | M6: 402730 | N6: 144697 | O6: 184092 | P6: N/F | Q6: N/F | R6: 339433
A7: CoQ10; [M+H]+ | B7: 4776337 | C7: 3964256 | D7: 4286426 | E7: 7629715 | F7: 5805232 | G7: 5107178 | H7: 7986968 | I7: 5923706 | J7: 5092126 | K7: 6616786 | L7: 5095374 | M7: 3913395 | N7: 4859017 | O7: 4091785 | P7: 3613293 | Q7: 4855636 | R7: 4171288
A8: PE 25:1; [M+H]+ | B8: 849363 | C8: 805915 | D8: 1118577 | E8: N/F | F8: N/F | G8: N/F | H8: N/F | I8: N/F | J8: 42378506 | K8: 13787102 | L8: N/F | M8: N/F | N8: N/F | O8: N/F | P8: N/F | Q8: N/F | R8: N/F
A9: PE 28:1; [M+H]+ | B9: 2476309 | C9: 887985 | D9: 4803197 | E9: N/F | F9: N/F | G9: N/F | H9: N/F | I9: N/F | J9: 119988226 | K9: 42096189 | L9: N/F | M9: N/F | N9: N/F | O9: N/F | P9: N/F | Q9: N/F | R9: N/F
A10: PE 29:0; [M+H]+ | B10: 5812920 | C10: 3534832 | D10: 4164168 | E10: N/F | F10: 1054994 | G10: 348814 | H10: N/F | I10: N/F | J10: 785035252 | K10: 326046592 | L10: N/F | M10: N/F | N10: N/F | O10: N/F | P10: N/F | Q10: N/F | R10: N/F
A11: PE 30:0; [M+H]+ | B11: 168221300 | C11: 131688145 | D11: 131884076 | E11: 49988316 | F11: 88582322 | G11: 39579268 | H11: 10363366 | I11: 7967441 | J11: 37305483472 | K11: 27051151216 | L11: N/F | M11: N/F | N11: N/F | O11: 4340065 | P11: 5176918 | Q11: 6094971 | R11: 3688460
A12: PE 30:1; [M+H]+ | B12: 30293037 | C12: 22496577 | D12: 35841399 | E12: 2603468 | F12: 8971634 | G12: 7552637 | H12: N/F | I12: N/F | J12: 354411065 | K12: 134694993 | L12: N/F | M12: N/F | N12: N/F | O12: N/F | P12: N/F | Q12: N/F | R12: N/F
A13: PE 30:2; [M+H]+ | B13: 875089 | C13: 699024 | D13: 3947761 | E13: N/F | F13: N/F | G13: N/F | H13: N/F | I13: N/F | J13: 10535109 | K13: 2115770 | L13: N/F | M13: N/F | N13: N/F | O13: N/F | P13: N/F | Q13: N/F | R13: N/F
A14: PE 31:0; [M+H]+ | B14: 16487512 | C14: 9904965 | D14: 13487723 | E14: 4762145 | F14: 6967702 | G14: 4294717 | H14: 742405 | I14: 937502 | J14: 2313092297 | K14: 1179293063 | L14: N/F | M14: N/F | N14: N/F | O14: N/F | P14: N/F | Q14: N/F | R14: N/F
A15: PE 31:1; [M+H]+ | B15: 173861214 | C15: 130438722 | D15: 138444579 | E15: 59446822 | F15: 88566811 | G15: 42047699 | H15: 15840834 | I15: 16139176 | J15: 13295839047 | K15: 4501613516 | L15: N/F | M15: N/F | N15: N/F | O15: 384844 | P15: 378178 | Q15: 653017 | R15: 505301
A16: PE 31:2; [M+H]+ | B16: 5990181 | C16: 4015449 | D16: 13443218 | E16: N/F | F16: N/F | G16: 1910435 | H16: N/F | I16: N/F | J16: 226285228 | K16: 88262380 | L16: N/F | M16: N/F | N16: N/F | O16: N/F | P16: N/F | Q16: N/F | R16: N/F
A17: PE 32:0; [M+H]+ | B17: 76354553 | C17: 59955333 | D17: 71196736 | E17: 29908881 | F17: 49373413 | G17: 24360065 | H17: 2181623 | I17: 1949829 | J17: 15189945889 | K17: 15008474494 | L17: N/F | M17: N/F | N17: N/F | O17: 2143245 | P17: 3158590 | Q17: 3427075 | R17: 1880881
A18: PE 32:1; [M+H]+ | B18: 208361725 | C18: 161697568 | D18: 298507509 | E18: 93158407 | F18: 152637875 | G18: 112541518 | H18: 3984310 | I18: 5748643 | J18: 2167235036 | K18: 1229150670 | L18: N/F | M18: N/F | N18: N/F | O18: 131842 | P18: 170504 | Q18: 79082 | R18: 63682
A19: PE 32:2; [M+H]+ | B19: 28340649 | C19: 23097945 | D19: 29342122 | E19: 9440588 | F19: 15785292 | G19: 9854062 | H19: N/F | I19: N/F | J19: 8702534 | K19: 2344775 | L19: N/F | M19: N/F | N19: N/F | O19: N/F | P19: N/F | Q19: N/F | R19: N/F
A20: PE 33:0; [M+H]+ | B20: 4790575 | C20: 2560502 | D20: 5187820 | E20: 6364755 | F20: 10201831 | G20: 4155611 | H20: 163296076 | I20: 192681504 | J20: 256033630 | K20: 245458331 | L20: N/F | M20: N/F | N20: N/F | O20: N/F | P20: N/F | Q20: N/F | R20: N/F
A21: PE 33:1; [M+H]+ | B21: 4930792217 | C21: 3588546081 | D21: 3859138042 | E21: 1739331102 | F21: 2775677100 | G21: 1171454131 | H21: 14164592 | I21: 8363396 | J21: 69200748279 | K21: 48003344625 | L21: N/F | M21: N/F | N21: N/F | O21: 16632977 | P21: 23959653 | Q21: 27465579 | R21: 15850044
A22: PE 33:2; [M+H]+ | B22: 23454576 | C22: 15827085 | D22: 23625312 | E22: 9992987 | F22: 13685472 | G22: 7769077 | H22: N/F | I22: N/F | J22: 130713284 | K22: 30926001 | L22: N/F | M22: N/F | N22: N/F | O22: N/F | P22: N/F | Q22: N/F | R22: N/F
A23: PE 34:1; [M+H]+ | B23: 2691585370 | C23: 2233881074 | D23: 3037638583 | E23: 951524254 | F23: 1654573414 | G23: 923453591 | H23: 5899948 | I23: 5580805 | J23: 13140931362 | K23: 4803726382 | L23: 1351434 | M23: 1500415 | N23: 1277153 | O23: 2040329 | P23: 3083609 | Q23: 3228229 | R23: 1936896
A24: PE 34:2; [M+H]+ | B24: 1262965725 | C24: 837194295 | D24: 1174076334 | E24: 538903318 | F24: 759222681 | G24: 417809192 | H24: N/F | I24: N/F | J24: 11605905879 | K24: 3975219646 | L24: N/F | M24: 29101 | N24: 32110 | O24: 726645 | P24: 427845 | Q24: 768899 | R24: 378046
A25: PE 35:1; [M+H]+ | B25: 2301541770 | C25: 1549795645 | D25: 1566551119 | E25: 1106187298 | F25: 1416752119 | G25: 542861702 | H25: 5848299 | I25: 8564201 | J25: 46762936554 | K25: 31868642905 | L25: 803283 | M25: 803485 | N25: 720545 | O25: 11477324 | P25: 15337043 | Q25: 17683003 | R25: 11022309
A26: PE 35:2; [M+H]+ | B26: 4931624175 | C26: 3949299153 | D26: 5598802402 | E26: 2586101652 | F26: 3522315726 | G26: 2074847567 | H26: N/F | I26: N/F | J26: 6960258875 | K26: 2669676214 | L26: N/F | M26: N/F | N26: 225034 | O26: N/F | P26: N/F | Q26: N/F | R26: N/F
A27: PE 36:1; [M+H]+ | B27: 199823263 | C27: 153371863 | D27: 248600947 | E27: 103071758 | F27: 158873384 | G27: 105860984 | H27: N/F | I27: N/F | J27: 2222022515 | K27: 895216192 | L27: N/F | M27: N/F | N27: N/F | O27: N/F | P27: N/F | Q27: 348572 | R27: N/F
A28: PE 36:2; [M+H]+ | B28: 3222244636 | C28: 2515098806 | D28: 4188326220 | E28: 1220494917 | F28: 2140258032 | G28: 1481010080 | H28: 10651084 | I28: 11875886 | J28: 684044499 | K28: 234610533 | L28: 3288676 | M28: 4190091 | N28: 3967575 | O28: 4329366 | P28: 5228966 | Q28: 6407806 | R28: 3786994
A29: PE 36:3; [M+H]+ | B29: 91238101 | C29: 69725863 | D29: 156598291 | E29: 33929279 | F29: 60564488 | G29: 53825939 | H29: N/F | I29: N/F | J29: 1968054 | K29: N/F | L29: N/F | M29: N/F | N29: N/F | O29: N/F | P29: N/F | Q29: N/F | R29: N/F
A30: PE 37:1; [M+H]+ | B30: 64307418 | C30: 45301911 | D30: 55959389 | E30: 49598861 | F30: 64511994 | G30: 42772290 | H30: N/F | I30: 316757 | J30: 5687108607 | K30: 2941925623 | L30: N/F | M30: N/F | N30: 263526 | O30: 644447 | P30: 978439 | Q30: 968861 | R30: 523935
A31: PE 37:2; [M+H]+ | B31: 2140313889 | C31: 1471888098 | D31: 1717836985 | E31: 1000330018 | F31: 1349304318 | G31: 614500499 | H31: 2144297 | I31: 1234418 | J31: 7481095545 | K31: 3420345304 | L31: 827951 | M31: 897793 | N31: 909863 | O31: 1577715 | P31: 1661378 | Q31: 1675014 | R31: 1463526
A32: PE 37:3; [M+H]+ | B32: 13475484 | C32: 2429022 | D32: 12966431 | E32: 3766101 | F32: 11605692 | G32: 1587000 | H32: N/F | I32: N/F | J32: 6108293 | K32: 5975175 | L32: N/F | M32: N/F | N32: N/F | O32: N/F | P32: N/F | Q32: N/F | R32: N/F
A33: PE 38:2; [M+H]+ | B33: 142129016 | C33: 76806428 | D33: 66231783 | E33: 85257540 | F33: 82366616 | G33: 32060439 | H33: 213003 | I33: 536005 | J33: 18596142878 | K33: 11288327091 | L33: 113191 | M33: 39917 | N33: 45086 | O33: 1366281 | P33: 2772487 | Q33: 3189768 | R33: 2222596
A34: PE 38:3; [M+H]+ | B34: 697494 | C34: 358546 | D34: 497954 | E34: 1096924 | F34: 875042 | G34: N/F | H34: N/F | I34: N/F | J34: 12302609 | K34: 4091217 | L34: N/F | M34: N/F | N34: N/F | O34: N/F | P34: N/F | Q34: N/F | R34: N/F
A35: PG 29:0; [M+NH4]+ | B35: N/F | C35: N/F | D35: N/F | E35: 35680276 | F35: 34693980 | G35: 19645734 | H35: 151250823 | I35: 66171438 | J35: N/F | K35: N/F | L35: N/F | M35: N/F | N35: N/F | O35: N/F | P35: N/F | Q35: N/F | R35: N/F
A36: PG 30:0; [M+NH4]+ | B36: N/F | C36: N/F | D36: N/F | E36: 523028448 | F36: 514688145 | G36: 281182764 | H36: 2596692086 | I36: 1206373240 | J36: N/F | K36: N/F | L36: N/F | M36: N/F | N36: N/F | O36: N/F | P36: N/F | Q36: N/F | R36: N/F
A37: PG 31:0; [M+NH4]+ | B37: N/F | C37: N/F | D37: N/F | E37: 289827020 | F37: 280252601 | G37: 155855609 | H37: 1788350284 | I37: 785947203 | J37: N/F | K37: N/F | L37: N/F | M37: N/F | N37: N/F | O37: N/F | P37: N/F | Q37: N/F | R37: N/F
A38: PG 32:0; [M+NH4]+ | B38: N/F | C38: N/F | D38: N/F | E38: 665420787 | F38: 645062816 | G38: 339922219 | H38: 4431692591 | I38: 2298122738 | J38: N/F | K38: N/F | L38: N/F | M38: N/F | N38: N/F | O38: N/F | P38: N/F | Q38: N/F | R38: N/F
A39: PG 32:1; [M+NH4]+ | B39: 40960265 | C39: 30125399 | D39: 34153759 | E39: 20850570 | F39: 22142538 | G39: 12258513 | H39: N/F | I39: N/F | J39: 114708197 | K39: 42576243 | L39: N/F | M39: N/F | N39: N/F | O39: N/F | P39: N/F | Q39: N/F | R39: N/F
A40: PG 33:1; [M+NH4]+ | B40: 230381343 | C40: 155861120 | D40: 142499794 | E40: 165303812 | F40: 138726702 | G40: 73668292 | H40: N/F | I40: N/F | J40: 7969730497 | K40: 3180377993 | L40: N/F | M40: N/F | N40: N/F | O40: N/F | P40: N/F | Q40: N/F | R40: N/F
A41: PG 33:2; [M+NH4]+ | B41: 16856252 | C41: 11641307 | D41: 18561246 | E41: 6648677 | F41: 8598570 | G41: 6854315 | H41: N/F | I41: N/F | J41: 29236543 | K41: 10337927 | L41: N/F | M41: N/F | N41: N/F | O41: N/F | P41: N/F | Q41: N/F | R41: N/F
A42: PG 34:1; [M+NH4]+ | B42: 323710277 | C42: 245552745 | D42: 227556217 | E42: 188446007 | F42: 199881520 | G42: 106952356 | H42: N/F | I42: N/F | J42: 317706638 | K42: 103101016 | L42: N/F | M42: N/F | N42: N/F | O42: N/F | P42: N/F | Q42: N/F | R42: N/F
A43: PG 34:2; [M+NH4]+ | B43: 506548352 | C43: 478002708 | D43: 537924250 | E43: 550782837 | F43: 413392359 | G43: 443800810 | H43: 192543641 | I43: 209954961 | J43: 205150965 | K43: 451693415 | L43: N/F | M43: N/F | N43: N/F | O43: 623170936 | P43: 798026254 | Q43: 758713081 | R43: 459155839
A44: PG 35:1; [M+NH4]+ | B44: 244645663 | C44: 146561969 | D44: 113696332 | E44: 167882926 | F44: 136068709 | G44: 59094547 | H44: N/F | I44: N/F | J44: 7490231706 | K44: 3098175790 | L44: N/F | M44: N/F | N44: N/F | O44: N/F | P44: N/F | Q44: N/F | R44: N/F
A45: PG 35:2; [M+NH4]+ | B45: 324878414 | C45: 234969108 | D45: 283043905 | E45: 234045597 | F45: 220324238 | G45: 144099592 | H45: N/F | I45: N/F | J45: 90019856 | K45: 29691624 | L45: N/F | M45: N/F | N45: N/F | O45: N/F | P45: N/F | Q45: N/F | R45: N/F
A46: PG 36:1; [M+NH4]+ | B46: 37376357 | C46: 25017609 | D46: 32724789 | E46: 26160831 | F46: 24081947 | G46: 15121961 | H46: 1335336 | I46: 3221964 | J46: 101097008 | K46: 30838609 | L46: N/F | M46: N/F | N46: N/F | O46: N/F | P46: N/F | Q46: N/F | R46: N/F
A47: PG 36:2; [M+NH4]+ | B47: 524205075 | C47: 431475611 | D47: 465947745 | E47: 344828752 | F47: 367558122 | G47: 237120500 | H47: N/F | I47: N/F | J47: N/F | K47: 6000966 | L47: N/F | M47: N/F | N47: N/F | O47: N/F | P47: N/F | Q47: N/F | R47: N/F
A48: PG 36:3; [M+NH4]+ | B48: 27162855 | C48: 22529213 | D48: 33570634 | E48: 18448574 | F48: 20320246 | G48: 15737903 | H48: N/F | I48: N/F | J48: N/F | K48: N/F | L48: N/F | M48: N/F | N48: N/F | O48: N/F | P48: N/F | Q48: N/F | R48: N/F
A49: PG 37:2; [M+NH4]+ | B49: 310288282 | C49: 210544281 | D49: 177361756 | E49: 255602601 | F49: 195649394 | G49: 93734130 | H49: N/F | I49: N/F | J49: 167560632 | K49: 51541012 | L49: N/F | M49: N/F | N49: N/F | O49: N/F | P49: N/F | Q49: N/F | R49: N/F
A50: PG 38:2; [M+NH4]+ | B50: 20564772 | C50: 7873146 | D50: 7241613 | E50: 17923071 | F50: 8831976 | G50: 3920163 | H50: N/F | I50: N/F | J50: 693766696 | K50: 403956295 | L50: N/F | M50: N/F | N50: N/F | O50: N/F | P50: N/F | Q50: N/F | R50: N/F
A51: MQ-8; [M+H]+ | B51: 1610266603 | C51: 854296550 | D51: 726517340 | E51: 1278436942 | F51: 1492762210 | G51: 619526157 | H51: 506107959 | I51: 453935714 | J51: 8672797472 | K51: 6668160774 | L51: N/F | M51: N/F | N51: 125845 | O51: 1449007 | P51: 1393296 | Q51: 2179380 | R51: 5936480
A52: MQ-8; [M+NH4]+ | B52: 1813811358 | C52: 942251312 | D52: 798529368 | E52: 1399048175 | F52: 1656045794 | G52: 698890905 | H52: 564963901 | I52: 500104805 | J52: 9372255459 | K52: 7247107279 | L52: N/F | M52: N/F | N52: N/F | O52: 1699712 | P52: 1404239 | Q52: 1900990 | R52: 6755941
A53: MQ-9; [M+H]+ | B53: 4693773 | C53: 3156522 | D53: 1797896 | E53: 4079924 | F53: 3949098 | G53: 1726637 | H53: N/F | I53: N/F | J53: 23807342 | K53: 21913885 | L53: N/F | M53: N/F | N53: N/F | O53: N/F | P53: N/F | Q53: N/F | R53: N/F
A54: MQ-9; [M+NH4]+ | B54: 8312007 | C54: 3828367 | D54: 2562859 | E54: 6775157 | F54: 6038814 | G54: 2866862 | H54: N/F | I54: N/F | J54: 37871849 | K54: 29155948 | L54: N/F | M54: N/F | N54: N/F | O54: N/F | P54: N/F | Q54: N/F | R54: N/F
A55: DMQ-7; [M+NH4]+ | B55: N/F | C55: N/F | D55: 1038655 | E55: 94131593 | F55: 131117175 | G55: 83020252 | H55: 323285251 | I55: 278579227 | J55: 26063561 | K55: 18766508 | L55: N/F | M55: N/F | N55: N/F | O55: N/F | P55: N/F | Q55: N/F | R55: 81539567
A56: DMQ-8; [M+H]+ | B56: 1639010956 | C56: 830290654 | D56: 764286793 | E56: 757192443 | F56: 982154920 | G56: 428674412 | H56: N/F | I56: N/F | J56: 230336710 | K56: 114729613 | L56: N/F | M56: N/F | N56: 372932 | O56: 583718 | P56: N/F | Q56: N/F | R56: 210370
A57: DMQ-8; [M+NH4]+ | B57: 3820807348 | C57: 1894565781 | D57: 1790132031 | E57: 1774512448 | F57: 2339345579 | G57: 964651499 | H57: 15595365 | I57: 13209761 | J57: 514446404 | K57: 273295577 | L57: N/F | M57: N/F | N57: N/F | O57: 781933 | P57: 411603 | Q57: 239714 | R57: 217773
A58: DMQ-9; [M+H]+ | B58: N/F | C58: N/F | D58: N/F | E58: N/F | F58: N/F | G58: N/F | H58: N/F | I58: N/F | J58: N/F | K58: N/F | L58: N/F | M58: N/F | N58: N/F | O58: N/F | P58: 460187 | Q58: N/F | R58: N/F
A59: DMQ-9; [M+NH]+ | B59: 17550353 | C59: 9369330 | D59: 6917955 | E59: 10734338 | F59: 10857314 | G59: 4885112 | H59: N/F | I59: N/F | J59: 923655 | K59: 734648 | L59: N/F | M59: N/F | N59: N/F | O59: N/F | P59: N/F | Q59: N/F | R59: N/F
A60: PG 33:1(d7); [M+NH4]+ | B60: 257568765 | C60: 239130537 | D60: 285174056 | E60: 437568841 | F60: 281212753 | G60: 261927989 | H60: 278257290 | I60: 287598714 | J60: 357766137 | K60: 501188631 | L60: N/F | M60: N/F | N60: N/F | O60: 322302808 | P60: 463095087 | Q60: 424556060 | R60: 224522099
A61: MQ-7(d7); [M+H]+ | B61: 4445401643 | C61: 3547877317 | D61: 4818511111 | E61: 4547561865 | F61: 4020072308 | G61: 4292388969 | H61: 2342759476 | I61: 2029815703 | J61: 3261111064 | K61: 6053185050 | L61: 3003747 | M61: 3103778 | N61: 269679 | O61: 4686802963 | P61: 4173320305 | Q61: 5353030902 | R61: 3197776121
A62: PE 33:1(d7); [M+H]+ | B62: 1417649036 | C62: 1313271547 | D62: 1737671668 | E62: 1317742069 | F62: 1320397863 | G62: 977168956 | H62: 1474678970 | I62: 1766561915 | J62: 1938174609 | K62: 3267993835 | L62: N/F | M62: N/F | N62: N/F | O62: 1245595068 | P62: 1943331509 | Q62: 2240447147 | R62: 1196870649
A63: MQ-7(d7); [M+N4H]+ | B63: 3191396401 | C63: 2540093548 | D63: 3490257289 | E63: 3179284980 | F63: 2787250294 | G63: 3044912695 | H63: 1654157681 | I63: 1493280162 | J63: 2354680482 | K63: 4402218572 | L63: N/F | M63: N/F | N63: N/F | O63: 3323660215 | P63: 3017040554 | Q63: 3867475511 | R63: 2273047459
A64: MQ-7; [M+NH4]+ | B64: 29987257 | C64: 20042373 | D64: 73008997 | E64: 3322245742 | F64: 4647702013 | G64: 2876235350 | H64: 11228665317 | I64: 10189446213 | J64: 1085594427 | K64: 607547265 | L64: N/F | M64: N/F | N64: 604184 | O64: 363143 | P64: N/F | Q64: N/F | R64: 2954357161

Sheet Lipid List
A1: Lipid | B1: Internal Standard | C1: Class | D1: Internal Standard pmolar amount | H1: MW (ng/nmol) | I1: m (ng) | J1: n (nmoles) | K1: n (pmoles)
A2: MQ-7; [M+H]+ | B2: MQ-7(d7); [M+H]+ | C2: MQ | D2: =VLOOKUP($B2,$G$1:$K$15,5,FALSE) -> 152.42538 | G2: PG 33:1(d7); [M+NH4]+ | H2: 764.01724 | I2: 100 | J2: =I2/H2 -> 0.1308871 | K2: =1000*J2 -> 130.8871
A3: CoQ6; [M+H]+ | B3: MQ-7(d7); [M+H]+ | C3: CoQ | D3: =VLOOKUP($B3,$G$1:$K$15,5,FALSE) -> 152.42538 | G3: MQ-7(d7); [M+H]+ | H3: 656.05871 | I3: 100 | J3: =I3/H3 -> 0.15242538 | K3: =1000*J3 -> 152.42538
A4: CoQ7; [M+H]+ | B4: MQ-7(d7); [M+H]+ | C4: CoQ | D4: =VLOOKUP($B4,$G$1:$K$15,5,FALSE) -> 152.42538 | G4: PE 33:1(d7); [M+H]+ | H4: 711.02547 | I4: 100 | J4: =I4/H4 -> 0.14064194 | K4: =1000*J4 -> 140.64194
A5: CoQ8; [M+H]+ | B5: MQ-7(d7); [M+H]+ | C5: CoQ | D5: =VLOOKUP($B5,$G$1:$K$15,5,FALSE) -> 152.42538 | G5: MQ-7(d7); [M+N4H]+ | H5: 656.05871 | I5: 100 | J5: =I5/H5 -> 0.15242538 | K5: =1000*J5 -> 152.42538
A6: CoQ9; [M+H]+ | B6: MQ-7(d7); [M+H]+ | C6: CoQ | D6: =VLOOKUP($B6,$G$1:$K$15,5,FALSE) -> 152.42538
A7: CoQ10; [M+H]+ | B7: MQ-7(d7); [M+H]+ | C7: CoQ | D7: =VLOOKUP($B7,$G$1:$K$15,5,FALSE) -> 152.42538
A8: PE 25:1; [M+H]+ | B8: PE 33:1(d7); [M+H]+ | C8: PE | D8: =VLOOKUP($B8,$G$1:$K$15,5,FALSE) -> 140.64194
A9: PE 28:1; [M+H]+ | B9: PE 33:1(d7); [M+H]+ | C9: PE | D9: =VLOOKUP($B9,$G$1:$K$15,5,FALSE) -> 140.64194
A10: PE 29:0; [M+H]+ | B10: PE 33:1(d7); [M+H]+ | C10: PE | D10: =VLOOKUP($B10,$G$1:$K$15,5,FALSE) -> 140.64194
A11: PE 30:0; [M+H]+ | B11: PE 33:1(d7); [M+H]+ | C11: PE | D11: =VLOOKUP($B11,$G$1:$K$15,5,FALSE) -> 140.64194
A12: PE 30:1; [M+H]+ | B12: PE 33:1(d7); [M+H]+ | C12: PE | D12: =VLOOKUP($B12,$G$1:$K$15,5,FALSE) -> 140.64194
A13: PE 30:2; [M+H]+ | B13: PE 33:1(d7); [M+H]+ | C13: PE | D13: =VLOOKUP($B13,$G$1:$K$15,5,FALSE) -> 140.64194
A14: PE 31:0; [M+H]+ | B14: PE 33:1(d7); [M+H]+ | C14: PE | D14: =VLOOKUP($B14,$G$1:$K$15,5,FALSE) -> 140.64194
A15: PE 31:1; [M+H]+ | B15: PE 33:1(d7); [M+H]+ | C15: PE | D15: =VLOOKUP($B15,$G$1:$K$15,5,FALSE) -> 140.64194
A16: PE 31:2; [M+H]+ | B16: PE 33:1(d7); [M+H]+ | C16: PE | D16: =VLOOKUP($B16,$G$1:$K$15,5,FALSE) -> 140.64194
A17: PE 32:0; [M+H]+ | B17: PE 33:1(d7); [M+H]+ | C17: PE | D17: =VLOOKUP($B17,$G$1:$K$15,5,FALSE) -> 140.64194
... A60: MQ-7; [M+NH4]+ | B60: MQ-7(d7); [M+N4H]+ | C60: MQ | D60: =VLOOKUP($B60,$G$1:$K$15,5,FALSE) -> 152.42538

Sheet Molar Amounts (pmole)
C1: AK01_NDH2_1_Ecoli_pure_4_12 | D1: AK02_NDH2_2_Ecoli_pure_9_12 | E1: AK03_NDH2_3_Ecoli_pure_6_1 | F1: AK04_NDH2_1_Bsubtilis_mem_SEC | G1: AK05_NDH2_2_Bsubtilis_mem_SEC | H1: AK06_NDH2_3_Bsubtilis_mem_SEC | I1: AK10_1uL_Bsubtilis_mem_4L_1 | J1: AK11_1uL_Bsubtilis_mem_4L_2 | K1: AK12_1uL_E_coli_mem_2L_1 | L1: AK13_1uL_E_coli_mem_2L_2
A2: =VLOOKUP($B2,'Lipid List'!$A$1:$D$100,3,FALSE) -> CoQ | B2: CoQ6; [M+H]+ | C2: =IS_pmoles*IFERROR(1*EndoPA,0)/IS_PA -> 0.78242786 | D2: =IS_pmoles*IFERROR(1*EndoPA,0)/IS_PA -> 1.1057346 | E2: =IS_pmoles*IFERROR(1*EndoPA,0)/IS_PA -> 0.51488923 | F2: =IS_pmoles*IFERROR(1*EndoPA,0)/IS_PA -> 0.73418328 | G2: =IS_pmoles*IFERROR(1*EndoPA,0)/IS_PA -> 0.82833076 | H2: =IS_pmoles*IFERROR(1*EndoPA,0)/IS_PA -> 0.36537112 | I2: =IS_pmoles*IFERROR(1*EndoPA,0)/IS_PA -> 0.13150411 | J2: =IS_pmoles*IFERROR(1*EndoPA,0)/IS_PA -> 0.19699142 | ... L2: =IS_pmoles*IFERROR(1*EndoPA,0)/IS_PA -> 4.5099187
A3: =VLOOKUP($B3,'Lipid List'!$A$1:$D$100,3,FALSE) -> CoQ | B3: CoQ7; [M+H]+ | C3: =IS_pmoles*IFERROR(1*EndoPA,0)/IS_PA -> 15.352346 | D3: =IS_pmoles*IFERROR(1*EndoPA,0)/IS_PA -> 22.160694 | E3: =IS_pmoles*IFERROR(1*EndoPA,0)/IS_PA -> 12.846816 | F3: =IS_pmoles*IFERROR(1*EndoPA,0)/IS_PA -> 17.244558 | G3: =IS_pmoles*IFERROR(1*EndoPA,0)/IS_PA -> 23.304987 | H3: =IS_pmoles*IFERROR(1*EndoPA,0)/IS_PA -> 10.393335 | I3: =IS_pmoles*IFERROR(1*EndoPA,0)/IS_PA -> 0.38446422 | J3: =IS_pmoles*IFERROR(1*EndoPA,0)/IS_PA -> 0.69486498 | ... L3: =IS_pmoles*IFERROR(1*EndoPA,0)/IS_PA -> 37.667623
A4: =VLOOKUP($B4,'Lipid List'!$A$1:$D$100,3,FALSE) -> CoQ | B4: CoQ8; [M+H]+ | C4: =IS_pmoles*IFERROR(1*EndoPA,0)/IS_PA -> 347.06384 | D4: =IS_pmoles*IFERROR(1*EndoPA,0)/IS_PA -> 398.74987 | E4: =IS_pmoles*IFERROR(1*EndoPA,0)/IS_PA -> 324.24844 | F4: =IS_pmoles*IFERROR(1*EndoPA,0)/IS_PA -> 367.27716 | G4: =IS_pmoles*IFERROR(1*EndoPA,0)/IS_PA -> 486.81295 | H4: =IS_pmoles*IFERROR(1*EndoPA,0)/IS_PA -> 333.39096 | I4: =IS_pmoles*IFERROR(1*EndoPA,0)/IS_PA -> 0.41677619 | J4: =IS_pmoles*IFERROR(1*EndoPA,0)/IS_PA -> 0.67203162 | ... L4: =IS_pmoles*IFERROR(1*EndoPA,0)/IS_PA -> 272.90282
A5: =VLOOKUP($B5,'Lipid List'!$A$1:$D$100,3,FALSE) -> CoQ | B5: CoQ9; [M+H]+ | C5: =IS_pmoles*IFERROR(1*EndoPA,0)/IS_PA -> 3.0614481 | D5: =IS_pmoles*IFERROR(1*EndoPA,0)/IS_PA -> 2.5496683 | E5: =IS_pmoles*IFERROR(1*EndoPA,0)/IS_PA -> 2.2836431 | F5: =IS_pmoles*IFERROR(1*EndoPA,0)/IS_PA -> 3.1715962 | G5: =IS_pmoles*IFERROR(1*EndoPA,0)/IS_PA -> 4.8558194 | H5: =IS_pmoles*IFERROR(1*EndoPA,0)/IS_PA -> 2.8151518 | I5: =IS_pmoles*IFERROR(1*EndoPA,0)/IS_PA -> 0.013937001 | J5: =IS_pmoles*IFERROR(1*EndoPA,0)/IS_PA -> 0 | ... L5: =IS_pmoles*IFERROR(1*EndoPA,0)/IS_PA -> 2.6187775
A6: =VLOOKUP($B6,'Lipid List'!$A$1:$D$100,3,FALSE) -> CoQ | B6: CoQ10; [M+H]+ | C6: =IS_pmoles*IFERROR(1*EndoPA,0)/IS_PA -> 0.1637726 | D6: =IS_pmoles*IFERROR(1*EndoPA,0)/IS_PA -> 0.17031402 | E6: =IS_pmoles*IFERROR(1*EndoPA,0)/IS_PA -> 0.13559378 | F6: =IS_pmoles*IFERROR(1*EndoPA,0)/IS_PA -> 0.25573313 | G6: =IS_pmoles*IFERROR(1*EndoPA,0)/IS_PA -> 0.22011164 | H6: =IS_pmoles*IFERROR(1*EndoPA,0)/IS_PA -> 0.18135904 | I6: =IS_pmoles*IFERROR(1*EndoPA,0)/IS_PA -> 0.51965072 | J6: =IS_pmoles*IFERROR(1*EndoPA,0)/IS_PA -> 0.44483012 | ... L6: =IS_pmoles*IFERROR(1*EndoPA,0)/IS_PA -> 0.16661743
A7: =VLOOKUP($B7,'Lipid List'!$A$1:$D$100,3,FALSE) -> PE | B7: PE 25:1; [M+H]+ | C7: =IS_pmoles*IFERROR(1*EndoPA,0)/IS_PA -> 0.084263492 | D7: =IS_pmoles*IFERROR(1*EndoPA,0)/IS_PA -> 0.086307701 | E7: =IS_pmoles*IFERROR(1*EndoPA,0)/IS_PA -> 0.090534271 | F7: =IS_pmoles*IFERROR(1*EndoPA,0)/IS_PA -> 0 | G7: =IS_pmoles*IFERROR(1*EndoPA,0)/IS_PA -> 0 | H7: =IS_pmoles*IFERROR(1*EndoPA,0)/IS_PA -> 0 | I7: =IS_pmoles*IFERROR(1*EndoPA,0)/IS_PA -> 0 | J7: =IS_pmoles*IFERROR(1*EndoPA,0)/IS_PA -> 0 | ... L7: =IS_pmoles*IFERROR(1*EndoPA,0)/IS_PA -> 0.59334406
A8: =VLOOKUP($B8,'Lipid List'!$A$1:$D$100,3,FALSE) -> PE | B8: PE 28:1; [M+H]+ | C8: =IS_pmoles*IFERROR(1*EndoPA,0)/IS_PA -> 0.24566934 | D8: =IS_pmoles*IFERROR(1*EndoPA,0)/IS_PA -> 0.095096807 | E8: =IS_pmoles*IFERROR(1*EndoPA,0)/IS_PA -> 0.38875637 | F8: =IS_pmoles*IFERROR(1*EndoPA,0)/IS_PA -> 0 | G8: =IS_pmoles*IFERROR(1*EndoPA,0)/IS_PA -> 0 | H8: =IS_pmoles*IFERROR(1*EndoPA,0)/IS_PA -> 0 | I8: =IS_pmoles*IFERROR(1*EndoPA,0)/IS_PA -> 0 | J8: =IS_pmoles*IFERROR(1*EndoPA,0)/IS_PA -> 0 | ... L8: =IS_pmoles*IFERROR(1*EndoPA,0)/IS_PA -> 1.8116587
A9: =VLOOKUP($B9,'Lipid List'!$A$1:$D$100,3,FALSE) -> PE | B9: PE 29:0; [M+H]+ | C9: =IS_pmoles*IFERROR(1*EndoPA,0)/IS_PA -> 0.5766874 | D9: =IS_pmoles*IFERROR(1*EndoPA,0)/IS_PA -> 0.37855509 | E9: =IS_pmoles*IFERROR(1*EndoPA,0)/IS_PA -> 0.33703528 | F9: =IS_pmoles*IFERROR(1*EndoPA,0)/IS_PA -> 0 | G9: =IS_pmoles*IFERROR(1*EndoPA,0)/IS_PA -> 0.11237249 | H9: =IS_pmoles*IFERROR(1*EndoPA,0)/IS_PA -> 0.050204089 | I9: =IS_pmoles*IFERROR(1*EndoPA,0)/IS_PA -> 0 | J9: =IS_pmoles*IFERROR(1*EndoPA,0)/IS_PA -> 0 | ... L9: =IS_pmoles*IFERROR(1*EndoPA,0)/IS_PA -> 14.031797
A10: =VLOOKUP($B10,'Lipid List'!$A$1:$D$100,3,FALSE) -> PE | B10: PE 30:0; [M+H]+ | C10: =IS_pmoles*IFERROR(1*EndoPA,0)/IS_PA -> 16.688876 | D10: =IS_pmoles*IFERROR(1*EndoPA,0)/IS_PA -> 14.102853 | E10: =IS_pmoles*IFERROR(1*EndoPA,0)/IS_PA -> 10.674302 | F10: =IS_pmoles*IFERROR(1*EndoPA,0)/IS_PA -> 5.3352274 | G10: =IS_pmoles*IFERROR(1*EndoPA,0)/IS_PA -> 9.4353299 | H10: =IS_pmoles*IFERROR(1*EndoPA,0)/IS_PA -> 5.6965634 | I10: =IS_pmoles*IFERROR(1*EndoPA,0)/IS_PA -> 0.9883669 | J10: =IS_pmoles*IFERROR(1*EndoPA,0)/IS_PA -> 0.63431479 | ... L10: =IS_pmoles*IFERROR(1*EndoPA,0)/IS_PA -> 1164.1779
A11: =VLOOKUP($B11,'Lipid List'!$A$1:$D$100,3,FALSE) -> PE | B11: PE 30:1; [M+H]+ | C11: =IS_pmoles*IFERROR(1*EndoPA,0)/IS_PA -> 3.0053076 | D11: =IS_pmoles*IFERROR(1*EndoPA,0)/IS_PA -> 2.4092216 | E11: =IS_pmoles*IFERROR(1*EndoPA,0)/IS_PA -> 2.9008954 | F11: =IS_pmoles*IFERROR(1*EndoPA,0)/IS_PA -> 0.27786681 | G11: =IS_pmoles*IFERROR(1*EndoPA,0)/IS_PA -> 0.95561196 | H11: =IS_pmoles*IFERROR(1*EndoPA,0)/IS_PA -> 1.0870357 | I11: =IS_pmoles*IFERROR(1*EndoPA,0)/IS_PA -> 0 | J11: =IS_pmoles*IFERROR(1*EndoPA,0)/IS_PA -> 0 | ... L11: =IS_pmoles*IFERROR(1*EndoPA,0)/IS_PA -> 5.7967566
A12: =VLOOKUP($B12,'Lipid List'!$A$1:$D$100,3,FALSE) -> PE | B12: PE 30:2; [M+H]+ | C12: =IS_pmoles*IFERROR(1*EndoPA,0)/IS_PA -> 0.086815714 | D12: =IS_pmoles*IFERROR(1*EndoPA,0)/IS_PA -> 0.074860443 | E12: =IS_pmoles*IFERROR(1*EndoPA,0)/IS_PA -> 0.31951995 | F12: =IS_pmoles*IFERROR(1*EndoPA,0)/IS_PA -> 0 | G12: =IS_pmoles*IFERROR(1*EndoPA,0)/IS_PA -> 0 | H12: =IS_pmoles*IFERROR(1*EndoPA,0)/IS_PA -> 0 | I12: =IS_pmoles*IFERROR(1*EndoPA,0)/IS_PA -> 0 | J12: =IS_pmoles*IFERROR(1*EndoPA,0)/IS_PA -> 0 | ... L12: =IS_pmoles*IFERROR(1*EndoPA,0)/IS_PA -> 0.091054637
A13: =VLOOKUP($B13,'Lipid List'!$A$1:$D$100,3,FALSE) -> PE | B13: PE 31:0; [M+H]+ | C13: =IS_pmoles*IFERROR(1*EndoPA,0)/IS_PA -> 1.6356909 | D13: =IS_pmoles*IFERROR(1*EndoPA,0)/IS_PA -> 1.0607505 | E13: =IS_pmoles*IFERROR(1*EndoPA,0)/IS_PA -> 1.0916559 | F13: =IS_pmoles*IFERROR(1*EndoPA,0)/IS_PA -> 0.5082613 | G13: =IS_pmoles*IFERROR(1*EndoPA,0)/IS_PA -> 0.74216351 | H13: =IS_pmoles*IFERROR(1*EndoPA,0)/IS_PA -> 0.61812987 | I13: =IS_pmoles*IFERROR(1*EndoPA,0)/IS_PA -> 0.070804073 | J13: =IS_pmoles*IFERROR(1*EndoPA,0)/IS_PA -> 0.074637689 | ... L13: =IS_pmoles*IFERROR(1*EndoPA,0)/IS_PA -> 50.752257
... A57: =VLOOKUP($B57,'Lipid List'!$A$1:$D$100,3,FALSE) -> MQ | B57: MQ-7; [M+NH4]+ | C57: =IS_pmoles*IFERROR(1*EndoPA,0)/IS_PA -> 1.4322317 | D57: =IS_pmoles*IFERROR(1*EndoPA,0)/IS_PA -> 1.2026984 | E57: =IS_pmoles*IFERROR(1*EndoPA,0)/IS_PA -> 3.1884252 | F57: =IS_pmoles*IFERROR(1*EndoPA,0)/IS_PA -> 159.27939 | G57: =IS_pmoles*IFERROR(1*EndoPA,0)/IS_PA -> 254.16726 | H57: =IS_pmoles*IFERROR(1*EndoPA,0)/IS_PA -> 143.98156 | I57: =IS_pmoles*IFERROR(1*EndoPA,0)/IS_PA -> 1034.6859 | J57: =IS_pmoles*IFERROR(1*EndoPA,0)/IS_PA -> 1040.0796 | ... L57: =IS_pmoles*IFERROR(1*EndoPA,0)/IS_PA -> 21.036126
B61: Sum pmolar amount
C62: =C$1 -> AK01_NDH2_1_Ecoli_pure_4_12 | D62: =D$1 -> AK02_NDH2_2_Ecoli_pure_9_12 | E62: =E$1 -> AK03_NDH2_3_Ecoli_pure_6_1 | F62: =F$1 -> AK04_NDH2_1_Bsubtilis_mem_SEC | G62: =G$1 -> AK05_NDH2_2_Bsubtilis_mem_SEC | H62: =H$1 -> AK06_NDH2_3_Bsubtilis_mem_SEC | I62: =I$1 -> AK10_1uL_Bsubtilis_mem_4L_1 | J62: =J$1 -> AK11_1uL_Bsubtilis_mem_4L_2 | ... L62: =L$1 -> AK13_1uL_E_coli_mem_2L_2
B63: MQ | C63: =SUMIF($A$2:$A$57,$B63,C$2:C$57) -> 89.821073 | D63: =SUMIF($A$2:$A$57,$B63,D$2:D$57) -> 59.054355 | E63: =SUMIF($A$2:$A$57,$B63,E$2:E$57) -> 41.285741 | F63: =SUMIF($A$2:$A$57,$B63,F$2:F$57) -> 377.27095 | G63: =SUMIF($A$2:$A$57,$B63,G$2:G$57) -> 581.92937 | H63: =SUMIF($A$2:$A$57,$B63,H$2:H$57) -> 318.94379 | I63: =SUMIF($A$2:$A$57,$B63,I$2:I$57) -> 2104.0255 | J63: =SUMIF($A$2:$A$57,$B63,J$2:J$57) -> 2094.7105 | ... L63: =SUMIF($A$2:$A$57,$B63,L$2:L$57) -> 293.71668
B64: CoQ | C64: =SUMIF($A$2:$A$57,$B64,C$2:C$57) -> 366.42383 | D64: =SUMIF($A$2:$A$57,$B64,D$2:D$57) -> 424.73628 | E64: =SUMIF($A$2:$A$57,$B64,E$2:E$57) -> 340.02938 | F64: =SUMIF($A$2:$A$57,$B64,F$2:F$57) -> 388.68323 | G64: =SUMIF($A$2:$A$57,$B64,G$2:G$57) -> 516.0222 | H64: =SUMIF($A$2:$A$57,$B64,H$2:H$57) -> 347.14618 | I64: =SUMIF($A$2:$A$57,$B64,I$2:I$57) -> 1.4663322 | J64: =SUMIF($A$2:$A$57,$B64,J$2:J$57) -> 2.0087181 | ... L64: =SUMIF($A$2:$A$57,$B64,L$2:L$57) -> 317.86576
B65: PE | C65: =SUMIF($A$2:$A$57,$B65,C$2:C$57) -> 2255.8785 | D65: =SUMIF($A$2:$A$57,$B65,D$2:D$57) -> 1827.1433 | E65: =SUMIF($A$2:$A$57,$B65,E$2:E$57) -> 1817.7009 | F65: =SUMIF($A$2:$A$57,$B65,F$2:F$57) -> 1033.7028 | G65: =SUMIF($A$2:$A$57,$B65,G$2:G$57) -> 1537.2994 | H65: =SUMIF($A$2:$A$57,$B65,H$2:H$57) -> 1110.614 | I65: =SUMIF($A$2:$A$57,$B65,I$2:I$57) -> 22.443695 | J65: =SUMIF($A$2:$A$57,$B65,J$2:J$57) -> 20.850387 | ... L65: =SUMIF($A$2:$A$57,$B65,L$2:L$57) -> 6884.3462
B66: PG | C66: =SUMIF($A$2:$A$57,$B66,C$2:C$57) -> 1325.0765 | D66: =SUMIF($A$2:$A$57,$B66,D$2:D$57) -> 1094.776 | E66: =SUMIF($A$2:$A$57,$B66,E$2:E$57) -> 952.03877 | F66: =SUMIF($A$2:$A$57,$B66,F$2:F$57) -> 1050.1868 | G66: =SUMIF($A$2:$A$57,$B66,G$2:G$57) -> 1503.4922 | H66: =SUMIF($A$2:$A$57,$B66,H$2:H$57) -> 1003.8949 | I66: =SUMIF($A$2:$A$57,$B66,I$2:I$57) -> 4309.5723 | J66: =SUMIF($A$2:$A$57,$B66,J$2:J$57) -> 2079.7268 | ... L66: =SUMIF($A$2:$A$57,$B66,L$2:L$57) -> 1934.7001
B67: DMQ | C67: =SUMIF($A$2:$A$57,$B67,C$2:C$57) -> 183.32512 | D67: =SUMIF($A$2:$A$57,$B67,D$2:D$57) -> 114.25093 | E67: =SUMIF($A$2:$A$57,$B67,E$2:E$57) -> 78.570903 | F67: =SUMIF($A$2:$A$57,$B67,F$2:F$57) -> 94.616562 | G67: =SUMIF($A$2:$A$57,$B67,G$2:G$57) -> 142.86544 | H67: =SUMIF($A$2:$A$57,$B67,H$2:H$57) -> 56.845891 | I67: =SUMIF($A$2:$A$57,$B67,I$2:I$57) -> 61.016484 | J67: =SUMIF($A$2:$A$57,$B67,J$2:J$57) -> 58.219881 | ... L67: =SUMIF($A$2:$A$57,$B67,L$2:L$57) -> 10.787776
B69: Molar ratio relative to sum PE and PG
C70: =C$1 -> AK01_NDH2_1_Ecoli_pure_4_12 | D70: =D$1 -> AK02_NDH2_2_Ecoli_pure_9_12 | E70: =E$1 -> AK03_NDH2_3_Ecoli_pure_6_1 | F70: =F$1 -> AK04_NDH2_1_Bsubtilis_mem_SEC | G70: =G$1 -> AK05_NDH2_2_Bsubtilis_mem_SEC | H70: =H$1 -> AK06_NDH2_3_Bsubtilis_mem_SEC | I70: =I$1 -> AK10_1uL_Bsubtilis_mem_4L_1 | J70: =J$1 -> AK11_1uL_Bsubtilis_mem_4L_2 | ... L70: =L$1 -> AK13_1uL_E_coli_mem_2L_2
B71: CoQ | C71: =SUMIF($A$2:$A$57,$B71,C$2:C$57)/SUM(C$65:C$66) -> 0.10232573 | D71: =SUMIF($A$2:$A$57,$B71,D$2:D$57)/SUM(D$65:D$66) -> 0.14536208 | E71: =SUMIF($A$2:$A$57,$B71,E$2:E$57)/SUM(E$65:E$66) -> 0.12276583 | F71: =SUMIF($A$2:$A$57,$B71,F$2:F$57)/SUM(F$65:F$66) -> 0.18651815 | G71: =SUMIF($A$2:$A$57,$B71,G$2:G$57)/SUM(G$65:G$66) -> 0.16969996 | H71: =SUMIF($A$2:$A$57,$B71,H$2:H$57)/SUM(H$65:H$66) -> 0.16417343 | I71: =SUMIF($A$2:$A$57,$B71,I$2:I$57)/SUM(I$65:I$66) -> 0.00033848727 | J71: =SUMIF($A$2:$A$57,$B71,J$2:J$57)/SUM(J$65:J$66) -> 0.00095626961 | ... L71: =SUMIF($A$2:$A$57,$B71,L$2:L$57)/SUM(L$65:L$66) -> 0.036043099
B72: MQ | C72: =SUMIF($A$2:$A$57,$B72,C$2:C$57)/SUM(C$65:C$66) -> 0.025082994 | D72: =SUMIF($A$2:$A$57,$B72,D$2:D$57)/SUM(D$65:D$66) -> 0.02021081 | E72: =SUMIF($A$2:$A$57,$B72,E$2:E$57)/SUM(E$65:E$66) -> 0.014906 | F72: =SUMIF($A$2:$A$57,$B72,F$2:F$57)/SUM(F$65:F$66) -> 0.18104172 | G72: =SUMIF($A$2:$A$57,$B72,G$2:G$57)/SUM(G$65:G$66) -> 0.19137431 | H72: =SUMIF($A$2:$A$57,$B72,H$2:H$57)/SUM(H$65:H$66) -> 0.15083587 | I72: =SUMIF($A$2:$A$57,$B72,I$2:I$57)/SUM(I$65:I$66) -> 0.48569201 | J72: =SUMIF($A$2:$A$57,$B72,J$2:J$57)/SUM(J$65:J$66) -> 0.99720709 | ... L72: =SUMIF($A$2:$A$57,$B72,L$2:L$57)/SUM(L$65:L$66) -> 0.033304813
B73: DMQ | C73: =SUMIF($A$2:$A$57,$B73,C$2:C$57)/SUM(C$65:C$66) -> 0.051194479 | D73: =SUMIF($A$2:$A$57,$B73,D$2:D$57)/SUM(D$65:D$66) -> 0.039101328 | E73: =SUMIF($A$2:$A$57,$B73,E$2:E$57)/SUM(E$65:E$66) -> 0.028367613 | F73: =SUMIF($A$2:$A$57,$B73,F$2:F$57)/SUM(F$65:F$66) -> 0.045403828 | G73: =SUMIF($A$2:$A$57,$B73,G$2:G$57)/SUM(G$65:G$66) -> 0.046982978 | H73: =SUMIF($A$2:$A$57,$B73,H$2:H$57)/SUM(H$65:H$66) -> 0.026883732 | I73: =SUMIF($A$2:$A$57,$B73,I$2:I$57)/SUM(I$65:I$66) -> 0.014085009 | J73: =SUMIF($A$2:$A$57,$B73,J$2:J$57)/SUM(J$65:J$66) -> 0.027716135 | ... L73: =SUMIF($A$2:$A$57,$B73,L$2:L$57)/SUM(L$65:L$66) -> 0.0012232361

Sheet CoQ MQ DMQ rel to sum PE_PG 
C1: AK01_NDH2_1_Ecoli_pure_4_12 | D1: AK02_NDH2_2_Ecoli_pure_9_12 | E1: AK03_NDH2_3_Ecoli_pure_6_1 | F1: AK04_NDH2_1_Bsubtilis_mem_SEC | G1: AK05_NDH2_2_Bsubtilis_mem_SEC | H1: AK06_NDH2_3_Bsubtilis_mem_SEC | I1: AK10_1uL_Bsubtilis_mem_4L_1 | J1: AK11_1uL_Bsubtilis_mem_4L_2 | K1: AK12_1uL_E_coli_mem_2L_1 | L1: AK13_1uL_E_coli_mem_2L_2
A2: =VLOOKUP($B2,'Lipid List'!$A$1:$D$100,3,FALSE) -> CoQ | B2: CoQ6; [M+H]+ | C2: =(IS_pmoles*IFERROR(1*EndoPA,0)/IS_PA)/SUM('Molar Amounts (pmole)'!C$65:C$66) -> 0.00021849698 | D2: =(IS_pmoles*IFERROR(1*EndoPA,0)/IS_PA)/SUM('Molar Amounts (pmole)'!D$65:D$66) -> 0.00037842749 | E2: =(IS_pmoles*IFERROR(1*EndoPA,0)/IS_PA)/SUM('Molar Amounts (pmole)'!E$65:E$66) -> 0.00018589806 | F2: =(IS_pmoles*IFERROR(1*EndoPA,0)/IS_PA)/SUM('Molar Amounts (pmole)'!F$65:F$66) -> 0.00035231391 | G2: =(IS_pmoles*IFERROR(1*EndoPA,0)/IS_PA)/SUM('Molar Amounts (pmole)'!G$65:G$66) -> 0.00027240629 | H2: =(IS_pmoles*IFERROR(1*EndoPA,0)/IS_PA)/SUM('Molar Amounts (pmole)'!H$65:H$66) -> 0.00017279243 | I2: =(IS_pmoles*IFERROR(1*EndoPA,0)/IS_PA)/SUM('Molar Amounts (pmole)'!I$65:I$66) -> 3.035633e-05 | J2: =(IS_pmoles*IFERROR(1*EndoPA,0)/IS_PA)/SUM('Molar Amounts (pmole)'!J$65:J$66) -> 9.3779664e-05 | ... L2: =(IS_pmoles*IFERROR(1*EndoPA,0)/IS_PA)/SUM('Molar Amounts (pmole)'!L$65:L$66) -> 0.00051138394
A3: =VLOOKUP($B3,'Lipid List'!$A$1:$D$100,3,FALSE) -> CoQ | B3: CoQ7; [M+H]+ | C3: =(IS_pmoles*IFERROR(1*EndoPA,0)/IS_PA)/SUM('Molar Amounts (pmole)'!C$65:C$66) -> 0.0042872212 | D3: =(IS_pmoles*IFERROR(1*EndoPA,0)/IS_PA)/SUM('Molar Amounts (pmole)'!D$65:D$66) -> 0.0075842936 | E3: =(IS_pmoles*IFERROR(1*EndoPA,0)/IS_PA)/SUM('Molar Amounts (pmole)'!E$65:E$66) -> 0.0046382756 | F3: =(IS_pmoles*IFERROR(1*EndoPA,0)/IS_PA)/SUM('Molar Amounts (pmole)'!F$65:F$66) -> 0.0082751783 | G3: =(IS_pmoles*IFERROR(1*EndoPA,0)/IS_PA)/SUM('Molar Amounts (pmole)'!G$65:G$66) -> 0.0076641184 | H3: =(IS_pmoles*IFERROR(1*EndoPA,0)/IS_PA)/SUM('Molar Amounts (pmole)'!H$65:H$66) -> 0.0049152476 | I3: =(IS_pmoles*IFERROR(1*EndoPA,0)/IS_PA)/SUM('Molar Amounts (pmole)'!I$65:I$66) -> 8.8749493e-05 | J3: =(IS_pmoles*IFERROR(1*EndoPA,0)/IS_PA)/SUM('Molar Amounts (pmole)'!J$65:J$66) -> 0.00033079717 | ... L3: =(IS_pmoles*IFERROR(1*EndoPA,0)/IS_PA)/SUM('Molar Amounts (pmole)'!L$65:L$66) -> 0.0042711674
A4: =VLOOKUP($B4,'Lipid List'!$A$1:$D$100,3,FALSE) -> CoQ | B4: CoQ8; [M+H]+ | C4: =(IS_pmoles*IFERROR(1*EndoPA,0)/IS_PA)/SUM('Molar Amounts (pmole)'!C$65:C$66) -> 0.096919353 | D4: =(IS_pmoles*IFERROR(1*EndoPA,0)/IS_PA)/SUM('Molar Amounts (pmole)'!D$65:D$66) -> 0.13646847 | E4: =(IS_pmoles*IFERROR(1*EndoPA,0)/IS_PA)/SUM('Molar Amounts (pmole)'!E$65:E$66) -> 0.1170682 | F4: =(IS_pmoles*IFERROR(1*EndoPA,0)/IS_PA)/SUM('Molar Amounts (pmole)'!F$65:F$66) -> 0.17624598 | G4: =(IS_pmoles*IFERROR(1*EndoPA,0)/IS_PA)/SUM('Molar Amounts (pmole)'!G$65:G$66) -> 0.16009415 | H4: =(IS_pmoles*IFERROR(1*EndoPA,0)/IS_PA)/SUM('Molar Amounts (pmole)'!H$65:H$66) -> 0.15766827 | I4: =(IS_pmoles*IFERROR(1*EndoPA,0)/IS_PA)/SUM('Molar Amounts (pmole)'!I$65:I$66) -> 9.6208369e-05 | J4: =(IS_pmoles*IFERROR(1*EndoPA,0)/IS_PA)/SUM('Molar Amounts (pmole)'!J$65:J$66) -> 0.00031992712 | ... L4: =(IS_pmoles*IFERROR(1*EndoPA,0)/IS_PA)/SUM('Molar Amounts (pmole)'!L$65:L$66) -> 0.030944709
A5: =VLOOKUP($B5,'Lipid List'!$A$1:$D$100,3,FALSE) -> CoQ | B5: CoQ9; [M+H]+ | C5: =(IS_pmoles*IFERROR(1*EndoPA,0)/IS_PA)/SUM('Molar Amounts (pmole)'!C$65:C$66) -> 0.00085492504 | D5: =(IS_pmoles*IFERROR(1*EndoPA,0)/IS_PA)/SUM('Molar Amounts (pmole)'!D$65:D$66) -> 0.00087260051 | E5: =(IS_pmoles*IFERROR(1*EndoPA,0)/IS_PA)/SUM('Molar Amounts (pmole)'!E$65:E$66) -> 0.00082449738 | F5: =(IS_pmoles*IFERROR(1*EndoPA,0)/IS_PA)/SUM('Molar Amounts (pmole)'!F$65:F$66) -> 0.0015219598 | G5: =(IS_pmoles*IFERROR(1*EndoPA,0)/IS_PA)/SUM('Molar Amounts (pmole)'!G$65:G$66) -> 0.0015968932 | H5: =(IS_pmoles*IFERROR(1*EndoPA,0)/IS_PA)/SUM('Molar Amounts (pmole)'!H$65:H$66) -> 0.0013313502 | I5: =(IS_pmoles*IFERROR(1*EndoPA,0)/IS_PA)/SUM('Molar Amounts (pmole)'!I$65:I$66) -> 3.2172091e-06 | J5: =(IS_pmoles*IFERROR(1*EndoPA,0)/IS_PA)/SUM('Molar Amounts (pmole)'!J$65:J$66) -> 0 | ... L5: =(IS_pmoles*IFERROR(1*EndoPA,0)/IS_PA)/SUM('Molar Amounts (pmole)'!L$65:L$66) -> 0.00029694566
A6: =VLOOKUP($B6,'Lipid List'!$A$1:$D$100,3,FALSE) -> CoQ | B6: CoQ10; [M+H]+ | C6: =(IS_pmoles*IFERROR(1*EndoPA,0)/IS_PA)/SUM('Molar Amounts (pmole)'!C$65:C$66) -> 4.5734337e-05 | D6: =(IS_pmoles*IFERROR(1*EndoPA,0)/IS_PA)/SUM('Molar Amounts (pmole)'!D$65:D$66) -> 5.8288406e-05 | E6: =(IS_pmoles*IFERROR(1*EndoPA,0)/IS_PA)/SUM('Molar Amounts (pmole)'!E$65:E$66) -> 4.8955423e-05 | F6: =(IS_pmoles*IFERROR(1*EndoPA,0)/IS_PA)/SUM('Molar Amounts (pmole)'!F$65:F$66) -> 0.00012271914 | G6: =(IS_pmoles*IFERROR(1*EndoPA,0)/IS_PA)/SUM('Molar Amounts (pmole)'!G$65:G$66) -> 7.2386297e-05 | H6: =(IS_pmoles*IFERROR(1*EndoPA,0)/IS_PA)/SUM('Molar Amounts (pmole)'!H$65:H$66) -> 8.5768872e-05 | I6: =(IS_pmoles*IFERROR(1*EndoPA,0)/IS_PA)/SUM('Molar Amounts (pmole)'!I$65:I$66) -> 0.00011995587 | J6: =(IS_pmoles*IFERROR(1*EndoPA,0)/IS_PA)/SUM('Molar Amounts (pmole)'!J$65:J$66) -> 0.00021176566 | ... L6: =(IS_pmoles*IFERROR(1*EndoPA,0)/IS_PA)/SUM('Molar Amounts (pmole)'!L$65:L$66) -> 1.8892908e-05
A7: =VLOOKUP($B7,'Lipid List'!$A$1:$D$100,3,FALSE) -> MQ | B7: MQ-8; [M+NH4]+ | C7: =(IS_pmoles*IFERROR(1*EndoPA,0)/IS_PA)/SUM('Molar Amounts (pmole)'!C$65:C$66) -> 0.02419189 | D7: =(IS_pmoles*IFERROR(1*EndoPA,0)/IS_PA)/SUM('Molar Amounts (pmole)'!D$65:D$66) -> 0.01935112 | E7: =(IS_pmoles*IFERROR(1*EndoPA,0)/IS_PA)/SUM('Molar Amounts (pmole)'!E$65:E$66) -> 0.012590755 | F7: =(IS_pmoles*IFERROR(1*EndoPA,0)/IS_PA)/SUM('Molar Amounts (pmole)'!F$65:F$66) -> 0.032187394 | G7: =(IS_pmoles*IFERROR(1*EndoPA,0)/IS_PA)/SUM('Molar Amounts (pmole)'!G$65:G$66) -> 0.029782902 | H7: =(IS_pmoles*IFERROR(1*EndoPA,0)/IS_PA)/SUM('Molar Amounts (pmole)'!H$65:H$66) -> 0.016545592 | I7: =(IS_pmoles*IFERROR(1*EndoPA,0)/IS_PA)/SUM('Molar Amounts (pmole)'!I$65:I$66) -> 0.012017414 | J7: =(IS_pmoles*IFERROR(1*EndoPA,0)/IS_PA)/SUM('Molar Amounts (pmole)'!J$65:J$66) -> 0.024301796 | ... L7: =(IS_pmoles*IFERROR(1*EndoPA,0)/IS_PA)/SUM('Molar Amounts (pmole)'!L$65:L$66) -> 0.028453046
A8: =VLOOKUP($B8,'Lipid List'!$A$1:$D$100,3,FALSE) -> MQ | B8: MQ-9; [M+NH4]+ | C8: =(IS_pmoles*IFERROR(1*EndoPA,0)/IS_PA)/SUM('Molar Amounts (pmole)'!C$65:C$66) -> 0.00011086222 | D8: =(IS_pmoles*IFERROR(1*EndoPA,0)/IS_PA)/SUM('Molar Amounts (pmole)'!D$65:D$66) -> 7.8623601e-05 | E8: =(IS_pmoles*IFERROR(1*EndoPA,0)/IS_PA)/SUM('Molar Amounts (pmole)'!E$65:E$66) -> 4.0409698e-05 | F8: =(IS_pmoles*IFERROR(1*EndoPA,0)/IS_PA)/SUM('Molar Amounts (pmole)'!F$65:F$66) -> 0.00015587358 | G8: =(IS_pmoles*IFERROR(1*EndoPA,0)/IS_PA)/SUM('Molar Amounts (pmole)'!G$65:G$66) -> 0.00010860413 | H8: =(IS_pmoles*IFERROR(1*EndoPA,0)/IS_PA)/SUM('Molar Amounts (pmole)'!H$65:H$66) -> 6.7870292e-05 | I8: =(IS_pmoles*IFERROR(1*EndoPA,0)/IS_PA)/SUM('Molar Amounts (pmole)'!I$65:I$66) -> 0 | J8: =(IS_pmoles*IFERROR(1*EndoPA,0)/IS_PA)/SUM('Molar Amounts (pmole)'!J$65:J$66) -> 0 | ... L8: =(IS_pmoles*IFERROR(1*EndoPA,0)/IS_PA)/SUM('Molar Amounts (pmole)'!L$65:L$66) -> 0.00011446988
A9: =VLOOKUP($B9,'Lipid List'!$A$1:$D$100,3,FALSE) -> DMQ | B9: DMQ-7; [M+NH4]+ | C9: =(IS_pmoles*IFERROR(1*EndoPA,0)/IS_PA)/SUM('Molar Amounts (pmole)'!C$65:C$66) -> 0 | D9: =(IS_pmoles*IFERROR(1*EndoPA,0)/IS_PA)/SUM('Molar Amounts (pmole)'!D$65:D$66) -> 0 | E9: =(IS_pmoles*IFERROR(1*EndoPA,0)/IS_PA)/SUM('Molar Amounts (pmole)'!E$65:E$66) -> 1.6376919e-05 | F9: =(IS_pmoles*IFERROR(1*EndoPA,0)/IS_PA)/SUM('Molar Amounts (pmole)'!F$65:F$66) -> 0.0021656514 | G9: =(IS_pmoles*IFERROR(1*EndoPA,0)/IS_PA)/SUM('Molar Amounts (pmole)'!G$65:G$66) -> 0.0023580568 | H9: =(IS_pmoles*IFERROR(1*EndoPA,0)/IS_PA)/SUM('Molar Amounts (pmole)'!H$65:H$66) -> 0.0019654273 | I9: =(IS_pmoles*IFERROR(1*EndoPA,0)/IS_PA)/SUM('Molar Amounts (pmole)'!I$65:I$66) -> 0.0068766391 | J9: =(IS_pmoles*IFERROR(1*EndoPA,0)/IS_PA)/SUM('Molar Amounts (pmole)'!J$65:J$66) -> 0.013537114 | ... L9: =(IS_pmoles*IFERROR(1*EndoPA,0)/IS_PA)/SUM('Molar Amounts (pmole)'!L$65:L$66) -> 7.3679648e-05
A10: =VLOOKUP($B10,'Lipid List'!$A$1:$D$100,3,FALSE) -> DMQ | B10: DMQ-8; [M+NH4]+ | C10: =(IS_pmoles*IFERROR(1*EndoPA,0)/IS_PA)/SUM('Molar Amounts (pmole)'!C$65:C$66) -> 0.050960399 | D10: =(IS_pmoles*IFERROR(1*EndoPA,0)/IS_PA)/SUM('Molar Amounts (pmole)'!D$65:D$66) -> 0.038908909 | E10: =(IS_pmoles*IFERROR(1*EndoPA,0)/IS_PA)/SUM('Molar Amounts (pmole)'!E$65:E$66) -> 0.02822578 | F10: =(IS_pmoles*IFERROR(1*EndoPA,0)/IS_PA)/SUM('Molar Amounts (pmole)'!F$65:F$66) -> 0.040825564 | G10: =(IS_pmoles*IFERROR(1*EndoPA,0)/IS_PA)/SUM('Molar Amounts (pmole)'!G$65:G$66) -> 0.042071603 | H10: =(IS_pmoles*IFERROR(1*EndoPA,0)/IS_PA)/SUM('Molar Amounts (pmole)'!H$65:H$66) -> 0.022837227 | I10: =(IS_pmoles*IFERROR(1*EndoPA,0)/IS_PA)/SUM('Molar Amounts (pmole)'!I$65:I$66) -> 0.00033173087 | J10: =(IS_pmoles*IFERROR(1*EndoPA,0)/IS_PA)/SUM('Molar Amounts (pmole)'!J$65:J$66) -> 0.00064190729 | ... L10: =(IS_pmoles*IFERROR(1*EndoPA,0)/IS_PA)/SUM('Molar Amounts (pmole)'!L$65:L$66) -> 0.0010729925
A11: =VLOOKUP($B11,'Lipid List'!$A$1:$D$100,3,FALSE) -> DMQ | B11: DMQ-7; [M+NH4]+ | C11: =(IS_pmoles*IFERROR(1*EndoPA,0)/IS_PA)/SUM('Molar Amounts (pmole)'!C$65:C$66) -> 0 | D11: =(IS_pmoles*IFERROR(1*EndoPA,0)/IS_PA)/SUM('Molar Amounts (pmole)'!D$65:D$66) -> 0 | E11: =(IS_pmoles*IFERROR(1*EndoPA,0)/IS_PA)/SUM('Molar Amounts (pmole)'!E$65:E$66) -> 1.6376919e-05 | F11: =(IS_pmoles*IFERROR(1*EndoPA,0)/IS_PA)/SUM('Molar Amounts (pmole)'!F$65:F$66) -> 0.0021656514 | G11: =(IS_pmoles*IFERROR(1*EndoPA,0)/IS_PA)/SUM('Molar Amounts (pmole)'!G$65:G$66) -> 0.0023580568 | H11: =(IS_pmoles*IFERROR(1*EndoPA,0)/IS_PA)/SUM('Molar Amounts (pmole)'!H$65:H$66) -> 0.0019654273 | I11: =(IS_pmoles*IFERROR(1*EndoPA,0)/IS_PA)/SUM('Molar Amounts (pmole)'!I$65:I$66) -> 0.0068766391 | J11: =(IS_pmoles*IFERROR(1*EndoPA,0)/IS_PA)/SUM('Molar Amounts (pmole)'!J$65:J$66) -> 0.013537114 | ... L11: =(IS_pmoles*IFERROR(1*EndoPA,0)/IS_PA)/SUM('Molar Amounts (pmole)'!L$65:L$66) -> 7.3679648e-05
A12: =VLOOKUP($B12,'Lipid List'!$A$1:$D$100,3,FALSE) -> DMQ | B12: DMQ-9; [M+NH]+ | C12: =(IS_pmoles*IFERROR(1*EndoPA,0)/IS_PA)/SUM('Molar Amounts (pmole)'!C$65:C$66) -> 0.00023407958 | D12: =(IS_pmoles*IFERROR(1*EndoPA,0)/IS_PA)/SUM('Molar Amounts (pmole)'!D$65:D$66) -> 0.00019241898 | E12: =(IS_pmoles*IFERROR(1*EndoPA,0)/IS_PA)/SUM('Molar Amounts (pmole)'!E$65:E$66) -> 0.00010907837 | F12: =(IS_pmoles*IFERROR(1*EndoPA,0)/IS_PA)/SUM('Molar Amounts (pmole)'!F$65:F$66) -> 0.00024696102 | G12: =(IS_pmoles*IFERROR(1*EndoPA,0)/IS_PA)/SUM('Molar Amounts (pmole)'!G$65:G$66) -> 0.0001952617 | H12: =(IS_pmoles*IFERROR(1*EndoPA,0)/IS_PA)/SUM('Molar Amounts (pmole)'!H$65:H$66) -> 0.00011565048 | I12: =(IS_pmoles*IFERROR(1*EndoPA,0)/IS_PA)/SUM('Molar Amounts (pmole)'!I$65:I$66) -> 0 | J12: =(IS_pmoles*IFERROR(1*EndoPA,0)/IS_PA)/SUM('Molar Amounts (pmole)'!J$65:J$66) -> 0 | ... L12: =(IS_pmoles*IFERROR(1*EndoPA,0)/IS_PA)/SUM('Molar Amounts (pmole)'!L$65:L$66) -> 2.8843195e-06
A13: =VLOOKUP($B13,'Lipid List'!$A$1:$D$100,3,FALSE) -> MQ | B13: MQ-7; [M+NH4]+ | C13: =(IS_pmoles*IFERROR(1*EndoPA,0)/IS_PA)/SUM('Molar Amounts (pmole)'!C$65:C$66) -> 0.00039995803 | D13: =(IS_pmoles*IFERROR(1*EndoPA,0)/IS_PA)/SUM('Molar Amounts (pmole)'!D$65:D$66) -> 0.00041161245 | E13: =(IS_pmoles*IFERROR(1*EndoPA,0)/IS_PA)/SUM('Molar Amounts (pmole)'!E$65:E$66) -> 0.0011511642 | F13: =(IS_pmoles*IFERROR(1*EndoPA,0)/IS_PA)/SUM('Molar Amounts (pmole)'!F$65:F$66) -> 0.076433702 | G13: =(IS_pmoles*IFERROR(1*EndoPA,0)/IS_PA)/SUM('Molar Amounts (pmole)'!G$65:G$66) -> 0.083585886 | H13: =(IS_pmoles*IFERROR(1*EndoPA,0)/IS_PA)/SUM('Molar Amounts (pmole)'!H$65:H$66) -> 0.068092198 | I13: =(IS_pmoles*IFERROR(1*EndoPA,0)/IS_PA)/SUM('Molar Amounts (pmole)'!I$65:I$66) -> 0.23884628 | J13: =(IS_pmoles*IFERROR(1*EndoPA,0)/IS_PA)/SUM('Molar Amounts (pmole)'!J$65:J$66) -> 0.49513991 | ... L13: =(IS_pmoles*IFERROR(1*EndoPA,0)/IS_PA)/SUM('Molar Amounts (pmole)'!L$65:L$66) -> 0.0023853062
