Workbook

Sheet Summary
A1: Supplementary Table 1
A3: Sample numbers for the STORM microscopy experiment.
A7: Number of ROIs | F7: Number of localisations
B8: 2i | C8: R | D8: serum | G8: 2i | H8: R | I8: serum | P8: ROI# | Q8: Total cells | R8: Total ROIs | S8: Total localisations | U8: ROI# | V8: Total cells | W8: Total ROIs | X8: Total localisations | Z8: ROI# | AA8: Total cells | AB8: Total ROIs | AC8: Total localisations | AE8: ROI# | AF8: Total cells | AG8: Total ROIs | AH8: Total localisations | AJ8: ROI# | AK8: Total cells | AL8: Total ROIs | AM8: Total localisations
A9: cKO | B9: =SUM(cKO!$B$64:$K$64) -> 326 | C9: =SUM(cKO!$M$64:$V$64) -> 273 | D9: =SUM(cKO!$X$64:$AG$64) -> 245 | F9: cKO | G9: =SUM(cKO!$B$65:$K$65) -> 1202757 | H9: =SUM(cKO!$M$65:$V$65) -> 852883 | I9: =SUM(cKO!$X$65:$AG$65) -> 747523 | P9: cKO_2i_20221215_001 | Q9: 2 | R9: 18 | S9: 118466 | U9: d2A_2i_20221219_001 | V9: 3 | W9: 16 | X9: 80630 | Z9: DKO_2i_20221216_001 | AA9: 2 | AB9: 23 | AC9: 92623 | AE9: E14_2i_20221212_001 | AF9: 3 | AG9: 20 | AH9: 62833 | AJ9: F2_2i_20221220_001 | AK9: 2 | AL9: 17 | AM9: 50241
A10: d2A | B10: =SUM(d2A!$B$64:$K$64) -> 198 | C10: =SUM(d2A!$M$64:$V$64) -> 242 | D10: =SUM(d2A!$X$64:$AG$64) -> 286 | F10: d2A | G10: =SUM(d2A!$B$65:$K$65) -> 762931 | H10: =SUM(d2A!$M$65:$V$65) -> 872086 | I10: =SUM(d2A!$X$65:$AG$65) -> 638591 | P10: cKO_2i_20221215_002 | Q10: 2 | R10: 35 | S10: 157344 | U10: d2A_2i_20221219_002 | V10: 6 | W10: 28 | X10: 96946 | Z10: DKO_2i_20221216_002 | AA10: 3 | AB10: 39 | AC10: 113630 | AE10: E14_2i_20221212_002 | AF10: 3 | AG10: 18 | AH10: 60684 | AJ10: F2_2i_20221220_002 | AK10: 3 | AL10: 14 | AM10: 51488
A11: DKO | B11: =SUM(DKO!$B$64:$K$64) -> 299 | C11: =SUM(DKO!$M$64:$V$64) -> 269 | D11: =SUM(DKO!$X$64:$AG$64) -> 181 | F11: DKO | G11: =SUM(DKO!$B$65:$K$65) -> 899270 | H11: =SUM(DKO!$M$65:$V$65) -> 788842 | I11: =SUM(DKO!$X$65:$AG$65) -> 484099 | P11: cKO_2i_20221215_003 | Q11: 3 | R11: 34 | S11: 154970 | U11: d2A_2i_20221219_003 | V11: 5 | W11: 31 | X11: 120234 | Z11: DKO_2i_20221216_003 | AA11: 5 | AB11: 31 | AC11: 97931 | AE11: E14_2i_20221212_003 | AF11: 2 | AG11: 8 | AH11: 32773 | AJ11: F2_2i_20221220_003 | AK11: 3 | AL11: 24 | AM11: 67685
A12: E14 | B12: =SUM('E14'!$B$64:$K$64) -> 160 | C12: =SUM('E14'!$M$64:$V$64) -> 212 | D12: =SUM('E14'!$X$64:$AG$64) -> 253 | F12: E14 | G12: =SUM('E14'!$B$65:$K$65) -> 536228 | H12: =SUM('E14'!$M$65:$V$65) -> 703153 | I12: =SUM('E14'!$X$65:$AG$65) -> 645671 | P12: cKO_2i_20221215_004 | Q12: 1 | R12: 18 | S12: 66721 | U12: d2A_2i_20221219_004 | V12: 2 | W12: 14 | X12: 70314 | Z12: DKO_2i_20221216_004 | AA12: 2 | AB12: 21 | AC12: 56948 | AE12: E14_2i_20221212_004 | AF12: 3 | AG12: 21 | AH12: 60974 | AJ12: F2_2i_20221220_004 | AK12: 2 | AL12: 28 | AM12: 90369
A13: F12 | B13: =SUM('F12'!$B$64:$K$64) -> 267 | C13: =SUM('F12'!$M$64:$V$64) -> 267 | D13: =SUM('F12'!$X$64:$AG$64) -> 221 | F13: F12 | G13: =SUM('F12'!$B$65:$K$65) -> 786929 | H13: =SUM('F12'!$M$65:$V$65) -> 1050692 | I13: =SUM('F12'!$X$65:$AG$65) -> 481086 | P13: cKO_2i_20221215_005 | Q13: 6 | R13: 51 | S13: 167242 | U13: d2A_2i_20221219_005 | V13: 2 | W13: 12 | X13: 51817 | Z13: DKO_2i_20221216_005 | AA13: 3 | AB13: 40 | AC13: 134624 | AE13: E14_2i_20221212_005 | AF13: 4 | AG13: 23 | AH13: 84414 | AJ13: F2_2i_20221220_005 | AK13: 2 | AL13: 21 | AM13: 60341
P14: cKO_2i_20221215_006 | Q14: 4 | R14: 41 | S14: 133616 | U14: d2A_2i_20221219_006 | V14: 2 | W14: 12 | X14: 44923 | Z14: DKO_2i_20221216_006 | AA14: 2 | AB14: 18 | AC14: 40286 | AE14: E14_2i_20221212_006 | AF14: 2 | AG14: 12 | AH14: 37386 | AJ14: F2_2i_20221220_006 | AK14: 4 | AL14: 47 | AM14: 147992
P15: cKO_2i_20221215_007 | Q15: 2 | R15: 28 | S15: 69622 | U15: d2A_2i_20221219_007 | V15: 2 | W15: 16 | X15: 56961 | Z15: DKO_2i_20221216_007 | AA15: 3 | AB15: 22 | AC15: 59479 | AE15: E14_2i_20221212_007 | AF15: 2 | AG15: 12 | AH15: 54254 | AJ15: F2_2i_20221220_007 | AK15: 3 | AL15: 40 | AM15: 111644
P16: cKO_2i_20221215_008 | Q16: 2 | R16: 30 | S16: 93771 | U16: d2A_2i_20221219_008 | V16: 3 | W16: 22 | X16: 86256 | Z16: DKO_2i_20221216_008 | AA16: 2 | AB16: 19 | AC16: 57329 | AE16: E14_2i_20221212_008 | AF16: 3 | AG16: 21 | AH16: 83489 | AJ16: F2_2i_20221220_008 | AK16: 2 | AL16: 23 | AM16: 77190
P17: cKO_2i_20221215_009 | Q17: 5 | R17: 45 | S17: 142939 | U17: d2A_2i_20221219_009 | V17: 3 | W17: 20 | X17: 56887 | Z17: DKO_2i_20221216_009 | AA17: 3 | AB17: 30 | AC17: 84878 | AE17: E14_2i_20221212_009 | AF17: 2 | AG17: 10 | AH17: 23745 | AJ17: F2_2i_20221220_009 | AK17: 3 | AL17: 31 | AM17: 82438
P18: cKO_2i_20221215_010 | Q18: 3 | R18: 26 | S18: 98066 | U18: d2A_2i_20221219_010 | V18: 4 | W18: 27 | X18: 97963 | Z18: DKO_2i_20221216_010 | AA18: 4 | AB18: 56 | AC18: 161542 | AE18: E14_2i_20221212_010 | AF18: 2 | AG18: 15 | AH18: 35676 | AJ18: F2_2i_20221220_010 | AK18: 3 | AL18: 22 | AM18: 47541
P19: Total | Q19: =SUM(Q9:Q18) -> 30 | R19: =SUM(R9:R18) -> 326 | S19: =SUM(S9:S18) -> 1202757 | U19: Total | V19: =SUM(V9:V18) -> 32 | W19: =SUM(W9:W18) -> 198 | X19: =SUM(X9:X18) -> 762931 | Z19: Total | AA19: =SUM(AA9:AA18) -> 29 | AB19: =SUM(AB9:AB18) -> 299 | AC19: =SUM(AC9:AC18) -> 899270 | AE19: Total | AF19: =SUM(AF9:AF18) -> 26 | AG19: =SUM(AG9:AG18) -> 160 | AH19: =SUM(AH9:AH18) -> 536228 | AJ19: Total | AK19: =SUM(AK9:AK18) -> 27 | AL19: =SUM(AL9:AL18) -> 267 | AM19: =SUM(AM9:AM18) -> 786929
P20: cKO_R_20221215_001 | Q20: 1 | R20: 12 | S20: 42626 | U20: d2A_R_20221219_001 | V20: 2 | W20: 21 | X20: 100506 | Z20: DKO_R_20221216_001 | AA20: 3 | AB20: 29 | AC20: 106358 | AE20: E14_R_20221212_001 | AF20: 2 | AG20: 18 | AH20: 66016 | AJ20: F2_R_20221220_001 | AK20: 2 | AL20: 28 | AM20: 105384
P21: cKO_R_20221215_002 | Q21: 2 | R21: 20 | S21: 67467 | U21: d2A_R_20221219_002 | V21: 3 | W21: 28 | X21: 115874 | Z21: DKO_R_20221216_002 | AA21: 3 | AB21: 34 | AC21: 80477 | AE21: E14_R_20221212_002 | AF21: 1 | AG21: 11 | AH21: 29532 | AJ21: F2_R_20221220_002 | AK21: 2 | AL21: 15 | AM21: 75839
P22: cKO_R_20221215_003 | Q22: 2 | R22: 16 | S22: 60679 | U22: d2A_R_20221219_003 | V22: 4 | W22: 23 | X22: 74939 | Z22: DKO_R_20221216_003 | AA22: 1 | AB22: 13 | AC22: 45456 | AE22: E14_R_20221212_003 | AF22: 6 | AG22: 43 | AH22: 111537 | AJ22: F2_R_20221220_003 | AK22: 2 | AL22: 14 | AM22: 81249
P23: cKO_R_20221215_004 | Q23: 2 | R23: 19 | S23: 70468 | U23: d2A_R_20221219_004 | V23: 3 | W23: 34 | X23: 130898 | Z23: DKO_R_20221216_004 | AA23: 2 | AB23: 13 | AC23: 38595 | AE23: E14_R_20221212_004 | AF23: 3 | AG23: 27 | AH23: 79840 | AJ23: F2_R_20221220_004 | AK23: 3 | AL23: 36 | AM23: 161799
P24: cKO_R_20221215_005 | Q24: 5 | R24: 52 | S24: 111666 | U24: d2A_R_20221219_005 | V24: 5 | W24: 35 | X24: 108727 | Z24: DKO_R_20221216_005 | AA24: 4 | AB24: 49 | AC24: 106469 | AE24: E14_R_20221212_005 | AF24: 2 | AG24: 11 | AH24: 29613 | AJ24: F2_R_20221220_005 | AK24: 2 | AL24: 21 | AM24: 93978
P25: cKO_R_20221215_006 | Q25: 2 | R25: 21 | S25: 77229 | U25: d2A_R_20221219_006 | V25: 3 | W25: 18 | X25: 59268 | Z25: DKO_R_20221216_006 | AA25: 2 | AB25: 24 | AC25: 92227 | AE25: E14_R_20221212_006 | AF25: 2 | AG25: 17 | AH25: 84062 | AJ25: F2_R_20221220_006 | AK25: 2 | AL25: 33 | AM25: 75793
P26: cKO_R_20221215_007 | Q26: 2 | R26: 27 | S26: 99206 | U26: d2A_R_20221219_007 | V26: 2 | W26: 17 | X26: 64075 | Z26: DKO_R_20221216_007 | AA26: 2 | AB26: 26 | AC26: 90170 | AE26: E14_R_20221212_007 | AF26: 2 | AG26: 18 | AH26: 62429 | AJ26: F2_R_20221220_007 | AK26: 3 | AL26: 43 | AM26: 162208
P27: cKO_R_20221215_008 | Q27: 3 | R27: 44 | S27: 130156 | U27: d2A_R_20221219_008 | V27: 2 | W27: 9 | X27: 27611 | Z27: DKO_R_20221216_008 | AA27: 2 | AB27: 36 | AC27: 110457 | AE27: E14_R_20221212_008 | AF27: 2 | AG27: 15 | AH27: 51928 | AJ27: F2_R_20221220_008 | AK27: 2 | AL27: 23 | AM27: 80695
P28: cKO_R_20221215_009 | Q28: 2 | R28: 23 | S28: 76790 | U28: d2A_R_20221219_009 | V28: 4 | W28: 40 | X28: 120946 | Z28: DKO_R_20221216_009 | AA28: 2 | AB28: 21 | AC28: 52152 | AE28: E14_R_20221212_009 | AF28: 2 | AG28: 25 | AH28: 79546 | AJ28: F2_R_20221220_009 | AK28: 2 | AL28: 27 | AM28: 106120
P29: cKO_R_20221215_010 | Q29: 4 | R29: 39 | S29: 116596 | U29: d2A_R_20221219_010 | V29: 2 | W29: 17 | X29: 69242 | Z29: DKO_R_20221216_010 | AA29: 2 | AB29: 24 | AC29: 66481 | AE29: E14_R_20221212_010 | AF29: 4 | AG29: 27 | AH29: 108650 | AJ29: F2_R_20221220_010 | AK29: 2 | AL29: 27 | AM29: 107627
P30: Total | Q30: =SUM(Q20:Q29) -> 25 | R30: =SUM(R20:R29) -> 273 | S30: =SUM(S20:S29) -> 852883 | U30: Total | V30: =SUM(V20:V29) -> 30 | W30: =SUM(W20:W29) -> 242 | X30: =SUM(X20:X29) -> 872086 | Z30: Total | AA30: =SUM(AA20:AA29) -> 23 | AB30: =SUM(AB20:AB29) -> 269 | AC30: =SUM(AC20:AC29) -> 788842 | AE30: Total | AF30: =SUM(AF20:AF29) -> 26 | AG30: =SUM(AG20:AG29) -> 212 | AH30: =SUM(AH20:AH29) -> 703153 | AJ30: Total | AK30: =SUM(AK20:AK29) -> 22 | AL30: =SUM(AL20:AL29) -> 267 | AM30: =SUM(AM20:AM29) -> 1050692
P31: cKO_serum_20221216_001 | Q31: 4 | R31: 37 | S31: 95469 | U31: d2A_serum_20221219_001 | V31: 2 | W31: 13 | X31: 28926 | Z31: DKO_serum_20221216_001 | AA31: 1 | AB31: 6 | AC31: 27560 | AE31: E14_serum_20221212_001 | AF31: 3 | AG31: 27 | AH31: 79410 | AJ31: F2_serum_20221220_001 | AK31: 3 | AL31: 27 | AM31: 69768
P32: cKO_serum_20221216_002 | Q32: 2 | R32: 14 | S32: 22359 | U32: d2A_serum_20221219_002 | V32: 2 | W32: 26 | X32: 41163 | Z32: DKO_serum_20221216_002 | AA32: 3 | AB32: 20 | AC32: 50056 | AE32: E14_serum_20221212_002 | AF32: 3 | AG32: 28 | AH32: 81002 | AJ32: F2_serum_20221220_002 | AK32: 2 | AL32: 19 | AM32: 46097
P33: cKO_serum_20221216_003 | Q33: 1 | R33: 11 | S33: 44203 | U33: d2A_serum_20221219_003 | V33: 2 | W33: 17 | X33: 19616 | Z33: DKO_serum_20221216_003 | AA33: 2 | AB33: 11 | AC33: 22170 | AE33: E14_serum_20221212_003 | AF33: 2 | AG33: 24 | AH33: 69304 | AJ33: F2_serum_20221220_003 | AK33: 3 | AL33: 20 | AM33: 41866
P34: cKO_serum_20221216_004 | Q34: 1 | R34: 13 | S34: 48095 | U34: d2A_serum_20221219_004 | V34: 3 | W34: 24 | X34: 63831 | Z34: DKO_serum_20221216_004 | AA34: 2 | AB34: 7 | AC34: 12003 | AE34: E14_serum_20221212_004 | AF34: 3 | AG34: 25 | AH34: 67449 | AJ34: F2_serum_20221220_004 | AK34: 2 | AL34: 19 | AM34: 57868
P35: cKO_serum_20221216_005 | Q35: 3 | R35: 32 | S35: 78754 | U35: d2A_serum_20221219_005 | V35: 2 | W35: 33 | X35: 113712 | Z35: DKO_serum_20221216_005 | AA35: 4 | AB35: 35 | AC35: 60792 | AE35: E14_serum_20221212_005 | AF35: 2 | AG35: 22 | AH35: 52809 | AJ35: F2_serum_20221220_005 | AK35: 3 | AL35: 27 | AM35: 63749
P36: cKO_serum_20221216_006 | Q36: 2 | R36: 20 | S36: 73166 | U36: d2A_serum_20221219_006 | V36: 3 | W36: 33 | X36: 82984 | Z36: DKO_serum_20221216_006 | AA36: 2 | AB36: 20 | AC36: 44415 | AE36: E14_serum_20221212_006 | AF36: 3 | AG36: 31 | AH36: 50285 | AJ36: F2_serum_20221220_006 | AK36: 3 | AL36: 20 | AM36: 33309
P37: cKO_serum_20221216_007 | Q37: 3 | R37: 31 | S37: 103503 | U37: d2A_serum_20221219_007 | V37: 2 | W37: 20 | X37: 50550 | Z37: DKO_serum_20221216_007 | AA37: 2 | AB37: 17 | AC37: 48894 | AE37: E14_serum_20221212_007 | AF37: 1 | AG37: 20 | AH37: 51523 | AJ37: F2_serum_20221220_007 | AK37: 2 | AL37: 21 | AM37: 47945
P38: cKO_serum_20221216_008 | Q38: 3 | R38: 20 | S38: 62253 | U38: d2A_serum_20221219_008 | V38: 3 | W38: 46 | X38: 112203 | Z38: DKO_serum_20221216_008 | AA38: 2 | AB38: 27 | AC38: 43095 | AE38: E14_serum_20221212_008 | AF38: 3 | AG38: 38 | AH38: 93080 | AJ38: F2_serum_20221220_008 | AK38: 3 | AL38: 29 | AM38: 45167
P39: cKO_serum_20221216_009 | Q39: 3 | R39: 31 | S39: 95919 | U39: d2A_serum_20221219_009 | V39: 2 | W39: 27 | X39: 55452 | Z39: DKO_serum_20221216_009 | AA39: 1 | AB39: 13 | AC39: 53448 | AE39: E14_serum_20221212_009 | AF39: 3 | AG39: 21 | AH39: 65238 | AJ39: F2_serum_20221220_009 | AK39: 2 | AL39: 20 | AM39: 33496
P40: cKO_serum_20221216_010 | Q40: 3 | R40: 36 | S40: 123802 | U40: d2A_serum_20221219_010 | V40: 5 | W40: 47 | X40: 70154 | Z40: DKO_serum_20221216_010 | AA40: 2 | AB40: 25 | AC40: 121666 | AE40: E14_serum_20221212_010 | AF40: 2 | AG40: 17 | AH40: 35571 | AJ40: F2_serum_20221220_010 | AK40: 2 | AL40: 19 | AM40: 41821
P41: Total | Q41: =SUM(Q31:Q40) -> 25 | R41: =SUM(R31:R40) -> 245 | S41: =SUM(S31:S40) -> 747523 | U41: Total | V41: =SUM(V31:V40) -> 26 | W41: =SUM(W31:W40) -> 286 | X41: =SUM(X31:X40) -> 638591 | Z41: Total | AA41: =SUM(AA31:AA40) -> 21 | AB41: =SUM(AB31:AB40) -> 181 | AC41: =SUM(AC31:AC40) -> 484099 | AE41: Total | AF41: =SUM(AF31:AF40) -> 25 | AG41: =SUM(AG31:AG40) -> 253 | AH41: =SUM(AH31:AH40) -> 645671 | AJ41: Total | AK41: =SUM(AK31:AK40) -> 25 | AL41: =SUM(AL31:AL40) -> 221 | AM41: =SUM(AM31:AM40) -> 481086

Sheet cKO
B1: cKO_2i localisations | M1: cKO_R localisations | X1: cKO_serum localisations
A2: ROI# | B2: cKO_2i_20221215_001 | C2: cKO_2i_20221215_002 | D2: cKO_2i_20221215_003 | E2: cKO_2i_20221215_004 | F2: cKO_2i_20221215_005 | G2: cKO_2i_20221215_006 | H2: cKO_2i_20221215_007 | I2: cKO_2i_20221215_008 | J2: cKO_2i_20221215_009 | K2: cKO_2i_20221215_010 | M2: cKO_R_20221215_001 | N2: cKO_R_20221215_002 | O2: cKO_R_20221215_003 | P2: cKO_R_20221215_004 | Q2: cKO_R_20221215_005 | R2: cKO_R_20221215_006 | S2: cKO_R_20221215_007 | T2: cKO_R_20221215_008 | U2: cKO_R_20221215_009 | V2: cKO_R_20221215_010 | X2: cKO_serum_20221216_001 | Y2: cKO_serum_20221216_002 | Z2: cKO_serum_20221216_003 | AA2: cKO_serum_20221216_004 | AB2: cKO_serum_20221216_005 | AC2: cKO_serum_20221216_006 | AD2: cKO_serum_20221216_007 | AE2: cKO_serum_20221216_008 | AF2: cKO_serum_20221216_009 | AG2: cKO_serum_20221216_010
A3: 1 | B3: 9014 | C3: 5408 | D3: 5045 | E3: 3836 | F3: 2840 | G3: 2202 | H3: 3747 | I3: 3875 | J3: 3641 | K3: 1850 | M3: 2982 | N3: 1340 | O3: 2802 | P3: 5130 | Q3: 2062 | R3: 2923 | S3: 4047 | T3: 3897 | U3: 3909 | V3: 3826 | X3: 3785 | Y3: 1776 | Z3: 3939 | AA3: 3647 | AB3: 961 | AC3: 3985 | AD3: 3836 | AE3: 2742 | AF3: 4576 | AG3: 3885
A4: 2 | B4: 5822 | C4: 6925 | D4: 4355 | E4: 3385 | F4: 1963 | G4: 1877 | H4: 4191 | I4: 3785 | J4: 4215 | K4: 3704 | M4: 3615 | N4: 2720 | O4: 4097 | P4: 2750 | Q4: 2188 | R4: 2558 | S4: 3566 | T4: 3732 | U4: 3193 | V4: 3799 | X4: 2926 | Y4: 1351 | Z4: 2972 | AA4: 3800 | AB4: 1632 | AC4: 5601 | AD4: 3925 | AE4: 1985 | AF4: 3355 | AG4: 3382
A5: 3 | B5: 6566 | C5: 5388 | D5: 3857 | E5: 3026 | F5: 2379 | G5: 3748 | H5: 1563 | I5: 3369 | J5: 2105 | K5: 2182 | M5: 2936 | N5: 2424 | O5: 4625 | P5: 4631 | Q5: 1114 | R5: 2825 | S5: 4404 | T5: 3511 | U5: 2000 | V5: 3714 | X5: 2791 | Y5: 851 | Z5: 3641 | AA5: 3983 | AB5: 2341 | AC5: 3479 | AD5: 2075 | AE5: 3115 | AF5: 1950 | AG5: 4304
A6: 4 | B6: 5427 | C6: 5976 | D6: 4890 | E6: 4076 | F6: 2502 | G6: 4330 | H6: 1671 | I6: 3720 | J6: 1591 | K6: 1478 | M6: 2916 | N6: 2780 | O6: 3196 | P6: 3834 | Q6: 1719 | R6: 2764 | S6: 2239 | T6: 3291 | U6: 3135 | V6: 2311 | X6: 3588 | Y6: 1179 | Z6: 3716 | AA6: 4900 | AB6: 2710 | AC6: 3538 | AD6: 3423 | AE6: 5371 | AF6: 2494 | AG6: 1948
A7: 5 | B7: 8173 | C7: 5896 | D7: 5161 | E7: 3995 | F7: 3356 | G7: 4766 | H7: 1715 | I7: 2852 | J7: 1783 | K7: 2966 | M7: 4567 | N7: 1508 | O7: 4302 | P7: 3815 | Q7: 1054 | R7: 4516 | S7: 2340 | T7: 3478 | U7: 2588 | V7: 3987 | X7: 3304 | Y7: 1428 | Z7: 2903 | AA7: 4293 | AB7: 1060 | AC7: 3070 | AD7: 5089 | AE7: 3736 | AF7: 3408 | AG7: 3246
A8: 6 | B8: 9004 | C8: 6010 | D8: 4228 | E8: 5442 | F8: 3162 | G8: 2104 | H8: 1952 | I8: 4168 | J8: 3020 | K8: 3661 | M8: 3816 | N8: 2487 | O8: 3168 | P8: 2131 | Q8: 1366 | R8: 4664 | S8: 4558 | T8: 2685 | U8: 3939 | V8: 2034 | X8: 2150 | Y8: 1589 | Z8: 4327 | AA8: 2456 | AB8: 1380 | AC8: 3781 | AD8: 3602 | AE8: 3959 | AF8: 3548 | AG8: 3592
A9: 7 | B9: 5504 | C9: 3531 | D9: 4872 | E9: 2037 | F9: 2104 | G9: 2010 | H9: 2495 | I9: 3893 | J9: 1759 | K9: 2189 | M9: 3547 | N9: 1846 | O9: 3469 | P9: 4245 | Q9: 1335 | R9: 4062 | S9: 4712 | T9: 2857 | U9: 3147 | V9: 3399 | X9: 3089 | Y9: 1540 | Z9: 3617 | AA9: 2524 | AB9: 1979 | AC9: 4539 | AD9: 3892 | AE9: 3436 | AF9: 4065 | AG9: 4272
A10: 8 | B10: 8299 | C10: 4076 | D10: 6702 | E10: 3045 | F10: 1630 | G10: 2066 | H10: 2232 | I10: 2394 | J10: 3699 | K10: 3693 | M10: 4357 | N10: 1811 | O10: 2461 | P10: 3058 | Q10: 2534 | R10: 2363 | S10: 4197 | T10: 1962 | U10: 2749 | V10: 3536 | X10: 3811 | Y10: 2276 | Z10: 4153 | AA10: 4398 | AB10: 1481 | AC10: 2963 | AD10: 3135 | AE10: 3010 | AF10: 4297 | AG10: 3229
A11: 9 | B11: 6234 | C11: 3623 | D11: 6062 | E11: 2988 | F11: 2363 | G11: 3209 | H11: 2307 | I11: 2216 | J11: 1849 | K11: 1405 | M11: 4190 | N11: 3888 | O11: 4979 | P11: 3594 | Q11: 2458 | R11: 2552 | S11: 3507 | T11: 2600 | U11: 3336 | V11: 3186 | X11: 5118 | Y11: 1908 | Z11: 3312 | AA11: 4095 | AB11: 3057 | AC11: 3765 | AD11: 2029 | AE11: 2104 | AF11: 2866 | AG11: 4390
A12: 10 | B12: 5345 | C12: 3411 | D12: 6430 | E12: 2590 | F12: 2004 | G12: 2659 | H12: 1884 | I12: 1726 | J12: 2617 | K12: 3637 | M12: 3229 | N12: 3671 | O12: 5429 | P12: 4103 | Q12: 2394 | R12: 2744 | S12: 4132 | T12: 2800 | U12: 4290 | V12: 2955 | X12: 3777 | Y12: 2016 | Z12: 5274 | AA12: 3528 | AB12: 2003 | AC12: 3352 | AD12: 1860 | AE12: 3516 | AF12: 3427 | AG12: 2983
A13: 11 | B13: 6671 | C13: 6257 | D13: 4869 | E13: 5474 | F13: 4002 | G13: 3758 | H13: 2541 | I13: 1373 | J13: 2286 | K13: 5196 | M13: 3451 | N13: 4808 | O13: 3970 | P13: 2222 | Q13: 2640 | R13: 3664 | S13: 3057 | T13: 2248 | U13: 3990 | V13: 2762 | X13: 2792 | Y13: 2358 | Z13: 6349 | AA13: 4514 | AB13: 5019 | AC13: 3140 | AD13: 2457 | AE13: 3843 | AF13: 2140 | AG13: 2115
A14: 12 | B14: 5734 | C14: 3099 | D14: 5859 | E14: 3672 | F14: 3819 | G14: 4409 | H14: 2028 | I14: 2610 | J14: 2547 | K14: 5570 | M14: 3020 | N14: 3727 | O14: 3282 | P14: 2697 | Q14: 2096 | R14: 4321 | S14: 3557 | T14: 1962 | U14: 3010 | V14: 2071 | X14: 2807 | Y14: 1071 | AA14: 2610 | AB14: 2977 | AC14: 2923 | AD14: 3218 | AE14: 2844 | AF14: 6149 | AG14: 3335
A15: 13 | B15: 4821 | C15: 3425 | D15: 3830 | E15: 3818 | F15: 3479 | G15: 4534 | H15: 1850 | I15: 2032 | J15: 3250 | K15: 5113 | N15: 5180 | O15: 3340 | P15: 3759 | Q15: 3070 | R15: 4594 | S15: 4414 | T15: 2444 | U15: 2679 | V15: 4605 | X15: 2556 | Y15: 1153 | AA15: 3347 | AB15: 2066 | AC15: 4084 | AD15: 3400 | AE15: 1404 | AF15: 3529 | AG15: 2583
A16: 14 | B16: 6279 | C16: 2790 | D16: 3900 | E16: 5137 | F16: 3079 | G16: 3790 | H16: 2275 | I16: 1676 | J16: 3763 | K16: 3150 | N16: 4023 | O16: 3044 | P16: 2777 | Q16: 1450 | R16: 5485 | S16: 2642 | T16: 4207 | U16: 3506 | V16: 2559 | X16: 2058 | Y16: 1863 | AB16: 2625 | AC16: 3256 | AD16: 3170 | AE16: 2535 | AF16: 2334 | AG16: 3641
A17: 15 | B17: 6384 | C17: 3070 | D17: 5090 | E17: 5297 | F17: 4903 | G17: 6095 | H17: 3918 | I17: 2419 | J17: 3879 | K17: 3071 | N17: 4639 | O17: 4029 | P17: 4413 | Q17: 1751 | R17: 4968 | S17: 4963 | T17: 3415 | U17: 2142 | V17: 2117 | X17: 1654 | AB17: 3935 | AC17: 4114 | AD17: 4260 | AE17: 3429 | AF17: 2789 | AG17: 4145
A18: 16 | B18: 6097 | C18: 3338 | D18: 4144 | E18: 2666 | F18: 4068 | G18: 4802 | H18: 2379 | I18: 3773 | J18: 4631 | K18: 3348 | N18: 4363 | O18: 4486 | P18: 3957 | Q18: 1688 | R18: 4226 | S18: 3279 | T18: 2425 | U18: 3009 | V18: 1325 | X18: 2297 | AB18: 3387 | AC18: 2943 | AD18: 3969 | AE18: 2276 | AF18: 2930 | AG18: 2593
A19: 17 | B19: 6556 | C19: 3970 | D19: 4621 | E19: 2507 | F19: 4074 | G19: 4800 | H19: 3784 | I19: 3345 | J19: 3233 | K19: 4505 | N19: 4643 | P19: 4934 | Q19: 1800 | R19: 2133 | S19: 3070 | T19: 4018 | U19: 3810 | V19: 2538 | X19: 2254 | AB19: 2127 | AC19: 3258 | AD19: 2851 | AE19: 3618 | AF19: 1578 | AG19: 2529
A20: 18 | B20: 6536 | C20: 2581 | D20: 5345 | E20: 3730 | F20: 5320 | G20: 4512 | H20: 2042 | I20: 3709 | J20: 2577 | K20: 4569 | N20: 5996 | P20: 4321 | Q20: 2108 | R20: 3940 | S20: 2677 | T20: 3721 | U20: 4194 | V20: 1913 | X20: 2753 | AB20: 2027 | AC20: 3389 | AD20: 4561 | AE20: 3164 | AF20: 1749 | AG20: 1872
A21: 19 | C21: 3494 | D21: 4493 | F21: 4665 | G21: 2799 | H21: 1916 | I21: 2965 | J21: 2202 | K21: 4588 | N21: 3351 | P21: 4097 | Q21: 1249 | R21: 3315 | S21: 8049 | T21: 3331 | U21: 3958 | V21: 1304 | X21: 3367 | AB21: 2445 | AC21: 4123 | AD21: 3004 | AE21: 2175 | AF21: 3426 | AG21: 2778
A22: 20 | C22: 6943 | D22: 3227 | F22: 3629 | G22: 5533 | H22: 3036 | I22: 2228 | J22: 3505 | K22: 4375 | N22: 2262 | Q22: 1568 | R22: 4830 | S22: 1833 | T22: 2441 | U22: 4033 | V22: 1634 | X22: 2138 | AB22: 1727 | AC22: 3863 | AD22: 2435 | AE22: 3991 | AF22: 3490 | AG22: 4791
A23: 21 | C23: 7765 | D23: 2903 | F23: 2034 | G23: 4828 | H23: 2265 | I23: 2444 | J23: 2722 | K23: 5636 | Q23: 1469 | R23: 3782 | S23: 2451 | T23: 2780 | U23: 3843 | V23: 3887 | X23: 1659 | AB23: 1807 | AD23: 4025 | AF23: 4824 | AG23: 3963
A24: 22 | C24: 4785 | D24: 3708 | F24: 3143 | G24: 3138 | H24: 2960 | I24: 3495 | J24: 2738 | K24: 3888 | Q24: 1649 | S24: 3433 | T24: 2638 | U24: 2845 | V24: 3419 | X24: 2698 | AB24: 2251 | AD24: 4470 | AF24: 3977 | AG24: 2438
A25: 23 | C25: 5016 | D25: 4335 | F25: 3140 | G25: 3059 | H25: 2968 | I25: 3260 | J25: 2612 | K25: 3470 | Q25: 2593 | S25: 2915 | T25: 3760 | U25: 3485 | V25: 2513 | X25: 2244 | AB25: 2798 | AD25: 4610 | AF25: 2429 | AG25: 4954
A26: 24 | C26: 6677 | D26: 3984 | F26: 3584 | G26: 3949 | H26: 3064 | I26: 3264 | J26: 3190 | K26: 4732 | Q26: 2402 | S26: 3534 | T26: 1736 | V26: 2068 | X26: 1584 | AB26: 3030 | AD26: 2988 | AF26: 2026 | AG26: 3043
A27: 25 | C27: 4989 | D27: 4493 | F27: 4462 | G27: 4064 | H27: 2579 | I27: 3161 | J27: 2742 | K27: 6083 | Q27: 2789 | S27: 5119 | T27: 2207 | V27: 2074 | X27: 1612 | AB27: 2943 | AD27: 3082 | AF27: 1432 | AG27: 3698
A28: 26 | C28: 6432 | D28: 4513 | F28: 4087 | G28: 2268 | H28: 1512 | I28: 6000 | J28: 4453 | K28: 4007 | Q28: 3152 | S28: 2127 | T28: 2586 | V28: 3393 | X28: 1146 | AB28: 2430 | AD28: 2663 | AF28: 3386 | AG28: 4665
A29: 27 | C29: 4285 | D29: 5519 | F29: 3772 | G29: 4044 | H29: 1731 | I29: 5082 | J29: 5142 | Q29: 3391 | S29: 4384 | T29: 2969 | V29: 3423 | X29: 2507 | AB29: 2364 | AD29: 3039 | AF29: 2647 | AG29: 4302
A30: 28 | C30: 5164 | D30: 2431 | F30: 4935 | G30: 3143 | H30: 3017 | I30: 3122 | J30: 2554 | Q30: 4126 | T30: 4419 | V30: 2364 | X30: 2845 | AB30: 4165 | AD30: 3031 | AF30: 2819 | AG30: 4278
A31: 29 | C31: 3230 | D31: 3005 | F31: 3411 | G31: 2688 | I31: 2480 | J31: 3796 | Q31: 3556 | T31: 3209 | V31: 2485 | X31: 2461 | AB31: 1912 | AD31: 2428 | AF31: 1544 | AG31: 3393
A32: 30 | C32: 3409 | D32: 2610 | F32: 2115 | G32: 3248 | I32: 3335 | J32: 5024 | Q32: 1739 | T32: 2896 | V32: 2791 | X32: 1337 | AB32: 2741 | AD32: 3176 | AF32: 3423 | AG32: 2707
A33: 31 | C33: 4253 | D33: 3988 | F33: 5211 | G33: 3961 | J33: 5064 | Q33: 2141 | T33: 2109 | V33: 3982 | X33: 1489 | AB33: 3832 | AD33: 3800 | AF33: 3312 | AG33: 2698
A34: 32 | C34: 2089 | D34: 4673 | F34: 4420 | G34: 2090 | J34: 4022 | Q34: 2993 | T34: 2658 | V34: 2260 | X34: 1546 | AB34: 1542 | AG34: 3685
A35: 33 | C35: 2993 | D35: 5203 | F35: 2808 | G35: 1535 | J35: 1839 | Q35: 2288 | T35: 1816 | V35: 4009 | X35: 1905 | AG35: 2948
A36: 34 | C36: 1991 | D36: 6625 | F36: 3594 | G36: 1471 | J36: 3193 | Q36: 1905 | T36: 2139 | V36: 3915 | X36: 2562 | AG36: 4660
A37: 35 | C37: 5055 | F37: 2946 | G37: 1414 | J37: 3618 | Q37: 2312 | T37: 2983 | V37: 3842 | X37: 979 | AG37: 3582
A38: 36 | F38: 3900 | G38: 2280 | J38: 3433 | Q38: 2719 | T38: 4390 | V38: 2965 | X38: 1653 | AG38: 3175
A39: 37 | F39: 3054 | G39: 1286 | J39: 2684 | Q39: 2289 | T39: 3016 | V39: 3500 | X39: 6227
A40: 38 | F40: 2519 | G40: 3419 | J40: 2943 | Q40: 2034 | T40: 4051 | V40: 4763
...

Sheet d2A
B1: d2A_2i localisations | M1: d2A_R localisations | X1: serum localisations
A2: ROI# | B2: d2A_2i_20221219_001 | C2: d2A_2i_20221219_002 | D2: d2A_2i_20221219_003 | E2: d2A_2i_20221219_004 | F2: d2A_2i_20221219_005 | G2: d2A_2i_20221219_006 | H2: d2A_2i_20221219_007 | I2: d2A_2i_20221219_008 | J2: d2A_2i_20221219_009 | K2: d2A_2i_20221219_010 | M2: d2A_R_20221219_001 | N2: d2A_R_20221219_002 | O2: d2A_R_20221219_003 | P2: d2A_R_20221219_004 | Q2: d2A_R_20221219_005 | R2: d2A_R_20221219_006 | S2: d2A_R_20221219_007 | T2: d2A_R_20221219_008 | U2: d2A_R_20221219_009 | V2: d2A_R_20221219_010 | X2: d2A_serum_20221219_001 | Y2: d2A_serum_20221219_002 | Z2: d2A_serum_20221219_003 | AA2: d2A_serum_20221219_004 | AB2: d2A_serum_20221219_005 | AC2: d2A_serum_20221219_006 | AD2: d2A_serum_20221219_007 | AE2: d2A_serum_20221219_008 | AF2: d2A_serum_20221219_009 | AG2: d2A_serum_20221219_010
A3: 1 | B3: 5413 | C3: 4611 | D3: 3255 | E3: 6274 | F3: 4497 | G3: 3773 | H3: 2834 | I3: 4498 | J3: 3393 | K3: 3480 | M3: 4509 | N3: 4543 | O3: 2939 | P3: 3642 | Q3: 2729 | R3: 3884 | S3: 3314 | T3: 1266 | U3: 4363 | V3: 2822 | X3: 2459 | Y3: 2152 | Z3: 1055 | AA3: 2836 | AB3: 2172 | AC3: 2712 | AD3: 2644 | AE3: 2515 | AF3: 1915 | AG3: 1723
A4: 2 | B4: 2861 | C4: 2106 | D4: 5290 | E4: 3815 | F4: 3644 | G4: 2878 | H4: 2767 | I4: 2973 | J4: 2985 | K4: 4157 | M4: 5195 | N4: 3478 | O4: 2245 | P4: 4280 | Q4: 2468 | R4: 3940 | S4: 3623 | T4: 2789 | U4: 2476 | V4: 3781 | X4: 2564 | Y4: 2129 | Z4: 1594 | AA4: 4267 | AB4: 2390 | AC4: 2816 | AD4: 2792 | AE4: 3796 | AF4: 2266 | AG4: 2232
A5: 3 | B5: 3431 | C5: 2565 | D5: 3325 | E5: 5259 | F5: 5863 | G5: 3042 | H5: 3152 | I5: 4031 | J5: 2483 | K5: 2103 | M5: 496 | N5: 3236 | O5: 3353 | P5: 3252 | Q5: 2681 | R5: 3475 | S5: 3354 | T5: 3369 | U5: 2597 | V5: 4505 | X5: 2101 | Y5: 1083 | Z5: 912 | AA5: 1535 | AB5: 3339 | AC5: 2181 | AD5: 2593 | AE5: 3202 | AF5: 1345 | AG5: 1066
A6: 4 | B6: 6046 | C6: 3463 | D6: 4694 | E6: 3053 | F6: 4457 | G6: 3744 | H6: 3345 | I6: 3812 | J6: 3477 | K6: 1821 | M6: 339 | N6: 2418 | O6: 2686 | P6: 4797 | Q6: 4582 | R6: 3137 | S6: 3367 | T6: 3868 | U6: 2596 | V6: 3347 | X6: 3225 | Y6: 1056 | Z6: 1203 | AA6: 3035 | AB6: 4876 | AC6: 2870 | AD6: 2414 | AE6: 2810 | AF6: 2356 | AG6: 1759
A7: 5 | B7: 3949 | C7: 4939 | D7: 5783 | E7: 5147 | F7: 4273 | G7: 2766 | H7: 2330 | I7: 4118 | J7: 2994 | K7: 2864 | M7: 4245 | N7: 5563 | O7: 2762 | P7: 3338 | Q7: 2017 | R7: 2778 | S7: 3802 | T7: 3606 | U7: 3369 | V7: 2409 | X7: 1556 | Y7: 1507 | Z7: 1072 | AA7: 3532 | AB7: 3336 | AC7: 2455 | AD7: 3200 | AE7: 1350 | AF7: 2135 | AG7: 2511
A8: 6 | B8: 8278 | C8: 3297 | D8: 3826 | E8: 4920 | F8: 5029 | G8: 3509 | H8: 2680 | I8: 4006 | J8: 2450 | K8: 2155 | M8: 4353 | N8: 3292 | O8: 2556 | P8: 4278 | Q8: 3214 | R8: 3471 | S8: 2007 | T8: 3224 | U8: 352 | V8: 5220 | X8: 2368 | Y8: 1326 | Z8: 872 | AA8: 2588 | AB8: 2033 | AC8: 1396 | AD8: 2233 | AE8: 1210 | AF8: 2520 | AG8: 994
A9: 7 | B9: 4124 | C9: 3965 | D9: 3267 | E9: 5585 | F9: 4358 | G9: 4434 | H9: 4368 | I9: 2975 | J9: 2717 | K9: 3243 | M9: 5636 | N9: 2625 | O9: 2665 | P9: 3925 | Q9: 4512 | R9: 2243 | S9: 3229 | T9: 3538 | U9: 2416 | V9: 3524 | X9: 2431 | Y9: 2056 | Z9: 936 | AA9: 1972 | AB9: 5719 | AC9: 2906 | AD9: 3270 | AE9: 1856 | AF9: 1844 | AG9: 1396
A10: 8 | B10: 3196 | C10: 2746 | D10: 4579 | E10: 5199 | F10: 3839 | G10: 5216 | H10: 4273 | I10: 5779 | J10: 3124 | K10: 3848 | M10: 5349 | N10: 3714 | O10: 4384 | P10: 5636 | Q10: 3693 | R10: 1918 | S10: 5054 | T10: 3365 | U10: 3872 | V10: 5580 | X10: 2368 | Y10: 1804 | Z10: 1321 | AA10: 3058 | AB10: 3868 | AC10: 2323 | AD10: 3579 | AE10: 1672 | AF10: 2669 | AG10: 968
A11: 9 | B11: 5251 | C11: 2613 | D11: 3335 | E11: 5374 | F11: 4124 | G11: 3377 | H11: 3314 | I11: 4221 | J11: 1644 | K11: 5070 | M11: 4699 | N11: 4258 | O11: 2644 | P11: 4069 | Q11: 3751 | R11: 2538 | S11: 4346 | T11: 2586 | U11: 3752 | V11: 5968 | X11: 2726 | Y11: 1875 | Z11: 1436 | AA11: 3564 | AB11: 4372 | AC11: 1882 | AD11: 2209 | AE11: 2418 | AF11: 2252 | AG11: 1469
A12: 10 | B12: 5508 | C12: 2655 | D12: 1668 | E12: 4358 | F12: 4036 | G12: 4365 | H12: 2935 | I12: 1854 | J12: 2033 | K12: 3430 | M12: 3404 | N12: 4583 | O12: 2442 | P12: 6544 | Q12: 4174 | R12: 3230 | S12: 5587 | U12: 2605 | V12: 4473 | X12: 1829 | Y12: 2047 | Z12: 819 | AA12: 2731 | AB12: 3551 | AC12: 2908 | AD12: 1411 | AE12: 3244 | AF12: 1593 | AG12: 1922
A13: 11 | B13: 5789 | C13: 3065 | D13: 3123 | E13: 4578 | F13: 2597 | G13: 4188 | H13: 5474 | I13: 3386 | J13: 2617 | K13: 3513 | M13: 4003 | N13: 4396 | O13: 3948 | P13: 6709 | Q13: 3546 | R13: 3389 | S13: 3507 | U13: 3262 | V13: 4288 | X13: 1437 | Y13: 2065 | Z13: 1039 | AA13: 2692 | AB13: 2868 | AC13: 2781 | AD13: 2284 | AE13: 3631 | AF13: 1514 | AG13: 1749
A14: 12 | B14: 5831 | C14: 2837 | D14: 2990 | E14: 7506 | F14: 5100 | G14: 3631 | H14: 3911 | I14: 5100 | J14: 2232 | K14: 3165 | M14: 5063 | N14: 2176 | O14: 2740 | P14: 4574 | Q14: 3600 | R14: 3842 | S14: 2450 | U14: 3570 | V14: 3300 | X14: 1622 | Y14: 1093 | Z14: 940 | AA14: 3510 | AB14: 1815 | AC14: 2767 | AD14: 2178 | AE14: 3513 | AF14: 2229 | AG14: 1474
A15: 13 | B15: 3918 | C15: 2452 | D15: 4111 | E15: 5110 | H15: 4497 | I15: 8838 | J15: 3040 | K15: 4827 | M15: 4696 | N15: 2689 | O15: 5171 | P15: 4447 | Q15: 2849 | R15: 3096 | S15: 5223 | U15: 3889 | V15: 4483 | X15: 2240 | Y15: 1574 | Z15: 1805 | AA15: 3335 | AB15: 2207 | AC15: 1570 | AD15: 3587 | AE15: 2310 | AF15: 2103 | AG15: 178
A16: 14 | B16: 5060 | C16: 2851 | D16: 5573 | E16: 4136 | H16: 3920 | I16: 3407 | J16: 3184 | K16: 3368 | M16: 4478 | N16: 4781 | O16: 3762 | P16: 4756 | Q16: 1799 | R16: 3752 | S16: 3326 | U16: 3450 | V16: 3487 | Y16: 2358 | Z16: 833 | AA16: 2182 | AB16: 2105 | AC16: 1705 | AD16: 2330 | AE16: 3971 | AF16: 2928 | AG16: 909
A17: 15 | B17: 5682 | C17: 3867 | D17: 4760 | H17: 4354 | I17: 2575 | J17: 2909 | K17: 5770 | M17: 6402 | N17: 4340 | O17: 3847 | P17: 4626 | Q17: 2213 | R17: 3454 | S17: 3716 | U17: 2642 | V17: 3725 | Y17: 1209 | Z17: 1563 | AA17: 1509 | AB17: 4883 | AC17: 1509 | AD17: 2208 | AE17: 2116 | AF17: 2062 | AG17: 2053
A18: 16 | B18: 6293 | C18: 2505 | D18: 4059 | H18: 2807 | I18: 4049 | J18: 3283 | K18: 5054 | M18: 6296 | N18: 3337 | O18: 3911 | P18: 4563 | Q18: 2168 | R18: 2678 | S18: 5206 | U18: 2607 | V18: 4115 | Y18: 1371 | Z18: 814 | AA18: 2169 | AB18: 5041 | AC18: 1543 | AD18: 3250 | AE18: 2914 | AF18: 2352 | AG18: 2580
A19: 17 | C19: 2771 | D19: 3787 | I19: 3001 | J19: 1902 | K19: 4443 | M19: 6712 | N19: 4135 | O19: 3302 | P19: 2710 | Q19: 2420 | R19: 4366 | S19: 2964 | U19: 1817 | V19: 4215 | Y19: 1164 | Z19: 1402 | AA19: 1581 | AB19: 4806 | AC19: 908 | AD19: 1589 | AE19: 2777 | AF19: 2040 | AG19: 727
A20: 18 | C20: 3986 | D20: 3837 | I20: 3616 | J20: 2309 | K20: 3416 | M20: 7154 | N20: 5764 | O20: 2530 | P20: 3554 | Q20: 3879 | R20: 4077 | U20: 3603 | Y20: 2102 | AA20: 1707 | AB20: 2955 | AC20: 1393 | AD20: 1838 | AE20: 2851 | AF20: 1217 | AG20: 724
A21: 19 | C21: 4378 | D21: 1955 | I21: 2385 | J21: 4130 | K21: 3290 | M21: 5509 | N21: 6128 | O21: 3569 | P21: 3108 | Q21: 4178 | U21: 2864 | Y21: 1984 | AA21: 2556 | AB21: 2897 | AC21: 3224 | AD21: 1302 | AE21: 3071 | AF21: 1745 | AG21: 1841
A22: 20 | C22: 4048 | D22: 6778 | I22: 3809 | J22: 3981 | K22: 4846 | M22: 5078 | N22: 5642 | O22: 3127 | P22: 1934 | Q22: 2067 | U22: 2646 | Y22: 999 | AA22: 3630 | AB22: 3352 | AC22: 3549 | AD22: 3639 | AE22: 2873 | AF22: 2549 | AG22: 1530
A23: 21 | C23: 3942 | D23: 5147 | I23: 3512 | K23: 1714 | M23: 6890 | N23: 5486 | O23: 4658 | P23: 2866 | Q23: 4023 | U23: 1771 | Y23: 874 | AA23: 2688 | AB23: 2108 | AC23: 2994 | AE23: 2927 | AF23: 3107 | AG23: 1668
A24: 22 | C24: 5269 | D24: 3648 | I24: 4311 | K24: 3892 | N24: 5245 | O24: 2737 | P24: 2997 | Q24: 3633 | U24: 2054 | Y24: 1385 | AA24: 2237 | AB24: 2265 | AC24: 3163 | AE24: 2079 | AF24: 2415 | AG24: 721
A25: 23 | C25: 3439 | D25: 3086 | K25: 2612 | N25: 5303 | O25: 2961 | P25: 3426 | Q25: 4135 | U25: 1883 | Y25: 1518 | AA25: 2167 | AB25: 3778 | AC25: 3003 | AE25: 1565 | AF25: 1956 | AG25: 1429
A26: 24 | C26: 3329 | D26: 3858 | K26: 4419 | N26: 2679 | P26: 3221 | Q26: 3765 | U26: 2949 | Y26: 1704 | AA26: 2750 | AB26: 4267 | AC26: 2565 | AE26: 1247 | AF26: 1448 | AG26: 2018
A27: 25 | C27: 3232 | D27: 4084 | K27: 5462 | N27: 3436 | P27: 3228 | Q27: 2621 | U27: 3235 | Y27: 770 | AB27: 4117 | AC27: 2973 | AE27: 1893 | AF27: 1306 | AG27: 1040
A28: 26 | C28: 3132 | D28: 3211 | K28: 3290 | N28: 2878 | P28: 2734 | Q28: 3177 | U28: 2404 | Y28: 1958 | AB28: 5165 | AC28: 2468 | AE28: 2236 | AF28: 1326 | AG28: 799
A29: 27 | C29: 5079 | D29: 2560 | K29: 2711 | N29: 4932 | P29: 3626 | Q29: 1842 | U29: 2171 | AB29: 5652 | AC29: 1948 | AE29: 1732 | AF29: 2260 | AG29: 674
A30: 28 | C30: 3804 | D30: 2190 | N30: 4817 | P30: 2765 | Q30: 1748 | U30: 1849 | AB30: 2007 | AC30: 3307 | AE30: 1459 | AG30: 1408
A31: 29 | D31: 2918 | P31: 4027 | Q31: 2425 | U31: 3338 | AB31: 1605 | AC31: 2102 | AE31: 2881 | AG31: 1032
A32: 30 | D32: 4835 | P32: 3249 | Q32: 3409 | U32: 3613 | AB32: 4652 | AC32: 3010 | AE32: 2637 | AG32: 2144
A33: 31 | D33: 4702 | P33: 3662 | Q33: 2536 | U33: 3182 | AB33: 5276 | AC33: 3113 | AE33: 1155 | AG33: 1055
A34: 32 | P34: 2116 | Q34: 2939 | U34: 4551 | AB34: 1599 | AC34: 3135 | AE34: 2885 | AG34: 1143
A35: 33 | P35: 4004 | Q35: 4249 | U35: 3182 | AB35: 2636 | AC35: 3805 | AE35: 679 | AG35: 1942
A36: 34 | P36: 4235 | Q36: 2932 | U36: 4789 | AE36: 1371 | AG36: 2680
A37: 35 | Q37: 2753 | U37: 4877 | AE37: 1154 | AG37: 898
A38: 36 | U38: 4343 | AE38: 2713 | AG38: 1499
A39: 37 | U39: 3151 | AE39: 967 | AG39: 1881
A40: 38 | U40: 1628 | AE40: 1395 | AG40: 1334
...

Sheet DKO
B1: DKO_2i localisations | M1: DKO_R localisations | X1: serum localisations
A2: ROI# | B2: DKO_2i_20221216_001 | C2: DKO_2i_20221216_002 | D2: DKO_2i_20221216_003 | E2: DKO_2i_20221216_004 | F2: DKO_2i_20221216_005 | G2: DKO_2i_20221216_006 | H2: DKO_2i_20221216_007 | I2: DKO_2i_20221216_008 | J2: DKO_2i_20221216_009 | K2: DKO_2i_20221216_010 | M2: DKO_R_20221216_001 | N2: DKO_R_20221216_002 | O2: DKO_R_20221216_003 | P2: DKO_R_20221216_004 | Q2: DKO_R_20221216_005 | R2: DKO_R_20221216_006 | S2: DKO_R_20221216_007 | T2: DKO_R_20221216_008 | U2: DKO_R_20221216_009 | V2: DKO_R_20221216_010 | X2: DKO_serum_20221216_001 | Y2: DKO_serum_20221216_002 | Z2: DKO_serum_20221216_003 | AA2: DKO_serum_20221216_004 | AB2: DKO_serum_20221216_005 | AC2: DKO_serum_20221216_006 | AD2: DKO_serum_20221216_007 | AE2: DKO_serum_20221216_008 | AF2: DKO_serum_20221216_009 | AG2: DKO_serum_20221216_010
A3: 1 | B3: 4570 | C3: 4948 | D3: 5239 | E3: 3360 | F3: 3936 | G3: 2640 | H3: 3107 | I3: 4115 | J3: 3498 | K3: 4346 | M3: 3329 | N3: 2013 | O3: 4595 | P3: 3189 | Q3: 2674 | R3: 3959 | S3: 4435 | T3: 5619 | U3: 3759 | V3: 2337 | X3: 5370 | Y3: 2011 | Z3: 2045 | AA3: 1701 | AB3: 1983 | AC3: 2072 | AD3: 2892 | AE3: 1625 | AF3: 3508 | AG3: 2729
A4: 2 | B4: 3722 | C4: 3297 | D4: 2911 | E4: 3340 | F4: 4121 | G4: 2464 | H4: 1973 | I4: 3294 | J4: 3535 | K4: 2354 | M4: 2758 | N4: 1085 | O4: 2636 | P4: 3490 | Q4: 2900 | R4: 2507 | S4: 4588 | T4: 3555 | U4: 3701 | V4: 2032 | X4: 4610 | Y4: 2681 | Z4: 1549 | AA4: 1811 | AB4: 1753 | AC4: 1822 | AD4: 3056 | AE4: 1584 | AF4: 2454 | AG4: 4566
A5: 3 | B5: 3107 | C5: 3866 | D5: 4644 | E5: 242 | F5: 1683 | G5: 1194 | H5: 1759 | I5: 2197 | J5: 2436 | K5: 2938 | M5: 2617 | N5: 2399 | O5: 3135 | P5: 3163 | Q5: 2042 | R5: 5232 | S5: 3927 | T5: 2720 | U5: 2508 | V5: 3259 | X5: 4383 | Y5: 2530 | Z5: 1659 | AA5: 2022 | AB5: 1410 | AC5: 1971 | AD5: 2688 | AE5: 1142 | AF5: 3284 | AG5: 1799
A6: 4 | B6: 4148 | C6: 3990 | D6: 5042 | E6: 1828 | F6: 3088 | G6: 1645 | H6: 3834 | I6: 1945 | J6: 2869 | K6: 1994 | M6: 2537 | N6: 2112 | O6: 3003 | P6: 2837 | Q6: 2431 | R6: 3333 | S6: 3466 | T6: 3155 | U6: 3455 | V6: 2965 | X6: 4792 | Y6: 2075 | Z6: 3051 | AA6: 1481 | AB6: 1884 | AC6: 2650 | AD6: 1919 | AE6: 1079 | AF6: 3241 | AG6: 5690
A7: 5 | B7: 3032 | C7: 3240 | D7: 3154 | E7: 2770 | F7: 3930 | G7: 1476 | H7: 3177 | I7: 2748 | J7: 2778 | K7: 2152 | M7: 1537 | N7: 1733 | O7: 3568 | P7: 2929 | Q7: 2608 | R7: 4621 | S7: 3273 | T7: 2037 | U7: 2160 | V7: 3917 | X7: 3981 | Y7: 2535 | Z7: 2014 | AA7: 2397 | AB7: 1898 | AC7: 2478 | AD7: 2957 | AE7: 1303 | AF7: 5162 | AG7: 6645
A8: 6 | B8: 2498 | C8: 3589 | D8: 5404 | E8: 2995 | F8: 2599 | G8: 2544 | H8: 1447 | I8: 3384 | J8: 4680 | K8: 3278 | M8: 3651 | N8: 1964 | O8: 3542 | P8: 4265 | Q8: 2147 | R8: 3094 | S8: 3240 | T8: 1874 | U8: 2882 | V8: 2929 | X8: 4424 | Y8: 2992 | Z8: 1738 | AA8: 1165 | AB8: 1347 | AC8: 1514 | AD8: 3110 | AE8: 279 | AF8: 3648 | AG8: 6695
A9: 7 | B9: 1860 | C9: 4758 | D9: 6743 | E9: 3213 | F9: 2888 | G9: 2517 | H9: 3771 | I9: 2890 | J9: 1882 | K9: 4330 | M9: 3046 | N9: 1628 | O9: 3472 | P9: 2217 | Q9: 3410 | R9: 2432 | S9: 3666 | T9: 2713 | U9: 2779 | V9: 3254 | Y9: 2219 | Z9: 1569 | AA9: 1426 | AB9: 1452 | AC9: 1896 | AD9: 1394 | AE9: 1234 | AF9: 2906 | AG9: 6457
A10: 8 | B10: 1835 | C10: 3727 | D10: 3249 | E10: 2590 | F10: 3345 | G10: 3412 | H10: 2339 | I10: 2115 | J10: 2792 | K10: 3864 | M10: 2983 | N10: 2327 | O10: 3178 | P10: 2230 | Q10: 2383 | R10: 3920 | S10: 4462 | T10: 2212 | U10: 2646 | V10: 2191 | Y10: 2825 | Z10: 1424 | AB10: 1596 | AC10: 3105 | AD10: 1391 | AE10: 1376 | AF10: 4531 | AG10: 5714
A11: 9 | B11: 4353 | C11: 2310 | D11: 3832 | E11: 3054 | F11: 2543 | G11: 2968 | H11: 2016 | I11: 2581 | J11: 3649 | K11: 2680 | M11: 2355 | N11: 2352 | O11: 3800 | P11: 3380 | Q11: 3130 | R11: 3631 | S11: 2956 | T11: 3213 | U11: 2496 | V11: 1686 | Y11: 1806 | Z11: 2278 | AB11: 1641 | AC11: 2997 | AD11: 3562 | AE11: 554 | AF11: 4990 | AG11: 6176
A12: 10 | B12: 2689 | C12: 4985 | D12: 2703 | E12: 2347 | F12: 3103 | G12: 3046 | H12: 1955 | I12: 3152 | J12: 2949 | K12: 2831 | M12: 3550 | N12: 2907 | O12: 4065 | P12: 3272 | Q12: 2502 | R12: 3819 | S12: 3279 | T12: 4009 | U12: 1656 | V12: 2720 | Y12: 981 | Z12: 2403 | AB12: 2072 | AC12: 3194 | AD12: 3370 | AE12: 625 | AF12: 4805 | AG12: 7930
A13: 11 | B13: 3385 | C13: 3924 | D13: 2978 | E13: 3145 | F13: 4890 | G13: 1333 | H13: 1882 | I13: 2909 | J13: 4290 | K13: 2649 | M13: 4255 | N13: 3158 | O13: 4039 | P13: 3163 | Q13: 2500 | R13: 4337 | S13: 3583 | T13: 2481 | U13: 3241 | V13: 3447 | Y13: 1625 | Z13: 2440 | AB13: 1149 | AC13: 2916 | AD13: 3213 | AE13: 1307 | AF13: 4125 | AG13: 5111
A14: 12 | B14: 3517 | C14: 3254 | D14: 3221 | E14: 2370 | F14: 3532 | G14: 1836 | H14: 2269 | I14: 3477 | J14: 2816 | K14: 1926 | M14: 3802 | N14: 2512 | O14: 2748 | P14: 2056 | Q14: 216 | R14: 4039 | S14: 4258 | T14: 3066 | U14: 3936 | V14: 1402 | Y14: 2652 | AB14: 788 | AC14: 3086 | AD14: 3656 | AE14: 1306 | AF14: 5520 | AG14: 4939
A15: 13 | B15: 8959 | C15: 2838 | D15: 3934 | E15: 3399 | F15: 4811 | G15: 2758 | H15: 1872 | I15: 2164 | J15: 2737 | K15: 1229 | M15: 5715 | N15: 2172 | O15: 3675 | P15: 2404 | Q15: 1647 | R15: 4380 | S15: 2889 | T15: 3148 | U15: 3288 | V15: 3595 | Y15: 1528 | AB15: 974 | AC15: 2193 | AD15: 3781 | AE15: 1173 | AF15: 5274 | AG15: 4050
A16: 14 | B16: 4390 | C16: 2910 | D16: 2419 | E16: 3361 | F16: 4534 | G16: 2043 | H16: 2342 | I16: 2339 | J16: 2179 | K16: 2973 | M16: 3706 | N16: 1903 | Q16: 1537 | R16: 3906 | S16: 2534 | T16: 3401 | U16: 2313 | V16: 3126 | Y16: 1926 | AB16: 853 | AC16: 2613 | AD16: 3358 | AE16: 555 | AG16: 2719
A17: 15 | B17: 4422 | C17: 1469 | D17: 2548 | E17: 2055 | F17: 2998 | G17: 2463 | H17: 2181 | I17: 2776 | J17: 1748 | K17: 2264 | M17: 2636 | N17: 1924 | Q17: 2169 | R17: 2661 | S17: 2372 | T17: 5506 | U17: 1231 | V17: 3457 | Y17: 2664 | AB17: 1502 | AC17: 2766 | AD17: 3588 | AE17: 2913 | AG17: 3983
A18: 16 | B18: 5272 | C18: 4002 | D18: 1653 | E18: 3618 | F18: 2597 | G18: 1649 | H18: 4066 | I18: 3519 | J18: 2843 | K18: 1729 | M18: 4044 | N18: 1986 | Q18: 1911 | R18: 4392 | S18: 2171 | T18: 3868 | U18: 1671 | V18: 2773 | Y18: 2809 | AB18: 883 | AC18: 1111 | AD18: 1554 | AE18: 1097 | AG18: 4116
A19: 17 | B19: 3756 | C19: 2936 | D19: 3613 | E19: 2571 | F19: 3800 | G19: 1616 | H19: 2588 | I19: 3812 | J19: 2752 | K19: 1047 | M19: 5394 | N19: 2482 | Q19: 1595 | R19: 4708 | S19: 2531 | T19: 3723 | U19: 1177 | V19: 1401 | Y19: 3551 | AB19: 880 | AC19: 1659 | AD19: 3405 | AE19: 2280 | AG19: 5221
A20: 18 | B20: 4733 | C20: 2476 | D20: 2629 | E20: 2758 | F20: 3315 | G20: 2682 | H20: 2360 | I20: 3952 | J20: 4239 | K20: 1438 | M20: 4394 | N20: 2906 | Q20: 1797 | R20: 4612 | S20: 1993 | T20: 4185 | U20: 1310 | V20: 2988 | Y20: 3192 | AB20: 731 | AC20: 801 | AE20: 2228 | AG20: 4139
A21: 19 | B21: 3718 | C21: 4218 | D21: 3253 | E21: 2200 | F21: 2231 | H21: 4532 | I21: 3960 | J21: 2793 | K21: 2836 | M21: 3177 | N21: 2957 | Q21: 1435 | R21: 3447 | S21: 2924 | T21: 3808 | U21: 1471 | V21: 1764 | Y21: 4289 | AB21: 998 | AC21: 1002 | AE21: 2111 | AG21: 3573
A22: 20 | B22: 3796 | C22: 2345 | D22: 3159 | E22: 2146 | F22: 2667 | H22: 4446 | J22: 3051 | K22: 2909 | M22: 4201 | N22: 2959 | Q22: 1714 | R22: 2906 | S22: 3009 | T22: 4185 | U22: 1774 | V22: 2893 | Y22: 3165 | AB22: 1284 | AC22: 2569 | AE22: 947 | AG22: 5590
A23: 21 | B23: 4352 | C23: 3184 | D23: 2533 | E23: 3586 | F23: 2640 | H23: 2927 | J23: 1739 | K23: 1089 | M23: 5450 | N23: 1639 | Q23: 1775 | R23: 4205 | S23: 4227 | T23: 2713 | U23: 2698 | V23: 2105 | AB23: 1204 | AE23: 798 | AG23: 5205
A24: 22 | B24: 5279 | C24: 1947 | D24: 1746 | F24: 2138 | H24: 2636 | J24: 2344 | K24: 1783 | M24: 4798 | N24: 3150 | Q24: 1572 | R24: 3851 | S24: 5092 | T24: 3712 | V24: 3273 | AB24: 1404 | AE24: 2535 | AG24: 4198
A25: 23 | B25: 5230 | C25: 2311 | D25: 1917 | F25: 3002 | J25: 2442 | K25: 3106 | M25: 2972 | N25: 2752 | Q25: 2116 | R25: 3531 | S25: 4352 | T25: 2618 | V25: 2804 | AB25: 1689 | AE25: 1997 | AG25: 5595
A26: 24 | C26: 1504 | D26: 1918 | F26: 3539 | J26: 3138 | K26: 3140 | M26: 4566 | N26: 2113 | Q26: 2173 | R26: 4704 | S26: 2580 | T26: 2406 | V26: 4163 | AB26: 1981 | AE26: 2532 | AG26: 6132
A27: 25 | C27: 1266 | D27: 3456 | F27: 3434 | J27: 1949 | K27: 3055 | M27: 4335 | N27: 2064 | Q27: 2566 | S27: 4754 | T27: 2315 | AB27: 2648 | AE27: 3190 | AG27: 2694
A28: 26 | C28: 1688 | D28: 1489 | F28: 5497 | J28: 2651 | K28: 2732 | M28: 4403 | N28: 2911 | Q28: 1186 | S28: 3609 | T28: 2481 | AB28: 2670 | AE28: 2963
A29: 27 | C29: 1443 | D29: 1713 | F29: 4082 | J29: 1523 | K29: 3404 | M29: 4842 | N29: 1755 | Q29: 1550 | T29: 2621 | AB29: 3518 | AE29: 2362
A30: 28 | C30: 3469 | D30: 2485 | F30: 3794 | J30: 1491 | K30: 5019 | M30: 3222 | N30: 2608 | Q30: 2009 | T30: 2319 | AB30: 2999
A31: 29 | C31: 2044 | D31: 1178 | F31: 2746 | J31: 3553 | K31: 3152 | M31: 2083 | N31: 3128 | Q31: 2293 | T31: 2058 | AB31: 2258
A32: 30 | C32: 3396 | D32: 1800 | F32: 3050 | J32: 3532 | K32: 3672 | N32: 2448 | Q32: 2251 | T32: 1869 | AB32: 1905
A33: 31 | C33: 1846 | D33: 5368 | F33: 4310 | K33: 3831 | N33: 3503 | Q33: 1655 | T33: 3880 | AB33: 2018
A34: 32 | C34: 3962 | F34: 4480 | K34: 2077 | N34: 2299 | Q34: 2113 | T34: 4518 | AB34: 2558
A35: 33 | C35: 1868 | F35: 3085 | K35: 3304 | N35: 2922 | Q35: 2114 | T35: 1657 | AB35: 2901
A36: 34 | C36: 2280 | F36: 2236 | K36: 4305 | N36: 1706 | Q36: 2219 | T36: 1230 | AB36: 1150
A37: 35 | C37: 3204 | F37: 2726 | K37: 2302 | Q37: 2836 | T37: 1733 | AB37: 2811
A38: 36 | C38: 1304 | F38: 4002 | K38: 2842 | Q38: 2172 | T38: 3849
A39: 37 | C39: 2135 | F39: 3333 | K39: 3535 | Q39: 2513
A40: 38 | C40: 3162 | F40: 2666 | K40: 3586 | Q40: 1507
...

Sheet E14
B1: E14_2i localisations | M1: E14_R localisations | X1: E14_serum localisations
A2: ROI# | B2: E14_2i_20221212_001 | C2: E14_2i_20221212_002 | D2: E14_2i_20221212_003 | E2: E14_2i_20221212_004 | F2: E14_2i_20221212_005 | G2: E14_2i_20221212_006 | H2: E14_2i_20221212_007 | I2: E14_2i_20221212_008 | J2: E14_2i_20221212_009 | K2: E14_2i_20221212_010 | M2: E14_R_20221212_001 | N2: E14_R_20221212_002 | O2: E14_R_20221212_003 | P2: E14_R_20221212_004 | Q2: E14_R_20221212_005 | R2: E14_R_20221212_006 | S2: E14_R_20221212_007 | T2: E14_R_20221212_008 | U2: E14_R_20221212_009 | V2: E14_R_20221212_010 | X2: E14_serum_20221212_001 | Y2: E14_serum_20221212_002 | Z2: E14_serum_20221212_003 | AA2: E14_serum_20221212_004 | AB2: E14_serum_20221212_005 | AC2: E14_serum_20221212_006 | AD2: E14_serum_20221212_007 | AE2: E14_serum_20221212_008 | AF2: E14_serum_20221212_009 | AG2: E14_serum_20221212_010
A3: 1 | B3: 4818 | C3: 4640 | D3: 4792 | E3: 3968 | F3: 5283 | G3: 3180 | H3: 4800 | I3: 3113 | J3: 2547 | K3: 2486 | M3: 3386 | N3: 1871 | O3: 3060 | P3: 4284 | Q3: 2558 | R3: 4591 | S3: 3761 | T3: 4114 | U3: 2771 | V3: 3883 | X3: 3130 | Y3: 3007 | Z3: 2278 | AA3: 2557 | AB3: 2239 | AC3: 2423 | AD3: 3728 | AE3: 1469 | AF3: 3109 | AG3: 2386
A4: 2 | B4: 4812 | C4: 3625 | D4: 4662 | E4: 3760 | F4: 3957 | G4: 3999 | H4: 3986 | I4: 3779 | J4: 2784 | K4: 2709 | M4: 3292 | N4: 2812 | O4: 3107 | P4: 3873 | Q4: 2217 | R4: 5660 | S4: 4201 | T4: 4707 | U4: 2597 | V4: 2708 | X4: 2292 | Y4: 3711 | Z4: 3192 | AA4: 3989 | AB4: 2790 | AC4: 638 | AD4: 3337 | AE4: 1906 | AF4: 8182 | AG4: 3257
A5: 3 | B5: 3877 | C5: 3019 | D5: 4298 | E5: 3528 | F5: 2319 | G5: 3189 | H5: 3890 | I5: 2677 | J5: 2187 | K5: 2229 | M5: 3160 | N5: 2759 | O5: 1353 | P5: 3616 | Q5: 2742 | R5: 5757 | S5: 3212 | T5: 3752 | U5: 4132 | V5: 4012 | X5: 3627 | Y5: 3486 | Z5: 1413 | AA5: 3103 | AB5: 2399 | AC5: 2016 | AD5: 1812 | AE5: 2938 | AF5: 2245 | AG5: 2237
A6: 4 | B6: 3608 | C6: 3976 | D6: 2649 | E6: 4817 | F6: 3434 | G6: 2528 | H6: 3485 | I6: 4807 | J6: 1707 | K6: 1096 | M6: 4138 | N6: 3294 | O6: 4067 | P6: 2967 | Q6: 2201 | R6: 6791 | S6: 4793 | T6: 2232 | U6: 3286 | V6: 2016 | X6: 3209 | Y6: 2133 | Z6: 3599 | AA6: 1565 | AB6: 1604 | AC6: 2773 | AD6: 2657 | AE6: 2864 | AF6: 1811 | AG6: 1673
A7: 5 | B7: 3748 | C7: 2915 | D7: 4047 | E7: 2524 | F7: 4683 | G7: 3486 | H7: 4476 | I7: 3309 | J7: 3019 | K7: 2542 | M7: 4109 | N7: 3226 | O7: 1309 | P7: 3322 | Q7: 3301 | R7: 3749 | S7: 4339 | T7: 2113 | U7: 1531 | V7: 5282 | X7: 2137 | Y7: 2368 | Z7: 3203 | AA7: 4313 | AB7: 1651 | AC7: 1542 | AD7: 1510 | AE7: 3281 | AF7: 3848 | AG7: 1889
A8: 6 | B8: 2830 | C8: 2663 | D8: 4442 | E8: 3003 | F8: 4393 | G8: 3112 | H8: 5725 | I8: 2278 | J8: 2473 | K8: 2310 | M8: 3989 | N8: 2004 | O8: 1040 | P8: 1861 | Q8: 4448 | R8: 4659 | S8: 2573 | T8: 2755 | U8: 1664 | V8: 3885 | X8: 1671 | Y8: 3881 | Z8: 1662 | AA8: 1246 | AB8: 1437 | AC8: 1014 | AD8: 2659 | AE8: 1585 | AF8: 3302 | AG8: 2866
A9: 7 | B9: 3135 | C9: 2057 | D9: 3644 | E9: 3205 | F9: 2363 | G9: 3631 | H9: 6533 | I9: 5224 | J9: 2215 | K9: 982 | M9: 3055 | N9: 2011 | O9: 2729 | P9: 2176 | Q9: 2210 | R9: 4888 | S9: 2366 | T9: 3149 | U9: 3124 | V9: 4045 | X9: 1875 | Y9: 3852 | Z9: 2807 | AA9: 3169 | AB9: 1367 | AC9: 814 | AD9: 2751 | AE9: 1004 | AF9: 2654 | AG9: 1007
A10: 8 | B10: 1595 | C10: 2072 | D10: 4239 | E10: 3269 | F10: 4614 | G10: 3854 | H10: 4195 | I10: 4597 | J10: 2330 | K10: 3699 | M10: 5475 | N10: 3492 | O10: 3430 | P10: 3920 | Q10: 2906 | R10: 6148 | S10: 2922 | T10: 5217 | U10: 2853 | V10: 4370 | X10: 3144 | Y10: 3438 | Z10: 1332 | AA10: 2398 | AB10: 2257 | AC10: 1008 | AD10: 1688 | AE10: 1829 | AF10: 3548 | AG10: 2982
A11: 9 | B11: 1361 | C11: 1991 | E11: 3419 | F11: 3673 | G11: 3282 | H11: 5267 | I11: 5600 | J11: 2421 | K11: 1445 | M11: 3038 | N11: 2834 | O11: 2327 | P11: 2825 | Q11: 1346 | R11: 6627 | S11: 2469 | T11: 5040 | U11: 4227 | V11: 2778 | X11: 2095 | Y11: 3515 | Z11: 3549 | AA11: 3305 | AB11: 2844 | AC11: 1114 | AD11: 1438 | AE11: 1545 | AF11: 2446 | AG11: 2458
A12: 10 | B12: 2422 | C12: 3399 | E12: 214 | F12: 2772 | G12: 2722 | H12: 5580 | I12: 4292 | J12: 2062 | K12: 2986 | M12: 4017 | N12: 2206 | O12: 2084 | P12: 1728 | Q12: 2841 | R12: 5365 | S12: 3944 | T12: 1617 | U12: 4701 | V12: 3279 | X12: 3815 | Y12: 3288 | Z12: 780 | AA12: 4014 | AB12: 1680 | AC12: 1317 | AD12: 1516 | AE12: 1341 | AF12: 3901 | AG12: 2226
A13: 11 | B13: 4169 | C13: 4570 | E13: 1852 | F13: 1811 | G13: 2425 | H13: 4280 | I13: 3034 | K13: 1810 | M13: 3140 | N13: 3023 | O13: 3488 | P13: 1573 | Q13: 2843 | R13: 4892 | S13: 4575 | T13: 4207 | U13: 2701 | V13: 2832 | X13: 3744 | Y13: 2553 | Z13: 3234 | AA13: 2637 | AB13: 2869 | AC13: 2192 | AD13: 2587 | AE13: 2286 | AF13: 2933 | AG13: 2502
A14: 12 | B14: 2306 | C14: 3521 | E14: 468 | F14: 2858 | G14: 1978 | H14: 2037 | I14: 4715 | K14: 2282 | M14: 3273 | O14: 2282 | P14: 3556 | R14: 3700 | S14: 4359 | T14: 2211 | U14: 2253 | V14: 3537 | X14: 3420 | Y14: 2577 | Z14: 3827 | AA14: 2878 | AB14: 4036 | AC14: 1821 | AD14: 4264 | AE14: 1681 | AF14: 2797 | AG14: 1833
A15: 13 | B15: 2837 | C15: 4598 | E15: 2555 | F15: 3050 | I15: 3925 | K15: 2747 | M15: 2943 | O15: 2144 | P15: 3715 | R15: 3320 | S15: 3558 | T15: 3293 | U15: 2850 | V15: 4834 | X15: 3123 | Y15: 1435 | Z15: 3703 | AA15: 1926 | AB15: 3311 | AC15: 2301 | AD15: 2978 | AE15: 1607 | AF15: 3656 | AG15: 1266
A16: 14 | B16: 3332 | C16: 4892 | E16: 3079 | F16: 3361 | I16: 4930 | K16: 2718 | M16: 3740 | O16: 1012 | P16: 2910 | R16: 5228 | S16: 3132 | T16: 3326 | U16: 2216 | V16: 5149 | X16: 1926 | Y16: 1490 | Z16: 2180 | AA16: 3451 | AB16: 2296 | AC16: 2411 | AD16: 4202 | AE16: 2137 | AF16: 2253 | AG16: 1230
A17: 15 | B17: 2222 | C17: 2874 | E17: 1752 | F17: 1944 | I17: 3619 | K17: 3635 | M17: 4249 | O17: 2565 | P17: 2781 | R17: 4705 | S17: 2641 | T17: 4195 | U17: 2779 | V17: 3614 | X17: 2937 | Y17: 2670 | Z17: 3750 | AA17: 1813 | AB17: 2328 | AC17: 2042 | AD17: 3472 | AE17: 2030 | AF17: 3228 | AG17: 2529
A18: 16 | B18: 2443 | C18: 3249 | E18: 3173 | F18: 4204 | I18: 3596 | M18: 4621 | O18: 1452 | P18: 2844 | R18: 3446 | S18: 3348 | U18: 2120 | V18: 4161 | X18: 1681 | Y18: 2684 | Z18: 2943 | AA18: 523 | AB18: 2370 | AC18: 2155 | AD18: 1804 | AE18: 1283 | AF18: 2631 | AG18: 1777
A19: 17 | B19: 3348 | C19: 2877 | E19: 2838 | F19: 3185 | I19: 2208 | M19: 3085 | O19: 2560 | P19: 2556 | R19: 4536 | S19: 3125 | U19: 3032 | V19: 4343 | X19: 4887 | Y19: 2355 | Z19: 2753 | AA19: 2717 | AB19: 2228 | AC19: 2652 | AD19: 1737 | AE19: 1434 | AF19: 2700 | AG19: 1453
A20: 18 | B20: 1964 | C20: 3746 | E20: 3226 | F20: 4744 | I20: 4154 | M20: 3306 | O20: 4360 | P20: 946 | S20: 3111 | U20: 3499 | V20: 5248 | X20: 3724 | Y20: 2740 | Z20: 3346 | AA20: 2254 | AB20: 2870 | AC20: 2223 | AD20: 2870 | AE20: 2864 | AF20: 2774
A21: 19 | B21: 3479 | E21: 2471 | F21: 4700 | I21: 5049 | O21: 3302 | P21: 2275 | U21: 4997 | V21: 4729 | X21: 3646 | Y21: 3048 | Z21: 2819 | AA21: 2734 | AB21: 1478 | AC21: 1005 | AD21: 3518 | AE21: 2558 | AF21: 1810
A22: 20 | B22: 4527 | E22: 4717 | F22: 4106 | I22: 4054 | O22: 2603 | P22: 1795 | U22: 3484 | V22: 4078 | X22: 3297 | Y22: 1407 | Z22: 2934 | AA22: 3353 | AB22: 2837 | AC22: 1946 | AD22: 995 | AE22: 1245 | AF22: 2971
A23: 21 | E23: 3136 | F23: 4582 | I23: 4529 | O23: 1803 | P23: 2936 | U23: 3036 | V23: 3597 | X23: 2808 | Y23: 2957 | Z23: 3557 | AA23: 3334 | AB23: 2841 | AC23: 1035 | AE23: 2911 | AF23: 2439
A24: 22 | F24: 5119 | O24: 2734 | P24: 2875 | U24: 4225 | V24: 5292 | X24: 4182 | Y24: 1077 | Z24: 2961 | AA24: 3365 | AB24: 3077 | AC24: 1039 | AE24: 3535
A25: 23 | F25: 3259 | O25: 1625 | P25: 8779 | U25: 4190 | V25: 4722 | X25: 1662 | Y25: 3811 | Z25: 3671 | AA25: 2362 | AC25: 1120 | AE25: 2125
A26: 24 | O26: 2258 | P26: 2532 | U26: 2894 | V26: 5035 | X26: 2769 | Y26: 4021 | Z26: 3811 | AA26: 2822 | AC26: 2172 | AE26: 2248
A27: 25 | O27: 3892 | P27: 2176 | U27: 4384 | V27: 4308 | X27: 3695 | Y27: 2554 | AA27: 1621 | AC27: 1852 | AE27: 1753
A28: 26 | O28: 3178 | P28: 2325 | V28: 3175 | X28: 1674 | Y28: 3352 | AC28: 1181 | AE28: 3914
A29: 27 | O29: 1904 | P29: 2694 | V29: 3738 | X29: 3240 | Y29: 3656 | AC29: 807 | AE29: 2647
A30: 28 | O30: 2618 | Y30: 3936 | AC30: 846 | AE30: 3047
A31: 29 | O31: 2468 | AC31: 1604 | AE31: 3038
A32: 30 | O32: 2693 | AC32: 1533 | AE32: 2621
A33: 31 | O33: 3612 | AC33: 1689 | AE33: 2355
A34: 32 | O34: 2442 | AE34: 3367
A35: 33 | O35: 2783 | AE35: 2744
A36: 34 | O36: 1987 | AE36: 3004
A37: 35 | O37: 3100 | AE37: 2634
A38: 36 | O38: 2529 | AE38: 3537
A39: 37 | O39: 4468 | AE39: 3924
A40: 38 | O40: 2101 | AE40: 4789
...

Sheet F12
B1: F2_2i localisations | M1: F2_R localisations | X1: F2_serum localisations
A2: ROI# | B2: F2_2i_20221220_001 | C2: F2_2i_20221220_002 | D2: F2_2i_20221220_003 | E2: F2_2i_20221220_004 | F2: F2_2i_20221220_005 | G2: F2_2i_20221220_006 | H2: F2_2i_20221220_007 | I2: F2_2i_20221220_008 | J2: F2_2i_20221220_009 | K2: F2_2i_20221220_010 | M2: F2_R_20221220_001 | N2: F2_R_20221220_002 | O2: F2_R_20221220_003 | P2: F2_R_20221220_004 | Q2: F2_R_20221220_005 | R2: F2_R_20221220_006 | S2: F2_R_20221220_007 | T2: F2_R_20221220_008 | U2: F2_R_20221220_009 | V2: F2_R_20221220_010 | X2: F2_serum_20221220_001 | Y2: F2_serum_20221220_002 | Z2: F2_serum_20221220_003 | AA2: F2_serum_20221220_004 | AB2: F2_serum_20221220_005 | AC2: F2_serum_20221220_006 | AD2: F2_serum_20221220_007 | AE2: F2_serum_20221220_008 | AF2: F2_serum_20221220_009 | AG2: F2_serum_20221220_010
A3: 1 | B3: 3057 | C3: 3620 | D3: 3985 | E3: 3848 | F3: 3411 | G3: 2610 | H3: 3657 | I3: 3326 | J3: 3793 | K3: 2020 | M3: 4355 | N3: 5171 | O3: 4020 | P3: 2778 | Q3: 4833 | R3: 2441 | S3: 3706 | T3: 3186 | U3: 3894 | V3: 3566 | X3: 2167 | Y3: 2534 | Z3: 1549 | AA3: 2873 | AB3: 149 | AC3: 1941 | AD3: 2407 | AE3: 1668 | AF3: 1987 | AG3: 2745
A4: 2 | B4: 3041 | C4: 3903 | D4: 2172 | E4: 2855 | F4: 1620 | G4: 1914 | H4: 2098 | I4: 2799 | J4: 4155 | K4: 1667 | M4: 3480 | N4: 4965 | O4: 4782 | P4: 3288 | Q4: 3741 | R4: 2470 | S4: 4833 | T4: 2236 | U4: 3568 | V4: 4354 | X4: 2188 | Y4: 1285 | Z4: 1286 | AA4: 3132 | AB4: 2242 | AC4: 1549 | AD4: 2163 | AE4: 1681 | AF4: 1947 | AG4: 3158
A5: 3 | B5: 3116 | C5: 3917 | D5: 2881 | E5: 2960 | F5: 1020 | G5: 2706 | H5: 2590 | I5: 2461 | J5: 2903 | K5: 2210 | M5: 3485 | N5: 4993 | O5: 5313 | P5: 4252 | Q5: 4072 | R5: 1921 | S5: 3869 | T5: 2741 | U5: 2990 | V5: 3346 | X5: 2705 | Y5: 1860 | Z5: 1748 | AA5: 2773 | AB5: 1887 | AC5: 1485 | AD5: 2690 | AE5: 1334 | AF5: 1564 | AG5: 2564
A6: 4 | B6: 2953 | C6: 2538 | D6: 1961 | E6: 4049 | F6: 2155 | G6: 2683 | H6: 3000 | I6: 4134 | J6: 2750 | K6: 2117 | M6: 1994 | N6: 4434 | O6: 6394 | P6: 3858 | Q6: 3401 | R6: 2726 | S6: 3859 | T6: 4293 | U6: 4204 | V6: 4864 | X6: 2850 | Y6: 1563 | Z6: 2153 | AA6: 2599 | AB6: 2400 | AC6: 1422 | AD6: 2034 | AE6: 1112 | AF6: 1631 | AG6: 2334
A7: 5 | B7: 3517 | C7: 3838 | D7: 2064 | E7: 1964 | F7: 1843 | G7: 2353 | H7: 3134 | I7: 2547 | J7: 3434 | K7: 2099 | M7: 3019 | N7: 5759 | O7: 5103 | P7: 8667 | Q7: 4177 | R7: 1887 | S7: 3080 | T7: 3895 | U7: 4337 | V7: 4351 | X7: 2913 | Y7: 2823 | Z7: 2707 | AA7: 2757 | AB7: 2329 | AC7: 1256 | AD7: 2647 | AE7: 1213 | AF7: 1798 | AG7: 1720
A8: 6 | B8: 2755 | C8: 2488 | D8: 3242 | E8: 3275 | F8: 3057 | G8: 2074 | H8: 2531 | I8: 8020 | J8: 2753 | K8: 2059 | M8: 2767 | N8: 4749 | O8: 5224 | P8: 4432 | Q8: 3537 | R8: 269 | S8: 3677 | T8: 2329 | U8: 2675 | V8: 5700 | X8: 1966 | Y8: 2657 | Z8: 2576 | AA8: 2930 | AB8: 2089 | AC8: 1770 | AD8: 2994 | AE8: 1720 | AF8: 1740 | AG8: 1687
A9: 7 | B9: 2882 | C9: 3639 | D9: 3718 | E9: 3065 | F9: 3276 | G9: 2289 | H9: 3361 | I9: 2155 | J9: 2887 | K9: 1719 | M9: 4360 | N9: 4035 | O9: 7734 | P9: 4656 | Q9: 3993 | R9: 1852 | S9: 4011 | T9: 2040 | U9: 8144 | V9: 5147 | X9: 1761 | Y9: 2861 | Z9: 2452 | AA9: 2375 | AB9: 2269 | AC9: 1950 | AD9: 2742 | AE9: 1932 | AF9: 1490 | AG9: 2194
A10: 8 | B10: 2801 | C10: 3523 | D10: 2740 | E10: 2316 | F10: 3911 | G10: 4257 | H10: 2858 | I10: 2076 | J10: 2584 | K10: 1896 | M10: 3123 | N10: 4110 | O10: 7964 | P10: 3456 | Q10: 3435 | R10: 2335 | S10: 3170 | T10: 3053 | U10: 2988 | V10: 3811 | X10: 1595 | Y10: 2970 | Z10: 2574 | AA10: 3631 | AB10: 939 | AC10: 1015 | AD10: 2913 | AE10: 780 | AF10: 1120 | AG10: 1779
A11: 9 | B11: 2423 | C11: 3244 | D11: 3049 | E11: 4372 | F11: 3885 | G11: 2976 | H11: 2498 | I11: 2488 | J11: 3700 | K11: 2078 | M11: 4885 | N11: 5126 | O11: 7790 | P11: 4602 | Q11: 4631 | R11: 1567 | S11: 3402 | T11: 4520 | U11: 2501 | V11: 4605 | X11: 1807 | Y11: 2623 | Z11: 2645 | AA11: 3319 | AB11: 3165 | AC11: 1225 | AD11: 1827 | AE11: 855 | AF11: 1831 | AG11: 1989
A12: 10 | B12: 3126 | C12: 3652 | D12: 2878 | E12: 3620 | F12: 4506 | G12: 2808 | H12: 3564 | I12: 3281 | J12: 2751 | K12: 1694 | M12: 3303 | N12: 5266 | O12: 5282 | P12: 3762 | Q12: 5370 | R12: 2369 | S12: 2574 | T12: 3971 | U12: 3636 | V12: 1050 | X12: 1854 | Y12: 2059 | Z12: 2261 | AA12: 2981 | AB12: 3029 | AC12: 1887 | AD12: 1235 | AE12: 1511 | AF12: 2768 | AG12: 1555
A13: 11 | B13: 3267 | C13: 4761 | D13: 3171 | E13: 3779 | F13: 2566 | G13: 2968 | H13: 2864 | I13: 3004 | J13: 1836 | K13: 1789 | M13: 3003 | N13: 4981 | O13: 6779 | P13: 4731 | Q13: 4570 | R13: 2284 | S13: 3203 | T13: 3361 | U13: 3280 | V13: 3810 | X13: 2293 | Y13: 2076 | Z13: 2799 | AA13: 3202 | AB13: 2978 | AC13: 2113 | AD13: 1215 | AE13: 1327 | AF13: 2049 | AG13: 3103
A14: 12 | B14: 2803 | C14: 4303 | D14: 2934 | E14: 1259 | F14: 3466 | G14: 4083 | H14: 2879 | I14: 4371 | J14: 3132 | K14: 2193 | M14: 3650 | N14: 6359 | O14: 4418 | P14: 3900 | Q14: 4261 | R14: 1650 | S14: 2741 | T14: 3441 | U14: 4217 | V14: 2903 | X14: 1723 | Y14: 3014 | Z14: 2101 | AA14: 3442 | AB14: 2734 | AC14: 2000 | AD14: 2939 | AE14: 960 | AF14: 1646 | AG14: 1862
... A16: 14 | B16: 3002 | C16: 4076 | D16: 3510 | E16: 2256 | F16: 4664 | G16: 4392 | H16: 3401 | I16: 3012 | J16: 3363 | K16: 2411 | M16: 5714 | N16: 4424 | O16: 5147 | P16: 4397 | Q16: 4086 | R16: 1307 | S16: 4523 | T16: 3791 | U16: 5084 | V16: 4605 | X16: 3606 | Y16: 1985 | Z16: 2140 | AA16: 3356 | AB16: 3110 | AC16: 1971 | AD16: 2382 | AE16: 1185 | AF16: 1853 | AG16: 1886
A17: 15 | B17: 2826 | D17: 2787 | E17: 4084 | F17: 2477 | G17: 3807 | H17: 3494 | I17: 4092 | J17: 1399 | K17: 2187 | M17: 4736 | N17: 5447 | P17: 4868 | Q17: 4902 | R17: 1448 | S17: 3678 | T17: 2695 | U17: 4380 | V17: 4010 | X17: 2827 | Y17: 2714 | Z17: 1211 | AA17: 3180 | AB17: 3157 | AC17: 1841 | AD17: 2371 | AE17: 1237 | AF17: 1396 | AG17: 1237
A18: 16 | B18: 3071 | D18: 2550 | E18: 3440 | F18: 3985 | G18: 3276 | H18: 3517 | I18: 3538 | J18: 2094 | K18: 2262 | M18: 3321 | P18: 4926 | Q18: 5284 | R18: 3288 | S18: 3174 | T18: 4045 | U18: 3505 | V18: 4274 | X18: 2656 | Y18: 2556 | Z18: 2077 | AA18: 2972 | AB18: 3078 | AC18: 1649 | AD18: 1872 | AE18: 1473 | AF18: 1025 | AG18: 2503
A19: 17 | B19: 2674 | D19: 2327 | E19: 2568 | F19: 1223 | G19: 2875 | H19: 2489 | I19: 3979 | J19: 2030 | K19: 3164 | M19: 3787 | P19: 5963 | Q19: 3726 | R19: 3258 | S19: 3470 | T19: 2577 | U19: 4000 | V19: 4037 | X19: 2098 | Y19: 3225 | Z19: 1252 | AA19: 3148 | AB19: 2240 | AC19: 2224 | AD19: 1629 | AE19: 1961 | AF19: 932 | AG19: 2995
A20: 18 | D20: 2738 | E20: 2448 | F20: 3791 | G20: 1795 | H20: 2002 | I20: 3809 | J20: 2794 | K20: 2273 | M20: 3123 | P20: 5746 | Q20: 3501 | R20: 3517 | S20: 4331 | T20: 3506 | U20: 2471 | V20: 4531 | X20: 2314 | Y20: 2794 | Z20: 2518 | AA20: 2547 | AB20: 1928 | AC20: 1442 | AD20: 2199 | AE20: 1545 | AF20: 999 | AG20: 2091
A21: 19 | D21: 1755 | E21: 2601 | F21: 2076 | G21: 1585 | H21: 2630 | I21: 2278 | J21: 2094 | K21: 3473 | M21: 3923 | P21: 5025 | Q21: 5597 | R21: 2641 | S21: 3813 | T21: 4275 | U21: 2960 | V21: 4825 | X21: 2854 | Y21: 2655 | Z21: 1854 | AA21: 3209 | AB21: 1831 | AC21: 1407 | AD21: 1758 | AE21: 2146 | AF21: 1692 | AG21: 2474
A22: 20 | D22: 2905 | E22: 2083 | F22: 2307 | G22: 2041 | H22: 2460 | I22: 2964 | J22: 3618 | K22: 3511 | M22: 2500 | P22: 4533 | Q22: 5423 | R22: 2797 | S22: 4143 | T22: 4437 | U22: 3650 | V22: 4510 | X22: 3530 | Z22: 1787 | AB22: 2248 | AC22: 1728 | AD22: 2755 | AE22: 2361 | AF22: 1692
A23: 21 | D23: 2394 | E23: 3456 | F23: 1745 | G23: 1941 | H23: 3249 | I23: 2913 | J23: 3655 | K23: 1554 | M23: 4380 | P23: 2545 | Q23: 6008 | R23: 2153 | S23: 3414 | T23: 3468 | U23: 3919 | V23: 4845 | X23: 3940 | AB23: 2673 | AD23: 2601 | AE23: 1329
A24: 22 | D24: 1743 | E24: 4986 | G24: 2357 | H24: 2766 | I24: 2555 | J24: 2357 | K24: 1851 | M24: 4579 | P24: 6033 | R24: 1779 | S24: 4104 | T24: 4490 | U24: 4468 | V24: 3621 | X24: 3545 | AB24: 2857 | AE24: 2440
A25: 23 | D25: 3277 | E25: 3232 | G25: 1938 | H25: 2640 | I25: 3927 | J25: 1779 | M25: 2675 | P25: 5299 | R25: 2676 | S25: 2991 | T25: 3592 | U25: 4807 | V25: 3914 | X25: 3673 | AB25: 2679 | AE25: 2402
A26: 24 | D26: 3314 | E26: 2663 | G26: 4197 | H26: 3309 | J26: 2028 | M26: 2676 | P26: 4750 | R26: 2303 | S26: 2875 | U26: 3709 | V26: 3727 | X26: 1892 | AB26: 2349 | AE26: 2083
A27: 25 | E27: 2282 | G27: 2977 | H27: 3189 | J27: 1713 | M27: 3749 | P27: 3712 | R27: 2730 | S27: 2854 | U27: 3962 | V27: 3014 | X27: 3523 | AB27: 2283 | AE27: 1588
