Workbook

Sheet Summary
B1: Ties | C1: Percent predicted | D1: Percent real | E1: TP | F1: TN | G1: FP | H1: FN | I1: TPR | J1: FNR | K1: TNR | L1: Precision | M1: Accuracy | N1: F1
A2: Familial and friendship ties | B2: Reciprocated | C2: =AVERAGE('Reciprocated Ties'!B$3:B$20) -> 0.449679 | D2: =AVERAGE('Reciprocated Ties'!C$3:C$20) -> 0.5 | E2: =SUM('Reciprocated Ties'!D$3:D$20) -> 1013 | F2: =SUM('Reciprocated Ties'!E$3:E$20) -> 1170 | G2: =SUM('Reciprocated Ties'!F$3:F$20) -> 264 | H2: =SUM('Reciprocated Ties'!G$3:G$20) -> 421 | I2: =AVERAGE('Reciprocated Ties'!H$3:H$20) -> 0.70062806 | J2: =AVERAGE('Reciprocated Ties'!I$3:I$20) -> 0.29937194 | K2: =AVERAGE('Reciprocated Ties'!J$3:J$20) -> 0.80127006 | L2: =AVERAGE('Reciprocated Ties'!K$3:K$20) -> 0.78089172 | M2: =AVERAGE('Reciprocated Ties'!L$3:L$20) -> 0.75094906 | N2: =AVERAGE('Reciprocated Ties'!M$3:M$20) -> 0.73791099
B3: Stable | C3: =AVERAGE('Stable Ties'!B$3:B$20) -> 0.43547213 | D3: =AVERAGE('Stable Ties'!C$3:C$20) -> 0.5 | E3: =SUM('Stable Ties'!D$3:D$20) -> 1224 | F3: =SUM('Stable Ties'!E$3:E$20) -> 1427 | G3: =SUM('Stable Ties'!F$3:F$20) -> 322 | H3: =SUM('Stable Ties'!G$3:G$20) -> 525 | I3: =AVERAGE('Stable Ties'!H$3:H$20) -> 0.68427303 | J3: =AVERAGE('Stable Ties'!I$3:I$20) -> 0.31572697 | K3: =AVERAGE('Stable Ties'!J$3:J$20) -> 0.81332878 | L3: =AVERAGE('Stable Ties'!K$3:K$20) -> 0.79004367 | M3: =AVERAGE('Stable Ties'!L$3:L$20) -> 0.7488009 | N3: =AVERAGE('Stable Ties'!M$3:M$20) -> 0.72989768
B4: All | C4: =AVERAGE('All Ties'!B$3:B$20) -> 0.45755992 | D4: =AVERAGE('All Ties'!C$3:C$20) -> 0.5 | E4: =SUM('All Ties'!D$3:D$20) -> 2383 | F4: =SUM('All Ties'!E$3:E$20) -> 2672 | G4: =SUM('All Ties'!F$3:F$20) -> 763 | H4: =SUM('All Ties'!G$3:G$20) -> 1052 | I4: =AVERAGE('All Ties'!H$3:H$20) -> 0.68359934 | J4: =AVERAGE('All Ties'!I$3:I$20) -> 0.31640066 | K4: =AVERAGE('All Ties'!J$3:J$20) -> 0.7684795 | L4: =AVERAGE('All Ties'!K$3:K$20) -> 0.74666173 | M4: =AVERAGE('All Ties'!L$3:L$20) -> 0.72603942 | N4: =AVERAGE('All Ties'!M$3:M$20) -> 0.71230521
A5: Non-kin ties | B5: Reciprocated | C5: =AVERAGE('Reciprocated Ties'!B$24:B$41) -> 0.48445604 | D5: =AVERAGE('Reciprocated Ties'!C$24:C$41) -> 0.5 | E5: =SUM('Reciprocated Ties'!D$24:D$41) -> 645 | F5: =SUM('Reciprocated Ties'!E$24:E$41) -> 695 | G5: =SUM('Reciprocated Ties'!F$24:F$41) -> 258 | H5: =SUM('Reciprocated Ties'!G$24:G$41) -> 308 | I5: =AVERAGE('Reciprocated Ties'!H$24:H$41) -> 0.68891373 | J5: =AVERAGE('Reciprocated Ties'!I$24:I$41) -> 0.31108627 | K5: =AVERAGE('Reciprocated Ties'!J$24:J$41) -> 0.72000165 | L5: =AVERAGE('Reciprocated Ties'!K$24:K$41) -> 0.71718639 | M5: =AVERAGE('Reciprocated Ties'!L$24:L$41) -> 0.70445769 | N5: =AVERAGE('Reciprocated Ties'!M$24:M$41) -> 0.69964447
B6: Stable | C6: =AVERAGE('Stable Ties'!B$24:B$41) -> 0.48831236 | D6: =AVERAGE('Stable Ties'!C$24:C$41) -> 0.5 | E6: =SUM('Stable Ties'!D$24:D$41) -> 849 | F6: =SUM('Stable Ties'!E$24:E$41) -> 863 | G6: =SUM('Stable Ties'!F$24:F$41) -> 371 | H6: =SUM('Stable Ties'!G$24:G$41) -> 385 | I6: =AVERAGE('Stable Ties'!H$24:H$41) -> 0.66256725 | J6: =AVERAGE('Stable Ties'!I$24:I$41) -> 0.33743275 | K6: =AVERAGE('Stable Ties'!J$24:J$41) -> 0.68594253 | L6: =AVERAGE('Stable Ties'!K$24:K$41) -> 0.67929212 | M6: =AVERAGE('Stable Ties'!L$24:L$41) -> 0.67425489 | N6: =AVERAGE('Stable Ties'!M$24:M$41) -> 0.66518133
B7: All | C7: =AVERAGE('All Ties'!B$24:B$41) -> 0.48612499 | D7: =AVERAGE('All Ties'!C$24:C$41) -> 0.5 | E7: =SUM('All Ties'!D$24:D$41) -> 1851 | F7: =SUM('All Ties'!E$24:E$41) -> 1894 | G7: =SUM('All Ties'!F$24:F$41) -> 775 | H7: =SUM('All Ties'!G$24:G$41) -> 818 | I7: =AVERAGE('All Ties'!H$24:H$41) -> 0.68198937 | J7: =AVERAGE('All Ties'!I$24:I$41) -> 0.31801063 | K7: =AVERAGE('All Ties'!J$24:J$41) -> 0.7097394 | L7: =AVERAGE('All Ties'!K$24:K$41) -> 0.7031743 | M7: =AVERAGE('All Ties'!L$24:L$41) -> 0.69586438 | N7: =AVERAGE('All Ties'!M$24:M$41) -> 0.69002822

Sheet All Ties
A1: All Relationships
A2: Village name | B2: Percent predicted | C2: Percent real | D2: TP | E2: TN | F2: FP | G2: FN | H2: TPR | I2: FNR | J2: TNR | K2: Precision | L2: Accuracy | M2: F1
A3: Azpeitia | B3: 0.44294294 | C3: 0.5 | D3: 224 | E3: 262 | F3: 71 | G3: 109 | H3: 0.67267267 | I3: 0.32732733 | J3: 0.78678679 | K3: 0.75932203 | L3: 0.72972973 | M3: 0.7133758
A4: Basauri | B4: 0.44311377 | C4: 0.5 | D4: 121 | E4: 140 | F4: 27 | G4: 46 | H4: 0.7245509 | I4: 0.2754491 | J4: 0.83832335 | K4: 0.81756757 | L4: 0.78143713 | M4: 0.76825397
A5: Bermeo | B5: 0.52894737 | C5: 0.5 | D5: 136 | E5: 125 | F5: 65 | G5: 54 | H5: 0.71578947 | I5: 0.28421053 | J5: 0.65789474 | K5: 0.67661692 | L5: 0.68684211 | M5: 0.69565217
A6: Erandio | B6: 0.43902439 | C6: 0.5 | D6: 335 | E6: 395 | F6: 97 | G6: 157 | H6: 0.68089431 | I6: 0.31910569 | J6: 0.80284553 | K6: 0.77546296 | L6: 0.74186992 | M6: 0.72510823
A7: Ermua | B7: 0.44196429 | C7: 0.5 | D7: 75 | E7: 88 | F7: 24 | G7: 37 | H7: 0.66964286 | I7: 0.33035714 | J7: 0.78571429 | K7: 0.75757576 | L7: 0.72767857 | M7: 0.71090047
A8: Getaria | B8: 0.44230769 | C8: 0.5 | D8: 19 | E8: 22 | F8: 4 | G8: 7 | H8: 0.73076923 | I8: 0.26923077 | J8: 0.84615385 | K8: 0.82608696 | L8: 0.78846154 | M8: 0.7755102
A9: Getxo | B9: 0.46545455 | C9: 0.5 | D9: 193 | E9: 212 | F9: 63 | G9: 82 | H9: 0.70181818 | I9: 0.29818182 | J9: 0.77090909 | K9: 0.75390625 | L9: 0.73636364 | M9: 0.72693032
A10: Hernani | B10: 0.45121951 | C10: 0.5 | D10: 142 | E10: 162 | F10: 43 | G10: 63 | H10: 0.69268293 | I10: 0.30731707 | J10: 0.7902439 | K10: 0.76756757 | L10: 0.74146341 | M10: 0.72820513
A11: Hondarribia | B11: 0.47844828 | C11: 0.5 | D11: 342 | E11: 362 | F11: 102 | G11: 122 | H11: 0.73706897 | I11: 0.26293103 | J11: 0.78017241 | K11: 0.77027027 | L11: 0.75862069 | M11: 0.75330396
A12: Irun | B12: 0.48571429 | C12: 0.5 | D12: 48 | E12: 50 | F12: 20 | G12: 22 | H12: 0.68571429 | I12: 0.31428571 | J12: 0.71428571 | K12: 0.70588235 | L12: 0.7 | M12: 0.69565217
A13: Laguardia | B13: 0.53370787 | C13: 0.5 | D13: 66 | E13: 60 | F13: 29 | G13: 23 | H13: 0.74157303 | I13: 0.25842697 | J13: 0.6741573 | K13: 0.69473684 | L13: 0.70786517 | M13: 0.7173913
A14: Lekeitio | B14: 0.43048128 | C14: 0.5 | D14: 116 | E14: 142 | F14: 45 | G14: 71 | H14: 0.62032086 | I14: 0.37967914 | J14: 0.75935829 | K14: 0.72049689 | L14: 0.68983957 | M14: 0.66666667
... A20: Zumaia | B20: 0.52083333 | C20: 0.5 | D20: 57 | E20: 54 | F20: 18 | G20: 15 | H20: 0.79166667 | I20: 0.20833333 | J20: 0.75 | K20: 0.76 | L20: 0.77083333 | M20: 0.7755102
A22: Non-Kin Different Households
A23: Village name | B23: Percent predicted | C23: Percent real | D23: TP | E23: TN | F23: FP | G23: FN | H23: TPR | I23: FNR | J23: TNR | K23: Precision | L23: Accuracy | M23: F1
A24: Azpeitia | B24: 0.51680672 | C24: 0.5 | D24: 164 | E24: 156 | F24: 82 | G24: 74 | H24: 0.68907563 | I24: 0.31092437 | J24: 0.65546218 | K24: 0.66666667 | L24: 0.67226891 | M24: 0.67768595
A25: Basauri | B25: 0.45864662 | C25: 0.5 | D25: 91 | E25: 102 | F25: 31 | G25: 42 | H25: 0.68421053 | I25: 0.31578947 | J25: 0.76691729 | K25: 0.74590164 | L25: 0.72556391 | M25: 0.71372549
A26: Bermeo | B26: 0.55660377 | C26: 0.5 | D26: 118 | E26: 100 | F26: 59 | G26: 41 | H26: 0.74213836 | I26: 0.25786164 | J26: 0.62893082 | K26: 0.66666667 | L26: 0.68553459 | M26: 0.70238095
A27: Erandio | B27: 0.47191011 | C27: 0.5 | D27: 233 | E27: 253 | F27: 103 | G27: 123 | H27: 0.65449438 | I27: 0.34550562 | J27: 0.71067416 | K27: 0.69345238 | L27: 0.68258427 | M27: 0.6734104
A28: Ermua | B28: 0.38888889 | C28: 0.5 | D28: 42 | E28: 58 | F28: 14 | G28: 30 | H28: 0.58333333 | I28: 0.41666667 | J28: 0.80555556 | K28: 0.75 | L28: 0.69444444 | M28: 0.65625
A29: Getaria | B29: 0.44117647 | C29: 0.5 | D29: 12 | E29: 14 | F29: 3 | G29: 5 | H29: 0.70588235 | I29: 0.29411765 | J29: 0.82352941 | K29: 0.8 | L29: 0.76470588 | M29: 0.75
A30: Getxo | B30: 0.48689956 | C30: 0.5 | D30: 160 | E30: 166 | F30: 63 | G30: 69 | H30: 0.69868996 | I30: 0.30131004 | J30: 0.72489083 | K30: 0.71748879 | L30: 0.71179039 | M30: 0.7079646
A31: Hernani | B31: 0.47826087 | C31: 0.5 | D31: 120 | E31: 127 | F31: 34 | G31: 41 | H31: 0.74534161 | I31: 0.25465839 | J31: 0.78881988 | K31: 0.77922078 | L31: 0.76708075 | M31: 0.76190476
A32: Hondarribia | B32: 0.51506849 | C32: 0.5 | D32: 275 | E32: 264 | F32: 101 | G32: 90 | H32: 0.75342466 | I32: 0.24657534 | J32: 0.72328767 | K32: 0.73138298 | L32: 0.73835616 | M32: 0.74224022
A33: Irun | B33: 0.58870968 | C33: 0.5 | D33: 45 | E33: 34 | F33: 28 | G33: 17 | H33: 0.72580645 | I33: 0.27419355 | J33: 0.5483871 | K33: 0.61643836 | L33: 0.63709677 | M33: 0.66666667
A34: Laguardia | B34: 0.55769231 | C34: 0.5 | D34: 59 | E34: 50 | F34: 28 | G34: 19 | H34: 0.75641026 | I34: 0.24358974 | J34: 0.64102564 | K34: 0.67816092 | L34: 0.69871795 | M34: 0.71515152
A35: Lekeitio | B35: 0.43478261 | C35: 0.5 | D35: 95 | E35: 116 | F35: 45 | G35: 66 | H35: 0.59006211 | I35: 0.40993789 | J35: 0.72049689 | K35: 0.67857143 | L35: 0.6552795 | M35: 0.63122924
... A41: Zumaia | B41: 0.57627119 | C41: 0.5 | D41: 45 | E41: 36 | F41: 23 | G41: 14 | H41: 0.76271186 | I41: 0.23728814 | J41: 0.61016949 | K41: 0.66176471 | L41: 0.68644068 | M41: 0.70866142

Sheet Stable Ties
A1: All Relationships
A2: Village name | B2: Percent predicted | C2: Percent real | D2: TP | E2: TN | F2: FP | G2: FN | H2: TPR | I2: FNR | J2: TNR | K2: Precision | L2: Accuracy | M2: F1
A3: Azpeitia | B3: 0.46335079 | C3: 0.5 | D3: 139 | E3: 153 | F3: 38 | G3: 52 | H3: 0.72774869 | I3: 0.27225131 | J3: 0.80104712 | K3: 0.78531073 | L3: 0.76439791 | M3: 0.75543478
A4: Basauri | B4: 0.44148936 | C4: 0.5 | D4: 68 | E4: 79 | F4: 15 | G4: 26 | H4: 0.72340426 | I4: 0.27659574 | J4: 0.84042553 | K4: 0.81927711 | L4: 0.78191489 | M4: 0.76836158
A5: Bermeo | B5: 0.50555556 | C5: 0.5 | D5: 70 | E5: 69 | F5: 21 | G5: 20 | H5: 0.77777778 | I5: 0.22222222 | J5: 0.76666667 | K5: 0.76923077 | L5: 0.77222222 | M5: 0.77348066
A6: Erandio | B6: 0.41864407 | C6: 0.5 | D6: 199 | E6: 247 | F6: 48 | G6: 96 | H6: 0.67457627 | I6: 0.32542373 | J6: 0.83728814 | K6: 0.80566802 | L6: 0.7559322 | M6: 0.73431734
A7: Ermua | B7: 0.42045455 | C7: 0.5 | D7: 35 | E7: 42 | F7: 2 | G7: 9 | H7: 0.79545455 | I7: 0.20454545 | J7: 0.95454545 | K7: 0.94594595 | L7: 0.875 | M7: 0.86419753
A8: Getaria | B8: 0.26923077 | C8: 0.5 | D8: 6 | E8: 12 | F8: 1 | G8: 7 | H8: 0.46153846 | I8: 0.53846154 | J8: 0.92307692 | K8: 0.85714286 | L8: 0.69230769 | M8: 0.6
A9: Getxo | B9: 0.45982143 | C9: 0.5 | D9: 79 | E9: 88 | F9: 24 | G9: 33 | H9: 0.70535714 | I9: 0.29464286 | J9: 0.78571429 | K9: 0.76699029 | L9: 0.74553571 | M9: 0.73488372
A10: Hernani | B10: 0.39583333 | C10: 0.5 | D10: 53 | E10: 68 | F10: 4 | G10: 19 | H10: 0.73611111 | I10: 0.26388889 | J10: 0.94444444 | K10: 0.92982456 | L10: 0.84027778 | M10: 0.82170543
A11: Hondarribia | B11: 0.45696721 | C11: 0.5 | D11: 180 | E11: 201 | F11: 43 | G11: 64 | H11: 0.73770492 | I11: 0.26229508 | J11: 0.82377049 | K11: 0.80717489 | L11: 0.7807377 | M11: 0.77087794
A12: Irun | B12: 0.43269231 | C12: 0.5 | D12: 33 | E12: 40 | F12: 12 | G12: 19 | H12: 0.63461538 | I12: 0.36538462 | J12: 0.76923077 | K12: 0.73333333 | L12: 0.70192308 | M12: 0.68041237
A13: Laguardia | B13: 0.5 | C13: 0.5 | D13: 40 | E13: 40 | F13: 15 | G13: 15 | H13: 0.72727273 | I13: 0.27272727 | J13: 0.72727273 | K13: 0.72727273 | L13: 0.72727273 | M13: 0.72727273
A14: Lekeitio | B14: 0.45098039 | C14: 0.5 | D14: 32 | E14: 37 | F14: 14 | G14: 19 | H14: 0.62745098 | I14: 0.37254902 | J14: 0.7254902 | K14: 0.69565217 | L14: 0.67647059 | M14: 0.65979381
... A20: Zumaia | B20: 0.53488372 | C20: 0.5 | D20: 31 | E20: 28 | F20: 15 | G20: 12 | H20: 0.72093023 | I20: 0.27906977 | J20: 0.65116279 | K20: 0.67391304 | L20: 0.68604651 | M20: 0.69662921
A22: Non-Kin Different Households
A23: Village name | B23: Percent predicted | C23: Percent real | D23: TP | E23: TN | F23: FP | G23: FN | H23: TPR | I23: FNR | J23: TNR | K23: Precision | L23: Accuracy | M23: F1
A24: Azpeitia | B24: 0.52380952 | C24: 0.5 | D24: 85 | E24: 79 | F24: 47 | G24: 41 | H24: 0.67460317 | I24: 0.32539683 | J24: 0.62698413 | K24: 0.64393939 | L24: 0.65079365 | M24: 0.65891473
A25: Basauri | B25: 0.47761194 | C25: 0.5 | D25: 48 | E25: 51 | F25: 16 | G25: 19 | H25: 0.71641791 | I25: 0.28358209 | J25: 0.76119403 | K25: 0.75 | L25: 0.73880597 | M25: 0.73282443
A26: Bermeo | B26: 0.58955224 | C26: 0.5 | D26: 52 | E26: 40 | F26: 27 | G26: 15 | H26: 0.7761194 | I26: 0.2238806 | J26: 0.59701493 | K26: 0.65822785 | L26: 0.68656716 | M26: 0.71232877
A27: Erandio | B27: 0.45408163 | C27: 0.5 | D27: 132 | E27: 150 | F27: 46 | G27: 64 | H27: 0.67346939 | I27: 0.32653061 | J27: 0.76530612 | K27: 0.74157303 | L27: 0.71938776 | M27: 0.70588235
A28: Ermua | B28: 0.42105263 | C28: 0.5 | D28: 12 | E28: 15 | F28: 4 | G28: 7 | H28: 0.63157895 | I28: 0.36842105 | J28: 0.78947368 | K28: 0.75 | L28: 0.71052632 | M28: 0.68571429
A29: Getaria | B29: 0.22222222 | C29: 0.5 | D29: 2 | E29: 7 | F29: 2 | G29: 7 | H29: 0.22222222 | I29: 0.77777778 | J29: 0.77777778 | K29: 0.5 | L29: 0.5 | M29: 0.30769231
A30: Getxo | B30: 0.50609756 | C30: 0.5 | D30: 55 | E30: 54 | F30: 28 | G30: 27 | H30: 0.67073171 | I30: 0.32926829 | J30: 0.65853659 | K30: 0.6626506 | L30: 0.66463415 | M30: 0.66666667
A31: Hernani | B31: 0.38235294 | C31: 0.5 | D31: 35 | E31: 47 | F31: 4 | G31: 16 | H31: 0.68627451 | I31: 0.31372549 | J31: 0.92156863 | K31: 0.8974359 | L31: 0.80392157 | M31: 0.77777778
A32: Hondarribia | B32: 0.49712644 | C32: 0.5 | D32: 128 | E32: 129 | F32: 45 | G32: 46 | H32: 0.73563218 | I32: 0.26436782 | J32: 0.74137931 | K32: 0.73988439 | L32: 0.73850575 | M32: 0.73775216
A33: Irun | B33: 0.55555556 | C33: 0.5 | D33: 32 | E33: 27 | F33: 18 | G33: 13 | H33: 0.71111111 | I33: 0.28888889 | J33: 0.6 | K33: 0.64 | L33: 0.65555556 | M33: 0.67368421
A34: Laguardia | B34: 0.57142857 | C34: 0.5 | D34: 33 | E34: 26 | F34: 23 | G34: 16 | H34: 0.67346939 | I34: 0.32653061 | J34: 0.53061224 | K34: 0.58928571 | L34: 0.60204082 | M34: 0.62857143
A35: Lekeitio | B35: 0.48717949 | C35: 0.5 | D35: 25 | E35: 26 | F35: 13 | G35: 14 | H35: 0.64102564 | I35: 0.35897436 | J35: 0.66666667 | K35: 0.65789474 | L35: 0.65384615 | M35: 0.64935065
... A41: Zumaia | B41: 0.65151515 | C41: 0.5 | D41: 26 | E41: 16 | F41: 17 | G41: 7 | H41: 0.78787879 | I41: 0.21212121 | J41: 0.48484848 | K41: 0.60465116 | L41: 0.63636364 | M41: 0.68421053

Sheet Reciprocated Ties
A1: All Relationships
A2: Village name | B2: Percent predicted | C2: Percent real | D2: TP | E2: TN | F2: FP | G2: FN | H2: TPR | I2: FNR | J2: TNR | K2: Precision | L2: Accuracy | M2: F1
A3: Azpeitia | B3: 0.43884892 | C3: 0.5 | D3: 92 | E3: 109 | F3: 30 | G3: 47 | H3: 0.6618705 | I3: 0.3381295 | J3: 0.78417266 | K3: 0.75409836 | L3: 0.72302158 | M3: 0.70498084
A4: Basauri | B4: 0.46527778 | C4: 0.5 | D4: 53 | E4: 58 | F4: 14 | G4: 19 | H4: 0.73611111 | I4: 0.26388889 | J4: 0.80555556 | K4: 0.79104478 | L4: 0.77083333 | M4: 0.76258993
A5: Bermeo | B5: 0.5 | C5: 0.5 | D5: 54 | E5: 54 | F5: 17 | G5: 17 | H5: 0.76056338 | I5: 0.23943662 | J5: 0.76056338 | K5: 0.76056338 | L5: 0.76056338 | M5: 0.76056338
A6: Erandio | B6: 0.43203883 | C6: 0.5 | D6: 144 | E6: 172 | F6: 34 | G6: 62 | H6: 0.69902913 | I6: 0.30097087 | J6: 0.83495146 | K6: 0.80898876 | L6: 0.76699029 | M6: 0.75
A7: Ermua | B7: 0.42708333 | C7: 0.5 | D7: 37 | E7: 44 | F7: 4 | G7: 11 | H7: 0.77083333 | I7: 0.22916667 | J7: 0.91666667 | K7: 0.90243902 | L7: 0.84375 | M7: 0.83146067
A8: Getaria | B8: 0.42857143 | C8: 0.5 | D8: 4 | E8: 5 | F8: 2 | G8: 3 | H8: 0.57142857 | I8: 0.42857143 | J8: 0.71428571 | K8: 0.66666667 | L8: 0.64285714 | M8: 0.61538462
A9: Getxo | B9: 0.47297297 | C9: 0.5 | D9: 83 | E9: 89 | F9: 22 | G9: 28 | H9: 0.74774775 | I9: 0.25225225 | J9: 0.8018018 | K9: 0.79047619 | L9: 0.77477477 | M9: 0.76851852
A10: Hernani | B10: 0.41578947 | C10: 0.5 | D10: 70 | E10: 86 | F10: 9 | G10: 25 | H10: 0.73684211 | I10: 0.26315789 | J10: 0.90526316 | K10: 0.88607595 | L10: 0.82105263 | M10: 0.8045977
A11: Hondarribia | B11: 0.42676768 | C11: 0.5 | D11: 134 | E11: 163 | F11: 35 | G11: 64 | H11: 0.67676768 | I11: 0.32323232 | J11: 0.82323232 | K11: 0.79289941 | L11: 0.75 | M11: 0.73024523
A12: Irun | B12: 0.48571429 | C12: 0.5 | D12: 25 | E12: 26 | F12: 9 | G12: 10 | H12: 0.71428571 | I12: 0.28571429 | J12: 0.74285714 | K12: 0.73529412 | L12: 0.72857143 | M12: 0.72463768
A13: Laguardia | B13: 0.45192308 | C13: 0.5 | D13: 34 | E13: 39 | F13: 13 | G13: 18 | H13: 0.65384615 | I13: 0.34615385 | J13: 0.75 | K13: 0.72340426 | L13: 0.70192308 | M13: 0.68686869
A14: Lekeitio | B14: 0.45833333 | C14: 0.5 | D14: 43 | E14: 48 | F14: 12 | G14: 17 | H14: 0.71666667 | I14: 0.28333333 | J14: 0.8 | K14: 0.78181818 | L14: 0.75833333 | M14: 0.74782609
... A20: Zumaia | B20: 0.5 | C20: 0.5 | D20: 21 | E20: 21 | F20: 10 | G20: 10 | H20: 0.67741935 | I20: 0.32258065 | J20: 0.67741935 | K20: 0.67741935 | L20: 0.67741935 | M20: 0.67741935
A22: Non-Kin Different Households
A23: Village name | B23: Percent predicted | C23: Percent real | D23: TP | E23: TN | F23: FP | G23: FN | H23: TPR | I23: FNR | J23: TNR | K23: Precision | L23: Accuracy | M23: F1
A24: Azpeitia | B24: 0.54395604 | C24: 0.5 | D24: 65 | E24: 57 | F24: 34 | G24: 26 | H24: 0.71428571 | I24: 0.28571429 | J24: 0.62637363 | K24: 0.65656566 | L24: 0.67032967 | M24: 0.68421053
A25: Basauri | B25: 0.45283019 | C25: 0.5 | D25: 38 | E25: 43 | F25: 10 | G25: 15 | H25: 0.71698113 | I25: 0.28301887 | J25: 0.81132075 | K25: 0.79166667 | L25: 0.76415094 | M25: 0.75247525
A26: Bermeo | B26: 0.55434783 | C26: 0.5 | D26: 32 | E26: 27 | F26: 19 | G26: 14 | H26: 0.69565217 | I26: 0.30434783 | J26: 0.58695652 | K26: 0.62745098 | L26: 0.64130435 | M26: 0.65979381
A27: Erandio | B27: 0.4233871 | C27: 0.5 | D27: 75 | E27: 94 | F27: 30 | G27: 49 | H27: 0.60483871 | I27: 0.39516129 | J27: 0.75806452 | K27: 0.71428571 | L27: 0.68145161 | M27: 0.65502183
A28: Ermua | B28: 0.43181818 | C28: 0.5 | D28: 15 | E28: 18 | F28: 4 | G28: 7 | H28: 0.68181818 | I28: 0.31818182 | J28: 0.81818182 | K28: 0.78947368 | L28: 0.75 | M28: 0.73170732
A29: Getaria | B29: 0.4 | C29: 0.5 | D29: 3 | E29: 4 | F29: 1 | G29: 2 | H29: 0.6 | I29: 0.4 | J29: 0.8 | K29: 0.75 | L29: 0.7 | M29: 0.66666667
A30: Getxo | B30: 0.51973684 | C30: 0.5 | D30: 58 | E30: 55 | F30: 21 | G30: 18 | H30: 0.76315789 | I30: 0.23684211 | J30: 0.72368421 | K30: 0.73417722 | L30: 0.74342105 | M30: 0.7483871
A31: Hernani | B31: 0.42741935 | C31: 0.5 | D31: 41 | E31: 50 | F31: 12 | G31: 21 | H31: 0.66129032 | I31: 0.33870968 | J31: 0.80645161 | K31: 0.77358491 | L31: 0.73387097 | M31: 0.71304348
A32: Hondarribia | B32: 0.41901408 | C32: 0.5 | D32: 89 | E32: 112 | F32: 30 | G32: 53 | H32: 0.62676056 | I32: 0.37323944 | J32: 0.78873239 | K32: 0.74789916 | L32: 0.70774648 | M32: 0.68199234
A33: Irun | B33: 0.57142857 | C33: 0.5 | D33: 21 | E33: 17 | F33: 11 | G33: 7 | H33: 0.75 | I33: 0.25 | J33: 0.60714286 | K33: 0.65625 | L33: 0.67857143 | M33: 0.7
A34: Laguardia | B34: 0.48837209 | C34: 0.5 | D34: 31 | E34: 32 | F34: 11 | G34: 12 | H34: 0.72093023 | I34: 0.27906977 | J34: 0.74418605 | K34: 0.73809524 | L34: 0.73255814 | M34: 0.72941176
A35: Lekeitio | B35: 0.52439024 | C35: 0.5 | D35: 33 | E35: 31 | F35: 10 | G35: 8 | H35: 0.80487805 | I35: 0.19512195 | J35: 0.75609756 | K35: 0.76744186 | L35: 0.7804878 | M35: 0.78571429
... A41: Zumaia | B41: 0.68181818 | C41: 0.5 | D41: 18 | E41: 10 | F41: 12 | G41: 4 | H41: 0.81818182 | I41: 0.18181818 | J41: 0.45454545 | K41: 0.6 | L41: 0.63636364 | M41: 0.69230769
