Workbook
Name LDSC_AlcWeek_2022_Saunders_GSCAN_DrnkWk_2022_GWAS_SUMMARY_STATS_EUR_Siletti_l2_05_22_24.cell_type_results: LDSC_ALCOHOL_per_week!$B$1:$E$462
Name LDSC_ALZ_2022_Bellenguez_GCST90027158_buildGRCh38_Siletti_l2_05_19_24.cell_type_results: LDSC_ALZHEIMERS_DISEASE!$B$1:$E$462
Name LDSC_BIP_2021_PGC_Mullins_pgc_bip2021_all_cleaned_Siletti_l2_05_22_24.cell_type_results: LDSC_BIPOLAR_DISORDER!$B$1:$E$462
Name LDSC_MDD_2019_PGC_2019_pgc_ukb_depression_genome_wide_Siletti_l2_05_22_24.cell_type_results: LDSC_DEPRESSION!$B$1:$E$462
Name LDSC_MS_2019_IMSGC_discovery_metav3_Siletti_l2_05_22_24.cell_type_results: LDSC_MULTIPLE_SCLEROSIS!$B$1:$E$462
Name LDSC_SCZ_2022_PGC3_SCZ_wave3_european_autosome_public_v3_Siletti_l2_05_20_24.cell_type_results: LDSC_SCHIZOPHRENIA!$B$1:$E$462
Name LDSC_Sleep_Duration_Dashti_2019_Siletti_l2_05_22_24.cell_type_results: LDSC_SLEEP_per_night!$B$1:$E$462

Sheet Table of Contents
A1: Supplementary Table 23
A2: 23-1 | B2: Summary_comparision_LDSC_and_MAGMA
A3: 23-2 | B3: LDSC_Schizophrenia
A4: 23-3 | B4: LDSC_Alcohol_per_week
A5: 23-4 | B5: LDSC_Sleep_per_night
A6: 23-5 | B6: LDSC_Alzheimers_Disease
A7: 23-6 | B7: LDSC_Multiple_sclerosis
A8: 23-7 | B8: LDSC_Bipolar_disorder
A9: 23-8 | B9: LDSC_Depression
A17: Notes
A18: Green | B18: Denotes MAGMA significant independent cell types
A19: Yellow | B19: Denotes Bonferroni significant p-values; superseeded by green for significant independent cell types. Conditional analyses conducted for the psychiatric phenotypes.

Sheet Summary_comparison
A1: Phenotype | B1: Number of significant LDSC cell type | C1: Number of significant MAGMA cell type | D1: Spearman's correlation of LDSC and MAGMA cell type rankings
A2: Schizophrenia | B2: 10 | C2: 109 | D2: =LDSC_SCHIZOPHRENIA!M2 -> 0.71350193
A3: Alcohol per week | B3: 3 | C3: 28 | D3: =LDSC_ALCOHOL_per_week!M2 -> 0.61770927
A4: Sleep per night | B4: 0 | C4: 63 | D4: =LDSC_SLEEP_per_night!M2 -> 0.72289651
A5: Alzheimer's disease | B5: 0 | C5: 10 | D5: =LDSC_ALZHEIMERS_DISEASE!M2 -> 0.36057703
A6: Multiple sclerosis | B6: 0 | C6: 11 | D6: =LDSC_MULTIPLE_SCLEROSIS!M2 -> 0.17743706
A7: Bipolar disorder | B7: 7 | C7: 83 | D7: =LDSC_BIPOLAR_DISORDER!M2 -> 0.74802253
A8: Depression | B8: 6 | C8: 41 | D8: =LDSC_DEPRESSION!M2 -> 0.7024917

Sheet LDSC_SCHIZOPHRENIA
A1: Cluster | B1: Name | C1: LDSC_Coefficient | D1: LDSC_Coefficient_std_error | E1: LDSC_Coefficient_P_value | F1: LDSC_Coefficient_P_value_rank | G1: MAGMA_BETA | H1: MAGMA_BETA_STD | I1: MAGMA_SE | J1: MAGMA_P | K1: MAGMA_P_rank | L1: Correlation
A2: =VALUE(SUBSTITUTE(B2, "Cluster", "")) -> 404 | B2: Cluster404 | C2: 2.9580468e-08 | D2: 6.2245725e-09 | E2: 1.0060325e-06 | F2: =INT(_xlfn.RANK.AVG(E2,$E$2:$E$462,1)) -> 1 | G2: 38.591 | H2: 0.045045 | I2: 7.3356 | J2: 7.2867e-08 | K2: =_xlfn.RANK.AVG(J2, $J$2:$J$462,1) -> 56 | L2: Spearman's on P | M2: =CORREL(F2:F462, K2:K462) -> 0.71350193
A3: =VALUE(SUBSTITUTE(B3, "Cluster", "")) -> 188 | B3: Cluster188 | C3: 2.4801312e-08 | D3: 5.5923568e-09 | E3: 4.6066339e-06 | F3: =INT(_xlfn.RANK.AVG(E3,$E$2:$E$462,1)) -> 2 | G3: 12.039 | H3: 0.019495 | I3: 5.5695 | J3: 0.015335 | K3: =_xlfn.RANK.AVG(J3, $J$2:$J$462,1) -> 222
A4: =VALUE(SUBSTITUTE(B4, "Cluster", "")) -> 179 | B4: Cluster179 | C4: 3.1029294e-08 | D4: 7.0017806e-09 | E4: 4.6761921e-06 | F4: =INT(_xlfn.RANK.AVG(E4,$E$2:$E$462,1)) -> 3 | G4: 24.264 | H4: 0.038152 | I4: 5.9953 | J4: 2.6072e-05 | K4: =_xlfn.RANK.AVG(J4, $J$2:$J$462,1) -> 89
A5: =VALUE(SUBSTITUTE(B5, "Cluster", "")) -> 250 | B5: Cluster250 | C5: 2.4923636e-08 | D5: 5.7862418e-09 | E5: 8.2593747e-06 | F5: =INT(_xlfn.RANK.AVG(E5,$E$2:$E$462,1)) -> 4 | G5: 39.726 | H5: 0.067049 | I5: 5.9948 | J5: 1.782e-11 | K5: =_xlfn.RANK.AVG(J5, $J$2:$J$462,1) -> 26
A6: =VALUE(SUBSTITUTE(B6, "Cluster", "")) -> 231 | B6: Cluster231 | C6: 2.885887e-08 | D6: 6.9601279e-09 | E6: 1.6893586e-05 | F6: =INT(_xlfn.RANK.AVG(E6,$E$2:$E$462,1)) -> 5 | G6: 46.407 | H6: 0.062167 | I6: 6.9914 | J6: 1.6543e-11 | K6: =_xlfn.RANK.AVG(J6, $J$2:$J$462,1) -> 25
A7: =VALUE(SUBSTITUTE(B7, "Cluster", "")) -> 230 | B7: Cluster230 | C7: 2.861424e-08 | D7: 7.1949647e-09 | E7: 3.4897826e-05 | F7: =INT(_xlfn.RANK.AVG(E7,$E$2:$E$462,1)) -> 6 | G7: 29.671 | H7: 0.045315 | I7: 5.8591 | J7: 2.0803e-07 | K7: =_xlfn.RANK.AVG(J7, $J$2:$J$462,1) -> 64
A8: =VALUE(SUBSTITUTE(B8, "Cluster", "")) -> 269 | B8: Cluster269 | C8: 2.7312766e-08 | D8: 6.8895809e-09 | E8: 3.6796849e-05 | F8: =INT(_xlfn.RANK.AVG(E8,$E$2:$E$462,1)) -> 7 | G8: 45.085 | H8: 0.05955 | I8: 7.1125 | J8: 1.1945e-10 | K8: =_xlfn.RANK.AVG(J8, $J$2:$J$462,1) -> 31
A9: =VALUE(SUBSTITUTE(B9, "Cluster", "")) -> 167 | B9: Cluster167 | C9: 2.7983899e-08 | D9: 7.1445248e-09 | E9: 4.4860235e-05 | F9: =INT(_xlfn.RANK.AVG(E9,$E$2:$E$462,1)) -> 8 | G9: 21.528 | H9: 0.035188 | I9: 5.596 | J9: 6.0052e-05 | K9: =_xlfn.RANK.AVG(J9, $J$2:$J$462,1) -> 103
A10: =VALUE(SUBSTITUTE(B10, "Cluster", "")) -> 243 | B10: Cluster243 | C10: 2.3293431e-08 | D10: 6.1455508e-09 | E10: 7.5235191e-05 | F10: =INT(_xlfn.RANK.AVG(E10,$E$2:$E$462,1)) -> 9 | G10: 46.052 | H10: 0.066773 | I10: 6.712 | J10: 3.5649e-12 | K10: =_xlfn.RANK.AVG(J10, $J$2:$J$462,1) -> 14
A11: =VALUE(SUBSTITUTE(B11, "Cluster", "")) -> 278 | B11: Cluster278 | C11: 2.707263e-08 | D11: 7.166338e-09 | E11: 7.9125959e-05 | F11: =INT(_xlfn.RANK.AVG(E11,$E$2:$E$462,1)) -> 10 | G11: 50.8 | H11: 0.074096 | I11: 6.4278 | J11: 1.466e-15 | K11: =_xlfn.RANK.AVG(J11, $J$2:$J$462,1) -> 4
A12: =VALUE(SUBSTITUTE(B12, "Cluster", "")) -> 289 | B12: Cluster289 | C12: 2.3747552e-08 | D12: 6.4377724e-09 | E12: 0.00011266419 | F12: =INT(_xlfn.RANK.AVG(E12,$E$2:$E$462,1)) -> 11 | G12: 29.51 | H12: 0.051665 | I12: 5.4569 | J12: 3.2452e-08 | K12: =_xlfn.RANK.AVG(J12, $J$2:$J$462,1) -> 49
A13: =VALUE(SUBSTITUTE(B13, "Cluster", "")) -> 228 | B13: Cluster228 | C13: 2.4666819e-08 | D13: 6.7388867e-09 | E13: 0.00012592565 | F13: =INT(_xlfn.RANK.AVG(E13,$E$2:$E$462,1)) -> 12 | G13: 50.682 | H13: 0.063994 | I13: 7.5256 | J13: 8.5587e-12 | K13: =_xlfn.RANK.AVG(J13, $J$2:$J$462,1) -> 18
A14: =VALUE(SUBSTITUTE(B14, "Cluster", "")) -> 229 | B14: Cluster229 | C14: 2.4915797e-08 | D14: 6.9680738e-09 | E14: 0.00017464072 | F14: =INT(_xlfn.RANK.AVG(E14,$E$2:$E$462,1)) -> 13 | G14: 42.871 | H14: 0.058965 | I14: 6.7375 | J14: 1.0214e-10 | K14: =_xlfn.RANK.AVG(J14, $J$2:$J$462,1) -> 30
... A462: =VALUE(SUBSTITUTE(B462, "Cluster", "")) -> 68 | B462: Cluster68 | C462: -5.105739e-08 | D462: 6.9495105e-09 | E462: 1 | F462: =INT(_xlfn.RANK.AVG(E462,$E$2:$E$462,1)) -> 461 | G462: -1.4347 | H462: -0.01066 | I462: 1.215 | J462: 0.88117 | K462: =_xlfn.RANK.AVG(J462, $J$2:$J$462,1) -> 405

Sheet LDSC_ALCOHOL_per_week
A1: Cluster | B1: Name | C1: LDSC_Coefficient | D1: LDSC_Coefficient_std_error | E1: LDSC_Coefficient_P_value | F1: LDSC_Coefficient_P_value_rank | G1: MAGMA_BETA | H1: MAGMA_BETA_STD | I1: MAGMA_SE | J1: MAGMA_P | K1: MAGMA_P_rank | L1: Correlation
A2: =VALUE(SUBSTITUTE(B2, "Cluster", "")) -> 404 | B2: Cluster404 | C2: 4.5790903e-09 | D2: 1.0146797e-09 | E2: 3.1982149e-06 | F2: =_xlfn.RANK.AVG(E2, $E$2:$E$462,1) -> 1 | G2: 20.523 | H2: 0.023928 | I2: 7.4 | J2: 0.0027774 | K2: =_xlfn.RANK.AVG(J2, $J$2:$J$462,1) -> 83 | L2: Spearman's on P | M2: =CORREL(F2:F462, K2:K462) -> 0.61770927
A3: =VALUE(SUBSTITUTE(B3, "Cluster", "")) -> 138 | B3: Cluster138 | C3: 5.4036921e-09 | D3: 1.2696543e-09 | E3: 1.040425e-05 | F3: =_xlfn.RANK.AVG(E3, $E$2:$E$462,1) -> 2 | G3: 18.504 | H3: 0.031235 | I3: 5.1441 | J3: 0.00016147 | K3: =_xlfn.RANK.AVG(J3, $J$2:$J$462,1) -> 37
A4: =VALUE(SUBSTITUTE(B4, "Cluster", "")) -> 133 | B4: Cluster133 | C4: 5.5408413e-09 | D4: 1.4401385e-09 | E4: 5.9680112e-05 | F4: =_xlfn.RANK.AVG(E4, $E$2:$E$462,1) -> 3 | G4: 29.477 | H4: 0.037811 | I4: 6.6973 | J4: 5.4196e-06 | K4: =_xlfn.RANK.AVG(J4, $J$2:$J$462,1) -> 8
A5: =VALUE(SUBSTITUTE(B5, "Cluster", "")) -> 178 | B5: Cluster178 | C5: 4.047441e-09 | D5: 1.108935e-09 | E5: 0.00013119919 | F5: =_xlfn.RANK.AVG(E5, $E$2:$E$462,1) -> 4 | G5: 13.104 | H5: 0.021568 | I5: 5.12 | J5: 0.0052485 | K5: =_xlfn.RANK.AVG(J5, $J$2:$J$462,1) -> 105
A6: =VALUE(SUBSTITUTE(B6, "Cluster", "")) -> 134 | B6: Cluster134 | C6: 4.1878452e-09 | D6: 1.2098846e-09 | E6: 0.00026872767 | F6: =_xlfn.RANK.AVG(E6, $E$2:$E$462,1) -> 5 | G6: 26.162 | H6: 0.04094 | I6: 5.5938 | J6: 1.4693e-06 | K6: =_xlfn.RANK.AVG(J6, $J$2:$J$462,1) -> 5
A7: =VALUE(SUBSTITUTE(B7, "Cluster", "")) -> 401 | B7: Cluster401 | C7: 4.0537348e-09 | D7: 1.1730148e-09 | E7: 0.00027430487 | F7: =_xlfn.RANK.AVG(E7, $E$2:$E$462,1) -> 6 | G7: 5.0076 | H7: 0.011522 | I7: 3.5995 | J7: 0.082095 | K7: =_xlfn.RANK.AVG(J7, $J$2:$J$462,1) -> 220
A8: =VALUE(SUBSTITUTE(B8, "Cluster", "")) -> 135 | B8: Cluster135 | C8: 4.6873936e-09 | D8: 1.381434e-09 | E8: 0.00034548642 | F8: =_xlfn.RANK.AVG(E8, $E$2:$E$462,1) -> 7 | G8: 9.8111 | H8: 0.019664 | I8: 4.3466 | J8: 0.012005 | K8: =_xlfn.RANK.AVG(J8, $J$2:$J$462,1) -> 127
A9: =VALUE(SUBSTITUTE(B9, "Cluster", "")) -> 177 | B9: Cluster177 | C9: 4.5685613e-09 | D9: 1.3564415e-09 | E9: 0.00037851094 | F9: =_xlfn.RANK.AVG(E9, $E$2:$E$462,1) -> 8 | G9: 23.025 | H9: 0.032237 | I9: 6.0971 | J9: 7.9868e-05 | K9: =_xlfn.RANK.AVG(J9, $J$2:$J$462,1) -> 26
A10: =VALUE(SUBSTITUTE(B10, "Cluster", "")) -> 200 | B10: Cluster200 | C10: 3.684533e-09 | D10: 1.1077305e-09 | E10: 0.00044019377 | F10: =_xlfn.RANK.AVG(E10, $E$2:$E$462,1) -> 9 | G10: 2.6313 | H10: 0.00538 | I10: 3.999 | J10: 0.25528 | K10: =_xlfn.RANK.AVG(J10, $J$2:$J$462,1) -> 295
A11: =VALUE(SUBSTITUTE(B11, "Cluster", "")) -> 167 | B11: Cluster167 | C11: 3.8002582e-09 | D11: 1.1512539e-09 | E11: 0.00048175052 | F11: =_xlfn.RANK.AVG(E11, $E$2:$E$462,1) -> 10 | G11: 12.663 | H11: 0.020652 | I11: 5.3337 | J11: 0.0088002 | K11: =_xlfn.RANK.AVG(J11, $J$2:$J$462,1) -> 121
A12: =VALUE(SUBSTITUTE(B12, "Cluster", "")) -> 123 | B12: Cluster123 | C12: 4.0489948e-09 | D12: 1.2335842e-09 | E12: 0.00051481782 | F12: =_xlfn.RANK.AVG(E12, $E$2:$E$462,1) -> 11 | G12: 27.13 | H12: 0.036048 | I12: 6.5855 | J12: 1.9084e-05 | K12: =_xlfn.RANK.AVG(J12, $J$2:$J$462,1) -> 11
A13: =VALUE(SUBSTITUTE(B13, "Cluster", "")) -> 188 | B13: Cluster188 | C13: 3.5039418e-09 | D13: 1.06897e-09 | E13: 0.00052297279 | F13: =_xlfn.RANK.AVG(E13, $E$2:$E$462,1) -> 12 | G13: 4.4377 | H13: 0.0071882 | I13: 5.2401 | J13: 0.19854 | K13: =_xlfn.RANK.AVG(J13, $J$2:$J$462,1) -> 278
A14: =VALUE(SUBSTITUTE(B14, "Cluster", "")) -> 147 | B14: Cluster147 | C14: 4.6816195e-09 | D14: 1.4437753e-09 | E14: 0.00059217335 | F14: =_xlfn.RANK.AVG(E14, $E$2:$E$462,1) -> 13 | G14: 16.78 | H14: 0.021433 | I14: 6.9018 | J14: 0.0075298 | K14: =_xlfn.RANK.AVG(J14, $J$2:$J$462,1) -> 117
... A462: =VALUE(SUBSTITUTE(B462, "Cluster", "")) -> 342 | B462: Cluster342 | C462: -5.3028644e-09 | D462: 1.381103e-09 | E462: 0.99993838 | F462: =_xlfn.RANK.AVG(E462, $E$2:$E$462,1) -> 461 | G462: 1.653 | H462: 0.0046006 | I462: 3.0798 | J462: 0.29574 | K462: =_xlfn.RANK.AVG(J462, $J$2:$J$462,1) -> 311

Sheet LDSC_SLEEP_per_night
A1: Cluster | B1: Name | C1: LDSC_Coefficient | D1: LDSC_Coefficient_std_error | E1: LDSC_Coefficient_P_value | F1: LDSC_Coefficient_P_value_rank | G1: MAGMA_BETA | H1: MAGMA_BETA_STD | I1: MAGMA_SE | J1: MAGMA_P | K1: MAGMA_P_rank | L1: Correlation
A2: =VALUE(SUBSTITUTE(B2, "Cluster", "")) -> 241 | B2: Cluster241 | C2: 3.8968063e-07 | D2: 1.1544016e-07 | E2: 0.00036826505 | F2: =_xlfn.RANK.AVG(E2, $E$2:$E$462,1) -> 1 | G2: 20.555 | H2: 0.029595 | I2: 5.6683 | J2: 0.00014426 | K2: =_xlfn.RANK.AVG(J2, $J$2:$J$462,1) -> 68 | L2: Spearman's on P | M2: =CORREL(F2:F462, K2:K462) -> 0.72289651
A3: =VALUE(SUBSTITUTE(B3, "Cluster", "")) -> 426 | B3: Cluster426 | C3: 5.0633209e-07 | D3: 1.5168396e-07 | E3: 0.00042180838 | F3: =_xlfn.RANK.AVG(E3, $E$2:$E$462,1) -> 2 | G3: 25.924 | H3: 0.031837 | I3: 6.1869 | J3: 1.4022e-05 | K3: =_xlfn.RANK.AVG(J3, $J$2:$J$462,1) -> 34
A4: =VALUE(SUBSTITUTE(B4, "Cluster", "")) -> 243 | B4: Cluster243 | C4: 3.7894495e-07 | D4: 1.1635235e-07 | E4: 0.00056323223 | F4: =_xlfn.RANK.AVG(E4, $E$2:$E$462,1) -> 3 | G4: 24.951 | H4: 0.036164 | I4: 5.6472 | J4: 5.011e-06 | K4: =_xlfn.RANK.AVG(J4, $J$2:$J$462,1) -> 23
A5: =VALUE(SUBSTITUTE(B5, "Cluster", "")) -> 439 | B5: Cluster439 | C5: 3.8549291e-07 | D5: 1.2595811e-07 | E5: 0.0011048939 | F5: =_xlfn.RANK.AVG(E5, $E$2:$E$462,1) -> 4 | G5: 14.984 | H5: 0.027131 | I5: 4.5042 | J5: 0.00044069 | K5: =_xlfn.RANK.AVG(J5, $J$2:$J$462,1) -> 87
A6: =VALUE(SUBSTITUTE(B6, "Cluster", "")) -> 401 | B6: Cluster401 | C6: 4.6683973e-07 | D6: 1.5307256e-07 | E6: 0.001144993 | F6: =_xlfn.RANK.AVG(E6, $E$2:$E$462,1) -> 5 | G6: 7.3386 | H6: 0.016867 | I6: 3.4228 | J6: 0.016023 | K6: =_xlfn.RANK.AVG(J6, $J$2:$J$462,1) -> 186
A7: =VALUE(SUBSTITUTE(B7, "Cluster", "")) -> 228 | B7: Cluster228 | C7: 3.2635072e-07 | D7: 1.1026239e-07 | E7: 0.0015393708 | F7: =_xlfn.RANK.AVG(E7, $E$2:$E$462,1) -> 6 | G7: 32.681 | H7: 0.041286 | I7: 6.4524 | J7: 2.0683e-07 | K7: =_xlfn.RANK.AVG(J7, $J$2:$J$462,1) -> 4
A8: =VALUE(SUBSTITUTE(B8, "Cluster", "")) -> 179 | B8: Cluster179 | C8: 3.499806e-07 | D8: 1.1942248e-07 | E8: 0.0016914913 | F8: =_xlfn.RANK.AVG(E8, $E$2:$E$462,1) -> 7 | G8: 16.721 | H8: 0.026453 | I8: 5.1344 | J8: 0.00056495 | K8: =_xlfn.RANK.AVG(J8, $J$2:$J$462,1) -> 91
A9: =VALUE(SUBSTITUTE(B9, "Cluster", "")) -> 234 | B9: Cluster234 | C9: 3.2522e-07 | D9: 1.1153477e-07 | E9: 0.0017735364 | F9: =_xlfn.RANK.AVG(E9, $E$2:$E$462,1) -> 8 | G9: 31.494 | H9: 0.039655 | I9: 6.4075 | J9: 4.4852e-07 | K9: =_xlfn.RANK.AVG(J9, $J$2:$J$462,1) -> 8
A10: =VALUE(SUBSTITUTE(B10, "Cluster", "")) -> 227 | B10: Cluster227 | C10: 4.1319923e-07 | D10: 1.4433232e-07 | E10: 0.0020993632 | F10: =_xlfn.RANK.AVG(E10, $E$2:$E$462,1) -> 9 | G10: 23.548 | H10: 0.034386 | I10: 5.4929 | J10: 9.1167e-06 | K10: =_xlfn.RANK.AVG(J10, $J$2:$J$462,1) -> 30
A11: =VALUE(SUBSTITUTE(B11, "Cluster", "")) -> 244 | B11: Cluster244 | C11: 4.9390477e-07 | D11: 1.7373593e-07 | E11: 0.0022356231 | F11: =_xlfn.RANK.AVG(E11, $E$2:$E$462,1) -> 10 | G11: 18.829 | H11: 0.028059 | I11: 5.3664 | J11: 0.00022581 | K11: =_xlfn.RANK.AVG(J11, $J$2:$J$462,1) -> 77
A12: =VALUE(SUBSTITUTE(B12, "Cluster", "")) -> 240 | B12: Cluster240 | C12: 3.5345176e-07 | D12: 1.2616054e-07 | E12: 0.0025424687 | F12: =_xlfn.RANK.AVG(E12, $E$2:$E$462,1) -> 11 | G12: 26.948 | H12: 0.035742 | I12: 6.149 | J12: 5.9077e-06 | K12: =_xlfn.RANK.AVG(J12, $J$2:$J$462,1) -> 27
A13: =VALUE(SUBSTITUTE(B13, "Cluster", "")) -> 231 | B13: Cluster231 | C13: 3.0335118e-07 | D13: 1.0956611e-07 | E13: 0.0028143779 | F13: =_xlfn.RANK.AVG(E13, $E$2:$E$462,1) -> 12 | G13: 35.247 | H13: 0.047202 | I13: 6.0437 | J13: 2.7986e-09 | K13: =_xlfn.RANK.AVG(J13, $J$2:$J$462,1) -> 1
A14: =VALUE(SUBSTITUTE(B14, "Cluster", "")) -> 386 | B14: Cluster386 | C14: 2.9575362e-07 | D14: 1.0753695e-07 | E14: 0.0029774803 | F14: =_xlfn.RANK.AVG(E14, $E$2:$E$462,1) -> 13 | G14: 18.747 | H14: 0.034367 | I14: 4.2607 | J14: 5.4537e-06 | K14: =_xlfn.RANK.AVG(J14, $J$2:$J$462,1) -> 25.5
... A462: =VALUE(SUBSTITUTE(B462, "Cluster", "")) -> 30 | B462: Cluster30 | C462: -5.5566278e-07 | D462: 1.1177401e-07 | E462: 0.99999967 | F462: =_xlfn.RANK.AVG(E462, $E$2:$E$462,1) -> 461 | G462: -3.9038 | H462: -0.018559 | I462: 1.6311 | J462: 0.99165 | K462: =_xlfn.RANK.AVG(J462, $J$2:$J$462,1) -> 445

Sheet LDSC_ALZHEIMERS_DISEASE
A1: Cluster | B1: Name | C1: LDSC_Coefficient | D1: LDSC_Coefficient_std_error | E1: LDSC_Coefficient_P_value | F1: LDSC_Coefficient_P_value_rank | G1: MAGMA_BETA | H1: MAGMA_BETA_STD | I1: MAGMA_SE | J1: MAGMA_P | K1: MAGMA_P_rank | L1: Correlation
A2: =VALUE(SUBSTITUTE(B2, "Cluster", "")) -> 330 | B2: Cluster330 | C2: 3.2786664e-09 | D2: 1.41914e-09 | E2: 0.010435243 | F2: =_xlfn.RANK.AVG(E2, $E$2:$E$462,1) -> 1 | G2: 2.4059 | H2: 0.0041707 | I2: 4.4718 | J2: 0.29529 | K2: =_xlfn.RANK.AVG(J2, $J$2:$J$462,1) -> 182 | L2: Spearman's on P | M2: =CORREL(F2:F462, K2:K462) -> 0.36057703
A3: =VALUE(SUBSTITUTE(B3, "Cluster", "")) -> 4 | B3: Cluster4 | C3: 6.6979256e-09 | D3: 2.9160367e-09 | E3: 0.010811445 | F3: =_xlfn.RANK.AVG(E3, $E$2:$E$462,1) -> 2 | G3: 4.1539 | H3: 0.035465 | I3: 0.90408 | J3: 2.19e-06 | K3: =_xlfn.RANK.AVG(J3, $J$2:$J$462,1) -> 7
A4: =VALUE(SUBSTITUTE(B4, "Cluster", "")) -> 3 | B4: Cluster3 | C4: 7.3461001e-09 | D4: 3.3032659e-09 | E4: 0.013077922 | F4: =_xlfn.RANK.AVG(E4, $E$2:$E$462,1) -> 3 | G4: 2.0311 | H4: 0.032142 | I4: 0.47025 | J4: 7.89e-06 | K4: =_xlfn.RANK.AVG(J4, $J$2:$J$462,1) -> 10
A5: =VALUE(SUBSTITUTE(B5, "Cluster", "")) -> 42 | B5: Cluster42 | C5: 2.4838201e-09 | D5: 1.1442586e-09 | E5: 0.014977656 | F5: =_xlfn.RANK.AVG(E5, $E$2:$E$462,1) -> 4 | G5: 4.7297 | H5: 0.011782 | I5: 2.9316 | J5: 0.053344 | K5: =_xlfn.RANK.AVG(J5, $J$2:$J$462,1) -> 59
A6: =VALUE(SUBSTITUTE(B6, "Cluster", "")) -> 86 | B6: Cluster86 | C6: 2.5104547e-09 | D6: 1.2301048e-09 | E6: 0.02063306 | F6: =_xlfn.RANK.AVG(E6, $E$2:$E$462,1) -> 5 | G6: 8.5917 | H6: 0.014246 | I6: 4.6687 | J6: 0.032874 | K6: =_xlfn.RANK.AVG(J6, $J$2:$J$462,1) -> 47
A7: =VALUE(SUBSTITUTE(B7, "Cluster", "")) -> 188 | B7: Cluster188 | C7: 1.4468225e-09 | D7: 7.3978341e-10 | E7: 0.025248019 | F7: =_xlfn.RANK.AVG(E7, $E$2:$E$462,1) -> 6 | G7: -4.719 | H7: -0.0076462 | I7: 4.6403 | J7: 0.84541 | K7: =_xlfn.RANK.AVG(J7, $J$2:$J$462,1) -> 380
A8: =VALUE(SUBSTITUTE(B8, "Cluster", "")) -> 7 | B8: Cluster7 | C8: 4.1399005e-09 | D8: 2.1228446e-09 | E8: 0.025578138 | F8: =_xlfn.RANK.AVG(E8, $E$2:$E$462,1) -> 7 | G8: 4.6235 | H8: 0.033472 | I8: 1.0681 | J8: 7.55e-06 | K8: =_xlfn.RANK.AVG(J8, $J$2:$J$462,1) -> 9
A9: =VALUE(SUBSTITUTE(B9, "Cluster", "")) -> 41 | B9: Cluster41 | C9: 2.0002711e-09 | D9: 1.0540351e-09 | E9: 0.028866012 | F9: =_xlfn.RANK.AVG(E9, $E$2:$E$462,1) -> 8 | G9: 4.4694 | H9: 0.011089 | I9: 2.9406 | J9: 0.064284 | K9: =_xlfn.RANK.AVG(J9, $J$2:$J$462,1) -> 68
A10: =VALUE(SUBSTITUTE(B10, "Cluster", "")) -> 9 | B10: Cluster9 | C10: 4.6280345e-09 | D10: 2.4896749e-09 | E10: 0.031521289 | F10: =_xlfn.RANK.AVG(E10, $E$2:$E$462,1) -> 9 | G10: 5.0978 | H10: 0.036611 | I10: 1.0713 | J10: 9.85e-07 | K10: =_xlfn.RANK.AVG(J10, $J$2:$J$462,1) -> 4
A11: =VALUE(SUBSTITUTE(B11, "Cluster", "")) -> 5 | B11: Cluster5 | C11: 4.208731e-09 | D11: 2.3768535e-09 | E11: 0.038304024 | F11: =_xlfn.RANK.AVG(E11, $E$2:$E$462,1) -> 10 | G11: 4.646 | H11: 0.03726 | I11: 0.97706 | J11: 1e-06 | K11: =_xlfn.RANK.AVG(J11, $J$2:$J$462,1) -> 5
A12: =VALUE(SUBSTITUTE(B12, "Cluster", "")) -> 384 | B12: Cluster384 | C12: 2.7296464e-09 | D12: 1.5667314e-09 | E12: 0.040731871 | F12: =_xlfn.RANK.AVG(E12, $E$2:$E$462,1) -> 11 | G12: 1.2503 | H12: 0.0018422 | I12: 5.131 | J12: 0.40375 | K12: =_xlfn.RANK.AVG(J12, $J$2:$J$462,1) -> 236
A13: =VALUE(SUBSTITUTE(B13, "Cluster", "")) -> 8 | B13: Cluster8 | C13: 3.3861569e-09 | D13: 1.9832911e-09 | E13: 0.043879215 | F13: =_xlfn.RANK.AVG(E13, $E$2:$E$462,1) -> 12 | G13: 5.8076 | H13: 0.037829 | I13: 1.1776 | J13: 4.13e-07 | K13: =_xlfn.RANK.AVG(J13, $J$2:$J$462,1) -> 3
A14: =VALUE(SUBSTITUTE(B14, "Cluster", "")) -> 2 | B14: Cluster2 | C14: 4.0241423e-09 | D14: 2.3616088e-09 | E14: 0.044192091 | F14: =_xlfn.RANK.AVG(E14, $E$2:$E$462,1) -> 13 | G14: 1.7379 | H14: 0.027167 | I14: 0.47025 | J14: 0.00011011 | K14: =_xlfn.RANK.AVG(J14, $J$2:$J$462,1) -> 11
... A462: =VALUE(SUBSTITUTE(B462, "Cluster", "")) -> 30 | B462: Cluster30 | C462: -3.08709e-09 | D462: 1.2113651e-09 | E462: 0.99458969 | F462: =_xlfn.RANK.AVG(E462, $E$2:$E$462,1) -> 461 | G462: -1.745 | H462: -0.008301 | I462: 1.5783 | J462: 0.86554 | K462: =_xlfn.RANK.AVG(J462, $J$2:$J$462,1) -> 386

Sheet LDSC_MULTIPLE_SCLEROSIS
A1: Cluster | B1: Name | C1: LDSC_Coefficient | D1: LDSC_Coefficient_std_error | E1: LDSC_Coefficient_P_value | F1: LDSC_Coefficient_P_value_rank | G1: MAGMA_BETA | H1: MAGMA_BETA_STD | I1: MAGMA_SE | J1: MAGMA_P | K1: MAGMA_P_rank | L1: Correlation
A2: =VALUE(SUBSTITUTE(B2, "Cluster", "")) -> 1 | B2: Cluster1 | C2: 3.0881298e-08 | D2: 9.6172687e-09 | E2: 0.00066131024 | F2: =_xlfn.RANK.AVG(E2, $E$2:$E$462,1) -> 1 | G2: 6.178 | H2: 0.080813 | I2: 0.68009 | J2: 5.9842e-20 | K2: =_xlfn.RANK.AVG(J2, $J$2:$J$462,1) -> 1 | L2: Spearman's on P | M2: =CORREL(F2:F462, K2:K462) -> 0.17743706
A3: =VALUE(SUBSTITUTE(B3, "Cluster", "")) -> 2 | B3: Cluster2 | C3: 3.0245876e-08 | D3: 1.0460915e-08 | E3: 0.0019181222 | F3: =_xlfn.RANK.AVG(E3, $E$2:$E$462,1) -> 2 | G3: 3.7773 | H3: 0.059144 | I3: 0.55024 | J3: 3.4827e-12 | K3: =_xlfn.RANK.AVG(J3, $J$2:$J$462,1) -> 3
A4: =VALUE(SUBSTITUTE(B4, "Cluster", "")) -> 0 | B4: Cluster0 | C4: 2.5316976e-08 | D4: 9.4832005e-09 | E4: 0.0037963384 | F4: =_xlfn.RANK.AVG(E4, $E$2:$E$462,1) -> 3 | G4: 5.1129 | H4: 0.064645 | I4: 0.68557 | J4: 4.6788e-14 | K4: =_xlfn.RANK.AVG(J4, $J$2:$J$462,1) -> 2
A5: =VALUE(SUBSTITUTE(B5, "Cluster", "")) -> 3 | B5: Cluster3 | C5: 2.2843793e-08 | D5: 1.0784067e-08 | E5: 0.017075214 | F5: =_xlfn.RANK.AVG(E5, $E$2:$E$462,1) -> 4 | G5: 1.8938 | H5: 0.029998 | I5: 0.5798 | J5: 0.00054621 | K5: =_xlfn.RANK.AVG(J5, $J$2:$J$462,1) -> 13
A6: =VALUE(SUBSTITUTE(B6, "Cluster", "")) -> 14 | B6: Cluster14 | C6: 1.3552948e-08 | D6: 6.9186929e-09 | E6: 0.025062926 | F6: =_xlfn.RANK.AVG(E6, $E$2:$E$462,1) -> 5 | G6: 3.5555 | H6: 0.025987 | I6: 1.2129 | J6: 0.0016908 | K6: =_xlfn.RANK.AVG(J6, $J$2:$J$462,1) -> 16
A7: =VALUE(SUBSTITUTE(B7, "Cluster", "")) -> 374 | B7: Cluster374 | C7: 1.3300926e-08 | D7: 7.1176714e-09 | E7: 0.030830978 | F7: =_xlfn.RANK.AVG(E7, $E$2:$E$462,1) -> 6 | G7: -10.238 | H7: -0.017293 | I7: 5.2167 | J7: 0.97514 | K7: =_xlfn.RANK.AVG(J7, $J$2:$J$462,1) -> 361
A8: =VALUE(SUBSTITUTE(B8, "Cluster", "")) -> 107 | B8: Cluster107 | C8: 9.183979e-09 | D8: 5.9892974e-09 | E8: 0.062588862 | F8: =_xlfn.RANK.AVG(E8, $E$2:$E$462,1) -> 7 | G8: -3.2406 | H8: -0.0065637 | I8: 4.4524 | J8: 0.76664 | K8: =_xlfn.RANK.AVG(J8, $J$2:$J$462,1) -> 174
A9: =VALUE(SUBSTITUTE(B9, "Cluster", "")) -> 12 | B9: Cluster12 | C9: 1.2270325e-08 | D9: 8.0355779e-09 | E9: 0.063380542 | F9: =_xlfn.RANK.AVG(E9, $E$2:$E$462,1) -> 8 | G9: 3.9859 | H9: 0.034069 | I9: 1.0014 | J9: 3.462e-05 | K9: =_xlfn.RANK.AVG(J9, $J$2:$J$462,1) -> 8
A10: =VALUE(SUBSTITUTE(B10, "Cluster", "")) -> 396 | B10: Cluster396 | C10: 6.2433558e-09 | D10: 4.1367615e-09 | E10: 0.06561904 | F10: =_xlfn.RANK.AVG(E10, $E$2:$E$462,1) -> 9 | G10: -9.1295 | H10: -0.016199 | I10: 4.8122 | J10: 0.97109 | K10: =_xlfn.RANK.AVG(J10, $J$2:$J$462,1) -> 350
A11: =VALUE(SUBSTITUTE(B11, "Cluster", "")) -> 432 | B11: Cluster432 | C11: 1.1051232e-08 | D11: 7.6007382e-09 | E11: 0.072977552 | F11: =_xlfn.RANK.AVG(E11, $E$2:$E$462,1) -> 10 | G11: 0.56883 | H11: 0.0020064 | I11: 2.7351 | J11: 0.41763 | K11: =_xlfn.RANK.AVG(J11, $J$2:$J$462,1) -> 86
A12: =VALUE(SUBSTITUTE(B12, "Cluster", "")) -> 16 | B12: Cluster16 | C12: 8.1553372e-09 | D12: 5.7944141e-09 | E12: 0.079647276 | F12: =_xlfn.RANK.AVG(E12, $E$2:$E$462,1) -> 11 | G12: 3.4805 | H12: 0.022043 | I12: 1.4165 | J12: 0.0070102 | K12: =_xlfn.RANK.AVG(J12, $J$2:$J$462,1) -> 25
A13: =VALUE(SUBSTITUTE(B13, "Cluster", "")) -> 148 | B13: Cluster148 | C13: 7.0353331e-09 | D13: 5.4005093e-09 | E13: 0.096335764 | F13: =_xlfn.RANK.AVG(E13, $E$2:$E$462,1) -> 12 | G13: -1.6217 | H13: -0.0022066 | I13: 6.7055 | J13: 0.59555 | K13: =_xlfn.RANK.AVG(J13, $J$2:$J$462,1) -> 121
A14: =VALUE(SUBSTITUTE(B14, "Cluster", "")) -> 366 | B14: Cluster366 | C14: 6.3961441e-09 | D14: 5.1256749e-09 | E14: 0.10604047 | F14: =_xlfn.RANK.AVG(E14, $E$2:$E$462,1) -> 13 | G14: -8.9373 | H14: -0.015399 | I14: 5.3985 | J14: 0.95108 | K14: =_xlfn.RANK.AVG(J14, $J$2:$J$462,1) -> 312
... A462: =VALUE(SUBSTITUTE(B462, "Cluster", "")) -> 89 | B462: Cluster89 | C462: -1.4345742e-08 | D462: 3.7070194e-09 | E462: 0.99994556 | F462: =_xlfn.RANK.AVG(E462, $E$2:$E$462,1) -> 461 | G462: -15.296 | H462: -0.025827 | I462: 5.3621 | J462: 0.99783 | K462: =_xlfn.RANK.AVG(J462, $J$2:$J$462,1) -> 438

Sheet LDSC_BIPOLAR_DISORDER
A1: Cluster | B1: Name | C1: LDSC_Coefficient | D1: LDSC_Coefficient_std_error | E1: LDSC_Coefficient_P_value | F1: LDSC_Coefficient_P_value_rank | G1: MAGMA_BETA | H1: MAGMA_BETA_STD | I1: MAGMA_SE | J1: MAGMA_P | K1: MAGMA_P_rank | L1: Correlation
A2: =VALUE(SUBSTITUTE(B2, "Cluster", "")) -> 228 | B2: Cluster228 | C2: 7.1358551e-09 | D2: 1.4982675e-09 | E2: 9.5492055e-07 | F2: =_xlfn.RANK.AVG(E2, $E$2:$E$462,1) -> 1 | G2: 27.056 | H2: 0.034164 | I2: 7.0321 | J2: 5.9932e-05 | K2: =_xlfn.RANK.AVG(J2, $J$2:$J$462,1) -> 71 | L2: Spearman's on P | M2: =CORREL(F2:F462, K2:K462) -> 0.74802253
A3: =VALUE(SUBSTITUTE(B3, "Cluster", "")) -> 250 | B3: Cluster250 | C3: 6.4832257e-09 | D3: 1.5628054e-09 | E3: 1.6736426e-05 | F3: =_xlfn.RANK.AVG(E3, $E$2:$E$462,1) -> 2 | G3: 30.88 | H3: 0.052119 | I3: 5.6802 | J3: 2.7669e-08 | K3: =_xlfn.RANK.AVG(J3, $J$2:$J$462,1) -> 13
A4: =VALUE(SUBSTITUTE(B4, "Cluster", "")) -> 233 | B4: Cluster233 | C4: 6.447216e-09 | D4: 1.6177983e-09 | E4: 3.371461e-05 | F4: =_xlfn.RANK.AVG(E4, $E$2:$E$462,1) -> 3 | G4: 26.512 | H4: 0.035504 | I4: 6.6202 | J4: 3.1213e-05 | K4: =_xlfn.RANK.AVG(J4, $J$2:$J$462,1) -> 58
A5: =VALUE(SUBSTITUTE(B5, "Cluster", "")) -> 241 | B5: Cluster241 | C5: 6.7605771e-09 | D5: 1.7093381e-09 | E5: 3.825377e-05 | F5: =_xlfn.RANK.AVG(E5, $E$2:$E$462,1) -> 4 | G5: 37.148 | H5: 0.053476 | I5: 6.1627 | J5: 8.5259e-10 | K5: =_xlfn.RANK.AVG(J5, $J$2:$J$462,1) -> 6
A6: =VALUE(SUBSTITUTE(B6, "Cluster", "")) -> 188 | B6: Cluster188 | C6: 5.7026757e-09 | D6: 1.5092628e-09 | E6: 7.8903392e-05 | F6: =_xlfn.RANK.AVG(E6, $E$2:$E$462,1) -> 5 | G6: 11.447 | H6: 0.018537 | I6: 5.0629 | J6: 0.011887 | K6: =_xlfn.RANK.AVG(J6, $J$2:$J$462,1) -> 176
A7: =VALUE(SUBSTITUTE(B7, "Cluster", "")) -> 229 | B7: Cluster229 | C7: 6.2005983e-09 | D7: 1.6674501e-09 | E7: 0.00010016064 | F7: =_xlfn.RANK.AVG(E7, $E$2:$E$462,1) -> 6 | G7: 23.42 | H7: 0.032212 | I7: 6.3414 | J7: 0.00011118 | K7: =_xlfn.RANK.AVG(J7, $J$2:$J$462,1) -> 84
A8: =VALUE(SUBSTITUTE(B8, "Cluster", "")) -> 231 | B8: Cluster231 | C8: 6.0460935e-09 | D8: 1.6269577e-09 | E8: 0.00010112239 | F8: =_xlfn.RANK.AVG(E8, $E$2:$E$462,1) -> 7 | G8: 24.611 | H8: 0.032969 | I8: 6.5825 | J8: 9.2816e-05 | K8: =_xlfn.RANK.AVG(J8, $J$2:$J$462,1) -> 80
A9: =VALUE(SUBSTITUTE(B9, "Cluster", "")) -> 242 | B9: Cluster242 | C9: 5.5599881e-09 | D9: 1.5247172e-09 | E9: 0.00013288207 | F9: =_xlfn.RANK.AVG(E9, $E$2:$E$462,1) -> 8 | G9: 42.106 | H9: 0.053789 | I9: 6.8793 | J9: 4.7884e-10 | K9: =_xlfn.RANK.AVG(J9, $J$2:$J$462,1) -> 3
A10: =VALUE(SUBSTITUTE(B10, "Cluster", "")) -> 287 | B10: Cluster287 | C10: 5.7347669e-09 | D10: 1.6545628e-09 | E10: 0.00026410067 | F10: =_xlfn.RANK.AVG(E10, $E$2:$E$462,1) -> 9 | G10: 28.19 | H10: 0.046019 | I10: 5.5826 | J10: 2.243e-07 | K10: =_xlfn.RANK.AVG(J10, $J$2:$J$462,1) -> 24
A11: =VALUE(SUBSTITUTE(B11, "Cluster", "")) -> 202 | B11: Cluster202 | C11: 5.0279575e-09 | D11: 1.4565893e-09 | E11: 0.00027835751 | F11: =_xlfn.RANK.AVG(E11, $E$2:$E$462,1) -> 10 | G11: 14.316 | H11: 0.023808 | I11: 5.0608 | J11: 0.0023404 | K11: =_xlfn.RANK.AVG(J11, $J$2:$J$462,1) -> 132
A12: =VALUE(SUBSTITUTE(B12, "Cluster", "")) -> 217 | B12: Cluster217 | C12: 5.2458224e-09 | D12: 1.5582689e-09 | E12: 0.00038072243 | F12: =_xlfn.RANK.AVG(E12, $E$2:$E$462,1) -> 11 | G12: 40.241 | H12: 0.049569 | I12: 7.1683 | J12: 1.0097e-08 | K12: =_xlfn.RANK.AVG(J12, $J$2:$J$462,1) -> 11
A13: =VALUE(SUBSTITUTE(B13, "Cluster", "")) -> 252 | B13: Cluster252 | C13: 5.9725451e-09 | D13: 1.7797797e-09 | E13: 0.00039571081 | F13: =_xlfn.RANK.AVG(E13, $E$2:$E$462,1) -> 12 | G13: 29.191 | H13: 0.043235 | I13: 6.1281 | J13: 9.6162e-07 | K13: =_xlfn.RANK.AVG(J13, $J$2:$J$462,1) -> 34
A14: =VALUE(SUBSTITUTE(B14, "Cluster", "")) -> 230 | B14: Cluster230 | C14: 5.5310683e-09 | D14: 1.671956e-09 | E14: 0.00046958531 | F14: =_xlfn.RANK.AVG(E14, $E$2:$E$462,1) -> 13 | G14: 18.244 | H14: 0.027865 | I14: 5.4332 | J14: 0.0003938 | K14: =_xlfn.RANK.AVG(J14, $J$2:$J$462,1) -> 103
... A462: =VALUE(SUBSTITUTE(B462, "Cluster", "")) -> 366 | B462: Cluster366 | C462: -8.606646e-09 | D462: 1.4723409e-09 | E462: 1 | F462: =_xlfn.RANK.AVG(E462, $E$2:$E$462,1) -> 461 | G462: 5.0434 | H462: 0.0086827 | I462: 5.0337 | J462: 0.1582 | K462: =_xlfn.RANK.AVG(J462, $J$2:$J$462,1) -> 292

Sheet LDSC_DEPRESSION
A1: Cluster | B1: Name | C1: LDSC_Coefficient | D1: LDSC_Coefficient_std_error | E1: LDSC_Coefficient_P_value | F1: LDSC_Coefficient_P_value_rank | G1: MAGMA_BETA | H1: MAGMA_BETA_STD | I1: MAGMA_SE | J1: MAGMA_P | K1: MAGMA_P_rank | L1: Correlation
A2: =VALUE(SUBSTITUTE(B2, "Cluster", "")) -> 287 | B2: Cluster287 | C2: 7.0401153e-09 | D2: 1.5077964e-09 | E2: 1.5123027e-06 | F2: =_xlfn.RANK.AVG(E2, $E$2:$E$462,1) -> 1 | G2: 19.464 | H2: 0.031841 | I2: 5.0865 | J2: 6.5252e-05 | K2: =_xlfn.RANK.AVG(J2, $J$2:$J$462,1) -> 35 | L2: Spearman's on P | M2: =CORREL(F2:F462, K2:K462) -> 0.7024917
A3: =VALUE(SUBSTITUTE(B3, "Cluster", "")) -> 296 | B3: Cluster296 | C3: 6.2417818e-09 | D3: 1.4923733e-09 | E3: 1.4419006e-05 | F3: =_xlfn.RANK.AVG(E3, $E$2:$E$462,1) -> 2 | G3: 25.546 | H3: 0.039633 | I3: 5.3556 | J3: 9.3087e-07 | K3: =_xlfn.RANK.AVG(J3, $J$2:$J$462,1) -> 6
A4: =VALUE(SUBSTITUTE(B4, "Cluster", "")) -> 239 | B4: Cluster239 | C4: 7.1152641e-09 | D4: 1.7085459e-09 | E4: 1.5600792e-05 | F4: =_xlfn.RANK.AVG(E4, $E$2:$E$462,1) -> 3 | G4: 33.235 | H4: 0.044692 | I4: 6.1728 | J4: 3.7013e-08 | K4: =_xlfn.RANK.AVG(J4, $J$2:$J$462,1) -> 2
A5: =VALUE(SUBSTITUTE(B5, "Cluster", "")) -> 288 | B5: Cluster288 | C5: 6.8221366e-09 | D5: 1.6732594e-09 | E5: 2.2795119e-05 | F5: =_xlfn.RANK.AVG(E5, $E$2:$E$462,1) -> 4 | G5: 28.443 | H5: 0.040386 | I5: 5.974 | J5: 9.7311e-07 | K5: =_xlfn.RANK.AVG(J5, $J$2:$J$462,1) -> 7
A6: =VALUE(SUBSTITUTE(B6, "Cluster", "")) -> 262 | B6: Cluster262 | C6: 6.1124565e-09 | D6: 1.6209125e-09 | E6: 8.1298209e-05 | F6: =_xlfn.RANK.AVG(E6, $E$2:$E$462,1) -> 5 | G6: 31.584 | H6: 0.042173 | I6: 6.3158 | J6: 2.8912e-07 | K6: =_xlfn.RANK.AVG(J6, $J$2:$J$462,1) -> 3
A7: =VALUE(SUBSTITUTE(B7, "Cluster", "")) -> 256 | B7: Cluster256 | C7: 6.4977117e-09 | D7: 1.733121e-09 | E7: 8.8721331e-05 | F7: =_xlfn.RANK.AVG(E7, $E$2:$E$462,1) -> 6 | G7: 21.199 | H7: 0.031603 | I7: 5.5464 | J7: 6.6455e-05 | K7: =_xlfn.RANK.AVG(J7, $J$2:$J$462,1) -> 37
A8: =VALUE(SUBSTITUTE(B8, "Cluster", "")) -> 404 | B8: Cluster404 | C8: 5.28157e-09 | D8: 1.4297324e-09 | E8: 0.00011033487 | F8: =_xlfn.RANK.AVG(E8, $E$2:$E$462,1) -> 7 | G8: 27.924 | H8: 0.032589 | I8: 6.9205 | J8: 2.7468e-05 | K8: =_xlfn.RANK.AVG(J8, $J$2:$J$462,1) -> 22
A9: =VALUE(SUBSTITUTE(B9, "Cluster", "")) -> 227 | B9: Cluster227 | C9: 5.4509534e-09 | D9: 1.4863941e-09 | E9: 0.00012259475 | F9: =_xlfn.RANK.AVG(E9, $E$2:$E$462,1) -> 8 | G9: 14.812 | H9: 0.021533 | I9: 5.7025 | J9: 0.0047007 | K9: =_xlfn.RANK.AVG(J9, $J$2:$J$462,1) -> 116
A10: =VALUE(SUBSTITUTE(B10, "Cluster", "")) -> 255 | B10: Cluster255 | C10: 6.929649e-09 | D10: 1.8922564e-09 | E10: 0.0001250737 | F10: =_xlfn.RANK.AVG(E10, $E$2:$E$462,1) -> 9 | G10: 12.062 | H10: 0.018662 | I10: 5.2286 | J10: 0.01054 | K10: =_xlfn.RANK.AVG(J10, $J$2:$J$462,1) -> 140
A11: =VALUE(SUBSTITUTE(B11, "Cluster", "")) -> 249 | B11: Cluster249 | C11: 5.8483649e-09 | D11: 1.6185351e-09 | E11: 0.00015112192 | F11: =_xlfn.RANK.AVG(E11, $E$2:$E$462,1) -> 10 | G11: 24.197 | H11: 0.031933 | I11: 6.2686 | J11: 5.6961e-05 | K11: =_xlfn.RANK.AVG(J11, $J$2:$J$462,1) -> 30
A12: =VALUE(SUBSTITUTE(B12, "Cluster", "")) -> 264 | B12: Cluster264 | C12: 5.6315683e-09 | D12: 1.5746914e-09 | E12: 0.00017424607 | F12: =_xlfn.RANK.AVG(E12, $E$2:$E$462,1) -> 11 | G12: 11.857 | H12: 0.017376 | I12: 5.6351 | J12: 0.01769 | K12: =_xlfn.RANK.AVG(J12, $J$2:$J$462,1) -> 155
A13: =VALUE(SUBSTITUTE(B13, "Cluster", "")) -> 229 | B13: Cluster229 | C13: 5.1975751e-09 | D13: 1.4813296e-09 | E13: 0.00022513194 | F13: =_xlfn.RANK.AVG(E13, $E$2:$E$462,1) -> 12 | G13: 16.818 | H13: 0.023128 | I13: 6.0577 | J13: 0.0027528 | K13: =_xlfn.RANK.AVG(J13, $J$2:$J$462,1) -> 104
A14: =VALUE(SUBSTITUTE(B14, "Cluster", "")) -> 248 | B14: Cluster248 | C14: 6.1716089e-09 | D14: 1.7708316e-09 | E14: 0.00024593307 | F14: =_xlfn.RANK.AVG(E14, $E$2:$E$462,1) -> 13 | G14: 13.025 | H14: 0.019251 | I14: 5.5566 | J14: 0.0095452 | K14: =_xlfn.RANK.AVG(J14, $J$2:$J$462,1) -> 138
... A462: =VALUE(SUBSTITUTE(B462, "Cluster", "")) -> 69 | B462: Cluster69 | C462: -6.7850394e-09 | D462: 1.4182038e-09 | E462: 0.99999914 | F462: =_xlfn.RANK.AVG(E462, $E$2:$E$462,1) -> 461 | G462: -2.2587 | H462: -0.013777 | I462: 1.295 | J462: 0.95943 | K462: =_xlfn.RANK.AVG(J462, $J$2:$J$462,1) -> 434
