Workbook

Sheet AnnotationAndRepresentative
A1: Class -Repr -Use -State | B1: UniProt -Repr -Use -State | C1: PDB | D1: Cl | E1: RecFam | F1: UniProt | G1: IUPHAR | H1: Repr | I1: Use | J1: % of seq [>=83] | K1: Species | L1: Seq Id to human (%) [>90] | M1: Method | N1: Res [<=3.6] | O1: State [Inactive / Active] | P1: Degree Active [<=20/ >=90] | Q1: TM6 tilt | R1: SP Fam | S1: SP Sub | T1: Note | U1: %of seq [>=43] | V1: Fusion | W1: Antibody | X1: Ligand | Y1: Modality | Z1: State-ligand modality agreement [Yes] | AA1: Note | AB1: GPCRdbPDB for monomer | AD1: =COUNTIF(O:O,"Inactive")-2 -> 296 | AE1: =COUNTIF(O:O,"Active") -> 173 | AF1: =COUNTIF(O:O,"Intermediate") -> 40 | AG1: =COUNTIF(O:O,"Other") -> 1 | AH1: =SUM(AD1:AG1) -> 510 | AI1: <= Inactive, active, intermediate, other and all structures
A2: =CONCATENATE(D2,H2,I2,O2) -> AReprYesActive | B2: =CONCATENATE(F2,H2,I2,O2) -> ACM1ReprYesActive | C2: 6OIJ | D2: =VLOOKUP($C2,StructureInfoFromGPCRdb!$A:$U,MATCH(D$1,StructureInfoFromGPCRdb!$A$1:$U$1,0),FALSE) -> A | E2: =VLOOKUP($C2,StructureInfoFromGPCRdb!$A:$U,MATCH(E$1,StructureInfoFromGPCRdb!$A$1:$U$1,0),FALSE) -> Acetylcholine (muscarinic) | F2: =VLOOKUP($C2,StructureInfoFromGPCRdb!$A:$U,MATCH(F$1,StructureInfoFromGPCRdb!$A$1:$U$1,0),FALSE) -> ACM1 | G2: =VLOOKUP($C2,StructureInfoFromGPCRdb!$A:$U,MATCH(G$1,StructureInfoFromGPCRdb!$A$1:$U$1,0),FALSE) -> M1 | H2: Repr | I2: Yes | J2: =VLOOKUP($C2,StructureInfoFromGPCRdb!$A:$U,MATCH(J$1,StructureInfoFromGPCRdb!$A$1:$U$1,0),FALSE) -> 94 | K2: =VLOOKUP($C2,StructureInfoFromGPCRdb!$A:$U,MATCH(K$1,StructureInfoFromGPCRdb!$A$1:$U$1,0),FALSE) -> Human | L2: =VLOOKUP($C2,StructureInfoFromGPCRdb!$A:$U,MATCH(L$1,StructureInfoFromGPCRdb!$A$1:$U$1,0),FALSE) -> 100 | M2: =VLOOKUP($C2,StructureInfoFromGPCRdb!$A:$U,MATCH(M$1,StructureInfoFromGPCRdb!$A$1:$U$1,0),FALSE) -> cryo-EM | N2: =VLOOKUP($C2,StructureInfoFromGPCRdb!$A:$U,MATCH(N$1,StructureInfoFromGPCRdb!$A$1:$U$1,0),FALSE) -> 3.3 | O2: =VLOOKUP($C2,StructureInfoFromGPCRdb!$A:$U,MATCH(O$1,StructureInfoFromGPCRdb!$A$1:$U$1,0),FALSE) -> Active | P2: =VLOOKUP($C2,StructureInfoFromGPCRdb!$A:$U,MATCH(P$1,StructureInfoFromGPCRdb!$A$1:$U$1,0),FALSE) -> 100 | Q2: =VLOOKUP($C2,StructureInfoFromGPCRdb!$A:$U,MATCH(Q$1,StructureInfoFromGPCRdb!$A$1:$U$1,0),FALSE) -> 66 | R2: =IF(VLOOKUP($C2,StructureInfoFromGPCRdb!$A:$U,MATCH(R$1,StructureInfoFromGPCRdb!$A$1:$U$1,0),FALSE)="","",VLOOKUP($C2,StructureInfoFromGPCRdb!$A:$U,MATCH(R$1,StructureInfoFromGPCRdb!$A$1:$U$1,0),FALSE)) -> Gq/11 | S2: =IF(VLOOKUP($C2,StructureInfoFromGPCRdb!$A:$U,MATCH(S$1,StructureInfoFromGPCRdb!$A$1:$U$1,0),FALSE)="","",VLOOKUP($C2,StructureInfoFromGPCRdb!$A:$U,MATCH(S$1,StructureInfoFromGPCRdb!$A$1:$U$1,0),FALSE)) -> α11 | T2: =IF(VLOOKUP($C2,StructureInfoFromGPCRdb!$A:$U,MATCH(T$1,StructureInfoFromGPCRdb!$A$1:$U$1,0),FALSE)="","",VLOOKUP($C2,StructureInfoFromGPCRdb!$A:$U,MATCH(T$1,StructureInfoFromGPCRdb!$A$1:$U$1,0),FALSE)) | U2: =IF(VLOOKUP($C2,StructureInfoFromGPCRdb!$A:$U,MATCH(U$1,StructureInfoFromGPCRdb!$A$1:$U$1,0),FALSE)="","",VLOOKUP($C2,StructureInfoFromGPCRdb!$A:$U,MATCH(U$1,StructureInfoFromGPCRdb!$A$1:$U$1,0),FALSE)) -> 63 | V2: =VLOOKUP($C2,StructureInfoFromGPCRdb!$A:$U,MATCH(V$1,StructureInfoFromGPCRdb!$A$1:$U$1,0),FALSE) -> - | W2: =VLOOKUP($C2,StructureInfoFromGPCRdb!$A:$U,MATCH(W$1,StructureInfoFromGPCRdb!$A$1:$U$1,0),FALSE) -> Antibody fragment | X2: =VLOOKUP($C2,StructureInfoFromGPCRdb!$A:$U,MATCH(X$1,StructureInfoFromGPCRdb!$A$1:$U$1,0),FALSE) -> Iperoxo | Y2: =VLOOKUP($C2,StructureInfoFromGPCRdb!$A:$U,MATCH(Y$1,StructureInfoFromGPCRdb!$A$1:$U$1,0),FALSE) -> Agonist | Z2: Yes
A3: =CONCATENATE(D3,H3,I3,O3) -> AReprYesActive | B3: =CONCATENATE(F3,H3,I3,O3) -> ACM2ReprYesActive | C3: 6OIK | D3: =VLOOKUP($C3,StructureInfoFromGPCRdb!$A:$U,MATCH(D$1,StructureInfoFromGPCRdb!$A$1:$U$1,0),FALSE) -> A | E3: =VLOOKUP($C3,StructureInfoFromGPCRdb!$A:$U,MATCH(E$1,StructureInfoFromGPCRdb!$A$1:$U$1,0),FALSE) -> Acetylcholine (muscarinic) | F3: =VLOOKUP($C3,StructureInfoFromGPCRdb!$A:$U,MATCH(F$1,StructureInfoFromGPCRdb!$A$1:$U$1,0),FALSE) -> ACM2 | G3: =VLOOKUP($C3,StructureInfoFromGPCRdb!$A:$U,MATCH(G$1,StructureInfoFromGPCRdb!$A$1:$U$1,0),FALSE) -> M2 | H3: Repr | I3: Yes | J3: =VLOOKUP($C3,StructureInfoFromGPCRdb!$A:$U,MATCH(J$1,StructureInfoFromGPCRdb!$A$1:$U$1,0),FALSE) -> 90 | K3: =VLOOKUP($C3,StructureInfoFromGPCRdb!$A:$U,MATCH(K$1,StructureInfoFromGPCRdb!$A$1:$U$1,0),FALSE) -> Human | L3: =VLOOKUP($C3,StructureInfoFromGPCRdb!$A:$U,MATCH(L$1,StructureInfoFromGPCRdb!$A$1:$U$1,0),FALSE) -> 100 | M3: =VLOOKUP($C3,StructureInfoFromGPCRdb!$A:$U,MATCH(M$1,StructureInfoFromGPCRdb!$A$1:$U$1,0),FALSE) -> cryo-EM | N3: =VLOOKUP($C3,StructureInfoFromGPCRdb!$A:$U,MATCH(N$1,StructureInfoFromGPCRdb!$A$1:$U$1,0),FALSE) -> 3.6 | O3: =VLOOKUP($C3,StructureInfoFromGPCRdb!$A:$U,MATCH(O$1,StructureInfoFromGPCRdb!$A$1:$U$1,0),FALSE) -> Active | P3: =VLOOKUP($C3,StructureInfoFromGPCRdb!$A:$U,MATCH(P$1,StructureInfoFromGPCRdb!$A$1:$U$1,0),FALSE) -> 100 | Q3: =VLOOKUP($C3,StructureInfoFromGPCRdb!$A:$U,MATCH(Q$1,StructureInfoFromGPCRdb!$A$1:$U$1,0),FALSE) -> 61 | R3: =IF(VLOOKUP($C3,StructureInfoFromGPCRdb!$A:$U,MATCH(R$1,StructureInfoFromGPCRdb!$A$1:$U$1,0),FALSE)="","",VLOOKUP($C3,StructureInfoFromGPCRdb!$A:$U,MATCH(R$1,StructureInfoFromGPCRdb!$A$1:$U$1,0),FALSE)) -> Gi/o | S3: =IF(VLOOKUP($C3,StructureInfoFromGPCRdb!$A:$U,MATCH(S$1,StructureInfoFromGPCRdb!$A$1:$U$1,0),FALSE)="","",VLOOKUP($C3,StructureInfoFromGPCRdb!$A:$U,MATCH(S$1,StructureInfoFromGPCRdb!$A$1:$U$1,0),FALSE)) -> αo | T3: =IF(VLOOKUP($C3,StructureInfoFromGPCRdb!$A:$U,MATCH(T$1,StructureInfoFromGPCRdb!$A$1:$U$1,0),FALSE)="","",VLOOKUP($C3,StructureInfoFromGPCRdb!$A:$U,MATCH(T$1,StructureInfoFromGPCRdb!$A$1:$U$1,0),FALSE)) | U3: =IF(VLOOKUP($C3,StructureInfoFromGPCRdb!$A:$U,MATCH(U$1,StructureInfoFromGPCRdb!$A$1:$U$1,0),FALSE)="","",VLOOKUP($C3,StructureInfoFromGPCRdb!$A:$U,MATCH(U$1,StructureInfoFromGPCRdb!$A$1:$U$1,0),FALSE)) -> 61 | V3: =VLOOKUP($C3,StructureInfoFromGPCRdb!$A:$U,MATCH(V$1,StructureInfoFromGPCRdb!$A$1:$U$1,0),FALSE) -> - | W3: =VLOOKUP($C3,StructureInfoFromGPCRdb!$A:$U,MATCH(W$1,StructureInfoFromGPCRdb!$A$1:$U$1,0),FALSE) -> - | X3: =VLOOKUP($C3,StructureInfoFromGPCRdb!$A:$U,MATCH(X$1,StructureInfoFromGPCRdb!$A$1:$U$1,0),FALSE) -> 2CU | Y3: =VLOOKUP($C3,StructureInfoFromGPCRdb!$A:$U,MATCH(Y$1,StructureInfoFromGPCRdb!$A$1:$U$1,0),FALSE) -> PAM | Z3: Yes
A4: =CONCATENATE(D4,H4,I4,O4) -> AReprYesActive | B4: =CONCATENATE(F4,H4,I4,O4) -> AA1RReprYesActive | C4: 6D9H | D4: =VLOOKUP($C4,StructureInfoFromGPCRdb!$A:$U,MATCH(D$1,StructureInfoFromGPCRdb!$A$1:$U$1,0),FALSE) -> A | E4: =VLOOKUP($C4,StructureInfoFromGPCRdb!$A:$U,MATCH(E$1,StructureInfoFromGPCRdb!$A$1:$U$1,0),FALSE) -> Adenosine | F4: =VLOOKUP($C4,StructureInfoFromGPCRdb!$A:$U,MATCH(F$1,StructureInfoFromGPCRdb!$A$1:$U$1,0),FALSE) -> AA1R | G4: =VLOOKUP($C4,StructureInfoFromGPCRdb!$A:$U,MATCH(G$1,StructureInfoFromGPCRdb!$A$1:$U$1,0),FALSE) -> A1 | H4: Repr | I4: Yes | J4: =VLOOKUP($C4,StructureInfoFromGPCRdb!$A:$U,MATCH(J$1,StructureInfoFromGPCRdb!$A$1:$U$1,0),FALSE) -> 91 | K4: =VLOOKUP($C4,StructureInfoFromGPCRdb!$A:$U,MATCH(K$1,StructureInfoFromGPCRdb!$A$1:$U$1,0),FALSE) -> Human | L4: =VLOOKUP($C4,StructureInfoFromGPCRdb!$A:$U,MATCH(L$1,StructureInfoFromGPCRdb!$A$1:$U$1,0),FALSE) -> 100 | M4: =VLOOKUP($C4,StructureInfoFromGPCRdb!$A:$U,MATCH(M$1,StructureInfoFromGPCRdb!$A$1:$U$1,0),FALSE) -> cryo-EM | N4: =VLOOKUP($C4,StructureInfoFromGPCRdb!$A:$U,MATCH(N$1,StructureInfoFromGPCRdb!$A$1:$U$1,0),FALSE) -> 3.6 | O4: =VLOOKUP($C4,StructureInfoFromGPCRdb!$A:$U,MATCH(O$1,StructureInfoFromGPCRdb!$A$1:$U$1,0),FALSE) -> Active | P4: =VLOOKUP($C4,StructureInfoFromGPCRdb!$A:$U,MATCH(P$1,StructureInfoFromGPCRdb!$A$1:$U$1,0),FALSE) -> 100 | Q4: =VLOOKUP($C4,StructureInfoFromGPCRdb!$A:$U,MATCH(Q$1,StructureInfoFromGPCRdb!$A$1:$U$1,0),FALSE) -> 67 | R4: =IF(VLOOKUP($C4,StructureInfoFromGPCRdb!$A:$U,MATCH(R$1,StructureInfoFromGPCRdb!$A$1:$U$1,0),FALSE)="","",VLOOKUP($C4,StructureInfoFromGPCRdb!$A:$U,MATCH(R$1,StructureInfoFromGPCRdb!$A$1:$U$1,0),FALSE)) -> Gi/o | S4: =IF(VLOOKUP($C4,StructureInfoFromGPCRdb!$A:$U,MATCH(S$1,StructureInfoFromGPCRdb!$A$1:$U$1,0),FALSE)="","",VLOOKUP($C4,StructureInfoFromGPCRdb!$A:$U,MATCH(S$1,StructureInfoFromGPCRdb!$A$1:$U$1,0),FALSE)) -> αi2 | T4: =IF(VLOOKUP($C4,StructureInfoFromGPCRdb!$A:$U,MATCH(T$1,StructureInfoFromGPCRdb!$A$1:$U$1,0),FALSE)="","",VLOOKUP($C4,StructureInfoFromGPCRdb!$A:$U,MATCH(T$1,StructureInfoFromGPCRdb!$A$1:$U$1,0),FALSE)) | U4: =IF(VLOOKUP($C4,StructureInfoFromGPCRdb!$A:$U,MATCH(U$1,StructureInfoFromGPCRdb!$A$1:$U$1,0),FALSE)="","",VLOOKUP($C4,StructureInfoFromGPCRdb!$A:$U,MATCH(U$1,StructureInfoFromGPCRdb!$A$1:$U$1,0),FALSE)) -> 59 | V4: =VLOOKUP($C4,StructureInfoFromGPCRdb!$A:$U,MATCH(V$1,StructureInfoFromGPCRdb!$A$1:$U$1,0),FALSE) -> - | W4: =VLOOKUP($C4,StructureInfoFromGPCRdb!$A:$U,MATCH(W$1,StructureInfoFromGPCRdb!$A$1:$U$1,0),FALSE) -> - | X4: =VLOOKUP($C4,StructureInfoFromGPCRdb!$A:$U,MATCH(X$1,StructureInfoFromGPCRdb!$A$1:$U$1,0),FALSE) -> adenosine | Y4: =VLOOKUP($C4,StructureInfoFromGPCRdb!$A:$U,MATCH(Y$1,StructureInfoFromGPCRdb!$A$1:$U$1,0),FALSE) -> Agonist | Z4: Yes
A5: =CONCATENATE(D5,H5,I5,O5) -> AReprYesActive | B5: =CONCATENATE(F5,H5,I5,O5) -> AA2ARReprYesActive | C5: 5G53 | D5: =VLOOKUP($C5,StructureInfoFromGPCRdb!$A:$U,MATCH(D$1,StructureInfoFromGPCRdb!$A$1:$U$1,0),FALSE) -> A | E5: =VLOOKUP($C5,StructureInfoFromGPCRdb!$A:$U,MATCH(E$1,StructureInfoFromGPCRdb!$A$1:$U$1,0),FALSE) -> Adenosine | F5: =VLOOKUP($C5,StructureInfoFromGPCRdb!$A:$U,MATCH(F$1,StructureInfoFromGPCRdb!$A$1:$U$1,0),FALSE) -> AA2AR | G5: =VLOOKUP($C5,StructureInfoFromGPCRdb!$A:$U,MATCH(G$1,StructureInfoFromGPCRdb!$A$1:$U$1,0),FALSE) -> A2A | H5: Repr | I5: Yes | J5: =VLOOKUP($C5,StructureInfoFromGPCRdb!$A:$U,MATCH(J$1,StructureInfoFromGPCRdb!$A$1:$U$1,0),FALSE) -> 90 | K5: =VLOOKUP($C5,StructureInfoFromGPCRdb!$A:$U,MATCH(K$1,StructureInfoFromGPCRdb!$A$1:$U$1,0),FALSE) -> Human | L5: =VLOOKUP($C5,StructureInfoFromGPCRdb!$A:$U,MATCH(L$1,StructureInfoFromGPCRdb!$A$1:$U$1,0),FALSE) -> 100 | M5: =VLOOKUP($C5,StructureInfoFromGPCRdb!$A:$U,MATCH(M$1,StructureInfoFromGPCRdb!$A$1:$U$1,0),FALSE) -> X-ray | N5: =VLOOKUP($C5,StructureInfoFromGPCRdb!$A:$U,MATCH(N$1,StructureInfoFromGPCRdb!$A$1:$U$1,0),FALSE) -> 3.4 | O5: =VLOOKUP($C5,StructureInfoFromGPCRdb!$A:$U,MATCH(O$1,StructureInfoFromGPCRdb!$A$1:$U$1,0),FALSE) -> Active | P5: =VLOOKUP($C5,StructureInfoFromGPCRdb!$A:$U,MATCH(P$1,StructureInfoFromGPCRdb!$A$1:$U$1,0),FALSE) -> 100 | Q5: =VLOOKUP($C5,StructureInfoFromGPCRdb!$A:$U,MATCH(Q$1,StructureInfoFromGPCRdb!$A$1:$U$1,0),FALSE) -> 70 | R5: =IF(VLOOKUP($C5,StructureInfoFromGPCRdb!$A:$U,MATCH(R$1,StructureInfoFromGPCRdb!$A$1:$U$1,0),FALSE)="","",VLOOKUP($C5,StructureInfoFromGPCRdb!$A:$U,MATCH(R$1,StructureInfoFromGPCRdb!$A$1:$U$1,0),FALSE)) -> Gs | S5: =IF(VLOOKUP($C5,StructureInfoFromGPCRdb!$A:$U,MATCH(S$1,StructureInfoFromGPCRdb!$A$1:$U$1,0),FALSE)="","",VLOOKUP($C5,StructureInfoFromGPCRdb!$A:$U,MATCH(S$1,StructureInfoFromGPCRdb!$A$1:$U$1,0),FALSE)) -> αs | T5: =IF(VLOOKUP($C5,StructureInfoFromGPCRdb!$A:$U,MATCH(T$1,StructureInfoFromGPCRdb!$A$1:$U$1,0),FALSE)="","",VLOOKUP($C5,StructureInfoFromGPCRdb!$A:$U,MATCH(T$1,StructureInfoFromGPCRdb!$A$1:$U$1,0),FALSE)) -> Engineered G protein | U5: =IF(VLOOKUP($C5,StructureInfoFromGPCRdb!$A:$U,MATCH(U$1,StructureInfoFromGPCRdb!$A$1:$U$1,0),FALSE)="","",VLOOKUP($C5,StructureInfoFromGPCRdb!$A:$U,MATCH(U$1,StructureInfoFromGPCRdb!$A$1:$U$1,0),FALSE)) -> 50 | V5: =VLOOKUP($C5,StructureInfoFromGPCRdb!$A:$U,MATCH(V$1,StructureInfoFromGPCRdb!$A$1:$U$1,0),FALSE) -> - | W5: =VLOOKUP($C5,StructureInfoFromGPCRdb!$A:$U,MATCH(W$1,StructureInfoFromGPCRdb!$A$1:$U$1,0),FALSE) -> - | X5: =VLOOKUP($C5,StructureInfoFromGPCRdb!$A:$U,MATCH(X$1,StructureInfoFromGPCRdb!$A$1:$U$1,0),FALSE) -> NECA | Y5: =VLOOKUP($C5,StructureInfoFromGPCRdb!$A:$U,MATCH(Y$1,StructureInfoFromGPCRdb!$A$1:$U$1,0),FALSE) -> Agonist | Z5: Yes
A6: =CONCATENATE(D6,H6,I6,O6) -> AReprYesActive | B6: =CONCATENATE(F6,H6,I6,O6) -> ADA2BReprYesActive | C6: 6K41 | D6: =VLOOKUP($C6,StructureInfoFromGPCRdb!$A:$U,MATCH(D$1,StructureInfoFromGPCRdb!$A$1:$U$1,0),FALSE) -> A | E6: =VLOOKUP($C6,StructureInfoFromGPCRdb!$A:$U,MATCH(E$1,StructureInfoFromGPCRdb!$A$1:$U$1,0),FALSE) -> Adrenoceptors | F6: =VLOOKUP($C6,StructureInfoFromGPCRdb!$A:$U,MATCH(F$1,StructureInfoFromGPCRdb!$A$1:$U$1,0),FALSE) -> ADA2B | G6: =VLOOKUP($C6,StructureInfoFromGPCRdb!$A:$U,MATCH(G$1,StructureInfoFromGPCRdb!$A$1:$U$1,0),FALSE) -> α2B | H6: Repr | I6: Yes | J6: =VLOOKUP($C6,StructureInfoFromGPCRdb!$A:$U,MATCH(J$1,StructureInfoFromGPCRdb!$A$1:$U$1,0),FALSE) -> 89 | K6: =VLOOKUP($C6,StructureInfoFromGPCRdb!$A:$U,MATCH(K$1,StructureInfoFromGPCRdb!$A$1:$U$1,0),FALSE) -> Human | L6: =VLOOKUP($C6,StructureInfoFromGPCRdb!$A:$U,MATCH(L$1,StructureInfoFromGPCRdb!$A$1:$U$1,0),FALSE) -> 100 | M6: =VLOOKUP($C6,StructureInfoFromGPCRdb!$A:$U,MATCH(M$1,StructureInfoFromGPCRdb!$A$1:$U$1,0),FALSE) -> cryo-EM | N6: =VLOOKUP($C6,StructureInfoFromGPCRdb!$A:$U,MATCH(N$1,StructureInfoFromGPCRdb!$A$1:$U$1,0),FALSE) -> 2.9 | O6: =VLOOKUP($C6,StructureInfoFromGPCRdb!$A:$U,MATCH(O$1,StructureInfoFromGPCRdb!$A$1:$U$1,0),FALSE) -> Active | P6: =VLOOKUP($C6,StructureInfoFromGPCRdb!$A:$U,MATCH(P$1,StructureInfoFromGPCRdb!$A$1:$U$1,0),FALSE) -> 100 | Q6: =VLOOKUP($C6,StructureInfoFromGPCRdb!$A:$U,MATCH(Q$1,StructureInfoFromGPCRdb!$A$1:$U$1,0),FALSE) -> 79 | R6: =IF(VLOOKUP($C6,StructureInfoFromGPCRdb!$A:$U,MATCH(R$1,StructureInfoFromGPCRdb!$A$1:$U$1,0),FALSE)="","",VLOOKUP($C6,StructureInfoFromGPCRdb!$A:$U,MATCH(R$1,StructureInfoFromGPCRdb!$A$1:$U$1,0),FALSE)) -> Gi/o | S6: =IF(VLOOKUP($C6,StructureInfoFromGPCRdb!$A:$U,MATCH(S$1,StructureInfoFromGPCRdb!$A$1:$U$1,0),FALSE)="","",VLOOKUP($C6,StructureInfoFromGPCRdb!$A:$U,MATCH(S$1,StructureInfoFromGPCRdb!$A$1:$U$1,0),FALSE)) -> αo | T6: =IF(VLOOKUP($C6,StructureInfoFromGPCRdb!$A:$U,MATCH(T$1,StructureInfoFromGPCRdb!$A$1:$U$1,0),FALSE)="","",VLOOKUP($C6,StructureInfoFromGPCRdb!$A:$U,MATCH(T$1,StructureInfoFromGPCRdb!$A$1:$U$1,0),FALSE)) | U6: =IF(VLOOKUP($C6,StructureInfoFromGPCRdb!$A:$U,MATCH(U$1,StructureInfoFromGPCRdb!$A$1:$U$1,0),FALSE)="","",VLOOKUP($C6,StructureInfoFromGPCRdb!$A:$U,MATCH(U$1,StructureInfoFromGPCRdb!$A$1:$U$1,0),FALSE)) -> 60 | V6: =VLOOKUP($C6,StructureInfoFromGPCRdb!$A:$U,MATCH(V$1,StructureInfoFromGPCRdb!$A$1:$U$1,0),FALSE) -> T4-Lysozyme | W6: =VLOOKUP($C6,StructureInfoFromGPCRdb!$A:$U,MATCH(W$1,StructureInfoFromGPCRdb!$A$1:$U$1,0),FALSE) -> scFv | X6: =VLOOKUP($C6,StructureInfoFromGPCRdb!$A:$U,MATCH(X$1,StructureInfoFromGPCRdb!$A$1:$U$1,0),FALSE) -> Dexmedetomidine | Y6: =VLOOKUP($C6,StructureInfoFromGPCRdb!$A:$U,MATCH(Y$1,StructureInfoFromGPCRdb!$A$1:$U$1,0),FALSE) -> Agonist | Z6: Yes
A7: =CONCATENATE(D7,H7,I7,O7) -> AReprYesActive | B7: =CONCATENATE(F7,H7,I7,O7) -> ADRB2ReprYesActive | C7: 3SN6 | D7: =VLOOKUP($C7,StructureInfoFromGPCRdb!$A:$U,MATCH(D$1,StructureInfoFromGPCRdb!$A$1:$U$1,0),FALSE) -> A | E7: =VLOOKUP($C7,StructureInfoFromGPCRdb!$A:$U,MATCH(E$1,StructureInfoFromGPCRdb!$A$1:$U$1,0),FALSE) -> Adrenoceptors | F7: =VLOOKUP($C7,StructureInfoFromGPCRdb!$A:$U,MATCH(F$1,StructureInfoFromGPCRdb!$A$1:$U$1,0),FALSE) -> ADRB2 | G7: =VLOOKUP($C7,StructureInfoFromGPCRdb!$A:$U,MATCH(G$1,StructureInfoFromGPCRdb!$A$1:$U$1,0),FALSE) -> β2 | H7: Repr | I7: Yes | J7: =VLOOKUP($C7,StructureInfoFromGPCRdb!$A:$U,MATCH(J$1,StructureInfoFromGPCRdb!$A$1:$U$1,0),FALSE) -> 97 | K7: =VLOOKUP($C7,StructureInfoFromGPCRdb!$A:$U,MATCH(K$1,StructureInfoFromGPCRdb!$A$1:$U$1,0),FALSE) -> Human | L7: =VLOOKUP($C7,StructureInfoFromGPCRdb!$A:$U,MATCH(L$1,StructureInfoFromGPCRdb!$A$1:$U$1,0),FALSE) -> 100 | M7: =VLOOKUP($C7,StructureInfoFromGPCRdb!$A:$U,MATCH(M$1,StructureInfoFromGPCRdb!$A$1:$U$1,0),FALSE) -> X-ray | N7: =VLOOKUP($C7,StructureInfoFromGPCRdb!$A:$U,MATCH(N$1,StructureInfoFromGPCRdb!$A$1:$U$1,0),FALSE) -> 3.2 | O7: =VLOOKUP($C7,StructureInfoFromGPCRdb!$A:$U,MATCH(O$1,StructureInfoFromGPCRdb!$A$1:$U$1,0),FALSE) -> Active | P7: =VLOOKUP($C7,StructureInfoFromGPCRdb!$A:$U,MATCH(P$1,StructureInfoFromGPCRdb!$A$1:$U$1,0),FALSE) -> 100 | Q7: =VLOOKUP($C7,StructureInfoFromGPCRdb!$A:$U,MATCH(Q$1,StructureInfoFromGPCRdb!$A$1:$U$1,0),FALSE) -> 72 | R7: =IF(VLOOKUP($C7,StructureInfoFromGPCRdb!$A:$U,MATCH(R$1,StructureInfoFromGPCRdb!$A$1:$U$1,0),FALSE)="","",VLOOKUP($C7,StructureInfoFromGPCRdb!$A:$U,MATCH(R$1,StructureInfoFromGPCRdb!$A$1:$U$1,0),FALSE)) -> Gs | S7: =IF(VLOOKUP($C7,StructureInfoFromGPCRdb!$A:$U,MATCH(S$1,StructureInfoFromGPCRdb!$A$1:$U$1,0),FALSE)="","",VLOOKUP($C7,StructureInfoFromGPCRdb!$A:$U,MATCH(S$1,StructureInfoFromGPCRdb!$A$1:$U$1,0),FALSE)) -> αs | T7: =IF(VLOOKUP($C7,StructureInfoFromGPCRdb!$A:$U,MATCH(T$1,StructureInfoFromGPCRdb!$A$1:$U$1,0),FALSE)="","",VLOOKUP($C7,StructureInfoFromGPCRdb!$A:$U,MATCH(T$1,StructureInfoFromGPCRdb!$A$1:$U$1,0),FALSE)) | U7: =IF(VLOOKUP($C7,StructureInfoFromGPCRdb!$A:$U,MATCH(U$1,StructureInfoFromGPCRdb!$A$1:$U$1,0),FALSE)="","",VLOOKUP($C7,StructureInfoFromGPCRdb!$A:$U,MATCH(U$1,StructureInfoFromGPCRdb!$A$1:$U$1,0),FALSE)) -> 89 | V7: =VLOOKUP($C7,StructureInfoFromGPCRdb!$A:$U,MATCH(V$1,StructureInfoFromGPCRdb!$A$1:$U$1,0),FALSE) -> T4-Lysozyme | W7: =VLOOKUP($C7,StructureInfoFromGPCRdb!$A:$U,MATCH(W$1,StructureInfoFromGPCRdb!$A$1:$U$1,0),FALSE) -> Antibody | X7: =VLOOKUP($C7,StructureInfoFromGPCRdb!$A:$U,MATCH(X$1,StructureInfoFromGPCRdb!$A$1:$U$1,0),FALSE) -> BI-167107 | Y7: =VLOOKUP($C7,StructureInfoFromGPCRdb!$A:$U,MATCH(Y$1,StructureInfoFromGPCRdb!$A$1:$U$1,0),FALSE) -> Agonist | Z7: Yes
A8: =CONCATENATE(D8,H8,I8,O8) -> AReprYesActive | B8: =CONCATENATE(F8,H8,I8,O8) -> CNR1ReprYesActive | C8: 6N4B | D8: =VLOOKUP($C8,StructureInfoFromGPCRdb!$A:$U,MATCH(D$1,StructureInfoFromGPCRdb!$A$1:$U$1,0),FALSE) -> A | E8: =VLOOKUP($C8,StructureInfoFromGPCRdb!$A:$U,MATCH(E$1,StructureInfoFromGPCRdb!$A$1:$U$1,0),FALSE) -> Cannabinoid | F8: =VLOOKUP($C8,StructureInfoFromGPCRdb!$A:$U,MATCH(F$1,StructureInfoFromGPCRdb!$A$1:$U$1,0),FALSE) -> CNR1 | G8: =VLOOKUP($C8,StructureInfoFromGPCRdb!$A:$U,MATCH(G$1,StructureInfoFromGPCRdb!$A$1:$U$1,0),FALSE) -> CB1 | H8: Repr | I8: Yes | J8: =VLOOKUP($C8,StructureInfoFromGPCRdb!$A:$U,MATCH(J$1,StructureInfoFromGPCRdb!$A$1:$U$1,0),FALSE) -> 92 | K8: =VLOOKUP($C8,StructureInfoFromGPCRdb!$A:$U,MATCH(K$1,StructureInfoFromGPCRdb!$A$1:$U$1,0),FALSE) -> Human | L8: =VLOOKUP($C8,StructureInfoFromGPCRdb!$A:$U,MATCH(L$1,StructureInfoFromGPCRdb!$A$1:$U$1,0),FALSE) -> 100 | M8: =VLOOKUP($C8,StructureInfoFromGPCRdb!$A:$U,MATCH(M$1,StructureInfoFromGPCRdb!$A$1:$U$1,0),FALSE) -> cryo-EM | N8: =VLOOKUP($C8,StructureInfoFromGPCRdb!$A:$U,MATCH(N$1,StructureInfoFromGPCRdb!$A$1:$U$1,0),FALSE) -> 3 | O8: =VLOOKUP($C8,StructureInfoFromGPCRdb!$A:$U,MATCH(O$1,StructureInfoFromGPCRdb!$A$1:$U$1,0),FALSE) -> Active | P8: =VLOOKUP($C8,StructureInfoFromGPCRdb!$A:$U,MATCH(P$1,StructureInfoFromGPCRdb!$A$1:$U$1,0),FALSE) -> 100 | Q8: =VLOOKUP($C8,StructureInfoFromGPCRdb!$A:$U,MATCH(Q$1,StructureInfoFromGPCRdb!$A$1:$U$1,0),FALSE) -> 70 | R8: =IF(VLOOKUP($C8,StructureInfoFromGPCRdb!$A:$U,MATCH(R$1,StructureInfoFromGPCRdb!$A$1:$U$1,0),FALSE)="","",VLOOKUP($C8,StructureInfoFromGPCRdb!$A:$U,MATCH(R$1,StructureInfoFromGPCRdb!$A$1:$U$1,0),FALSE)) -> Gi/o | S8: =IF(VLOOKUP($C8,StructureInfoFromGPCRdb!$A:$U,MATCH(S$1,StructureInfoFromGPCRdb!$A$1:$U$1,0),FALSE)="","",VLOOKUP($C8,StructureInfoFromGPCRdb!$A:$U,MATCH(S$1,StructureInfoFromGPCRdb!$A$1:$U$1,0),FALSE)) -> αi1 | T8: =IF(VLOOKUP($C8,StructureInfoFromGPCRdb!$A:$U,MATCH(T$1,StructureInfoFromGPCRdb!$A$1:$U$1,0),FALSE)="","",VLOOKUP($C8,StructureInfoFromGPCRdb!$A:$U,MATCH(T$1,StructureInfoFromGPCRdb!$A$1:$U$1,0),FALSE)) | U8: =IF(VLOOKUP($C8,StructureInfoFromGPCRdb!$A:$U,MATCH(U$1,StructureInfoFromGPCRdb!$A$1:$U$1,0),FALSE)="","",VLOOKUP($C8,StructureInfoFromGPCRdb!$A:$U,MATCH(U$1,StructureInfoFromGPCRdb!$A$1:$U$1,0),FALSE)) -> 62 | V8: =VLOOKUP($C8,StructureInfoFromGPCRdb!$A:$U,MATCH(V$1,StructureInfoFromGPCRdb!$A$1:$U$1,0),FALSE) -> - | W8: =VLOOKUP($C8,StructureInfoFromGPCRdb!$A:$U,MATCH(W$1,StructureInfoFromGPCRdb!$A$1:$U$1,0),FALSE) -> scFv16 | X8: =VLOOKUP($C8,StructureInfoFromGPCRdb!$A:$U,MATCH(X$1,StructureInfoFromGPCRdb!$A$1:$U$1,0),FALSE) -> Fub-mdmb | Y8: =VLOOKUP($C8,StructureInfoFromGPCRdb!$A:$U,MATCH(Y$1,StructureInfoFromGPCRdb!$A$1:$U$1,0),FALSE) -> Agonist | Z8: Yes
A9: =CONCATENATE(D9,H9,I9,O9) -> AReprYesActive | B9: =CONCATENATE(F9,H9,I9,O9) -> CNR2ReprYesActive | C9: 6KPF | D9: =VLOOKUP($C9,StructureInfoFromGPCRdb!$A:$U,MATCH(D$1,StructureInfoFromGPCRdb!$A$1:$U$1,0),FALSE) -> A | E9: =VLOOKUP($C9,StructureInfoFromGPCRdb!$A:$U,MATCH(E$1,StructureInfoFromGPCRdb!$A$1:$U$1,0),FALSE) -> Cannabinoid | F9: =VLOOKUP($C9,StructureInfoFromGPCRdb!$A:$U,MATCH(F$1,StructureInfoFromGPCRdb!$A$1:$U$1,0),FALSE) -> CNR2 | G9: =VLOOKUP($C9,StructureInfoFromGPCRdb!$A:$U,MATCH(G$1,StructureInfoFromGPCRdb!$A$1:$U$1,0),FALSE) -> CB2 | H9: Repr | I9: Yes | J9: =VLOOKUP($C9,StructureInfoFromGPCRdb!$A:$U,MATCH(J$1,StructureInfoFromGPCRdb!$A$1:$U$1,0),FALSE) -> 91 | K9: =VLOOKUP($C9,StructureInfoFromGPCRdb!$A:$U,MATCH(K$1,StructureInfoFromGPCRdb!$A$1:$U$1,0),FALSE) -> Human | L9: =VLOOKUP($C9,StructureInfoFromGPCRdb!$A:$U,MATCH(L$1,StructureInfoFromGPCRdb!$A$1:$U$1,0),FALSE) -> 100 | M9: =VLOOKUP($C9,StructureInfoFromGPCRdb!$A:$U,MATCH(M$1,StructureInfoFromGPCRdb!$A$1:$U$1,0),FALSE) -> cryo-EM | N9: =VLOOKUP($C9,StructureInfoFromGPCRdb!$A:$U,MATCH(N$1,StructureInfoFromGPCRdb!$A$1:$U$1,0),FALSE) -> 2.9 | O9: =VLOOKUP($C9,StructureInfoFromGPCRdb!$A:$U,MATCH(O$1,StructureInfoFromGPCRdb!$A$1:$U$1,0),FALSE) -> Active | P9: =VLOOKUP($C9,StructureInfoFromGPCRdb!$A:$U,MATCH(P$1,StructureInfoFromGPCRdb!$A$1:$U$1,0),FALSE) -> 100 | Q9: =VLOOKUP($C9,StructureInfoFromGPCRdb!$A:$U,MATCH(Q$1,StructureInfoFromGPCRdb!$A$1:$U$1,0),FALSE) -> 55 | R9: =IF(VLOOKUP($C9,StructureInfoFromGPCRdb!$A:$U,MATCH(R$1,StructureInfoFromGPCRdb!$A$1:$U$1,0),FALSE)="","",VLOOKUP($C9,StructureInfoFromGPCRdb!$A:$U,MATCH(R$1,StructureInfoFromGPCRdb!$A$1:$U$1,0),FALSE)) -> Gi/o | S9: =IF(VLOOKUP($C9,StructureInfoFromGPCRdb!$A:$U,MATCH(S$1,StructureInfoFromGPCRdb!$A$1:$U$1,0),FALSE)="","",VLOOKUP($C9,StructureInfoFromGPCRdb!$A:$U,MATCH(S$1,StructureInfoFromGPCRdb!$A$1:$U$1,0),FALSE)) -> αi1 | T9: =IF(VLOOKUP($C9,StructureInfoFromGPCRdb!$A:$U,MATCH(T$1,StructureInfoFromGPCRdb!$A$1:$U$1,0),FALSE)="","",VLOOKUP($C9,StructureInfoFromGPCRdb!$A:$U,MATCH(T$1,StructureInfoFromGPCRdb!$A$1:$U$1,0),FALSE)) | U9: =IF(VLOOKUP($C9,StructureInfoFromGPCRdb!$A:$U,MATCH(U$1,StructureInfoFromGPCRdb!$A$1:$U$1,0),FALSE)="","",VLOOKUP($C9,StructureInfoFromGPCRdb!$A:$U,MATCH(U$1,StructureInfoFromGPCRdb!$A$1:$U$1,0),FALSE)) -> 62 | V9: =VLOOKUP($C9,StructureInfoFromGPCRdb!$A:$U,MATCH(V$1,StructureInfoFromGPCRdb!$A$1:$U$1,0),FALSE) -> - | W9: =VLOOKUP($C9,StructureInfoFromGPCRdb!$A:$U,MATCH(W$1,StructureInfoFromGPCRdb!$A$1:$U$1,0),FALSE) -> scFv16 | X9: =VLOOKUP($C9,StructureInfoFromGPCRdb!$A:$U,MATCH(X$1,StructureInfoFromGPCRdb!$A$1:$U$1,0),FALSE) -> (6Ar,9R,10aR)-9-(hyd.. | Y9: =VLOOKUP($C9,StructureInfoFromGPCRdb!$A:$U,MATCH(Y$1,StructureInfoFromGPCRdb!$A$1:$U$1,0),FALSE) -> Agonist | Z9: Yes
A10: =CONCATENATE(D10,H10,I10,O10) -> AReprYesActive | B10: =CONCATENATE(F10,H10,I10,O10) -> CCR6ReprYesActive | C10: 6WWZ | D10: =VLOOKUP($C10,StructureInfoFromGPCRdb!$A:$U,MATCH(D$1,StructureInfoFromGPCRdb!$A$1:$U$1,0),FALSE) -> A | E10: =VLOOKUP($C10,StructureInfoFromGPCRdb!$A:$U,MATCH(E$1,StructureInfoFromGPCRdb!$A$1:$U$1,0),FALSE) -> Chemokine | F10: =VLOOKUP($C10,StructureInfoFromGPCRdb!$A:$U,MATCH(F$1,StructureInfoFromGPCRdb!$A$1:$U$1,0),FALSE) -> CCR6 | G10: =VLOOKUP($C10,StructureInfoFromGPCRdb!$A:$U,MATCH(G$1,StructureInfoFromGPCRdb!$A$1:$U$1,0),FALSE) -> CCR6 | H10: Repr | I10: Yes | J10: =VLOOKUP($C10,StructureInfoFromGPCRdb!$A:$U,MATCH(J$1,StructureInfoFromGPCRdb!$A$1:$U$1,0),FALSE) -> 96 | K10: =VLOOKUP($C10,StructureInfoFromGPCRdb!$A:$U,MATCH(K$1,StructureInfoFromGPCRdb!$A$1:$U$1,0),FALSE) -> Human | L10: =VLOOKUP($C10,StructureInfoFromGPCRdb!$A:$U,MATCH(L$1,StructureInfoFromGPCRdb!$A$1:$U$1,0),FALSE) -> 100 | M10: =VLOOKUP($C10,StructureInfoFromGPCRdb!$A:$U,MATCH(M$1,StructureInfoFromGPCRdb!$A$1:$U$1,0),FALSE) -> cryo-EM | N10: =VLOOKUP($C10,StructureInfoFromGPCRdb!$A:$U,MATCH(N$1,StructureInfoFromGPCRdb!$A$1:$U$1,0),FALSE) -> 3.3 | O10: =VLOOKUP($C10,StructureInfoFromGPCRdb!$A:$U,MATCH(O$1,StructureInfoFromGPCRdb!$A$1:$U$1,0),FALSE) -> Active | P10: =VLOOKUP($C10,StructureInfoFromGPCRdb!$A:$U,MATCH(P$1,StructureInfoFromGPCRdb!$A$1:$U$1,0),FALSE) -> 100 | Q10: =VLOOKUP($C10,StructureInfoFromGPCRdb!$A:$U,MATCH(Q$1,StructureInfoFromGPCRdb!$A$1:$U$1,0),FALSE) -> 76 | R10: =IF(VLOOKUP($C10,StructureInfoFromGPCRdb!$A:$U,MATCH(R$1,StructureInfoFromGPCRdb!$A$1:$U$1,0),FALSE)="","",VLOOKUP($C10,StructureInfoFromGPCRdb!$A:$U,MATCH(R$1,StructureInfoFromGPCRdb!$A$1:$U$1,0),FALSE)) -> Gi/o | S10: =IF(VLOOKUP($C10,StructureInfoFromGPCRdb!$A:$U,MATCH(S$1,StructureInfoFromGPCRdb!$A$1:$U$1,0),FALSE)="","",VLOOKUP($C10,StructureInfoFromGPCRdb!$A:$U,MATCH(S$1,StructureInfoFromGPCRdb!$A$1:$U$1,0),FALSE)) -> αo | T10: =IF(VLOOKUP($C10,StructureInfoFromGPCRdb!$A:$U,MATCH(T$1,StructureInfoFromGPCRdb!$A$1:$U$1,0),FALSE)="","",VLOOKUP($C10,StructureInfoFromGPCRdb!$A:$U,MATCH(T$1,StructureInfoFromGPCRdb!$A$1:$U$1,0),FALSE)) | U10: =IF(VLOOKUP($C10,StructureInfoFromGPCRdb!$A:$U,MATCH(U$1,StructureInfoFromGPCRdb!$A$1:$U$1,0),FALSE)="","",VLOOKUP($C10,StructureInfoFromGPCRdb!$A:$U,MATCH(U$1,StructureInfoFromGPCRdb!$A$1:$U$1,0),FALSE)) -> 59 | V10: =VLOOKUP($C10,StructureInfoFromGPCRdb!$A:$U,MATCH(V$1,StructureInfoFromGPCRdb!$A$1:$U$1,0),FALSE) -> - | W10: =VLOOKUP($C10,StructureInfoFromGPCRdb!$A:$U,MATCH(W$1,StructureInfoFromGPCRdb!$A$1:$U$1,0),FALSE) -> scFv16 | X10: =VLOOKUP($C10,StructureInfoFromGPCRdb!$A:$U,MATCH(X$1,StructureInfoFromGPCRdb!$A$1:$U$1,0),FALSE) -> CCL20 | Y10: =VLOOKUP($C10,StructureInfoFromGPCRdb!$A:$U,MATCH(Y$1,StructureInfoFromGPCRdb!$A$1:$U$1,0),FALSE) -> Agonist | Z10: Yes
A11: =CONCATENATE(D11,H11,I11,O11) -> AReprYesActive | B11: =CONCATENATE(F11,H11,I11,O11) -> CXCR2ReprYesActive | C11: 6LFO | D11: =VLOOKUP($C11,StructureInfoFromGPCRdb!$A:$U,MATCH(D$1,StructureInfoFromGPCRdb!$A$1:$U$1,0),FALSE) -> A | E11: =VLOOKUP($C11,StructureInfoFromGPCRdb!$A:$U,MATCH(E$1,StructureInfoFromGPCRdb!$A$1:$U$1,0),FALSE) -> Chemokine | F11: =VLOOKUP($C11,StructureInfoFromGPCRdb!$A:$U,MATCH(F$1,StructureInfoFromGPCRdb!$A$1:$U$1,0),FALSE) -> CXCR2 | G11: =VLOOKUP($C11,StructureInfoFromGPCRdb!$A:$U,MATCH(G$1,StructureInfoFromGPCRdb!$A$1:$U$1,0),FALSE) -> CXCR2 | H11: Repr | I11: Yes | J11: =VLOOKUP($C11,StructureInfoFromGPCRdb!$A:$U,MATCH(J$1,StructureInfoFromGPCRdb!$A$1:$U$1,0),FALSE) -> 95 | K11: =VLOOKUP($C11,StructureInfoFromGPCRdb!$A:$U,MATCH(K$1,StructureInfoFromGPCRdb!$A$1:$U$1,0),FALSE) -> Human | L11: =VLOOKUP($C11,StructureInfoFromGPCRdb!$A:$U,MATCH(L$1,StructureInfoFromGPCRdb!$A$1:$U$1,0),FALSE) -> 100 | M11: =VLOOKUP($C11,StructureInfoFromGPCRdb!$A:$U,MATCH(M$1,StructureInfoFromGPCRdb!$A$1:$U$1,0),FALSE) -> cryo-EM | N11: =VLOOKUP($C11,StructureInfoFromGPCRdb!$A:$U,MATCH(N$1,StructureInfoFromGPCRdb!$A$1:$U$1,0),FALSE) -> 3.4 | O11: =VLOOKUP($C11,StructureInfoFromGPCRdb!$A:$U,MATCH(O$1,StructureInfoFromGPCRdb!$A$1:$U$1,0),FALSE) -> Active | P11: =VLOOKUP($C11,StructureInfoFromGPCRdb!$A:$U,MATCH(P$1,StructureInfoFromGPCRdb!$A$1:$U$1,0),FALSE) -> 100 | Q11: =VLOOKUP($C11,StructureInfoFromGPCRdb!$A:$U,MATCH(Q$1,StructureInfoFromGPCRdb!$A$1:$U$1,0),FALSE) -> 63 | R11: =IF(VLOOKUP($C11,StructureInfoFromGPCRdb!$A:$U,MATCH(R$1,StructureInfoFromGPCRdb!$A$1:$U$1,0),FALSE)="","",VLOOKUP($C11,StructureInfoFromGPCRdb!$A:$U,MATCH(R$1,StructureInfoFromGPCRdb!$A$1:$U$1,0),FALSE)) -> Gi/o | S11: =IF(VLOOKUP($C11,StructureInfoFromGPCRdb!$A:$U,MATCH(S$1,StructureInfoFromGPCRdb!$A$1:$U$1,0),FALSE)="","",VLOOKUP($C11,StructureInfoFromGPCRdb!$A:$U,MATCH(S$1,StructureInfoFromGPCRdb!$A$1:$U$1,0),FALSE)) -> αi1 | T11: =IF(VLOOKUP($C11,StructureInfoFromGPCRdb!$A:$U,MATCH(T$1,StructureInfoFromGPCRdb!$A$1:$U$1,0),FALSE)="","",VLOOKUP($C11,StructureInfoFromGPCRdb!$A:$U,MATCH(T$1,StructureInfoFromGPCRdb!$A$1:$U$1,0),FALSE)) | U11: =IF(VLOOKUP($C11,StructureInfoFromGPCRdb!$A:$U,MATCH(U$1,StructureInfoFromGPCRdb!$A$1:$U$1,0),FALSE)="","",VLOOKUP($C11,StructureInfoFromGPCRdb!$A:$U,MATCH(U$1,StructureInfoFromGPCRdb!$A$1:$U$1,0),FALSE)) -> 65 | V11: =VLOOKUP($C11,StructureInfoFromGPCRdb!$A:$U,MATCH(V$1,StructureInfoFromGPCRdb!$A$1:$U$1,0),FALSE) -> - | W11: =VLOOKUP($C11,StructureInfoFromGPCRdb!$A:$U,MATCH(W$1,StructureInfoFromGPCRdb!$A$1:$U$1,0),FALSE) -> scFv16 | X11: =VLOOKUP($C11,StructureInfoFromGPCRdb!$A:$U,MATCH(X$1,StructureInfoFromGPCRdb!$A$1:$U$1,0),FALSE) -> Interleukin-8 | Y11: =VLOOKUP($C11,StructureInfoFromGPCRdb!$A:$U,MATCH(Y$1,StructureInfoFromGPCRdb!$A$1:$U$1,0),FALSE) -> Agonist | Z11: Yes
A12: =CONCATENATE(D12,H12,I12,O12) -> AReprYesActive | B12: =CONCATENATE(F12,H12,I12,O12) -> FPR2ReprYesActive | C12: 6OMM | D12: =VLOOKUP($C12,StructureInfoFromGPCRdb!$A:$U,MATCH(D$1,StructureInfoFromGPCRdb!$A$1:$U$1,0),FALSE) -> A | E12: =VLOOKUP($C12,StructureInfoFromGPCRdb!$A:$U,MATCH(E$1,StructureInfoFromGPCRdb!$A$1:$U$1,0),FALSE) -> Formylpeptide | F12: =VLOOKUP($C12,StructureInfoFromGPCRdb!$A:$U,MATCH(F$1,StructureInfoFromGPCRdb!$A$1:$U$1,0),FALSE) -> FPR2 | G12: =VLOOKUP($C12,StructureInfoFromGPCRdb!$A:$U,MATCH(G$1,StructureInfoFromGPCRdb!$A$1:$U$1,0),FALSE) -> FPR2/ALX | H12: Repr | I12: Yes | J12: =VLOOKUP($C12,StructureInfoFromGPCRdb!$A:$U,MATCH(J$1,StructureInfoFromGPCRdb!$A$1:$U$1,0),FALSE) -> 98 | K12: =VLOOKUP($C12,StructureInfoFromGPCRdb!$A:$U,MATCH(K$1,StructureInfoFromGPCRdb!$A$1:$U$1,0),FALSE) -> Human | L12: =VLOOKUP($C12,StructureInfoFromGPCRdb!$A:$U,MATCH(L$1,StructureInfoFromGPCRdb!$A$1:$U$1,0),FALSE) -> 100 | M12: =VLOOKUP($C12,StructureInfoFromGPCRdb!$A:$U,MATCH(M$1,StructureInfoFromGPCRdb!$A$1:$U$1,0),FALSE) -> cryo-EM | N12: =VLOOKUP($C12,StructureInfoFromGPCRdb!$A:$U,MATCH(N$1,StructureInfoFromGPCRdb!$A$1:$U$1,0),FALSE) -> 3.2 | O12: =VLOOKUP($C12,StructureInfoFromGPCRdb!$A:$U,MATCH(O$1,StructureInfoFromGPCRdb!$A$1:$U$1,0),FALSE) -> Active | P12: =VLOOKUP($C12,StructureInfoFromGPCRdb!$A:$U,MATCH(P$1,StructureInfoFromGPCRdb!$A$1:$U$1,0),FALSE) -> 100 | Q12: =VLOOKUP($C12,StructureInfoFromGPCRdb!$A:$U,MATCH(Q$1,StructureInfoFromGPCRdb!$A$1:$U$1,0),FALSE) -> 68 | R12: =IF(VLOOKUP($C12,StructureInfoFromGPCRdb!$A:$U,MATCH(R$1,StructureInfoFromGPCRdb!$A$1:$U$1,0),FALSE)="","",VLOOKUP($C12,StructureInfoFromGPCRdb!$A:$U,MATCH(R$1,StructureInfoFromGPCRdb!$A$1:$U$1,0),FALSE)) -> Gi/o | S12: =IF(VLOOKUP($C12,StructureInfoFromGPCRdb!$A:$U,MATCH(S$1,StructureInfoFromGPCRdb!$A$1:$U$1,0),FALSE)="","",VLOOKUP($C12,StructureInfoFromGPCRdb!$A:$U,MATCH(S$1,StructureInfoFromGPCRdb!$A$1:$U$1,0),FALSE)) -> αi1 | T12: =IF(VLOOKUP($C12,StructureInfoFromGPCRdb!$A:$U,MATCH(T$1,StructureInfoFromGPCRdb!$A$1:$U$1,0),FALSE)="","",VLOOKUP($C12,StructureInfoFromGPCRdb!$A:$U,MATCH(T$1,StructureInfoFromGPCRdb!$A$1:$U$1,0),FALSE)) | U12: =IF(VLOOKUP($C12,StructureInfoFromGPCRdb!$A:$U,MATCH(U$1,StructureInfoFromGPCRdb!$A$1:$U$1,0),FALSE)="","",VLOOKUP($C12,StructureInfoFromGPCRdb!$A:$U,MATCH(U$1,StructureInfoFromGPCRdb!$A$1:$U$1,0),FALSE)) -> 61 | V12: =VLOOKUP($C12,StructureInfoFromGPCRdb!$A:$U,MATCH(V$1,StructureInfoFromGPCRdb!$A$1:$U$1,0),FALSE) -> - | W12: =VLOOKUP($C12,StructureInfoFromGPCRdb!$A:$U,MATCH(W$1,StructureInfoFromGPCRdb!$A$1:$U$1,0),FALSE) -> - | X12: =VLOOKUP($C12,StructureInfoFromGPCRdb!$A:$U,MATCH(X$1,StructureInfoFromGPCRdb!$A$1:$U$1,0),FALSE) -> WKYMVX | Y12: =VLOOKUP($C12,StructureInfoFromGPCRdb!$A:$U,MATCH(Y$1,StructureInfoFromGPCRdb!$A$1:$U$1,0),FALSE) -> Agonist | Z12: Yes
A13: =CONCATENATE(D13,H13,I13,O13) -> AReprYesActive | B13: =CONCATENATE(F13,H13,I13,O13) -> NTR1ReprYesActive | C13: 6OS9 | D13: =VLOOKUP($C13,StructureInfoFromGPCRdb!$A:$U,MATCH(D$1,StructureInfoFromGPCRdb!$A$1:$U$1,0),FALSE) -> A | E13: =VLOOKUP($C13,StructureInfoFromGPCRdb!$A:$U,MATCH(E$1,StructureInfoFromGPCRdb!$A$1:$U$1,0),FALSE) -> Neurotensin | F13: =VLOOKUP($C13,StructureInfoFromGPCRdb!$A:$U,MATCH(F$1,StructureInfoFromGPCRdb!$A$1:$U$1,0),FALSE) -> NTR1 | G13: =VLOOKUP($C13,StructureInfoFromGPCRdb!$A:$U,MATCH(G$1,StructureInfoFromGPCRdb!$A$1:$U$1,0),FALSE) -> NTS1 | H13: Repr | I13: Yes | J13: =VLOOKUP($C13,StructureInfoFromGPCRdb!$A:$U,MATCH(J$1,StructureInfoFromGPCRdb!$A$1:$U$1,0),FALSE) -> 91 | K13: =VLOOKUP($C13,StructureInfoFromGPCRdb!$A:$U,MATCH(K$1,StructureInfoFromGPCRdb!$A$1:$U$1,0),FALSE) -> Human | L13: =VLOOKUP($C13,StructureInfoFromGPCRdb!$A:$U,MATCH(L$1,StructureInfoFromGPCRdb!$A$1:$U$1,0),FALSE) -> 100 | M13: =VLOOKUP($C13,StructureInfoFromGPCRdb!$A:$U,MATCH(M$1,StructureInfoFromGPCRdb!$A$1:$U$1,0),FALSE) -> cryo-EM | N13: =VLOOKUP($C13,StructureInfoFromGPCRdb!$A:$U,MATCH(N$1,StructureInfoFromGPCRdb!$A$1:$U$1,0),FALSE) -> 3 | O13: =VLOOKUP($C13,StructureInfoFromGPCRdb!$A:$U,MATCH(O$1,StructureInfoFromGPCRdb!$A$1:$U$1,0),FALSE) -> Active | P13: =VLOOKUP($C13,StructureInfoFromGPCRdb!$A:$U,MATCH(P$1,StructureInfoFromGPCRdb!$A$1:$U$1,0),FALSE) -> 100 | Q13: =VLOOKUP($C13,StructureInfoFromGPCRdb!$A:$U,MATCH(Q$1,StructureInfoFromGPCRdb!$A$1:$U$1,0),FALSE) -> 50 | R13: =IF(VLOOKUP($C13,StructureInfoFromGPCRdb!$A:$U,MATCH(R$1,StructureInfoFromGPCRdb!$A$1:$U$1,0),FALSE)="","",VLOOKUP($C13,StructureInfoFromGPCRdb!$A:$U,MATCH(R$1,StructureInfoFromGPCRdb!$A$1:$U$1,0),FALSE)) -> Gi/o | S13: =IF(VLOOKUP($C13,StructureInfoFromGPCRdb!$A:$U,MATCH(S$1,StructureInfoFromGPCRdb!$A$1:$U$1,0),FALSE)="","",VLOOKUP($C13,StructureInfoFromGPCRdb!$A:$U,MATCH(S$1,StructureInfoFromGPCRdb!$A$1:$U$1,0),FALSE)) -> αi1 | T13: =IF(VLOOKUP($C13,StructureInfoFromGPCRdb!$A:$U,MATCH(T$1,StructureInfoFromGPCRdb!$A$1:$U$1,0),FALSE)="","",VLOOKUP($C13,StructureInfoFromGPCRdb!$A:$U,MATCH(T$1,StructureInfoFromGPCRdb!$A$1:$U$1,0),FALSE)) | U13: =IF(VLOOKUP($C13,StructureInfoFromGPCRdb!$A:$U,MATCH(U$1,StructureInfoFromGPCRdb!$A$1:$U$1,0),FALSE)="","",VLOOKUP($C13,StructureInfoFromGPCRdb!$A:$U,MATCH(U$1,StructureInfoFromGPCRdb!$A$1:$U$1,0),FALSE)) -> 62 | V13: =VLOOKUP($C13,StructureInfoFromGPCRdb!$A:$U,MATCH(V$1,StructureInfoFromGPCRdb!$A$1:$U$1,0),FALSE) -> - | W13: =VLOOKUP($C13,StructureInfoFromGPCRdb!$A:$U,MATCH(W$1,StructureInfoFromGPCRdb!$A$1:$U$1,0),FALSE) -> scFv16 | X13: =VLOOKUP($C13,StructureInfoFromGPCRdb!$A:$U,MATCH(X$1,StructureInfoFromGPCRdb!$A$1:$U$1,0),FALSE) -> JMV449 | Y13: =VLOOKUP($C13,StructureInfoFromGPCRdb!$A:$U,MATCH(Y$1,StructureInfoFromGPCRdb!$A$1:$U$1,0),FALSE) -> Agonist | Z13: Yes
... A15: =CONCATENATE(D15,H15,I15,O15) -> AReprNoActive | B15: =CONCATENATE(F15,H15,I15,O15) -> 5HT1BReprNoActive | C15: 6G79 | D15: =VLOOKUP($C15,StructureInfoFromGPCRdb!$A:$U,MATCH(D$1,StructureInfoFromGPCRdb!$A$1:$U$1,0),FALSE) -> A | E15: =VLOOKUP($C15,StructureInfoFromGPCRdb!$A:$U,MATCH(E$1,StructureInfoFromGPCRdb!$A$1:$U$1,0),FALSE) -> 5-Hydroxytryptamine | F15: =VLOOKUP($C15,StructureInfoFromGPCRdb!$A:$U,MATCH(F$1,StructureInfoFromGPCRdb!$A$1:$U$1,0),FALSE) -> 5HT1B | G15: =VLOOKUP($C15,StructureInfoFromGPCRdb!$A:$U,MATCH(G$1,StructureInfoFromGPCRdb!$A$1:$U$1,0),FALSE) -> 5-HT1B | H15: Repr | I15: No | J15: =VLOOKUP($C15,StructureInfoFromGPCRdb!$A:$U,MATCH(J$1,StructureInfoFromGPCRdb!$A$1:$U$1,0),FALSE) -> 95 | K15: =VLOOKUP($C15,StructureInfoFromGPCRdb!$A:$U,MATCH(K$1,StructureInfoFromGPCRdb!$A$1:$U$1,0),FALSE) -> Human | L15: =VLOOKUP($C15,StructureInfoFromGPCRdb!$A:$U,MATCH(L$1,StructureInfoFromGPCRdb!$A$1:$U$1,0),FALSE) -> 100 | M15: =VLOOKUP($C15,StructureInfoFromGPCRdb!$A:$U,MATCH(M$1,StructureInfoFromGPCRdb!$A$1:$U$1,0),FALSE) -> cryo-EM | N15: =VLOOKUP($C15,StructureInfoFromGPCRdb!$A:$U,MATCH(N$1,StructureInfoFromGPCRdb!$A$1:$U$1,0),FALSE) -> 3.8 | O15: =VLOOKUP($C15,StructureInfoFromGPCRdb!$A:$U,MATCH(O$1,StructureInfoFromGPCRdb!$A$1:$U$1,0),FALSE) -> Active | P15: =VLOOKUP($C15,StructureInfoFromGPCRdb!$A:$U,MATCH(P$1,StructureInfoFromGPCRdb!$A$1:$U$1,0),FALSE) -> 100 | Q15: =VLOOKUP($C15,StructureInfoFromGPCRdb!$A:$U,MATCH(Q$1,StructureInfoFromGPCRdb!$A$1:$U$1,0),FALSE) -> 70 | R15: =IF(VLOOKUP($C15,StructureInfoFromGPCRdb!$A:$U,MATCH(R$1,StructureInfoFromGPCRdb!$A$1:$U$1,0),FALSE)="","",VLOOKUP($C15,StructureInfoFromGPCRdb!$A:$U,MATCH(R$1,StructureInfoFromGPCRdb!$A$1:$U$1,0),FALSE)) -> Gi/o | S15: =IF(VLOOKUP($C15,StructureInfoFromGPCRdb!$A:$U,MATCH(S$1,StructureInfoFromGPCRdb!$A$1:$U$1,0),FALSE)="","",VLOOKUP($C15,StructureInfoFromGPCRdb!$A:$U,MATCH(S$1,StructureInfoFromGPCRdb!$A$1:$U$1,0),FALSE)) -> αo | T15: =IF(VLOOKUP($C15,StructureInfoFromGPCRdb!$A:$U,MATCH(T$1,StructureInfoFromGPCRdb!$A$1:$U$1,0),FALSE)="","",VLOOKUP($C15,StructureInfoFromGPCRdb!$A:$U,MATCH(T$1,StructureInfoFromGPCRdb!$A$1:$U$1,0),FALSE)) | U15: =IF(VLOOKUP($C15,StructureInfoFromGPCRdb!$A:$U,MATCH(U$1,StructureInfoFromGPCRdb!$A$1:$U$1,0),FALSE)="","",VLOOKUP($C15,StructureInfoFromGPCRdb!$A:$U,MATCH(U$1,StructureInfoFromGPCRdb!$A$1:$U$1,0),FALSE)) -> 59 | V15: =VLOOKUP($C15,StructureInfoFromGPCRdb!$A:$U,MATCH(V$1,StructureInfoFromGPCRdb!$A$1:$U$1,0),FALSE) -> - | W15: =VLOOKUP($C15,StructureInfoFromGPCRdb!$A:$U,MATCH(W$1,StructureInfoFromGPCRdb!$A$1:$U$1,0),FALSE) -> - | X15: =VLOOKUP($C15,StructureInfoFromGPCRdb!$A:$U,MATCH(X$1,StructureInfoFromGPCRdb!$A$1:$U$1,0),FALSE) -> Donitriptan | Y15: =VLOOKUP($C15,StructureInfoFromGPCRdb!$A:$U,MATCH(Y$1,StructureInfoFromGPCRdb!$A$1:$U$1,0),FALSE) -> Agonist | Z15: Yes
A16: =CONCATENATE(D16,H16,I16,O16) -> AReprNoActive | B16: =CONCATENATE(F16,H16,I16,O16) -> 5HT2AReprNoActive | C16: 6WHA | D16: =VLOOKUP($C16,StructureInfoFromGPCRdb!$A:$U,MATCH(D$1,StructureInfoFromGPCRdb!$A$1:$U$1,0),FALSE) -> A | E16: =VLOOKUP($C16,StructureInfoFromGPCRdb!$A:$U,MATCH(E$1,StructureInfoFromGPCRdb!$A$1:$U$1,0),FALSE) -> 5-Hydroxytryptamine | F16: =VLOOKUP($C16,StructureInfoFromGPCRdb!$A:$U,MATCH(F$1,StructureInfoFromGPCRdb!$A$1:$U$1,0),FALSE) -> 5HT2A | G16: =VLOOKUP($C16,StructureInfoFromGPCRdb!$A:$U,MATCH(G$1,StructureInfoFromGPCRdb!$A$1:$U$1,0),FALSE) -> 5-HT2A | H16: Repr | I16: No | J16: =VLOOKUP($C16,StructureInfoFromGPCRdb!$A:$U,MATCH(J$1,StructureInfoFromGPCRdb!$A$1:$U$1,0),FALSE) -> 80 | K16: =VLOOKUP($C16,StructureInfoFromGPCRdb!$A:$U,MATCH(K$1,StructureInfoFromGPCRdb!$A$1:$U$1,0),FALSE) -> Human | L16: =VLOOKUP($C16,StructureInfoFromGPCRdb!$A:$U,MATCH(L$1,StructureInfoFromGPCRdb!$A$1:$U$1,0),FALSE) -> 100 | M16: =VLOOKUP($C16,StructureInfoFromGPCRdb!$A:$U,MATCH(M$1,StructureInfoFromGPCRdb!$A$1:$U$1,0),FALSE) -> cryo-EM | N16: =VLOOKUP($C16,StructureInfoFromGPCRdb!$A:$U,MATCH(N$1,StructureInfoFromGPCRdb!$A$1:$U$1,0),FALSE) -> 3.4 | O16: =VLOOKUP($C16,StructureInfoFromGPCRdb!$A:$U,MATCH(O$1,StructureInfoFromGPCRdb!$A$1:$U$1,0),FALSE) -> Active | P16: =VLOOKUP($C16,StructureInfoFromGPCRdb!$A:$U,MATCH(P$1,StructureInfoFromGPCRdb!$A$1:$U$1,0),FALSE) -> 100 | Q16: =VLOOKUP($C16,StructureInfoFromGPCRdb!$A:$U,MATCH(Q$1,StructureInfoFromGPCRdb!$A$1:$U$1,0),FALSE) -> 74 | R16: =IF(VLOOKUP($C16,StructureInfoFromGPCRdb!$A:$U,MATCH(R$1,StructureInfoFromGPCRdb!$A$1:$U$1,0),FALSE)="","",VLOOKUP($C16,StructureInfoFromGPCRdb!$A:$U,MATCH(R$1,StructureInfoFromGPCRdb!$A$1:$U$1,0),FALSE)) -> Gq/11 | S16: =IF(VLOOKUP($C16,StructureInfoFromGPCRdb!$A:$U,MATCH(S$1,StructureInfoFromGPCRdb!$A$1:$U$1,0),FALSE)="","",VLOOKUP($C16,StructureInfoFromGPCRdb!$A:$U,MATCH(S$1,StructureInfoFromGPCRdb!$A$1:$U$1,0),FALSE)) -> αq | T16: =IF(VLOOKUP($C16,StructureInfoFromGPCRdb!$A:$U,MATCH(T$1,StructureInfoFromGPCRdb!$A$1:$U$1,0),FALSE)="","",VLOOKUP($C16,StructureInfoFromGPCRdb!$A:$U,MATCH(T$1,StructureInfoFromGPCRdb!$A$1:$U$1,0),FALSE)) -> Gq-Gi2 chimera | U16: =IF(VLOOKUP($C16,StructureInfoFromGPCRdb!$A:$U,MATCH(U$1,StructureInfoFromGPCRdb!$A$1:$U$1,0),FALSE)="","",VLOOKUP($C16,StructureInfoFromGPCRdb!$A:$U,MATCH(U$1,StructureInfoFromGPCRdb!$A$1:$U$1,0),FALSE)) -> 59 | V16: =VLOOKUP($C16,StructureInfoFromGPCRdb!$A:$U,MATCH(V$1,StructureInfoFromGPCRdb!$A$1:$U$1,0),FALSE) -> BRIL | W16: =VLOOKUP($C16,StructureInfoFromGPCRdb!$A:$U,MATCH(W$1,StructureInfoFromGPCRdb!$A$1:$U$1,0),FALSE) -> scFv16 | X16: =VLOOKUP($C16,StructureInfoFromGPCRdb!$A:$U,MATCH(X$1,StructureInfoFromGPCRdb!$A$1:$U$1,0),FALSE) -> 25-CN-NBOH | Y16: =VLOOKUP($C16,StructureInfoFromGPCRdb!$A:$U,MATCH(Y$1,StructureInfoFromGPCRdb!$A$1:$U$1,0),FALSE) -> Agonist | Z16: Yes | AA16: Misses H8.
A17: =CONCATENATE(D17,H17,I17,O17) -> AReprNoActive | B17: =CONCATENATE(F17,H17,I17,O17) -> 5HT2CReprNoActive | C17: 6BQG | D17: =VLOOKUP($C17,StructureInfoFromGPCRdb!$A:$U,MATCH(D$1,StructureInfoFromGPCRdb!$A$1:$U$1,0),FALSE) -> A | E17: =VLOOKUP($C17,StructureInfoFromGPCRdb!$A:$U,MATCH(E$1,StructureInfoFromGPCRdb!$A$1:$U$1,0),FALSE) -> 5-Hydroxytryptamine | F17: =VLOOKUP($C17,StructureInfoFromGPCRdb!$A:$U,MATCH(F$1,StructureInfoFromGPCRdb!$A$1:$U$1,0),FALSE) -> 5HT2C | G17: =VLOOKUP($C17,StructureInfoFromGPCRdb!$A:$U,MATCH(G$1,StructureInfoFromGPCRdb!$A$1:$U$1,0),FALSE) -> 5-HT2C | H17: Repr | I17: No | J17: =VLOOKUP($C17,StructureInfoFromGPCRdb!$A:$U,MATCH(J$1,StructureInfoFromGPCRdb!$A$1:$U$1,0),FALSE) -> 92 | K17: =VLOOKUP($C17,StructureInfoFromGPCRdb!$A:$U,MATCH(K$1,StructureInfoFromGPCRdb!$A$1:$U$1,0),FALSE) -> Human | L17: =VLOOKUP($C17,StructureInfoFromGPCRdb!$A:$U,MATCH(L$1,StructureInfoFromGPCRdb!$A$1:$U$1,0),FALSE) -> 100 | M17: =VLOOKUP($C17,StructureInfoFromGPCRdb!$A:$U,MATCH(M$1,StructureInfoFromGPCRdb!$A$1:$U$1,0),FALSE) -> X-ray | N17: =VLOOKUP($C17,StructureInfoFromGPCRdb!$A:$U,MATCH(N$1,StructureInfoFromGPCRdb!$A$1:$U$1,0),FALSE) -> 3 | O17: =VLOOKUP($C17,StructureInfoFromGPCRdb!$A:$U,MATCH(O$1,StructureInfoFromGPCRdb!$A$1:$U$1,0),FALSE) -> Active | P17: =VLOOKUP($C17,StructureInfoFromGPCRdb!$A:$U,MATCH(P$1,StructureInfoFromGPCRdb!$A$1:$U$1,0),FALSE) -> 86 | Q17: =VLOOKUP($C17,StructureInfoFromGPCRdb!$A:$U,MATCH(Q$1,StructureInfoFromGPCRdb!$A$1:$U$1,0),FALSE) -> 64 | R17: =IF(VLOOKUP($C17,StructureInfoFromGPCRdb!$A:$U,MATCH(R$1,StructureInfoFromGPCRdb!$A$1:$U$1,0),FALSE)="","",VLOOKUP($C17,StructureInfoFromGPCRdb!$A:$U,MATCH(R$1,StructureInfoFromGPCRdb!$A$1:$U$1,0),FALSE)) | S17: =IF(VLOOKUP($C17,StructureInfoFromGPCRdb!$A:$U,MATCH(S$1,StructureInfoFromGPCRdb!$A$1:$U$1,0),FALSE)="","",VLOOKUP($C17,StructureInfoFromGPCRdb!$A:$U,MATCH(S$1,StructureInfoFromGPCRdb!$A$1:$U$1,0),FALSE)) | T17: =IF(VLOOKUP($C17,StructureInfoFromGPCRdb!$A:$U,MATCH(T$1,StructureInfoFromGPCRdb!$A$1:$U$1,0),FALSE)="","",VLOOKUP($C17,StructureInfoFromGPCRdb!$A:$U,MATCH(T$1,StructureInfoFromGPCRdb!$A$1:$U$1,0),FALSE)) | U17: =IF(VLOOKUP($C17,StructureInfoFromGPCRdb!$A:$U,MATCH(U$1,StructureInfoFromGPCRdb!$A$1:$U$1,0),FALSE)="","",VLOOKUP($C17,StructureInfoFromGPCRdb!$A:$U,MATCH(U$1,StructureInfoFromGPCRdb!$A$1:$U$1,0),FALSE)) | V17: =VLOOKUP($C17,StructureInfoFromGPCRdb!$A:$U,MATCH(V$1,StructureInfoFromGPCRdb!$A$1:$U$1,0),FALSE) -> BRIL | W17: =VLOOKUP($C17,StructureInfoFromGPCRdb!$A:$U,MATCH(W$1,StructureInfoFromGPCRdb!$A$1:$U$1,0),FALSE) -> - | X17: =VLOOKUP($C17,StructureInfoFromGPCRdb!$A:$U,MATCH(X$1,StructureInfoFromGPCRdb!$A$1:$U$1,0),FALSE) -> Ergotamine | Y17: =VLOOKUP($C17,StructureInfoFromGPCRdb!$A:$U,MATCH(Y$1,StructureInfoFromGPCRdb!$A$1:$U$1,0),FALSE) -> Agonist | Z17: Yes | AA17: Not G protein bound but forced into an active-like conformation by BRIL.
A18: =CONCATENATE(D18,H18,I18,O18) -> AReprNoActive | B18: =CONCATENATE(F18,H18,I18,O18) -> GPR52ReprNoActive | C18: 6LI3 | D18: =VLOOKUP($C18,StructureInfoFromGPCRdb!$A:$U,MATCH(D$1,StructureInfoFromGPCRdb!$A$1:$U$1,0),FALSE) -> A | E18: =VLOOKUP($C18,StructureInfoFromGPCRdb!$A:$U,MATCH(E$1,StructureInfoFromGPCRdb!$A$1:$U$1,0),FALSE) -> A orphans | F18: =VLOOKUP($C18,StructureInfoFromGPCRdb!$A:$U,MATCH(F$1,StructureInfoFromGPCRdb!$A$1:$U$1,0),FALSE) -> GPR52 | G18: =VLOOKUP($C18,StructureInfoFromGPCRdb!$A:$U,MATCH(G$1,StructureInfoFromGPCRdb!$A$1:$U$1,0),FALSE) -> GPR52 | H18: Repr | I18: No | J18: =VLOOKUP($C18,StructureInfoFromGPCRdb!$A:$U,MATCH(J$1,StructureInfoFromGPCRdb!$A$1:$U$1,0),FALSE) -> 92 | K18: =VLOOKUP($C18,StructureInfoFromGPCRdb!$A:$U,MATCH(K$1,StructureInfoFromGPCRdb!$A$1:$U$1,0),FALSE) -> Human | L18: =VLOOKUP($C18,StructureInfoFromGPCRdb!$A:$U,MATCH(L$1,StructureInfoFromGPCRdb!$A$1:$U$1,0),FALSE) -> 100 | M18: =VLOOKUP($C18,StructureInfoFromGPCRdb!$A:$U,MATCH(M$1,StructureInfoFromGPCRdb!$A$1:$U$1,0),FALSE) -> cryo-EM | N18: =VLOOKUP($C18,StructureInfoFromGPCRdb!$A:$U,MATCH(N$1,StructureInfoFromGPCRdb!$A$1:$U$1,0),FALSE) -> 3.3 | O18: =VLOOKUP($C18,StructureInfoFromGPCRdb!$A:$U,MATCH(O$1,StructureInfoFromGPCRdb!$A$1:$U$1,0),FALSE) -> Active | P18: =VLOOKUP($C18,StructureInfoFromGPCRdb!$A:$U,MATCH(P$1,StructureInfoFromGPCRdb!$A$1:$U$1,0),FALSE) -> 100 | Q18: =VLOOKUP($C18,StructureInfoFromGPCRdb!$A:$U,MATCH(Q$1,StructureInfoFromGPCRdb!$A$1:$U$1,0),FALSE) -> 61 | R18: =IF(VLOOKUP($C18,StructureInfoFromGPCRdb!$A:$U,MATCH(R$1,StructureInfoFromGPCRdb!$A$1:$U$1,0),FALSE)="","",VLOOKUP($C18,StructureInfoFromGPCRdb!$A:$U,MATCH(R$1,StructureInfoFromGPCRdb!$A$1:$U$1,0),FALSE)) -> Gs | S18: =IF(VLOOKUP($C18,StructureInfoFromGPCRdb!$A:$U,MATCH(S$1,StructureInfoFromGPCRdb!$A$1:$U$1,0),FALSE)="","",VLOOKUP($C18,StructureInfoFromGPCRdb!$A:$U,MATCH(S$1,StructureInfoFromGPCRdb!$A$1:$U$1,0),FALSE)) -> αs | T18: =IF(VLOOKUP($C18,StructureInfoFromGPCRdb!$A:$U,MATCH(T$1,StructureInfoFromGPCRdb!$A$1:$U$1,0),FALSE)="","",VLOOKUP($C18,StructureInfoFromGPCRdb!$A:$U,MATCH(T$1,StructureInfoFromGPCRdb!$A$1:$U$1,0),FALSE)) -> Mini-Gs | U18: =IF(VLOOKUP($C18,StructureInfoFromGPCRdb!$A:$U,MATCH(U$1,StructureInfoFromGPCRdb!$A$1:$U$1,0),FALSE)="","",VLOOKUP($C18,StructureInfoFromGPCRdb!$A:$U,MATCH(U$1,StructureInfoFromGPCRdb!$A$1:$U$1,0),FALSE)) -> 61 | V18: =VLOOKUP($C18,StructureInfoFromGPCRdb!$A:$U,MATCH(V$1,StructureInfoFromGPCRdb!$A$1:$U$1,0),FALSE) -> - | W18: =VLOOKUP($C18,StructureInfoFromGPCRdb!$A:$U,MATCH(W$1,StructureInfoFromGPCRdb!$A$1:$U$1,0),FALSE) -> Nanobody-35 | X18: =VLOOKUP($C18,StructureInfoFromGPCRdb!$A:$U,MATCH(X$1,StructureInfoFromGPCRdb!$A$1:$U$1,0),FALSE) -> Apo (no ligand) | Y18: =VLOOKUP($C18,StructureInfoFromGPCRdb!$A:$U,MATCH(Y$1,StructureInfoFromGPCRdb!$A$1:$U$1,0),FALSE) -> Apo (no ligand) | Z18: No
A19: =CONCATENATE(D19,H19,I19,O19) -> AReprNoActive | B19: =CONCATENATE(F19,H19,I19,O19) -> ADRB1ReprNoActive | C19: 7JJO | D19: =VLOOKUP($C19,StructureInfoFromGPCRdb!$A:$U,MATCH(D$1,StructureInfoFromGPCRdb!$A$1:$U$1,0),FALSE) -> A | E19: =VLOOKUP($C19,StructureInfoFromGPCRdb!$A:$U,MATCH(E$1,StructureInfoFromGPCRdb!$A$1:$U$1,0),FALSE) -> Adrenoceptors | F19: =VLOOKUP($C19,StructureInfoFromGPCRdb!$A:$U,MATCH(F$1,StructureInfoFromGPCRdb!$A$1:$U$1,0),FALSE) -> ADRB1 | G19: =VLOOKUP($C19,StructureInfoFromGPCRdb!$A:$U,MATCH(G$1,StructureInfoFromGPCRdb!$A$1:$U$1,0),FALSE) -> β1 | H19: Repr | I19: No | J19: =VLOOKUP($C19,StructureInfoFromGPCRdb!$A:$U,MATCH(J$1,StructureInfoFromGPCRdb!$A$1:$U$1,0),FALSE) -> 92 | K19: =VLOOKUP($C19,StructureInfoFromGPCRdb!$A:$U,MATCH(K$1,StructureInfoFromGPCRdb!$A$1:$U$1,0),FALSE) -> Wild turkey | L19: =VLOOKUP($C19,StructureInfoFromGPCRdb!$A:$U,MATCH(L$1,StructureInfoFromGPCRdb!$A$1:$U$1,0),FALSE) -> 80 | M19: =VLOOKUP($C19,StructureInfoFromGPCRdb!$A:$U,MATCH(M$1,StructureInfoFromGPCRdb!$A$1:$U$1,0),FALSE) -> cryo-EM | N19: =VLOOKUP($C19,StructureInfoFromGPCRdb!$A:$U,MATCH(N$1,StructureInfoFromGPCRdb!$A$1:$U$1,0),FALSE) -> 2.6 | O19: =VLOOKUP($C19,StructureInfoFromGPCRdb!$A:$U,MATCH(O$1,StructureInfoFromGPCRdb!$A$1:$U$1,0),FALSE) -> Active | P19: =VLOOKUP($C19,StructureInfoFromGPCRdb!$A:$U,MATCH(P$1,StructureInfoFromGPCRdb!$A$1:$U$1,0),FALSE) -> 100 | Q19: =VLOOKUP($C19,StructureInfoFromGPCRdb!$A:$U,MATCH(Q$1,StructureInfoFromGPCRdb!$A$1:$U$1,0),FALSE) -> 75 | R19: =IF(VLOOKUP($C19,StructureInfoFromGPCRdb!$A:$U,MATCH(R$1,StructureInfoFromGPCRdb!$A$1:$U$1,0),FALSE)="","",VLOOKUP($C19,StructureInfoFromGPCRdb!$A:$U,MATCH(R$1,StructureInfoFromGPCRdb!$A$1:$U$1,0),FALSE)) -> Gs | S19: =IF(VLOOKUP($C19,StructureInfoFromGPCRdb!$A:$U,MATCH(S$1,StructureInfoFromGPCRdb!$A$1:$U$1,0),FALSE)="","",VLOOKUP($C19,StructureInfoFromGPCRdb!$A:$U,MATCH(S$1,StructureInfoFromGPCRdb!$A$1:$U$1,0),FALSE)) -> αs | T19: =IF(VLOOKUP($C19,StructureInfoFromGPCRdb!$A:$U,MATCH(T$1,StructureInfoFromGPCRdb!$A$1:$U$1,0),FALSE)="","",VLOOKUP($C19,StructureInfoFromGPCRdb!$A:$U,MATCH(T$1,StructureInfoFromGPCRdb!$A$1:$U$1,0),FALSE)) | U19: =IF(VLOOKUP($C19,StructureInfoFromGPCRdb!$A:$U,MATCH(U$1,StructureInfoFromGPCRdb!$A$1:$U$1,0),FALSE)="","",VLOOKUP($C19,StructureInfoFromGPCRdb!$A:$U,MATCH(U$1,StructureInfoFromGPCRdb!$A$1:$U$1,0),FALSE)) -> 51 | V19: =VLOOKUP($C19,StructureInfoFromGPCRdb!$A:$U,MATCH(V$1,StructureInfoFromGPCRdb!$A$1:$U$1,0),FALSE) -> - | W19: =VLOOKUP($C19,StructureInfoFromGPCRdb!$A:$U,MATCH(W$1,StructureInfoFromGPCRdb!$A$1:$U$1,0),FALSE) -> Nanobody-35 | X19: =VLOOKUP($C19,StructureInfoFromGPCRdb!$A:$U,MATCH(X$1,StructureInfoFromGPCRdb!$A$1:$U$1,0),FALSE) -> Isoprenaline | Y19: =VLOOKUP($C19,StructureInfoFromGPCRdb!$A:$U,MATCH(Y$1,StructureInfoFromGPCRdb!$A$1:$U$1,0),FALSE) -> Agonist | Z19: Yes
A20: =CONCATENATE(D20,H20,I20,O20) -> AReprNoActive | B20: =CONCATENATE(F20,H20,I20,O20) -> AGTR1ReprNoActive | C20: 6OS0 | D20: =VLOOKUP($C20,StructureInfoFromGPCRdb!$A:$U,MATCH(D$1,StructureInfoFromGPCRdb!$A$1:$U$1,0),FALSE) -> A | E20: =VLOOKUP($C20,StructureInfoFromGPCRdb!$A:$U,MATCH(E$1,StructureInfoFromGPCRdb!$A$1:$U$1,0),FALSE) -> Angiotensin | F20: =VLOOKUP($C20,StructureInfoFromGPCRdb!$A:$U,MATCH(F$1,StructureInfoFromGPCRdb!$A$1:$U$1,0),FALSE) -> AGTR1 | G20: =VLOOKUP($C20,StructureInfoFromGPCRdb!$A:$U,MATCH(G$1,StructureInfoFromGPCRdb!$A$1:$U$1,0),FALSE) -> AT1 | H20: Repr | I20: No | J20: =VLOOKUP($C20,StructureInfoFromGPCRdb!$A:$U,MATCH(J$1,StructureInfoFromGPCRdb!$A$1:$U$1,0),FALSE) -> 92 | K20: =VLOOKUP($C20,StructureInfoFromGPCRdb!$A:$U,MATCH(K$1,StructureInfoFromGPCRdb!$A$1:$U$1,0),FALSE) -> Human | L20: =VLOOKUP($C20,StructureInfoFromGPCRdb!$A:$U,MATCH(L$1,StructureInfoFromGPCRdb!$A$1:$U$1,0),FALSE) -> 100 | M20: =VLOOKUP($C20,StructureInfoFromGPCRdb!$A:$U,MATCH(M$1,StructureInfoFromGPCRdb!$A$1:$U$1,0),FALSE) -> X-ray | N20: =VLOOKUP($C20,StructureInfoFromGPCRdb!$A:$U,MATCH(N$1,StructureInfoFromGPCRdb!$A$1:$U$1,0),FALSE) -> 2.9 | O20: =VLOOKUP($C20,StructureInfoFromGPCRdb!$A:$U,MATCH(O$1,StructureInfoFromGPCRdb!$A$1:$U$1,0),FALSE) -> Active | P20: =VLOOKUP($C20,StructureInfoFromGPCRdb!$A:$U,MATCH(P$1,StructureInfoFromGPCRdb!$A$1:$U$1,0),FALSE) -> 90 | Q20: =VLOOKUP($C20,StructureInfoFromGPCRdb!$A:$U,MATCH(Q$1,StructureInfoFromGPCRdb!$A$1:$U$1,0),FALSE) -> 77 | R20: =IF(VLOOKUP($C20,StructureInfoFromGPCRdb!$A:$U,MATCH(R$1,StructureInfoFromGPCRdb!$A$1:$U$1,0),FALSE)="","",VLOOKUP($C20,StructureInfoFromGPCRdb!$A:$U,MATCH(R$1,StructureInfoFromGPCRdb!$A$1:$U$1,0),FALSE)) | S20: =IF(VLOOKUP($C20,StructureInfoFromGPCRdb!$A:$U,MATCH(S$1,StructureInfoFromGPCRdb!$A$1:$U$1,0),FALSE)="","",VLOOKUP($C20,StructureInfoFromGPCRdb!$A:$U,MATCH(S$1,StructureInfoFromGPCRdb!$A$1:$U$1,0),FALSE)) | T20: =IF(VLOOKUP($C20,StructureInfoFromGPCRdb!$A:$U,MATCH(T$1,StructureInfoFromGPCRdb!$A$1:$U$1,0),FALSE)="","",VLOOKUP($C20,StructureInfoFromGPCRdb!$A:$U,MATCH(T$1,StructureInfoFromGPCRdb!$A$1:$U$1,0),FALSE)) | U20: =IF(VLOOKUP($C20,StructureInfoFromGPCRdb!$A:$U,MATCH(U$1,StructureInfoFromGPCRdb!$A$1:$U$1,0),FALSE)="","",VLOOKUP($C20,StructureInfoFromGPCRdb!$A:$U,MATCH(U$1,StructureInfoFromGPCRdb!$A$1:$U$1,0),FALSE)) | V20: =VLOOKUP($C20,StructureInfoFromGPCRdb!$A:$U,MATCH(V$1,StructureInfoFromGPCRdb!$A$1:$U$1,0),FALSE) -> BRIL | W20: =VLOOKUP($C20,StructureInfoFromGPCRdb!$A:$U,MATCH(W$1,StructureInfoFromGPCRdb!$A$1:$U$1,0),FALSE) -> Nanobody Nb.AT110i1 | X20: =VLOOKUP($C20,StructureInfoFromGPCRdb!$A:$U,MATCH(X$1,StructureInfoFromGPCRdb!$A$1:$U$1,0),FALSE) -> Angiotensinogen | Y20: =VLOOKUP($C20,StructureInfoFromGPCRdb!$A:$U,MATCH(Y$1,StructureInfoFromGPCRdb!$A$1:$U$1,0),FALSE) -> Agonist | Z20: Yes
A21: =CONCATENATE(D21,H21,I21,O21) -> AReprNoActive | B21: =CONCATENATE(F21,H21,I21,O21) -> AGTR1ReprNoActive | C21: 6DO1 | D21: =VLOOKUP($C21,StructureInfoFromGPCRdb!$A:$U,MATCH(D$1,StructureInfoFromGPCRdb!$A$1:$U$1,0),FALSE) -> A | E21: =VLOOKUP($C21,StructureInfoFromGPCRdb!$A:$U,MATCH(E$1,StructureInfoFromGPCRdb!$A$1:$U$1,0),FALSE) -> Angiotensin | F21: =VLOOKUP($C21,StructureInfoFromGPCRdb!$A:$U,MATCH(F$1,StructureInfoFromGPCRdb!$A$1:$U$1,0),FALSE) -> AGTR1 | G21: =VLOOKUP($C21,StructureInfoFromGPCRdb!$A:$U,MATCH(G$1,StructureInfoFromGPCRdb!$A$1:$U$1,0),FALSE) -> AT1 | H21: Repr | I21: No | J21: =VLOOKUP($C21,StructureInfoFromGPCRdb!$A:$U,MATCH(J$1,StructureInfoFromGPCRdb!$A$1:$U$1,0),FALSE) -> 94 | K21: =VLOOKUP($C21,StructureInfoFromGPCRdb!$A:$U,MATCH(K$1,StructureInfoFromGPCRdb!$A$1:$U$1,0),FALSE) -> Human | L21: =VLOOKUP($C21,StructureInfoFromGPCRdb!$A:$U,MATCH(L$1,StructureInfoFromGPCRdb!$A$1:$U$1,0),FALSE) -> 100 | M21: =VLOOKUP($C21,StructureInfoFromGPCRdb!$A:$U,MATCH(M$1,StructureInfoFromGPCRdb!$A$1:$U$1,0),FALSE) -> X-ray | N21: =VLOOKUP($C21,StructureInfoFromGPCRdb!$A:$U,MATCH(N$1,StructureInfoFromGPCRdb!$A$1:$U$1,0),FALSE) -> 2.9 | O21: =VLOOKUP($C21,StructureInfoFromGPCRdb!$A:$U,MATCH(O$1,StructureInfoFromGPCRdb!$A$1:$U$1,0),FALSE) -> Active | P21: =VLOOKUP($C21,StructureInfoFromGPCRdb!$A:$U,MATCH(P$1,StructureInfoFromGPCRdb!$A$1:$U$1,0),FALSE) -> 90 | Q21: =VLOOKUP($C21,StructureInfoFromGPCRdb!$A:$U,MATCH(Q$1,StructureInfoFromGPCRdb!$A$1:$U$1,0),FALSE) -> 79 | R21: =IF(VLOOKUP($C21,StructureInfoFromGPCRdb!$A:$U,MATCH(R$1,StructureInfoFromGPCRdb!$A$1:$U$1,0),FALSE)="","",VLOOKUP($C21,StructureInfoFromGPCRdb!$A:$U,MATCH(R$1,StructureInfoFromGPCRdb!$A$1:$U$1,0),FALSE)) | S21: =IF(VLOOKUP($C21,StructureInfoFromGPCRdb!$A:$U,MATCH(S$1,StructureInfoFromGPCRdb!$A$1:$U$1,0),FALSE)="","",VLOOKUP($C21,StructureInfoFromGPCRdb!$A:$U,MATCH(S$1,StructureInfoFromGPCRdb!$A$1:$U$1,0),FALSE)) | T21: =IF(VLOOKUP($C21,StructureInfoFromGPCRdb!$A:$U,MATCH(T$1,StructureInfoFromGPCRdb!$A$1:$U$1,0),FALSE)="","",VLOOKUP($C21,StructureInfoFromGPCRdb!$A:$U,MATCH(T$1,StructureInfoFromGPCRdb!$A$1:$U$1,0),FALSE)) | U21: =IF(VLOOKUP($C21,StructureInfoFromGPCRdb!$A:$U,MATCH(U$1,StructureInfoFromGPCRdb!$A$1:$U$1,0),FALSE)="","",VLOOKUP($C21,StructureInfoFromGPCRdb!$A:$U,MATCH(U$1,StructureInfoFromGPCRdb!$A$1:$U$1,0),FALSE)) | V21: =VLOOKUP($C21,StructureInfoFromGPCRdb!$A:$U,MATCH(V$1,StructureInfoFromGPCRdb!$A$1:$U$1,0),FALSE) -> BRIL | W21: =VLOOKUP($C21,StructureInfoFromGPCRdb!$A:$U,MATCH(W$1,StructureInfoFromGPCRdb!$A$1:$U$1,0),FALSE) -> Nanobody Nb.AT110i1 | X21: =VLOOKUP($C21,StructureInfoFromGPCRdb!$A:$U,MATCH(X$1,StructureInfoFromGPCRdb!$A$1:$U$1,0),FALSE) -> (Sar1,Ile8)-Angioten.. | Y21: =VLOOKUP($C21,StructureInfoFromGPCRdb!$A:$U,MATCH(Y$1,StructureInfoFromGPCRdb!$A$1:$U$1,0),FALSE) -> Agonist | Z21: Yes
A22: =CONCATENATE(D22,H22,I22,O22) -> AReprNoActive | B22: =CONCATENATE(F22,H22,I22,O22) -> AGTR2ReprNoActive | C22: 6JOD | D22: =VLOOKUP($C22,StructureInfoFromGPCRdb!$A:$U,MATCH(D$1,StructureInfoFromGPCRdb!$A$1:$U$1,0),FALSE) -> A | E22: =VLOOKUP($C22,StructureInfoFromGPCRdb!$A:$U,MATCH(E$1,StructureInfoFromGPCRdb!$A$1:$U$1,0),FALSE) -> Angiotensin | F22: =VLOOKUP($C22,StructureInfoFromGPCRdb!$A:$U,MATCH(F$1,StructureInfoFromGPCRdb!$A$1:$U$1,0),FALSE) -> AGTR2 | G22: =VLOOKUP($C22,StructureInfoFromGPCRdb!$A:$U,MATCH(G$1,StructureInfoFromGPCRdb!$A$1:$U$1,0),FALSE) -> AT2 | H22: Repr | I22: No | J22: =VLOOKUP($C22,StructureInfoFromGPCRdb!$A:$U,MATCH(J$1,StructureInfoFromGPCRdb!$A$1:$U$1,0),FALSE) -> 96 | K22: =VLOOKUP($C22,StructureInfoFromGPCRdb!$A:$U,MATCH(K$1,StructureInfoFromGPCRdb!$A$1:$U$1,0),FALSE) -> Human | L22: =VLOOKUP($C22,StructureInfoFromGPCRdb!$A:$U,MATCH(L$1,StructureInfoFromGPCRdb!$A$1:$U$1,0),FALSE) -> 100 | M22: =VLOOKUP($C22,StructureInfoFromGPCRdb!$A:$U,MATCH(M$1,StructureInfoFromGPCRdb!$A$1:$U$1,0),FALSE) -> X-ray | N22: =VLOOKUP($C22,StructureInfoFromGPCRdb!$A:$U,MATCH(N$1,StructureInfoFromGPCRdb!$A$1:$U$1,0),FALSE) -> 3.2 | O22: =VLOOKUP($C22,StructureInfoFromGPCRdb!$A:$U,MATCH(O$1,StructureInfoFromGPCRdb!$A$1:$U$1,0),FALSE) -> Active | P22: =VLOOKUP($C22,StructureInfoFromGPCRdb!$A:$U,MATCH(P$1,StructureInfoFromGPCRdb!$A$1:$U$1,0),FALSE) -> 97 | Q22: =VLOOKUP($C22,StructureInfoFromGPCRdb!$A:$U,MATCH(Q$1,StructureInfoFromGPCRdb!$A$1:$U$1,0),FALSE) -> 54 | R22: =IF(VLOOKUP($C22,StructureInfoFromGPCRdb!$A:$U,MATCH(R$1,StructureInfoFromGPCRdb!$A$1:$U$1,0),FALSE)="","",VLOOKUP($C22,StructureInfoFromGPCRdb!$A:$U,MATCH(R$1,StructureInfoFromGPCRdb!$A$1:$U$1,0),FALSE)) | S22: =IF(VLOOKUP($C22,StructureInfoFromGPCRdb!$A:$U,MATCH(S$1,StructureInfoFromGPCRdb!$A$1:$U$1,0),FALSE)="","",VLOOKUP($C22,StructureInfoFromGPCRdb!$A:$U,MATCH(S$1,StructureInfoFromGPCRdb!$A$1:$U$1,0),FALSE)) | T22: =IF(VLOOKUP($C22,StructureInfoFromGPCRdb!$A:$U,MATCH(T$1,StructureInfoFromGPCRdb!$A$1:$U$1,0),FALSE)="","",VLOOKUP($C22,StructureInfoFromGPCRdb!$A:$U,MATCH(T$1,StructureInfoFromGPCRdb!$A$1:$U$1,0),FALSE)) | U22: =IF(VLOOKUP($C22,StructureInfoFromGPCRdb!$A:$U,MATCH(U$1,StructureInfoFromGPCRdb!$A$1:$U$1,0),FALSE)="","",VLOOKUP($C22,StructureInfoFromGPCRdb!$A:$U,MATCH(U$1,StructureInfoFromGPCRdb!$A$1:$U$1,0),FALSE)) | V22: =VLOOKUP($C22,StructureInfoFromGPCRdb!$A:$U,MATCH(V$1,StructureInfoFromGPCRdb!$A$1:$U$1,0),FALSE) -> BRIL | W22: =VLOOKUP($C22,StructureInfoFromGPCRdb!$A:$U,MATCH(W$1,StructureInfoFromGPCRdb!$A$1:$U$1,0),FALSE) -> Heavy chain of 4A03.. | X22: =VLOOKUP($C22,StructureInfoFromGPCRdb!$A:$U,MATCH(X$1,StructureInfoFromGPCRdb!$A$1:$U$1,0),FALSE) -> angiotensin II | Y22: =VLOOKUP($C22,StructureInfoFromGPCRdb!$A:$U,MATCH(Y$1,StructureInfoFromGPCRdb!$A$1:$U$1,0),FALSE) -> Agonist | Z22: Yes | AA22: Not G protein bound but forced into an active-like conformation by BRIL.
