Workbook

Sheet AnnotationAndRepresentative
A1: Class -Repr -Use -State | B1: UniProt -Repr -Use -State | C1: PDB | D1: Cl | E1: RecFam | F1: UniProt | G1: IUPHAR | H1: Repr | I1: Use | J1: % of seq [>=83] | K1: Species | L1: Seq Id to human (%) [>90] | M1: Method | N1: Res [<=3.6] | O1: State [Inactive / Active] | P1: Degree Active [<=20/ >=90] | Q1: TM6 tilt | R1: SP Fam | S1: SP Sub | T1: Note | U1: %of seq [>=43] | V1: Fusion | W1: Antibody | X1: Ligand | Y1: Modality | Z1: State-ligand modality agreement [Yes] | AA1: Note | AB1: GPCRdbPDB for monomer | AD1: =COUNTIF(O:O,"Inactive")-2 -> 296 | AE1: =COUNTIF(O:O,"Active") -> 173 | AF1: =COUNTIF(O:O,"Intermediate") -> 40 | AG1: =COUNTIF(O:O,"Other") -> 1 | AH1: =SUM(AD1:AG1) -> 510 | AI1: <= Inactive, active, intermediate, other and all structures
A2: =CONCATENATE(D2,H2,I2,O2) -> AReprYesActive | B2: =CONCATENATE(F2,H2,I2,O2) -> ACM1ReprYesActive | C2: 6OIJ | D2: =VLOOKUP($C2,StructureInfoFromGPCRdb!$A:$U,MATCH(D$1,StructureInfoFromGPCRdb!$A$1:$U$1,0),FALSE) -> A | E2: =VLOOKUP($C2,StructureInfoFromGPCRdb!$A:$U,MATCH(E$1,StructureInfoFromGPCRdb!$A$1:$U$1,0),FALSE) -> Acetylcholine (muscarinic) | F2: =VLOOKUP($C2,StructureInfoFromGPCRdb!$A:$U,MATCH(F$1,StructureInfoFromGPCRdb!$A$1:$U$1,0),FALSE) -> ACM1 | G2: =VLOOKUP($C2,StructureInfoFromGPCRdb!$A:$U,MATCH(G$1,StructureInfoFromGPCRdb!$A$1:$U$1,0),FALSE) -> M1 | H2: Repr | I2: Yes | J2: =VLOOKUP($C2,StructureInfoFromGPCRdb!$A:$U,MATCH(J$1,StructureInfoFromGPCRdb!$A$1:$U$1,0),FALSE) -> 94 | K2: =VLOOKUP($C2,StructureInfoFromGPCRdb!$A:$U,MATCH(K$1,StructureInfoFromGPCRdb!$A$1:$U$1,0),FALSE) -> Human | L2: =VLOOKUP($C2,StructureInfoFromGPCRdb!$A:$U,MATCH(L$1,StructureInfoFromGPCRdb!$A$1:$U$1,0),FALSE) -> 100 | M2: =VLOOKUP($C2,StructureInfoFromGPCRdb!$A:$U,MATCH(M$1,StructureInfoFromGPCRdb!$A$1:$U$1,0),FALSE) -> cryo-EM | N2: =VLOOKUP($C2,StructureInfoFromGPCRdb!$A:$U,MATCH(N$1,StructureInfoFromGPCRdb!$A$1:$U$1,0),FALSE) -> 3.3 | O2: =VLOOKUP($C2,StructureInfoFromGPCRdb!$A:$U,MATCH(O$1,StructureInfoFromGPCRdb!$A$1:$U$1,0),FALSE) -> Active | P2: =VLOOKUP($C2,StructureInfoFromGPCRdb!$A:$U,MATCH(P$1,StructureInfoFromGPCRdb!$A$1:$U$1,0),FALSE) -> 100 | Q2: =VLOOKUP($C2,StructureInfoFromGPCRdb!$A:$U,MATCH(Q$1,StructureInfoFromGPCRdb!$A$1:$U$1,0),FALSE) -> 66 | R2: =IF(VLOOKUP($C2,StructureInfoFromGPCRdb!$A:$U,MATCH(R$1,StructureInfoFromGPCRdb!$A$1:$U$1,0),FALSE)="","",VLOOKUP($C2,StructureInfoFromGPCRdb!$A:$U,MATCH(R$1,StructureInfoFromGPCRdb!$A$1:$U$1,0),FALSE)) -> Gq/11 | S2: =IF(VLOOKUP($C2,StructureInfoFromGPCRdb!$A:$U,MATCH(S$1,StructureInfoFromGPCRdb!$A$1:$U$1,0),FALSE)="","",VLOOKUP($C2,StructureInfoFromGPCRdb!$A:$U,MATCH(S$1,StructureInfoFromGPCRdb!$A$1:$U$1,0),FALSE)) -> α11 | T2: =IF(VLOOKUP($C2,StructureInfoFromGPCRdb!$A:$U,MATCH(T$1,StructureInfoFromGPCRdb!$A$1:$U$1,0),FALSE)="","",VLOOKUP($C2,StructureInfoFromGPCRdb!$A:$U,MATCH(T$1,StructureInfoFromGPCRdb!$A$1:$U$1,0),FALSE)) | U2: =IF(VLOOKUP($C2,StructureInfoFromGPCRdb!$A:$U,MATCH(U$1,StructureInfoFromGPCRdb!$A$1:$U$1,0),FALSE)="","",VLOOKUP($C2,StructureInfoFromGPCRdb!$A:$U,MATCH(U$1,StructureInfoFromGPCRdb!$A$1:$U$1,0),FALSE)) -> 63 | V2: =VLOOKUP($C2,StructureInfoFromGPCRdb!$A:$U,MATCH(V$1,StructureInfoFromGPCRdb!$A$1:$U$1,0),FALSE) -> - | W2: =VLOOKUP($C2,StructureInfoFromGPCRdb!$A:$U,MATCH(W$1,StructureInfoFromGPCRdb!$A$1:$U$1,0),FALSE) -> Antibody fragment | X2: =VLOOKUP($C2,StructureInfoFromGPCRdb!$A:$U,MATCH(X$1,StructureInfoFromGPCRdb!$A$1:$U$1,0),FALSE) -> Iperoxo | Y2: =VLOOKUP($C2,StructureInfoFromGPCRdb!$A:$U,MATCH(Y$1,StructureInfoFromGPCRdb!$A$1:$U$1,0),FALSE) -> Agonist | Z2: Yes
A3: =CONCATENATE(D3,H3,I3,O3) -> AReprYesActive | B3: =CONCATENATE(F3,H3,I3,O3) -> ACM2ReprYesActive | C3: 6OIK | D3: =VLOOKUP($C3,StructureInfoFromGPCRdb!$A:$U,MATCH(D$1,StructureInfoFromGPCRdb!$A$1:$U$1,0),FALSE) -> A | E3: =VLOOKUP($C3,StructureInfoFromGPCRdb!$A:$U,MATCH(E$1,StructureInfoFromGPCRdb!$A$1:$U$1,0),FALSE) -> Acetylcholine (muscarinic) | F3: =VLOOKUP($C3,StructureInfoFromGPCRdb!$A:$U,MATCH(F$1,StructureInfoFromGPCRdb!$A$1:$U$1,0),FALSE) -> ACM2 | G3: =VLOOKUP($C3,StructureInfoFromGPCRdb!$A:$U,MATCH(G$1,StructureInfoFromGPCRdb!$A$1:$U$1,0),FALSE) -> M2 | H3: Repr | I3: Yes | J3: =VLOOKUP($C3,StructureInfoFromGPCRdb!$A:$U,MATCH(J$1,StructureInfoFromGPCRdb!$A$1:$U$1,0),FALSE) -> 90 | K3: =VLOOKUP($C3,StructureInfoFromGPCRdb!$A:$U,MATCH(K$1,StructureInfoFromGPCRdb!$A$1:$U$1,0),FALSE) -> Human | L3: =VLOOKUP($C3,StructureInfoFromGPCRdb!$A:$U,MATCH(L$1,StructureInfoFromGPCRdb!$A$1:$U$1,0),FALSE) -> 100 | M3: =VLOOKUP($C3,StructureInfoFromGPCRdb!$A:$U,MATCH(M$1,StructureInfoFromGPCRdb!$A$1:$U$1,0),FALSE) -> cryo-EM | N3: =VLOOKUP($C3,StructureInfoFromGPCRdb!$A:$U,MATCH(N$1,StructureInfoFromGPCRdb!$A$1:$U$1,0),FALSE) -> 3.6 | O3: =VLOOKUP($C3,StructureInfoFromGPCRdb!$A:$U,MATCH(O$1,StructureInfoFromGPCRdb!$A$1:$U$1,0),FALSE) -> Active | P3: =VLOOKUP($C3,StructureInfoFromGPCRdb!$A:$U,MATCH(P$1,StructureInfoFromGPCRdb!$A$1:$U$1,0),FALSE) -> 100 | Q3: =VLOOKUP($C3,StructureInfoFromGPCRdb!$A:$U,MATCH(Q$1,StructureInfoFromGPCRdb!$A$1:$U$1,0),FALSE) -> 61 | R3: =IF(VLOOKUP($C3,StructureInfoFromGPCRdb!$A:$U,MATCH(R$1,StructureInfoFromGPCRdb!$A$1:$U$1,0),FALSE)="","",VLOOKUP($C3,StructureInfoFromGPCRdb!$A:$U,MATCH(R$1,StructureInfoFromGPCRdb!$A$1:$U$1,0),FALSE)) -> Gi/o | S3: =IF(VLOOKUP($C3,StructureInfoFromGPCRdb!$A:$U,MATCH(S$1,StructureInfoFromGPCRdb!$A$1:$U$1,0),FALSE)="","",VLOOKUP($C3,StructureInfoFromGPCRdb!$A:$U,MATCH(S$1,StructureInfoFromGPCRdb!$A$1:$U$1,0),FALSE)) -> αo | T3: =IF(VLOOKUP($C3,StructureInfoFromGPCRdb!$A:$U,MATCH(T$1,StructureInfoFromGPCRdb!$A$1:$U$1,0),FALSE)="","",VLOOKUP($C3,StructureInfoFromGPCRdb!$A:$U,MATCH(T$1,StructureInfoFromGPCRdb!$A$1:$U$1,0),FALSE)) | U3: =IF(VLOOKUP($C3,StructureInfoFromGPCRdb!$A:$U,MATCH(U$1,StructureInfoFromGPCRdb!$A$1:$U$1,0),FALSE)="","",VLOOKUP($C3,StructureInfoFromGPCRdb!$A:$U,MATCH(U$1,StructureInfoFromGPCRdb!$A$1:$U$1,0),FALSE)) -> 61 | V3: =VLOOKUP($C3,StructureInfoFromGPCRdb!$A:$U,MATCH(V$1,StructureInfoFromGPCRdb!$A$1:$U$1,0),FALSE) -> - | W3: =VLOOKUP($C3,StructureInfoFromGPCRdb!$A:$U,MATCH(W$1,StructureInfoFromGPCRdb!$A$1:$U$1,0),FALSE) -> - | X3: =VLOOKUP($C3,StructureInfoFromGPCRdb!$A:$U,MATCH(X$1,StructureInfoFromGPCRdb!$A$1:$U$1,0),FALSE) -> 2CU | Y3: =VLOOKUP($C3,StructureInfoFromGPCRdb!$A:$U,MATCH(Y$1,StructureInfoFromGPCRdb!$A$1:$U$1,0),FALSE) -> PAM | Z3: Yes
A4: =CONCATENATE(D4,H4,I4,O4) -> AReprYesActive | B4: =CONCATENATE(F4,H4,I4,O4) -> AA1RReprYesActive | C4: 6D9H | D4: =VLOOKUP($C4,StructureInfoFromGPCRdb!$A:$U,MATCH(D$1,StructureInfoFromGPCRdb!$A$1:$U$1,0),FALSE) -> A | E4: =VLOOKUP($C4,StructureInfoFromGPCRdb!$A:$U,MATCH(E$1,StructureInfoFromGPCRdb!$A$1:$U$1,0),FALSE) -> Adenosine | F4: =VLOOKUP($C4,StructureInfoFromGPCRdb!$A:$U,MATCH(F$1,StructureInfoFromGPCRdb!$A$1:$U$1,0),FALSE) -> AA1R | G4: =VLOOKUP($C4,StructureInfoFromGPCRdb!$A:$U,MATCH(G$1,StructureInfoFromGPCRdb!$A$1:$U$1,0),FALSE) -> A1 | H4: Repr | I4: Yes | J4: =VLOOKUP($C4,StructureInfoFromGPCRdb!$A:$U,MATCH(J$1,StructureInfoFromGPCRdb!$A$1:$U$1,0),FALSE) -> 91 | K4: =VLOOKUP($C4,StructureInfoFromGPCRdb!$A:$U,MATCH(K$1,StructureInfoFromGPCRdb!$A$1:$U$1,0),FALSE) -> Human | L4: =VLOOKUP($C4,StructureInfoFromGPCRdb!$A:$U,MATCH(L$1,StructureInfoFromGPCRdb!$A$1:$U$1,0),FALSE) -> 100 | M4: =VLOOKUP($C4,StructureInfoFromGPCRdb!$A:$U,MATCH(M$1,StructureInfoFromGPCRdb!$A$1:$U$1,0),FALSE) -> cryo-EM | N4: =VLOOKUP($C4,StructureInfoFromGPCRdb!$A:$U,MATCH(N$1,StructureInfoFromGPCRdb!$A$1:$U$1,0),FALSE) -> 3.6 | O4: =VLOOKUP($C4,StructureInfoFromGPCRdb!$A:$U,MATCH(O$1,StructureInfoFromGPCRdb!$A$1:$U$1,0),FALSE) -> Active | P4: =VLOOKUP($C4,StructureInfoFromGPCRdb!$A:$U,MATCH(P$1,StructureInfoFromGPCRdb!$A$1:$U$1,0),FALSE) -> 100 | Q4: =VLOOKUP($C4,StructureInfoFromGPCRdb!$A:$U,MATCH(Q$1,StructureInfoFromGPCRdb!$A$1:$U$1,0),FALSE) -> 67 | R4: =IF(VLOOKUP($C4,StructureInfoFromGPCRdb!$A:$U,MATCH(R$1,StructureInfoFromGPCRdb!$A$1:$U$1,0),FALSE)="","",VLOOKUP($C4,StructureInfoFromGPCRdb!$A:$U,MATCH(R$1,StructureInfoFromGPCRdb!$A$1:$U$1,0),FALSE)) -> Gi/o | S4: =IF(VLOOKUP($C4,StructureInfoFromGPCRdb!$A:$U,MATCH(S$1,StructureInfoFromGPCRdb!$A$1:$U$1,0),FALSE)="","",VLOOKUP($C4,StructureInfoFromGPCRdb!$A:$U,MATCH(S$1,StructureInfoFromGPCRdb!$A$1:$U$1,0),FALSE)) -> αi2 | T4: =IF(VLOOKUP($C4,StructureInfoFromGPCRdb!$A:$U,MATCH(T$1,StructureInfoFromGPCRdb!$A$1:$U$1,0),FALSE)="","",VLOOKUP($C4,StructureInfoFromGPCRdb!$A:$U,MATCH(T$1,StructureInfoFromGPCRdb!$A$1:$U$1,0),FALSE)) | U4: =IF(VLOOKUP($C4,StructureInfoFromGPCRdb!$A:$U,MATCH(U$1,StructureInfoFromGPCRdb!$A$1:$U$1,0),FALSE)="","",VLOOKUP($C4,StructureInfoFromGPCRdb!$A:$U,MATCH(U$1,StructureInfoFromGPCRdb!$A$1:$U$1,0),FALSE)) -> 59 | V4: =VLOOKUP($C4,StructureInfoFromGPCRdb!$A:$U,MATCH(V$1,StructureInfoFromGPCRdb!$A$1:$U$1,0),FALSE) -> - | W4: =VLOOKUP($C4,StructureInfoFromGPCRdb!$A:$U,MATCH(W$1,StructureInfoFromGPCRdb!$A$1:$U$1,0),FALSE) -> - | X4: =VLOOKUP($C4,StructureInfoFromGPCRdb!$A:$U,MATCH(X$1,StructureInfoFromGPCRdb!$A$1:$U$1,0),FALSE) -> adenosine | Y4: =VLOOKUP($C4,StructureInfoFromGPCRdb!$A:$U,MATCH(Y$1,StructureInfoFromGPCRdb!$A$1:$U$1,0),FALSE) -> Agonist | Z4: Yes
A5: =CONCATENATE(D5,H5,I5,O5) -> AReprYesActive | B5: =CONCATENATE(F5,H5,I5,O5) -> AA2ARReprYesActive | C5: 5G53 | D5: =VLOOKUP($C5,StructureInfoFromGPCRdb!$A:$U,MATCH(D$1,StructureInfoFromGPCRdb!$A$1:$U$1,0),FALSE) -> A | E5: =VLOOKUP($C5,StructureInfoFromGPCRdb!$A:$U,MATCH(E$1,StructureInfoFromGPCRdb!$A$1:$U$1,0),FALSE) -> Adenosine | F5: =VLOOKUP($C5,StructureInfoFromGPCRdb!$A:$U,MATCH(F$1,StructureInfoFromGPCRdb!$A$1:$U$1,0),FALSE) -> AA2AR | G5: =VLOOKUP($C5,StructureInfoFromGPCRdb!$A:$U,MATCH(G$1,StructureInfoFromGPCRdb!$A$1:$U$1,0),FALSE) -> A2A | H5: Repr | I5: Yes | J5: =VLOOKUP($C5,StructureInfoFromGPCRdb!$A:$U,MATCH(J$1,StructureInfoFromGPCRdb!$A$1:$U$1,0),FALSE) -> 90 | K5: =VLOOKUP($C5,StructureInfoFromGPCRdb!$A:$U,MATCH(K$1,StructureInfoFromGPCRdb!$A$1:$U$1,0),FALSE) -> Human | L5: =VLOOKUP($C5,StructureInfoFromGPCRdb!$A:$U,MATCH(L$1,StructureInfoFromGPCRdb!$A$1:$U$1,0),FALSE) -> 100 | M5: =VLOOKUP($C5,StructureInfoFromGPCRdb!$A:$U,MATCH(M$1,StructureInfoFromGPCRdb!$A$1:$U$1,0),FALSE) -> X-ray | N5: =VLOOKUP($C5,StructureInfoFromGPCRdb!$A:$U,MATCH(N$1,StructureInfoFromGPCRdb!$A$1:$U$1,0),FALSE) -> 3.4 | O5: =VLOOKUP($C5,StructureInfoFromGPCRdb!$A:$U,MATCH(O$1,StructureInfoFromGPCRdb!$A$1:$U$1,0),FALSE) -> Active | P5: =VLOOKUP($C5,StructureInfoFromGPCRdb!$A:$U,MATCH(P$1,StructureInfoFromGPCRdb!$A$1:$U$1,0),FALSE) -> 100 | Q5: =VLOOKUP($C5,StructureInfoFromGPCRdb!$A:$U,MATCH(Q$1,StructureInfoFromGPCRdb!$A$1:$U$1,0),FALSE) -> 70 | R5: =IF(VLOOKUP($C5,StructureInfoFromGPCRdb!$A:$U,MATCH(R$1,StructureInfoFromGPCRdb!$A$1:$U$1,0),FALSE)="","",VLOOKUP($C5,StructureInfoFromGPCRdb!$A:$U,MATCH(R$1,StructureInfoFromGPCRdb!$A$1:$U$1,0),FALSE)) -> Gs | S5: =IF(VLOOKUP($C5,StructureInfoFromGPCRdb!$A:$U,MATCH(S$1,StructureInfoFromGPCRdb!$A$1:$U$1,0),FALSE)="","",VLOOKUP($C5,StructureInfoFromGPCRdb!$A:$U,MATCH(S$1,StructureInfoFromGPCRdb!$A$1:$U$1,0),FALSE)) -> αs | T5: =IF(VLOOKUP($C5,StructureInfoFromGPCRdb!$A:$U,MATCH(T$1,StructureInfoFromGPCRdb!$A$1:$U$1,0),FALSE)="","",VLOOKUP($C5,StructureInfoFromGPCRdb!$A:$U,MATCH(T$1,StructureInfoFromGPCRdb!$A$1:$U$1,0),FALSE)) -> Engineered G protein | U5: =IF(VLOOKUP($C5,StructureInfoFromGPCRdb!$A:$U,MATCH(U$1,StructureInfoFromGPCRdb!$A$1:$U$1,0),FALSE)="","",VLOOKUP($C5,StructureInfoFromGPCRdb!$A:$U,MATCH(U$1,StructureInfoFromGPCRdb!$A$1:$U$1,0),FALSE)) -> 50 | V5: =VLOOKUP($C5,StructureInfoFromGPCRdb!$A:$U,MATCH(V$1,StructureInfoFromGPCRdb!$A$1:$U$1,0),FALSE) -> - | W5: =VLOOKUP($C5,StructureInfoFromGPCRdb!$A:$U,MATCH(W$1,StructureInfoFromGPCRdb!$A$1:$U$1,0),FALSE) -> - | X5: =VLOOKUP($C5,StructureInfoFromGPCRdb!$A:$U,MATCH(X$1,StructureInfoFromGPCRdb!$A$1:$U$1,0),FALSE) -> NECA | Y5: =VLOOKUP($C5,StructureInfoFromGPCRdb!$A:$U,MATCH(Y$1,StructureInfoFromGPCRdb!$A$1:$U$1,0),FALSE) -> Agonist | Z5: Yes
A6: =CONCATENATE(D6,H6,I6,O6) -> AReprYesActive | B6: =CONCATENATE(F6,H6,I6,O6) -> ADA2BReprYesActive | C6: 6K41 | D6: =VLOOKUP($C6,StructureInfoFromGPCRdb!$A:$U,MATCH(D$1,StructureInfoFromGPCRdb!$A$1:$U$1,0),FALSE) -> A | E6: =VLOOKUP($C6,StructureInfoFromGPCRdb!$A:$U,MATCH(E$1,StructureInfoFromGPCRdb!$A$1:$U$1,0),FALSE) -> Adrenoceptors | F6: =VLOOKUP($C6,StructureInfoFromGPCRdb!$A:$U,MATCH(F$1,StructureInfoFromGPCRdb!$A$1:$U$1,0),FALSE) -> ADA2B | G6: =VLOOKUP($C6,StructureInfoFromGPCRdb!$A:$U,MATCH(G$1,StructureInfoFromGPCRdb!$A$1:$U$1,0),FALSE) -> α2B | H6: Repr | I6: Yes | J6: =VLOOKUP($C6,StructureInfoFromGPCRdb!$A:$U,MATCH(J$1,StructureInfoFromGPCRdb!$A$1:$U$1,0),FALSE) -> 89 | K6: =VLOOKUP($C6,StructureInfoFromGPCRdb!$A:$U,MATCH(K$1,StructureInfoFromGPCRdb!$A$1:$U$1,0),FALSE) -> Human | L6: =VLOOKUP($C6,StructureInfoFromGPCRdb!$A:$U,MATCH(L$1,StructureInfoFromGPCRdb!$A$1:$U$1,0),FALSE) -> 100 | M6: =VLOOKUP($C6,StructureInfoFromGPCRdb!$A:$U,MATCH(M$1,StructureInfoFromGPCRdb!$A$1:$U$1,0),FALSE) -> cryo-EM | N6: =VLOOKUP($C6,StructureInfoFromGPCRdb!$A:$U,MATCH(N$1,StructureInfoFromGPCRdb!$A$1:$U$1,0),FALSE) -> 2.9 | O6: =VLOOKUP($C6,StructureInfoFromGPCRdb!$A:$U,MATCH(O$1,StructureInfoFromGPCRdb!$A$1:$U$1,0),FALSE) -> Active | P6: =VLOOKUP($C6,StructureInfoFromGPCRdb!$A:$U,MATCH(P$1,StructureInfoFromGPCRdb!$A$1:$U$1,0),FALSE) -> 100 | Q6: =VLOOKUP($C6,StructureInfoFromGPCRdb!$A:$U,MATCH(Q$1,StructureInfoFromGPCRdb!$A$1:$U$1,0),FALSE) -> 79 | R6: =IF(VLOOKUP($C6,StructureInfoFromGPCRdb!$A:$U,MATCH(R$1,StructureInfoFromGPCRdb!$A$1:$U$1,0),FALSE)="","",VLOOKUP($C6,StructureInfoFromGPCRdb!$A:$U,MATCH(R$1,StructureInfoFromGPCRdb!$A$1:$U$1,0),FALSE)) -> Gi/o | S6: =IF(VLOOKUP($C6,StructureInfoFromGPCRdb!$A:$U,MATCH(S$1,StructureInfoFromGPCRdb!$A$1:$U$1,0),FALSE)="","",VLOOKUP($C6,StructureInfoFromGPCRdb!$A:$U,MATCH(S$1,StructureInfoFromGPCRdb!$A$1:$U$1,0),FALSE)) -> αo | T6: =IF(VLOOKUP($C6,StructureInfoFromGPCRdb!$A:$U,MATCH(T$1,StructureInfoFromGPCRdb!$A$1:$U$1,0),FALSE)="","",VLOOKUP($C6,StructureInfoFromGPCRdb!$A:$U,MATCH(T$1,StructureInfoFromGPCRdb!$A$1:$U$1,0),FALSE)) | U6: =IF(VLOOKUP($C6,StructureInfoFromGPCRdb!$A:$U,MATCH(U$1,StructureInfoFromGPCRdb!$A$1:$U$1,0),FALSE)="","",VLOOKUP($C6,StructureInfoFromGPCRdb!$A:$U,MATCH(U$1,StructureInfoFromGPCRdb!$A$1:$U$1,0),FALSE)) -> 60 | V6: =VLOOKUP($C6,StructureInfoFromGPCRdb!$A:$U,MATCH(V$1,StructureInfoFromGPCRdb!$A$1:$U$1,0),FALSE) -> T4-Lysozyme | W6: =VLOOKUP($C6,StructureInfoFromGPCRdb!$A:$U,MATCH(W$1,StructureInfoFromGPCRdb!$A$1:$U$1,0),FALSE) -> scFv | X6: =VLOOKUP($C6,StructureInfoFromGPCRdb!$A:$U,MATCH(X$1,StructureInfoFromGPCRdb!$A$1:$U$1,0),FALSE) -> Dexmedetomidine | Y6: =VLOOKUP($C6,StructureInfoFromGPCRdb!$A:$U,MATCH(Y$1,StructureInfoFromGPCRdb!$A$1:$U$1,0),FALSE) -> Agonist | Z6: Yes
A7: =CONCATENATE(D7,H7,I7,O7) -> AReprYesActive | B7: =CONCATENATE(F7,H7,I7,O7) -> ADRB2ReprYesActive | C7: 3SN6 | D7: =VLOOKUP($C7,StructureInfoFromGPCRdb!$A:$U,MATCH(D$1,StructureInfoFromGPCRdb!$A$1:$U$1,0),FALSE) -> A | E7: =VLOOKUP($C7,StructureInfoFromGPCRdb!$A:$U,MATCH(E$1,StructureInfoFromGPCRdb!$A$1:$U$1,0),FALSE) -> Adrenoceptors | F7: =VLOOKUP($C7,StructureInfoFromGPCRdb!$A:$U,MATCH(F$1,StructureInfoFromGPCRdb!$A$1:$U$1,0),FALSE) -> ADRB2 | G7: =VLOOKUP($C7,StructureInfoFromGPCRdb!$A:$U,MATCH(G$1,StructureInfoFromGPCRdb!$A$1:$U$1,0),FALSE) -> β2 | H7: Repr | I7: Yes | J7: =VLOOKUP($C7,StructureInfoFromGPCRdb!$A:$U,MATCH(J$1,StructureInfoFromGPCRdb!$A$1:$U$1,0),FALSE) -> 97 | K7: =VLOOKUP($C7,StructureInfoFromGPCRdb!$A:$U,MATCH(K$1,StructureInfoFromGPCRdb!$A$1:$U$1,0),FALSE) -> Human | L7: =VLOOKUP($C7,StructureInfoFromGPCRdb!$A:$U,MATCH(L$1,StructureInfoFromGPCRdb!$A$1:$U$1,0),FALSE) -> 100 | M7: =VLOOKUP($C7,StructureInfoFromGPCRdb!$A:$U,MATCH(M$1,StructureInfoFromGPCRdb!$A$1:$U$1,0),FALSE) -> X-ray | N7: =VLOOKUP($C7,StructureInfoFromGPCRdb!$A:$U,MATCH(N$1,StructureInfoFromGPCRdb!$A$1:$U$1,0),FALSE) -> 3.2 | O7: =VLOOKUP($C7,StructureInfoFromGPCRdb!$A:$U,MATCH(O$1,StructureInfoFromGPCRdb!$A$1:$U$1,0),FALSE) -> Active | P7: =VLOOKUP($C7,StructureInfoFromGPCRdb!$A:$U,MATCH(P$1,StructureInfoFromGPCRdb!$A$1:$U$1,0),FALSE) -> 100 | Q7: =VLOOKUP($C7,StructureInfoFromGPCRdb!$A:$U,MATCH(Q$1,StructureInfoFromGPCRdb!$A$1:$U$1,0),FALSE) -> 72 | R7: =IF(VLOOKUP($C7,StructureInfoFromGPCRdb!$A:$U,MATCH(R$1,StructureInfoFromGPCRdb!$A$1:$U$1,0),FALSE)="","",VLOOKUP($C7,StructureInfoFromGPCRdb!$A:$U,MATCH(R$1,StructureInfoFromGPCRdb!$A$1:$U$1,0),FALSE)) -> Gs | S7: =IF(VLOOKUP($C7,StructureInfoFromGPCRdb!$A:$U,MATCH(S$1,StructureInfoFromGPCRdb!$A$1:$U$1,0),FALSE)="","",VLOOKUP($C7,StructureInfoFromGPCRdb!$A:$U,MATCH(S$1,StructureInfoFromGPCRdb!$A$1:$U$1,0),FALSE)) -> αs | T7: =IF(VLOOKUP($C7,StructureInfoFromGPCRdb!$A:$U,MATCH(T$1,StructureInfoFromGPCRdb!$A$1:$U$1,0),FALSE)="","",VLOOKUP($C7,StructureInfoFromGPCRdb!$A:$U,MATCH(T$1,StructureInfoFromGPCRdb!$A$1:$U$1,0),FALSE)) | U7: =IF(VLOOKUP($C7,StructureInfoFromGPCRdb!$A:$U,MATCH(U$1,StructureInfoFromGPCRdb!$A$1:$U$1,0),FALSE)="","",VLOOKUP($C7,StructureInfoFromGPCRdb!$A:$U,MATCH(U$1,StructureInfoFromGPCRdb!$A$1:$U$1,0),FALSE)) -> 89 | V7: =VLOOKUP($C7,StructureInfoFromGPCRdb!$A:$U,MATCH(V$1,StructureInfoFromGPCRdb!$A$1:$U$1,0),FALSE) -> T4-Lysozyme | W7: =VLOOKUP($C7,StructureInfoFromGPCRdb!$A:$U,MATCH(W$1,StructureInfoFromGPCRdb!$A$1:$U$1,0),FALSE) -> Antibody | X7: =VLOOKUP($C7,StructureInfoFromGPCRdb!$A:$U,MATCH(X$1,StructureInfoFromGPCRdb!$A$1:$U$1,0),FALSE) -> BI-167107 | Y7: =VLOOKUP($C7,StructureInfoFromGPCRdb!$A:$U,MATCH(Y$1,StructureInfoFromGPCRdb!$A$1:$U$1,0),FALSE) -> Agonist | Z7: Yes
A8: =CONCATENATE(D8,H8,I8,O8) -> AReprYesActive | B8: =CONCATENATE(F8,H8,I8,O8) -> CNR1ReprYesActive | C8: 6N4B | D8: =VLOOKUP($C8,StructureInfoFromGPCRdb!$A:$U,MATCH(D$1,StructureInfoFromGPCRdb!$A$1:$U$1,0),FALSE) -> A | E8: =VLOOKUP($C8,StructureInfoFromGPCRdb!$A:$U,MATCH(E$1,StructureInfoFromGPCRdb!$A$1:$U$1,0),FALSE) -> Cannabinoid | F8: =VLOOKUP($C8,StructureInfoFromGPCRdb!$A:$U,MATCH(F$1,StructureInfoFromGPCRdb!$A$1:$U$1,0),FALSE) -> CNR1 | G8: =VLOOKUP($C8,StructureInfoFromGPCRdb!$A:$U,MATCH(G$1,StructureInfoFromGPCRdb!$A$1:$U$1,0),FALSE) -> CB1 | H8: Repr | I8: Yes | J8: =VLOOKUP($C8,StructureInfoFromGPCRdb!$A:$U,MATCH(J$1,StructureInfoFromGPCRdb!$A$1:$U$1,0),FALSE) -> 92 | K8: =VLOOKUP($C8,StructureInfoFromGPCRdb!$A:$U,MATCH(K$1,StructureInfoFromGPCRdb!$A$1:$U$1,0),FALSE) -> Human | L8: =VLOOKUP($C8,StructureInfoFromGPCRdb!$A:$U,MATCH(L$1,StructureInfoFromGPCRdb!$A$1:$U$1,0),FALSE) -> 100 | M8: =VLOOKUP($C8,StructureInfoFromGPCRdb!$A:$U,MATCH(M$1,StructureInfoFromGPCRdb!$A$1:$U$1,0),FALSE) -> cryo-EM | N8: =VLOOKUP($C8,StructureInfoFromGPCRdb!$A:$U,MATCH(N$1,StructureInfoFromGPCRdb!$A$1:$U$1,0),FALSE) -> 3 | O8: =VLOOKUP($C8,StructureInfoFromGPCRdb!$A:$U,MATCH(O$1,StructureInfoFromGPCRdb!$A$1:$U$1,0),FALSE) -> Active | P8: =VLOOKUP($C8,StructureInfoFromGPCRdb!$A:$U,MATCH(P$1,StructureInfoFromGPCRdb!$A$1:$U$1,0),FALSE) -> 100 | Q8: =VLOOKUP($C8,StructureInfoFromGPCRdb!$A:$U,MATCH(Q$1,StructureInfoFromGPCRdb!$A$1:$U$1,0),FALSE) -> 70 | R8: =IF(VLOOKUP($C8,StructureInfoFromGPCRdb!$A:$U,MATCH(R$1,StructureInfoFromGPCRdb!$A$1:$U$1,0),FALSE)="","",VLOOKUP($C8,StructureInfoFromGPCRdb!$A:$U,MATCH(R$1,StructureInfoFromGPCRdb!$A$1:$U$1,0),FALSE)) -> Gi/o | S8: =IF(VLOOKUP($C8,StructureInfoFromGPCRdb!$A:$U,MATCH(S$1,StructureInfoFromGPCRdb!$A$1:$U$1,0),FALSE)="","",VLOOKUP($C8,StructureInfoFromGPCRdb!$A:$U,MATCH(S$1,StructureInfoFromGPCRdb!$A$1:$U$1,0),FALSE)) -> αi1 | T8: =IF(VLOOKUP($C8,StructureInfoFromGPCRdb!$A:$U,MATCH(T$1,StructureInfoFromGPCRdb!$A$1:$U$1,0),FALSE)="","",VLOOKUP($C8,StructureInfoFromGPCRdb!$A:$U,MATCH(T$1,StructureInfoFromGPCRdb!$A$1:$U$1,0),FALSE)) | U8: =IF(VLOOKUP($C8,StructureInfoFromGPCRdb!$A:$U,MATCH(U$1,StructureInfoFromGPCRdb!$A$1:$U$1,0),FALSE)="","",VLOOKUP($C8,StructureInfoFromGPCRdb!$A:$U,MATCH(U$1,StructureInfoFromGPCRdb!$A$1:$U$1,0),FALSE)) -> 62 | V8: =VLOOKUP($C8,StructureInfoFromGPCRdb!$A:$U,MATCH(V$1,StructureInfoFromGPCRdb!$A$1:$U$1,0),FALSE) -> - | W8: =VLOOKUP($C8,StructureInfoFromGPCRdb!$A:$U,MATCH(W$1,StructureInfoFromGPCRdb!$A$1:$U$1,0),FALSE) -> scFv16 | X8: =VLOOKUP($C8,StructureInfoFromGPCRdb!$A:$U,MATCH(X$1,StructureInfoFromGPCRdb!$A$1:$U$1,0),FALSE) -> Fub-mdmb | Y8: =VLOOKUP($C8,StructureInfoFromGPCRdb!$A:$U,MATCH(Y$1,StructureInfoFromGPCRdb!$A$1:$U$1,0),FALSE) -> Agonist | Z8: Yes
A9: =CONCATENATE(D9,H9,I9,O9) -> AReprYesActive | B9: =CONCATENATE(F9,H9,I9,O9) -> CNR2ReprYesActive | C9: 6KPF | D9: =VLOOKUP($C9,StructureInfoFromGPCRdb!$A:$U,MATCH(D$1,StructureInfoFromGPCRdb!$A$1:$U$1,0),FALSE) -> A | E9: =VLOOKUP($C9,StructureInfoFromGPCRdb!$A:$U,MATCH(E$1,StructureInfoFromGPCRdb!$A$1:$U$1,0),FALSE) -> Cannabinoid | F9: =VLOOKUP($C9,StructureInfoFromGPCRdb!$A:$U,MATCH(F$1,StructureInfoFromGPCRdb!$A$1:$U$1,0),FALSE) -> CNR2 | G9: =VLOOKUP($C9,StructureInfoFromGPCRdb!$A:$U,MATCH(G$1,StructureInfoFromGPCRdb!$A$1:$U$1,0),FALSE) -> CB2 | H9: Repr | I9: Yes | J9: =VLOOKUP($C9,StructureInfoFromGPCRdb!$A:$U,MATCH(J$1,StructureInfoFromGPCRdb!$A$1:$U$1,0),FALSE) -> 91 | K9: =VLOOKUP($C9,StructureInfoFromGPCRdb!$A:$U,MATCH(K$1,StructureInfoFromGPCRdb!$A$1:$U$1,0),FALSE) -> Human | L9: =VLOOKUP($C9,StructureInfoFromGPCRdb!$A:$U,MATCH(L$1,StructureInfoFromGPCRdb!$A$1:$U$1,0),FALSE) -> 100 | M9: =VLOOKUP($C9,StructureInfoFromGPCRdb!$A:$U,MATCH(M$1,StructureInfoFromGPCRdb!$A$1:$U$1,0),FALSE) -> cryo-EM | N9: =VLOOKUP($C9,StructureInfoFromGPCRdb!$A:$U,MATCH(N$1,StructureInfoFromGPCRdb!$A$1:$U$1,0),FALSE) -> 2.9 | O9: =VLOOKUP($C9,StructureInfoFromGPCRdb!$A:$U,MATCH(O$1,StructureInfoFromGPCRdb!$A$1:$U$1,0),FALSE) -> Active | P9: =VLOOKUP($C9,StructureInfoFromGPCRdb!$A:$U,MATCH(P$1,StructureInfoFromGPCRdb!$A$1:$U$1,0),FALSE) -> 100 | Q9: =VLOOKUP($C9,StructureInfoFromGPCRdb!$A:$U,MATCH(Q$1,StructureInfoFromGPCRdb!$A$1:$U$1,0),FALSE) -> 55 | R9: =IF(VLOOKUP($C9,StructureInfoFromGPCRdb!$A:$U,MATCH(R$1,StructureInfoFromGPCRdb!$A$1:$U$1,0),FALSE)="","",VLOOKUP($C9,StructureInfoFromGPCRdb!$A:$U,MATCH(R$1,StructureInfoFromGPCRdb!$A$1:$U$1,0),FALSE)) -> Gi/o | S9: =IF(VLOOKUP($C9,StructureInfoFromGPCRdb!$A:$U,MATCH(S$1,StructureInfoFromGPCRdb!$A$1:$U$1,0),FALSE)="","",VLOOKUP($C9,StructureInfoFromGPCRdb!$A:$U,MATCH(S$1,StructureInfoFromGPCRdb!$A$1:$U$1,0),FALSE)) -> αi1 | T9: =IF(VLOOKUP($C9,StructureInfoFromGPCRdb!$A:$U,MATCH(T$1,StructureInfoFromGPCRdb!$A$1:$U$1,0),FALSE)="","",VLOOKUP($C9,StructureInfoFromGPCRdb!$A:$U,MATCH(T$1,StructureInfoFromGPCRdb!$A$1:$U$1,0),FALSE)) | U9: =IF(VLOOKUP($C9,StructureInfoFromGPCRdb!$A:$U,MATCH(U$1,StructureInfoFromGPCRdb!$A$1:$U$1,0),FALSE)="","",VLOOKUP($C9,StructureInfoFromGPCRdb!$A:$U,MATCH(U$1,StructureInfoFromGPCRdb!$A$1:$U$1,0),FALSE)) -> 62 | V9: =VLOOKUP($C9,StructureInfoFromGPCRdb!$A:$U,MATCH(V$1,StructureInfoFromGPCRdb!$A$1:$U$1,0),FALSE) -> - | W9: =VLOOKUP($C9,StructureInfoFromGPCRdb!$A:$U,MATCH(W$1,StructureInfoFromGPCRdb!$A$1:$U$1,0),FALSE) -> scFv16 | X9: =VLOOKUP($C9,StructureInfoFromGPCRdb!$A:$U,MATCH(X$1,StructureInfoFromGPCRdb!$A$1:$U$1,0),FALSE) -> (6Ar,9R,10aR)-9-(hyd.. | Y9: =VLOOKUP($C9,StructureInfoFromGPCRdb!$A:$U,MATCH(Y$1,StructureInfoFromGPCRdb!$A$1:$U$1,0),FALSE) -> Agonist | Z9: Yes
A10: =CONCATENATE(D10,H10,I10,O10) -> AReprYesActive | B10: =CONCATENATE(F10,H10,I10,O10) -> CCR6ReprYesActive | C10: 6WWZ | D10: =VLOOKUP($C10,StructureInfoFromGPCRdb!$A:$U,MATCH(D$1,StructureInfoFromGPCRdb!$A$1:$U$1,0),FALSE) -> A | E10: =VLOOKUP($C10,StructureInfoFromGPCRdb!$A:$U,MATCH(E$1,StructureInfoFromGPCRdb!$A$1:$U$1,0),FALSE) -> Chemokine | F10: =VLOOKUP($C10,StructureInfoFromGPCRdb!$A:$U,MATCH(F$1,StructureInfoFromGPCRdb!$A$1:$U$1,0),FALSE) -> CCR6 | G10: =VLOOKUP($C10,StructureInfoFromGPCRdb!$A:$U,MATCH(G$1,StructureInfoFromGPCRdb!$A$1:$U$1,0),FALSE) -> CCR6 | H10: Repr | I10: Yes | J10: =VLOOKUP($C10,StructureInfoFromGPCRdb!$A:$U,MATCH(J$1,StructureInfoFromGPCRdb!$A$1:$U$1,0),FALSE) -> 96 | K10: =VLOOKUP($C10,StructureInfoFromGPCRdb!$A:$U,MATCH(K$1,StructureInfoFromGPCRdb!$A$1:$U$1,0),FALSE) -> Human | L10: =VLOOKUP($C10,StructureInfoFromGPCRdb!$A:$U,MATCH(L$1,StructureInfoFromGPCRdb!$A$1:$U$1,0),FALSE) -> 100 | M10: =VLOOKUP($C10,StructureInfoFromGPCRdb!$A:$U,MATCH(M$1,StructureInfoFromGPCRdb!$A$1:$U$1,0),FALSE) -> cryo-EM | N10: =VLOOKUP($C10,StructureInfoFromGPCRdb!$A:$U,MATCH(N$1,StructureInfoFromGPCRdb!$A$1:$U$1,0),FALSE) -> 3.3 | O10: =VLOOKUP($C10,StructureInfoFromGPCRdb!$A:$U,MATCH(O$1,StructureInfoFromGPCRdb!$A$1:$U$1,0),FALSE) -> Active | P10: =VLOOKUP($C10,StructureInfoFromGPCRdb!$A:$U,MATCH(P$1,StructureInfoFromGPCRdb!$A$1:$U$1,0),FALSE) -> 100 | Q10: =VLOOKUP($C10,StructureInfoFromGPCRdb!$A:$U,MATCH(Q$1,StructureInfoFromGPCRdb!$A$1:$U$1,0),FALSE) -> 76 | R10: =IF(VLOOKUP($C10,StructureInfoFromGPCRdb!$A:$U,MATCH(R$1,StructureInfoFromGPCRdb!$A$1:$U$1,0),FALSE)="","",VLOOKUP($C10,StructureInfoFromGPCRdb!$A:$U,MATCH(R$1,StructureInfoFromGPCRdb!$A$1:$U$1,0),FALSE)) -> Gi/o | S10: =IF(VLOOKUP($C10,StructureInfoFromGPCRdb!$A:$U,MATCH(S$1,StructureInfoFromGPCRdb!$A$1:$U$1,0),FALSE)="","",VLOOKUP($C10,StructureInfoFromGPCRdb!$A:$U,MATCH(S$1,StructureInfoFromGPCRdb!$A$1:$U$1,0),FALSE)) -> αo | T10: =IF(VLOOKUP($C10,StructureInfoFromGPCRdb!$A:$U,MATCH(T$1,StructureInfoFromGPCRdb!$A$1:$U$1,0),FALSE)="","",VLOOKUP($C10,StructureInfoFromGPCRdb!$A:$U,MATCH(T$1,StructureInfoFromGPCRdb!$A$1:$U$1,0),FALSE)) | U10: =IF(VLOOKUP($C10,StructureInfoFromGPCRdb!$A:$U,MATCH(U$1,StructureInfoFromGPCRdb!$A$1:$U$1,0),FALSE)="","",VLOOKUP($C10,StructureInfoFromGPCRdb!$A:$U,MATCH(U$1,StructureInfoFromGPCRdb!$A$1:$U$1,0),FALSE)) -> 59 | V10: =VLOOKUP($C10,StructureInfoFromGPCRdb!$A:$U,MATCH(V$1,StructureInfoFromGPCRdb!$A$1:$U$1,0),FALSE) -> - | W10: =VLOOKUP($C10,StructureInfoFromGPCRdb!$A:$U,MATCH(W$1,StructureInfoFromGPCRdb!$A$1:$U$1,0),FALSE) -> scFv16 | X10: =VLOOKUP($C10,StructureInfoFromGPCRdb!$A:$U,MATCH(X$1,StructureInfoFromGPCRdb!$A$1:$U$1,0),FALSE) -> CCL20 | Y10: =VLOOKUP($C10,StructureInfoFromGPCRdb!$A:$U,MATCH(Y$1,StructureInfoFromGPCRdb!$A$1:$U$1,0),FALSE) -> Agonist | Z10: Yes
A11: =CONCATENATE(D11,H11,I11,O11) -> AReprYesActive | B11: =CONCATENATE(F11,H11,I11,O11) -> CXCR2ReprYesActive | C11: 6LFO | D11: =VLOOKUP($C11,StructureInfoFromGPCRdb!$A:$U,MATCH(D$1,StructureInfoFromGPCRdb!$A$1:$U$1,0),FALSE) -> A | E11: =VLOOKUP($C11,StructureInfoFromGPCRdb!$A:$U,MATCH(E$1,StructureInfoFromGPCRdb!$A$1:$U$1,0),FALSE) -> Chemokine | F11: =VLOOKUP($C11,StructureInfoFromGPCRdb!$A:$U,MATCH(F$1,StructureInfoFromGPCRdb!$A$1:$U$1,0),FALSE) -> CXCR2 | G11: =VLOOKUP($C11,StructureInfoFromGPCRdb!$A:$U,MATCH(G$1,StructureInfoFromGPCRdb!$A$1:$U$1,0),FALSE) -> CXCR2 | H11: Repr | I11: Yes | J11: =VLOOKUP($C11,StructureInfoFromGPCRdb!$A:$U,MATCH(J$1,StructureInfoFromGPCRdb!$A$1:$U$1,0),FALSE) -> 95 | K11: =VLOOKUP($C11,StructureInfoFromGPCRdb!$A:$U,MATCH(K$1,StructureInfoFromGPCRdb!$A$1:$U$1,0),FALSE) -> Human | L11: =VLOOKUP($C11,StructureInfoFromGPCRdb!$A:$U,MATCH(L$1,StructureInfoFromGPCRdb!$A$1:$U$1,0),FALSE) -> 100 | M11: =VLOOKUP($C11,StructureInfoFromGPCRdb!$A:$U,MATCH(M$1,StructureInfoFromGPCRdb!$A$1:$U$1,0),FALSE) -> cryo-EM | N11: =VLOOKUP($C11,StructureInfoFromGPCRdb!$A:$U,MATCH(N$1,StructureInfoFromGPCRdb!$A$1:$U$1,0),FALSE) -> 3.4 | O11: =VLOOKUP($C11,StructureInfoFromGPCRdb!$A:$U,MATCH(O$1,StructureInfoFromGPCRdb!$A$1:$U$1,0),FALSE) -> Active | P11: =VLOOKUP($C11,StructureInfoFromGPCRdb!$A:$U,MATCH(P$1,StructureInfoFromGPCRdb!$A$1:$U$1,0),FALSE) -> 100 | Q11: =VLOOKUP($C11,StructureInfoFromGPCRdb!$A:$U,MATCH(Q$1,StructureInfoFromGPCRdb!$A$1:$U$1,0),FALSE) -> 63 | R11: =IF(VLOOKUP($C11,StructureInfoFromGPCRdb!$A:$U,MATCH(R$1,StructureInfoFromGPCRdb!$A$1:$U$1,0),FALSE)="","",VLOOKUP($C11,StructureInfoFromGPCRdb!$A:$U,MATCH(R$1,StructureInfoFromGPCRdb!$A$1:$U$1,0),FALSE)) -> Gi/o | S11: =IF(VLOOKUP($C11,StructureInfoFromGPCRdb!$A:$U,MATCH(S$1,StructureInfoFromGPCRdb!$A$1:$U$1,0),FALSE)="","",VLOOKUP($C11,StructureInfoFromGPCRdb!$A:$U,MATCH(S$1,StructureInfoFromGPCRdb!$A$1:$U$1,0),FALSE)) -> αi1 | T11: =IF(VLOOKUP($C11,StructureInfoFromGPCRdb!$A:$U,MATCH(T$1,StructureInfoFromGPCRdb!$A$1:$U$1,0),FALSE)="","",VLOOKUP($C11,StructureInfoFromGPCRdb!$A:$U,MATCH(T$1,StructureInfoFromGPCRdb!$A$1:$U$1,0),FALSE)) | U11: =IF(VLOOKUP($C11,StructureInfoFromGPCRdb!$A:$U,MATCH(U$1,StructureInfoFromGPCRdb!$A$1:$U$1,0),FALSE)="","",VLOOKUP($C11,StructureInfoFromGPCRdb!$A:$U,MATCH(U$1,StructureInfoFromGPCRdb!$A$1:$U$1,0),FALSE)) -> 65 | V11: =VLOOKUP($C11,StructureInfoFromGPCRdb!$A:$U,MATCH(V$1,StructureInfoFromGPCRdb!$A$1:$U$1,0),FALSE) -> - | W11: =VLOOKUP($C11,StructureInfoFromGPCRdb!$A:$U,MATCH(W$1,StructureInfoFromGPCRdb!$A$1:$U$1,0),FALSE) -> scFv16 | X11: =VLOOKUP($C11,StructureInfoFromGPCRdb!$A:$U,MATCH(X$1,StructureInfoFromGPCRdb!$A$1:$U$1,0),FALSE) -> Interleukin-8 | Y11: =VLOOKUP($C11,StructureInfoFromGPCRdb!$A:$U,MATCH(Y$1,StructureInfoFromGPCRdb!$A$1:$U$1,0),FALSE) -> Agonist | Z11: Yes
A12: =CONCATENATE(D12,H12,I12,O12) -> AReprYesActive | B12: =CONCATENATE(F12,H12,I12,O12) -> FPR2ReprYesActive | C12: 6OMM | D12: =VLOOKUP($C12,StructureInfoFromGPCRdb!$A:$U,MATCH(D$1,StructureInfoFromGPCRdb!$A$1:$U$1,0),FALSE) -> A | E12: =VLOOKUP($C12,StructureInfoFromGPCRdb!$A:$U,MATCH(E$1,StructureInfoFromGPCRdb!$A$1:$U$1,0),FALSE) -> Formylpeptide | F12: =VLOOKUP($C12,StructureInfoFromGPCRdb!$A:$U,MATCH(F$1,StructureInfoFromGPCRdb!$A$1:$U$1,0),FALSE) -> FPR2 | G12: =VLOOKUP($C12,StructureInfoFromGPCRdb!$A:$U,MATCH(G$1,StructureInfoFromGPCRdb!$A$1:$U$1,0),FALSE) -> FPR2/ALX | H12: Repr | I12: Yes | J12: =VLOOKUP($C12,StructureInfoFromGPCRdb!$A:$U,MATCH(J$1,StructureInfoFromGPCRdb!$A$1:$U$1,0),FALSE) -> 98 | K12: =VLOOKUP($C12,StructureInfoFromGPCRdb!$A:$U,MATCH(K$1,StructureInfoFromGPCRdb!$A$1:$U$1,0),FALSE) -> Human | L12: =VLOOKUP($C12,StructureInfoFromGPCRdb!$A:$U,MATCH(L$1,StructureInfoFromGPCRdb!$A$1:$U$1,0),FALSE) -> 100 | M12: =VLOOKUP($C12,StructureInfoFromGPCRdb!$A:$U,MATCH(M$1,StructureInfoFromGPCRdb!$A$1:$U$1,0),FALSE) -> cryo-EM | N12: =VLOOKUP($C12,StructureInfoFromGPCRdb!$A:$U,MATCH(N$1,StructureInfoFromGPCRdb!$A$1:$U$1,0),FALSE) -> 3.2 | O12: =VLOOKUP($C12,StructureInfoFromGPCRdb!$A:$U,MATCH(O$1,StructureInfoFromGPCRdb!$A$1:$U$1,0),FALSE) -> Active | P12: =VLOOKUP($C12,StructureInfoFromGPCRdb!$A:$U,MATCH(P$1,StructureInfoFromGPCRdb!$A$1:$U$1,0),FALSE) -> 100 | Q12: =VLOOKUP($C12,StructureInfoFromGPCRdb!$A:$U,MATCH(Q$1,StructureInfoFromGPCRdb!$A$1:$U$1,0),FALSE) -> 68 | R12: =IF(VLOOKUP($C12,StructureInfoFromGPCRdb!$A:$U,MATCH(R$1,StructureInfoFromGPCRdb!$A$1:$U$1,0),FALSE)="","",VLOOKUP($C12,StructureInfoFromGPCRdb!$A:$U,MATCH(R$1,StructureInfoFromGPCRdb!$A$1:$U$1,0),FALSE)) -> Gi/o | S12: =IF(VLOOKUP($C12,StructureInfoFromGPCRdb!$A:$U,MATCH(S$1,StructureInfoFromGPCRdb!$A$1:$U$1,0),FALSE)="","",VLOOKUP($C12,StructureInfoFromGPCRdb!$A:$U,MATCH(S$1,StructureInfoFromGPCRdb!$A$1:$U$1,0),FALSE)) -> αi1 | T12: =IF(VLOOKUP($C12,StructureInfoFromGPCRdb!$A:$U,MATCH(T$1,StructureInfoFromGPCRdb!$A$1:$U$1,0),FALSE)="","",VLOOKUP($C12,StructureInfoFromGPCRdb!$A:$U,MATCH(T$1,StructureInfoFromGPCRdb!$A$1:$U$1,0),FALSE)) | U12: =IF(VLOOKUP($C12,StructureInfoFromGPCRdb!$A:$U,MATCH(U$1,StructureInfoFromGPCRdb!$A$1:$U$1,0),FALSE)="","",VLOOKUP($C12,StructureInfoFromGPCRdb!$A:$U,MATCH(U$1,StructureInfoFromGPCRdb!$A$1:$U$1,0),FALSE)) -> 61 | V12: =VLOOKUP($C12,StructureInfoFromGPCRdb!$A:$U,MATCH(V$1,StructureInfoFromGPCRdb!$A$1:$U$1,0),FALSE) -> - | W12: =VLOOKUP($C12,StructureInfoFromGPCRdb!$A:$U,MATCH(W$1,StructureInfoFromGPCRdb!$A$1:$U$1,0),FALSE) -> - | X12: =VLOOKUP($C12,StructureInfoFromGPCRdb!$A:$U,MATCH(X$1,StructureInfoFromGPCRdb!$A$1:$U$1,0),FALSE) -> WKYMVX | Y12: =VLOOKUP($C12,StructureInfoFromGPCRdb!$A:$U,MATCH(Y$1,StructureInfoFromGPCRdb!$A$1:$U$1,0),FALSE) -> Agonist | Z12: Yes
A13: =CONCATENATE(D13,H13,I13,O13) -> AReprYesActive | B13: =CONCATENATE(F13,H13,I13,O13) -> NTR1ReprYesActive | C13: 6OS9 | D13: =VLOOKUP($C13,StructureInfoFromGPCRdb!$A:$U,MATCH(D$1,StructureInfoFromGPCRdb!$A$1:$U$1,0),FALSE) -> A | E13: =VLOOKUP($C13,StructureInfoFromGPCRdb!$A:$U,MATCH(E$1,StructureInfoFromGPCRdb!$A$1:$U$1,0),FALSE) -> Neurotensin | F13: =VLOOKUP($C13,StructureInfoFromGPCRdb!$A:$U,MATCH(F$1,StructureInfoFromGPCRdb!$A$1:$U$1,0),FALSE) -> NTR1 | G13: =VLOOKUP($C13,StructureInfoFromGPCRdb!$A:$U,MATCH(G$1,StructureInfoFromGPCRdb!$A$1:$U$1,0),FALSE) -> NTS1 | H13: Repr | I13: Yes | J13: =VLOOKUP($C13,StructureInfoFromGPCRdb!$A:$U,MATCH(J$1,StructureInfoFromGPCRdb!$A$1:$U$1,0),FALSE) -> 91 | K13: =VLOOKUP($C13,StructureInfoFromGPCRdb!$A:$U,MATCH(K$1,StructureInfoFromGPCRdb!$A$1:$U$1,0),FALSE) -> Human | L13: =VLOOKUP($C13,StructureInfoFromGPCRdb!$A:$U,MATCH(L$1,StructureInfoFromGPCRdb!$A$1:$U$1,0),FALSE) -> 100 | M13: =VLOOKUP($C13,StructureInfoFromGPCRdb!$A:$U,MATCH(M$1,StructureInfoFromGPCRdb!$A$1:$U$1,0),FALSE) -> cryo-EM | N13: =VLOOKUP($C13,StructureInfoFromGPCRdb!$A:$U,MATCH(N$1,StructureInfoFromGPCRdb!$A$1:$U$1,0),FALSE) -> 3 | O13: =VLOOKUP($C13,StructureInfoFromGPCRdb!$A:$U,MATCH(O$1,StructureInfoFromGPCRdb!$A$1:$U$1,0),FALSE) -> Active | P13: =VLOOKUP($C13,StructureInfoFromGPCRdb!$A:$U,MATCH(P$1,StructureInfoFromGPCRdb!$A$1:$U$1,0),FALSE) -> 100 | Q13: =VLOOKUP($C13,StructureInfoFromGPCRdb!$A:$U,MATCH(Q$1,StructureInfoFromGPCRdb!$A$1:$U$1,0),FALSE) -> 50 | R13: =IF(VLOOKUP($C13,StructureInfoFromGPCRdb!$A:$U,MATCH(R$1,StructureInfoFromGPCRdb!$A$1:$U$1,0),FALSE)="","",VLOOKUP($C13,StructureInfoFromGPCRdb!$A:$U,MATCH(R$1,StructureInfoFromGPCRdb!$A$1:$U$1,0),FALSE)) -> Gi/o | S13: =IF(VLOOKUP($C13,StructureInfoFromGPCRdb!$A:$U,MATCH(S$1,StructureInfoFromGPCRdb!$A$1:$U$1,0),FALSE)="","",VLOOKUP($C13,StructureInfoFromGPCRdb!$A:$U,MATCH(S$1,StructureInfoFromGPCRdb!$A$1:$U$1,0),FALSE)) -> αi1 | T13: =IF(VLOOKUP($C13,StructureInfoFromGPCRdb!$A:$U,MATCH(T$1,StructureInfoFromGPCRdb!$A$1:$U$1,0),FALSE)="","",VLOOKUP($C13,StructureInfoFromGPCRdb!$A:$U,MATCH(T$1,StructureInfoFromGPCRdb!$A$1:$U$1,0),FALSE)) | U13: =IF(VLOOKUP($C13,StructureInfoFromGPCRdb!$A:$U,MATCH(U$1,StructureInfoFromGPCRdb!$A$1:$U$1,0),FALSE)="","",VLOOKUP($C13,StructureInfoFromGPCRdb!$A:$U,MATCH(U$1,StructureInfoFromGPCRdb!$A$1:$U$1,0),FALSE)) -> 62 | V13: =VLOOKUP($C13,StructureInfoFromGPCRdb!$A:$U,MATCH(V$1,StructureInfoFromGPCRdb!$A$1:$U$1,0),FALSE) -> - | W13: =VLOOKUP($C13,StructureInfoFromGPCRdb!$A:$U,MATCH(W$1,StructureInfoFromGPCRdb!$A$1:$U$1,0),FALSE) -> scFv16 | X13: =VLOOKUP($C13,StructureInfoFromGPCRdb!$A:$U,MATCH(X$1,StructureInfoFromGPCRdb!$A$1:$U$1,0),FALSE) -> JMV449 | Y13: =VLOOKUP($C13,StructureInfoFromGPCRdb!$A:$U,MATCH(Y$1,StructureInfoFromGPCRdb!$A$1:$U$1,0),FALSE) -> Agonist | Z13: Yes
... A15: =CONCATENATE(D15,H15,I15,O15) -> AReprNoActive | B15: =CONCATENATE(F15,H15,I15,O15) -> 5HT1BReprNoActive | C15: 6G79 | D15: =VLOOKUP($C15,StructureInfoFromGPCRdb!$A:$U,MATCH(D$1,StructureInfoFromGPCRdb!$A$1:$U$1,0),FALSE) -> A | E15: =VLOOKUP($C15,StructureInfoFromGPCRdb!$A:$U,MATCH(E$1,StructureInfoFromGPCRdb!$A$1:$U$1,0),FALSE) -> 5-Hydroxytryptamine | F15: =VLOOKUP($C15,StructureInfoFromGPCRdb!$A:$U,MATCH(F$1,StructureInfoFromGPCRdb!$A$1:$U$1,0),FALSE) -> 5HT1B | G15: =VLOOKUP($C15,StructureInfoFromGPCRdb!$A:$U,MATCH(G$1,StructureInfoFromGPCRdb!$A$1:$U$1,0),FALSE) -> 5-HT1B | H15: Repr | I15: No | J15: =VLOOKUP($C15,StructureInfoFromGPCRdb!$A:$U,MATCH(J$1,StructureInfoFromGPCRdb!$A$1:$U$1,0),FALSE) -> 95 | K15: =VLOOKUP($C15,StructureInfoFromGPCRdb!$A:$U,MATCH(K$1,StructureInfoFromGPCRdb!$A$1:$U$1,0),FALSE) -> Human | L15: =VLOOKUP($C15,StructureInfoFromGPCRdb!$A:$U,MATCH(L$1,StructureInfoFromGPCRdb!$A$1:$U$1,0),FALSE) -> 100 | M15: =VLOOKUP($C15,StructureInfoFromGPCRdb!$A:$U,MATCH(M$1,StructureInfoFromGPCRdb!$A$1:$U$1,0),FALSE) -> cryo-EM | N15: =VLOOKUP($C15,StructureInfoFromGPCRdb!$A:$U,MATCH(N$1,StructureInfoFromGPCRdb!$A$1:$U$1,0),FALSE) -> 3.8 | O15: =VLOOKUP($C15,StructureInfoFromGPCRdb!$A:$U,MATCH(O$1,StructureInfoFromGPCRdb!$A$1:$U$1,0),FALSE) -> Active | P15: =VLOOKUP($C15,StructureInfoFromGPCRdb!$A:$U,MATCH(P$1,StructureInfoFromGPCRdb!$A$1:$U$1,0),FALSE) -> 100 | Q15: =VLOOKUP($C15,StructureInfoFromGPCRdb!$A:$U,MATCH(Q$1,StructureInfoFromGPCRdb!$A$1:$U$1,0),FALSE) -> 70 | R15: =IF(VLOOKUP($C15,StructureInfoFromGPCRdb!$A:$U,MATCH(R$1,StructureInfoFromGPCRdb!$A$1:$U$1,0),FALSE)="","",VLOOKUP($C15,StructureInfoFromGPCRdb!$A:$U,MATCH(R$1,StructureInfoFromGPCRdb!$A$1:$U$1,0),FALSE)) -> Gi/o | S15: =IF(VLOOKUP($C15,StructureInfoFromGPCRdb!$A:$U,MATCH(S$1,StructureInfoFromGPCRdb!$A$1:$U$1,0),FALSE)="","",VLOOKUP($C15,StructureInfoFromGPCRdb!$A:$U,MATCH(S$1,StructureInfoFromGPCRdb!$A$1:$U$1,0),FALSE)) -> αo | T15: =IF(VLOOKUP($C15,StructureInfoFromGPCRdb!$A:$U,MATCH(T$1,StructureInfoFromGPCRdb!$A$1:$U$1,0),FALSE)="","",VLOOKUP($C15,StructureInfoFromGPCRdb!$A:$U,MATCH(T$1,StructureInfoFromGPCRdb!$A$1:$U$1,0),FALSE)) | U15: =IF(VLOOKUP($C15,StructureInfoFromGPCRdb!$A:$U,MATCH(U$1,StructureInfoFromGPCRdb!$A$1:$U$1,0),FALSE)="","",VLOOKUP($C15,StructureInfoFromGPCRdb!$A:$U,MATCH(U$1,StructureInfoFromGPCRdb!$A$1:$U$1,0),FALSE)) -> 59 | V15: =VLOOKUP($C15,StructureInfoFromGPCRdb!$A:$U,MATCH(V$1,StructureInfoFromGPCRdb!$A$1:$U$1,0),FALSE) -> - | W15: =VLOOKUP($C15,StructureInfoFromGPCRdb!$A:$U,MATCH(W$1,StructureInfoFromGPCRdb!$A$1:$U$1,0),FALSE) -> - | X15: =VLOOKUP($C15,StructureInfoFromGPCRdb!$A:$U,MATCH(X$1,StructureInfoFromGPCRdb!$A$1:$U$1,0),FALSE) -> Donitriptan | Y15: =VLOOKUP($C15,StructureInfoFromGPCRdb!$A:$U,MATCH(Y$1,StructureInfoFromGPCRdb!$A$1:$U$1,0),FALSE) -> Agonist | Z15: Yes
A16: =CONCATENATE(D16,H16,I16,O16) -> AReprNoActive | B16: =CONCATENATE(F16,H16,I16,O16) -> 5HT2AReprNoActive | C16: 6WHA | D16: =VLOOKUP($C16,StructureInfoFromGPCRdb!$A:$U,MATCH(D$1,StructureInfoFromGPCRdb!$A$1:$U$1,0),FALSE) -> A | E16: =VLOOKUP($C16,StructureInfoFromGPCRdb!$A:$U,MATCH(E$1,StructureInfoFromGPCRdb!$A$1:$U$1,0),FALSE) -> 5-Hydroxytryptamine | F16: =VLOOKUP($C16,StructureInfoFromGPCRdb!$A:$U,MATCH(F$1,StructureInfoFromGPCRdb!$A$1:$U$1,0),FALSE) -> 5HT2A | G16: =VLOOKUP($C16,StructureInfoFromGPCRdb!$A:$U,MATCH(G$1,StructureInfoFromGPCRdb!$A$1:$U$1,0),FALSE) -> 5-HT2A | H16: Repr | I16: No | J16: =VLOOKUP($C16,StructureInfoFromGPCRdb!$A:$U,MATCH(J$1,StructureInfoFromGPCRdb!$A$1:$U$1,0),FALSE) -> 80 | K16: =VLOOKUP($C16,StructureInfoFromGPCRdb!$A:$U,MATCH(K$1,StructureInfoFromGPCRdb!$A$1:$U$1,0),FALSE) -> Human | L16: =VLOOKUP($C16,StructureInfoFromGPCRdb!$A:$U,MATCH(L$1,StructureInfoFromGPCRdb!$A$1:$U$1,0),FALSE) -> 100 | M16: =VLOOKUP($C16,StructureInfoFromGPCRdb!$A:$U,MATCH(M$1,StructureInfoFromGPCRdb!$A$1:$U$1,0),FALSE) -> cryo-EM | N16: =VLOOKUP($C16,StructureInfoFromGPCRdb!$A:$U,MATCH(N$1,StructureInfoFromGPCRdb!$A$1:$U$1,0),FALSE) -> 3.4 | O16: =VLOOKUP($C16,StructureInfoFromGPCRdb!$A:$U,MATCH(O$1,StructureInfoFromGPCRdb!$A$1:$U$1,0),FALSE) -> Active | P16: =VLOOKUP($C16,StructureInfoFromGPCRdb!$A:$U,MATCH(P$1,StructureInfoFromGPCRdb!$A$1:$U$1,0),FALSE) -> 100 | Q16: =VLOOKUP($C16,StructureInfoFromGPCRdb!$A:$U,MATCH(Q$1,StructureInfoFromGPCRdb!$A$1:$U$1,0),FALSE) -> 74 | R16: =IF(VLOOKUP($C16,StructureInfoFromGPCRdb!$A:$U,MATCH(R$1,StructureInfoFromGPCRdb!$A$1:$U$1,0),FALSE)="","",VLOOKUP($C16,StructureInfoFromGPCRdb!$A:$U,MATCH(R$1,StructureInfoFromGPCRdb!$A$1:$U$1,0),FALSE)) -> Gq/11 | S16: =IF(VLOOKUP($C16,StructureInfoFromGPCRdb!$A:$U,MATCH(S$1,StructureInfoFromGPCRdb!$A$1:$U$1,0),FALSE)="","",VLOOKUP($C16,StructureInfoFromGPCRdb!$A:$U,MATCH(S$1,StructureInfoFromGPCRdb!$A$1:$U$1,0),FALSE)) -> αq | T16: =IF(VLOOKUP($C16,StructureInfoFromGPCRdb!$A:$U,MATCH(T$1,StructureInfoFromGPCRdb!$A$1:$U$1,0),FALSE)="","",VLOOKUP($C16,StructureInfoFromGPCRdb!$A:$U,MATCH(T$1,StructureInfoFromGPCRdb!$A$1:$U$1,0),FALSE)) -> Gq-Gi2 chimera | U16: =IF(VLOOKUP($C16,StructureInfoFromGPCRdb!$A:$U,MATCH(U$1,StructureInfoFromGPCRdb!$A$1:$U$1,0),FALSE)="","",VLOOKUP($C16,StructureInfoFromGPCRdb!$A:$U,MATCH(U$1,StructureInfoFromGPCRdb!$A$1:$U$1,0),FALSE)) -> 59 | V16: =VLOOKUP($C16,StructureInfoFromGPCRdb!$A:$U,MATCH(V$1,StructureInfoFromGPCRdb!$A$1:$U$1,0),FALSE) -> BRIL | W16: =VLOOKUP($C16,StructureInfoFromGPCRdb!$A:$U,MATCH(W$1,StructureInfoFromGPCRdb!$A$1:$U$1,0),FALSE) -> scFv16 | X16: =VLOOKUP($C16,StructureInfoFromGPCRdb!$A:$U,MATCH(X$1,StructureInfoFromGPCRdb!$A$1:$U$1,0),FALSE) -> 25-CN-NBOH | Y16: =VLOOKUP($C16,StructureInfoFromGPCRdb!$A:$U,MATCH(Y$1,StructureInfoFromGPCRdb!$A$1:$U$1,0),FALSE) -> Agonist | Z16: Yes | AA16: Misses H8.
A17: =CONCATENATE(D17,H17,I17,O17) -> AReprNoActive | B17: =CONCATENATE(F17,H17,I17,O17) -> 5HT2CReprNoActive | C17: 6BQG | D17: =VLOOKUP($C17,StructureInfoFromGPCRdb!$A:$U,MATCH(D$1,StructureInfoFromGPCRdb!$A$1:$U$1,0),FALSE) -> A | E17: =VLOOKUP($C17,StructureInfoFromGPCRdb!$A:$U,MATCH(E$1,StructureInfoFromGPCRdb!$A$1:$U$1,0),FALSE) -> 5-Hydroxytryptamine | F17: =VLOOKUP($C17,StructureInfoFromGPCRdb!$A:$U,MATCH(F$1,StructureInfoFromGPCRdb!$A$1:$U$1,0),FALSE) -> 5HT2C | G17: =VLOOKUP($C17,StructureInfoFromGPCRdb!$A:$U,MATCH(G$1,StructureInfoFromGPCRdb!$A$1:$U$1,0),FALSE) -> 5-HT2C | H17: Repr | I17: No | J17: =VLOOKUP($C17,StructureInfoFromGPCRdb!$A:$U,MATCH(J$1,StructureInfoFromGPCRdb!$A$1:$U$1,0),FALSE) -> 92 | K17: =VLOOKUP($C17,StructureInfoFromGPCRdb!$A:$U,MATCH(K$1,StructureInfoFromGPCRdb!$A$1:$U$1,0),FALSE) -> Human | L17: =VLOOKUP($C17,StructureInfoFromGPCRdb!$A:$U,MATCH(L$1,StructureInfoFromGPCRdb!$A$1:$U$1,0),FALSE) -> 100 | M17: =VLOOKUP($C17,StructureInfoFromGPCRdb!$A:$U,MATCH(M$1,StructureInfoFromGPCRdb!$A$1:$U$1,0),FALSE) -> X-ray | N17: =VLOOKUP($C17,StructureInfoFromGPCRdb!$A:$U,MATCH(N$1,StructureInfoFromGPCRdb!$A$1:$U$1,0),FALSE) -> 3 | O17: =VLOOKUP($C17,StructureInfoFromGPCRdb!$A:$U,MATCH(O$1,StructureInfoFromGPCRdb!$A$1:$U$1,0),FALSE) -> Active | P17: =VLOOKUP($C17,StructureInfoFromGPCRdb!$A:$U,MATCH(P$1,StructureInfoFromGPCRdb!$A$1:$U$1,0),FALSE) -> 86 | Q17: =VLOOKUP($C17,StructureInfoFromGPCRdb!$A:$U,MATCH(Q$1,StructureInfoFromGPCRdb!$A$1:$U$1,0),FALSE) -> 64 | R17: =IF(VLOOKUP($C17,StructureInfoFromGPCRdb!$A:$U,MATCH(R$1,StructureInfoFromGPCRdb!$A$1:$U$1,0),FALSE)="","",VLOOKUP($C17,StructureInfoFromGPCRdb!$A:$U,MATCH(R$1,StructureInfoFromGPCRdb!$A$1:$U$1,0),FALSE)) | S17: =IF(VLOOKUP($C17,StructureInfoFromGPCRdb!$A:$U,MATCH(S$1,StructureInfoFromGPCRdb!$A$1:$U$1,0),FALSE)="","",VLOOKUP($C17,StructureInfoFromGPCRdb!$A:$U,MATCH(S$1,StructureInfoFromGPCRdb!$A$1:$U$1,0),FALSE)) | T17: =IF(VLOOKUP($C17,StructureInfoFromGPCRdb!$A:$U,MATCH(T$1,StructureInfoFromGPCRdb!$A$1:$U$1,0),FALSE)="","",VLOOKUP($C17,StructureInfoFromGPCRdb!$A:$U,MATCH(T$1,StructureInfoFromGPCRdb!$A$1:$U$1,0),FALSE)) | U17: =IF(VLOOKUP($C17,StructureInfoFromGPCRdb!$A:$U,MATCH(U$1,StructureInfoFromGPCRdb!$A$1:$U$1,0),FALSE)="","",VLOOKUP($C17,StructureInfoFromGPCRdb!$A:$U,MATCH(U$1,StructureInfoFromGPCRdb!$A$1:$U$1,0),FALSE)) | V17: =VLOOKUP($C17,StructureInfoFromGPCRdb!$A:$U,MATCH(V$1,StructureInfoFromGPCRdb!$A$1:$U$1,0),FALSE) -> BRIL | W17: =VLOOKUP($C17,StructureInfoFromGPCRdb!$A:$U,MATCH(W$1,StructureInfoFromGPCRdb!$A$1:$U$1,0),FALSE) -> - | X17: =VLOOKUP($C17,StructureInfoFromGPCRdb!$A:$U,MATCH(X$1,StructureInfoFromGPCRdb!$A$1:$U$1,0),FALSE) -> Ergotamine | Y17: =VLOOKUP($C17,StructureInfoFromGPCRdb!$A:$U,MATCH(Y$1,StructureInfoFromGPCRdb!$A$1:$U$1,0),FALSE) -> Agonist | Z17: Yes | AA17: Not G protein bound but forced into an active-like conformation by BRIL.
A18: =CONCATENATE(D18,H18,I18,O18) -> AReprNoActive | B18: =CONCATENATE(F18,H18,I18,O18) -> GPR52ReprNoActive | C18: 6LI3 | D18: =VLOOKUP($C18,StructureInfoFromGPCRdb!$A:$U,MATCH(D$1,StructureInfoFromGPCRdb!$A$1:$U$1,0),FALSE) -> A | E18: =VLOOKUP($C18,StructureInfoFromGPCRdb!$A:$U,MATCH(E$1,StructureInfoFromGPCRdb!$A$1:$U$1,0),FALSE) -> A orphans | F18: =VLOOKUP($C18,StructureInfoFromGPCRdb!$A:$U,MATCH(F$1,StructureInfoFromGPCRdb!$A$1:$U$1,0),FALSE) -> GPR52 | G18: =VLOOKUP($C18,StructureInfoFromGPCRdb!$A:$U,MATCH(G$1,StructureInfoFromGPCRdb!$A$1:$U$1,0),FALSE) -> GPR52 | H18: Repr | I18: No | J18: =VLOOKUP($C18,StructureInfoFromGPCRdb!$A:$U,MATCH(J$1,StructureInfoFromGPCRdb!$A$1:$U$1,0),FALSE) -> 92 | K18: =VLOOKUP($C18,StructureInfoFromGPCRdb!$A:$U,MATCH(K$1,StructureInfoFromGPCRdb!$A$1:$U$1,0),FALSE) -> Human | L18: =VLOOKUP($C18,StructureInfoFromGPCRdb!$A:$U,MATCH(L$1,StructureInfoFromGPCRdb!$A$1:$U$1,0),FALSE) -> 100 | M18: =VLOOKUP($C18,StructureInfoFromGPCRdb!$A:$U,MATCH(M$1,StructureInfoFromGPCRdb!$A$1:$U$1,0),FALSE) -> cryo-EM | N18: =VLOOKUP($C18,StructureInfoFromGPCRdb!$A:$U,MATCH(N$1,StructureInfoFromGPCRdb!$A$1:$U$1,0),FALSE) -> 3.3 | O18: =VLOOKUP($C18,StructureInfoFromGPCRdb!$A:$U,MATCH(O$1,StructureInfoFromGPCRdb!$A$1:$U$1,0),FALSE) -> Active | P18: =VLOOKUP($C18,StructureInfoFromGPCRdb!$A:$U,MATCH(P$1,StructureInfoFromGPCRdb!$A$1:$U$1,0),FALSE) -> 100 | Q18: =VLOOKUP($C18,StructureInfoFromGPCRdb!$A:$U,MATCH(Q$1,StructureInfoFromGPCRdb!$A$1:$U$1,0),FALSE) -> 61 | R18: =IF(VLOOKUP($C18,StructureInfoFromGPCRdb!$A:$U,MATCH(R$1,StructureInfoFromGPCRdb!$A$1:$U$1,0),FALSE)="","",VLOOKUP($C18,StructureInfoFromGPCRdb!$A:$U,MATCH(R$1,StructureInfoFromGPCRdb!$A$1:$U$1,0),FALSE)) -> Gs | S18: =IF(VLOOKUP($C18,StructureInfoFromGPCRdb!$A:$U,MATCH(S$1,StructureInfoFromGPCRdb!$A$1:$U$1,0),FALSE)="","",VLOOKUP($C18,StructureInfoFromGPCRdb!$A:$U,MATCH(S$1,StructureInfoFromGPCRdb!$A$1:$U$1,0),FALSE)) -> αs | T18: =IF(VLOOKUP($C18,StructureInfoFromGPCRdb!$A:$U,MATCH(T$1,StructureInfoFromGPCRdb!$A$1:$U$1,0),FALSE)="","",VLOOKUP($C18,StructureInfoFromGPCRdb!$A:$U,MATCH(T$1,StructureInfoFromGPCRdb!$A$1:$U$1,0),FALSE)) -> Mini-Gs | U18: =IF(VLOOKUP($C18,StructureInfoFromGPCRdb!$A:$U,MATCH(U$1,StructureInfoFromGPCRdb!$A$1:$U$1,0),FALSE)="","",VLOOKUP($C18,StructureInfoFromGPCRdb!$A:$U,MATCH(U$1,StructureInfoFromGPCRdb!$A$1:$U$1,0),FALSE)) -> 61 | V18: =VLOOKUP($C18,StructureInfoFromGPCRdb!$A:$U,MATCH(V$1,StructureInfoFromGPCRdb!$A$1:$U$1,0),FALSE) -> - | W18: =VLOOKUP($C18,StructureInfoFromGPCRdb!$A:$U,MATCH(W$1,StructureInfoFromGPCRdb!$A$1:$U$1,0),FALSE) -> Nanobody-35 | X18: =VLOOKUP($C18,StructureInfoFromGPCRdb!$A:$U,MATCH(X$1,StructureInfoFromGPCRdb!$A$1:$U$1,0),FALSE) -> Apo (no ligand) | Y18: =VLOOKUP($C18,StructureInfoFromGPCRdb!$A:$U,MATCH(Y$1,StructureInfoFromGPCRdb!$A$1:$U$1,0),FALSE) -> Apo (no ligand) | Z18: No
A19: =CONCATENATE(D19,H19,I19,O19) -> AReprNoActive | B19: =CONCATENATE(F19,H19,I19,O19) -> ADRB1ReprNoActive | C19: 7JJO | D19: =VLOOKUP($C19,StructureInfoFromGPCRdb!$A:$U,MATCH(D$1,StructureInfoFromGPCRdb!$A$1:$U$1,0),FALSE) -> A | E19: =VLOOKUP($C19,StructureInfoFromGPCRdb!$A:$U,MATCH(E$1,StructureInfoFromGPCRdb!$A$1:$U$1,0),FALSE) -> Adrenoceptors | F19: =VLOOKUP($C19,StructureInfoFromGPCRdb!$A:$U,MATCH(F$1,StructureInfoFromGPCRdb!$A$1:$U$1,0),FALSE) -> ADRB1 | G19: =VLOOKUP($C19,StructureInfoFromGPCRdb!$A:$U,MATCH(G$1,StructureInfoFromGPCRdb!$A$1:$U$1,0),FALSE) -> β1 | H19: Repr | I19: No | J19: =VLOOKUP($C19,StructureInfoFromGPCRdb!$A:$U,MATCH(J$1,StructureInfoFromGPCRdb!$A$1:$U$1,0),FALSE) -> 92 | K19: =VLOOKUP($C19,StructureInfoFromGPCRdb!$A:$U,MATCH(K$1,StructureInfoFromGPCRdb!$A$1:$U$1,0),FALSE) -> Wild turkey | L19: =VLOOKUP($C19,StructureInfoFromGPCRdb!$A:$U,MATCH(L$1,StructureInfoFromGPCRdb!$A$1:$U$1,0),FALSE) -> 80 | M19: =VLOOKUP($C19,StructureInfoFromGPCRdb!$A:$U,MATCH(M$1,StructureInfoFromGPCRdb!$A$1:$U$1,0),FALSE) -> cryo-EM | N19: =VLOOKUP($C19,StructureInfoFromGPCRdb!$A:$U,MATCH(N$1,StructureInfoFromGPCRdb!$A$1:$U$1,0),FALSE) -> 2.6 | O19: =VLOOKUP($C19,StructureInfoFromGPCRdb!$A:$U,MATCH(O$1,StructureInfoFromGPCRdb!$A$1:$U$1,0),FALSE) -> Active | P19: =VLOOKUP($C19,StructureInfoFromGPCRdb!$A:$U,MATCH(P$1,StructureInfoFromGPCRdb!$A$1:$U$1,0),FALSE) -> 100 | Q19: =VLOOKUP($C19,StructureInfoFromGPCRdb!$A:$U,MATCH(Q$1,StructureInfoFromGPCRdb!$A$1:$U$1,0),FALSE) -> 75 | R19: =IF(VLOOKUP($C19,StructureInfoFromGPCRdb!$A:$U,MATCH(R$1,StructureInfoFromGPCRdb!$A$1:$U$1,0),FALSE)="","",VLOOKUP($C19,StructureInfoFromGPCRdb!$A:$U,MATCH(R$1,StructureInfoFromGPCRdb!$A$1:$U$1,0),FALSE)) -> Gs | S19: =IF(VLOOKUP($C19,StructureInfoFromGPCRdb!$A:$U,MATCH(S$1,StructureInfoFromGPCRdb!$A$1:$U$1,0),FALSE)="","",VLOOKUP($C19,StructureInfoFromGPCRdb!$A:$U,MATCH(S$1,StructureInfoFromGPCRdb!$A$1:$U$1,0),FALSE)) -> αs | T19: =IF(VLOOKUP($C19,StructureInfoFromGPCRdb!$A:$U,MATCH(T$1,StructureInfoFromGPCRdb!$A$1:$U$1,0),FALSE)="","",VLOOKUP($C19,StructureInfoFromGPCRdb!$A:$U,MATCH(T$1,StructureInfoFromGPCRdb!$A$1:$U$1,0),FALSE)) | U19: =IF(VLOOKUP($C19,StructureInfoFromGPCRdb!$A:$U,MATCH(U$1,StructureInfoFromGPCRdb!$A$1:$U$1,0),FALSE)="","",VLOOKUP($C19,StructureInfoFromGPCRdb!$A:$U,MATCH(U$1,StructureInfoFromGPCRdb!$A$1:$U$1,0),FALSE)) -> 51 | V19: =VLOOKUP($C19,StructureInfoFromGPCRdb!$A:$U,MATCH(V$1,StructureInfoFromGPCRdb!$A$1:$U$1,0),FALSE) -> - | W19: =VLOOKUP($C19,StructureInfoFromGPCRdb!$A:$U,MATCH(W$1,StructureInfoFromGPCRdb!$A$1:$U$1,0),FALSE) -> Nanobody-35 | X19: =VLOOKUP($C19,StructureInfoFromGPCRdb!$A:$U,MATCH(X$1,StructureInfoFromGPCRdb!$A$1:$U$1,0),FALSE) -> Isoprenaline | Y19: =VLOOKUP($C19,StructureInfoFromGPCRdb!$A:$U,MATCH(Y$1,StructureInfoFromGPCRdb!$A$1:$U$1,0),FALSE) -> Agonist | Z19: Yes
A20: =CONCATENATE(D20,H20,I20,O20) -> AReprNoActive | B20: =CONCATENATE(F20,H20,I20,O20) -> AGTR1ReprNoActive | C20: 6OS0 | D20: =VLOOKUP($C20,StructureInfoFromGPCRdb!$A:$U,MATCH(D$1,StructureInfoFromGPCRdb!$A$1:$U$1,0),FALSE) -> A | E20: =VLOOKUP($C20,StructureInfoFromGPCRdb!$A:$U,MATCH(E$1,StructureInfoFromGPCRdb!$A$1:$U$1,0),FALSE) -> Angiotensin | F20: =VLOOKUP($C20,StructureInfoFromGPCRdb!$A:$U,MATCH(F$1,StructureInfoFromGPCRdb!$A$1:$U$1,0),FALSE) -> AGTR1 | G20: =VLOOKUP($C20,StructureInfoFromGPCRdb!$A:$U,MATCH(G$1,StructureInfoFromGPCRdb!$A$1:$U$1,0),FALSE) -> AT1 | H20: Repr | I20: No | J20: =VLOOKUP($C20,StructureInfoFromGPCRdb!$A:$U,MATCH(J$1,StructureInfoFromGPCRdb!$A$1:$U$1,0),FALSE) -> 92 | K20: =VLOOKUP($C20,StructureInfoFromGPCRdb!$A:$U,MATCH(K$1,StructureInfoFromGPCRdb!$A$1:$U$1,0),FALSE) -> Human | L20: =VLOOKUP($C20,StructureInfoFromGPCRdb!$A:$U,MATCH(L$1,StructureInfoFromGPCRdb!$A$1:$U$1,0),FALSE) -> 100 | M20: =VLOOKUP($C20,StructureInfoFromGPCRdb!$A:$U,MATCH(M$1,StructureInfoFromGPCRdb!$A$1:$U$1,0),FALSE) -> X-ray | N20: =VLOOKUP($C20,StructureInfoFromGPCRdb!$A:$U,MATCH(N$1,StructureInfoFromGPCRdb!$A$1:$U$1,0),FALSE) -> 2.9 | O20: =VLOOKUP($C20,StructureInfoFromGPCRdb!$A:$U,MATCH(O$1,StructureInfoFromGPCRdb!$A$1:$U$1,0),FALSE) -> Active | P20: =VLOOKUP($C20,StructureInfoFromGPCRdb!$A:$U,MATCH(P$1,StructureInfoFromGPCRdb!$A$1:$U$1,0),FALSE) -> 90 | Q20: =VLOOKUP($C20,StructureInfoFromGPCRdb!$A:$U,MATCH(Q$1,StructureInfoFromGPCRdb!$A$1:$U$1,0),FALSE) -> 77 | R20: =IF(VLOOKUP($C20,StructureInfoFromGPCRdb!$A:$U,MATCH(R$1,StructureInfoFromGPCRdb!$A$1:$U$1,0),FALSE)="","",VLOOKUP($C20,StructureInfoFromGPCRdb!$A:$U,MATCH(R$1,StructureInfoFromGPCRdb!$A$1:$U$1,0),FALSE)) | S20: =IF(VLOOKUP($C20,StructureInfoFromGPCRdb!$A:$U,MATCH(S$1,StructureInfoFromGPCRdb!$A$1:$U$1,0),FALSE)="","",VLOOKUP($C20,StructureInfoFromGPCRdb!$A:$U,MATCH(S$1,StructureInfoFromGPCRdb!$A$1:$U$1,0),FALSE)) | T20: =IF(VLOOKUP($C20,StructureInfoFromGPCRdb!$A:$U,MATCH(T$1,StructureInfoFromGPCRdb!$A$1:$U$1,0),FALSE)="","",VLOOKUP($C20,StructureInfoFromGPCRdb!$A:$U,MATCH(T$1,StructureInfoFromGPCRdb!$A$1:$U$1,0),FALSE)) | U20: =IF(VLOOKUP($C20,StructureInfoFromGPCRdb!$A:$U,MATCH(U$1,StructureInfoFromGPCRdb!$A$1:$U$1,0),FALSE)="","",VLOOKUP($C20,StructureInfoFromGPCRdb!$A:$U,MATCH(U$1,StructureInfoFromGPCRdb!$A$1:$U$1,0),FALSE)) | V20: =VLOOKUP($C20,StructureInfoFromGPCRdb!$A:$U,MATCH(V$1,StructureInfoFromGPCRdb!$A$1:$U$1,0),FALSE) -> BRIL | W20: =VLOOKUP($C20,StructureInfoFromGPCRdb!$A:$U,MATCH(W$1,StructureInfoFromGPCRdb!$A$1:$U$1,0),FALSE) -> Nanobody Nb.AT110i1 | X20: =VLOOKUP($C20,StructureInfoFromGPCRdb!$A:$U,MATCH(X$1,StructureInfoFromGPCRdb!$A$1:$U$1,0),FALSE) -> Angiotensinogen | Y20: =VLOOKUP($C20,StructureInfoFromGPCRdb!$A:$U,MATCH(Y$1,StructureInfoFromGPCRdb!$A$1:$U$1,0),FALSE) -> Agonist | Z20: Yes
A21: =CONCATENATE(D21,H21,I21,O21) -> AReprNoActive | B21: =CONCATENATE(F21,H21,I21,O21) -> AGTR1ReprNoActive | C21: 6DO1 | D21: =VLOOKUP($C21,StructureInfoFromGPCRdb!$A:$U,MATCH(D$1,StructureInfoFromGPCRdb!$A$1:$U$1,0),FALSE) -> A | E21: =VLOOKUP($C21,StructureInfoFromGPCRdb!$A:$U,MATCH(E$1,StructureInfoFromGPCRdb!$A$1:$U$1,0),FALSE) -> Angiotensin | F21: =VLOOKUP($C21,StructureInfoFromGPCRdb!$A:$U,MATCH(F$1,StructureInfoFromGPCRdb!$A$1:$U$1,0),FALSE) -> AGTR1 | G21: =VLOOKUP($C21,StructureInfoFromGPCRdb!$A:$U,MATCH(G$1,StructureInfoFromGPCRdb!$A$1:$U$1,0),FALSE) -> AT1 | H21: Repr | I21: No | J21: =VLOOKUP($C21,StructureInfoFromGPCRdb!$A:$U,MATCH(J$1,StructureInfoFromGPCRdb!$A$1:$U$1,0),FALSE) -> 94 | K21: =VLOOKUP($C21,StructureInfoFromGPCRdb!$A:$U,MATCH(K$1,StructureInfoFromGPCRdb!$A$1:$U$1,0),FALSE) -> Human | L21: =VLOOKUP($C21,StructureInfoFromGPCRdb!$A:$U,MATCH(L$1,StructureInfoFromGPCRdb!$A$1:$U$1,0),FALSE) -> 100 | M21: =VLOOKUP($C21,StructureInfoFromGPCRdb!$A:$U,MATCH(M$1,StructureInfoFromGPCRdb!$A$1:$U$1,0),FALSE) -> X-ray | N21: =VLOOKUP($C21,StructureInfoFromGPCRdb!$A:$U,MATCH(N$1,StructureInfoFromGPCRdb!$A$1:$U$1,0),FALSE) -> 2.9 | O21: =VLOOKUP($C21,StructureInfoFromGPCRdb!$A:$U,MATCH(O$1,StructureInfoFromGPCRdb!$A$1:$U$1,0),FALSE) -> Active | P21: =VLOOKUP($C21,StructureInfoFromGPCRdb!$A:$U,MATCH(P$1,StructureInfoFromGPCRdb!$A$1:$U$1,0),FALSE) -> 90 | Q21: =VLOOKUP($C21,StructureInfoFromGPCRdb!$A:$U,MATCH(Q$1,StructureInfoFromGPCRdb!$A$1:$U$1,0),FALSE) -> 79 | R21: =IF(VLOOKUP($C21,StructureInfoFromGPCRdb!$A:$U,MATCH(R$1,StructureInfoFromGPCRdb!$A$1:$U$1,0),FALSE)="","",VLOOKUP($C21,StructureInfoFromGPCRdb!$A:$U,MATCH(R$1,StructureInfoFromGPCRdb!$A$1:$U$1,0),FALSE)) | S21: =IF(VLOOKUP($C21,StructureInfoFromGPCRdb!$A:$U,MATCH(S$1,StructureInfoFromGPCRdb!$A$1:$U$1,0),FALSE)="","",VLOOKUP($C21,StructureInfoFromGPCRdb!$A:$U,MATCH(S$1,StructureInfoFromGPCRdb!$A$1:$U$1,0),FALSE)) | T21: =IF(VLOOKUP($C21,StructureInfoFromGPCRdb!$A:$U,MATCH(T$1,StructureInfoFromGPCRdb!$A$1:$U$1,0),FALSE)="","",VLOOKUP($C21,StructureInfoFromGPCRdb!$A:$U,MATCH(T$1,StructureInfoFromGPCRdb!$A$1:$U$1,0),FALSE)) | U21: =IF(VLOOKUP($C21,StructureInfoFromGPCRdb!$A:$U,MATCH(U$1,StructureInfoFromGPCRdb!$A$1:$U$1,0),FALSE)="","",VLOOKUP($C21,StructureInfoFromGPCRdb!$A:$U,MATCH(U$1,StructureInfoFromGPCRdb!$A$1:$U$1,0),FALSE)) | V21: =VLOOKUP($C21,StructureInfoFromGPCRdb!$A:$U,MATCH(V$1,StructureInfoFromGPCRdb!$A$1:$U$1,0),FALSE) -> BRIL | W21: =VLOOKUP($C21,StructureInfoFromGPCRdb!$A:$U,MATCH(W$1,StructureInfoFromGPCRdb!$A$1:$U$1,0),FALSE) -> Nanobody Nb.AT110i1 | X21: =VLOOKUP($C21,StructureInfoFromGPCRdb!$A:$U,MATCH(X$1,StructureInfoFromGPCRdb!$A$1:$U$1,0),FALSE) -> (Sar1,Ile8)-Angioten.. | Y21: =VLOOKUP($C21,StructureInfoFromGPCRdb!$A:$U,MATCH(Y$1,StructureInfoFromGPCRdb!$A$1:$U$1,0),FALSE) -> Agonist | Z21: Yes
A22: =CONCATENATE(D22,H22,I22,O22) -> AReprNoActive | B22: =CONCATENATE(F22,H22,I22,O22) -> AGTR2ReprNoActive | C22: 6JOD | D22: =VLOOKUP($C22,StructureInfoFromGPCRdb!$A:$U,MATCH(D$1,StructureInfoFromGPCRdb!$A$1:$U$1,0),FALSE) -> A | E22: =VLOOKUP($C22,StructureInfoFromGPCRdb!$A:$U,MATCH(E$1,StructureInfoFromGPCRdb!$A$1:$U$1,0),FALSE) -> Angiotensin | F22: =VLOOKUP($C22,StructureInfoFromGPCRdb!$A:$U,MATCH(F$1,StructureInfoFromGPCRdb!$A$1:$U$1,0),FALSE) -> AGTR2 | G22: =VLOOKUP($C22,StructureInfoFromGPCRdb!$A:$U,MATCH(G$1,StructureInfoFromGPCRdb!$A$1:$U$1,0),FALSE) -> AT2 | H22: Repr | I22: No | J22: =VLOOKUP($C22,StructureInfoFromGPCRdb!$A:$U,MATCH(J$1,StructureInfoFromGPCRdb!$A$1:$U$1,0),FALSE) -> 96 | K22: =VLOOKUP($C22,StructureInfoFromGPCRdb!$A:$U,MATCH(K$1,StructureInfoFromGPCRdb!$A$1:$U$1,0),FALSE) -> Human | L22: =VLOOKUP($C22,StructureInfoFromGPCRdb!$A:$U,MATCH(L$1,StructureInfoFromGPCRdb!$A$1:$U$1,0),FALSE) -> 100 | M22: =VLOOKUP($C22,StructureInfoFromGPCRdb!$A:$U,MATCH(M$1,StructureInfoFromGPCRdb!$A$1:$U$1,0),FALSE) -> X-ray | N22: =VLOOKUP($C22,StructureInfoFromGPCRdb!$A:$U,MATCH(N$1,StructureInfoFromGPCRdb!$A$1:$U$1,0),FALSE) -> 3.2 | O22: =VLOOKUP($C22,StructureInfoFromGPCRdb!$A:$U,MATCH(O$1,StructureInfoFromGPCRdb!$A$1:$U$1,0),FALSE) -> Active | P22: =VLOOKUP($C22,StructureInfoFromGPCRdb!$A:$U,MATCH(P$1,StructureInfoFromGPCRdb!$A$1:$U$1,0),FALSE) -> 97 | Q22: =VLOOKUP($C22,StructureInfoFromGPCRdb!$A:$U,MATCH(Q$1,StructureInfoFromGPCRdb!$A$1:$U$1,0),FALSE) -> 54 | R22: =IF(VLOOKUP($C22,StructureInfoFromGPCRdb!$A:$U,MATCH(R$1,StructureInfoFromGPCRdb!$A$1:$U$1,0),FALSE)="","",VLOOKUP($C22,StructureInfoFromGPCRdb!$A:$U,MATCH(R$1,StructureInfoFromGPCRdb!$A$1:$U$1,0),FALSE)) | S22: =IF(VLOOKUP($C22,StructureInfoFromGPCRdb!$A:$U,MATCH(S$1,StructureInfoFromGPCRdb!$A$1:$U$1,0),FALSE)="","",VLOOKUP($C22,StructureInfoFromGPCRdb!$A:$U,MATCH(S$1,StructureInfoFromGPCRdb!$A$1:$U$1,0),FALSE)) | T22: =IF(VLOOKUP($C22,StructureInfoFromGPCRdb!$A:$U,MATCH(T$1,StructureInfoFromGPCRdb!$A$1:$U$1,0),FALSE)="","",VLOOKUP($C22,StructureInfoFromGPCRdb!$A:$U,MATCH(T$1,StructureInfoFromGPCRdb!$A$1:$U$1,0),FALSE)) | U22: =IF(VLOOKUP($C22,StructureInfoFromGPCRdb!$A:$U,MATCH(U$1,StructureInfoFromGPCRdb!$A$1:$U$1,0),FALSE)="","",VLOOKUP($C22,StructureInfoFromGPCRdb!$A:$U,MATCH(U$1,StructureInfoFromGPCRdb!$A$1:$U$1,0),FALSE)) | V22: =VLOOKUP($C22,StructureInfoFromGPCRdb!$A:$U,MATCH(V$1,StructureInfoFromGPCRdb!$A$1:$U$1,0),FALSE) -> BRIL | W22: =VLOOKUP($C22,StructureInfoFromGPCRdb!$A:$U,MATCH(W$1,StructureInfoFromGPCRdb!$A$1:$U$1,0),FALSE) -> Heavy chain of 4A03.. | X22: =VLOOKUP($C22,StructureInfoFromGPCRdb!$A:$U,MATCH(X$1,StructureInfoFromGPCRdb!$A$1:$U$1,0),FALSE) -> angiotensin II | Y22: =VLOOKUP($C22,StructureInfoFromGPCRdb!$A:$U,MATCH(Y$1,StructureInfoFromGPCRdb!$A$1:$U$1,0),FALSE) -> Agonist | Z22: Yes | AA22: Not G protein bound but forced into an active-like conformation by BRIL.
A23: =CONCATENATE(D23,H23,I23,O23) -> AReprNoActive | B23: =CONCATENATE(F23,H23,I23,O23) -> GPBARReprNoActive | C23: 7CFN | D23: =VLOOKUP($C23,StructureInfoFromGPCRdb!$A:$U,MATCH(D$1,StructureInfoFromGPCRdb!$A$1:$U$1,0),FALSE) -> A | E23: =VLOOKUP($C23,StructureInfoFromGPCRdb!$A:$U,MATCH(E$1,StructureInfoFromGPCRdb!$A$1:$U$1,0),FALSE) -> Bile acid | F23: =VLOOKUP($C23,StructureInfoFromGPCRdb!$A:$U,MATCH(F$1,StructureInfoFromGPCRdb!$A$1:$U$1,0),FALSE) -> GPBAR | G23: =VLOOKUP($C23,StructureInfoFromGPCRdb!$A:$U,MATCH(G$1,StructureInfoFromGPCRdb!$A$1:$U$1,0),FALSE) -> GPBA | H23: Repr | I23: No | J23: =VLOOKUP($C23,StructureInfoFromGPCRdb!$A:$U,MATCH(J$1,StructureInfoFromGPCRdb!$A$1:$U$1,0),FALSE) -> 93 | K23: =VLOOKUP($C23,StructureInfoFromGPCRdb!$A:$U,MATCH(K$1,StructureInfoFromGPCRdb!$A$1:$U$1,0),FALSE) -> Human | L23: =VLOOKUP($C23,StructureInfoFromGPCRdb!$A:$U,MATCH(L$1,StructureInfoFromGPCRdb!$A$1:$U$1,0),FALSE) -> 100 | M23: =VLOOKUP($C23,StructureInfoFromGPCRdb!$A:$U,MATCH(M$1,StructureInfoFromGPCRdb!$A$1:$U$1,0),FALSE) -> cryo-EM | N23: =VLOOKUP($C23,StructureInfoFromGPCRdb!$A:$U,MATCH(N$1,StructureInfoFromGPCRdb!$A$1:$U$1,0),FALSE) -> 3 | O23: =VLOOKUP($C23,StructureInfoFromGPCRdb!$A:$U,MATCH(O$1,StructureInfoFromGPCRdb!$A$1:$U$1,0),FALSE) -> Active | P23: =VLOOKUP($C23,StructureInfoFromGPCRdb!$A:$U,MATCH(P$1,StructureInfoFromGPCRdb!$A$1:$U$1,0),FALSE) -> 100 | Q23: =VLOOKUP($C23,StructureInfoFromGPCRdb!$A:$U,MATCH(Q$1,StructureInfoFromGPCRdb!$A$1:$U$1,0),FALSE) -> 95 | R23: =IF(VLOOKUP($C23,StructureInfoFromGPCRdb!$A:$U,MATCH(R$1,StructureInfoFromGPCRdb!$A$1:$U$1,0),FALSE)="","",VLOOKUP($C23,StructureInfoFromGPCRdb!$A:$U,MATCH(R$1,StructureInfoFromGPCRdb!$A$1:$U$1,0),FALSE)) -> Gs | S23: =IF(VLOOKUP($C23,StructureInfoFromGPCRdb!$A:$U,MATCH(S$1,StructureInfoFromGPCRdb!$A$1:$U$1,0),FALSE)="","",VLOOKUP($C23,StructureInfoFromGPCRdb!$A:$U,MATCH(S$1,StructureInfoFromGPCRdb!$A$1:$U$1,0),FALSE)) -> αs | T23: =IF(VLOOKUP($C23,StructureInfoFromGPCRdb!$A:$U,MATCH(T$1,StructureInfoFromGPCRdb!$A$1:$U$1,0),FALSE)="","",VLOOKUP($C23,StructureInfoFromGPCRdb!$A:$U,MATCH(T$1,StructureInfoFromGPCRdb!$A$1:$U$1,0),FALSE)) | U23: =IF(VLOOKUP($C23,StructureInfoFromGPCRdb!$A:$U,MATCH(U$1,StructureInfoFromGPCRdb!$A$1:$U$1,0),FALSE)="","",VLOOKUP($C23,StructureInfoFromGPCRdb!$A:$U,MATCH(U$1,StructureInfoFromGPCRdb!$A$1:$U$1,0),FALSE)) -> 59 | V23: =VLOOKUP($C23,StructureInfoFromGPCRdb!$A:$U,MATCH(V$1,StructureInfoFromGPCRdb!$A$1:$U$1,0),FALSE) -> - | W23: =VLOOKUP($C23,StructureInfoFromGPCRdb!$A:$U,MATCH(W$1,StructureInfoFromGPCRdb!$A$1:$U$1,0),FALSE) -> Nanobody-35 | X23: =VLOOKUP($C23,StructureInfoFromGPCRdb!$A:$U,MATCH(X$1,StructureInfoFromGPCRdb!$A$1:$U$1,0),FALSE) -> INT-777 | Y23: Agonist & PAM | Z23: Yes | AA23: X.50 residue in TM5 shifted by 1 position and by 1 whole turn for TM6 thereby complicating proper comparison to other structures.
A24: =CONCATENATE(D24,H24,I24,O24) -> AReprNoActive | B24: =CONCATENATE(F24,H24,I24,O24) -> DRD2ReprNoActive | C24: 6VMS | D24: =VLOOKUP($C24,StructureInfoFromGPCRdb!$A:$U,MATCH(D$1,StructureInfoFromGPCRdb!$A$1:$U$1,0),FALSE) -> A | E24: =VLOOKUP($C24,StructureInfoFromGPCRdb!$A:$U,MATCH(E$1,StructureInfoFromGPCRdb!$A$1:$U$1,0),FALSE) -> Dopamine | F24: =VLOOKUP($C24,StructureInfoFromGPCRdb!$A:$U,MATCH(F$1,StructureInfoFromGPCRdb!$A$1:$U$1,0),FALSE) -> DRD2 | G24: =VLOOKUP($C24,StructureInfoFromGPCRdb!$A:$U,MATCH(G$1,StructureInfoFromGPCRdb!$A$1:$U$1,0),FALSE) -> D2 | H24: Repr | I24: No | J24: =VLOOKUP($C24,StructureInfoFromGPCRdb!$A:$U,MATCH(J$1,StructureInfoFromGPCRdb!$A$1:$U$1,0),FALSE) -> 90 | K24: =VLOOKUP($C24,StructureInfoFromGPCRdb!$A:$U,MATCH(K$1,StructureInfoFromGPCRdb!$A$1:$U$1,0),FALSE) -> Human | L24: =VLOOKUP($C24,StructureInfoFromGPCRdb!$A:$U,MATCH(L$1,StructureInfoFromGPCRdb!$A$1:$U$1,0),FALSE) -> 100 | M24: =VLOOKUP($C24,StructureInfoFromGPCRdb!$A:$U,MATCH(M$1,StructureInfoFromGPCRdb!$A$1:$U$1,0),FALSE) -> cryo-EM | N24: =VLOOKUP($C24,StructureInfoFromGPCRdb!$A:$U,MATCH(N$1,StructureInfoFromGPCRdb!$A$1:$U$1,0),FALSE) -> 3.8 | O24: =VLOOKUP($C24,StructureInfoFromGPCRdb!$A:$U,MATCH(O$1,StructureInfoFromGPCRdb!$A$1:$U$1,0),FALSE) -> Active | P24: =VLOOKUP($C24,StructureInfoFromGPCRdb!$A:$U,MATCH(P$1,StructureInfoFromGPCRdb!$A$1:$U$1,0),FALSE) -> 100 | Q24: =VLOOKUP($C24,StructureInfoFromGPCRdb!$A:$U,MATCH(Q$1,StructureInfoFromGPCRdb!$A$1:$U$1,0),FALSE) -> 65 | R24: =IF(VLOOKUP($C24,StructureInfoFromGPCRdb!$A:$U,MATCH(R$1,StructureInfoFromGPCRdb!$A$1:$U$1,0),FALSE)="","",VLOOKUP($C24,StructureInfoFromGPCRdb!$A:$U,MATCH(R$1,StructureInfoFromGPCRdb!$A$1:$U$1,0),FALSE)) -> Gi/o | S24: =IF(VLOOKUP($C24,StructureInfoFromGPCRdb!$A:$U,MATCH(S$1,StructureInfoFromGPCRdb!$A$1:$U$1,0),FALSE)="","",VLOOKUP($C24,StructureInfoFromGPCRdb!$A:$U,MATCH(S$1,StructureInfoFromGPCRdb!$A$1:$U$1,0),FALSE)) -> αi1 | T24: =IF(VLOOKUP($C24,StructureInfoFromGPCRdb!$A:$U,MATCH(T$1,StructureInfoFromGPCRdb!$A$1:$U$1,0),FALSE)="","",VLOOKUP($C24,StructureInfoFromGPCRdb!$A:$U,MATCH(T$1,StructureInfoFromGPCRdb!$A$1:$U$1,0),FALSE)) | U24: =IF(VLOOKUP($C24,StructureInfoFromGPCRdb!$A:$U,MATCH(U$1,StructureInfoFromGPCRdb!$A$1:$U$1,0),FALSE)="","",VLOOKUP($C24,StructureInfoFromGPCRdb!$A:$U,MATCH(U$1,StructureInfoFromGPCRdb!$A$1:$U$1,0),FALSE)) -> 64 | V24: =VLOOKUP($C24,StructureInfoFromGPCRdb!$A:$U,MATCH(V$1,StructureInfoFromGPCRdb!$A$1:$U$1,0),FALSE) -> T4-Lysozyme | W24: =VLOOKUP($C24,StructureInfoFromGPCRdb!$A:$U,MATCH(W$1,StructureInfoFromGPCRdb!$A$1:$U$1,0),FALSE) -> scFv16 | X24: =VLOOKUP($C24,StructureInfoFromGPCRdb!$A:$U,MATCH(X$1,StructureInfoFromGPCRdb!$A$1:$U$1,0),FALSE) -> Bromocriptine | Y24: =VLOOKUP($C24,StructureInfoFromGPCRdb!$A:$U,MATCH(Y$1,StructureInfoFromGPCRdb!$A$1:$U$1,0),FALSE) -> Agonist | Z24: Yes | AA24: Class A has many other active receptors with higher resolution.
A25: =CONCATENATE(D25,H25,I25,O25) -> AReprNoActive | B25: =CONCATENATE(F25,H25,I25,O25) -> OPRDReprNoActive | C25: 6PT2 | D25: =VLOOKUP($C25,StructureInfoFromGPCRdb!$A:$U,MATCH(D$1,StructureInfoFromGPCRdb!$A$1:$U$1,0),FALSE) -> A | E25: =VLOOKUP($C25,StructureInfoFromGPCRdb!$A:$U,MATCH(E$1,StructureInfoFromGPCRdb!$A$1:$U$1,0),FALSE) -> Opioid | F25: =VLOOKUP($C25,StructureInfoFromGPCRdb!$A:$U,MATCH(F$1,StructureInfoFromGPCRdb!$A$1:$U$1,0),FALSE) -> OPRD | G25: =VLOOKUP($C25,StructureInfoFromGPCRdb!$A:$U,MATCH(G$1,StructureInfoFromGPCRdb!$A$1:$U$1,0),FALSE) -> δ | H25: Repr | I25: No | J25: =VLOOKUP($C25,StructureInfoFromGPCRdb!$A:$U,MATCH(J$1,StructureInfoFromGPCRdb!$A$1:$U$1,0),FALSE) -> 95 | K25: =VLOOKUP($C25,StructureInfoFromGPCRdb!$A:$U,MATCH(K$1,StructureInfoFromGPCRdb!$A$1:$U$1,0),FALSE) -> Human | L25: =VLOOKUP($C25,StructureInfoFromGPCRdb!$A:$U,MATCH(L$1,StructureInfoFromGPCRdb!$A$1:$U$1,0),FALSE) -> 100 | M25: =VLOOKUP($C25,StructureInfoFromGPCRdb!$A:$U,MATCH(M$1,StructureInfoFromGPCRdb!$A$1:$U$1,0),FALSE) -> X-ray | N25: =VLOOKUP($C25,StructureInfoFromGPCRdb!$A:$U,MATCH(N$1,StructureInfoFromGPCRdb!$A$1:$U$1,0),FALSE) -> 2.8 | O25: =VLOOKUP($C25,StructureInfoFromGPCRdb!$A:$U,MATCH(O$1,StructureInfoFromGPCRdb!$A$1:$U$1,0),FALSE) -> Active | P25: =VLOOKUP($C25,StructureInfoFromGPCRdb!$A:$U,MATCH(P$1,StructureInfoFromGPCRdb!$A$1:$U$1,0),FALSE) -> 79 | Q25: =VLOOKUP($C25,StructureInfoFromGPCRdb!$A:$U,MATCH(Q$1,StructureInfoFromGPCRdb!$A$1:$U$1,0),FALSE) -> 48 | R25: =IF(VLOOKUP($C25,StructureInfoFromGPCRdb!$A:$U,MATCH(R$1,StructureInfoFromGPCRdb!$A$1:$U$1,0),FALSE)="","",VLOOKUP($C25,StructureInfoFromGPCRdb!$A:$U,MATCH(R$1,StructureInfoFromGPCRdb!$A$1:$U$1,0),FALSE)) | S25: =IF(VLOOKUP($C25,StructureInfoFromGPCRdb!$A:$U,MATCH(S$1,StructureInfoFromGPCRdb!$A$1:$U$1,0),FALSE)="","",VLOOKUP($C25,StructureInfoFromGPCRdb!$A:$U,MATCH(S$1,StructureInfoFromGPCRdb!$A$1:$U$1,0),FALSE)) | T25: =IF(VLOOKUP($C25,StructureInfoFromGPCRdb!$A:$U,MATCH(T$1,StructureInfoFromGPCRdb!$A$1:$U$1,0),FALSE)="","",VLOOKUP($C25,StructureInfoFromGPCRdb!$A:$U,MATCH(T$1,StructureInfoFromGPCRdb!$A$1:$U$1,0),FALSE)) | U25: =IF(VLOOKUP($C25,StructureInfoFromGPCRdb!$A:$U,MATCH(U$1,StructureInfoFromGPCRdb!$A$1:$U$1,0),FALSE)="","",VLOOKUP($C25,StructureInfoFromGPCRdb!$A:$U,MATCH(U$1,StructureInfoFromGPCRdb!$A$1:$U$1,0),FALSE)) | V25: =VLOOKUP($C25,StructureInfoFromGPCRdb!$A:$U,MATCH(V$1,StructureInfoFromGPCRdb!$A$1:$U$1,0),FALSE) -> BRIL | W25: =VLOOKUP($C25,StructureInfoFromGPCRdb!$A:$U,MATCH(W$1,StructureInfoFromGPCRdb!$A$1:$U$1,0),FALSE) -> - | X25: =VLOOKUP($C25,StructureInfoFromGPCRdb!$A:$U,MATCH(X$1,StructureInfoFromGPCRdb!$A$1:$U$1,0),FALSE) -> KGCHM07 | Y25: =VLOOKUP($C25,StructureInfoFromGPCRdb!$A:$U,MATCH(Y$1,StructureInfoFromGPCRdb!$A$1:$U$1,0),FALSE) -> Agonist | Z25: Yes
A26: =CONCATENATE(D26,H26,I26,O26) -> AReprNoActive | B26: =CONCATENATE(F26,H26,I26,O26) -> OPRKReprNoActive | C26: 6B73 | D26: =VLOOKUP($C26,StructureInfoFromGPCRdb!$A:$U,MATCH(D$1,StructureInfoFromGPCRdb!$A$1:$U$1,0),FALSE) -> A | E26: =VLOOKUP($C26,StructureInfoFromGPCRdb!$A:$U,MATCH(E$1,StructureInfoFromGPCRdb!$A$1:$U$1,0),FALSE) -> Opioid | F26: =VLOOKUP($C26,StructureInfoFromGPCRdb!$A:$U,MATCH(F$1,StructureInfoFromGPCRdb!$A$1:$U$1,0),FALSE) -> OPRK | G26: =VLOOKUP($C26,StructureInfoFromGPCRdb!$A:$U,MATCH(G$1,StructureInfoFromGPCRdb!$A$1:$U$1,0),FALSE) -> κ | H26: Repr | I26: No | J26: =VLOOKUP($C26,StructureInfoFromGPCRdb!$A:$U,MATCH(J$1,StructureInfoFromGPCRdb!$A$1:$U$1,0),FALSE) -> 90 | K26: =VLOOKUP($C26,StructureInfoFromGPCRdb!$A:$U,MATCH(K$1,StructureInfoFromGPCRdb!$A$1:$U$1,0),FALSE) -> Human | L26: =VLOOKUP($C26,StructureInfoFromGPCRdb!$A:$U,MATCH(L$1,StructureInfoFromGPCRdb!$A$1:$U$1,0),FALSE) -> 100 | M26: =VLOOKUP($C26,StructureInfoFromGPCRdb!$A:$U,MATCH(M$1,StructureInfoFromGPCRdb!$A$1:$U$1,0),FALSE) -> X-ray | N26: =VLOOKUP($C26,StructureInfoFromGPCRdb!$A:$U,MATCH(N$1,StructureInfoFromGPCRdb!$A$1:$U$1,0),FALSE) -> 3.1 | O26: =VLOOKUP($C26,StructureInfoFromGPCRdb!$A:$U,MATCH(O$1,StructureInfoFromGPCRdb!$A$1:$U$1,0),FALSE) -> Active | P26: =VLOOKUP($C26,StructureInfoFromGPCRdb!$A:$U,MATCH(P$1,StructureInfoFromGPCRdb!$A$1:$U$1,0),FALSE) -> 97 | Q26: =VLOOKUP($C26,StructureInfoFromGPCRdb!$A:$U,MATCH(Q$1,StructureInfoFromGPCRdb!$A$1:$U$1,0),FALSE) -> 63 | R26: =IF(VLOOKUP($C26,StructureInfoFromGPCRdb!$A:$U,MATCH(R$1,StructureInfoFromGPCRdb!$A$1:$U$1,0),FALSE)="","",VLOOKUP($C26,StructureInfoFromGPCRdb!$A:$U,MATCH(R$1,StructureInfoFromGPCRdb!$A$1:$U$1,0),FALSE)) | S26: =IF(VLOOKUP($C26,StructureInfoFromGPCRdb!$A:$U,MATCH(S$1,StructureInfoFromGPCRdb!$A$1:$U$1,0),FALSE)="","",VLOOKUP($C26,StructureInfoFromGPCRdb!$A:$U,MATCH(S$1,StructureInfoFromGPCRdb!$A$1:$U$1,0),FALSE)) | T26: =IF(VLOOKUP($C26,StructureInfoFromGPCRdb!$A:$U,MATCH(T$1,StructureInfoFromGPCRdb!$A$1:$U$1,0),FALSE)="","",VLOOKUP($C26,StructureInfoFromGPCRdb!$A:$U,MATCH(T$1,StructureInfoFromGPCRdb!$A$1:$U$1,0),FALSE)) | U26: =IF(VLOOKUP($C26,StructureInfoFromGPCRdb!$A:$U,MATCH(U$1,StructureInfoFromGPCRdb!$A$1:$U$1,0),FALSE)="","",VLOOKUP($C26,StructureInfoFromGPCRdb!$A:$U,MATCH(U$1,StructureInfoFromGPCRdb!$A$1:$U$1,0),FALSE)) | V26: =VLOOKUP($C26,StructureInfoFromGPCRdb!$A:$U,MATCH(V$1,StructureInfoFromGPCRdb!$A$1:$U$1,0),FALSE) -> BRIL | W26: =VLOOKUP($C26,StructureInfoFromGPCRdb!$A:$U,MATCH(W$1,StructureInfoFromGPCRdb!$A$1:$U$1,0),FALSE) -> Nanobody | X26: =VLOOKUP($C26,StructureInfoFromGPCRdb!$A:$U,MATCH(X$1,StructureInfoFromGPCRdb!$A$1:$U$1,0),FALSE) -> MP1104 | Y26: =VLOOKUP($C26,StructureInfoFromGPCRdb!$A:$U,MATCH(Y$1,StructureInfoFromGPCRdb!$A$1:$U$1,0),FALSE) -> Agonist | Z26: Yes | AA26: Not G protein bound but forced into an active-like conformation by BRIL.
A27: =CONCATENATE(D27,H27,I27,O27) -> AReprNoActive | B27: =CONCATENATE(F27,H27,I27,O27) -> OPSDReprNoActive | C27: 5W0P | D27: =VLOOKUP($C27,StructureInfoFromGPCRdb!$A:$U,MATCH(D$1,StructureInfoFromGPCRdb!$A$1:$U$1,0),FALSE) -> A | E27: =VLOOKUP($C27,StructureInfoFromGPCRdb!$A:$U,MATCH(E$1,StructureInfoFromGPCRdb!$A$1:$U$1,0),FALSE) -> Opsins | F27: =VLOOKUP($C27,StructureInfoFromGPCRdb!$A:$U,MATCH(F$1,StructureInfoFromGPCRdb!$A$1:$U$1,0),FALSE) -> OPSD | G27: =VLOOKUP($C27,StructureInfoFromGPCRdb!$A:$U,MATCH(G$1,StructureInfoFromGPCRdb!$A$1:$U$1,0),FALSE) -> Rhodopsin | H27: Repr | I27: No | J27: =VLOOKUP($C27,StructureInfoFromGPCRdb!$A:$U,MATCH(J$1,StructureInfoFromGPCRdb!$A$1:$U$1,0),FALSE) -> 99 | K27: =VLOOKUP($C27,StructureInfoFromGPCRdb!$A:$U,MATCH(K$1,StructureInfoFromGPCRdb!$A$1:$U$1,0),FALSE) -> Human | L27: =VLOOKUP($C27,StructureInfoFromGPCRdb!$A:$U,MATCH(L$1,StructureInfoFromGPCRdb!$A$1:$U$1,0),FALSE) -> 100 | M27: =VLOOKUP($C27,StructureInfoFromGPCRdb!$A:$U,MATCH(M$1,StructureInfoFromGPCRdb!$A$1:$U$1,0),FALSE) -> X-ray | N27: =VLOOKUP($C27,StructureInfoFromGPCRdb!$A:$U,MATCH(N$1,StructureInfoFromGPCRdb!$A$1:$U$1,0),FALSE) -> 3 | O27: =VLOOKUP($C27,StructureInfoFromGPCRdb!$A:$U,MATCH(O$1,StructureInfoFromGPCRdb!$A$1:$U$1,0),FALSE) -> Active | P27: =VLOOKUP($C27,StructureInfoFromGPCRdb!$A:$U,MATCH(P$1,StructureInfoFromGPCRdb!$A$1:$U$1,0),FALSE) -> 97 | Q27: =VLOOKUP($C27,StructureInfoFromGPCRdb!$A:$U,MATCH(Q$1,StructureInfoFromGPCRdb!$A$1:$U$1,0),FALSE) -> 66 | R27: =IF(VLOOKUP($C27,StructureInfoFromGPCRdb!$A:$U,MATCH(R$1,StructureInfoFromGPCRdb!$A$1:$U$1,0),FALSE)="","",VLOOKUP($C27,StructureInfoFromGPCRdb!$A:$U,MATCH(R$1,StructureInfoFromGPCRdb!$A$1:$U$1,0),FALSE)) -> Arrestin | S27: =IF(VLOOKUP($C27,StructureInfoFromGPCRdb!$A:$U,MATCH(S$1,StructureInfoFromGPCRdb!$A$1:$U$1,0),FALSE)="","",VLOOKUP($C27,StructureInfoFromGPCRdb!$A:$U,MATCH(S$1,StructureInfoFromGPCRdb!$A$1:$U$1,0),FALSE)) -> S-arrestin | T27: =IF(VLOOKUP($C27,StructureInfoFromGPCRdb!$A:$U,MATCH(T$1,StructureInfoFromGPCRdb!$A$1:$U$1,0),FALSE)="","",VLOOKUP($C27,StructureInfoFromGPCRdb!$A:$U,MATCH(T$1,StructureInfoFromGPCRdb!$A$1:$U$1,0),FALSE)) | U27: =IF(VLOOKUP($C27,StructureInfoFromGPCRdb!$A:$U,MATCH(U$1,StructureInfoFromGPCRdb!$A$1:$U$1,0),FALSE)="","",VLOOKUP($C27,StructureInfoFromGPCRdb!$A:$U,MATCH(U$1,StructureInfoFromGPCRdb!$A$1:$U$1,0),FALSE)) -> 87 | V27: =VLOOKUP($C27,StructureInfoFromGPCRdb!$A:$U,MATCH(V$1,StructureInfoFromGPCRdb!$A$1:$U$1,0),FALSE) -> T4-Lysozyme | W27: =VLOOKUP($C27,StructureInfoFromGPCRdb!$A:$U,MATCH(W$1,StructureInfoFromGPCRdb!$A$1:$U$1,0),FALSE) -> - | X27: =VLOOKUP($C27,StructureInfoFromGPCRdb!$A:$U,MATCH(X$1,StructureInfoFromGPCRdb!$A$1:$U$1,0),FALSE) -> Apo (no ligand) | Y27: =VLOOKUP($C27,StructureInfoFromGPCRdb!$A:$U,MATCH(Y$1,StructureInfoFromGPCRdb!$A$1:$U$1,0),FALSE) -> Apo (no ligand) | Z27: No | AA27: Rhodopsin is not used, as it has an atypical activation in which the ligand is covalently bound and changes conformation upon capturing a photon of light.
A28: =CONCATENATE(D28,H28,I28,O28) -> AReprNoActive | B28: =CONCATENATE(F28,H28,I28,O28) -> PE2R3ReprNoActive | C28: 6M9T | D28: =VLOOKUP($C28,StructureInfoFromGPCRdb!$A:$U,MATCH(D$1,StructureInfoFromGPCRdb!$A$1:$U$1,0),FALSE) -> A | E28: =VLOOKUP($C28,StructureInfoFromGPCRdb!$A:$U,MATCH(E$1,StructureInfoFromGPCRdb!$A$1:$U$1,0),FALSE) -> Prostanoid | F28: =VLOOKUP($C28,StructureInfoFromGPCRdb!$A:$U,MATCH(F$1,StructureInfoFromGPCRdb!$A$1:$U$1,0),FALSE) -> PE2R3 | G28: =VLOOKUP($C28,StructureInfoFromGPCRdb!$A:$U,MATCH(G$1,StructureInfoFromGPCRdb!$A$1:$U$1,0),FALSE) -> EP3 | H28: Repr | I28: No | J28: =VLOOKUP($C28,StructureInfoFromGPCRdb!$A:$U,MATCH(J$1,StructureInfoFromGPCRdb!$A$1:$U$1,0),FALSE) -> 85 | K28: =VLOOKUP($C28,StructureInfoFromGPCRdb!$A:$U,MATCH(K$1,StructureInfoFromGPCRdb!$A$1:$U$1,0),FALSE) -> Human | L28: =VLOOKUP($C28,StructureInfoFromGPCRdb!$A:$U,MATCH(L$1,StructureInfoFromGPCRdb!$A$1:$U$1,0),FALSE) -> 100 | M28: =VLOOKUP($C28,StructureInfoFromGPCRdb!$A:$U,MATCH(M$1,StructureInfoFromGPCRdb!$A$1:$U$1,0),FALSE) -> X-ray | N28: =VLOOKUP($C28,StructureInfoFromGPCRdb!$A:$U,MATCH(N$1,StructureInfoFromGPCRdb!$A$1:$U$1,0),FALSE) -> 2.5 | O28: =VLOOKUP($C28,StructureInfoFromGPCRdb!$A:$U,MATCH(O$1,StructureInfoFromGPCRdb!$A$1:$U$1,0),FALSE) -> Active | P28: =VLOOKUP($C28,StructureInfoFromGPCRdb!$A:$U,MATCH(P$1,StructureInfoFromGPCRdb!$A$1:$U$1,0),FALSE) -> 96 | Q28: =VLOOKUP($C28,StructureInfoFromGPCRdb!$A:$U,MATCH(Q$1,StructureInfoFromGPCRdb!$A$1:$U$1,0),FALSE) -> 51 | R28: =IF(VLOOKUP($C28,StructureInfoFromGPCRdb!$A:$U,MATCH(R$1,StructureInfoFromGPCRdb!$A$1:$U$1,0),FALSE)="","",VLOOKUP($C28,StructureInfoFromGPCRdb!$A:$U,MATCH(R$1,StructureInfoFromGPCRdb!$A$1:$U$1,0),FALSE)) | S28: =IF(VLOOKUP($C28,StructureInfoFromGPCRdb!$A:$U,MATCH(S$1,StructureInfoFromGPCRdb!$A$1:$U$1,0),FALSE)="","",VLOOKUP($C28,StructureInfoFromGPCRdb!$A:$U,MATCH(S$1,StructureInfoFromGPCRdb!$A$1:$U$1,0),FALSE)) | T28: =IF(VLOOKUP($C28,StructureInfoFromGPCRdb!$A:$U,MATCH(T$1,StructureInfoFromGPCRdb!$A$1:$U$1,0),FALSE)="","",VLOOKUP($C28,StructureInfoFromGPCRdb!$A:$U,MATCH(T$1,StructureInfoFromGPCRdb!$A$1:$U$1,0),FALSE)) | U28: =IF(VLOOKUP($C28,StructureInfoFromGPCRdb!$A:$U,MATCH(U$1,StructureInfoFromGPCRdb!$A$1:$U$1,0),FALSE)="","",VLOOKUP($C28,StructureInfoFromGPCRdb!$A:$U,MATCH(U$1,StructureInfoFromGPCRdb!$A$1:$U$1,0),FALSE)) | V28: =VLOOKUP($C28,StructureInfoFromGPCRdb!$A:$U,MATCH(V$1,StructureInfoFromGPCRdb!$A$1:$U$1,0),FALSE) -> T4-Lysozyme | W28: =VLOOKUP($C28,StructureInfoFromGPCRdb!$A:$U,MATCH(W$1,StructureInfoFromGPCRdb!$A$1:$U$1,0),FALSE) -> - | X28: =VLOOKUP($C28,StructureInfoFromGPCRdb!$A:$U,MATCH(X$1,StructureInfoFromGPCRdb!$A$1:$U$1,0),FALSE) -> Misoprostol-FA | Y28: =VLOOKUP($C28,StructureInfoFromGPCRdb!$A:$U,MATCH(Y$1,StructureInfoFromGPCRdb!$A$1:$U$1,0),FALSE) -> Agonist | Z28: Yes | AA28: An expression tag in H8 position 8x50 disturbs the conformation of both H8 and TM7.
A29: =CONCATENATE(D29,H29,I29,O29) -> AReprNoActive | B29: =CONCATENATE(F29,H29,I29,O29) -> US28ReprNoActive | C29: 4XT1 | D29: =VLOOKUP($C29,StructureInfoFromGPCRdb!$A:$U,MATCH(D$1,StructureInfoFromGPCRdb!$A$1:$U$1,0),FALSE) -> A | E29: =VLOOKUP($C29,StructureInfoFromGPCRdb!$A:$U,MATCH(E$1,StructureInfoFromGPCRdb!$A$1:$U$1,0),FALSE) -> Unclassified | F29: =VLOOKUP($C29,StructureInfoFromGPCRdb!$A:$U,MATCH(F$1,StructureInfoFromGPCRdb!$A$1:$U$1,0),FALSE) -> US28 | G29: =VLOOKUP($C29,StructureInfoFromGPCRdb!$A:$U,MATCH(G$1,StructureInfoFromGPCRdb!$A$1:$U$1,0),FALSE) -> US28 | H29: Repr | I29: No | J29: =VLOOKUP($C29,StructureInfoFromGPCRdb!$A:$U,MATCH(J$1,StructureInfoFromGPCRdb!$A$1:$U$1,0),FALSE) -> 96 | K29: =VLOOKUP($C29,StructureInfoFromGPCRdb!$A:$U,MATCH(K$1,StructureInfoFromGPCRdb!$A$1:$U$1,0),FALSE) -> strain AD169 | L29: =VLOOKUP($C29,StructureInfoFromGPCRdb!$A:$U,MATCH(L$1,StructureInfoFromGPCRdb!$A$1:$U$1,0),FALSE) -> 0 | M29: =VLOOKUP($C29,StructureInfoFromGPCRdb!$A:$U,MATCH(M$1,StructureInfoFromGPCRdb!$A$1:$U$1,0),FALSE) -> X-ray | N29: =VLOOKUP($C29,StructureInfoFromGPCRdb!$A:$U,MATCH(N$1,StructureInfoFromGPCRdb!$A$1:$U$1,0),FALSE) -> 2.9 | O29: =VLOOKUP($C29,StructureInfoFromGPCRdb!$A:$U,MATCH(O$1,StructureInfoFromGPCRdb!$A$1:$U$1,0),FALSE) -> Active | P29: =VLOOKUP($C29,StructureInfoFromGPCRdb!$A:$U,MATCH(P$1,StructureInfoFromGPCRdb!$A$1:$U$1,0),FALSE) -> 97 | Q29: =VLOOKUP($C29,StructureInfoFromGPCRdb!$A:$U,MATCH(Q$1,StructureInfoFromGPCRdb!$A$1:$U$1,0),FALSE) -> 56 | R29: =IF(VLOOKUP($C29,StructureInfoFromGPCRdb!$A:$U,MATCH(R$1,StructureInfoFromGPCRdb!$A$1:$U$1,0),FALSE)="","",VLOOKUP($C29,StructureInfoFromGPCRdb!$A:$U,MATCH(R$1,StructureInfoFromGPCRdb!$A$1:$U$1,0),FALSE)) | S29: =IF(VLOOKUP($C29,StructureInfoFromGPCRdb!$A:$U,MATCH(S$1,StructureInfoFromGPCRdb!$A$1:$U$1,0),FALSE)="","",VLOOKUP($C29,StructureInfoFromGPCRdb!$A:$U,MATCH(S$1,StructureInfoFromGPCRdb!$A$1:$U$1,0),FALSE)) | T29: =IF(VLOOKUP($C29,StructureInfoFromGPCRdb!$A:$U,MATCH(T$1,StructureInfoFromGPCRdb!$A$1:$U$1,0),FALSE)="","",VLOOKUP($C29,StructureInfoFromGPCRdb!$A:$U,MATCH(T$1,StructureInfoFromGPCRdb!$A$1:$U$1,0),FALSE)) | U29: =IF(VLOOKUP($C29,StructureInfoFromGPCRdb!$A:$U,MATCH(U$1,StructureInfoFromGPCRdb!$A$1:$U$1,0),FALSE)="","",VLOOKUP($C29,StructureInfoFromGPCRdb!$A:$U,MATCH(U$1,StructureInfoFromGPCRdb!$A$1:$U$1,0),FALSE)) | V29: =VLOOKUP($C29,StructureInfoFromGPCRdb!$A:$U,MATCH(V$1,StructureInfoFromGPCRdb!$A$1:$U$1,0),FALSE) -> - | W29: =VLOOKUP($C29,StructureInfoFromGPCRdb!$A:$U,MATCH(W$1,StructureInfoFromGPCRdb!$A$1:$U$1,0),FALSE) -> Nanobody | X29: =VLOOKUP($C29,StructureInfoFromGPCRdb!$A:$U,MATCH(X$1,StructureInfoFromGPCRdb!$A$1:$U$1,0),FALSE) -> Fractalkine | Y29: =VLOOKUP($C29,StructureInfoFromGPCRdb!$A:$U,MATCH(Y$1,StructureInfoFromGPCRdb!$A$1:$U$1,0),FALSE) -> Inverse agonist | Z29: No
A30: =CONCATENATE(D30,H30,I30,O30) -> AActive | B30: =CONCATENATE(F30,H30,I30,O30) -> 5HT2BActive | C30: 5TUD | D30: =VLOOKUP($C30,StructureInfoFromGPCRdb!$A:$U,MATCH(D$1,StructureInfoFromGPCRdb!$A$1:$U$1,0),FALSE) -> A | E30: =VLOOKUP($C30,StructureInfoFromGPCRdb!$A:$U,MATCH(E$1,StructureInfoFromGPCRdb!$A$1:$U$1,0),FALSE) -> 5-Hydroxytryptamine | F30: =VLOOKUP($C30,StructureInfoFromGPCRdb!$A:$U,MATCH(F$1,StructureInfoFromGPCRdb!$A$1:$U$1,0),FALSE) -> 5HT2B | G30: =VLOOKUP($C30,StructureInfoFromGPCRdb!$A:$U,MATCH(G$1,StructureInfoFromGPCRdb!$A$1:$U$1,0),FALSE) -> 5-HT2B | J30: =VLOOKUP($C30,StructureInfoFromGPCRdb!$A:$U,MATCH(J$1,StructureInfoFromGPCRdb!$A$1:$U$1,0),FALSE) -> 93 | K30: =VLOOKUP($C30,StructureInfoFromGPCRdb!$A:$U,MATCH(K$1,StructureInfoFromGPCRdb!$A$1:$U$1,0),FALSE) -> Human | L30: =VLOOKUP($C30,StructureInfoFromGPCRdb!$A:$U,MATCH(L$1,StructureInfoFromGPCRdb!$A$1:$U$1,0),FALSE) -> 100 | M30: =VLOOKUP($C30,StructureInfoFromGPCRdb!$A:$U,MATCH(M$1,StructureInfoFromGPCRdb!$A$1:$U$1,0),FALSE) -> X-ray | N30: =VLOOKUP($C30,StructureInfoFromGPCRdb!$A:$U,MATCH(N$1,StructureInfoFromGPCRdb!$A$1:$U$1,0),FALSE) -> 3 | O30: =VLOOKUP($C30,StructureInfoFromGPCRdb!$A:$U,MATCH(O$1,StructureInfoFromGPCRdb!$A$1:$U$1,0),FALSE) -> Active | P30: =VLOOKUP($C30,StructureInfoFromGPCRdb!$A:$U,MATCH(P$1,StructureInfoFromGPCRdb!$A$1:$U$1,0),FALSE) -> 86 | Q30: =VLOOKUP($C30,StructureInfoFromGPCRdb!$A:$U,MATCH(Q$1,StructureInfoFromGPCRdb!$A$1:$U$1,0),FALSE) -> 63 | R30: =IF(VLOOKUP($C30,StructureInfoFromGPCRdb!$A:$U,MATCH(R$1,StructureInfoFromGPCRdb!$A$1:$U$1,0),FALSE)="","",VLOOKUP($C30,StructureInfoFromGPCRdb!$A:$U,MATCH(R$1,StructureInfoFromGPCRdb!$A$1:$U$1,0),FALSE)) | S30: =IF(VLOOKUP($C30,StructureInfoFromGPCRdb!$A:$U,MATCH(S$1,StructureInfoFromGPCRdb!$A$1:$U$1,0),FALSE)="","",VLOOKUP($C30,StructureInfoFromGPCRdb!$A:$U,MATCH(S$1,StructureInfoFromGPCRdb!$A$1:$U$1,0),FALSE)) | T30: =IF(VLOOKUP($C30,StructureInfoFromGPCRdb!$A:$U,MATCH(T$1,StructureInfoFromGPCRdb!$A$1:$U$1,0),FALSE)="","",VLOOKUP($C30,StructureInfoFromGPCRdb!$A:$U,MATCH(T$1,StructureInfoFromGPCRdb!$A$1:$U$1,0),FALSE)) | U30: =IF(VLOOKUP($C30,StructureInfoFromGPCRdb!$A:$U,MATCH(U$1,StructureInfoFromGPCRdb!$A$1:$U$1,0),FALSE)="","",VLOOKUP($C30,StructureInfoFromGPCRdb!$A:$U,MATCH(U$1,StructureInfoFromGPCRdb!$A$1:$U$1,0),FALSE)) | V30: =VLOOKUP($C30,StructureInfoFromGPCRdb!$A:$U,MATCH(V$1,StructureInfoFromGPCRdb!$A$1:$U$1,0),FALSE) -> BRIL | W30: =VLOOKUP($C30,StructureInfoFromGPCRdb!$A:$U,MATCH(W$1,StructureInfoFromGPCRdb!$A$1:$U$1,0),FALSE) -> Antibody | X30: =VLOOKUP($C30,StructureInfoFromGPCRdb!$A:$U,MATCH(X$1,StructureInfoFromGPCRdb!$A$1:$U$1,0),FALSE) -> Ergotamine | Y30: =VLOOKUP($C30,StructureInfoFromGPCRdb!$A:$U,MATCH(Y$1,StructureInfoFromGPCRdb!$A$1:$U$1,0),FALSE) -> Agonist
A31: =CONCATENATE(D31,H31,I31,O31) -> AActive | B31: =CONCATENATE(F31,H31,I31,O31) -> ACM2Active | C31: 4MQS | D31: =VLOOKUP($C31,StructureInfoFromGPCRdb!$A:$U,MATCH(D$1,StructureInfoFromGPCRdb!$A$1:$U$1,0),FALSE) -> A | E31: =VLOOKUP($C31,StructureInfoFromGPCRdb!$A:$U,MATCH(E$1,StructureInfoFromGPCRdb!$A$1:$U$1,0),FALSE) -> Acetylcholine (muscarinic) | F31: =VLOOKUP($C31,StructureInfoFromGPCRdb!$A:$U,MATCH(F$1,StructureInfoFromGPCRdb!$A$1:$U$1,0),FALSE) -> ACM2 | G31: =VLOOKUP($C31,StructureInfoFromGPCRdb!$A:$U,MATCH(G$1,StructureInfoFromGPCRdb!$A$1:$U$1,0),FALSE) -> M2 | J31: =VLOOKUP($C31,StructureInfoFromGPCRdb!$A:$U,MATCH(J$1,StructureInfoFromGPCRdb!$A$1:$U$1,0),FALSE) -> 95 | K31: =VLOOKUP($C31,StructureInfoFromGPCRdb!$A:$U,MATCH(K$1,StructureInfoFromGPCRdb!$A$1:$U$1,0),FALSE) -> Human | L31: =VLOOKUP($C31,StructureInfoFromGPCRdb!$A:$U,MATCH(L$1,StructureInfoFromGPCRdb!$A$1:$U$1,0),FALSE) -> 100 | M31: =VLOOKUP($C31,StructureInfoFromGPCRdb!$A:$U,MATCH(M$1,StructureInfoFromGPCRdb!$A$1:$U$1,0),FALSE) -> X-ray | N31: =VLOOKUP($C31,StructureInfoFromGPCRdb!$A:$U,MATCH(N$1,StructureInfoFromGPCRdb!$A$1:$U$1,0),FALSE) -> 3.5 | O31: =VLOOKUP($C31,StructureInfoFromGPCRdb!$A:$U,MATCH(O$1,StructureInfoFromGPCRdb!$A$1:$U$1,0),FALSE) -> Active | P31: =VLOOKUP($C31,StructureInfoFromGPCRdb!$A:$U,MATCH(P$1,StructureInfoFromGPCRdb!$A$1:$U$1,0),FALSE) -> 100 | Q31: =VLOOKUP($C31,StructureInfoFromGPCRdb!$A:$U,MATCH(Q$1,StructureInfoFromGPCRdb!$A$1:$U$1,0),FALSE) -> 65 | R31: =IF(VLOOKUP($C31,StructureInfoFromGPCRdb!$A:$U,MATCH(R$1,StructureInfoFromGPCRdb!$A$1:$U$1,0),FALSE)="","",VLOOKUP($C31,StructureInfoFromGPCRdb!$A:$U,MATCH(R$1,StructureInfoFromGPCRdb!$A$1:$U$1,0),FALSE)) | S31: =IF(VLOOKUP($C31,StructureInfoFromGPCRdb!$A:$U,MATCH(S$1,StructureInfoFromGPCRdb!$A$1:$U$1,0),FALSE)="","",VLOOKUP($C31,StructureInfoFromGPCRdb!$A:$U,MATCH(S$1,StructureInfoFromGPCRdb!$A$1:$U$1,0),FALSE)) | T31: =IF(VLOOKUP($C31,StructureInfoFromGPCRdb!$A:$U,MATCH(T$1,StructureInfoFromGPCRdb!$A$1:$U$1,0),FALSE)="","",VLOOKUP($C31,StructureInfoFromGPCRdb!$A:$U,MATCH(T$1,StructureInfoFromGPCRdb!$A$1:$U$1,0),FALSE)) | U31: =IF(VLOOKUP($C31,StructureInfoFromGPCRdb!$A:$U,MATCH(U$1,StructureInfoFromGPCRdb!$A$1:$U$1,0),FALSE)="","",VLOOKUP($C31,StructureInfoFromGPCRdb!$A:$U,MATCH(U$1,StructureInfoFromGPCRdb!$A$1:$U$1,0),FALSE)) | V31: =VLOOKUP($C31,StructureInfoFromGPCRdb!$A:$U,MATCH(V$1,StructureInfoFromGPCRdb!$A$1:$U$1,0),FALSE) -> - | W31: =VLOOKUP($C31,StructureInfoFromGPCRdb!$A:$U,MATCH(W$1,StructureInfoFromGPCRdb!$A$1:$U$1,0),FALSE) -> Nanobody | X31: =VLOOKUP($C31,StructureInfoFromGPCRdb!$A:$U,MATCH(X$1,StructureInfoFromGPCRdb!$A$1:$U$1,0),FALSE) -> Iperoxo | Y31: =VLOOKUP($C31,StructureInfoFromGPCRdb!$A:$U,MATCH(Y$1,StructureInfoFromGPCRdb!$A$1:$U$1,0),FALSE) -> Agonist
A32: =CONCATENATE(D32,H32,I32,O32) -> AActive | B32: =CONCATENATE(F32,H32,I32,O32) -> ACM2Active | C32: 4MQT | D32: =VLOOKUP($C32,StructureInfoFromGPCRdb!$A:$U,MATCH(D$1,StructureInfoFromGPCRdb!$A$1:$U$1,0),FALSE) -> A | E32: =VLOOKUP($C32,StructureInfoFromGPCRdb!$A:$U,MATCH(E$1,StructureInfoFromGPCRdb!$A$1:$U$1,0),FALSE) -> Acetylcholine (muscarinic) | F32: =VLOOKUP($C32,StructureInfoFromGPCRdb!$A:$U,MATCH(F$1,StructureInfoFromGPCRdb!$A$1:$U$1,0),FALSE) -> ACM2 | G32: =VLOOKUP($C32,StructureInfoFromGPCRdb!$A:$U,MATCH(G$1,StructureInfoFromGPCRdb!$A$1:$U$1,0),FALSE) -> M2 | J32: =VLOOKUP($C32,StructureInfoFromGPCRdb!$A:$U,MATCH(J$1,StructureInfoFromGPCRdb!$A$1:$U$1,0),FALSE) -> 95 | K32: =VLOOKUP($C32,StructureInfoFromGPCRdb!$A:$U,MATCH(K$1,StructureInfoFromGPCRdb!$A$1:$U$1,0),FALSE) -> Human | L32: =VLOOKUP($C32,StructureInfoFromGPCRdb!$A:$U,MATCH(L$1,StructureInfoFromGPCRdb!$A$1:$U$1,0),FALSE) -> 100 | M32: =VLOOKUP($C32,StructureInfoFromGPCRdb!$A:$U,MATCH(M$1,StructureInfoFromGPCRdb!$A$1:$U$1,0),FALSE) -> X-ray | N32: =VLOOKUP($C32,StructureInfoFromGPCRdb!$A:$U,MATCH(N$1,StructureInfoFromGPCRdb!$A$1:$U$1,0),FALSE) -> 3.7 | O32: =VLOOKUP($C32,StructureInfoFromGPCRdb!$A:$U,MATCH(O$1,StructureInfoFromGPCRdb!$A$1:$U$1,0),FALSE) -> Active | P32: =VLOOKUP($C32,StructureInfoFromGPCRdb!$A:$U,MATCH(P$1,StructureInfoFromGPCRdb!$A$1:$U$1,0),FALSE) -> 100 | Q32: =VLOOKUP($C32,StructureInfoFromGPCRdb!$A:$U,MATCH(Q$1,StructureInfoFromGPCRdb!$A$1:$U$1,0),FALSE) -> 64 | R32: =IF(VLOOKUP($C32,StructureInfoFromGPCRdb!$A:$U,MATCH(R$1,StructureInfoFromGPCRdb!$A$1:$U$1,0),FALSE)="","",VLOOKUP($C32,StructureInfoFromGPCRdb!$A:$U,MATCH(R$1,StructureInfoFromGPCRdb!$A$1:$U$1,0),FALSE)) | S32: =IF(VLOOKUP($C32,StructureInfoFromGPCRdb!$A:$U,MATCH(S$1,StructureInfoFromGPCRdb!$A$1:$U$1,0),FALSE)="","",VLOOKUP($C32,StructureInfoFromGPCRdb!$A:$U,MATCH(S$1,StructureInfoFromGPCRdb!$A$1:$U$1,0),FALSE)) | T32: =IF(VLOOKUP($C32,StructureInfoFromGPCRdb!$A:$U,MATCH(T$1,StructureInfoFromGPCRdb!$A$1:$U$1,0),FALSE)="","",VLOOKUP($C32,StructureInfoFromGPCRdb!$A:$U,MATCH(T$1,StructureInfoFromGPCRdb!$A$1:$U$1,0),FALSE)) | U32: =IF(VLOOKUP($C32,StructureInfoFromGPCRdb!$A:$U,MATCH(U$1,StructureInfoFromGPCRdb!$A$1:$U$1,0),FALSE)="","",VLOOKUP($C32,StructureInfoFromGPCRdb!$A:$U,MATCH(U$1,StructureInfoFromGPCRdb!$A$1:$U$1,0),FALSE)) | V32: =VLOOKUP($C32,StructureInfoFromGPCRdb!$A:$U,MATCH(V$1,StructureInfoFromGPCRdb!$A$1:$U$1,0),FALSE) -> - | W32: =VLOOKUP($C32,StructureInfoFromGPCRdb!$A:$U,MATCH(W$1,StructureInfoFromGPCRdb!$A$1:$U$1,0),FALSE) -> Nanobody | X32: =VLOOKUP($C32,StructureInfoFromGPCRdb!$A:$U,MATCH(X$1,StructureInfoFromGPCRdb!$A$1:$U$1,0),FALSE) -> Iperoxo | Y32: =VLOOKUP($C32,StructureInfoFromGPCRdb!$A:$U,MATCH(Y$1,StructureInfoFromGPCRdb!$A$1:$U$1,0),FALSE) -> Agonist
A33: =CONCATENATE(D33,H33,I33,O33) -> AActive | B33: =CONCATENATE(F33,H33,I33,O33) -> ACM2Active | C33: 6U1N | D33: =VLOOKUP($C33,StructureInfoFromGPCRdb!$A:$U,MATCH(D$1,StructureInfoFromGPCRdb!$A$1:$U$1,0),FALSE) -> A | E33: =VLOOKUP($C33,StructureInfoFromGPCRdb!$A:$U,MATCH(E$1,StructureInfoFromGPCRdb!$A$1:$U$1,0),FALSE) -> Acetylcholine (muscarinic) | F33: =VLOOKUP($C33,StructureInfoFromGPCRdb!$A:$U,MATCH(F$1,StructureInfoFromGPCRdb!$A$1:$U$1,0),FALSE) -> ACM2 | G33: =VLOOKUP($C33,StructureInfoFromGPCRdb!$A:$U,MATCH(G$1,StructureInfoFromGPCRdb!$A$1:$U$1,0),FALSE) -> M2 | J33: =VLOOKUP($C33,StructureInfoFromGPCRdb!$A:$U,MATCH(J$1,StructureInfoFromGPCRdb!$A$1:$U$1,0),FALSE) -> 88 | K33: =VLOOKUP($C33,StructureInfoFromGPCRdb!$A:$U,MATCH(K$1,StructureInfoFromGPCRdb!$A$1:$U$1,0),FALSE) -> Human | L33: =VLOOKUP($C33,StructureInfoFromGPCRdb!$A:$U,MATCH(L$1,StructureInfoFromGPCRdb!$A$1:$U$1,0),FALSE) -> 100 | M33: =VLOOKUP($C33,StructureInfoFromGPCRdb!$A:$U,MATCH(M$1,StructureInfoFromGPCRdb!$A$1:$U$1,0),FALSE) -> cryo-EM | N33: =VLOOKUP($C33,StructureInfoFromGPCRdb!$A:$U,MATCH(N$1,StructureInfoFromGPCRdb!$A$1:$U$1,0),FALSE) -> 4 | O33: =VLOOKUP($C33,StructureInfoFromGPCRdb!$A:$U,MATCH(O$1,StructureInfoFromGPCRdb!$A$1:$U$1,0),FALSE) -> Active | P33: =VLOOKUP($C33,StructureInfoFromGPCRdb!$A:$U,MATCH(P$1,StructureInfoFromGPCRdb!$A$1:$U$1,0),FALSE) -> 92 | Q33: =VLOOKUP($C33,StructureInfoFromGPCRdb!$A:$U,MATCH(Q$1,StructureInfoFromGPCRdb!$A$1:$U$1,0),FALSE) -> 66 | R33: =IF(VLOOKUP($C33,StructureInfoFromGPCRdb!$A:$U,MATCH(R$1,StructureInfoFromGPCRdb!$A$1:$U$1,0),FALSE)="","",VLOOKUP($C33,StructureInfoFromGPCRdb!$A:$U,MATCH(R$1,StructureInfoFromGPCRdb!$A$1:$U$1,0),FALSE)) -> Arrestin | S33: =IF(VLOOKUP($C33,StructureInfoFromGPCRdb!$A:$U,MATCH(S$1,StructureInfoFromGPCRdb!$A$1:$U$1,0),FALSE)="","",VLOOKUP($C33,StructureInfoFromGPCRdb!$A:$U,MATCH(S$1,StructureInfoFromGPCRdb!$A$1:$U$1,0),FALSE)) -> Beta-arrestin-1 | T33: =IF(VLOOKUP($C33,StructureInfoFromGPCRdb!$A:$U,MATCH(T$1,StructureInfoFromGPCRdb!$A$1:$U$1,0),FALSE)="","",VLOOKUP($C33,StructureInfoFromGPCRdb!$A:$U,MATCH(T$1,StructureInfoFromGPCRdb!$A$1:$U$1,0),FALSE)) | U33: =IF(VLOOKUP($C33,StructureInfoFromGPCRdb!$A:$U,MATCH(U$1,StructureInfoFromGPCRdb!$A$1:$U$1,0),FALSE)="","",VLOOKUP($C33,StructureInfoFromGPCRdb!$A:$U,MATCH(U$1,StructureInfoFromGPCRdb!$A$1:$U$1,0),FALSE)) -> 96 | V33: =VLOOKUP($C33,StructureInfoFromGPCRdb!$A:$U,MATCH(V$1,StructureInfoFromGPCRdb!$A$1:$U$1,0),FALSE) -> - | W33: =VLOOKUP($C33,StructureInfoFromGPCRdb!$A:$U,MATCH(W$1,StructureInfoFromGPCRdb!$A$1:$U$1,0),FALSE) -> Fab30 light chain F.. | X33: =VLOOKUP($C33,StructureInfoFromGPCRdb!$A:$U,MATCH(X$1,StructureInfoFromGPCRdb!$A$1:$U$1,0),FALSE) -> 2CU | Y33: =VLOOKUP($C33,StructureInfoFromGPCRdb!$A:$U,MATCH(Y$1,StructureInfoFromGPCRdb!$A$1:$U$1,0),FALSE) -> Agonist
A34: =CONCATENATE(D34,H34,I34,O34) -> AActive | B34: =CONCATENATE(F34,H34,I34,O34) -> AA2ARActive | C34: 5WF5 | D34: =VLOOKUP($C34,StructureInfoFromGPCRdb!$A:$U,MATCH(D$1,StructureInfoFromGPCRdb!$A$1:$U$1,0),FALSE) -> A | E34: =VLOOKUP($C34,StructureInfoFromGPCRdb!$A:$U,MATCH(E$1,StructureInfoFromGPCRdb!$A$1:$U$1,0),FALSE) -> Adenosine | F34: =VLOOKUP($C34,StructureInfoFromGPCRdb!$A:$U,MATCH(F$1,StructureInfoFromGPCRdb!$A$1:$U$1,0),FALSE) -> AA2AR | G34: =VLOOKUP($C34,StructureInfoFromGPCRdb!$A:$U,MATCH(G$1,StructureInfoFromGPCRdb!$A$1:$U$1,0),FALSE) -> A2A | J34: =VLOOKUP($C34,StructureInfoFromGPCRdb!$A:$U,MATCH(J$1,StructureInfoFromGPCRdb!$A$1:$U$1,0),FALSE) -> 89 | K34: =VLOOKUP($C34,StructureInfoFromGPCRdb!$A:$U,MATCH(K$1,StructureInfoFromGPCRdb!$A$1:$U$1,0),FALSE) -> Human | L34: =VLOOKUP($C34,StructureInfoFromGPCRdb!$A:$U,MATCH(L$1,StructureInfoFromGPCRdb!$A$1:$U$1,0),FALSE) -> 100 | M34: =VLOOKUP($C34,StructureInfoFromGPCRdb!$A:$U,MATCH(M$1,StructureInfoFromGPCRdb!$A$1:$U$1,0),FALSE) -> X-ray | N34: =VLOOKUP($C34,StructureInfoFromGPCRdb!$A:$U,MATCH(N$1,StructureInfoFromGPCRdb!$A$1:$U$1,0),FALSE) -> 2.6 | O34: =VLOOKUP($C34,StructureInfoFromGPCRdb!$A:$U,MATCH(O$1,StructureInfoFromGPCRdb!$A$1:$U$1,0),FALSE) -> Active | P34: =VLOOKUP($C34,StructureInfoFromGPCRdb!$A:$U,MATCH(P$1,StructureInfoFromGPCRdb!$A$1:$U$1,0),FALSE) -> 79 | Q34: =VLOOKUP($C34,StructureInfoFromGPCRdb!$A:$U,MATCH(Q$1,StructureInfoFromGPCRdb!$A$1:$U$1,0),FALSE) -> 43 | R34: =IF(VLOOKUP($C34,StructureInfoFromGPCRdb!$A:$U,MATCH(R$1,StructureInfoFromGPCRdb!$A$1:$U$1,0),FALSE)="","",VLOOKUP($C34,StructureInfoFromGPCRdb!$A:$U,MATCH(R$1,StructureInfoFromGPCRdb!$A$1:$U$1,0),FALSE)) | S34: =IF(VLOOKUP($C34,StructureInfoFromGPCRdb!$A:$U,MATCH(S$1,StructureInfoFromGPCRdb!$A$1:$U$1,0),FALSE)="","",VLOOKUP($C34,StructureInfoFromGPCRdb!$A:$U,MATCH(S$1,StructureInfoFromGPCRdb!$A$1:$U$1,0),FALSE)) | T34: =IF(VLOOKUP($C34,StructureInfoFromGPCRdb!$A:$U,MATCH(T$1,StructureInfoFromGPCRdb!$A$1:$U$1,0),FALSE)="","",VLOOKUP($C34,StructureInfoFromGPCRdb!$A:$U,MATCH(T$1,StructureInfoFromGPCRdb!$A$1:$U$1,0),FALSE)) | U34: =IF(VLOOKUP($C34,StructureInfoFromGPCRdb!$A:$U,MATCH(U$1,StructureInfoFromGPCRdb!$A$1:$U$1,0),FALSE)="","",VLOOKUP($C34,StructureInfoFromGPCRdb!$A:$U,MATCH(U$1,StructureInfoFromGPCRdb!$A$1:$U$1,0),FALSE)) | V34: =VLOOKUP($C34,StructureInfoFromGPCRdb!$A:$U,MATCH(V$1,StructureInfoFromGPCRdb!$A$1:$U$1,0),FALSE) -> T4-Lysozyme | W34: =VLOOKUP($C34,StructureInfoFromGPCRdb!$A:$U,MATCH(W$1,StructureInfoFromGPCRdb!$A$1:$U$1,0),FALSE) -> - | X34: =VLOOKUP($C34,StructureInfoFromGPCRdb!$A:$U,MATCH(X$1,StructureInfoFromGPCRdb!$A$1:$U$1,0),FALSE) -> UK-432097 | Y34: =VLOOKUP($C34,StructureInfoFromGPCRdb!$A:$U,MATCH(Y$1,StructureInfoFromGPCRdb!$A$1:$U$1,0),FALSE) -> Agonist
A35: =CONCATENATE(D35,H35,I35,O35) -> AActive | B35: =CONCATENATE(F35,H35,I35,O35) -> AA2ARActive | C35: 4UG2 | D35: =VLOOKUP($C35,StructureInfoFromGPCRdb!$A:$U,MATCH(D$1,StructureInfoFromGPCRdb!$A$1:$U$1,0),FALSE) -> A | E35: =VLOOKUP($C35,StructureInfoFromGPCRdb!$A:$U,MATCH(E$1,StructureInfoFromGPCRdb!$A$1:$U$1,0),FALSE) -> Adenosine | F35: =VLOOKUP($C35,StructureInfoFromGPCRdb!$A:$U,MATCH(F$1,StructureInfoFromGPCRdb!$A$1:$U$1,0),FALSE) -> AA2AR | G35: =VLOOKUP($C35,StructureInfoFromGPCRdb!$A:$U,MATCH(G$1,StructureInfoFromGPCRdb!$A$1:$U$1,0),FALSE) -> A2A | J35: =VLOOKUP($C35,StructureInfoFromGPCRdb!$A:$U,MATCH(J$1,StructureInfoFromGPCRdb!$A$1:$U$1,0),FALSE) -> 94 | K35: =VLOOKUP($C35,StructureInfoFromGPCRdb!$A:$U,MATCH(K$1,StructureInfoFromGPCRdb!$A$1:$U$1,0),FALSE) -> Human | L35: =VLOOKUP($C35,StructureInfoFromGPCRdb!$A:$U,MATCH(L$1,StructureInfoFromGPCRdb!$A$1:$U$1,0),FALSE) -> 100 | M35: =VLOOKUP($C35,StructureInfoFromGPCRdb!$A:$U,MATCH(M$1,StructureInfoFromGPCRdb!$A$1:$U$1,0),FALSE) -> X-ray | N35: =VLOOKUP($C35,StructureInfoFromGPCRdb!$A:$U,MATCH(N$1,StructureInfoFromGPCRdb!$A$1:$U$1,0),FALSE) -> 2.6 | O35: =VLOOKUP($C35,StructureInfoFromGPCRdb!$A:$U,MATCH(O$1,StructureInfoFromGPCRdb!$A$1:$U$1,0),FALSE) -> Active | P35: =VLOOKUP($C35,StructureInfoFromGPCRdb!$A:$U,MATCH(P$1,StructureInfoFromGPCRdb!$A$1:$U$1,0),FALSE) -> 79 | Q35: =VLOOKUP($C35,StructureInfoFromGPCRdb!$A:$U,MATCH(Q$1,StructureInfoFromGPCRdb!$A$1:$U$1,0),FALSE) -> 40 | R35: =IF(VLOOKUP($C35,StructureInfoFromGPCRdb!$A:$U,MATCH(R$1,StructureInfoFromGPCRdb!$A$1:$U$1,0),FALSE)="","",VLOOKUP($C35,StructureInfoFromGPCRdb!$A:$U,MATCH(R$1,StructureInfoFromGPCRdb!$A$1:$U$1,0),FALSE)) | S35: =IF(VLOOKUP($C35,StructureInfoFromGPCRdb!$A:$U,MATCH(S$1,StructureInfoFromGPCRdb!$A$1:$U$1,0),FALSE)="","",VLOOKUP($C35,StructureInfoFromGPCRdb!$A:$U,MATCH(S$1,StructureInfoFromGPCRdb!$A$1:$U$1,0),FALSE)) | T35: =IF(VLOOKUP($C35,StructureInfoFromGPCRdb!$A:$U,MATCH(T$1,StructureInfoFromGPCRdb!$A$1:$U$1,0),FALSE)="","",VLOOKUP($C35,StructureInfoFromGPCRdb!$A:$U,MATCH(T$1,StructureInfoFromGPCRdb!$A$1:$U$1,0),FALSE)) | U35: =IF(VLOOKUP($C35,StructureInfoFromGPCRdb!$A:$U,MATCH(U$1,StructureInfoFromGPCRdb!$A$1:$U$1,0),FALSE)="","",VLOOKUP($C35,StructureInfoFromGPCRdb!$A:$U,MATCH(U$1,StructureInfoFromGPCRdb!$A$1:$U$1,0),FALSE)) | V35: =VLOOKUP($C35,StructureInfoFromGPCRdb!$A:$U,MATCH(V$1,StructureInfoFromGPCRdb!$A$1:$U$1,0),FALSE) -> - | W35: =VLOOKUP($C35,StructureInfoFromGPCRdb!$A:$U,MATCH(W$1,StructureInfoFromGPCRdb!$A$1:$U$1,0),FALSE) -> - | X35: =VLOOKUP($C35,StructureInfoFromGPCRdb!$A:$U,MATCH(X$1,StructureInfoFromGPCRdb!$A$1:$U$1,0),FALSE) -> CGS-21680 | Y35: =VLOOKUP($C35,StructureInfoFromGPCRdb!$A:$U,MATCH(Y$1,StructureInfoFromGPCRdb!$A$1:$U$1,0),FALSE) -> Agonist
A36: =CONCATENATE(D36,H36,I36,O36) -> AActive | B36: =CONCATENATE(F36,H36,I36,O36) -> AA2ARActive | C36: 2YDV | D36: =VLOOKUP($C36,StructureInfoFromGPCRdb!$A:$U,MATCH(D$1,StructureInfoFromGPCRdb!$A$1:$U$1,0),FALSE) -> A | E36: =VLOOKUP($C36,StructureInfoFromGPCRdb!$A:$U,MATCH(E$1,StructureInfoFromGPCRdb!$A$1:$U$1,0),FALSE) -> Adenosine | F36: =VLOOKUP($C36,StructureInfoFromGPCRdb!$A:$U,MATCH(F$1,StructureInfoFromGPCRdb!$A$1:$U$1,0),FALSE) -> AA2AR | G36: =VLOOKUP($C36,StructureInfoFromGPCRdb!$A:$U,MATCH(G$1,StructureInfoFromGPCRdb!$A$1:$U$1,0),FALSE) -> A2A | J36: =VLOOKUP($C36,StructureInfoFromGPCRdb!$A:$U,MATCH(J$1,StructureInfoFromGPCRdb!$A$1:$U$1,0),FALSE) -> 96 | K36: =VLOOKUP($C36,StructureInfoFromGPCRdb!$A:$U,MATCH(K$1,StructureInfoFromGPCRdb!$A$1:$U$1,0),FALSE) -> Human | L36: =VLOOKUP($C36,StructureInfoFromGPCRdb!$A:$U,MATCH(L$1,StructureInfoFromGPCRdb!$A$1:$U$1,0),FALSE) -> 100 | M36: =VLOOKUP($C36,StructureInfoFromGPCRdb!$A:$U,MATCH(M$1,StructureInfoFromGPCRdb!$A$1:$U$1,0),FALSE) -> X-ray | N36: =VLOOKUP($C36,StructureInfoFromGPCRdb!$A:$U,MATCH(N$1,StructureInfoFromGPCRdb!$A$1:$U$1,0),FALSE) -> 2.6 | O36: =VLOOKUP($C36,StructureInfoFromGPCRdb!$A:$U,MATCH(O$1,StructureInfoFromGPCRdb!$A$1:$U$1,0),FALSE) -> Active | P36: =VLOOKUP($C36,StructureInfoFromGPCRdb!$A:$U,MATCH(P$1,StructureInfoFromGPCRdb!$A$1:$U$1,0),FALSE) -> 79 | Q36: =VLOOKUP($C36,StructureInfoFromGPCRdb!$A:$U,MATCH(Q$1,StructureInfoFromGPCRdb!$A$1:$U$1,0),FALSE) -> 39 | R36: =IF(VLOOKUP($C36,StructureInfoFromGPCRdb!$A:$U,MATCH(R$1,StructureInfoFromGPCRdb!$A$1:$U$1,0),FALSE)="","",VLOOKUP($C36,StructureInfoFromGPCRdb!$A:$U,MATCH(R$1,StructureInfoFromGPCRdb!$A$1:$U$1,0),FALSE)) | S36: =IF(VLOOKUP($C36,StructureInfoFromGPCRdb!$A:$U,MATCH(S$1,StructureInfoFromGPCRdb!$A$1:$U$1,0),FALSE)="","",VLOOKUP($C36,StructureInfoFromGPCRdb!$A:$U,MATCH(S$1,StructureInfoFromGPCRdb!$A$1:$U$1,0),FALSE)) | T36: =IF(VLOOKUP($C36,StructureInfoFromGPCRdb!$A:$U,MATCH(T$1,StructureInfoFromGPCRdb!$A$1:$U$1,0),FALSE)="","",VLOOKUP($C36,StructureInfoFromGPCRdb!$A:$U,MATCH(T$1,StructureInfoFromGPCRdb!$A$1:$U$1,0),FALSE)) | U36: =IF(VLOOKUP($C36,StructureInfoFromGPCRdb!$A:$U,MATCH(U$1,StructureInfoFromGPCRdb!$A$1:$U$1,0),FALSE)="","",VLOOKUP($C36,StructureInfoFromGPCRdb!$A:$U,MATCH(U$1,StructureInfoFromGPCRdb!$A$1:$U$1,0),FALSE)) | V36: =VLOOKUP($C36,StructureInfoFromGPCRdb!$A:$U,MATCH(V$1,StructureInfoFromGPCRdb!$A$1:$U$1,0),FALSE) -> - | W36: =VLOOKUP($C36,StructureInfoFromGPCRdb!$A:$U,MATCH(W$1,StructureInfoFromGPCRdb!$A$1:$U$1,0),FALSE) -> - | X36: =VLOOKUP($C36,StructureInfoFromGPCRdb!$A:$U,MATCH(X$1,StructureInfoFromGPCRdb!$A$1:$U$1,0),FALSE) -> NECA | Y36: =VLOOKUP($C36,StructureInfoFromGPCRdb!$A:$U,MATCH(Y$1,StructureInfoFromGPCRdb!$A$1:$U$1,0),FALSE) -> Agonist
A37: =CONCATENATE(D37,H37,I37,O37) -> AActive | B37: =CONCATENATE(F37,H37,I37,O37) -> AA2ARActive | C37: 4UHR | D37: =VLOOKUP($C37,StructureInfoFromGPCRdb!$A:$U,MATCH(D$1,StructureInfoFromGPCRdb!$A$1:$U$1,0),FALSE) -> A | E37: =VLOOKUP($C37,StructureInfoFromGPCRdb!$A:$U,MATCH(E$1,StructureInfoFromGPCRdb!$A$1:$U$1,0),FALSE) -> Adenosine | F37: =VLOOKUP($C37,StructureInfoFromGPCRdb!$A:$U,MATCH(F$1,StructureInfoFromGPCRdb!$A$1:$U$1,0),FALSE) -> AA2AR | G37: =VLOOKUP($C37,StructureInfoFromGPCRdb!$A:$U,MATCH(G$1,StructureInfoFromGPCRdb!$A$1:$U$1,0),FALSE) -> A2A | J37: =VLOOKUP($C37,StructureInfoFromGPCRdb!$A:$U,MATCH(J$1,StructureInfoFromGPCRdb!$A$1:$U$1,0),FALSE) -> 97 | K37: =VLOOKUP($C37,StructureInfoFromGPCRdb!$A:$U,MATCH(K$1,StructureInfoFromGPCRdb!$A$1:$U$1,0),FALSE) -> Human | L37: =VLOOKUP($C37,StructureInfoFromGPCRdb!$A:$U,MATCH(L$1,StructureInfoFromGPCRdb!$A$1:$U$1,0),FALSE) -> 100 | M37: =VLOOKUP($C37,StructureInfoFromGPCRdb!$A:$U,MATCH(M$1,StructureInfoFromGPCRdb!$A$1:$U$1,0),FALSE) -> X-ray | N37: =VLOOKUP($C37,StructureInfoFromGPCRdb!$A:$U,MATCH(N$1,StructureInfoFromGPCRdb!$A$1:$U$1,0),FALSE) -> 2.6 | O37: =VLOOKUP($C37,StructureInfoFromGPCRdb!$A:$U,MATCH(O$1,StructureInfoFromGPCRdb!$A$1:$U$1,0),FALSE) -> Active | P37: =VLOOKUP($C37,StructureInfoFromGPCRdb!$A:$U,MATCH(P$1,StructureInfoFromGPCRdb!$A$1:$U$1,0),FALSE) -> 79 | Q37: =VLOOKUP($C37,StructureInfoFromGPCRdb!$A:$U,MATCH(Q$1,StructureInfoFromGPCRdb!$A$1:$U$1,0),FALSE) -> 40 | R37: =IF(VLOOKUP($C37,StructureInfoFromGPCRdb!$A:$U,MATCH(R$1,StructureInfoFromGPCRdb!$A$1:$U$1,0),FALSE)="","",VLOOKUP($C37,StructureInfoFromGPCRdb!$A:$U,MATCH(R$1,StructureInfoFromGPCRdb!$A$1:$U$1,0),FALSE)) | S37: =IF(VLOOKUP($C37,StructureInfoFromGPCRdb!$A:$U,MATCH(S$1,StructureInfoFromGPCRdb!$A$1:$U$1,0),FALSE)="","",VLOOKUP($C37,StructureInfoFromGPCRdb!$A:$U,MATCH(S$1,StructureInfoFromGPCRdb!$A$1:$U$1,0),FALSE)) | T37: =IF(VLOOKUP($C37,StructureInfoFromGPCRdb!$A:$U,MATCH(T$1,StructureInfoFromGPCRdb!$A$1:$U$1,0),FALSE)="","",VLOOKUP($C37,StructureInfoFromGPCRdb!$A:$U,MATCH(T$1,StructureInfoFromGPCRdb!$A$1:$U$1,0),FALSE)) | U37: =IF(VLOOKUP($C37,StructureInfoFromGPCRdb!$A:$U,MATCH(U$1,StructureInfoFromGPCRdb!$A$1:$U$1,0),FALSE)="","",VLOOKUP($C37,StructureInfoFromGPCRdb!$A:$U,MATCH(U$1,StructureInfoFromGPCRdb!$A$1:$U$1,0),FALSE)) | V37: =VLOOKUP($C37,StructureInfoFromGPCRdb!$A:$U,MATCH(V$1,StructureInfoFromGPCRdb!$A$1:$U$1,0),FALSE) -> - | W37: =VLOOKUP($C37,StructureInfoFromGPCRdb!$A:$U,MATCH(W$1,StructureInfoFromGPCRdb!$A$1:$U$1,0),FALSE) -> - | X37: =VLOOKUP($C37,StructureInfoFromGPCRdb!$A:$U,MATCH(X$1,StructureInfoFromGPCRdb!$A$1:$U$1,0),FALSE) -> CGS-21680 | Y37: =VLOOKUP($C37,StructureInfoFromGPCRdb!$A:$U,MATCH(Y$1,StructureInfoFromGPCRdb!$A$1:$U$1,0),FALSE) -> Agonist
A38: =CONCATENATE(D38,H38,I38,O38) -> AActive | B38: =CONCATENATE(F38,H38,I38,O38) -> AA2ARActive | C38: 3QAK | D38: =VLOOKUP($C38,StructureInfoFromGPCRdb!$A:$U,MATCH(D$1,StructureInfoFromGPCRdb!$A$1:$U$1,0),FALSE) -> A | E38: =VLOOKUP($C38,StructureInfoFromGPCRdb!$A:$U,MATCH(E$1,StructureInfoFromGPCRdb!$A$1:$U$1,0),FALSE) -> Adenosine | F38: =VLOOKUP($C38,StructureInfoFromGPCRdb!$A:$U,MATCH(F$1,StructureInfoFromGPCRdb!$A$1:$U$1,0),FALSE) -> AA2AR | G38: =VLOOKUP($C38,StructureInfoFromGPCRdb!$A:$U,MATCH(G$1,StructureInfoFromGPCRdb!$A$1:$U$1,0),FALSE) -> A2A | J38: =VLOOKUP($C38,StructureInfoFromGPCRdb!$A:$U,MATCH(J$1,StructureInfoFromGPCRdb!$A$1:$U$1,0),FALSE) -> 90 | K38: =VLOOKUP($C38,StructureInfoFromGPCRdb!$A:$U,MATCH(K$1,StructureInfoFromGPCRdb!$A$1:$U$1,0),FALSE) -> Human | L38: =VLOOKUP($C38,StructureInfoFromGPCRdb!$A:$U,MATCH(L$1,StructureInfoFromGPCRdb!$A$1:$U$1,0),FALSE) -> 100 | M38: =VLOOKUP($C38,StructureInfoFromGPCRdb!$A:$U,MATCH(M$1,StructureInfoFromGPCRdb!$A$1:$U$1,0),FALSE) -> X-ray | N38: =VLOOKUP($C38,StructureInfoFromGPCRdb!$A:$U,MATCH(N$1,StructureInfoFromGPCRdb!$A$1:$U$1,0),FALSE) -> 2.7 | O38: =VLOOKUP($C38,StructureInfoFromGPCRdb!$A:$U,MATCH(O$1,StructureInfoFromGPCRdb!$A$1:$U$1,0),FALSE) -> Active | P38: =VLOOKUP($C38,StructureInfoFromGPCRdb!$A:$U,MATCH(P$1,StructureInfoFromGPCRdb!$A$1:$U$1,0),FALSE) -> 79 | Q38: =VLOOKUP($C38,StructureInfoFromGPCRdb!$A:$U,MATCH(Q$1,StructureInfoFromGPCRdb!$A$1:$U$1,0),FALSE) -> 43 | R38: =IF(VLOOKUP($C38,StructureInfoFromGPCRdb!$A:$U,MATCH(R$1,StructureInfoFromGPCRdb!$A$1:$U$1,0),FALSE)="","",VLOOKUP($C38,StructureInfoFromGPCRdb!$A:$U,MATCH(R$1,StructureInfoFromGPCRdb!$A$1:$U$1,0),FALSE)) | S38: =IF(VLOOKUP($C38,StructureInfoFromGPCRdb!$A:$U,MATCH(S$1,StructureInfoFromGPCRdb!$A$1:$U$1,0),FALSE)="","",VLOOKUP($C38,StructureInfoFromGPCRdb!$A:$U,MATCH(S$1,StructureInfoFromGPCRdb!$A$1:$U$1,0),FALSE)) | T38: =IF(VLOOKUP($C38,StructureInfoFromGPCRdb!$A:$U,MATCH(T$1,StructureInfoFromGPCRdb!$A$1:$U$1,0),FALSE)="","",VLOOKUP($C38,StructureInfoFromGPCRdb!$A:$U,MATCH(T$1,StructureInfoFromGPCRdb!$A$1:$U$1,0),FALSE)) | U38: =IF(VLOOKUP($C38,StructureInfoFromGPCRdb!$A:$U,MATCH(U$1,StructureInfoFromGPCRdb!$A$1:$U$1,0),FALSE)="","",VLOOKUP($C38,StructureInfoFromGPCRdb!$A:$U,MATCH(U$1,StructureInfoFromGPCRdb!$A$1:$U$1,0),FALSE)) | V38: =VLOOKUP($C38,StructureInfoFromGPCRdb!$A:$U,MATCH(V$1,StructureInfoFromGPCRdb!$A$1:$U$1,0),FALSE) -> T4-Lysozyme | W38: =VLOOKUP($C38,StructureInfoFromGPCRdb!$A:$U,MATCH(W$1,StructureInfoFromGPCRdb!$A$1:$U$1,0),FALSE) -> - | X38: =VLOOKUP($C38,StructureInfoFromGPCRdb!$A:$U,MATCH(X$1,StructureInfoFromGPCRdb!$A$1:$U$1,0),FALSE) -> UK-432097 | Y38: =VLOOKUP($C38,StructureInfoFromGPCRdb!$A:$U,MATCH(Y$1,StructureInfoFromGPCRdb!$A$1:$U$1,0),FALSE) -> Agonist
A39: =CONCATENATE(D39,H39,I39,O39) -> AActive | B39: =CONCATENATE(F39,H39,I39,O39) -> AA2ARActive | C39: 5WF6 | D39: =VLOOKUP($C39,StructureInfoFromGPCRdb!$A:$U,MATCH(D$1,StructureInfoFromGPCRdb!$A$1:$U$1,0),FALSE) -> A | E39: =VLOOKUP($C39,StructureInfoFromGPCRdb!$A:$U,MATCH(E$1,StructureInfoFromGPCRdb!$A$1:$U$1,0),FALSE) -> Adenosine | F39: =VLOOKUP($C39,StructureInfoFromGPCRdb!$A:$U,MATCH(F$1,StructureInfoFromGPCRdb!$A$1:$U$1,0),FALSE) -> AA2AR | G39: =VLOOKUP($C39,StructureInfoFromGPCRdb!$A:$U,MATCH(G$1,StructureInfoFromGPCRdb!$A$1:$U$1,0),FALSE) -> A2A | J39: =VLOOKUP($C39,StructureInfoFromGPCRdb!$A:$U,MATCH(J$1,StructureInfoFromGPCRdb!$A$1:$U$1,0),FALSE) -> 89 | K39: =VLOOKUP($C39,StructureInfoFromGPCRdb!$A:$U,MATCH(K$1,StructureInfoFromGPCRdb!$A$1:$U$1,0),FALSE) -> Human | L39: =VLOOKUP($C39,StructureInfoFromGPCRdb!$A:$U,MATCH(L$1,StructureInfoFromGPCRdb!$A$1:$U$1,0),FALSE) -> 100 | M39: =VLOOKUP($C39,StructureInfoFromGPCRdb!$A:$U,MATCH(M$1,StructureInfoFromGPCRdb!$A$1:$U$1,0),FALSE) -> X-ray | N39: =VLOOKUP($C39,StructureInfoFromGPCRdb!$A:$U,MATCH(N$1,StructureInfoFromGPCRdb!$A$1:$U$1,0),FALSE) -> 2.9 | O39: =VLOOKUP($C39,StructureInfoFromGPCRdb!$A:$U,MATCH(O$1,StructureInfoFromGPCRdb!$A$1:$U$1,0),FALSE) -> Active | P39: =VLOOKUP($C39,StructureInfoFromGPCRdb!$A:$U,MATCH(P$1,StructureInfoFromGPCRdb!$A$1:$U$1,0),FALSE) -> 79 | Q39: =VLOOKUP($C39,StructureInfoFromGPCRdb!$A:$U,MATCH(Q$1,StructureInfoFromGPCRdb!$A$1:$U$1,0),FALSE) -> 43 | R39: =IF(VLOOKUP($C39,StructureInfoFromGPCRdb!$A:$U,MATCH(R$1,StructureInfoFromGPCRdb!$A$1:$U$1,0),FALSE)="","",VLOOKUP($C39,StructureInfoFromGPCRdb!$A:$U,MATCH(R$1,StructureInfoFromGPCRdb!$A$1:$U$1,0),FALSE)) | S39: =IF(VLOOKUP($C39,StructureInfoFromGPCRdb!$A:$U,MATCH(S$1,StructureInfoFromGPCRdb!$A$1:$U$1,0),FALSE)="","",VLOOKUP($C39,StructureInfoFromGPCRdb!$A:$U,MATCH(S$1,StructureInfoFromGPCRdb!$A$1:$U$1,0),FALSE)) | T39: =IF(VLOOKUP($C39,StructureInfoFromGPCRdb!$A:$U,MATCH(T$1,StructureInfoFromGPCRdb!$A$1:$U$1,0),FALSE)="","",VLOOKUP($C39,StructureInfoFromGPCRdb!$A:$U,MATCH(T$1,StructureInfoFromGPCRdb!$A$1:$U$1,0),FALSE)) | U39: =IF(VLOOKUP($C39,StructureInfoFromGPCRdb!$A:$U,MATCH(U$1,StructureInfoFromGPCRdb!$A$1:$U$1,0),FALSE)="","",VLOOKUP($C39,StructureInfoFromGPCRdb!$A:$U,MATCH(U$1,StructureInfoFromGPCRdb!$A$1:$U$1,0),FALSE)) | V39: =VLOOKUP($C39,StructureInfoFromGPCRdb!$A:$U,MATCH(V$1,StructureInfoFromGPCRdb!$A$1:$U$1,0),FALSE) -> T4-Lysozyme | W39: =VLOOKUP($C39,StructureInfoFromGPCRdb!$A:$U,MATCH(W$1,StructureInfoFromGPCRdb!$A$1:$U$1,0),FALSE) -> - | X39: =VLOOKUP($C39,StructureInfoFromGPCRdb!$A:$U,MATCH(X$1,StructureInfoFromGPCRdb!$A$1:$U$1,0),FALSE) -> UK-432097 | Y39: =VLOOKUP($C39,StructureInfoFromGPCRdb!$A:$U,MATCH(Y$1,StructureInfoFromGPCRdb!$A$1:$U$1,0),FALSE) -> Agonist
A40: =CONCATENATE(D40,H40,I40,O40) -> AActive | B40: =CONCATENATE(F40,H40,I40,O40) -> AA2ARActive | C40: 2YDO | D40: =VLOOKUP($C40,StructureInfoFromGPCRdb!$A:$U,MATCH(D$1,StructureInfoFromGPCRdb!$A$1:$U$1,0),FALSE) -> A | E40: =VLOOKUP($C40,StructureInfoFromGPCRdb!$A:$U,MATCH(E$1,StructureInfoFromGPCRdb!$A$1:$U$1,0),FALSE) -> Adenosine | F40: =VLOOKUP($C40,StructureInfoFromGPCRdb!$A:$U,MATCH(F$1,StructureInfoFromGPCRdb!$A$1:$U$1,0),FALSE) -> AA2AR | G40: =VLOOKUP($C40,StructureInfoFromGPCRdb!$A:$U,MATCH(G$1,StructureInfoFromGPCRdb!$A$1:$U$1,0),FALSE) -> A2A | J40: =VLOOKUP($C40,StructureInfoFromGPCRdb!$A:$U,MATCH(J$1,StructureInfoFromGPCRdb!$A$1:$U$1,0),FALSE) -> 95 | K40: =VLOOKUP($C40,StructureInfoFromGPCRdb!$A:$U,MATCH(K$1,StructureInfoFromGPCRdb!$A$1:$U$1,0),FALSE) -> Human | L40: =VLOOKUP($C40,StructureInfoFromGPCRdb!$A:$U,MATCH(L$1,StructureInfoFromGPCRdb!$A$1:$U$1,0),FALSE) -> 100 | M40: =VLOOKUP($C40,StructureInfoFromGPCRdb!$A:$U,MATCH(M$1,StructureInfoFromGPCRdb!$A$1:$U$1,0),FALSE) -> X-ray | N40: =VLOOKUP($C40,StructureInfoFromGPCRdb!$A:$U,MATCH(N$1,StructureInfoFromGPCRdb!$A$1:$U$1,0),FALSE) -> 3 | O40: =VLOOKUP($C40,StructureInfoFromGPCRdb!$A:$U,MATCH(O$1,StructureInfoFromGPCRdb!$A$1:$U$1,0),FALSE) -> Active | P40: =VLOOKUP($C40,StructureInfoFromGPCRdb!$A:$U,MATCH(P$1,StructureInfoFromGPCRdb!$A$1:$U$1,0),FALSE) -> 79 | Q40: =VLOOKUP($C40,StructureInfoFromGPCRdb!$A:$U,MATCH(Q$1,StructureInfoFromGPCRdb!$A$1:$U$1,0),FALSE) -> 38 | R40: =IF(VLOOKUP($C40,StructureInfoFromGPCRdb!$A:$U,MATCH(R$1,StructureInfoFromGPCRdb!$A$1:$U$1,0),FALSE)="","",VLOOKUP($C40,StructureInfoFromGPCRdb!$A:$U,MATCH(R$1,StructureInfoFromGPCRdb!$A$1:$U$1,0),FALSE)) | S40: =IF(VLOOKUP($C40,StructureInfoFromGPCRdb!$A:$U,MATCH(S$1,StructureInfoFromGPCRdb!$A$1:$U$1,0),FALSE)="","",VLOOKUP($C40,StructureInfoFromGPCRdb!$A:$U,MATCH(S$1,StructureInfoFromGPCRdb!$A$1:$U$1,0),FALSE)) | T40: =IF(VLOOKUP($C40,StructureInfoFromGPCRdb!$A:$U,MATCH(T$1,StructureInfoFromGPCRdb!$A$1:$U$1,0),FALSE)="","",VLOOKUP($C40,StructureInfoFromGPCRdb!$A:$U,MATCH(T$1,StructureInfoFromGPCRdb!$A$1:$U$1,0),FALSE)) | U40: =IF(VLOOKUP($C40,StructureInfoFromGPCRdb!$A:$U,MATCH(U$1,StructureInfoFromGPCRdb!$A$1:$U$1,0),FALSE)="","",VLOOKUP($C40,StructureInfoFromGPCRdb!$A:$U,MATCH(U$1,StructureInfoFromGPCRdb!$A$1:$U$1,0),FALSE)) | V40: =VLOOKUP($C40,StructureInfoFromGPCRdb!$A:$U,MATCH(V$1,StructureInfoFromGPCRdb!$A$1:$U$1,0),FALSE) -> - | W40: =VLOOKUP($C40,StructureInfoFromGPCRdb!$A:$U,MATCH(W$1,StructureInfoFromGPCRdb!$A$1:$U$1,0),FALSE) -> - | X40: =VLOOKUP($C40,StructureInfoFromGPCRdb!$A:$U,MATCH(X$1,StructureInfoFromGPCRdb!$A$1:$U$1,0),FALSE) -> adenosine | Y40: =VLOOKUP($C40,StructureInfoFromGPCRdb!$A:$U,MATCH(Y$1,StructureInfoFromGPCRdb!$A$1:$U$1,0),FALSE) -> Agonist
A41: =CONCATENATE(D41,H41,I41,O41) -> AActive | B41: =CONCATENATE(F41,H41,I41,O41) -> AA2ARActive | C41: 6GDG | D41: =VLOOKUP($C41,StructureInfoFromGPCRdb!$A:$U,MATCH(D$1,StructureInfoFromGPCRdb!$A$1:$U$1,0),FALSE) -> A | E41: =VLOOKUP($C41,StructureInfoFromGPCRdb!$A:$U,MATCH(E$1,StructureInfoFromGPCRdb!$A$1:$U$1,0),FALSE) -> Adenosine | F41: =VLOOKUP($C41,StructureInfoFromGPCRdb!$A:$U,MATCH(F$1,StructureInfoFromGPCRdb!$A$1:$U$1,0),FALSE) -> AA2AR | G41: =VLOOKUP($C41,StructureInfoFromGPCRdb!$A:$U,MATCH(G$1,StructureInfoFromGPCRdb!$A$1:$U$1,0),FALSE) -> A2A | J41: =VLOOKUP($C41,StructureInfoFromGPCRdb!$A:$U,MATCH(J$1,StructureInfoFromGPCRdb!$A$1:$U$1,0),FALSE) -> 88 | K41: =VLOOKUP($C41,StructureInfoFromGPCRdb!$A:$U,MATCH(K$1,StructureInfoFromGPCRdb!$A$1:$U$1,0),FALSE) -> Human | L41: =VLOOKUP($C41,StructureInfoFromGPCRdb!$A:$U,MATCH(L$1,StructureInfoFromGPCRdb!$A$1:$U$1,0),FALSE) -> 100 | M41: =VLOOKUP($C41,StructureInfoFromGPCRdb!$A:$U,MATCH(M$1,StructureInfoFromGPCRdb!$A$1:$U$1,0),FALSE) -> cryo-EM | N41: =VLOOKUP($C41,StructureInfoFromGPCRdb!$A:$U,MATCH(N$1,StructureInfoFromGPCRdb!$A$1:$U$1,0),FALSE) -> 4.1 | O41: =VLOOKUP($C41,StructureInfoFromGPCRdb!$A:$U,MATCH(O$1,StructureInfoFromGPCRdb!$A$1:$U$1,0),FALSE) -> Active | P41: =VLOOKUP($C41,StructureInfoFromGPCRdb!$A:$U,MATCH(P$1,StructureInfoFromGPCRdb!$A$1:$U$1,0),FALSE) -> 100 | Q41: =VLOOKUP($C41,StructureInfoFromGPCRdb!$A:$U,MATCH(Q$1,StructureInfoFromGPCRdb!$A$1:$U$1,0),FALSE) -> 65 | R41: =IF(VLOOKUP($C41,StructureInfoFromGPCRdb!$A:$U,MATCH(R$1,StructureInfoFromGPCRdb!$A$1:$U$1,0),FALSE)="","",VLOOKUP($C41,StructureInfoFromGPCRdb!$A:$U,MATCH(R$1,StructureInfoFromGPCRdb!$A$1:$U$1,0),FALSE)) -> Gs | S41: =IF(VLOOKUP($C41,StructureInfoFromGPCRdb!$A:$U,MATCH(S$1,StructureInfoFromGPCRdb!$A$1:$U$1,0),FALSE)="","",VLOOKUP($C41,StructureInfoFromGPCRdb!$A:$U,MATCH(S$1,StructureInfoFromGPCRdb!$A$1:$U$1,0),FALSE)) -> αs | T41: =IF(VLOOKUP($C41,StructureInfoFromGPCRdb!$A:$U,MATCH(T$1,StructureInfoFromGPCRdb!$A$1:$U$1,0),FALSE)="","",VLOOKUP($C41,StructureInfoFromGPCRdb!$A:$U,MATCH(T$1,StructureInfoFromGPCRdb!$A$1:$U$1,0),FALSE)) | U41: =IF(VLOOKUP($C41,StructureInfoFromGPCRdb!$A:$U,MATCH(U$1,StructureInfoFromGPCRdb!$A$1:$U$1,0),FALSE)="","",VLOOKUP($C41,StructureInfoFromGPCRdb!$A:$U,MATCH(U$1,StructureInfoFromGPCRdb!$A$1:$U$1,0),FALSE)) -> 57 | V41: =VLOOKUP($C41,StructureInfoFromGPCRdb!$A:$U,MATCH(V$1,StructureInfoFromGPCRdb!$A$1:$U$1,0),FALSE) -> TrxA | W41: =VLOOKUP($C41,StructureInfoFromGPCRdb!$A:$U,MATCH(W$1,StructureInfoFromGPCRdb!$A$1:$U$1,0),FALSE) -> Nanobody | X41: =VLOOKUP($C41,StructureInfoFromGPCRdb!$A:$U,MATCH(X$1,StructureInfoFromGPCRdb!$A$1:$U$1,0),FALSE) -> NECA | Y41: =VLOOKUP($C41,StructureInfoFromGPCRdb!$A:$U,MATCH(Y$1,StructureInfoFromGPCRdb!$A$1:$U$1,0),FALSE) -> Agonist
A42: =CONCATENATE(D42,H42,I42,O42) -> AActive | B42: =CONCATENATE(F42,H42,I42,O42) -> ADA2BActive | C42: 6K42 | D42: =VLOOKUP($C42,StructureInfoFromGPCRdb!$A:$U,MATCH(D$1,StructureInfoFromGPCRdb!$A$1:$U$1,0),FALSE) -> A | E42: =VLOOKUP($C42,StructureInfoFromGPCRdb!$A:$U,MATCH(E$1,StructureInfoFromGPCRdb!$A$1:$U$1,0),FALSE) -> Adrenoceptors | F42: =VLOOKUP($C42,StructureInfoFromGPCRdb!$A:$U,MATCH(F$1,StructureInfoFromGPCRdb!$A$1:$U$1,0),FALSE) -> ADA2B | G42: =VLOOKUP($C42,StructureInfoFromGPCRdb!$A:$U,MATCH(G$1,StructureInfoFromGPCRdb!$A$1:$U$1,0),FALSE) -> α2B | J42: =VLOOKUP($C42,StructureInfoFromGPCRdb!$A:$U,MATCH(J$1,StructureInfoFromGPCRdb!$A$1:$U$1,0),FALSE) -> 90 | K42: =VLOOKUP($C42,StructureInfoFromGPCRdb!$A:$U,MATCH(K$1,StructureInfoFromGPCRdb!$A$1:$U$1,0),FALSE) -> Human | L42: =VLOOKUP($C42,StructureInfoFromGPCRdb!$A:$U,MATCH(L$1,StructureInfoFromGPCRdb!$A$1:$U$1,0),FALSE) -> 100 | M42: =VLOOKUP($C42,StructureInfoFromGPCRdb!$A:$U,MATCH(M$1,StructureInfoFromGPCRdb!$A$1:$U$1,0),FALSE) -> cryo-EM | N42: =VLOOKUP($C42,StructureInfoFromGPCRdb!$A:$U,MATCH(N$1,StructureInfoFromGPCRdb!$A$1:$U$1,0),FALSE) -> 4.1 | O42: =VLOOKUP($C42,StructureInfoFromGPCRdb!$A:$U,MATCH(O$1,StructureInfoFromGPCRdb!$A$1:$U$1,0),FALSE) -> Active | P42: =VLOOKUP($C42,StructureInfoFromGPCRdb!$A:$U,MATCH(P$1,StructureInfoFromGPCRdb!$A$1:$U$1,0),FALSE) -> 100 | Q42: =VLOOKUP($C42,StructureInfoFromGPCRdb!$A:$U,MATCH(Q$1,StructureInfoFromGPCRdb!$A$1:$U$1,0),FALSE) -> 84 | R42: =IF(VLOOKUP($C42,StructureInfoFromGPCRdb!$A:$U,MATCH(R$1,StructureInfoFromGPCRdb!$A$1:$U$1,0),FALSE)="","",VLOOKUP($C42,StructureInfoFromGPCRdb!$A:$U,MATCH(R$1,StructureInfoFromGPCRdb!$A$1:$U$1,0),FALSE)) -> Gi/o | S42: =IF(VLOOKUP($C42,StructureInfoFromGPCRdb!$A:$U,MATCH(S$1,StructureInfoFromGPCRdb!$A$1:$U$1,0),FALSE)="","",VLOOKUP($C42,StructureInfoFromGPCRdb!$A:$U,MATCH(S$1,StructureInfoFromGPCRdb!$A$1:$U$1,0),FALSE)) -> αi1 | T42: =IF(VLOOKUP($C42,StructureInfoFromGPCRdb!$A:$U,MATCH(T$1,StructureInfoFromGPCRdb!$A$1:$U$1,0),FALSE)="","",VLOOKUP($C42,StructureInfoFromGPCRdb!$A:$U,MATCH(T$1,StructureInfoFromGPCRdb!$A$1:$U$1,0),FALSE)) | U42: =IF(VLOOKUP($C42,StructureInfoFromGPCRdb!$A:$U,MATCH(U$1,StructureInfoFromGPCRdb!$A$1:$U$1,0),FALSE)="","",VLOOKUP($C42,StructureInfoFromGPCRdb!$A:$U,MATCH(U$1,StructureInfoFromGPCRdb!$A$1:$U$1,0),FALSE)) -> 62 | V42: =VLOOKUP($C42,StructureInfoFromGPCRdb!$A:$U,MATCH(V$1,StructureInfoFromGPCRdb!$A$1:$U$1,0),FALSE) -> T4-Lysozyme | W42: =VLOOKUP($C42,StructureInfoFromGPCRdb!$A:$U,MATCH(W$1,StructureInfoFromGPCRdb!$A$1:$U$1,0),FALSE) -> scFv | X42: =VLOOKUP($C42,StructureInfoFromGPCRdb!$A:$U,MATCH(X$1,StructureInfoFromGPCRdb!$A$1:$U$1,0),FALSE) -> Dexmedetomidine | Y42: =VLOOKUP($C42,StructureInfoFromGPCRdb!$A:$U,MATCH(Y$1,StructureInfoFromGPCRdb!$A$1:$U$1,0),FALSE) -> Agonist
A43: =CONCATENATE(D43,H43,I43,O43) -> AActive | B43: =CONCATENATE(F43,H43,I43,O43) -> ADRB1Active | C43: 6H7N | D43: =VLOOKUP($C43,StructureInfoFromGPCRdb!$A:$U,MATCH(D$1,StructureInfoFromGPCRdb!$A$1:$U$1,0),FALSE) -> A | E43: =VLOOKUP($C43,StructureInfoFromGPCRdb!$A:$U,MATCH(E$1,StructureInfoFromGPCRdb!$A$1:$U$1,0),FALSE) -> Adrenoceptors | F43: =VLOOKUP($C43,StructureInfoFromGPCRdb!$A:$U,MATCH(F$1,StructureInfoFromGPCRdb!$A$1:$U$1,0),FALSE) -> ADRB1 | G43: =VLOOKUP($C43,StructureInfoFromGPCRdb!$A:$U,MATCH(G$1,StructureInfoFromGPCRdb!$A$1:$U$1,0),FALSE) -> β1 | J43: =VLOOKUP($C43,StructureInfoFromGPCRdb!$A:$U,MATCH(J$1,StructureInfoFromGPCRdb!$A$1:$U$1,0),FALSE) -> 94 | K43: =VLOOKUP($C43,StructureInfoFromGPCRdb!$A:$U,MATCH(K$1,StructureInfoFromGPCRdb!$A$1:$U$1,0),FALSE) -> Wild turkey | L43: =VLOOKUP($C43,StructureInfoFromGPCRdb!$A:$U,MATCH(L$1,StructureInfoFromGPCRdb!$A$1:$U$1,0),FALSE) -> 80 | M43: =VLOOKUP($C43,StructureInfoFromGPCRdb!$A:$U,MATCH(M$1,StructureInfoFromGPCRdb!$A$1:$U$1,0),FALSE) -> X-ray | N43: =VLOOKUP($C43,StructureInfoFromGPCRdb!$A:$U,MATCH(N$1,StructureInfoFromGPCRdb!$A$1:$U$1,0),FALSE) -> 2.5 | O43: =VLOOKUP($C43,StructureInfoFromGPCRdb!$A:$U,MATCH(O$1,StructureInfoFromGPCRdb!$A$1:$U$1,0),FALSE) -> Active | P43: =VLOOKUP($C43,StructureInfoFromGPCRdb!$A:$U,MATCH(P$1,StructureInfoFromGPCRdb!$A$1:$U$1,0),FALSE) -> 100 | Q43: =VLOOKUP($C43,StructureInfoFromGPCRdb!$A:$U,MATCH(Q$1,StructureInfoFromGPCRdb!$A$1:$U$1,0),FALSE) -> 71 | R43: =IF(VLOOKUP($C43,StructureInfoFromGPCRdb!$A:$U,MATCH(R$1,StructureInfoFromGPCRdb!$A$1:$U$1,0),FALSE)="","",VLOOKUP($C43,StructureInfoFromGPCRdb!$A:$U,MATCH(R$1,StructureInfoFromGPCRdb!$A$1:$U$1,0),FALSE)) | S43: =IF(VLOOKUP($C43,StructureInfoFromGPCRdb!$A:$U,MATCH(S$1,StructureInfoFromGPCRdb!$A$1:$U$1,0),FALSE)="","",VLOOKUP($C43,StructureInfoFromGPCRdb!$A:$U,MATCH(S$1,StructureInfoFromGPCRdb!$A$1:$U$1,0),FALSE)) | T43: =IF(VLOOKUP($C43,StructureInfoFromGPCRdb!$A:$U,MATCH(T$1,StructureInfoFromGPCRdb!$A$1:$U$1,0),FALSE)="","",VLOOKUP($C43,StructureInfoFromGPCRdb!$A:$U,MATCH(T$1,StructureInfoFromGPCRdb!$A$1:$U$1,0),FALSE)) | U43: =IF(VLOOKUP($C43,StructureInfoFromGPCRdb!$A:$U,MATCH(U$1,StructureInfoFromGPCRdb!$A$1:$U$1,0),FALSE)="","",VLOOKUP($C43,StructureInfoFromGPCRdb!$A:$U,MATCH(U$1,StructureInfoFromGPCRdb!$A$1:$U$1,0),FALSE)) | V43: =VLOOKUP($C43,StructureInfoFromGPCRdb!$A:$U,MATCH(V$1,StructureInfoFromGPCRdb!$A$1:$U$1,0),FALSE) -> Thioredoxin 1 | W43: =VLOOKUP($C43,StructureInfoFromGPCRdb!$A:$U,MATCH(W$1,StructureInfoFromGPCRdb!$A$1:$U$1,0),FALSE) -> Camelid antibody fra.. | X43: =VLOOKUP($C43,StructureInfoFromGPCRdb!$A:$U,MATCH(X$1,StructureInfoFromGPCRdb!$A$1:$U$1,0),FALSE) -> Xamoterol | Y43: =VLOOKUP($C43,StructureInfoFromGPCRdb!$A:$U,MATCH(Y$1,StructureInfoFromGPCRdb!$A$1:$U$1,0),FALSE) -> Agonist | Z43: Yes
A44: =CONCATENATE(D44,H44,I44,O44) -> AActive | B44: =CONCATENATE(F44,H44,I44,O44) -> ADRB1Active | C44: 6IBL | D44: =VLOOKUP($C44,StructureInfoFromGPCRdb!$A:$U,MATCH(D$1,StructureInfoFromGPCRdb!$A$1:$U$1,0),FALSE) -> A | E44: =VLOOKUP($C44,StructureInfoFromGPCRdb!$A:$U,MATCH(E$1,StructureInfoFromGPCRdb!$A$1:$U$1,0),FALSE) -> Adrenoceptors | F44: =VLOOKUP($C44,StructureInfoFromGPCRdb!$A:$U,MATCH(F$1,StructureInfoFromGPCRdb!$A$1:$U$1,0),FALSE) -> ADRB1 | G44: =VLOOKUP($C44,StructureInfoFromGPCRdb!$A:$U,MATCH(G$1,StructureInfoFromGPCRdb!$A$1:$U$1,0),FALSE) -> β1 | J44: =VLOOKUP($C44,StructureInfoFromGPCRdb!$A:$U,MATCH(J$1,StructureInfoFromGPCRdb!$A$1:$U$1,0),FALSE) -> 92 | K44: =VLOOKUP($C44,StructureInfoFromGPCRdb!$A:$U,MATCH(K$1,StructureInfoFromGPCRdb!$A$1:$U$1,0),FALSE) -> Wild turkey | L44: =VLOOKUP($C44,StructureInfoFromGPCRdb!$A:$U,MATCH(L$1,StructureInfoFromGPCRdb!$A$1:$U$1,0),FALSE) -> 80 | M44: =VLOOKUP($C44,StructureInfoFromGPCRdb!$A:$U,MATCH(M$1,StructureInfoFromGPCRdb!$A$1:$U$1,0),FALSE) -> X-ray | N44: =VLOOKUP($C44,StructureInfoFromGPCRdb!$A:$U,MATCH(N$1,StructureInfoFromGPCRdb!$A$1:$U$1,0),FALSE) -> 2.7 | O44: =VLOOKUP($C44,StructureInfoFromGPCRdb!$A:$U,MATCH(O$1,StructureInfoFromGPCRdb!$A$1:$U$1,0),FALSE) -> Active | P44: =VLOOKUP($C44,StructureInfoFromGPCRdb!$A:$U,MATCH(P$1,StructureInfoFromGPCRdb!$A$1:$U$1,0),FALSE) -> 100 | Q44: =VLOOKUP($C44,StructureInfoFromGPCRdb!$A:$U,MATCH(Q$1,StructureInfoFromGPCRdb!$A$1:$U$1,0),FALSE) -> 71 | R44: =IF(VLOOKUP($C44,StructureInfoFromGPCRdb!$A:$U,MATCH(R$1,StructureInfoFromGPCRdb!$A$1:$U$1,0),FALSE)="","",VLOOKUP($C44,StructureInfoFromGPCRdb!$A:$U,MATCH(R$1,StructureInfoFromGPCRdb!$A$1:$U$1,0),FALSE)) | S44: =IF(VLOOKUP($C44,StructureInfoFromGPCRdb!$A:$U,MATCH(S$1,StructureInfoFromGPCRdb!$A$1:$U$1,0),FALSE)="","",VLOOKUP($C44,StructureInfoFromGPCRdb!$A:$U,MATCH(S$1,StructureInfoFromGPCRdb!$A$1:$U$1,0),FALSE)) | T44: =IF(VLOOKUP($C44,StructureInfoFromGPCRdb!$A:$U,MATCH(T$1,StructureInfoFromGPCRdb!$A$1:$U$1,0),FALSE)="","",VLOOKUP($C44,StructureInfoFromGPCRdb!$A:$U,MATCH(T$1,StructureInfoFromGPCRdb!$A$1:$U$1,0),FALSE)) | U44: =IF(VLOOKUP($C44,StructureInfoFromGPCRdb!$A:$U,MATCH(U$1,StructureInfoFromGPCRdb!$A$1:$U$1,0),FALSE)="","",VLOOKUP($C44,StructureInfoFromGPCRdb!$A:$U,MATCH(U$1,StructureInfoFromGPCRdb!$A$1:$U$1,0),FALSE)) | V44: =VLOOKUP($C44,StructureInfoFromGPCRdb!$A:$U,MATCH(V$1,StructureInfoFromGPCRdb!$A$1:$U$1,0),FALSE) -> Thioredoxin 1 | W44: =VLOOKUP($C44,StructureInfoFromGPCRdb!$A:$U,MATCH(W$1,StructureInfoFromGPCRdb!$A$1:$U$1,0),FALSE) -> Carmelid antibody f.. | X44: =VLOOKUP($C44,StructureInfoFromGPCRdb!$A:$U,MATCH(X$1,StructureInfoFromGPCRdb!$A$1:$U$1,0),FALSE) -> Formoterol | Y44: =VLOOKUP($C44,StructureInfoFromGPCRdb!$A:$U,MATCH(Y$1,StructureInfoFromGPCRdb!$A$1:$U$1,0),FALSE) -> Agonist
A45: =CONCATENATE(D45,H45,I45,O45) -> AActive | B45: =CONCATENATE(F45,H45,I45,O45) -> ADRB1Active | C45: 6H7L | D45: =VLOOKUP($C45,StructureInfoFromGPCRdb!$A:$U,MATCH(D$1,StructureInfoFromGPCRdb!$A$1:$U$1,0),FALSE) -> A | E45: =VLOOKUP($C45,StructureInfoFromGPCRdb!$A:$U,MATCH(E$1,StructureInfoFromGPCRdb!$A$1:$U$1,0),FALSE) -> Adrenoceptors | F45: =VLOOKUP($C45,StructureInfoFromGPCRdb!$A:$U,MATCH(F$1,StructureInfoFromGPCRdb!$A$1:$U$1,0),FALSE) -> ADRB1 | G45: =VLOOKUP($C45,StructureInfoFromGPCRdb!$A:$U,MATCH(G$1,StructureInfoFromGPCRdb!$A$1:$U$1,0),FALSE) -> β1 | J45: =VLOOKUP($C45,StructureInfoFromGPCRdb!$A:$U,MATCH(J$1,StructureInfoFromGPCRdb!$A$1:$U$1,0),FALSE) -> 94 | K45: =VLOOKUP($C45,StructureInfoFromGPCRdb!$A:$U,MATCH(K$1,StructureInfoFromGPCRdb!$A$1:$U$1,0),FALSE) -> Wild turkey | L45: =VLOOKUP($C45,StructureInfoFromGPCRdb!$A:$U,MATCH(L$1,StructureInfoFromGPCRdb!$A$1:$U$1,0),FALSE) -> 80 | M45: =VLOOKUP($C45,StructureInfoFromGPCRdb!$A:$U,MATCH(M$1,StructureInfoFromGPCRdb!$A$1:$U$1,0),FALSE) -> X-ray | N45: =VLOOKUP($C45,StructureInfoFromGPCRdb!$A:$U,MATCH(N$1,StructureInfoFromGPCRdb!$A$1:$U$1,0),FALSE) -> 2.7 | O45: =VLOOKUP($C45,StructureInfoFromGPCRdb!$A:$U,MATCH(O$1,StructureInfoFromGPCRdb!$A$1:$U$1,0),FALSE) -> Active | P45: =VLOOKUP($C45,StructureInfoFromGPCRdb!$A:$U,MATCH(P$1,StructureInfoFromGPCRdb!$A$1:$U$1,0),FALSE) -> 100 | Q45: =VLOOKUP($C45,StructureInfoFromGPCRdb!$A:$U,MATCH(Q$1,StructureInfoFromGPCRdb!$A$1:$U$1,0),FALSE) -> 70 | R45: =IF(VLOOKUP($C45,StructureInfoFromGPCRdb!$A:$U,MATCH(R$1,StructureInfoFromGPCRdb!$A$1:$U$1,0),FALSE)="","",VLOOKUP($C45,StructureInfoFromGPCRdb!$A:$U,MATCH(R$1,StructureInfoFromGPCRdb!$A$1:$U$1,0),FALSE)) | S45: =IF(VLOOKUP($C45,StructureInfoFromGPCRdb!$A:$U,MATCH(S$1,StructureInfoFromGPCRdb!$A$1:$U$1,0),FALSE)="","",VLOOKUP($C45,StructureInfoFromGPCRdb!$A:$U,MATCH(S$1,StructureInfoFromGPCRdb!$A$1:$U$1,0),FALSE)) | T45: =IF(VLOOKUP($C45,StructureInfoFromGPCRdb!$A:$U,MATCH(T$1,StructureInfoFromGPCRdb!$A$1:$U$1,0),FALSE)="","",VLOOKUP($C45,StructureInfoFromGPCRdb!$A:$U,MATCH(T$1,StructureInfoFromGPCRdb!$A$1:$U$1,0),FALSE)) | U45: =IF(VLOOKUP($C45,StructureInfoFromGPCRdb!$A:$U,MATCH(U$1,StructureInfoFromGPCRdb!$A$1:$U$1,0),FALSE)="","",VLOOKUP($C45,StructureInfoFromGPCRdb!$A:$U,MATCH(U$1,StructureInfoFromGPCRdb!$A$1:$U$1,0),FALSE)) | V45: =VLOOKUP($C45,StructureInfoFromGPCRdb!$A:$U,MATCH(V$1,StructureInfoFromGPCRdb!$A$1:$U$1,0),FALSE) -> Thioredoxin 1 | W45: =VLOOKUP($C45,StructureInfoFromGPCRdb!$A:$U,MATCH(W$1,StructureInfoFromGPCRdb!$A$1:$U$1,0),FALSE) -> Camelid antibody fra.. | X45: =VLOOKUP($C45,StructureInfoFromGPCRdb!$A:$U,MATCH(X$1,StructureInfoFromGPCRdb!$A$1:$U$1,0),FALSE) -> Dobutamine | Y45: =VLOOKUP($C45,StructureInfoFromGPCRdb!$A:$U,MATCH(Y$1,StructureInfoFromGPCRdb!$A$1:$U$1,0),FALSE) -> Agonist
A46: =CONCATENATE(D46,H46,I46,O46) -> AActive | B46: =CONCATENATE(F46,H46,I46,O46) -> ADRB1Active | C46: 6H7O | D46: =VLOOKUP($C46,StructureInfoFromGPCRdb!$A:$U,MATCH(D$1,StructureInfoFromGPCRdb!$A$1:$U$1,0),FALSE) -> A | E46: =VLOOKUP($C46,StructureInfoFromGPCRdb!$A:$U,MATCH(E$1,StructureInfoFromGPCRdb!$A$1:$U$1,0),FALSE) -> Adrenoceptors | F46: =VLOOKUP($C46,StructureInfoFromGPCRdb!$A:$U,MATCH(F$1,StructureInfoFromGPCRdb!$A$1:$U$1,0),FALSE) -> ADRB1 | G46: =VLOOKUP($C46,StructureInfoFromGPCRdb!$A:$U,MATCH(G$1,StructureInfoFromGPCRdb!$A$1:$U$1,0),FALSE) -> β1 | J46: =VLOOKUP($C46,StructureInfoFromGPCRdb!$A:$U,MATCH(J$1,StructureInfoFromGPCRdb!$A$1:$U$1,0),FALSE) -> 94 | K46: =VLOOKUP($C46,StructureInfoFromGPCRdb!$A:$U,MATCH(K$1,StructureInfoFromGPCRdb!$A$1:$U$1,0),FALSE) -> Wild turkey | L46: =VLOOKUP($C46,StructureInfoFromGPCRdb!$A:$U,MATCH(L$1,StructureInfoFromGPCRdb!$A$1:$U$1,0),FALSE) -> 80 | M46: =VLOOKUP($C46,StructureInfoFromGPCRdb!$A:$U,MATCH(M$1,StructureInfoFromGPCRdb!$A$1:$U$1,0),FALSE) -> X-ray | N46: =VLOOKUP($C46,StructureInfoFromGPCRdb!$A:$U,MATCH(N$1,StructureInfoFromGPCRdb!$A$1:$U$1,0),FALSE) -> 2.8 | O46: =VLOOKUP($C46,StructureInfoFromGPCRdb!$A:$U,MATCH(O$1,StructureInfoFromGPCRdb!$A$1:$U$1,0),FALSE) -> Active | P46: =VLOOKUP($C46,StructureInfoFromGPCRdb!$A:$U,MATCH(P$1,StructureInfoFromGPCRdb!$A$1:$U$1,0),FALSE) -> 100 | Q46: =VLOOKUP($C46,StructureInfoFromGPCRdb!$A:$U,MATCH(Q$1,StructureInfoFromGPCRdb!$A$1:$U$1,0),FALSE) -> 69 | R46: =IF(VLOOKUP($C46,StructureInfoFromGPCRdb!$A:$U,MATCH(R$1,StructureInfoFromGPCRdb!$A$1:$U$1,0),FALSE)="","",VLOOKUP($C46,StructureInfoFromGPCRdb!$A:$U,MATCH(R$1,StructureInfoFromGPCRdb!$A$1:$U$1,0),FALSE)) | S46: =IF(VLOOKUP($C46,StructureInfoFromGPCRdb!$A:$U,MATCH(S$1,StructureInfoFromGPCRdb!$A$1:$U$1,0),FALSE)="","",VLOOKUP($C46,StructureInfoFromGPCRdb!$A:$U,MATCH(S$1,StructureInfoFromGPCRdb!$A$1:$U$1,0),FALSE)) | T46: =IF(VLOOKUP($C46,StructureInfoFromGPCRdb!$A:$U,MATCH(T$1,StructureInfoFromGPCRdb!$A$1:$U$1,0),FALSE)="","",VLOOKUP($C46,StructureInfoFromGPCRdb!$A:$U,MATCH(T$1,StructureInfoFromGPCRdb!$A$1:$U$1,0),FALSE)) | U46: =IF(VLOOKUP($C46,StructureInfoFromGPCRdb!$A:$U,MATCH(U$1,StructureInfoFromGPCRdb!$A$1:$U$1,0),FALSE)="","",VLOOKUP($C46,StructureInfoFromGPCRdb!$A:$U,MATCH(U$1,StructureInfoFromGPCRdb!$A$1:$U$1,0),FALSE)) | V46: =VLOOKUP($C46,StructureInfoFromGPCRdb!$A:$U,MATCH(V$1,StructureInfoFromGPCRdb!$A$1:$U$1,0),FALSE) -> Thioredoxin 1 | W46: =VLOOKUP($C46,StructureInfoFromGPCRdb!$A:$U,MATCH(W$1,StructureInfoFromGPCRdb!$A$1:$U$1,0),FALSE) -> Camelid antibody fra.. | X46: =VLOOKUP($C46,StructureInfoFromGPCRdb!$A:$U,MATCH(X$1,StructureInfoFromGPCRdb!$A$1:$U$1,0),FALSE) -> (S)-Cyanopindolol | Y46: =VLOOKUP($C46,StructureInfoFromGPCRdb!$A:$U,MATCH(Y$1,StructureInfoFromGPCRdb!$A$1:$U$1,0),FALSE) -> Agonist
A47: =CONCATENATE(D47,H47,I47,O47) -> AActive | B47: =CONCATENATE(F47,H47,I47,O47) -> ADRB1Active | C47: 6H7J | D47: =VLOOKUP($C47,StructureInfoFromGPCRdb!$A:$U,MATCH(D$1,StructureInfoFromGPCRdb!$A$1:$U$1,0),FALSE) -> A | E47: =VLOOKUP($C47,StructureInfoFromGPCRdb!$A:$U,MATCH(E$1,StructureInfoFromGPCRdb!$A$1:$U$1,0),FALSE) -> Adrenoceptors | F47: =VLOOKUP($C47,StructureInfoFromGPCRdb!$A:$U,MATCH(F$1,StructureInfoFromGPCRdb!$A$1:$U$1,0),FALSE) -> ADRB1 | G47: =VLOOKUP($C47,StructureInfoFromGPCRdb!$A:$U,MATCH(G$1,StructureInfoFromGPCRdb!$A$1:$U$1,0),FALSE) -> β1 | J47: =VLOOKUP($C47,StructureInfoFromGPCRdb!$A:$U,MATCH(J$1,StructureInfoFromGPCRdb!$A$1:$U$1,0),FALSE) -> 94 | K47: =VLOOKUP($C47,StructureInfoFromGPCRdb!$A:$U,MATCH(K$1,StructureInfoFromGPCRdb!$A$1:$U$1,0),FALSE) -> Wild turkey | L47: =VLOOKUP($C47,StructureInfoFromGPCRdb!$A:$U,MATCH(L$1,StructureInfoFromGPCRdb!$A$1:$U$1,0),FALSE) -> 80 | M47: =VLOOKUP($C47,StructureInfoFromGPCRdb!$A:$U,MATCH(M$1,StructureInfoFromGPCRdb!$A$1:$U$1,0),FALSE) -> X-ray | N47: =VLOOKUP($C47,StructureInfoFromGPCRdb!$A:$U,MATCH(N$1,StructureInfoFromGPCRdb!$A$1:$U$1,0),FALSE) -> 2.8 | O47: =VLOOKUP($C47,StructureInfoFromGPCRdb!$A:$U,MATCH(O$1,StructureInfoFromGPCRdb!$A$1:$U$1,0),FALSE) -> Active | P47: =VLOOKUP($C47,StructureInfoFromGPCRdb!$A:$U,MATCH(P$1,StructureInfoFromGPCRdb!$A$1:$U$1,0),FALSE) -> 100 | Q47: =VLOOKUP($C47,StructureInfoFromGPCRdb!$A:$U,MATCH(Q$1,StructureInfoFromGPCRdb!$A$1:$U$1,0),FALSE) -> 70 | R47: =IF(VLOOKUP($C47,StructureInfoFromGPCRdb!$A:$U,MATCH(R$1,StructureInfoFromGPCRdb!$A$1:$U$1,0),FALSE)="","",VLOOKUP($C47,StructureInfoFromGPCRdb!$A:$U,MATCH(R$1,StructureInfoFromGPCRdb!$A$1:$U$1,0),FALSE)) | S47: =IF(VLOOKUP($C47,StructureInfoFromGPCRdb!$A:$U,MATCH(S$1,StructureInfoFromGPCRdb!$A$1:$U$1,0),FALSE)="","",VLOOKUP($C47,StructureInfoFromGPCRdb!$A:$U,MATCH(S$1,StructureInfoFromGPCRdb!$A$1:$U$1,0),FALSE)) | T47: =IF(VLOOKUP($C47,StructureInfoFromGPCRdb!$A:$U,MATCH(T$1,StructureInfoFromGPCRdb!$A$1:$U$1,0),FALSE)="","",VLOOKUP($C47,StructureInfoFromGPCRdb!$A:$U,MATCH(T$1,StructureInfoFromGPCRdb!$A$1:$U$1,0),FALSE)) | U47: =IF(VLOOKUP($C47,StructureInfoFromGPCRdb!$A:$U,MATCH(U$1,StructureInfoFromGPCRdb!$A$1:$U$1,0),FALSE)="","",VLOOKUP($C47,StructureInfoFromGPCRdb!$A:$U,MATCH(U$1,StructureInfoFromGPCRdb!$A$1:$U$1,0),FALSE)) | V47: =VLOOKUP($C47,StructureInfoFromGPCRdb!$A:$U,MATCH(V$1,StructureInfoFromGPCRdb!$A$1:$U$1,0),FALSE) -> Thioredoxin 1 | W47: =VLOOKUP($C47,StructureInfoFromGPCRdb!$A:$U,MATCH(W$1,StructureInfoFromGPCRdb!$A$1:$U$1,0),FALSE) -> Camelid antibody fra.. | X47: =VLOOKUP($C47,StructureInfoFromGPCRdb!$A:$U,MATCH(X$1,StructureInfoFromGPCRdb!$A$1:$U$1,0),FALSE) -> Isoprenaline | Y47: =VLOOKUP($C47,StructureInfoFromGPCRdb!$A:$U,MATCH(Y$1,StructureInfoFromGPCRdb!$A$1:$U$1,0),FALSE) -> Agonist
A48: =CONCATENATE(D48,H48,I48,O48) -> AActive | B48: =CONCATENATE(F48,H48,I48,O48) -> ADRB1Active | C48: 6H7M | D48: =VLOOKUP($C48,StructureInfoFromGPCRdb!$A:$U,MATCH(D$1,StructureInfoFromGPCRdb!$A$1:$U$1,0),FALSE) -> A | E48: =VLOOKUP($C48,StructureInfoFromGPCRdb!$A:$U,MATCH(E$1,StructureInfoFromGPCRdb!$A$1:$U$1,0),FALSE) -> Adrenoceptors | F48: =VLOOKUP($C48,StructureInfoFromGPCRdb!$A:$U,MATCH(F$1,StructureInfoFromGPCRdb!$A$1:$U$1,0),FALSE) -> ADRB1 | G48: =VLOOKUP($C48,StructureInfoFromGPCRdb!$A:$U,MATCH(G$1,StructureInfoFromGPCRdb!$A$1:$U$1,0),FALSE) -> β1 | J48: =VLOOKUP($C48,StructureInfoFromGPCRdb!$A:$U,MATCH(J$1,StructureInfoFromGPCRdb!$A$1:$U$1,0),FALSE) -> 94 | K48: =VLOOKUP($C48,StructureInfoFromGPCRdb!$A:$U,MATCH(K$1,StructureInfoFromGPCRdb!$A$1:$U$1,0),FALSE) -> Wild turkey | L48: =VLOOKUP($C48,StructureInfoFromGPCRdb!$A:$U,MATCH(L$1,StructureInfoFromGPCRdb!$A$1:$U$1,0),FALSE) -> 80 | M48: =VLOOKUP($C48,StructureInfoFromGPCRdb!$A:$U,MATCH(M$1,StructureInfoFromGPCRdb!$A$1:$U$1,0),FALSE) -> X-ray | N48: =VLOOKUP($C48,StructureInfoFromGPCRdb!$A:$U,MATCH(N$1,StructureInfoFromGPCRdb!$A$1:$U$1,0),FALSE) -> 2.8 | O48: =VLOOKUP($C48,StructureInfoFromGPCRdb!$A:$U,MATCH(O$1,StructureInfoFromGPCRdb!$A$1:$U$1,0),FALSE) -> Active | P48: =VLOOKUP($C48,StructureInfoFromGPCRdb!$A:$U,MATCH(P$1,StructureInfoFromGPCRdb!$A$1:$U$1,0),FALSE) -> 100 | Q48: =VLOOKUP($C48,StructureInfoFromGPCRdb!$A:$U,MATCH(Q$1,StructureInfoFromGPCRdb!$A$1:$U$1,0),FALSE) -> 71 | R48: =IF(VLOOKUP($C48,StructureInfoFromGPCRdb!$A:$U,MATCH(R$1,StructureInfoFromGPCRdb!$A$1:$U$1,0),FALSE)="","",VLOOKUP($C48,StructureInfoFromGPCRdb!$A:$U,MATCH(R$1,StructureInfoFromGPCRdb!$A$1:$U$1,0),FALSE)) | S48: =IF(VLOOKUP($C48,StructureInfoFromGPCRdb!$A:$U,MATCH(S$1,StructureInfoFromGPCRdb!$A$1:$U$1,0),FALSE)="","",VLOOKUP($C48,StructureInfoFromGPCRdb!$A:$U,MATCH(S$1,StructureInfoFromGPCRdb!$A$1:$U$1,0),FALSE)) | T48: =IF(VLOOKUP($C48,StructureInfoFromGPCRdb!$A:$U,MATCH(T$1,StructureInfoFromGPCRdb!$A$1:$U$1,0),FALSE)="","",VLOOKUP($C48,StructureInfoFromGPCRdb!$A:$U,MATCH(T$1,StructureInfoFromGPCRdb!$A$1:$U$1,0),FALSE)) | U48: =IF(VLOOKUP($C48,StructureInfoFromGPCRdb!$A:$U,MATCH(U$1,StructureInfoFromGPCRdb!$A$1:$U$1,0),FALSE)="","",VLOOKUP($C48,StructureInfoFromGPCRdb!$A:$U,MATCH(U$1,StructureInfoFromGPCRdb!$A$1:$U$1,0),FALSE)) | V48: =VLOOKUP($C48,StructureInfoFromGPCRdb!$A:$U,MATCH(V$1,StructureInfoFromGPCRdb!$A$1:$U$1,0),FALSE) -> Thioredoxin 1 | W48: =VLOOKUP($C48,StructureInfoFromGPCRdb!$A:$U,MATCH(W$1,StructureInfoFromGPCRdb!$A$1:$U$1,0),FALSE) -> Camelid antibody fra.. | X48: =VLOOKUP($C48,StructureInfoFromGPCRdb!$A:$U,MATCH(X$1,StructureInfoFromGPCRdb!$A$1:$U$1,0),FALSE) -> Salbutamol | Y48: =VLOOKUP($C48,StructureInfoFromGPCRdb!$A:$U,MATCH(Y$1,StructureInfoFromGPCRdb!$A$1:$U$1,0),FALSE) -> Agonist
A49: =CONCATENATE(D49,H49,I49,O49) -> AActive | B49: =CONCATENATE(F49,H49,I49,O49) -> ADRB1Active | C49: 6TKO | D49: =VLOOKUP($C49,StructureInfoFromGPCRdb!$A:$U,MATCH(D$1,StructureInfoFromGPCRdb!$A$1:$U$1,0),FALSE) -> A | E49: =VLOOKUP($C49,StructureInfoFromGPCRdb!$A:$U,MATCH(E$1,StructureInfoFromGPCRdb!$A$1:$U$1,0),FALSE) -> Adrenoceptors | F49: =VLOOKUP($C49,StructureInfoFromGPCRdb!$A:$U,MATCH(F$1,StructureInfoFromGPCRdb!$A$1:$U$1,0),FALSE) -> ADRB1 | G49: =VLOOKUP($C49,StructureInfoFromGPCRdb!$A:$U,MATCH(G$1,StructureInfoFromGPCRdb!$A$1:$U$1,0),FALSE) -> β1 | J49: =VLOOKUP($C49,StructureInfoFromGPCRdb!$A:$U,MATCH(J$1,StructureInfoFromGPCRdb!$A$1:$U$1,0),FALSE) -> 91 | K49: =VLOOKUP($C49,StructureInfoFromGPCRdb!$A:$U,MATCH(K$1,StructureInfoFromGPCRdb!$A$1:$U$1,0),FALSE) -> Wild turkey | L49: =VLOOKUP($C49,StructureInfoFromGPCRdb!$A:$U,MATCH(L$1,StructureInfoFromGPCRdb!$A$1:$U$1,0),FALSE) -> 80 | M49: =VLOOKUP($C49,StructureInfoFromGPCRdb!$A:$U,MATCH(M$1,StructureInfoFromGPCRdb!$A$1:$U$1,0),FALSE) -> cryo-EM | N49: =VLOOKUP($C49,StructureInfoFromGPCRdb!$A:$U,MATCH(N$1,StructureInfoFromGPCRdb!$A$1:$U$1,0),FALSE) -> 3.3 | O49: =VLOOKUP($C49,StructureInfoFromGPCRdb!$A:$U,MATCH(O$1,StructureInfoFromGPCRdb!$A$1:$U$1,0),FALSE) -> Active | P49: =VLOOKUP($C49,StructureInfoFromGPCRdb!$A:$U,MATCH(P$1,StructureInfoFromGPCRdb!$A$1:$U$1,0),FALSE) -> 100 | Q49: =VLOOKUP($C49,StructureInfoFromGPCRdb!$A:$U,MATCH(Q$1,StructureInfoFromGPCRdb!$A$1:$U$1,0),FALSE) -> 64 | R49: =IF(VLOOKUP($C49,StructureInfoFromGPCRdb!$A:$U,MATCH(R$1,StructureInfoFromGPCRdb!$A$1:$U$1,0),FALSE)="","",VLOOKUP($C49,StructureInfoFromGPCRdb!$A:$U,MATCH(R$1,StructureInfoFromGPCRdb!$A$1:$U$1,0),FALSE)) -> Arrestin | S49: =IF(VLOOKUP($C49,StructureInfoFromGPCRdb!$A:$U,MATCH(S$1,StructureInfoFromGPCRdb!$A$1:$U$1,0),FALSE)="","",VLOOKUP($C49,StructureInfoFromGPCRdb!$A:$U,MATCH(S$1,StructureInfoFromGPCRdb!$A$1:$U$1,0),FALSE)) -> Beta-arrestin-1 | T49: =IF(VLOOKUP($C49,StructureInfoFromGPCRdb!$A:$U,MATCH(T$1,StructureInfoFromGPCRdb!$A$1:$U$1,0),FALSE)="","",VLOOKUP($C49,StructureInfoFromGPCRdb!$A:$U,MATCH(T$1,StructureInfoFromGPCRdb!$A$1:$U$1,0),FALSE)) | U49: =IF(VLOOKUP($C49,StructureInfoFromGPCRdb!$A:$U,MATCH(U$1,StructureInfoFromGPCRdb!$A$1:$U$1,0),FALSE)="","",VLOOKUP($C49,StructureInfoFromGPCRdb!$A:$U,MATCH(U$1,StructureInfoFromGPCRdb!$A$1:$U$1,0),FALSE)) -> 78 | V49: =VLOOKUP($C49,StructureInfoFromGPCRdb!$A:$U,MATCH(V$1,StructureInfoFromGPCRdb!$A$1:$U$1,0),FALSE) -> - | W49: =VLOOKUP($C49,StructureInfoFromGPCRdb!$A:$U,MATCH(W$1,StructureInfoFromGPCRdb!$A$1:$U$1,0),FALSE) -> Fab30 heavy chain F.. | X49: =VLOOKUP($C49,StructureInfoFromGPCRdb!$A:$U,MATCH(X$1,StructureInfoFromGPCRdb!$A$1:$U$1,0),FALSE) -> Formoterol | Y49: =VLOOKUP($C49,StructureInfoFromGPCRdb!$A:$U,MATCH(Y$1,StructureInfoFromGPCRdb!$A$1:$U$1,0),FALSE) -> Agonist
A50: =CONCATENATE(D50,H50,I50,O50) -> AActive | B50: =CONCATENATE(F50,H50,I50,O50) -> ADRB2Active | C50: 4LDE | D50: =VLOOKUP($C50,StructureInfoFromGPCRdb!$A:$U,MATCH(D$1,StructureInfoFromGPCRdb!$A$1:$U$1,0),FALSE) -> A | E50: =VLOOKUP($C50,StructureInfoFromGPCRdb!$A:$U,MATCH(E$1,StructureInfoFromGPCRdb!$A$1:$U$1,0),FALSE) -> Adrenoceptors | F50: =VLOOKUP($C50,StructureInfoFromGPCRdb!$A:$U,MATCH(F$1,StructureInfoFromGPCRdb!$A$1:$U$1,0),FALSE) -> ADRB2 | G50: =VLOOKUP($C50,StructureInfoFromGPCRdb!$A:$U,MATCH(G$1,StructureInfoFromGPCRdb!$A$1:$U$1,0),FALSE) -> β2 | J50: =VLOOKUP($C50,StructureInfoFromGPCRdb!$A:$U,MATCH(J$1,StructureInfoFromGPCRdb!$A$1:$U$1,0),FALSE) -> 92 | K50: =VLOOKUP($C50,StructureInfoFromGPCRdb!$A:$U,MATCH(K$1,StructureInfoFromGPCRdb!$A$1:$U$1,0),FALSE) -> Human | L50: =VLOOKUP($C50,StructureInfoFromGPCRdb!$A:$U,MATCH(L$1,StructureInfoFromGPCRdb!$A$1:$U$1,0),FALSE) -> 100 | M50: =VLOOKUP($C50,StructureInfoFromGPCRdb!$A:$U,MATCH(M$1,StructureInfoFromGPCRdb!$A$1:$U$1,0),FALSE) -> X-ray | N50: =VLOOKUP($C50,StructureInfoFromGPCRdb!$A:$U,MATCH(N$1,StructureInfoFromGPCRdb!$A$1:$U$1,0),FALSE) -> 2.8 | O50: =VLOOKUP($C50,StructureInfoFromGPCRdb!$A:$U,MATCH(O$1,StructureInfoFromGPCRdb!$A$1:$U$1,0),FALSE) -> Active | P50: =VLOOKUP($C50,StructureInfoFromGPCRdb!$A:$U,MATCH(P$1,StructureInfoFromGPCRdb!$A$1:$U$1,0),FALSE) -> 100 | Q50: =VLOOKUP($C50,StructureInfoFromGPCRdb!$A:$U,MATCH(Q$1,StructureInfoFromGPCRdb!$A$1:$U$1,0),FALSE) -> 64 | R50: =IF(VLOOKUP($C50,StructureInfoFromGPCRdb!$A:$U,MATCH(R$1,StructureInfoFromGPCRdb!$A$1:$U$1,0),FALSE)="","",VLOOKUP($C50,StructureInfoFromGPCRdb!$A:$U,MATCH(R$1,StructureInfoFromGPCRdb!$A$1:$U$1,0),FALSE)) | S50: =IF(VLOOKUP($C50,StructureInfoFromGPCRdb!$A:$U,MATCH(S$1,StructureInfoFromGPCRdb!$A$1:$U$1,0),FALSE)="","",VLOOKUP($C50,StructureInfoFromGPCRdb!$A:$U,MATCH(S$1,StructureInfoFromGPCRdb!$A$1:$U$1,0),FALSE)) | T50: =IF(VLOOKUP($C50,StructureInfoFromGPCRdb!$A:$U,MATCH(T$1,StructureInfoFromGPCRdb!$A$1:$U$1,0),FALSE)="","",VLOOKUP($C50,StructureInfoFromGPCRdb!$A:$U,MATCH(T$1,StructureInfoFromGPCRdb!$A$1:$U$1,0),FALSE)) | U50: =IF(VLOOKUP($C50,StructureInfoFromGPCRdb!$A:$U,MATCH(U$1,StructureInfoFromGPCRdb!$A$1:$U$1,0),FALSE)="","",VLOOKUP($C50,StructureInfoFromGPCRdb!$A:$U,MATCH(U$1,StructureInfoFromGPCRdb!$A$1:$U$1,0),FALSE)) | V50: =VLOOKUP($C50,StructureInfoFromGPCRdb!$A:$U,MATCH(V$1,StructureInfoFromGPCRdb!$A$1:$U$1,0),FALSE) -> T4-Lysozyme | W50: =VLOOKUP($C50,StructureInfoFromGPCRdb!$A:$U,MATCH(W$1,StructureInfoFromGPCRdb!$A$1:$U$1,0),FALSE) -> Nanobody | X50: =VLOOKUP($C50,StructureInfoFromGPCRdb!$A:$U,MATCH(X$1,StructureInfoFromGPCRdb!$A$1:$U$1,0),FALSE) -> BI-167107 | Y50: =VLOOKUP($C50,StructureInfoFromGPCRdb!$A:$U,MATCH(Y$1,StructureInfoFromGPCRdb!$A$1:$U$1,0),FALSE) -> Agonist
A51: =CONCATENATE(D51,H51,I51,O51) -> AActive | B51: =CONCATENATE(F51,H51,I51,O51) -> ADRB2Active | C51: 6MXT | D51: =VLOOKUP($C51,StructureInfoFromGPCRdb!$A:$U,MATCH(D$1,StructureInfoFromGPCRdb!$A$1:$U$1,0),FALSE) -> A | E51: =VLOOKUP($C51,StructureInfoFromGPCRdb!$A:$U,MATCH(E$1,StructureInfoFromGPCRdb!$A$1:$U$1,0),FALSE) -> Adrenoceptors | F51: =VLOOKUP($C51,StructureInfoFromGPCRdb!$A:$U,MATCH(F$1,StructureInfoFromGPCRdb!$A$1:$U$1,0),FALSE) -> ADRB2 | G51: =VLOOKUP($C51,StructureInfoFromGPCRdb!$A:$U,MATCH(G$1,StructureInfoFromGPCRdb!$A$1:$U$1,0),FALSE) -> β2 | J51: =VLOOKUP($C51,StructureInfoFromGPCRdb!$A:$U,MATCH(J$1,StructureInfoFromGPCRdb!$A$1:$U$1,0),FALSE) -> 94 | K51: =VLOOKUP($C51,StructureInfoFromGPCRdb!$A:$U,MATCH(K$1,StructureInfoFromGPCRdb!$A$1:$U$1,0),FALSE) -> Human | L51: =VLOOKUP($C51,StructureInfoFromGPCRdb!$A:$U,MATCH(L$1,StructureInfoFromGPCRdb!$A$1:$U$1,0),FALSE) -> 100 | M51: =VLOOKUP($C51,StructureInfoFromGPCRdb!$A:$U,MATCH(M$1,StructureInfoFromGPCRdb!$A$1:$U$1,0),FALSE) -> X-ray | N51: =VLOOKUP($C51,StructureInfoFromGPCRdb!$A:$U,MATCH(N$1,StructureInfoFromGPCRdb!$A$1:$U$1,0),FALSE) -> 3 | O51: =VLOOKUP($C51,StructureInfoFromGPCRdb!$A:$U,MATCH(O$1,StructureInfoFromGPCRdb!$A$1:$U$1,0),FALSE) -> Active | P51: =VLOOKUP($C51,StructureInfoFromGPCRdb!$A:$U,MATCH(P$1,StructureInfoFromGPCRdb!$A$1:$U$1,0),FALSE) -> 100 | Q51: =VLOOKUP($C51,StructureInfoFromGPCRdb!$A:$U,MATCH(Q$1,StructureInfoFromGPCRdb!$A$1:$U$1,0),FALSE) -> 66 | R51: =IF(VLOOKUP($C51,StructureInfoFromGPCRdb!$A:$U,MATCH(R$1,StructureInfoFromGPCRdb!$A$1:$U$1,0),FALSE)="","",VLOOKUP($C51,StructureInfoFromGPCRdb!$A:$U,MATCH(R$1,StructureInfoFromGPCRdb!$A$1:$U$1,0),FALSE)) | S51: =IF(VLOOKUP($C51,StructureInfoFromGPCRdb!$A:$U,MATCH(S$1,StructureInfoFromGPCRdb!$A$1:$U$1,0),FALSE)="","",VLOOKUP($C51,StructureInfoFromGPCRdb!$A:$U,MATCH(S$1,StructureInfoFromGPCRdb!$A$1:$U$1,0),FALSE)) | T51: =IF(VLOOKUP($C51,StructureInfoFromGPCRdb!$A:$U,MATCH(T$1,StructureInfoFromGPCRdb!$A$1:$U$1,0),FALSE)="","",VLOOKUP($C51,StructureInfoFromGPCRdb!$A:$U,MATCH(T$1,StructureInfoFromGPCRdb!$A$1:$U$1,0),FALSE)) | U51: =IF(VLOOKUP($C51,StructureInfoFromGPCRdb!$A:$U,MATCH(U$1,StructureInfoFromGPCRdb!$A$1:$U$1,0),FALSE)="","",VLOOKUP($C51,StructureInfoFromGPCRdb!$A:$U,MATCH(U$1,StructureInfoFromGPCRdb!$A$1:$U$1,0),FALSE)) | V51: =VLOOKUP($C51,StructureInfoFromGPCRdb!$A:$U,MATCH(V$1,StructureInfoFromGPCRdb!$A$1:$U$1,0),FALSE) -> T4-Lysozyme | W51: =VLOOKUP($C51,StructureInfoFromGPCRdb!$A:$U,MATCH(W$1,StructureInfoFromGPCRdb!$A$1:$U$1,0),FALSE) -> Nanobody 71 | X51: =VLOOKUP($C51,StructureInfoFromGPCRdb!$A:$U,MATCH(X$1,StructureInfoFromGPCRdb!$A$1:$U$1,0),FALSE) -> Salmeterol | Y51: =VLOOKUP($C51,StructureInfoFromGPCRdb!$A:$U,MATCH(Y$1,StructureInfoFromGPCRdb!$A$1:$U$1,0),FALSE) -> Agonist
A52: =CONCATENATE(D52,H52,I52,O52) -> AActive | B52: =CONCATENATE(F52,H52,I52,O52) -> ADRB2Active | C52: 4LDL | D52: =VLOOKUP($C52,StructureInfoFromGPCRdb!$A:$U,MATCH(D$1,StructureInfoFromGPCRdb!$A$1:$U$1,0),FALSE) -> A | E52: =VLOOKUP($C52,StructureInfoFromGPCRdb!$A:$U,MATCH(E$1,StructureInfoFromGPCRdb!$A$1:$U$1,0),FALSE) -> Adrenoceptors | F52: =VLOOKUP($C52,StructureInfoFromGPCRdb!$A:$U,MATCH(F$1,StructureInfoFromGPCRdb!$A$1:$U$1,0),FALSE) -> ADRB2 | G52: =VLOOKUP($C52,StructureInfoFromGPCRdb!$A:$U,MATCH(G$1,StructureInfoFromGPCRdb!$A$1:$U$1,0),FALSE) -> β2 | J52: =VLOOKUP($C52,StructureInfoFromGPCRdb!$A:$U,MATCH(J$1,StructureInfoFromGPCRdb!$A$1:$U$1,0),FALSE) -> 92 | K52: =VLOOKUP($C52,StructureInfoFromGPCRdb!$A:$U,MATCH(K$1,StructureInfoFromGPCRdb!$A$1:$U$1,0),FALSE) -> Human | L52: =VLOOKUP($C52,StructureInfoFromGPCRdb!$A:$U,MATCH(L$1,StructureInfoFromGPCRdb!$A$1:$U$1,0),FALSE) -> 100 | M52: =VLOOKUP($C52,StructureInfoFromGPCRdb!$A:$U,MATCH(M$1,StructureInfoFromGPCRdb!$A$1:$U$1,0),FALSE) -> X-ray | N52: =VLOOKUP($C52,StructureInfoFromGPCRdb!$A:$U,MATCH(N$1,StructureInfoFromGPCRdb!$A$1:$U$1,0),FALSE) -> 3.1 | O52: =VLOOKUP($C52,StructureInfoFromGPCRdb!$A:$U,MATCH(O$1,StructureInfoFromGPCRdb!$A$1:$U$1,0),FALSE) -> Active | P52: =VLOOKUP($C52,StructureInfoFromGPCRdb!$A:$U,MATCH(P$1,StructureInfoFromGPCRdb!$A$1:$U$1,0),FALSE) -> 100 | Q52: =VLOOKUP($C52,StructureInfoFromGPCRdb!$A:$U,MATCH(Q$1,StructureInfoFromGPCRdb!$A$1:$U$1,0),FALSE) -> 67 | R52: =IF(VLOOKUP($C52,StructureInfoFromGPCRdb!$A:$U,MATCH(R$1,StructureInfoFromGPCRdb!$A$1:$U$1,0),FALSE)="","",VLOOKUP($C52,StructureInfoFromGPCRdb!$A:$U,MATCH(R$1,StructureInfoFromGPCRdb!$A$1:$U$1,0),FALSE)) | S52: =IF(VLOOKUP($C52,StructureInfoFromGPCRdb!$A:$U,MATCH(S$1,StructureInfoFromGPCRdb!$A$1:$U$1,0),FALSE)="","",VLOOKUP($C52,StructureInfoFromGPCRdb!$A:$U,MATCH(S$1,StructureInfoFromGPCRdb!$A$1:$U$1,0),FALSE)) | T52: =IF(VLOOKUP($C52,StructureInfoFromGPCRdb!$A:$U,MATCH(T$1,StructureInfoFromGPCRdb!$A$1:$U$1,0),FALSE)="","",VLOOKUP($C52,StructureInfoFromGPCRdb!$A:$U,MATCH(T$1,StructureInfoFromGPCRdb!$A$1:$U$1,0),FALSE)) | U52: =IF(VLOOKUP($C52,StructureInfoFromGPCRdb!$A:$U,MATCH(U$1,StructureInfoFromGPCRdb!$A$1:$U$1,0),FALSE)="","",VLOOKUP($C52,StructureInfoFromGPCRdb!$A:$U,MATCH(U$1,StructureInfoFromGPCRdb!$A$1:$U$1,0),FALSE)) | V52: =VLOOKUP($C52,StructureInfoFromGPCRdb!$A:$U,MATCH(V$1,StructureInfoFromGPCRdb!$A$1:$U$1,0),FALSE) -> T4-Lysozyme | W52: =VLOOKUP($C52,StructureInfoFromGPCRdb!$A:$U,MATCH(W$1,StructureInfoFromGPCRdb!$A$1:$U$1,0),FALSE) -> Nanobody | X52: =VLOOKUP($C52,StructureInfoFromGPCRdb!$A:$U,MATCH(X$1,StructureInfoFromGPCRdb!$A$1:$U$1,0),FALSE) -> Hydroxybenzylisoprot.. | Y52: =VLOOKUP($C52,StructureInfoFromGPCRdb!$A:$U,MATCH(Y$1,StructureInfoFromGPCRdb!$A$1:$U$1,0),FALSE) -> Agonist
A53: =CONCATENATE(D53,H53,I53,O53) -> AActive | B53: =CONCATENATE(F53,H53,I53,O53) -> ADRB2Active | C53: 6N48 | D53: =VLOOKUP($C53,StructureInfoFromGPCRdb!$A:$U,MATCH(D$1,StructureInfoFromGPCRdb!$A$1:$U$1,0),FALSE) -> A | E53: =VLOOKUP($C53,StructureInfoFromGPCRdb!$A:$U,MATCH(E$1,StructureInfoFromGPCRdb!$A$1:$U$1,0),FALSE) -> Adrenoceptors | F53: =VLOOKUP($C53,StructureInfoFromGPCRdb!$A:$U,MATCH(F$1,StructureInfoFromGPCRdb!$A$1:$U$1,0),FALSE) -> ADRB2 | G53: =VLOOKUP($C53,StructureInfoFromGPCRdb!$A:$U,MATCH(G$1,StructureInfoFromGPCRdb!$A$1:$U$1,0),FALSE) -> β2 | J53: =VLOOKUP($C53,StructureInfoFromGPCRdb!$A:$U,MATCH(J$1,StructureInfoFromGPCRdb!$A$1:$U$1,0),FALSE) -> 91 | K53: =VLOOKUP($C53,StructureInfoFromGPCRdb!$A:$U,MATCH(K$1,StructureInfoFromGPCRdb!$A$1:$U$1,0),FALSE) -> Human | L53: =VLOOKUP($C53,StructureInfoFromGPCRdb!$A:$U,MATCH(L$1,StructureInfoFromGPCRdb!$A$1:$U$1,0),FALSE) -> 100 | M53: =VLOOKUP($C53,StructureInfoFromGPCRdb!$A:$U,MATCH(M$1,StructureInfoFromGPCRdb!$A$1:$U$1,0),FALSE) -> X-ray | N53: =VLOOKUP($C53,StructureInfoFromGPCRdb!$A:$U,MATCH(N$1,StructureInfoFromGPCRdb!$A$1:$U$1,0),FALSE) -> 3.2 | O53: =VLOOKUP($C53,StructureInfoFromGPCRdb!$A:$U,MATCH(O$1,StructureInfoFromGPCRdb!$A$1:$U$1,0),FALSE) -> Active | P53: =VLOOKUP($C53,StructureInfoFromGPCRdb!$A:$U,MATCH(P$1,StructureInfoFromGPCRdb!$A$1:$U$1,0),FALSE) -> 100 | Q53: =VLOOKUP($C53,StructureInfoFromGPCRdb!$A:$U,MATCH(Q$1,StructureInfoFromGPCRdb!$A$1:$U$1,0),FALSE) -> 67 | R53: =IF(VLOOKUP($C53,StructureInfoFromGPCRdb!$A:$U,MATCH(R$1,StructureInfoFromGPCRdb!$A$1:$U$1,0),FALSE)="","",VLOOKUP($C53,StructureInfoFromGPCRdb!$A:$U,MATCH(R$1,StructureInfoFromGPCRdb!$A$1:$U$1,0),FALSE)) | S53: =IF(VLOOKUP($C53,StructureInfoFromGPCRdb!$A:$U,MATCH(S$1,StructureInfoFromGPCRdb!$A$1:$U$1,0),FALSE)="","",VLOOKUP($C53,StructureInfoFromGPCRdb!$A:$U,MATCH(S$1,StructureInfoFromGPCRdb!$A$1:$U$1,0),FALSE)) | T53: =IF(VLOOKUP($C53,StructureInfoFromGPCRdb!$A:$U,MATCH(T$1,StructureInfoFromGPCRdb!$A$1:$U$1,0),FALSE)="","",VLOOKUP($C53,StructureInfoFromGPCRdb!$A:$U,MATCH(T$1,StructureInfoFromGPCRdb!$A$1:$U$1,0),FALSE)) | U53: =IF(VLOOKUP($C53,StructureInfoFromGPCRdb!$A:$U,MATCH(U$1,StructureInfoFromGPCRdb!$A$1:$U$1,0),FALSE)="","",VLOOKUP($C53,StructureInfoFromGPCRdb!$A:$U,MATCH(U$1,StructureInfoFromGPCRdb!$A$1:$U$1,0),FALSE)) | V53: =VLOOKUP($C53,StructureInfoFromGPCRdb!$A:$U,MATCH(V$1,StructureInfoFromGPCRdb!$A$1:$U$1,0),FALSE) -> T4-Lysozyme | W53: =VLOOKUP($C53,StructureInfoFromGPCRdb!$A:$U,MATCH(W$1,StructureInfoFromGPCRdb!$A$1:$U$1,0),FALSE) -> Camelid Antibody Fr.. | X53: =VLOOKUP($C53,StructureInfoFromGPCRdb!$A:$U,MATCH(X$1,StructureInfoFromGPCRdb!$A$1:$U$1,0),FALSE) -> BI-167107 | Y53: =VLOOKUP($C53,StructureInfoFromGPCRdb!$A:$U,MATCH(Y$1,StructureInfoFromGPCRdb!$A$1:$U$1,0),FALSE) -> Agonist
A54: =CONCATENATE(D54,H54,I54,O54) -> AActive | B54: =CONCATENATE(F54,H54,I54,O54) -> ADRB2Active | C54: 4LDO | D54: =VLOOKUP($C54,StructureInfoFromGPCRdb!$A:$U,MATCH(D$1,StructureInfoFromGPCRdb!$A$1:$U$1,0),FALSE) -> A | E54: =VLOOKUP($C54,StructureInfoFromGPCRdb!$A:$U,MATCH(E$1,StructureInfoFromGPCRdb!$A$1:$U$1,0),FALSE) -> Adrenoceptors | F54: =VLOOKUP($C54,StructureInfoFromGPCRdb!$A:$U,MATCH(F$1,StructureInfoFromGPCRdb!$A$1:$U$1,0),FALSE) -> ADRB2 | G54: =VLOOKUP($C54,StructureInfoFromGPCRdb!$A:$U,MATCH(G$1,StructureInfoFromGPCRdb!$A$1:$U$1,0),FALSE) -> β2 | J54: =VLOOKUP($C54,StructureInfoFromGPCRdb!$A:$U,MATCH(J$1,StructureInfoFromGPCRdb!$A$1:$U$1,0),FALSE) -> 92 | K54: =VLOOKUP($C54,StructureInfoFromGPCRdb!$A:$U,MATCH(K$1,StructureInfoFromGPCRdb!$A$1:$U$1,0),FALSE) -> Human | L54: =VLOOKUP($C54,StructureInfoFromGPCRdb!$A:$U,MATCH(L$1,StructureInfoFromGPCRdb!$A$1:$U$1,0),FALSE) -> 100 | M54: =VLOOKUP($C54,StructureInfoFromGPCRdb!$A:$U,MATCH(M$1,StructureInfoFromGPCRdb!$A$1:$U$1,0),FALSE) -> X-ray | N54: =VLOOKUP($C54,StructureInfoFromGPCRdb!$A:$U,MATCH(N$1,StructureInfoFromGPCRdb!$A$1:$U$1,0),FALSE) -> 3.2 | O54: =VLOOKUP($C54,StructureInfoFromGPCRdb!$A:$U,MATCH(O$1,StructureInfoFromGPCRdb!$A$1:$U$1,0),FALSE) -> Active | P54: =VLOOKUP($C54,StructureInfoFromGPCRdb!$A:$U,MATCH(P$1,StructureInfoFromGPCRdb!$A$1:$U$1,0),FALSE) -> 100 | Q54: =VLOOKUP($C54,StructureInfoFromGPCRdb!$A:$U,MATCH(Q$1,StructureInfoFromGPCRdb!$A$1:$U$1,0),FALSE) -> 67 | R54: =IF(VLOOKUP($C54,StructureInfoFromGPCRdb!$A:$U,MATCH(R$1,StructureInfoFromGPCRdb!$A$1:$U$1,0),FALSE)="","",VLOOKUP($C54,StructureInfoFromGPCRdb!$A:$U,MATCH(R$1,StructureInfoFromGPCRdb!$A$1:$U$1,0),FALSE)) | S54: =IF(VLOOKUP($C54,StructureInfoFromGPCRdb!$A:$U,MATCH(S$1,StructureInfoFromGPCRdb!$A$1:$U$1,0),FALSE)="","",VLOOKUP($C54,StructureInfoFromGPCRdb!$A:$U,MATCH(S$1,StructureInfoFromGPCRdb!$A$1:$U$1,0),FALSE)) | T54: =IF(VLOOKUP($C54,StructureInfoFromGPCRdb!$A:$U,MATCH(T$1,StructureInfoFromGPCRdb!$A$1:$U$1,0),FALSE)="","",VLOOKUP($C54,StructureInfoFromGPCRdb!$A:$U,MATCH(T$1,StructureInfoFromGPCRdb!$A$1:$U$1,0),FALSE)) | U54: =IF(VLOOKUP($C54,StructureInfoFromGPCRdb!$A:$U,MATCH(U$1,StructureInfoFromGPCRdb!$A$1:$U$1,0),FALSE)="","",VLOOKUP($C54,StructureInfoFromGPCRdb!$A:$U,MATCH(U$1,StructureInfoFromGPCRdb!$A$1:$U$1,0),FALSE)) | V54: =VLOOKUP($C54,StructureInfoFromGPCRdb!$A:$U,MATCH(V$1,StructureInfoFromGPCRdb!$A$1:$U$1,0),FALSE) -> T4-Lysozyme | W54: =VLOOKUP($C54,StructureInfoFromGPCRdb!$A:$U,MATCH(W$1,StructureInfoFromGPCRdb!$A$1:$U$1,0),FALSE) -> Nanobody | X54: =VLOOKUP($C54,StructureInfoFromGPCRdb!$A:$U,MATCH(X$1,StructureInfoFromGPCRdb!$A$1:$U$1,0),FALSE) -> Epinephrine | Y54: =VLOOKUP($C54,StructureInfoFromGPCRdb!$A:$U,MATCH(Y$1,StructureInfoFromGPCRdb!$A$1:$U$1,0),FALSE) -> Agonist
A55: =CONCATENATE(D55,H55,I55,O55) -> AActive | B55: =CONCATENATE(F55,H55,I55,O55) -> ADRB2Active | C55: 4QKX | D55: =VLOOKUP($C55,StructureInfoFromGPCRdb!$A:$U,MATCH(D$1,StructureInfoFromGPCRdb!$A$1:$U$1,0),FALSE) -> A | E55: =VLOOKUP($C55,StructureInfoFromGPCRdb!$A:$U,MATCH(E$1,StructureInfoFromGPCRdb!$A$1:$U$1,0),FALSE) -> Adrenoceptors | F55: =VLOOKUP($C55,StructureInfoFromGPCRdb!$A:$U,MATCH(F$1,StructureInfoFromGPCRdb!$A$1:$U$1,0),FALSE) -> ADRB2 | G55: =VLOOKUP($C55,StructureInfoFromGPCRdb!$A:$U,MATCH(G$1,StructureInfoFromGPCRdb!$A$1:$U$1,0),FALSE) -> β2 | J55: =VLOOKUP($C55,StructureInfoFromGPCRdb!$A:$U,MATCH(J$1,StructureInfoFromGPCRdb!$A$1:$U$1,0),FALSE) -> 92 | K55: =VLOOKUP($C55,StructureInfoFromGPCRdb!$A:$U,MATCH(K$1,StructureInfoFromGPCRdb!$A$1:$U$1,0),FALSE) -> Human | L55: =VLOOKUP($C55,StructureInfoFromGPCRdb!$A:$U,MATCH(L$1,StructureInfoFromGPCRdb!$A$1:$U$1,0),FALSE) -> 100 | M55: =VLOOKUP($C55,StructureInfoFromGPCRdb!$A:$U,MATCH(M$1,StructureInfoFromGPCRdb!$A$1:$U$1,0),FALSE) -> X-ray | N55: =VLOOKUP($C55,StructureInfoFromGPCRdb!$A:$U,MATCH(N$1,StructureInfoFromGPCRdb!$A$1:$U$1,0),FALSE) -> 3.3 | O55: =VLOOKUP($C55,StructureInfoFromGPCRdb!$A:$U,MATCH(O$1,StructureInfoFromGPCRdb!$A$1:$U$1,0),FALSE) -> Active | P55: =VLOOKUP($C55,StructureInfoFromGPCRdb!$A:$U,MATCH(P$1,StructureInfoFromGPCRdb!$A$1:$U$1,0),FALSE) -> 100 | Q55: =VLOOKUP($C55,StructureInfoFromGPCRdb!$A:$U,MATCH(Q$1,StructureInfoFromGPCRdb!$A$1:$U$1,0),FALSE) -> 67 | R55: =IF(VLOOKUP($C55,StructureInfoFromGPCRdb!$A:$U,MATCH(R$1,StructureInfoFromGPCRdb!$A$1:$U$1,0),FALSE)="","",VLOOKUP($C55,StructureInfoFromGPCRdb!$A:$U,MATCH(R$1,StructureInfoFromGPCRdb!$A$1:$U$1,0),FALSE)) | S55: =IF(VLOOKUP($C55,StructureInfoFromGPCRdb!$A:$U,MATCH(S$1,StructureInfoFromGPCRdb!$A$1:$U$1,0),FALSE)="","",VLOOKUP($C55,StructureInfoFromGPCRdb!$A:$U,MATCH(S$1,StructureInfoFromGPCRdb!$A$1:$U$1,0),FALSE)) | T55: =IF(VLOOKUP($C55,StructureInfoFromGPCRdb!$A:$U,MATCH(T$1,StructureInfoFromGPCRdb!$A$1:$U$1,0),FALSE)="","",VLOOKUP($C55,StructureInfoFromGPCRdb!$A:$U,MATCH(T$1,StructureInfoFromGPCRdb!$A$1:$U$1,0),FALSE)) | U55: =IF(VLOOKUP($C55,StructureInfoFromGPCRdb!$A:$U,MATCH(U$1,StructureInfoFromGPCRdb!$A$1:$U$1,0),FALSE)="","",VLOOKUP($C55,StructureInfoFromGPCRdb!$A:$U,MATCH(U$1,StructureInfoFromGPCRdb!$A$1:$U$1,0),FALSE)) | V55: =VLOOKUP($C55,StructureInfoFromGPCRdb!$A:$U,MATCH(V$1,StructureInfoFromGPCRdb!$A$1:$U$1,0),FALSE) -> T4-Lysozyme | W55: =VLOOKUP($C55,StructureInfoFromGPCRdb!$A:$U,MATCH(W$1,StructureInfoFromGPCRdb!$A$1:$U$1,0),FALSE) -> Nanobody | X55: =VLOOKUP($C55,StructureInfoFromGPCRdb!$A:$U,MATCH(X$1,StructureInfoFromGPCRdb!$A$1:$U$1,0),FALSE) -> Q27453560 | Y55: =VLOOKUP($C55,StructureInfoFromGPCRdb!$A:$U,MATCH(Y$1,StructureInfoFromGPCRdb!$A$1:$U$1,0),FALSE) -> Agonist
... A57: =CONCATENATE(D57,H57,I57,O57) -> AActive | B57: =CONCATENATE(F57,H57,I57,O57) -> ADRB2Active | C57: 6E67 | D57: =VLOOKUP($C57,StructureInfoFromGPCRdb!$A:$U,MATCH(D$1,StructureInfoFromGPCRdb!$A$1:$U$1,0),FALSE) -> A | E57: =VLOOKUP($C57,StructureInfoFromGPCRdb!$A:$U,MATCH(E$1,StructureInfoFromGPCRdb!$A$1:$U$1,0),FALSE) -> Adrenoceptors | F57: =VLOOKUP($C57,StructureInfoFromGPCRdb!$A:$U,MATCH(F$1,StructureInfoFromGPCRdb!$A$1:$U$1,0),FALSE) -> ADRB2 | G57: =VLOOKUP($C57,StructureInfoFromGPCRdb!$A:$U,MATCH(G$1,StructureInfoFromGPCRdb!$A$1:$U$1,0),FALSE) -> β2 | J57: =VLOOKUP($C57,StructureInfoFromGPCRdb!$A:$U,MATCH(J$1,StructureInfoFromGPCRdb!$A$1:$U$1,0),FALSE) -> 89 | K57: =VLOOKUP($C57,StructureInfoFromGPCRdb!$A:$U,MATCH(K$1,StructureInfoFromGPCRdb!$A$1:$U$1,0),FALSE) -> Human | L57: =VLOOKUP($C57,StructureInfoFromGPCRdb!$A:$U,MATCH(L$1,StructureInfoFromGPCRdb!$A$1:$U$1,0),FALSE) -> 100 | M57: =VLOOKUP($C57,StructureInfoFromGPCRdb!$A:$U,MATCH(M$1,StructureInfoFromGPCRdb!$A$1:$U$1,0),FALSE) -> X-ray | N57: =VLOOKUP($C57,StructureInfoFromGPCRdb!$A:$U,MATCH(N$1,StructureInfoFromGPCRdb!$A$1:$U$1,0),FALSE) -> 3.7 | O57: =VLOOKUP($C57,StructureInfoFromGPCRdb!$A:$U,MATCH(O$1,StructureInfoFromGPCRdb!$A$1:$U$1,0),FALSE) -> Active | P57: =VLOOKUP($C57,StructureInfoFromGPCRdb!$A:$U,MATCH(P$1,StructureInfoFromGPCRdb!$A$1:$U$1,0),FALSE) -> 100 | Q57: =VLOOKUP($C57,StructureInfoFromGPCRdb!$A:$U,MATCH(Q$1,StructureInfoFromGPCRdb!$A$1:$U$1,0),FALSE) -> 70 | R57: =IF(VLOOKUP($C57,StructureInfoFromGPCRdb!$A:$U,MATCH(R$1,StructureInfoFromGPCRdb!$A$1:$U$1,0),FALSE)="","",VLOOKUP($C57,StructureInfoFromGPCRdb!$A:$U,MATCH(R$1,StructureInfoFromGPCRdb!$A$1:$U$1,0),FALSE)) -> Gs | S57: =IF(VLOOKUP($C57,StructureInfoFromGPCRdb!$A:$U,MATCH(S$1,StructureInfoFromGPCRdb!$A$1:$U$1,0),FALSE)="","",VLOOKUP($C57,StructureInfoFromGPCRdb!$A:$U,MATCH(S$1,StructureInfoFromGPCRdb!$A$1:$U$1,0),FALSE)) -> αs | T57: =IF(VLOOKUP($C57,StructureInfoFromGPCRdb!$A:$U,MATCH(T$1,StructureInfoFromGPCRdb!$A$1:$U$1,0),FALSE)="","",VLOOKUP($C57,StructureInfoFromGPCRdb!$A:$U,MATCH(T$1,StructureInfoFromGPCRdb!$A$1:$U$1,0),FALSE)) -> Fused partial Gs | U57: =IF(VLOOKUP($C57,StructureInfoFromGPCRdb!$A:$U,MATCH(U$1,StructureInfoFromGPCRdb!$A$1:$U$1,0),FALSE)="","",VLOOKUP($C57,StructureInfoFromGPCRdb!$A:$U,MATCH(U$1,StructureInfoFromGPCRdb!$A$1:$U$1,0),FALSE)) -> 4 | V57: =VLOOKUP($C57,StructureInfoFromGPCRdb!$A:$U,MATCH(V$1,StructureInfoFromGPCRdb!$A$1:$U$1,0),FALSE) -> T4-Lysozyme | W57: =VLOOKUP($C57,StructureInfoFromGPCRdb!$A:$U,MATCH(W$1,StructureInfoFromGPCRdb!$A$1:$U$1,0),FALSE) -> - | X57: =VLOOKUP($C57,StructureInfoFromGPCRdb!$A:$U,MATCH(X$1,StructureInfoFromGPCRdb!$A$1:$U$1,0),FALSE) -> BI-167107 | Y57: =VLOOKUP($C57,StructureInfoFromGPCRdb!$A:$U,MATCH(Y$1,StructureInfoFromGPCRdb!$A$1:$U$1,0),FALSE) -> Agonist
A58: =CONCATENATE(D58,H58,I58,O58) -> AActive | B58: =CONCATENATE(F58,H58,I58,O58) -> ADRB2Active | C58: 7BZ2 | D58: =VLOOKUP($C58,StructureInfoFromGPCRdb!$A:$U,MATCH(D$1,StructureInfoFromGPCRdb!$A$1:$U$1,0),FALSE) -> A | E58: =VLOOKUP($C58,StructureInfoFromGPCRdb!$A:$U,MATCH(E$1,StructureInfoFromGPCRdb!$A$1:$U$1,0),FALSE) -> Adrenoceptors | F58: =VLOOKUP($C58,StructureInfoFromGPCRdb!$A:$U,MATCH(F$1,StructureInfoFromGPCRdb!$A$1:$U$1,0),FALSE) -> ADRB2 | G58: =VLOOKUP($C58,StructureInfoFromGPCRdb!$A:$U,MATCH(G$1,StructureInfoFromGPCRdb!$A$1:$U$1,0),FALSE) -> β2 | J58: =VLOOKUP($C58,StructureInfoFromGPCRdb!$A:$U,MATCH(J$1,StructureInfoFromGPCRdb!$A$1:$U$1,0),FALSE) -> 89 | K58: =VLOOKUP($C58,StructureInfoFromGPCRdb!$A:$U,MATCH(K$1,StructureInfoFromGPCRdb!$A$1:$U$1,0),FALSE) -> Human | L58: =VLOOKUP($C58,StructureInfoFromGPCRdb!$A:$U,MATCH(L$1,StructureInfoFromGPCRdb!$A$1:$U$1,0),FALSE) -> 100 | M58: =VLOOKUP($C58,StructureInfoFromGPCRdb!$A:$U,MATCH(M$1,StructureInfoFromGPCRdb!$A$1:$U$1,0),FALSE) -> cryo-EM | N58: =VLOOKUP($C58,StructureInfoFromGPCRdb!$A:$U,MATCH(N$1,StructureInfoFromGPCRdb!$A$1:$U$1,0),FALSE) -> 3.8 | O58: =VLOOKUP($C58,StructureInfoFromGPCRdb!$A:$U,MATCH(O$1,StructureInfoFromGPCRdb!$A$1:$U$1,0),FALSE) -> Active | P58: =VLOOKUP($C58,StructureInfoFromGPCRdb!$A:$U,MATCH(P$1,StructureInfoFromGPCRdb!$A$1:$U$1,0),FALSE) -> 100 | Q58: =VLOOKUP($C58,StructureInfoFromGPCRdb!$A:$U,MATCH(Q$1,StructureInfoFromGPCRdb!$A$1:$U$1,0),FALSE) -> 75 | R58: =IF(VLOOKUP($C58,StructureInfoFromGPCRdb!$A:$U,MATCH(R$1,StructureInfoFromGPCRdb!$A$1:$U$1,0),FALSE)="","",VLOOKUP($C58,StructureInfoFromGPCRdb!$A:$U,MATCH(R$1,StructureInfoFromGPCRdb!$A$1:$U$1,0),FALSE)) -> Gs | S58: =IF(VLOOKUP($C58,StructureInfoFromGPCRdb!$A:$U,MATCH(S$1,StructureInfoFromGPCRdb!$A$1:$U$1,0),FALSE)="","",VLOOKUP($C58,StructureInfoFromGPCRdb!$A:$U,MATCH(S$1,StructureInfoFromGPCRdb!$A$1:$U$1,0),FALSE)) -> αs | T58: =IF(VLOOKUP($C58,StructureInfoFromGPCRdb!$A:$U,MATCH(T$1,StructureInfoFromGPCRdb!$A$1:$U$1,0),FALSE)="","",VLOOKUP($C58,StructureInfoFromGPCRdb!$A:$U,MATCH(T$1,StructureInfoFromGPCRdb!$A$1:$U$1,0),FALSE)) | U58: =IF(VLOOKUP($C58,StructureInfoFromGPCRdb!$A:$U,MATCH(U$1,StructureInfoFromGPCRdb!$A$1:$U$1,0),FALSE)="","",VLOOKUP($C58,StructureInfoFromGPCRdb!$A:$U,MATCH(U$1,StructureInfoFromGPCRdb!$A$1:$U$1,0),FALSE)) -> 50 | V58: =VLOOKUP($C58,StructureInfoFromGPCRdb!$A:$U,MATCH(V$1,StructureInfoFromGPCRdb!$A$1:$U$1,0),FALSE) -> - | W58: =VLOOKUP($C58,StructureInfoFromGPCRdb!$A:$U,MATCH(W$1,StructureInfoFromGPCRdb!$A$1:$U$1,0),FALSE) -> Nanobody-35 | X58: =VLOOKUP($C58,StructureInfoFromGPCRdb!$A:$U,MATCH(X$1,StructureInfoFromGPCRdb!$A$1:$U$1,0),FALSE) -> Formoterol | Y58: =VLOOKUP($C58,StructureInfoFromGPCRdb!$A:$U,MATCH(Y$1,StructureInfoFromGPCRdb!$A$1:$U$1,0),FALSE) -> Agonist | Z58: Yes
A59: =CONCATENATE(D59,H59,I59,O59) -> AActive | B59: =CONCATENATE(F59,H59,I59,O59) -> ADRB2Active | C59: 6NI3 | D59: =VLOOKUP($C59,StructureInfoFromGPCRdb!$A:$U,MATCH(D$1,StructureInfoFromGPCRdb!$A$1:$U$1,0),FALSE) -> A | E59: =VLOOKUP($C59,StructureInfoFromGPCRdb!$A:$U,MATCH(E$1,StructureInfoFromGPCRdb!$A$1:$U$1,0),FALSE) -> Adrenoceptors | F59: =VLOOKUP($C59,StructureInfoFromGPCRdb!$A:$U,MATCH(F$1,StructureInfoFromGPCRdb!$A$1:$U$1,0),FALSE) -> ADRB2 | G59: =VLOOKUP($C59,StructureInfoFromGPCRdb!$A:$U,MATCH(G$1,StructureInfoFromGPCRdb!$A$1:$U$1,0),FALSE) -> β2 | J59: =VLOOKUP($C59,StructureInfoFromGPCRdb!$A:$U,MATCH(J$1,StructureInfoFromGPCRdb!$A$1:$U$1,0),FALSE) -> 94 | K59: =VLOOKUP($C59,StructureInfoFromGPCRdb!$A:$U,MATCH(K$1,StructureInfoFromGPCRdb!$A$1:$U$1,0),FALSE) -> Human | L59: =VLOOKUP($C59,StructureInfoFromGPCRdb!$A:$U,MATCH(L$1,StructureInfoFromGPCRdb!$A$1:$U$1,0),FALSE) -> 100 | M59: =VLOOKUP($C59,StructureInfoFromGPCRdb!$A:$U,MATCH(M$1,StructureInfoFromGPCRdb!$A$1:$U$1,0),FALSE) -> cryo-EM | N59: =VLOOKUP($C59,StructureInfoFromGPCRdb!$A:$U,MATCH(N$1,StructureInfoFromGPCRdb!$A$1:$U$1,0),FALSE) -> 3.8 | O59: =VLOOKUP($C59,StructureInfoFromGPCRdb!$A:$U,MATCH(O$1,StructureInfoFromGPCRdb!$A$1:$U$1,0),FALSE) -> Active | P59: =VLOOKUP($C59,StructureInfoFromGPCRdb!$A:$U,MATCH(P$1,StructureInfoFromGPCRdb!$A$1:$U$1,0),FALSE) -> 100 | Q59: =VLOOKUP($C59,StructureInfoFromGPCRdb!$A:$U,MATCH(Q$1,StructureInfoFromGPCRdb!$A$1:$U$1,0),FALSE) -> 77 | R59: =IF(VLOOKUP($C59,StructureInfoFromGPCRdb!$A:$U,MATCH(R$1,StructureInfoFromGPCRdb!$A$1:$U$1,0),FALSE)="","",VLOOKUP($C59,StructureInfoFromGPCRdb!$A:$U,MATCH(R$1,StructureInfoFromGPCRdb!$A$1:$U$1,0),FALSE)) -> Gs | S59: =IF(VLOOKUP($C59,StructureInfoFromGPCRdb!$A:$U,MATCH(S$1,StructureInfoFromGPCRdb!$A$1:$U$1,0),FALSE)="","",VLOOKUP($C59,StructureInfoFromGPCRdb!$A:$U,MATCH(S$1,StructureInfoFromGPCRdb!$A$1:$U$1,0),FALSE)) -> αs | T59: =IF(VLOOKUP($C59,StructureInfoFromGPCRdb!$A:$U,MATCH(T$1,StructureInfoFromGPCRdb!$A$1:$U$1,0),FALSE)="","",VLOOKUP($C59,StructureInfoFromGPCRdb!$A:$U,MATCH(T$1,StructureInfoFromGPCRdb!$A$1:$U$1,0),FALSE)) | U59: =IF(VLOOKUP($C59,StructureInfoFromGPCRdb!$A:$U,MATCH(U$1,StructureInfoFromGPCRdb!$A$1:$U$1,0),FALSE)="","",VLOOKUP($C59,StructureInfoFromGPCRdb!$A:$U,MATCH(U$1,StructureInfoFromGPCRdb!$A$1:$U$1,0),FALSE)) -> 59 | V59: =VLOOKUP($C59,StructureInfoFromGPCRdb!$A:$U,MATCH(V$1,StructureInfoFromGPCRdb!$A$1:$U$1,0),FALSE) -> - | W59: =VLOOKUP($C59,StructureInfoFromGPCRdb!$A:$U,MATCH(W$1,StructureInfoFromGPCRdb!$A$1:$U$1,0),FALSE) -> Nanobody-35 | X59: =VLOOKUP($C59,StructureInfoFromGPCRdb!$A:$U,MATCH(X$1,StructureInfoFromGPCRdb!$A$1:$U$1,0),FALSE) -> BI-167107 | Y59: =VLOOKUP($C59,StructureInfoFromGPCRdb!$A:$U,MATCH(Y$1,StructureInfoFromGPCRdb!$A$1:$U$1,0),FALSE) -> Agonist
A60: =CONCATENATE(D60,H60,I60,O60) -> AActive | B60: =CONCATENATE(F60,H60,I60,O60) -> AGTR1Active | C60: 6OS2 | D60: =VLOOKUP($C60,StructureInfoFromGPCRdb!$A:$U,MATCH(D$1,StructureInfoFromGPCRdb!$A$1:$U$1,0),FALSE) -> A | E60: =VLOOKUP($C60,StructureInfoFromGPCRdb!$A:$U,MATCH(E$1,StructureInfoFromGPCRdb!$A$1:$U$1,0),FALSE) -> Angiotensin | F60: =VLOOKUP($C60,StructureInfoFromGPCRdb!$A:$U,MATCH(F$1,StructureInfoFromGPCRdb!$A$1:$U$1,0),FALSE) -> AGTR1 | G60: =VLOOKUP($C60,StructureInfoFromGPCRdb!$A:$U,MATCH(G$1,StructureInfoFromGPCRdb!$A$1:$U$1,0),FALSE) -> AT1 | J60: =VLOOKUP($C60,StructureInfoFromGPCRdb!$A:$U,MATCH(J$1,StructureInfoFromGPCRdb!$A$1:$U$1,0),FALSE) -> 93 | K60: =VLOOKUP($C60,StructureInfoFromGPCRdb!$A:$U,MATCH(K$1,StructureInfoFromGPCRdb!$A$1:$U$1,0),FALSE) -> Human | L60: =VLOOKUP($C60,StructureInfoFromGPCRdb!$A:$U,MATCH(L$1,StructureInfoFromGPCRdb!$A$1:$U$1,0),FALSE) -> 100 | M60: =VLOOKUP($C60,StructureInfoFromGPCRdb!$A:$U,MATCH(M$1,StructureInfoFromGPCRdb!$A$1:$U$1,0),FALSE) -> X-ray | N60: =VLOOKUP($C60,StructureInfoFromGPCRdb!$A:$U,MATCH(N$1,StructureInfoFromGPCRdb!$A$1:$U$1,0),FALSE) -> 2.7 | O60: =VLOOKUP($C60,StructureInfoFromGPCRdb!$A:$U,MATCH(O$1,StructureInfoFromGPCRdb!$A$1:$U$1,0),FALSE) -> Active | P60: =VLOOKUP($C60,StructureInfoFromGPCRdb!$A:$U,MATCH(P$1,StructureInfoFromGPCRdb!$A$1:$U$1,0),FALSE) -> 90 | Q60: =VLOOKUP($C60,StructureInfoFromGPCRdb!$A:$U,MATCH(Q$1,StructureInfoFromGPCRdb!$A$1:$U$1,0),FALSE) -> 79 | R60: =IF(VLOOKUP($C60,StructureInfoFromGPCRdb!$A:$U,MATCH(R$1,StructureInfoFromGPCRdb!$A$1:$U$1,0),FALSE)="","",VLOOKUP($C60,StructureInfoFromGPCRdb!$A:$U,MATCH(R$1,StructureInfoFromGPCRdb!$A$1:$U$1,0),FALSE)) | S60: =IF(VLOOKUP($C60,StructureInfoFromGPCRdb!$A:$U,MATCH(S$1,StructureInfoFromGPCRdb!$A$1:$U$1,0),FALSE)="","",VLOOKUP($C60,StructureInfoFromGPCRdb!$A:$U,MATCH(S$1,StructureInfoFromGPCRdb!$A$1:$U$1,0),FALSE)) | T60: =IF(VLOOKUP($C60,StructureInfoFromGPCRdb!$A:$U,MATCH(T$1,StructureInfoFromGPCRdb!$A$1:$U$1,0),FALSE)="","",VLOOKUP($C60,StructureInfoFromGPCRdb!$A:$U,MATCH(T$1,StructureInfoFromGPCRdb!$A$1:$U$1,0),FALSE)) | U60: =IF(VLOOKUP($C60,StructureInfoFromGPCRdb!$A:$U,MATCH(U$1,StructureInfoFromGPCRdb!$A$1:$U$1,0),FALSE)="","",VLOOKUP($C60,StructureInfoFromGPCRdb!$A:$U,MATCH(U$1,StructureInfoFromGPCRdb!$A$1:$U$1,0),FALSE)) | V60: =VLOOKUP($C60,StructureInfoFromGPCRdb!$A:$U,MATCH(V$1,StructureInfoFromGPCRdb!$A$1:$U$1,0),FALSE) -> BRIL | W60: =VLOOKUP($C60,StructureInfoFromGPCRdb!$A:$U,MATCH(W$1,StructureInfoFromGPCRdb!$A$1:$U$1,0),FALSE) -> Nanobody Nb.AT110i1.. | X60: =VLOOKUP($C60,StructureInfoFromGPCRdb!$A:$U,MATCH(X$1,StructureInfoFromGPCRdb!$A$1:$U$1,0),FALSE) -> TRV026 | Y60: =VLOOKUP($C60,StructureInfoFromGPCRdb!$A:$U,MATCH(Y$1,StructureInfoFromGPCRdb!$A$1:$U$1,0),FALSE) -> Agonist
A61: =CONCATENATE(D61,H61,I61,O61) -> AActive | B61: =CONCATENATE(F61,H61,I61,O61) -> AGTR1Active | C61: 6OS1 | D61: =VLOOKUP($C61,StructureInfoFromGPCRdb!$A:$U,MATCH(D$1,StructureInfoFromGPCRdb!$A$1:$U$1,0),FALSE) -> A | E61: =VLOOKUP($C61,StructureInfoFromGPCRdb!$A:$U,MATCH(E$1,StructureInfoFromGPCRdb!$A$1:$U$1,0),FALSE) -> Angiotensin | F61: =VLOOKUP($C61,StructureInfoFromGPCRdb!$A:$U,MATCH(F$1,StructureInfoFromGPCRdb!$A$1:$U$1,0),FALSE) -> AGTR1 | G61: =VLOOKUP($C61,StructureInfoFromGPCRdb!$A:$U,MATCH(G$1,StructureInfoFromGPCRdb!$A$1:$U$1,0),FALSE) -> AT1 | J61: =VLOOKUP($C61,StructureInfoFromGPCRdb!$A:$U,MATCH(J$1,StructureInfoFromGPCRdb!$A$1:$U$1,0),FALSE) -> 93 | K61: =VLOOKUP($C61,StructureInfoFromGPCRdb!$A:$U,MATCH(K$1,StructureInfoFromGPCRdb!$A$1:$U$1,0),FALSE) -> Human | L61: =VLOOKUP($C61,StructureInfoFromGPCRdb!$A:$U,MATCH(L$1,StructureInfoFromGPCRdb!$A$1:$U$1,0),FALSE) -> 100 | M61: =VLOOKUP($C61,StructureInfoFromGPCRdb!$A:$U,MATCH(M$1,StructureInfoFromGPCRdb!$A$1:$U$1,0),FALSE) -> X-ray | N61: =VLOOKUP($C61,StructureInfoFromGPCRdb!$A:$U,MATCH(N$1,StructureInfoFromGPCRdb!$A$1:$U$1,0),FALSE) -> 2.8 | O61: =VLOOKUP($C61,StructureInfoFromGPCRdb!$A:$U,MATCH(O$1,StructureInfoFromGPCRdb!$A$1:$U$1,0),FALSE) -> Active | P61: =VLOOKUP($C61,StructureInfoFromGPCRdb!$A:$U,MATCH(P$1,StructureInfoFromGPCRdb!$A$1:$U$1,0),FALSE) -> 90 | Q61: =VLOOKUP($C61,StructureInfoFromGPCRdb!$A:$U,MATCH(Q$1,StructureInfoFromGPCRdb!$A$1:$U$1,0),FALSE) -> 79 | R61: =IF(VLOOKUP($C61,StructureInfoFromGPCRdb!$A:$U,MATCH(R$1,StructureInfoFromGPCRdb!$A$1:$U$1,0),FALSE)="","",VLOOKUP($C61,StructureInfoFromGPCRdb!$A:$U,MATCH(R$1,StructureInfoFromGPCRdb!$A$1:$U$1,0),FALSE)) | S61: =IF(VLOOKUP($C61,StructureInfoFromGPCRdb!$A:$U,MATCH(S$1,StructureInfoFromGPCRdb!$A$1:$U$1,0),FALSE)="","",VLOOKUP($C61,StructureInfoFromGPCRdb!$A:$U,MATCH(S$1,StructureInfoFromGPCRdb!$A$1:$U$1,0),FALSE)) | T61: =IF(VLOOKUP($C61,StructureInfoFromGPCRdb!$A:$U,MATCH(T$1,StructureInfoFromGPCRdb!$A$1:$U$1,0),FALSE)="","",VLOOKUP($C61,StructureInfoFromGPCRdb!$A:$U,MATCH(T$1,StructureInfoFromGPCRdb!$A$1:$U$1,0),FALSE)) | U61: =IF(VLOOKUP($C61,StructureInfoFromGPCRdb!$A:$U,MATCH(U$1,StructureInfoFromGPCRdb!$A$1:$U$1,0),FALSE)="","",VLOOKUP($C61,StructureInfoFromGPCRdb!$A:$U,MATCH(U$1,StructureInfoFromGPCRdb!$A$1:$U$1,0),FALSE)) | V61: =VLOOKUP($C61,StructureInfoFromGPCRdb!$A:$U,MATCH(V$1,StructureInfoFromGPCRdb!$A$1:$U$1,0),FALSE) -> BRIL | W61: =VLOOKUP($C61,StructureInfoFromGPCRdb!$A:$U,MATCH(W$1,StructureInfoFromGPCRdb!$A$1:$U$1,0),FALSE) -> Nanobody Nb.AT110i1.. | X61: =VLOOKUP($C61,StructureInfoFromGPCRdb!$A:$U,MATCH(X$1,StructureInfoFromGPCRdb!$A$1:$U$1,0),FALSE) -> TRV023 | Y61: =VLOOKUP($C61,StructureInfoFromGPCRdb!$A:$U,MATCH(Y$1,StructureInfoFromGPCRdb!$A$1:$U$1,0),FALSE) -> Agonist
A62: =CONCATENATE(D62,H62,I62,O62) -> AActive | B62: =CONCATENATE(F62,H62,I62,O62) -> AGTR2Active | C62: 5UNG | D62: =VLOOKUP($C62,StructureInfoFromGPCRdb!$A:$U,MATCH(D$1,StructureInfoFromGPCRdb!$A$1:$U$1,0),FALSE) -> A | E62: =VLOOKUP($C62,StructureInfoFromGPCRdb!$A:$U,MATCH(E$1,StructureInfoFromGPCRdb!$A$1:$U$1,0),FALSE) -> Angiotensin | F62: =VLOOKUP($C62,StructureInfoFromGPCRdb!$A:$U,MATCH(F$1,StructureInfoFromGPCRdb!$A$1:$U$1,0),FALSE) -> AGTR2 | G62: =VLOOKUP($C62,StructureInfoFromGPCRdb!$A:$U,MATCH(G$1,StructureInfoFromGPCRdb!$A$1:$U$1,0),FALSE) -> AT2 | J62: =VLOOKUP($C62,StructureInfoFromGPCRdb!$A:$U,MATCH(J$1,StructureInfoFromGPCRdb!$A$1:$U$1,0),FALSE) -> 95 | K62: =VLOOKUP($C62,StructureInfoFromGPCRdb!$A:$U,MATCH(K$1,StructureInfoFromGPCRdb!$A$1:$U$1,0),FALSE) -> Human | L62: =VLOOKUP($C62,StructureInfoFromGPCRdb!$A:$U,MATCH(L$1,StructureInfoFromGPCRdb!$A$1:$U$1,0),FALSE) -> 100 | M62: =VLOOKUP($C62,StructureInfoFromGPCRdb!$A:$U,MATCH(M$1,StructureInfoFromGPCRdb!$A$1:$U$1,0),FALSE) -> X-ray | N62: =VLOOKUP($C62,StructureInfoFromGPCRdb!$A:$U,MATCH(N$1,StructureInfoFromGPCRdb!$A$1:$U$1,0),FALSE) -> 2.8 | O62: =VLOOKUP($C62,StructureInfoFromGPCRdb!$A:$U,MATCH(O$1,StructureInfoFromGPCRdb!$A$1:$U$1,0),FALSE) -> Active | P62: =VLOOKUP($C62,StructureInfoFromGPCRdb!$A:$U,MATCH(P$1,StructureInfoFromGPCRdb!$A$1:$U$1,0),FALSE) -> 97 | Q62: =VLOOKUP($C62,StructureInfoFromGPCRdb!$A:$U,MATCH(Q$1,StructureInfoFromGPCRdb!$A$1:$U$1,0),FALSE) -> 62 | R62: =IF(VLOOKUP($C62,StructureInfoFromGPCRdb!$A:$U,MATCH(R$1,StructureInfoFromGPCRdb!$A$1:$U$1,0),FALSE)="","",VLOOKUP($C62,StructureInfoFromGPCRdb!$A:$U,MATCH(R$1,StructureInfoFromGPCRdb!$A$1:$U$1,0),FALSE)) | S62: =IF(VLOOKUP($C62,StructureInfoFromGPCRdb!$A:$U,MATCH(S$1,StructureInfoFromGPCRdb!$A$1:$U$1,0),FALSE)="","",VLOOKUP($C62,StructureInfoFromGPCRdb!$A:$U,MATCH(S$1,StructureInfoFromGPCRdb!$A$1:$U$1,0),FALSE)) | T62: =IF(VLOOKUP($C62,StructureInfoFromGPCRdb!$A:$U,MATCH(T$1,StructureInfoFromGPCRdb!$A$1:$U$1,0),FALSE)="","",VLOOKUP($C62,StructureInfoFromGPCRdb!$A:$U,MATCH(T$1,StructureInfoFromGPCRdb!$A$1:$U$1,0),FALSE)) | U62: =IF(VLOOKUP($C62,StructureInfoFromGPCRdb!$A:$U,MATCH(U$1,StructureInfoFromGPCRdb!$A$1:$U$1,0),FALSE)="","",VLOOKUP($C62,StructureInfoFromGPCRdb!$A:$U,MATCH(U$1,StructureInfoFromGPCRdb!$A$1:$U$1,0),FALSE)) | V62: =VLOOKUP($C62,StructureInfoFromGPCRdb!$A:$U,MATCH(V$1,StructureInfoFromGPCRdb!$A$1:$U$1,0),FALSE) -> BRIL | W62: =VLOOKUP($C62,StructureInfoFromGPCRdb!$A:$U,MATCH(W$1,StructureInfoFromGPCRdb!$A$1:$U$1,0),FALSE) -> - | X62: =VLOOKUP($C62,StructureInfoFromGPCRdb!$A:$U,MATCH(X$1,StructureInfoFromGPCRdb!$A$1:$U$1,0),FALSE) -> N-Benzyl-N-[2-ethyl-.. | Y62: =VLOOKUP($C62,StructureInfoFromGPCRdb!$A:$U,MATCH(Y$1,StructureInfoFromGPCRdb!$A$1:$U$1,0),FALSE) -> Antagonist
A63: =CONCATENATE(D63,H63,I63,O63) -> AActive | B63: =CONCATENATE(F63,H63,I63,O63) -> AGTR2Active | C63: 5UNF | D63: =VLOOKUP($C63,StructureInfoFromGPCRdb!$A:$U,MATCH(D$1,StructureInfoFromGPCRdb!$A$1:$U$1,0),FALSE) -> A | E63: =VLOOKUP($C63,StructureInfoFromGPCRdb!$A:$U,MATCH(E$1,StructureInfoFromGPCRdb!$A$1:$U$1,0),FALSE) -> Angiotensin | F63: =VLOOKUP($C63,StructureInfoFromGPCRdb!$A:$U,MATCH(F$1,StructureInfoFromGPCRdb!$A$1:$U$1,0),FALSE) -> AGTR2 | G63: =VLOOKUP($C63,StructureInfoFromGPCRdb!$A:$U,MATCH(G$1,StructureInfoFromGPCRdb!$A$1:$U$1,0),FALSE) -> AT2 | J63: =VLOOKUP($C63,StructureInfoFromGPCRdb!$A:$U,MATCH(J$1,StructureInfoFromGPCRdb!$A$1:$U$1,0),FALSE) -> 95 | K63: =VLOOKUP($C63,StructureInfoFromGPCRdb!$A:$U,MATCH(K$1,StructureInfoFromGPCRdb!$A$1:$U$1,0),FALSE) -> Human | L63: =VLOOKUP($C63,StructureInfoFromGPCRdb!$A:$U,MATCH(L$1,StructureInfoFromGPCRdb!$A$1:$U$1,0),FALSE) -> 100 | M63: =VLOOKUP($C63,StructureInfoFromGPCRdb!$A:$U,MATCH(M$1,StructureInfoFromGPCRdb!$A$1:$U$1,0),FALSE) -> X-ray | N63: =VLOOKUP($C63,StructureInfoFromGPCRdb!$A:$U,MATCH(N$1,StructureInfoFromGPCRdb!$A$1:$U$1,0),FALSE) -> 2.8 | O63: =VLOOKUP($C63,StructureInfoFromGPCRdb!$A:$U,MATCH(O$1,StructureInfoFromGPCRdb!$A$1:$U$1,0),FALSE) -> Active | P63: =VLOOKUP($C63,StructureInfoFromGPCRdb!$A:$U,MATCH(P$1,StructureInfoFromGPCRdb!$A$1:$U$1,0),FALSE) -> 97 | Q63: =VLOOKUP($C63,StructureInfoFromGPCRdb!$A:$U,MATCH(Q$1,StructureInfoFromGPCRdb!$A$1:$U$1,0),FALSE) -> 64 | R63: =IF(VLOOKUP($C63,StructureInfoFromGPCRdb!$A:$U,MATCH(R$1,StructureInfoFromGPCRdb!$A$1:$U$1,0),FALSE)="","",VLOOKUP($C63,StructureInfoFromGPCRdb!$A:$U,MATCH(R$1,StructureInfoFromGPCRdb!$A$1:$U$1,0),FALSE)) | S63: =IF(VLOOKUP($C63,StructureInfoFromGPCRdb!$A:$U,MATCH(S$1,StructureInfoFromGPCRdb!$A$1:$U$1,0),FALSE)="","",VLOOKUP($C63,StructureInfoFromGPCRdb!$A:$U,MATCH(S$1,StructureInfoFromGPCRdb!$A$1:$U$1,0),FALSE)) | T63: =IF(VLOOKUP($C63,StructureInfoFromGPCRdb!$A:$U,MATCH(T$1,StructureInfoFromGPCRdb!$A$1:$U$1,0),FALSE)="","",VLOOKUP($C63,StructureInfoFromGPCRdb!$A:$U,MATCH(T$1,StructureInfoFromGPCRdb!$A$1:$U$1,0),FALSE)) | U63: =IF(VLOOKUP($C63,StructureInfoFromGPCRdb!$A:$U,MATCH(U$1,StructureInfoFromGPCRdb!$A$1:$U$1,0),FALSE)="","",VLOOKUP($C63,StructureInfoFromGPCRdb!$A:$U,MATCH(U$1,StructureInfoFromGPCRdb!$A$1:$U$1,0),FALSE)) | V63: =VLOOKUP($C63,StructureInfoFromGPCRdb!$A:$U,MATCH(V$1,StructureInfoFromGPCRdb!$A$1:$U$1,0),FALSE) -> BRIL | W63: =VLOOKUP($C63,StructureInfoFromGPCRdb!$A:$U,MATCH(W$1,StructureInfoFromGPCRdb!$A$1:$U$1,0),FALSE) -> - | X63: =VLOOKUP($C63,StructureInfoFromGPCRdb!$A:$U,MATCH(X$1,StructureInfoFromGPCRdb!$A$1:$U$1,0),FALSE) -> N-Benzyl-N-[2-ethyl-.. | Y63: =VLOOKUP($C63,StructureInfoFromGPCRdb!$A:$U,MATCH(Y$1,StructureInfoFromGPCRdb!$A$1:$U$1,0),FALSE) -> Antagonist
A64: =CONCATENATE(D64,H64,I64,O64) -> AActive | B64: =CONCATENATE(F64,H64,I64,O64) -> AGTR2Active | C64: 5UNH | D64: =VLOOKUP($C64,StructureInfoFromGPCRdb!$A:$U,MATCH(D$1,StructureInfoFromGPCRdb!$A$1:$U$1,0),FALSE) -> A | E64: =VLOOKUP($C64,StructureInfoFromGPCRdb!$A:$U,MATCH(E$1,StructureInfoFromGPCRdb!$A$1:$U$1,0),FALSE) -> Angiotensin | F64: =VLOOKUP($C64,StructureInfoFromGPCRdb!$A:$U,MATCH(F$1,StructureInfoFromGPCRdb!$A$1:$U$1,0),FALSE) -> AGTR2 | G64: =VLOOKUP($C64,StructureInfoFromGPCRdb!$A:$U,MATCH(G$1,StructureInfoFromGPCRdb!$A$1:$U$1,0),FALSE) -> AT2 | J64: =VLOOKUP($C64,StructureInfoFromGPCRdb!$A:$U,MATCH(J$1,StructureInfoFromGPCRdb!$A$1:$U$1,0),FALSE) -> 93 | K64: =VLOOKUP($C64,StructureInfoFromGPCRdb!$A:$U,MATCH(K$1,StructureInfoFromGPCRdb!$A$1:$U$1,0),FALSE) -> Human | L64: =VLOOKUP($C64,StructureInfoFromGPCRdb!$A:$U,MATCH(L$1,StructureInfoFromGPCRdb!$A$1:$U$1,0),FALSE) -> 100 | M64: =VLOOKUP($C64,StructureInfoFromGPCRdb!$A:$U,MATCH(M$1,StructureInfoFromGPCRdb!$A$1:$U$1,0),FALSE) -> X-ray | N64: =VLOOKUP($C64,StructureInfoFromGPCRdb!$A:$U,MATCH(N$1,StructureInfoFromGPCRdb!$A$1:$U$1,0),FALSE) -> 2.9 | O64: =VLOOKUP($C64,StructureInfoFromGPCRdb!$A:$U,MATCH(O$1,StructureInfoFromGPCRdb!$A$1:$U$1,0),FALSE) -> Active | P64: =VLOOKUP($C64,StructureInfoFromGPCRdb!$A:$U,MATCH(P$1,StructureInfoFromGPCRdb!$A$1:$U$1,0),FALSE) -> 97 | Q64: =VLOOKUP($C64,StructureInfoFromGPCRdb!$A:$U,MATCH(Q$1,StructureInfoFromGPCRdb!$A$1:$U$1,0),FALSE) -> 65 | R64: =IF(VLOOKUP($C64,StructureInfoFromGPCRdb!$A:$U,MATCH(R$1,StructureInfoFromGPCRdb!$A$1:$U$1,0),FALSE)="","",VLOOKUP($C64,StructureInfoFromGPCRdb!$A:$U,MATCH(R$1,StructureInfoFromGPCRdb!$A$1:$U$1,0),FALSE)) | S64: =IF(VLOOKUP($C64,StructureInfoFromGPCRdb!$A:$U,MATCH(S$1,StructureInfoFromGPCRdb!$A$1:$U$1,0),FALSE)="","",VLOOKUP($C64,StructureInfoFromGPCRdb!$A:$U,MATCH(S$1,StructureInfoFromGPCRdb!$A$1:$U$1,0),FALSE)) | T64: =IF(VLOOKUP($C64,StructureInfoFromGPCRdb!$A:$U,MATCH(T$1,StructureInfoFromGPCRdb!$A$1:$U$1,0),FALSE)="","",VLOOKUP($C64,StructureInfoFromGPCRdb!$A:$U,MATCH(T$1,StructureInfoFromGPCRdb!$A$1:$U$1,0),FALSE)) | U64: =IF(VLOOKUP($C64,StructureInfoFromGPCRdb!$A:$U,MATCH(U$1,StructureInfoFromGPCRdb!$A$1:$U$1,0),FALSE)="","",VLOOKUP($C64,StructureInfoFromGPCRdb!$A:$U,MATCH(U$1,StructureInfoFromGPCRdb!$A$1:$U$1,0),FALSE)) | V64: =VLOOKUP($C64,StructureInfoFromGPCRdb!$A:$U,MATCH(V$1,StructureInfoFromGPCRdb!$A$1:$U$1,0),FALSE) -> BRIL | W64: =VLOOKUP($C64,StructureInfoFromGPCRdb!$A:$U,MATCH(W$1,StructureInfoFromGPCRdb!$A$1:$U$1,0),FALSE) -> - | X64: =VLOOKUP($C64,StructureInfoFromGPCRdb!$A:$U,MATCH(X$1,StructureInfoFromGPCRdb!$A$1:$U$1,0),FALSE) -> N-[(Furan-2-Yl)methy.. | Y64: =VLOOKUP($C64,StructureInfoFromGPCRdb!$A:$U,MATCH(Y$1,StructureInfoFromGPCRdb!$A$1:$U$1,0),FALSE) -> Antagonist
A65: =CONCATENATE(D65,H65,I65,O65) -> AActive | B65: =CONCATENATE(F65,H65,I65,O65) -> AGTR2Active | C65: 5XJM | D65: =VLOOKUP($C65,StructureInfoFromGPCRdb!$A:$U,MATCH(D$1,StructureInfoFromGPCRdb!$A$1:$U$1,0),FALSE) -> A | E65: =VLOOKUP($C65,StructureInfoFromGPCRdb!$A:$U,MATCH(E$1,StructureInfoFromGPCRdb!$A$1:$U$1,0),FALSE) -> Angiotensin | F65: =VLOOKUP($C65,StructureInfoFromGPCRdb!$A:$U,MATCH(F$1,StructureInfoFromGPCRdb!$A$1:$U$1,0),FALSE) -> AGTR2 | G65: =VLOOKUP($C65,StructureInfoFromGPCRdb!$A:$U,MATCH(G$1,StructureInfoFromGPCRdb!$A$1:$U$1,0),FALSE) -> AT2 | J65: =VLOOKUP($C65,StructureInfoFromGPCRdb!$A:$U,MATCH(J$1,StructureInfoFromGPCRdb!$A$1:$U$1,0),FALSE) -> 91 | K65: =VLOOKUP($C65,StructureInfoFromGPCRdb!$A:$U,MATCH(K$1,StructureInfoFromGPCRdb!$A$1:$U$1,0),FALSE) -> Human | L65: =VLOOKUP($C65,StructureInfoFromGPCRdb!$A:$U,MATCH(L$1,StructureInfoFromGPCRdb!$A$1:$U$1,0),FALSE) -> 100 | M65: =VLOOKUP($C65,StructureInfoFromGPCRdb!$A:$U,MATCH(M$1,StructureInfoFromGPCRdb!$A$1:$U$1,0),FALSE) -> X-ray | N65: =VLOOKUP($C65,StructureInfoFromGPCRdb!$A:$U,MATCH(N$1,StructureInfoFromGPCRdb!$A$1:$U$1,0),FALSE) -> 3.2 | O65: =VLOOKUP($C65,StructureInfoFromGPCRdb!$A:$U,MATCH(O$1,StructureInfoFromGPCRdb!$A$1:$U$1,0),FALSE) -> Active | P65: =VLOOKUP($C65,StructureInfoFromGPCRdb!$A:$U,MATCH(P$1,StructureInfoFromGPCRdb!$A$1:$U$1,0),FALSE) -> 97 | Q65: =VLOOKUP($C65,StructureInfoFromGPCRdb!$A:$U,MATCH(Q$1,StructureInfoFromGPCRdb!$A$1:$U$1,0),FALSE) -> 61 | R65: =IF(VLOOKUP($C65,StructureInfoFromGPCRdb!$A:$U,MATCH(R$1,StructureInfoFromGPCRdb!$A$1:$U$1,0),FALSE)="","",VLOOKUP($C65,StructureInfoFromGPCRdb!$A:$U,MATCH(R$1,StructureInfoFromGPCRdb!$A$1:$U$1,0),FALSE)) | S65: =IF(VLOOKUP($C65,StructureInfoFromGPCRdb!$A:$U,MATCH(S$1,StructureInfoFromGPCRdb!$A$1:$U$1,0),FALSE)="","",VLOOKUP($C65,StructureInfoFromGPCRdb!$A:$U,MATCH(S$1,StructureInfoFromGPCRdb!$A$1:$U$1,0),FALSE)) | T65: =IF(VLOOKUP($C65,StructureInfoFromGPCRdb!$A:$U,MATCH(T$1,StructureInfoFromGPCRdb!$A$1:$U$1,0),FALSE)="","",VLOOKUP($C65,StructureInfoFromGPCRdb!$A:$U,MATCH(T$1,StructureInfoFromGPCRdb!$A$1:$U$1,0),FALSE)) | U65: =IF(VLOOKUP($C65,StructureInfoFromGPCRdb!$A:$U,MATCH(U$1,StructureInfoFromGPCRdb!$A$1:$U$1,0),FALSE)="","",VLOOKUP($C65,StructureInfoFromGPCRdb!$A:$U,MATCH(U$1,StructureInfoFromGPCRdb!$A$1:$U$1,0),FALSE)) | V65: =VLOOKUP($C65,StructureInfoFromGPCRdb!$A:$U,MATCH(V$1,StructureInfoFromGPCRdb!$A$1:$U$1,0),FALSE) -> BRIL | W65: =VLOOKUP($C65,StructureInfoFromGPCRdb!$A:$U,MATCH(W$1,StructureInfoFromGPCRdb!$A$1:$U$1,0),FALSE) -> Fab | X65: =VLOOKUP($C65,StructureInfoFromGPCRdb!$A:$U,MATCH(X$1,StructureInfoFromGPCRdb!$A$1:$U$1,0),FALSE) -> (Sar1,Ile8)-Angionte.. | Y65: =VLOOKUP($C65,StructureInfoFromGPCRdb!$A:$U,MATCH(Y$1,StructureInfoFromGPCRdb!$A$1:$U$1,0),FALSE) -> Agonist
A66: =CONCATENATE(D66,H66,I66,O66) -> AActive | B66: =CONCATENATE(F66,H66,I66,O66) -> AGTR2Active | C66: 7C6A | D66: =VLOOKUP($C66,StructureInfoFromGPCRdb!$A:$U,MATCH(D$1,StructureInfoFromGPCRdb!$A$1:$U$1,0),FALSE) -> A | E66: =VLOOKUP($C66,StructureInfoFromGPCRdb!$A:$U,MATCH(E$1,StructureInfoFromGPCRdb!$A$1:$U$1,0),FALSE) -> Angiotensin | F66: =VLOOKUP($C66,StructureInfoFromGPCRdb!$A:$U,MATCH(F$1,StructureInfoFromGPCRdb!$A$1:$U$1,0),FALSE) -> AGTR2 | G66: =VLOOKUP($C66,StructureInfoFromGPCRdb!$A:$U,MATCH(G$1,StructureInfoFromGPCRdb!$A$1:$U$1,0),FALSE) -> AT2 | J66: =VLOOKUP($C66,StructureInfoFromGPCRdb!$A:$U,MATCH(J$1,StructureInfoFromGPCRdb!$A$1:$U$1,0),FALSE) -> 90 | K66: =VLOOKUP($C66,StructureInfoFromGPCRdb!$A:$U,MATCH(K$1,StructureInfoFromGPCRdb!$A$1:$U$1,0),FALSE) -> Human | L66: =VLOOKUP($C66,StructureInfoFromGPCRdb!$A:$U,MATCH(L$1,StructureInfoFromGPCRdb!$A$1:$U$1,0),FALSE) -> 100 | M66: =VLOOKUP($C66,StructureInfoFromGPCRdb!$A:$U,MATCH(M$1,StructureInfoFromGPCRdb!$A$1:$U$1,0),FALSE) -> X-ray | N66: =VLOOKUP($C66,StructureInfoFromGPCRdb!$A:$U,MATCH(N$1,StructureInfoFromGPCRdb!$A$1:$U$1,0),FALSE) -> 3.4 | O66: =VLOOKUP($C66,StructureInfoFromGPCRdb!$A:$U,MATCH(O$1,StructureInfoFromGPCRdb!$A$1:$U$1,0),FALSE) -> Active | P66: =VLOOKUP($C66,StructureInfoFromGPCRdb!$A:$U,MATCH(P$1,StructureInfoFromGPCRdb!$A$1:$U$1,0),FALSE) -> 97 | Q66: =VLOOKUP($C66,StructureInfoFromGPCRdb!$A:$U,MATCH(Q$1,StructureInfoFromGPCRdb!$A$1:$U$1,0),FALSE) -> 61 | R66: =IF(VLOOKUP($C66,StructureInfoFromGPCRdb!$A:$U,MATCH(R$1,StructureInfoFromGPCRdb!$A$1:$U$1,0),FALSE)="","",VLOOKUP($C66,StructureInfoFromGPCRdb!$A:$U,MATCH(R$1,StructureInfoFromGPCRdb!$A$1:$U$1,0),FALSE)) | S66: =IF(VLOOKUP($C66,StructureInfoFromGPCRdb!$A:$U,MATCH(S$1,StructureInfoFromGPCRdb!$A$1:$U$1,0),FALSE)="","",VLOOKUP($C66,StructureInfoFromGPCRdb!$A:$U,MATCH(S$1,StructureInfoFromGPCRdb!$A$1:$U$1,0),FALSE)) | T66: =IF(VLOOKUP($C66,StructureInfoFromGPCRdb!$A:$U,MATCH(T$1,StructureInfoFromGPCRdb!$A$1:$U$1,0),FALSE)="","",VLOOKUP($C66,StructureInfoFromGPCRdb!$A:$U,MATCH(T$1,StructureInfoFromGPCRdb!$A$1:$U$1,0),FALSE)) | U66: =IF(VLOOKUP($C66,StructureInfoFromGPCRdb!$A:$U,MATCH(U$1,StructureInfoFromGPCRdb!$A$1:$U$1,0),FALSE)="","",VLOOKUP($C66,StructureInfoFromGPCRdb!$A:$U,MATCH(U$1,StructureInfoFromGPCRdb!$A$1:$U$1,0),FALSE)) | V66: =VLOOKUP($C66,StructureInfoFromGPCRdb!$A:$U,MATCH(V$1,StructureInfoFromGPCRdb!$A$1:$U$1,0),FALSE) -> BRIL | W66: =VLOOKUP($C66,StructureInfoFromGPCRdb!$A:$U,MATCH(W$1,StructureInfoFromGPCRdb!$A$1:$U$1,0),FALSE) -> IgG heavy chain Ig.. | X66: =VLOOKUP($C66,StructureInfoFromGPCRdb!$A:$U,MATCH(X$1,StructureInfoFromGPCRdb!$A$1:$U$1,0),FALSE) -> (Sar1,Ile8)-Angioten.. | Y66: =VLOOKUP($C66,StructureInfoFromGPCRdb!$A:$U,MATCH(Y$1,StructureInfoFromGPCRdb!$A$1:$U$1,0),FALSE) -> Agonist
A67: =CONCATENATE(D67,H67,I67,O67) -> AActive | B67: =CONCATENATE(F67,H67,I67,O67) -> GPBARActive | C67: 7CFM | D67: =VLOOKUP($C67,StructureInfoFromGPCRdb!$A:$U,MATCH(D$1,StructureInfoFromGPCRdb!$A$1:$U$1,0),FALSE) -> A | E67: =VLOOKUP($C67,StructureInfoFromGPCRdb!$A:$U,MATCH(E$1,StructureInfoFromGPCRdb!$A$1:$U$1,0),FALSE) -> Bile acid | F67: =VLOOKUP($C67,StructureInfoFromGPCRdb!$A:$U,MATCH(F$1,StructureInfoFromGPCRdb!$A$1:$U$1,0),FALSE) -> GPBAR | G67: =VLOOKUP($C67,StructureInfoFromGPCRdb!$A:$U,MATCH(G$1,StructureInfoFromGPCRdb!$A$1:$U$1,0),FALSE) -> GPBA | J67: =VLOOKUP($C67,StructureInfoFromGPCRdb!$A:$U,MATCH(J$1,StructureInfoFromGPCRdb!$A$1:$U$1,0),FALSE) -> 89 | K67: =VLOOKUP($C67,StructureInfoFromGPCRdb!$A:$U,MATCH(K$1,StructureInfoFromGPCRdb!$A$1:$U$1,0),FALSE) -> Human | L67: =VLOOKUP($C67,StructureInfoFromGPCRdb!$A:$U,MATCH(L$1,StructureInfoFromGPCRdb!$A$1:$U$1,0),FALSE) -> 100 | M67: =VLOOKUP($C67,StructureInfoFromGPCRdb!$A:$U,MATCH(M$1,StructureInfoFromGPCRdb!$A$1:$U$1,0),FALSE) -> cryo-EM | N67: =VLOOKUP($C67,StructureInfoFromGPCRdb!$A:$U,MATCH(N$1,StructureInfoFromGPCRdb!$A$1:$U$1,0),FALSE) -> 3 | O67: =VLOOKUP($C67,StructureInfoFromGPCRdb!$A:$U,MATCH(O$1,StructureInfoFromGPCRdb!$A$1:$U$1,0),FALSE) -> Active | P67: =VLOOKUP($C67,StructureInfoFromGPCRdb!$A:$U,MATCH(P$1,StructureInfoFromGPCRdb!$A$1:$U$1,0),FALSE) -> 100 | Q67: =VLOOKUP($C67,StructureInfoFromGPCRdb!$A:$U,MATCH(Q$1,StructureInfoFromGPCRdb!$A$1:$U$1,0),FALSE) -> 100 | R67: =IF(VLOOKUP($C67,StructureInfoFromGPCRdb!$A:$U,MATCH(R$1,StructureInfoFromGPCRdb!$A$1:$U$1,0),FALSE)="","",VLOOKUP($C67,StructureInfoFromGPCRdb!$A:$U,MATCH(R$1,StructureInfoFromGPCRdb!$A$1:$U$1,0),FALSE)) -> Gs | S67: =IF(VLOOKUP($C67,StructureInfoFromGPCRdb!$A:$U,MATCH(S$1,StructureInfoFromGPCRdb!$A$1:$U$1,0),FALSE)="","",VLOOKUP($C67,StructureInfoFromGPCRdb!$A:$U,MATCH(S$1,StructureInfoFromGPCRdb!$A$1:$U$1,0),FALSE)) -> αs | T67: =IF(VLOOKUP($C67,StructureInfoFromGPCRdb!$A:$U,MATCH(T$1,StructureInfoFromGPCRdb!$A$1:$U$1,0),FALSE)="","",VLOOKUP($C67,StructureInfoFromGPCRdb!$A:$U,MATCH(T$1,StructureInfoFromGPCRdb!$A$1:$U$1,0),FALSE)) | U67: =IF(VLOOKUP($C67,StructureInfoFromGPCRdb!$A:$U,MATCH(U$1,StructureInfoFromGPCRdb!$A$1:$U$1,0),FALSE)="","",VLOOKUP($C67,StructureInfoFromGPCRdb!$A:$U,MATCH(U$1,StructureInfoFromGPCRdb!$A$1:$U$1,0),FALSE)) -> 58 | V67: =VLOOKUP($C67,StructureInfoFromGPCRdb!$A:$U,MATCH(V$1,StructureInfoFromGPCRdb!$A$1:$U$1,0),FALSE) -> - | W67: =VLOOKUP($C67,StructureInfoFromGPCRdb!$A:$U,MATCH(W$1,StructureInfoFromGPCRdb!$A$1:$U$1,0),FALSE) -> Nanobody-35 | X67: =VLOOKUP($C67,StructureInfoFromGPCRdb!$A:$U,MATCH(X$1,StructureInfoFromGPCRdb!$A$1:$U$1,0),FALSE) -> P395 | Y67: =VLOOKUP($C67,StructureInfoFromGPCRdb!$A:$U,MATCH(Y$1,StructureInfoFromGPCRdb!$A$1:$U$1,0),FALSE) -> Agonist
A68: =CONCATENATE(D68,H68,I68,O68) -> AActive | B68: =CONCATENATE(F68,H68,I68,O68) -> GPBARActive | C68: 7BW0 | D68: =VLOOKUP($C68,StructureInfoFromGPCRdb!$A:$U,MATCH(D$1,StructureInfoFromGPCRdb!$A$1:$U$1,0),FALSE) -> A | E68: =VLOOKUP($C68,StructureInfoFromGPCRdb!$A:$U,MATCH(E$1,StructureInfoFromGPCRdb!$A$1:$U$1,0),FALSE) -> Bile acid | F68: =VLOOKUP($C68,StructureInfoFromGPCRdb!$A:$U,MATCH(F$1,StructureInfoFromGPCRdb!$A$1:$U$1,0),FALSE) -> GPBAR | G68: =VLOOKUP($C68,StructureInfoFromGPCRdb!$A:$U,MATCH(G$1,StructureInfoFromGPCRdb!$A$1:$U$1,0),FALSE) -> GPBA | J68: =VLOOKUP($C68,StructureInfoFromGPCRdb!$A:$U,MATCH(J$1,StructureInfoFromGPCRdb!$A$1:$U$1,0),FALSE) -> 89 | K68: =VLOOKUP($C68,StructureInfoFromGPCRdb!$A:$U,MATCH(K$1,StructureInfoFromGPCRdb!$A$1:$U$1,0),FALSE) -> Human | L68: =VLOOKUP($C68,StructureInfoFromGPCRdb!$A:$U,MATCH(L$1,StructureInfoFromGPCRdb!$A$1:$U$1,0),FALSE) -> 100 | M68: =VLOOKUP($C68,StructureInfoFromGPCRdb!$A:$U,MATCH(M$1,StructureInfoFromGPCRdb!$A$1:$U$1,0),FALSE) -> cryo-EM | N68: =VLOOKUP($C68,StructureInfoFromGPCRdb!$A:$U,MATCH(N$1,StructureInfoFromGPCRdb!$A$1:$U$1,0),FALSE) -> 3.9 | O68: =VLOOKUP($C68,StructureInfoFromGPCRdb!$A:$U,MATCH(O$1,StructureInfoFromGPCRdb!$A$1:$U$1,0),FALSE) -> Active | P68: =VLOOKUP($C68,StructureInfoFromGPCRdb!$A:$U,MATCH(P$1,StructureInfoFromGPCRdb!$A$1:$U$1,0),FALSE) -> 100 | Q68: =VLOOKUP($C68,StructureInfoFromGPCRdb!$A:$U,MATCH(Q$1,StructureInfoFromGPCRdb!$A$1:$U$1,0),FALSE) -> 85 | R68: =IF(VLOOKUP($C68,StructureInfoFromGPCRdb!$A:$U,MATCH(R$1,StructureInfoFromGPCRdb!$A$1:$U$1,0),FALSE)="","",VLOOKUP($C68,StructureInfoFromGPCRdb!$A:$U,MATCH(R$1,StructureInfoFromGPCRdb!$A$1:$U$1,0),FALSE)) -> Gs | S68: =IF(VLOOKUP($C68,StructureInfoFromGPCRdb!$A:$U,MATCH(S$1,StructureInfoFromGPCRdb!$A$1:$U$1,0),FALSE)="","",VLOOKUP($C68,StructureInfoFromGPCRdb!$A:$U,MATCH(S$1,StructureInfoFromGPCRdb!$A$1:$U$1,0),FALSE)) -> αs | T68: =IF(VLOOKUP($C68,StructureInfoFromGPCRdb!$A:$U,MATCH(T$1,StructureInfoFromGPCRdb!$A$1:$U$1,0),FALSE)="","",VLOOKUP($C68,StructureInfoFromGPCRdb!$A:$U,MATCH(T$1,StructureInfoFromGPCRdb!$A$1:$U$1,0),FALSE)) | U68: =IF(VLOOKUP($C68,StructureInfoFromGPCRdb!$A:$U,MATCH(U$1,StructureInfoFromGPCRdb!$A$1:$U$1,0),FALSE)="","",VLOOKUP($C68,StructureInfoFromGPCRdb!$A:$U,MATCH(U$1,StructureInfoFromGPCRdb!$A$1:$U$1,0),FALSE)) -> 56 | V68: =VLOOKUP($C68,StructureInfoFromGPCRdb!$A:$U,MATCH(V$1,StructureInfoFromGPCRdb!$A$1:$U$1,0),FALSE) -> BRIL | W68: =VLOOKUP($C68,StructureInfoFromGPCRdb!$A:$U,MATCH(W$1,StructureInfoFromGPCRdb!$A$1:$U$1,0),FALSE) -> Nanobody-35 | X68: =VLOOKUP($C68,StructureInfoFromGPCRdb!$A:$U,MATCH(X$1,StructureInfoFromGPCRdb!$A$1:$U$1,0),FALSE) -> - | Y68: =VLOOKUP($C68,StructureInfoFromGPCRdb!$A:$U,MATCH(Y$1,StructureInfoFromGPCRdb!$A$1:$U$1,0),FALSE) -> -
A69: =CONCATENATE(D69,H69,I69,O69) -> AActive | B69: =CONCATENATE(F69,H69,I69,O69) -> CNR1Active | C69: 5XRA | D69: =VLOOKUP($C69,StructureInfoFromGPCRdb!$A:$U,MATCH(D$1,StructureInfoFromGPCRdb!$A$1:$U$1,0),FALSE) -> A | E69: =VLOOKUP($C69,StructureInfoFromGPCRdb!$A:$U,MATCH(E$1,StructureInfoFromGPCRdb!$A$1:$U$1,0),FALSE) -> Cannabinoid | F69: =VLOOKUP($C69,StructureInfoFromGPCRdb!$A:$U,MATCH(F$1,StructureInfoFromGPCRdb!$A$1:$U$1,0),FALSE) -> CNR1 | G69: =VLOOKUP($C69,StructureInfoFromGPCRdb!$A:$U,MATCH(G$1,StructureInfoFromGPCRdb!$A$1:$U$1,0),FALSE) -> CB1 | J69: =VLOOKUP($C69,StructureInfoFromGPCRdb!$A:$U,MATCH(J$1,StructureInfoFromGPCRdb!$A$1:$U$1,0),FALSE) -> 91 | K69: =VLOOKUP($C69,StructureInfoFromGPCRdb!$A:$U,MATCH(K$1,StructureInfoFromGPCRdb!$A$1:$U$1,0),FALSE) -> Human | L69: =VLOOKUP($C69,StructureInfoFromGPCRdb!$A:$U,MATCH(L$1,StructureInfoFromGPCRdb!$A$1:$U$1,0),FALSE) -> 100 | M69: =VLOOKUP($C69,StructureInfoFromGPCRdb!$A:$U,MATCH(M$1,StructureInfoFromGPCRdb!$A$1:$U$1,0),FALSE) -> X-ray | N69: =VLOOKUP($C69,StructureInfoFromGPCRdb!$A:$U,MATCH(N$1,StructureInfoFromGPCRdb!$A$1:$U$1,0),FALSE) -> 2.8 | O69: =VLOOKUP($C69,StructureInfoFromGPCRdb!$A:$U,MATCH(O$1,StructureInfoFromGPCRdb!$A$1:$U$1,0),FALSE) -> Active | P69: =VLOOKUP($C69,StructureInfoFromGPCRdb!$A:$U,MATCH(P$1,StructureInfoFromGPCRdb!$A$1:$U$1,0),FALSE) -> 98 | Q69: =VLOOKUP($C69,StructureInfoFromGPCRdb!$A:$U,MATCH(Q$1,StructureInfoFromGPCRdb!$A$1:$U$1,0),FALSE) -> 59 | R69: =IF(VLOOKUP($C69,StructureInfoFromGPCRdb!$A:$U,MATCH(R$1,StructureInfoFromGPCRdb!$A$1:$U$1,0),FALSE)="","",VLOOKUP($C69,StructureInfoFromGPCRdb!$A:$U,MATCH(R$1,StructureInfoFromGPCRdb!$A$1:$U$1,0),FALSE)) | S69: =IF(VLOOKUP($C69,StructureInfoFromGPCRdb!$A:$U,MATCH(S$1,StructureInfoFromGPCRdb!$A$1:$U$1,0),FALSE)="","",VLOOKUP($C69,StructureInfoFromGPCRdb!$A:$U,MATCH(S$1,StructureInfoFromGPCRdb!$A$1:$U$1,0),FALSE)) | T69: =IF(VLOOKUP($C69,StructureInfoFromGPCRdb!$A:$U,MATCH(T$1,StructureInfoFromGPCRdb!$A$1:$U$1,0),FALSE)="","",VLOOKUP($C69,StructureInfoFromGPCRdb!$A:$U,MATCH(T$1,StructureInfoFromGPCRdb!$A$1:$U$1,0),FALSE)) | U69: =IF(VLOOKUP($C69,StructureInfoFromGPCRdb!$A:$U,MATCH(U$1,StructureInfoFromGPCRdb!$A$1:$U$1,0),FALSE)="","",VLOOKUP($C69,StructureInfoFromGPCRdb!$A:$U,MATCH(U$1,StructureInfoFromGPCRdb!$A$1:$U$1,0),FALSE)) | V69: =VLOOKUP($C69,StructureInfoFromGPCRdb!$A:$U,MATCH(V$1,StructureInfoFromGPCRdb!$A$1:$U$1,0),FALSE) -> Flavodoxin | W69: =VLOOKUP($C69,StructureInfoFromGPCRdb!$A:$U,MATCH(W$1,StructureInfoFromGPCRdb!$A$1:$U$1,0),FALSE) -> - | X69: =VLOOKUP($C69,StructureInfoFromGPCRdb!$A:$U,MATCH(X$1,StructureInfoFromGPCRdb!$A$1:$U$1,0),FALSE) -> AM11542 | Y69: =VLOOKUP($C69,StructureInfoFromGPCRdb!$A:$U,MATCH(Y$1,StructureInfoFromGPCRdb!$A$1:$U$1,0),FALSE) -> Agonist
A70: =CONCATENATE(D70,H70,I70,O70) -> AActive | B70: =CONCATENATE(F70,H70,I70,O70) -> CNR1Active | C70: 5XR8 | D70: =VLOOKUP($C70,StructureInfoFromGPCRdb!$A:$U,MATCH(D$1,StructureInfoFromGPCRdb!$A$1:$U$1,0),FALSE) -> A | E70: =VLOOKUP($C70,StructureInfoFromGPCRdb!$A:$U,MATCH(E$1,StructureInfoFromGPCRdb!$A$1:$U$1,0),FALSE) -> Cannabinoid | F70: =VLOOKUP($C70,StructureInfoFromGPCRdb!$A:$U,MATCH(F$1,StructureInfoFromGPCRdb!$A$1:$U$1,0),FALSE) -> CNR1 | G70: =VLOOKUP($C70,StructureInfoFromGPCRdb!$A:$U,MATCH(G$1,StructureInfoFromGPCRdb!$A$1:$U$1,0),FALSE) -> CB1 | J70: =VLOOKUP($C70,StructureInfoFromGPCRdb!$A:$U,MATCH(J$1,StructureInfoFromGPCRdb!$A$1:$U$1,0),FALSE) -> 91 | K70: =VLOOKUP($C70,StructureInfoFromGPCRdb!$A:$U,MATCH(K$1,StructureInfoFromGPCRdb!$A$1:$U$1,0),FALSE) -> Human | L70: =VLOOKUP($C70,StructureInfoFromGPCRdb!$A:$U,MATCH(L$1,StructureInfoFromGPCRdb!$A$1:$U$1,0),FALSE) -> 100 | M70: =VLOOKUP($C70,StructureInfoFromGPCRdb!$A:$U,MATCH(M$1,StructureInfoFromGPCRdb!$A$1:$U$1,0),FALSE) -> X-ray | N70: =VLOOKUP($C70,StructureInfoFromGPCRdb!$A:$U,MATCH(N$1,StructureInfoFromGPCRdb!$A$1:$U$1,0),FALSE) -> 3 | O70: =VLOOKUP($C70,StructureInfoFromGPCRdb!$A:$U,MATCH(O$1,StructureInfoFromGPCRdb!$A$1:$U$1,0),FALSE) -> Active | P70: =VLOOKUP($C70,StructureInfoFromGPCRdb!$A:$U,MATCH(P$1,StructureInfoFromGPCRdb!$A$1:$U$1,0),FALSE) -> 98 | Q70: =VLOOKUP($C70,StructureInfoFromGPCRdb!$A:$U,MATCH(Q$1,StructureInfoFromGPCRdb!$A$1:$U$1,0),FALSE) -> 57 | R70: =IF(VLOOKUP($C70,StructureInfoFromGPCRdb!$A:$U,MATCH(R$1,StructureInfoFromGPCRdb!$A$1:$U$1,0),FALSE)="","",VLOOKUP($C70,StructureInfoFromGPCRdb!$A:$U,MATCH(R$1,StructureInfoFromGPCRdb!$A$1:$U$1,0),FALSE)) | S70: =IF(VLOOKUP($C70,StructureInfoFromGPCRdb!$A:$U,MATCH(S$1,StructureInfoFromGPCRdb!$A$1:$U$1,0),FALSE)="","",VLOOKUP($C70,StructureInfoFromGPCRdb!$A:$U,MATCH(S$1,StructureInfoFromGPCRdb!$A$1:$U$1,0),FALSE)) | T70: =IF(VLOOKUP($C70,StructureInfoFromGPCRdb!$A:$U,MATCH(T$1,StructureInfoFromGPCRdb!$A$1:$U$1,0),FALSE)="","",VLOOKUP($C70,StructureInfoFromGPCRdb!$A:$U,MATCH(T$1,StructureInfoFromGPCRdb!$A$1:$U$1,0),FALSE)) | U70: =IF(VLOOKUP($C70,StructureInfoFromGPCRdb!$A:$U,MATCH(U$1,StructureInfoFromGPCRdb!$A$1:$U$1,0),FALSE)="","",VLOOKUP($C70,StructureInfoFromGPCRdb!$A:$U,MATCH(U$1,StructureInfoFromGPCRdb!$A$1:$U$1,0),FALSE)) | V70: =VLOOKUP($C70,StructureInfoFromGPCRdb!$A:$U,MATCH(V$1,StructureInfoFromGPCRdb!$A$1:$U$1,0),FALSE) -> Flavodoxin | W70: =VLOOKUP($C70,StructureInfoFromGPCRdb!$A:$U,MATCH(W$1,StructureInfoFromGPCRdb!$A$1:$U$1,0),FALSE) -> - | X70: =VLOOKUP($C70,StructureInfoFromGPCRdb!$A:$U,MATCH(X$1,StructureInfoFromGPCRdb!$A$1:$U$1,0),FALSE) -> (6Ar,9R,10aR)-9-(hyd.. | Y70: =VLOOKUP($C70,StructureInfoFromGPCRdb!$A:$U,MATCH(Y$1,StructureInfoFromGPCRdb!$A$1:$U$1,0),FALSE) -> Agonist
... A122: =CONCATENATE(D122,H122,I122,O122) -> AActive | B122: =CONCATENATE(F122,H122,I122,O122) -> US28Active | C122: 4XT3 | D122: =VLOOKUP($C122,StructureInfoFromGPCRdb!$A:$U,MATCH(D$1,StructureInfoFromGPCRdb!$A$1:$U$1,0),FALSE) -> A | E122: =VLOOKUP($C122,StructureInfoFromGPCRdb!$A:$U,MATCH(E$1,StructureInfoFromGPCRdb!$A$1:$U$1,0),FALSE) -> Unclassified | F122: =VLOOKUP($C122,StructureInfoFromGPCRdb!$A:$U,MATCH(F$1,StructureInfoFromGPCRdb!$A$1:$U$1,0),FALSE) -> US28 | G122: =VLOOKUP($C122,StructureInfoFromGPCRdb!$A:$U,MATCH(G$1,StructureInfoFromGPCRdb!$A$1:$U$1,0),FALSE) -> US28 | J122: =VLOOKUP($C122,StructureInfoFromGPCRdb!$A:$U,MATCH(J$1,StructureInfoFromGPCRdb!$A$1:$U$1,0),FALSE) -> 90 | K122: =VLOOKUP($C122,StructureInfoFromGPCRdb!$A:$U,MATCH(K$1,StructureInfoFromGPCRdb!$A$1:$U$1,0),FALSE) -> strain AD169 | L122: =VLOOKUP($C122,StructureInfoFromGPCRdb!$A:$U,MATCH(L$1,StructureInfoFromGPCRdb!$A$1:$U$1,0),FALSE) -> 0 | M122: =VLOOKUP($C122,StructureInfoFromGPCRdb!$A:$U,MATCH(M$1,StructureInfoFromGPCRdb!$A$1:$U$1,0),FALSE) -> X-ray | N122: =VLOOKUP($C122,StructureInfoFromGPCRdb!$A:$U,MATCH(N$1,StructureInfoFromGPCRdb!$A$1:$U$1,0),FALSE) -> 3.8 | O122: =VLOOKUP($C122,StructureInfoFromGPCRdb!$A:$U,MATCH(O$1,StructureInfoFromGPCRdb!$A$1:$U$1,0),FALSE) -> Active | P122: =VLOOKUP($C122,StructureInfoFromGPCRdb!$A:$U,MATCH(P$1,StructureInfoFromGPCRdb!$A$1:$U$1,0),FALSE) -> 97 | Q122: =VLOOKUP($C122,StructureInfoFromGPCRdb!$A:$U,MATCH(Q$1,StructureInfoFromGPCRdb!$A$1:$U$1,0),FALSE) -> 56 | R122: =IF(VLOOKUP($C122,StructureInfoFromGPCRdb!$A:$U,MATCH(R$1,StructureInfoFromGPCRdb!$A$1:$U$1,0),FALSE)="","",VLOOKUP($C122,StructureInfoFromGPCRdb!$A:$U,MATCH(R$1,StructureInfoFromGPCRdb!$A$1:$U$1,0),FALSE)) | S122: =IF(VLOOKUP($C122,StructureInfoFromGPCRdb!$A:$U,MATCH(S$1,StructureInfoFromGPCRdb!$A$1:$U$1,0),FALSE)="","",VLOOKUP($C122,StructureInfoFromGPCRdb!$A:$U,MATCH(S$1,StructureInfoFromGPCRdb!$A$1:$U$1,0),FALSE)) | T122: =IF(VLOOKUP($C122,StructureInfoFromGPCRdb!$A:$U,MATCH(T$1,StructureInfoFromGPCRdb!$A$1:$U$1,0),FALSE)="","",VLOOKUP($C122,StructureInfoFromGPCRdb!$A:$U,MATCH(T$1,StructureInfoFromGPCRdb!$A$1:$U$1,0),FALSE)) | U122: =IF(VLOOKUP($C122,StructureInfoFromGPCRdb!$A:$U,MATCH(U$1,StructureInfoFromGPCRdb!$A$1:$U$1,0),FALSE)="","",VLOOKUP($C122,StructureInfoFromGPCRdb!$A:$U,MATCH(U$1,StructureInfoFromGPCRdb!$A$1:$U$1,0),FALSE)) | V122: =VLOOKUP($C122,StructureInfoFromGPCRdb!$A:$U,MATCH(V$1,StructureInfoFromGPCRdb!$A$1:$U$1,0),FALSE) -> - | W122: =VLOOKUP($C122,StructureInfoFromGPCRdb!$A:$U,MATCH(W$1,StructureInfoFromGPCRdb!$A$1:$U$1,0),FALSE) -> - | X122: =VLOOKUP($C122,StructureInfoFromGPCRdb!$A:$U,MATCH(X$1,StructureInfoFromGPCRdb!$A$1:$U$1,0),FALSE) -> Fractalkine | Y122: =VLOOKUP($C122,StructureInfoFromGPCRdb!$A:$U,MATCH(Y$1,StructureInfoFromGPCRdb!$A$1:$U$1,0),FALSE) -> Inverse agonist
A123: =CONCATENATE(D123,H123,I123,O123) -> AReprYesInactive | B123: =CONCATENATE(F123,H123,I123,O123) -> 5HT2AReprYesInactive | C123: 6A94 | D123: =VLOOKUP($C123,StructureInfoFromGPCRdb!$A:$U,MATCH(D$1,StructureInfoFromGPCRdb!$A$1:$U$1,0),FALSE) -> A | E123: =VLOOKUP($C123,StructureInfoFromGPCRdb!$A:$U,MATCH(E$1,StructureInfoFromGPCRdb!$A$1:$U$1,0),FALSE) -> 5-Hydroxytryptamine | F123: =VLOOKUP($C123,StructureInfoFromGPCRdb!$A:$U,MATCH(F$1,StructureInfoFromGPCRdb!$A$1:$U$1,0),FALSE) -> 5HT2A | G123: =VLOOKUP($C123,StructureInfoFromGPCRdb!$A:$U,MATCH(G$1,StructureInfoFromGPCRdb!$A$1:$U$1,0),FALSE) -> 5-HT2A | H123: Repr | I123: Yes | J123: =VLOOKUP($C123,StructureInfoFromGPCRdb!$A:$U,MATCH(J$1,StructureInfoFromGPCRdb!$A$1:$U$1,0),FALSE) -> 93 | K123: =VLOOKUP($C123,StructureInfoFromGPCRdb!$A:$U,MATCH(K$1,StructureInfoFromGPCRdb!$A$1:$U$1,0),FALSE) -> Human | L123: =VLOOKUP($C123,StructureInfoFromGPCRdb!$A:$U,MATCH(L$1,StructureInfoFromGPCRdb!$A$1:$U$1,0),FALSE) -> 100 | M123: =VLOOKUP($C123,StructureInfoFromGPCRdb!$A:$U,MATCH(M$1,StructureInfoFromGPCRdb!$A$1:$U$1,0),FALSE) -> X-ray | N123: =VLOOKUP($C123,StructureInfoFromGPCRdb!$A:$U,MATCH(N$1,StructureInfoFromGPCRdb!$A$1:$U$1,0),FALSE) -> 2.9 | O123: =VLOOKUP($C123,StructureInfoFromGPCRdb!$A:$U,MATCH(O$1,StructureInfoFromGPCRdb!$A$1:$U$1,0),FALSE) -> Inactive | P123: =VLOOKUP($C123,StructureInfoFromGPCRdb!$A:$U,MATCH(P$1,StructureInfoFromGPCRdb!$A$1:$U$1,0),FALSE) -> 1 | Q123: =VLOOKUP($C123,StructureInfoFromGPCRdb!$A:$U,MATCH(Q$1,StructureInfoFromGPCRdb!$A$1:$U$1,0),FALSE) -> 16 | R123: =IF(VLOOKUP($C123,StructureInfoFromGPCRdb!$A:$U,MATCH(R$1,StructureInfoFromGPCRdb!$A$1:$U$1,0),FALSE)="","",VLOOKUP($C123,StructureInfoFromGPCRdb!$A:$U,MATCH(R$1,StructureInfoFromGPCRdb!$A$1:$U$1,0),FALSE)) | S123: =IF(VLOOKUP($C123,StructureInfoFromGPCRdb!$A:$U,MATCH(S$1,StructureInfoFromGPCRdb!$A$1:$U$1,0),FALSE)="","",VLOOKUP($C123,StructureInfoFromGPCRdb!$A:$U,MATCH(S$1,StructureInfoFromGPCRdb!$A$1:$U$1,0),FALSE)) | T123: =IF(VLOOKUP($C123,StructureInfoFromGPCRdb!$A:$U,MATCH(T$1,StructureInfoFromGPCRdb!$A$1:$U$1,0),FALSE)="","",VLOOKUP($C123,StructureInfoFromGPCRdb!$A:$U,MATCH(T$1,StructureInfoFromGPCRdb!$A$1:$U$1,0),FALSE)) | U123: =IF(VLOOKUP($C123,StructureInfoFromGPCRdb!$A:$U,MATCH(U$1,StructureInfoFromGPCRdb!$A$1:$U$1,0),FALSE)="","",VLOOKUP($C123,StructureInfoFromGPCRdb!$A:$U,MATCH(U$1,StructureInfoFromGPCRdb!$A$1:$U$1,0),FALSE)) | V123: =VLOOKUP($C123,StructureInfoFromGPCRdb!$A:$U,MATCH(V$1,StructureInfoFromGPCRdb!$A$1:$U$1,0),FALSE) -> BRIL | W123: =VLOOKUP($C123,StructureInfoFromGPCRdb!$A:$U,MATCH(W$1,StructureInfoFromGPCRdb!$A$1:$U$1,0),FALSE) -> - | X123: =VLOOKUP($C123,StructureInfoFromGPCRdb!$A:$U,MATCH(X$1,StructureInfoFromGPCRdb!$A$1:$U$1,0),FALSE) -> Zotepine | Y123: =VLOOKUP($C123,StructureInfoFromGPCRdb!$A:$U,MATCH(Y$1,StructureInfoFromGPCRdb!$A$1:$U$1,0),FALSE) -> Antagonist | Z123: Yes
A124: =CONCATENATE(D124,H124,I124,O124) -> AReprYesInactive | B124: =CONCATENATE(F124,H124,I124,O124) -> 5HT2CReprYesInactive | C124: 6BQH | D124: =VLOOKUP($C124,StructureInfoFromGPCRdb!$A:$U,MATCH(D$1,StructureInfoFromGPCRdb!$A$1:$U$1,0),FALSE) -> A | E124: =VLOOKUP($C124,StructureInfoFromGPCRdb!$A:$U,MATCH(E$1,StructureInfoFromGPCRdb!$A$1:$U$1,0),FALSE) -> 5-Hydroxytryptamine | F124: =VLOOKUP($C124,StructureInfoFromGPCRdb!$A:$U,MATCH(F$1,StructureInfoFromGPCRdb!$A$1:$U$1,0),FALSE) -> 5HT2C | G124: =VLOOKUP($C124,StructureInfoFromGPCRdb!$A:$U,MATCH(G$1,StructureInfoFromGPCRdb!$A$1:$U$1,0),FALSE) -> 5-HT2C | H124: Repr | I124: Yes | J124: =VLOOKUP($C124,StructureInfoFromGPCRdb!$A:$U,MATCH(J$1,StructureInfoFromGPCRdb!$A$1:$U$1,0),FALSE) -> 92 | K124: =VLOOKUP($C124,StructureInfoFromGPCRdb!$A:$U,MATCH(K$1,StructureInfoFromGPCRdb!$A$1:$U$1,0),FALSE) -> Human | L124: =VLOOKUP($C124,StructureInfoFromGPCRdb!$A:$U,MATCH(L$1,StructureInfoFromGPCRdb!$A$1:$U$1,0),FALSE) -> 100 | M124: =VLOOKUP($C124,StructureInfoFromGPCRdb!$A:$U,MATCH(M$1,StructureInfoFromGPCRdb!$A$1:$U$1,0),FALSE) -> X-ray | N124: =VLOOKUP($C124,StructureInfoFromGPCRdb!$A:$U,MATCH(N$1,StructureInfoFromGPCRdb!$A$1:$U$1,0),FALSE) -> 2.7 | O124: =VLOOKUP($C124,StructureInfoFromGPCRdb!$A:$U,MATCH(O$1,StructureInfoFromGPCRdb!$A$1:$U$1,0),FALSE) -> Inactive | P124: =VLOOKUP($C124,StructureInfoFromGPCRdb!$A:$U,MATCH(P$1,StructureInfoFromGPCRdb!$A$1:$U$1,0),FALSE) -> 1 | Q124: =VLOOKUP($C124,StructureInfoFromGPCRdb!$A:$U,MATCH(Q$1,StructureInfoFromGPCRdb!$A$1:$U$1,0),FALSE) -> 22 | R124: =IF(VLOOKUP($C124,StructureInfoFromGPCRdb!$A:$U,MATCH(R$1,StructureInfoFromGPCRdb!$A$1:$U$1,0),FALSE)="","",VLOOKUP($C124,StructureInfoFromGPCRdb!$A:$U,MATCH(R$1,StructureInfoFromGPCRdb!$A$1:$U$1,0),FALSE)) | S124: =IF(VLOOKUP($C124,StructureInfoFromGPCRdb!$A:$U,MATCH(S$1,StructureInfoFromGPCRdb!$A$1:$U$1,0),FALSE)="","",VLOOKUP($C124,StructureInfoFromGPCRdb!$A:$U,MATCH(S$1,StructureInfoFromGPCRdb!$A$1:$U$1,0),FALSE)) | T124: =IF(VLOOKUP($C124,StructureInfoFromGPCRdb!$A:$U,MATCH(T$1,StructureInfoFromGPCRdb!$A$1:$U$1,0),FALSE)="","",VLOOKUP($C124,StructureInfoFromGPCRdb!$A:$U,MATCH(T$1,StructureInfoFromGPCRdb!$A$1:$U$1,0),FALSE)) | U124: =IF(VLOOKUP($C124,StructureInfoFromGPCRdb!$A:$U,MATCH(U$1,StructureInfoFromGPCRdb!$A$1:$U$1,0),FALSE)="","",VLOOKUP($C124,StructureInfoFromGPCRdb!$A:$U,MATCH(U$1,StructureInfoFromGPCRdb!$A$1:$U$1,0),FALSE)) | V124: =VLOOKUP($C124,StructureInfoFromGPCRdb!$A:$U,MATCH(V$1,StructureInfoFromGPCRdb!$A$1:$U$1,0),FALSE) -> BRIL | W124: =VLOOKUP($C124,StructureInfoFromGPCRdb!$A:$U,MATCH(W$1,StructureInfoFromGPCRdb!$A$1:$U$1,0),FALSE) -> - | X124: =VLOOKUP($C124,StructureInfoFromGPCRdb!$A:$U,MATCH(X$1,StructureInfoFromGPCRdb!$A$1:$U$1,0),FALSE) -> Ritanserin | Y124: =VLOOKUP($C124,StructureInfoFromGPCRdb!$A:$U,MATCH(Y$1,StructureInfoFromGPCRdb!$A$1:$U$1,0),FALSE) -> Inverse agonist | Z124: Yes
