Workbook

Sheet Counts
A1: Genus | B1: Species | D1: Variety | E1: Forma | F1: Author | G1: Picture | H1: Notes | I1: SUM | J1: Sample #1 | K1: 3 | L1: 5 | M1: 7 | N1: 9 | O1: 11 | P1: 13 | Q1: 15 | R1: 17 | S1: 19 | T1: 21 | U1: 23 | V1: 25 | W1: 27 | X1: 29 | Y1: 31 | Z1: 33 | AA1: 35 | AB1: 37 | AC1: 39 | AD1: 41 | AE1: 43 | AF1: 45 | AG1: 47
A2: Notes
A3: Achnanthes | B3: bioretii | C3: =A3&" "&B3 -> Achnanthes bioretii | I3: =SUM(J3:AG3) -> 47 | J3: 1 | K3: 2 | L3: 9 | M3: 1 | N3: 4 | P3: 3 | R3: 3 | S3: 1 | V3: 4 | W3: 1 | Y3: 1 | AA3: 7 | AC3: 1 | AD3: 6 | AG3: 3
A4: Achnanthes | B4: daonensis | C4: =A4&" "&B4 -> Achnanthes daonensis | I4: =SUM(J4:AG4) -> 8 | L4: 2 | P4: 2 | T4: 1 | X4: 2 | Z4: 1
A5: Achnanthidium | B5: minitissimum | C5: =A5&" "&B5 -> Achnanthidium minitissimum | I5: =SUM(J5:AG5) -> 158 | J5: 1 | K5: 12 | L5: 5 | M5: 9 | N5: 6 | O5: 4 | P5: 2 | Q5: 4 | R5: 5 | S5: 12 | T5: 6 | U5: 10 | V5: 25 | W5: 4 | X5: 7 | Y5: 13 | Z5: 4 | AC5: 13 | AD5: 12 | AF5: 1 | AG5: 3
A6: Achnanthes | B6: pusilla | C6: =A6&" "&B6 -> Achnanthes pusilla | I6: =SUM(J6:AG6) -> 9 | X6: 3 | AE6: 2 | AG6: 4
A7: Achnanthes | B7: nitidiformis | C7: =A7&" "&B7 -> Achnanthes nitidiformis | I7: =SUM(J7:AG7) -> 1 | N7: 1
A8: Amphora | B8: lybica | C8: =A8&" "&B8 -> Amphora lybica | F8: (Kützing) Schoman& Archibald 1986 | G8: 1-121/122 NN | H8: Big | I8: =SUM(J8:AG8) -> 60 | J8: 1 | K8: 2 | L8: 3 | M8: 3 | N8: 1 | O8: 2 | P8: 1 | Q8: 2 | R8: 3 | S8: 2 | T8: 6 | V8: 1 | X8: 1 | Y8: 3 | Z8: 2 | AB8: 5 | AC8: 5 | AD8: 4 | AE8: 3 | AF8: 5 | AG8: 5
A9: Amphora | B9: veneta | C9: =A9&" "&B9 -> Amphora veneta | F9: Brun 1901 | G9: 1-119/120 NN | I9: =SUM(J9:AG9) -> 4 | M9: 1 | Q9: 1 | R9: 1 | AF9: 1
A10: Amphora | B10: fogediana | C10: =A10&" "&B10 -> Amphora fogediana | I10: =SUM(J10:AG10) -> 6 | S10: 4 | AB10: 2
A11: Caloneis | B11: bacillum | C11: =A11&" "&B11 -> Caloneis bacillum | F11: (Lagerstedt)Cleve 1894 | G11: 2-179, 1-160 | I11: =SUM(J11:AG11) -> 134 | J11: 6 | K11: 8 | L11: 8 | N11: 8 | O11: 6 | P11: 6 | Q11: 3 | R11: 12 | S11: 4 | T11: 12 | U11: 6 | W11: 15 | X11: 2 | Y11: 6 | Z11: 4 | AA11: 6 | AB11: 3 | AC11: 2 | AD11: 2 | AE11: 3 | AF11: 4 | AG11: 8
A12: Caloneis | B12: silicula | C12: =A12&" "&B12 -> Caloneis silicula | F12: (Ehrenberg) Cleve 1894 | I12: =SUM(J12:AG12) -> 13 | J12: 1 | M12: 2 | W12: 1 | Z12: 1 | AC12: 1 | AD12: 2 | AE12: 1 | AF12: 1 | AG12: 3
A13: Cavinula | B13: pseudoscutiformis | C13: =A13&" "&B13 -> Cavinula pseudoscutiformis | F13: (hudstedt) D. Mann & Stickle in Round et al. 1990 | I13: =SUM(J13:AG13) -> 109 | J13: 3 | K13: 2 | L13: 4 | M13: 1 | N13: 7 | O13: 9 | P13: 3 | Q13: 5 | R13: 7 | S13: 2 | U13: 2 | W13: 1 | X13: 6 | Y13: 3 | Z13: 1 | AA13: 3 | AB13: 11 | AC13: 8 | AD13: 8 | AE13: 10 | AF13: 7 | AG13: 6
A14: Cymbella | B14: cistula | C14: =A14&" "&B14 -> Cymbella cistula | I14: =SUM(J14:AG14) -> 1 | AF14: 1
A15: Cymbella | B15: cuspidata | C15: =A15&" "&B15 -> Cymbella cuspidata | I15: =SUM(J15:AG15) -> 9 | O15: 1 | P15: 1 | V15: 2 | Z15: 2 | AB15: 1 | AG15: 2
A16: Cymbella | B16: sinuata | C16: =A16&" "&B16 -> Cymbella sinuata | I16: =SUM(J16:AG16) -> 8 | J16: 4 | M16: 1 | W16: 2 | Z16: 1
A17: Cymbella | B17: reichardtii | C17: =A17&" "&B17 -> Cymbella reichardtii | I17: =SUM(J17:AG17) -> 247 | J17: 31 | K17: 11 | L17: 13 | M17: 25 | N17: 15 | O17: 8 | P17: 7 | Q17: 18 | R17: 15 | S17: 15 | T17: 6 | U17: 10 | V17: 12 | W17: 8 | X17: 18 | Y17: 13 | Z17: 3 | AA17: 12 | AC17: 1 | AD17: 2 | AE17: 2 | AF17: 2
A18: Cymbella | B18: microcephala | C18: =A18&" "&B18 -> Cymbella microcephala | I18: =SUM(J18:AG18) -> 1 | T18: 1
A19: Cymbella | B19: mesiana | C19: =A19&" "&B19 -> Cymbella mesiana | I19: =SUM(J19:AG19) -> 1 | AF19: 1
A20: Cymbopleura | B20: angustata | C20: =A20&" "&B20 -> Cymbopleura angustata | D20: spitsbergensis | F20: Krammer 2003 | G20: 16-113/114 N | I20: =SUM(J20:AG20) -> 2 | AF20: 2
A21: Diatoma | B21: tenuis | C21: =A21&" "&B21 -> Diatoma tenuis | F21: Agardh 1812 | G21: 1-114 | I21: =SUM(J21:AG21) -> 162 | J21: 9 | K21: 22 | L21: 22 | M21: 7 | N21: 11 | O21: 5 | P21: 7 | Q21: 8 | R21: 3 | S21: 4 | T21: 7 | U21: 10 | V21: 7 | W21: 2 | X21: 8 | Y21: 10 | Z21: 2 | AA21: 1 | AB21: 3 | AC21: 2 | AD21: 3 | AE21: 3 | AF21: 1 | AG21: 5
A22: Diploneis | B22: ovalis | C22: =A22&" "&B22 -> Diploneis ovalis | I22: =SUM(J22:AG22) -> 5 | O22: 2 | T22: 1 | Z22: 1 | AC22: 1
A23: Encyonema | B23: minutum | C23: =A23&" "&B23 -> Encyonema minutum | F23: (Bleisch in Rabenhorst) Mann in Round, Crawford & Mann 1990 | G23: 1-129 | I23: =SUM(J23:AG23) -> 157 | J23: 8 | K23: 1 | L23: 7 | M23: 4 | N23: 2 | O23: 4 | P23: 9 | S23: 5 | T23: 20 | U23: 9 | V23: 7 | W23: 6 | X23: 12 | Y23: 12 | Z23: 10 | AB23: 7 | AC23: 4 | AD23: 11 | AE23: 1 | AF23: 5 | AG23: 13
A24: Encyonema | B24: silesiacum | C24: =A24&" "&B24 -> Encyonema silesiacum | F24: (Bleisch in Rabenhorst) Mann in Round, Crawford & Mann 1990/(Hilse) D.G.Mann in Round, Crawford & Mann 1990 | G24: 1-186/130 rechts | I24: =SUM(J24:AG24) -> 65 | K24: 2 | L24: 7 | Q24: 3 | S24: 6 | T24: 5 | U24: 8 | V24: 8 | W24: 2 | X24: 6 | Y24: 2 | Z24: 4 | AE24: 2 | AF24: 1 | AG24: 9
A25: Eunotia | B25: arcus | C25: =A25&" "&B25 -> Eunotia arcus | I25: =SUM(J25:AG25) -> 2 | O25: 1 | Y25: 1
A26: Fragilaria | B26: capucina | C26: =A26&" "&B26 -> Fragilaria capucina | D26: vaucheria | F26: Desmazières 1825 sensu lato | G26: 47-121/122 N | I26: =SUM(J26:AG26) -> 250 | J26: 1 | K26: 2 | L26: 7 | M26: 1 | N26: 1 | O26: 4 | P26: 6 | Q26: 14 | R26: 2 | S26: 4 | T26: 9 | U26: 11 | V26: 16 | W26: 8 | X26: 23 | Y26: 20 | Z26: 13 | AA26: 3 | AB26: 16 | AC26: 13 | AD26: 19 | AE26: 19 | AF26: 21 | AG26: 17
A27: Fragilaria | B27: tenera | C27: =A27&" "&B27 -> Fragilaria tenera | F27: (W. Smith) Lange-Bertalot 1980 | I27: =SUM(J27:AG27) -> 28 | N27: 1 | U27: 5 | V27: 2 | W27: 1 | X27: 2 | Y27: 5 | Z27: 1 | AB27: 1 | AC27: 1 | AD27: 1 | AE27: 3 | AF27: 2 | AG27: 3
A28: Gomphonema | B28: acuminatum | C28: =A28&" "&B28 -> Gomphonema acuminatum | I28: =SUM(J28:AG28) -> 4 | V28: 2 | Y28: 2
A29: Hippodonta | B29: capitata | C29: =A29&" "&B29 -> Hippodonta capitata | F29: (Ehrenberg) Lange-Bertalot, Metzelin & Witkowski | G29: 4-130/131/132 | I29: =SUM(J29:AG29) -> 18 | J29: 3 | K29: 1 | V29: 5 | W29: 3 | X29: 3 | Y29: 3
A30: Hippodonta | B30: hungarica | C30: =A30&" "&B30 -> Hippodonta hungarica | I30: =SUM(J30:AG30) -> 243 | J30: 1 | K30: 3 | M30: 3 | O30: 9 | P30: 8 | Q30: 1 | R30: 9 | S30: 2 | T30: 13 | U30: 5 | V30: 5 | W30: 8 | X30: 5 | Y30: 6 | Z30: 10 | AA30: 11 | AB30: 28 | AC30: 27 | AD30: 29 | AE30: 35 | AF30: 11 | AG30: 14
A31: Navicula | B31: hanseatica | C31: =A31&" "&B31 -> Navicula hanseatica | D31: spp. circumarctica | F31: Lange-Bertalot | G31: 1-114 N/1-115/116 NN | I31: =SUM(J31:AG31) -> 68 | J31: 2 | K31: 9 | L31: 9 | M31: 7 | N31: 3 | O31: 3 | P31: 5 | Q31: 2 | S31: 3 | T31: 8 | U31: 2 | W31: 4 | X31: 2 | Y31: 3 | Z31: 3 | AD31: 2 | AE31: 1
A32: Navicula | B32: cincta | C32: =A32&" "&B32 -> Navicula cincta | F32: (Ehrenberg) Ralfs in Prichard 1861 | G32: 8-178 | I32: =SUM(J32:AG32) -> 2 | P32: 1 | AD32: 1
A33: Navicula | B33: cocconeiformis | C33: =A33&" "&B33 -> Navicula cocconeiformis | I33: =SUM(J33:AG33) -> 8 | AA33: 2 | AD33: 2 | AF33: 4
A34: Navicula | B34: gregaria | C34: =A34&" "&B34 -> Navicula gregaria | F34: Kützing 1844 | G34: 8-124/125 N | I34: =SUM(J34:AG34) -> 45 | J34: 3 | K34: 2 | L34: 6 | M34: 4 | N34: 5 | O34: 6 | P34: 2 | Q34: 3 | R34: 3 | T34: 1 | V34: 8 | W34: 1 | AA34: 1
A35: Navicula | B35: veneta | C35: =A35&" "&B35 -> Navicula veneta | I35: =SUM(J35:AG35) -> 130 | J35: 3 | K35: 7 | L35: 3 | M35: 3 | N35: 4 | O35: 6 | P35: 2 | Q35: 4 | R35: 8 | S35: 8 | T35: 6 | U35: 6 | V35: 8 | W35: 6 | X35: 8 | Y35: 13 | Z35: 11 | AA35: 2 | AC35: 3 | AD35: 5 | AE35: 4 | AF35: 6 | AG35: 4
A36: Navicula | B36: disjuncta | C36: =A36&" "&B36 -> Navicula disjuncta | I36: =SUM(J36:AG36) -> 5 | J36: 3 | N36: 2
A37: Navicula | B37: cruticula | C37: =A37&" "&B37 -> Navicula cruticula | H37: Slide D35 (102.3-56.2) | I37: =SUM(J37:AG37) -> 29 | N37: 7 | P37: 5 | R37: 4 | S37: 2 | AA37: 5 | AC37: 3 | AD37: 1 | AF37: 2
A38: Navicula | B38: pupula | C38: =A38&" "&B38 -> Navicula pupula | I38: =SUM(J38:AG38) -> 384 | J38: 7 | K38: 11 | L38: 9 | M38: 13 | N38: 18 | O38: 12 | P38: 20 | Q38: 31 | R38: 36 | S38: 29 | T38: 16 | U38: 40 | V38: 57 | W38: 20 | X38: 18 | Y38: 19 | Z38: 16 | AB38: 2 | AC38: 1 | AD38: 2 | AE38: 1 | AF38: 5 | AG38: 1
A39: Navicula | B39: minuscula | C39: =A39&" "&B39 -> Navicula minuscula | I39: =SUM(J39:AG39) -> 20 | J39: 6 | K39: 2 | L39: 2 | O39: 4 | P39: 2 | Q39: 1 | S39: 2 | AG39: 1
A40: Navicula | B40: scutiformis | C40: =A40&" "&B40 -> Navicula scutiformis | I40: =SUM(J40:AG40) -> 2 | T40: 2
...

Sheet Transposed
A1: Sample # | B1: Age | C1: Depth (cm) | D1: Achnanthes bioretii | E1: Achnanthes daonensis | F1: Achnanthidium minitissimum | G1: Achnanthes pusilla | H1: Achnanthes nitidiformis | I1: Amphora lybica | J1: Amphora veneta | K1: Amphora fogediana | L1: Caloneis bacillum | M1: Caloneis silicula | N1: Cavinula pseudoscutiformis | O1: Cymbella cistula | P1: Cymbella cuspidata | Q1: Cymbella sinuata | R1: Cymbella reichardtii | S1: Cymbella microcephala | T1: Cymbella mesiana | U1: Cymbopleura angustata | V1: Diatoma tenuis | W1: Diploneis ovalis | X1: Encyonema minutum | Y1: Encyonema silesiacum | Z1: Eunotia arcus | AA1: Fragilaria capucina | AB1: Fragilaria tenera | AC1: Gomphonema acuminatum | AD1: Hippodonta capitata | AE1: Hippodonta hungarica | AF1: Navicula hanseatica | AG1: Navicula cincta | AH1: Navicula cocconeiformis | AI1: Navicula gregaria | AJ1: Navicula veneta | AK1: Navicula disjuncta | AL1: Navicula cruticula | AM1: Navicula pupula | AN1: Navicula minuscula | AO1: Navicula scutiformis | AP1: Navicula slesvicensis | AQ1: Navicula stroemii | AR1: Navicula phyllepta | AS1: Navicula similis | AT1: Navicula rhynchocephala | AU1: Navicula vulpina | AV1: Neidium ampliatum | AW1: Nitzschia amphibia | AX1: Nitzschia inconspicua | AY1: Nitzschia perminuta | AZ1: Nitzschia paleaformis | BA1: Nitzschia pura | BB1: Pinnularia interrupta | BC1: Pinnularia microstauron | BD1: Pinnularia microstauron | BE1: Pinnularia virides | BF1: Placoneis placentula | BG1: Planothidium oestrupii | BH1: Planothidium peragalloi | BI1: Stauroneis phoenicenteron | BJ1: Staurosira venter | BK1: Synedra cyclopum | BL1: Synedra ulna | BM1: Tabellaria flocculosa | BN1: GV sp | BO1: Staurosirella pinnata | BP1: Sum | BQ1: Sum | BR1: Microspheres | BS1: Crysophyte Cyst | BT1: Dry weight (g) | BU1: Conc microspheres (number/ml) (1ml per slide) | BV1: Concentration diatoms (number/g) | BW1: Concentration chrysophytes (number/g)
A2: 1 | B2: 2015 | C2: 1 | D2: 1 | F2: 1 | I2: 1 | L2: 6 | M2: 1 | N2: 3 | Q2: 4 | R2: 31 | V2: 9 | X2: 8 | AA2: 1 | AD2: 3 | AE2: 1 | AF2: 2 | AI2: 3 | AJ2: 3 | AK2: 3 | AM2: 7 | AN2: 6 | AS2: 10 | AT2: 1 | AU2: 1 | AV2: 4 | AX2: 22 | AY2: 22 | AZ2: 3 | BA2: 2 | BB2: 3 | BE2: 1 | BF2: 1 | BG2: 32 | BH2: 4 | BI2: 1 | BK2: 4 | BN2: 1 | BO2: 123 | BP2: =SUM(I2:BO2) -> 327 | BQ2: 327 | BR2: 24 | BS2: 3 | BT2: 0.0114 | BU2: 802000 | BV2: 9.585307e+08 | BW2: 8793859.6
A3: 2 | B3: 2014.6334 | C3: 3 | D3: 2 | F3: 12 | I3: 2 | L3: 8 | N3: 2 | R3: 11 | V3: 22 | X3: 1 | Y3: 2 | AA3: 2 | AD3: 1 | AE3: 3 | AF3: 9 | AI3: 2 | AJ3: 7 | AM3: 11 | AN3: 2 | AP3: 2 | AQ3: 3 | AS3: 8 | AU3: 1 | AX3: 44 | AY3: 11 | BA3: 2 | BD3: 7 | BF3: 1 | BG3: 15 | BH3: 5 | BI3: 5 | BK3: 2 | BN3: 2 | BO3: 120 | BP3: =SUM(I3:BO3) -> 313 | BQ3: 313 | BR3: 37 | BS3: 6 | BT3: 0.018 | BU3: 802000 | BV3: 3.7691592e+08 | BW3: 7225225.2
A4: 3 | B4: 2013.8372 | C4: 5 | D4: 9 | E4: 2 | F4: 5 | I4: 3 | L4: 8 | N4: 4 | R4: 13 | V4: 22 | X4: 7 | Y4: 7 | AA4: 7 | AF4: 9 | AI4: 6 | AJ4: 3 | AM4: 9 | AN4: 2 | AS4: 7 | AW4: 2 | AX4: 36 | AY4: 24 | AZ4: 3 | BA4: 4 | BB4: 1 | BC4: 2 | BD4: 2 | BE4: 2 | BF4: 3 | BG4: 21 | BH4: 3 | BI4: 5 | BK4: 5 | BO4: 100 | BP4: =SUM(I4:BO4) -> 320 | BQ4: 320 | BR4: 33 | BS4: 8 | BT4: 0.0111 | BU4: 802000 | BV4: 7.006279e+08 | BW4: 17515698
A5: 4 | B5: 2012.6114 | C5: 7 | D5: 1 | F5: 9 | I5: 3 | J5: 1 | M5: 2 | N5: 1 | Q5: 1 | R5: 25 | V5: 7 | X5: 4 | AA5: 1 | AE5: 3 | AF5: 7 | AI5: 4 | AJ5: 3 | AM5: 13 | AP5: 3 | AQ5: 3 | AR5: 1 | AS5: 4 | AV5: 1 | AX5: 27 | AY5: 18 | AZ5: 1 | BA5: 11 | BC5: 4 | BF5: 2 | BG5: 23 | BH5: 3 | BI5: 4 | BK5: 4 | BM5: 1 | BO5: 124 | BP5: =SUM(I5:BO5) -> 309 | BQ5: 309 | BR5: 40 | BS5: 5 | BT5: 0.0114 | BU5: 802000 | BV5: 5.4346053e+08 | BW5: 8793859.6
A6: 5 | B6: 2010.956 | C6: 9 | D6: 4 | F6: 6 | H6: 1 | I6: 1 | L6: 8 | N6: 7 | R6: 15 | V6: 11 | X6: 2 | AA6: 1 | AB6: 1 | AF6: 3 | AI6: 5 | AJ6: 4 | AK6: 2 | AL6: 7 | AM6: 18 | AP6: 10 | AS6: 3 | AX6: 22 | AY6: 20 | BA6: 9 | BB6: 3 | BD6: 9 | BF6: 2 | BG6: 17 | BH6: 7 | BI6: 3 | BK6: 6 | BO6: 114 | BP6: =SUM(I6:BO6) -> 310 | BQ6: 310 | BR6: 17 | BS6: 19 | BT6: 0.0153 | BU6: 802000 | BV6: 9.5586313e+08 | BW6: 58585160
A7: 6 | B7: 2008.871 | C7: 11 | F7: 4 | I7: 2 | L7: 6 | N7: 9 | P7: 1 | R7: 8 | V7: 5 | W7: 2 | X7: 4 | Z7: 1 | AA7: 4 | AE7: 9 | AF7: 3 | AI7: 6 | AJ7: 6 | AM7: 12 | AN7: 4 | AP7: 3 | AQ7: 4 | AR7: 1 | AS7: 4 | AU7: 1 | AX7: 22 | AY7: 16 | AZ7: 2 | BA7: 7 | BC7: 3 | BF7: 2 | BG7: 15 | BH7: 7 | BI7: 7 | BL7: 1 | BO7: 137 | BP7: =SUM(I7:BO7) -> 314 | BQ7: 314 | BR7: 32 | BS7: 3 | BT7: 0.0115 | BU7: 802000 | BV7: 6.8431522e+08 | BW7: 6538043.5
A8: 7 | B8: 2006.3564 | C8: 13 | D8: 3 | E8: 2 | F8: 2 | I8: 1 | L8: 6 | N8: 3 | P8: 1 | R8: 7 | V8: 7 | X8: 9 | AA8: 6 | AE8: 8 | AF8: 5 | AG8: 1 | AI8: 2 | AJ8: 2 | AL8: 5 | AM8: 20 | AN8: 2 | AP8: 7 | AR8: 2 | AS8: 1 | AV8: 1 | AX8: 28 | AY8: 27 | BA8: 4 | BB8: 1 | BC8: 2 | BF8: 5 | BG8: 15 | BI8: 3 | BM8: 1 | BO8: 119 | BP8: =SUM(I8:BO8) -> 301 | BQ8: 301 | BR8: 30 | BS8: 3 | BT8: 0.0103 | BU8: 802000 | BV8: 7.8123625e+08 | BW8: 7786407.8
A9: 8 | B9: 2003.4122 | C9: 15 | F9: 4 | I9: 2 | J9: 1 | L9: 3 | N9: 5 | R9: 18 | V9: 8 | Y9: 3 | AA9: 14 | AE9: 1 | AF9: 2 | AI9: 3 | AJ9: 4 | AM9: 31 | AN9: 1 | AP9: 3 | AQ9: 3 | AS9: 1 | AU9: 1 | AX9: 33 | AY9: 9 | AZ9: 2 | BA9: 7 | BB9: 2 | BF9: 2 | BG9: 16 | BH9: 3 | BI9: 7 | BK9: 3 | BN9: 1 | BO9: 116 | BP9: =SUM(I9:BO9) -> 305 | BQ9: 305 | BR9: 29 | BS9: 11 | BT9: 0.0105 | BU9: 802000 | BV9: 8.0331691e+08 | BW9: 28972085
A10: 9 | B10: 2000.0384 | C10: 17 | D10: 3 | F10: 5 | I10: 3 | J10: 1 | L10: 12 | N10: 7 | R10: 15 | V10: 3 | AA10: 2 | AE10: 9 | AI10: 3 | AJ10: 8 | AL10: 4 | AM10: 36 | AP10: 1 | AS10: 2 | AX10: 35 | AY10: 22 | AZ10: 1 | BB10: 2 | BC10: 3 | BF10: 2 | BG10: 20 | BH10: 2 | BI10: 5 | BK10: 6 | BO10: 97 | BP10: =SUM(I10:BO10) -> 301 | BQ10: 301 | BR10: 27 | BS10: 14 | BT10: 0.0108 | BU10: 802000 | BV10: 8.2785322e+08 | BW10: 38504801
A11: 10 | B11: 1996.235 | C11: 19 | D11: 1 | F11: 12 | I11: 2 | K11: 4 | L11: 4 | N11: 2 | R11: 15 | V11: 4 | X11: 5 | Y11: 6 | AA11: 4 | AE11: 2 | AF11: 3 | AJ11: 8 | AL11: 2 | AM11: 29 | AN11: 2 | AQ11: 7 | AR11: 3 | AS11: 3 | AX11: 36 | AY11: 22 | BA11: 1 | BB11: 5 | BF11: 3 | BG11: 9 | BH11: 3 | BI11: 3 | BK11: 1 | BN11: 1 | BO11: 111 | BP11: =SUM(I11:BO11) -> 300 | BQ11: 300 | BR11: 33 | BS11: 9 | BT11: 0.0109 | BU11: 802000 | BV11: 6.6889074e+08 | BW11: 20066722
A12: 11 | B12: 1992.002 | C12: 21 | E12: 1 | F12: 6 | I12: 6 | L12: 12 | R12: 6 | S12: 1 | V12: 7 | W12: 1 | X12: 20 | Y12: 5 | AA12: 9 | AE12: 13 | AF12: 8 | AI12: 1 | AJ12: 6 | AM12: 16 | AO12: 2 | AP12: 1 | AQ12: 4 | AR12: 3 | AS12: 1 | AX12: 45 | AY12: 24 | BA12: 2 | BD12: 1 | BG12: 6 | BH12: 3 | BI12: 6 | BO12: 97 | BP12: =SUM(I12:BO12) -> 306 | BQ12: 306 | BR12: 29 | BS12: 11 | BT12: 0.0106 | BU12: 802000 | BV12: 7.9834743e+08 | BW12: 28698764
A13: 12 | B13: 1987.3394 | C13: 23 | F13: 10 | L13: 6 | N13: 2 | R13: 10 | V13: 10 | X13: 9 | Y13: 8 | AA13: 11 | AB13: 5 | AE13: 5 | AF13: 2 | AJ13: 6 | AM13: 40 | AP13: 3 | AR13: 2 | AS13: 2 | AU13: 4 | AX13: 24 | AY13: 32 | AZ13: 1 | BA13: 4 | BB13: 1 | BE13: 1 | BF13: 4 | BG13: 11 | BH13: 2 | BI13: 7 | BO13: 91 | BP13: =SUM(I13:BO13) -> 303 | BQ13: 303 | BR13: 28 | BS13: 14 | BT13: 0.0119 | BU13: 802000 | BV13: 7.2930972e+08 | BW13: 33697479
A14: 13 | B14: 1982.2472 | C14: 25 | D14: 4 | F14: 25 | I14: 1 | P14: 2 | R14: 12 | V14: 7 | X14: 7 | Y14: 8 | AA14: 16 | AB14: 2 | AC14: 2 | AD14: 5 | AE14: 5 | AI14: 8 | AJ14: 8 | AM14: 57 | AP14: 6 | AR14: 3 | AS14: 1 | AU14: 3 | AX14: 25 | AY14: 17 | AZ14: 4 | BA14: 1 | BB14: 4 | BD14: 1 | BF14: 2 | BG14: 10 | BH14: 1 | BI14: 15 | BN14: 2 | BO14: 69 | BP14: =SUM(I14:BO14) -> 304 | BQ14: 304 | BR14: 18 | BS14: 14 | BT14: 0.0121 | BU14: 802000 | BV14: 1.1194123e+09 | BW14: 51551882
A15: 14 | B15: 1976.7254 | C15: 27 | D15: 1 | F15: 4 | L15: 15 | M15: 1 | N15: 1 | Q15: 2 | R15: 8 | V15: 2 | X15: 6 | Y15: 2 | AA15: 8 | AB15: 1 | AD15: 3 | AE15: 8 | AF15: 4 | AI15: 1 | AJ15: 6 | AM15: 20 | AP15: 2 | AR15: 3 | AS15: 7 | AU15: 2 | AX15: 25 | AY15: 27 | AZ15: 4 | BA15: 7 | BB15: 8 | BF15: 3 | BG15: 15 | BH15: 2 | BI15: 6 | BN15: 3 | BO15: 99 | BP15: =SUM(I15:BO15) -> 301 | BQ15: 301 | BR15: 31 | BS15: 7 | BT15: 0.013 | BU15: 802000 | BV15: 3.5710355e+08 | BW15: 8304733.7
A16: 15 | B16: 1970.774 | C16: 29 | E16: 2 | F16: 7 | G16: 3 | I16: 1 | L16: 2 | N16: 6 | R16: 18 | V16: 8 | X16: 12 | Y16: 6 | AA16: 23 | AB16: 2 | AD16: 3 | AE16: 5 | AF16: 2 | AJ16: 8 | AM16: 18 | AP16: 1 | AQ16: 2 | AR16: 4 | AX16: 57 | AY16: 34 | AZ16: 2 | BA16: 2 | BC16: 2 | BF16: 2 | BG16: 11 | BI16: 10 | BO16: 73 | BP16: =SUM(I16:BO16) -> 314 | BQ16: 314 | BR16: 13 | BS16: 12 | BT16: 0.0128 | BU16: 802000 | BV16: 1.5133894e+09 | BW16: 57836538
A17: 16 | B17: 1964.393 | C17: 31 | D17: 1 | F17: 13 | I17: 3 | L17: 6 | N17: 3 | R17: 13 | V17: 10 | X17: 12 | Y17: 2 | Z17: 1 | AA17: 20 | AB17: 5 | AC17: 2 | AD17: 3 | AE17: 6 | AF17: 3 | AJ17: 13 | AM17: 19 | AP17: 2 | AR17: 4 | AS17: 3 | AU17: 1 | AV17: 1 | AX17: 33 | AY17: 42 | BA17: 2 | BC17: 6 | BD17: 3 | BE17: 1 | BF17: 1 | BG17: 10 | BH17: 2 | BI17: 19 | BO17: 70 | BP17: =SUM(I17:BO17) -> 321 | BQ17: 321 | BR17: 20 | BS17: 2 | BT17: 0.0103 | BU17: 802000 | BV17: 1.9226438e+09 | BW17: 11979089
A18: 17 | B18: 1957.5824 | C18: 33 | E18: 1 | F18: 4 | I18: 2 | L18: 4 | M18: 1 | N18: 1 | P18: 2 | Q18: 1 | R18: 3 | V18: 2 | W18: 1 | X18: 10 | Y18: 4 | AA18: 13 | AB18: 1 | AE18: 10 | AF18: 3 | AJ18: 11 | AM18: 16 | AU18: 2 | AX18: 37 | AY18: 41 | BA18: 1 | BB18: 8 | BC18: 1 | BE18: 1 | BF18: 1 | BG18: 5 | BH18: 1 | BI18: 2 | BO18: 122 | BP18: =SUM(I18:BO18) -> 307 | BQ18: 307 | BR18: 29 | BS18: 6 | BT18: 0.0121 | BU18: 802000 | BV18: 7.0166429e+08 | BW18: 13713309
A19: 18 | B19: 1950.3422 | C19: 35 | D19: 7 | L19: 6 | N19: 3 | R19: 12 | V19: 1 | AA19: 3 | AE19: 11 | AH19: 2 | AI19: 1 | AJ19: 2 | AL19: 5 | AR19: 2 | AS19: 4 | AX19: 43 | AY19: 32 | BA19: 3 | BB19: 4 | BG19: 3 | BH19: 2 | BI19: 3 | BO19: 161 | BP19: =SUM(I19:BO19) -> 303 | BQ19: 303 | BR19: 23 | BS19: 5 | BT19: 0.0131 | BU19: 802000 | BV19: 8.0652506e+08 | BW19: 13308994
A20: 19 | B20: 1942.6724 | C20: 37 | I20: 5 | K20: 2 | L20: 3 | N20: 11 | P20: 1 | V20: 3 | X20: 7 | AA20: 16 | AB20: 1 | AE20: 28 | AM20: 2 | AR20: 3 | AS20: 9 | AX20: 41 | AY20: 34 | BA20: 2 | BG20: 2 | BH20: 2 | BI20: 3 | BN20: 1 | BO20: 131 | BP20: =SUM(I20:BO20) -> 307 | BQ20: 307 | BR20: 48 | BS20: 2 | BT20: 0.0097 | BU20: 802000 | BV20: 5.2881014e+08 | BW20: 3445017.2
A21: 20 | B21: 1934.573 | C21: 39 | D21: 1 | F21: 13 | I21: 5 | L21: 2 | M21: 1 | N21: 8 | R21: 1 | V21: 2 | W21: 1 | X21: 4 | AA21: 13 | AB21: 1 | AE21: 27 | AJ21: 3 | AL21: 3 | AM21: 1 | AS21: 2 | AU21: 2 | AV21: 2 | AX21: 19 | AY21: 32 | AZ21: 1 | BA21: 1 | BC21: 3 | BF21: 5 | BG21: 6 | BH21: 3 | BI21: 5 | BJ21: 3 | BM21: 1 | BO21: 146 | BP21: =SUM(I21:BO21) -> 303 | BQ21: 303 | BR21: 48 | BS21: 5 | BT21: 0.0119 | BU21: 802000 | BV21: 4.2543067e+08 | BW21: 7020308.1
A22: 21 | B22: 1926.044 | C22: 41 | D22: 6 | F22: 12 | I22: 4 | L22: 2 | M22: 2 | N22: 8 | R22: 2 | V22: 3 | X22: 11 | AA22: 19 | AB22: 1 | AE22: 29 | AF22: 2 | AG22: 1 | AH22: 2 | AJ22: 5 | AL22: 1 | AM22: 2 | AR22: 1 | AS22: 1 | AX22: 31 | AY22: 24 | BB22: 1 | BF22: 6 | BG22: 6 | BH22: 6 | BI22: 6 | BJ22: 5 | BO22: 119 | BP22: =SUM(I22:BO22) -> 300 | BQ22: 300 | BR22: 35 | BS22: 11 | BT22: 0.0138 | BU22: 802000 | BV22: 4.9813665e+08 | BW22: 18265010
A23: 22 | B23: 1917.0854 | C23: 43 | G23: 2 | I23: 3 | L23: 3 | M23: 1 | N23: 10 | R23: 2 | V23: 3 | X23: 1 | Y23: 2 | AA23: 19 | AB23: 3 | AE23: 35 | AF23: 1 | AJ23: 4 | AM23: 1 | AR23: 1 | AS23: 2 | AT23: 2 | AU23: 2 | AV23: 1 | AX23: 25 | AY23: 22 | BA23: 5 | BB23: 1 | BC23: 2 | BF23: 6 | BG23: 7 | BH23: 14 | BI23: 15 | BJ23: 23 | BO23: 84 | BP23: =SUM(I23:BO23) -> 300 | BQ23: 300 | BR23: 44 | BS23: 9 | BT23: 0.0136 | BU23: 802000 | BV23: 4.0207219e+08 | BW23: 12062166
A24: 23 | B24: 1907.6972 | C24: 45 | F24: 1 | I24: 5 | J24: 1 | L24: 4 | M24: 1 | N24: 7 | O24: 1 | R24: 2 | T24: 1 | U24: 2 | V24: 1 | X24: 5 | Y24: 1 | AA24: 21 | AB24: 2 | AE24: 11 | AH24: 4 | AJ24: 6 | AL24: 2 | AM24: 5 | AQ24: 2 | AR24: 3 | AS24: 4 | AU24: 2 | AX24: 43 | AY24: 48 | BA24: 3 | BC24: 2 | BF24: 8 | BG24: 10 | BH24: 4 | BI24: 11 | BJ24: 3 | BO24: 83 | BP24: =SUM(I24:BO24) -> 308 | BQ24: 308 | BR24: 67 | BS24: 11 | BT24: 0.0121 | BU24: 802000 | BV24: 3.0469471e+08 | BW24: 10881954
A25: 24 | B25: 1897.8794 | C25: 47 | D25: 3 | F25: 3 | G25: 4 | I25: 5 | L25: 8 | M25: 3 | N25: 6 | P25: 2 | V25: 5 | X25: 13 | Y25: 9 | AA25: 17 | AB25: 3 | AE25: 14 | AJ25: 4 | AM25: 1 | AN25: 1 | AR25: 5 | AS25: 4 | AU25: 7 | AX25: 27 | AY25: 35 | BA25: 4 | BC25: 3 | BF25: 9 | BG25: 7 | BH25: 7 | BI25: 8 | BM25: 1 | BO25: 100 | BP25: =SUM(I25:BO25) -> 308 | BQ25: 308 | BR25: 63 | BS25: 12 | BT25: 0.0158 | BU25: 802000 | BV25: 2.4815752e+08 | BW25: 9668475

Sheet Percentage
A1: Sample # | B1: Age | C1: Depth (cm) | D1: Achnanthes bioretii | E1: Achnanthes daonensis | F1: Achnanthidium minitissimum | G1: Achnanthes pusilla | H1: Achnanthes nitidiformis | I1: Amphora lybica | J1: Amphora veneta | K1: Amphora fogediana | L1: Caloneis bacillum | M1: Caloneis silicula | N1: Cavinula pseudoscutiformis | O1: Cymbella cistula | P1: Cymbella cuspidata | Q1: Cymbella sinuata | R1: Cymbella reichardtii | S1: Cymbella microcephala | T1: Cymbella mesiana | U1: Cymbopleura angustata | V1: Diatoma tenuis | W1: Diploneis ovalis | X1: Encyonema minutum | Y1: Encyonema silesiacum | Z1: Eunotia arcus | AA1: Fragilaria capucina | AB1: Fragilaria tenera | AC1: Gomphonema acuminatum | AD1: Hippodonta capitata | AE1: Hippodonta hungarica | AF1: Navicula hanseatica | AG1: Navicula cincta | AH1: Navicula cocconeiformis | AI1: Navicula gregaria | AJ1: Navicula veneta | AK1: Navicula disjuncta | AL1: Navicula cruticula | AM1: Navicula pupula | AN1: Navicula minuscula | AO1: Navicula scutiformis | AP1: Navicula slesvicensis | AQ1: Navicula stroemii | AR1: Navicula phyllepta | AS1: Navicula similis | AT1: Navicula rhynchocephala | AU1: Navicula vulpina | AV1: Neidium ampliatum | AW1: Nitzschia amphibia | AX1: Nitzschia inconspicua | AY1: Nitzschia perminuta | AZ1: Nitzschia paleaformis | BA1: Nitzschia pura | BB1: Pinnularia interrupta | BC1: Pinnularia microstauron | BD1: Pinnularia microstauron | BE1: Pinnularia virides | BF1: Placoneis placentula | BG1: Planothidium oestrupii | BH1: Planothidium peragalloi | BI1: Stauroneis phoenicenteron | BJ1: Staurosira venter | BK1: Synedra cyclopum | BL1: Synedra ulna | BM1: Tabellaria flocculosa | BN1: GV sp | BO1: Staurosirella pinnata | BP1: Sum
A2: 1 | B2: 2015 | C2: 1 | D2: =Transposed!D2/Transposed!$BP2*100 -> 0.3058104 | E2: =Transposed!E2/Transposed!$BP2*100 -> 0 | F2: =Transposed!F2/Transposed!$BP2*100 -> 0.3058104 | G2: =Transposed!G2/Transposed!$BP2*100 -> 0 | H2: =Transposed!H2/Transposed!$BP2*100 -> 0 | I2: =Transposed!I2/Transposed!$BP2*100 -> 0.3058104 | J2: =Transposed!J2/Transposed!$BP2*100 -> 0 | K2: =Transposed!K2/Transposed!$BP2*100 -> 0 | ... BO2: =Transposed!BO2/Transposed!$BP2*100 -> 37.614679 | BP2: =SUM(I2:BO2) -> 100
A3: 2 | B3: 2014.6334 | C3: 3 | D3: =Transposed!D3/Transposed!$BP3*100 -> 0.63897764 | E3: =Transposed!E3/Transposed!$BP3*100 -> 0 | F3: =Transposed!F3/Transposed!$BP3*100 -> 3.8338658 | G3: =Transposed!G3/Transposed!$BP3*100 -> 0 | H3: =Transposed!H3/Transposed!$BP3*100 -> 0 | I3: =Transposed!I3/Transposed!$BP3*100 -> 0.63897764 | J3: =Transposed!J3/Transposed!$BP3*100 -> 0 | K3: =Transposed!K3/Transposed!$BP3*100 -> 0 | ... BO3: =Transposed!BO3/Transposed!$BP3*100 -> 38.338658 | BP3: =SUM(I3:BO3) -> 100
A4: 3 | B4: 2013.8372 | C4: 5 | D4: =Transposed!D4/Transposed!$BP4*100 -> 2.8125 | E4: =Transposed!E4/Transposed!$BP4*100 -> 0.625 | F4: =Transposed!F4/Transposed!$BP4*100 -> 1.5625 | G4: =Transposed!G4/Transposed!$BP4*100 -> 0 | H4: =Transposed!H4/Transposed!$BP4*100 -> 0 | I4: =Transposed!I4/Transposed!$BP4*100 -> 0.9375 | J4: =Transposed!J4/Transposed!$BP4*100 -> 0 | K4: =Transposed!K4/Transposed!$BP4*100 -> 0 | ... BO4: =Transposed!BO4/Transposed!$BP4*100 -> 31.25 | BP4: =SUM(I4:BO4) -> 100
A5: 4 | B5: 2012.6114 | C5: 7 | D5: =Transposed!D5/Transposed!$BP5*100 -> 0.3236246 | E5: =Transposed!E5/Transposed!$BP5*100 -> 0 | F5: =Transposed!F5/Transposed!$BP5*100 -> 2.9126214 | G5: =Transposed!G5/Transposed!$BP5*100 -> 0 | H5: =Transposed!H5/Transposed!$BP5*100 -> 0 | I5: =Transposed!I5/Transposed!$BP5*100 -> 0.97087379 | J5: =Transposed!J5/Transposed!$BP5*100 -> 0.3236246 | K5: =Transposed!K5/Transposed!$BP5*100 -> 0 | ... BO5: =Transposed!BO5/Transposed!$BP5*100 -> 40.12945 | BP5: =SUM(I5:BO5) -> 100
A6: 5 | B6: 2010.956 | C6: 9 | D6: =Transposed!D6/Transposed!$BP6*100 -> 1.2903226 | E6: =Transposed!E6/Transposed!$BP6*100 -> 0 | F6: =Transposed!F6/Transposed!$BP6*100 -> 1.9354839 | G6: =Transposed!G6/Transposed!$BP6*100 -> 0 | H6: =Transposed!H6/Transposed!$BP6*100 -> 0.32258065 | I6: =Transposed!I6/Transposed!$BP6*100 -> 0.32258065 | J6: =Transposed!J6/Transposed!$BP6*100 -> 0 | K6: =Transposed!K6/Transposed!$BP6*100 -> 0 | ... BO6: =Transposed!BO6/Transposed!$BP6*100 -> 36.774194 | BP6: =SUM(I6:BO6) -> 100
A7: 6 | B7: 2008.871 | C7: 11 | D7: =Transposed!D7/Transposed!$BP7*100 -> 0 | E7: =Transposed!E7/Transposed!$BP7*100 -> 0 | F7: =Transposed!F7/Transposed!$BP7*100 -> 1.2738854 | G7: =Transposed!G7/Transposed!$BP7*100 -> 0 | H7: =Transposed!H7/Transposed!$BP7*100 -> 0 | I7: =Transposed!I7/Transposed!$BP7*100 -> 0.63694268 | J7: =Transposed!J7/Transposed!$BP7*100 -> 0 | K7: =Transposed!K7/Transposed!$BP7*100 -> 0 | ... BO7: =Transposed!BO7/Transposed!$BP7*100 -> 43.630573 | BP7: =SUM(I7:BO7) -> 100
A8: 7 | B8: 2006.3564 | C8: 13 | D8: =Transposed!D8/Transposed!$BP8*100 -> 0.99667774 | E8: =Transposed!E8/Transposed!$BP8*100 -> 0.66445183 | F8: =Transposed!F8/Transposed!$BP8*100 -> 0.66445183 | G8: =Transposed!G8/Transposed!$BP8*100 -> 0 | H8: =Transposed!H8/Transposed!$BP8*100 -> 0 | I8: =Transposed!I8/Transposed!$BP8*100 -> 0.33222591 | J8: =Transposed!J8/Transposed!$BP8*100 -> 0 | K8: =Transposed!K8/Transposed!$BP8*100 -> 0 | ... BO8: =Transposed!BO8/Transposed!$BP8*100 -> 39.534884 | BP8: =SUM(I8:BO8) -> 100
A9: 8 | B9: 2003.4122 | C9: 15 | D9: =Transposed!D9/Transposed!$BP9*100 -> 0 | E9: =Transposed!E9/Transposed!$BP9*100 -> 0 | F9: =Transposed!F9/Transposed!$BP9*100 -> 1.3114754 | G9: =Transposed!G9/Transposed!$BP9*100 -> 0 | H9: =Transposed!H9/Transposed!$BP9*100 -> 0 | I9: =Transposed!I9/Transposed!$BP9*100 -> 0.6557377 | J9: =Transposed!J9/Transposed!$BP9*100 -> 0.32786885 | K9: =Transposed!K9/Transposed!$BP9*100 -> 0 | ... BO9: =Transposed!BO9/Transposed!$BP9*100 -> 38.032787 | BP9: =SUM(I9:BO9) -> 100
A10: 9 | B10: 2000.0384 | C10: 17 | D10: =Transposed!D10/Transposed!$BP10*100 -> 0.99667774 | E10: =Transposed!E10/Transposed!$BP10*100 -> 0 | F10: =Transposed!F10/Transposed!$BP10*100 -> 1.6611296 | G10: =Transposed!G10/Transposed!$BP10*100 -> 0 | H10: =Transposed!H10/Transposed!$BP10*100 -> 0 | I10: =Transposed!I10/Transposed!$BP10*100 -> 0.99667774 | J10: =Transposed!J10/Transposed!$BP10*100 -> 0.33222591 | K10: =Transposed!K10/Transposed!$BP10*100 -> 0 | ... BO10: =Transposed!BO10/Transposed!$BP10*100 -> 32.225914 | BP10: =SUM(I10:BO10) -> 100
A11: 10 | B11: 1996.235 | C11: 19 | D11: =Transposed!D11/Transposed!$BP11*100 -> 0.33333333 | E11: =Transposed!E11/Transposed!$BP11*100 -> 0 | F11: =Transposed!F11/Transposed!$BP11*100 -> 4 | G11: =Transposed!G11/Transposed!$BP11*100 -> 0 | H11: =Transposed!H11/Transposed!$BP11*100 -> 0 | I11: =Transposed!I11/Transposed!$BP11*100 -> 0.66666667 | J11: =Transposed!J11/Transposed!$BP11*100 -> 0 | K11: =Transposed!K11/Transposed!$BP11*100 -> 1.3333333 | ... BO11: =Transposed!BO11/Transposed!$BP11*100 -> 37 | BP11: =SUM(I11:BO11) -> 100
A12: 11 | B12: 1992.002 | C12: 21 | D12: =Transposed!D12/Transposed!$BP12*100 -> 0 | E12: =Transposed!E12/Transposed!$BP12*100 -> 0.32679739 | F12: =Transposed!F12/Transposed!$BP12*100 -> 1.9607843 | G12: =Transposed!G12/Transposed!$BP12*100 -> 0 | H12: =Transposed!H12/Transposed!$BP12*100 -> 0 | I12: =Transposed!I12/Transposed!$BP12*100 -> 1.9607843 | J12: =Transposed!J12/Transposed!$BP12*100 -> 0 | K12: =Transposed!K12/Transposed!$BP12*100 -> 0 | ... BO12: =Transposed!BO12/Transposed!$BP12*100 -> 31.699346 | BP12: =SUM(I12:BO12) -> 100
A13: 12 | B13: 1987.3394 | C13: 23 | D13: =Transposed!D13/Transposed!$BP13*100 -> 0 | E13: =Transposed!E13/Transposed!$BP13*100 -> 0 | F13: =Transposed!F13/Transposed!$BP13*100 -> 3.30033 | G13: =Transposed!G13/Transposed!$BP13*100 -> 0 | H13: =Transposed!H13/Transposed!$BP13*100 -> 0 | I13: =Transposed!I13/Transposed!$BP13*100 -> 0 | J13: =Transposed!J13/Transposed!$BP13*100 -> 0 | K13: =Transposed!K13/Transposed!$BP13*100 -> 0 | ... BO13: =Transposed!BO13/Transposed!$BP13*100 -> 30.033003 | BP13: =SUM(I13:BO13) -> 100
... A25: 24 | B25: 1897.8794 | C25: 47 | D25: =Transposed!D25/Transposed!$BP25*100 -> 0.97402597 | E25: =Transposed!E25/Transposed!$BP25*100 -> 0 | F25: =Transposed!F25/Transposed!$BP25*100 -> 0.97402597 | G25: =Transposed!G25/Transposed!$BP25*100 -> 1.2987013 | H25: =Transposed!H25/Transposed!$BP25*100 -> 0 | I25: =Transposed!I25/Transposed!$BP25*100 -> 1.6233766 | J25: =Transposed!J25/Transposed!$BP25*100 -> 0 | K25: =Transposed!K25/Transposed!$BP25*100 -> 0 | ... BO25: =Transposed!BO25/Transposed!$BP25*100 -> 32.467532 | BP25: =SUM(I25:BO25) -> 100
