Workbook

Sheet Summary
A1: SimaPro 8.0.5.13 | B1: Impact assessment | C1: Date: | D1: 42288 | E1: Time: | F1: 0.50500675
A2: Project | B2: LCA Rice production-IRRI_1 | I2: Impact category | J2: Unit | K2: UC5-STR_LCA | L2: UC5-SB_LCA | M2: UC5-PSR_LCA | N2: UC5-CSR_LCA
I3: Abiotic depletion | J3: kg Sb eq | K3: 0.0034530548 | L3: 0.003454289 | M3: 0.0034532091 | N3: 0.0034537105
I4: Abiotic depletion (fossil fuels) | J4: MJ | K4: 15218.44 | L4: 15651.592 | M4: 15269.834 | N4: 15546.614
A5: Calculation: | B5: Compare | I5: Global warming (GWP100a) | J5: kg CO2 eq | K5: 4995.436 | L5: 3882.8227 | M5: 3647.7793 | N5: 3792.1502
A6: Results: | B6: Impact assessment | I6: Ozone layer depletion (ODP) | J6: kg CFC-11 eq | K6: 7.3611746e-06 | L6: 7.4239189e-06 | M6: 7.3690176e-06 | N6: 7.3945075e-06
A7: Product 1: | B7: 1 ha UC5-STR_LCA (of project LCA Rice production-IRRI_1) | I7: Human toxicity | J7: kg 1,4-DB eq | K7: 158.08514 | L7: 159.12799 | M7: 158.21549 | N7: 158.63915
A8: Product 2: | B8: 1 ha UC5-SB_LCA (of project LCA Rice production-IRRI_1) | I8: Fresh water aquatic ecotox. | J8: kg 1,4-DB eq | K8: 1.2231498 | L8: 1.2391586 | M8: 1.2251509 | N8: 1.2316545
A9: Product 3: | B9: 1 ha UC5-PSR_LCA (of project LCA Rice production-IRRI_1) | I9: Marine aquatic ecotoxicity | J9: kg 1,4-DB eq | K9: 32635.133 | L9: 33050.383 | M9: 32687.039 | N9: 32855.734
A10: Product 4: | B10: 1 ha UC5-CSR_LCA (of project LCA Rice production-IRRI_1) | I10: Terrestrial ecotoxicity | J10: kg 1,4-DB eq | K10: 0.1300683 | L10: 0.13145045 | M10: 0.13024107 | N10: 0.13080257
A11: Method: | B11: CML-IA baseline V3.02 / EU25 | I11: Photochemical oxidation | J11: kg C2H4 eq | K11: 0.88461365 | L11: 0.55827887 | M11: 0.57325181 | N11: 0.5579258
A12: Indicator: | B12: Characterization | I12: Acidification | J12: kg SO2 eq | K12: 6.5253607 | L12: 6.8691609 | M12: 6.5683358 | N12: 6.7080046
A13: Skip categories: | B13: Never | I13: Eutrophication | J13: kg PO4--- eq | K13: 2.339719 | L13: 2.603462 | M13: 2.2991119 | N13: 2.5039637
A14: Exclude infrastructure processes: | B14: Yes
A15: Exclude long-term emissions: | B15: Yes
A16: Sorted on item: | B16: Impact category
A17: Sort order: | B17: Ascending
A19: Impact category | B19: Unit | C19: STR | D19: SB | E19: PSR | F19: CSR
A20: Abiotic depletion (fossil fuels), 15.4 GJ | B20: MJ | C20: =K4 -> 15218.44 | D20: =L4 -> 15651.592 | E20: =M4 -> 15269.834 | F20: =N4 -> 15546.614
A21: Global warming (GWP100a), 4.1 Mg CO2 eq | B21: kg CO2 eq | C21: =K5 -> 4995.436 | D21: =L5 -> 3882.8227 | E21: =M5 -> 3647.7793 | F21: =N5 -> 3792.1502
A22: Human toxicity, 0.17 Mg 1,4 DB eq | B22: kg 1,4-DB eq | C22: =K7 -> 158.08514 | D22: =L7 -> 159.12799 | E22: =M7 -> 158.21549 | F22: =N7 -> 158.63915
A23: Marine aquatic ecotoxicity 32.8 Mg 1,4 DB eq | B23: kg 1,4-DB eq | C23: =K9 -> 32635.133 | D23: =L9 -> 33050.383 | E23: =M9 -> 32687.039 | F23: =N9 -> 32855.734
C26: =C19 -> STR | D26: =D19 -> SB | E26: =E19 -> PSR | F26: =F19 -> CSR | G26: Average
B27: =A20 -> Abiotic depletion (fossil fuels), 15.4 GJ | C27: =C20/$G27 -> 0.98682496 | D27: =D20/$G27 -> 1.0149123 | E27: =E20/$G27 -> 0.99015756 | F27: =F20/$G27 -> 1.0081051 | G27: =AVERAGE(C20:F20) -> 15421.62
B28: =A21 -> Global warming (GWP100a), 4.1 Mg CO2 eq | C28: =C21/$G28 -> 1.2245075 | D28: =D21/$G28 -> 0.9517779 | E28: =E21/$G28 -> 0.89416283 | F28: =F21/$G28 -> 0.92955177 | G28: =AVERAGE(C21:F21) -> 4079.5471
B29: =A22 -> Human toxicity, 0.17 Mg 1,4 DB eq | C29: =C22/$G29 -> 0.99727598 | D29: =D22/$G29 -> 1.0038547 | E29: =E22/$G29 -> 0.99809832 | F29: =F22/$G29 -> 1.0007709 | G29: =AVERAGE(C22:F22) -> 158.51694
B30: =A23 -> Marine aquatic ecotoxicity 32.8 Mg 1,4 DB eq | C30: =C23/$G30 -> 0.99475908 | D30: =D23/$G30 -> 1.0074164 | E30: =E23/$G30 -> 0.99634124 | F30: =F23/$G30 -> 1.0014833 | G30: =AVERAGE(C23:F23) -> 32807.072
A46: PSR is control scenario | AB46: Mech-fuel-Human toxic
B47: Wet season | AB47: WS | AC47: 0.16 | AD47: 0.17 | AE47: 0.18 | AF47: 0.23
I48: Wet season | AC48: 5.46 | AD48: 5.37 | AE48: 5.63 | AF48: 5.66
AB49: DS | AC49: 0.11 | AD49: 0.13 | AE49: 0.17 | AF49: 0.12
C50: CSR | D50: PSR | E50: SB | F50: SRT | J50: =C50 -> CSR | K50: =D50 -> PSR | L50: =E50 -> SB | M50: =F50 -> SRT | AC50: 5.37 | AD50: 5.27 | AE50: 5.32 | AF50: 5.35
B51: Paddy Yield, 5.9 Mg/ha | C51: ='[1]Grain and ricestraw'!F7 -> 5.9350666 | D51: ='[1]Grain and ricestraw'!G7 -> 6.0617907 | E51: ='[1]Grain and ricestraw'!H7 -> 5.7552465 | F51: ='[1]Grain and ricestraw'!I7 -> 5.7329124 | I51: Paddy yield (Mg/ha) | J51: =C51 -> 5.9350666 | K51: =D51 -> 6.0617907 | L51: =E51 -> 5.7552465 | M51: =F51 -> 5.7329124
B52: =B61 -> Grain quality (head rice recovery ratio), 63.6% | C52: ='[1]Grain and ricestraw'!M7 -> 63.309333 | D52: ='[1]Grain and ricestraw'!N7 -> 64.065333 | E52: ='[1]Grain and ricestraw'!O7 -> 62.537333 | F52: ='[1]Grain and ricestraw'!P7 -> 64.304 | I52: Head rice recovery ratio | J52: =C52 -> 63.309333 | K52: =D52 -> 64.065333 | L52: =E52 -> 62.537333 | M52: =F52 -> 64.304
B53: Energy efficiency, 5.64 | C53: ='[1]Energy_2 season'!AI17 -> 3.8849621 | D53: ='[1]Energy_2 season'!AJ17 -> 4.1198233 | E53: ='[1]Energy_2 season'!AK17 -> 3.0173172 | F53: ='[1]Energy_2 season'!AL17 -> 3.9239956 | I53: Net energy balance (GJ/ha) | J53: =-'Energy - WS2015'!C39 -> 70.355944 | K53: =-'Energy - WS2015'!D39 -> 69.02442 | L53: =-'Energy - WS2015'!E39 -> 61.663746 | M53: =-'Energy - WS2015'!F39 -> 62.24427
AC54: =AC47+AC49 -> 0.27 | AD54: =AD47+AD49 -> 0.3 | AE54: =AE47+AE49 -> 0.35 | AF54: =AF47+AF49 -> 0.35
AC55: =AC48+AC50 -> 10.83 | AD55: =AD48+AD50 -> 10.64 | AE55: =AE48+AE50 -> 10.95 | AF55: =AF48+AF50 -> 11.01 | AH55: burning straw SD
AB56: Burning | AH56: 0.23 | AI56: t/ha
I57: SD | AE57: =(1.24-0.76)*AH56/AH57 -> 0.049954751 | AH57: 2.21 | AI57: Yield
J58: =J50 -> CSR | K58: =K50 -> PSR | L58: =L50 -> SB | M58: =M50 -> SRT
C59: =C50 -> CSR | D59: =D50 -> PSR | E59: =E50 -> SB | F59: =F50 -> SRT | G59: Average | I59: =I51 -> Paddy yield (Mg/ha) | J59: ='Grain and ricestraw'!B8 -> 0.21015432 | K59: ='Grain and ricestraw'!C8 -> 0.68183919 | L59: ='Grain and ricestraw'!D8 -> 0.35087495 | M59: ='Grain and ricestraw'!E8 -> 0.65146004
B60: =B51 -> Paddy Yield, 5.9 Mg/ha | C60: =C51/$G60 -> 1.0108686 | D60: =D51/$G60 -> 1.0324525 | E60: =E51/$G60 -> 0.98024144 | F60: =F51/$G60 -> 0.97643746 | G60: =AVERAGE(C51:F51) -> 5.8712541 | I60: =I52 -> Head rice recovery ratio | J60: ='Grain and ricestraw'!Q8 -> 1.2205332 | K60: ='Grain and ricestraw'!R8 -> 2.0520208 | L60: ='Grain and ricestraw'!S8 -> 2.9115064 | M60: ='Grain and ricestraw'!T8 -> 0.94383897
B61: Grain quality (head rice recovery ratio), 63.6% | C61: =C52/$G61 -> 0.99615026 | D61: =D52/$G61 -> 1.0080457 | E61: =E52/$G61 -> 0.9840031 | F61: =F52/$G61 -> 1.011801 | G61: =AVERAGE(C52:F52) -> 63.554 | I61: =I53 -> Net energy balance (GJ/ha) | J61: ='Grain and ricestraw'!AN11 -> 4.07 | K61: ='Grain and ricestraw'!AO11 -> 11.48 | L61: ='Grain and ricestraw'!AP11 -> 5.57 | M61: ='Grain and ricestraw'!AQ11 -> 10.29
B62: =B53 -> Energy efficiency, 5.64 | C62: =C53/$G62 -> 1.0397261 | D62: =D53/$G62 -> 1.1025816 | E62: =E53/$G62 -> 0.8075197 | F62: =F53/$G62 -> 1.0501726 | G62: =AVERAGE(C53:F53) -> 3.7365246
B68: Dry season | I68: =B68 -> Dry season
C71: CSR | D71: PSR | E71: SB | F71: SRT | J71: =C71 -> CSR | K71: =D71 -> PSR | L71: =E71 -> SB | M71: =F71 -> SRT
B72: Paddy Yield, 4.2 Mg/ha | C72: ='[1]Grain and ricestraw'!A35 -> 4.2399604 | D72: ='[1]Grain and ricestraw'!B35 -> 4.1427806 | E72: ='[1]Grain and ricestraw'!C35 -> 4.0734522 | F72: ='[1]Grain and ricestraw'!D35 -> 4.4106879 | I72: Annual paddy yield (Mg/ha) | J72: =C72 -> 4.2399604 | K72: =D72 -> 4.1427806 | L72: =E72 -> 4.0734522 | M72: =F72 -> 4.4106879
B73: =B80 -> Grain quality (head rice recovery ratio), 49.6% | C73: ='[1]Grain and ricestraw'!A51 -> 49.041084 | D73: ='[1]Grain and ricestraw'!B51 -> 46.679661 | E73: ='[1]Grain and ricestraw'!C51 -> 51.234815 | F73: ='[1]Grain and ricestraw'!D51 -> 51.478662 | I73: Head rice recovery (%) | J73: =C73 -> 49.041084 | K73: =D73 -> 46.679661 | L73: =E73 -> 51.234815 | M73: =F73 -> 51.478662
B74: Energy efficiency, 3.7 | C74: ='[1]Energy_2 season'!AM17 -> 2.8977992 | D74: ='[1]Energy_2 season'!AN17 -> 2.8428574 | E74: ='[1]Energy_2 season'!AO17 -> 1.9263515 | F74: ='[1]Energy_2 season'!AP17 -> 3.0315716 | I74: Net energy balance (GJ/ha) | J74: =-'Energy - DS2016'!C39 -> 46.056841 | K74: =-'Energy - DS2016'!D39 -> 41.686217 | L74: =-'Energy - DS2016'!E39 -> 37.618743 | M74: =-'Energy - DS2016'!F39 -> 43.04856
I76: SD
J77: =J71 -> CSR | K77: =K71 -> PSR | L77: =L71 -> SB | M77: =M71 -> SRT
C78: =C71 -> CSR | D78: =D71 -> PSR | E78: =E71 -> SB | F78: =F71 -> SRT | G78: Average | I78: =I72 -> Annual paddy yield (Mg/ha) | J78: ='Grain and ricestraw'!B40 -> 0.679194 | K78: ='Grain and ricestraw'!C40 -> 0.52993222 | L78: ='Grain and ricestraw'!D40 -> 0.41832919 | M78: ='Grain and ricestraw'!E40 -> 0.10946632
B79: =B72 -> Paddy Yield, 4.2 Mg/ha | C79: =C72/$G79 -> 1.0055114 | D79: =D72/$G79 -> 0.98246513 | E79: =E72/$G79 -> 0.96602381 | F79: =F72/$G79 -> 1.0459996 | G79: =AVERAGE(C72:F72) -> 4.2167203 | I79: =I73 -> Head rice recovery (%) | J79: ='Grain and ricestraw'!P40 -> 1.9932429 | K79: ='Grain and ricestraw'!Q40 -> 4.1688722 | L79: ='Grain and ricestraw'!R40 -> 2.4827435 | M79: ='Grain and ricestraw'!S40 -> 1.6221572
B80: Grain quality (head rice recovery ratio), 49.6% | C80: =C73/$G80 -> 0.98856101 | D80: =D73/$G80 -> 0.9409599 | E80: =E73/$G80 -> 1.0327818 | F80: =F73/$G80 -> 1.0376973 | G80: =AVERAGE(C73:F73) -> 49.608556 | I80: =I74 -> Net energy balance (GJ/ha) | J80: ='Energy - DS2016'!C40 -> 11.14 | K80: ='Energy - DS2016'!D40 -> 8.6 | L80: ='Energy - DS2016'!E40 -> 6.58 | M80: ='Energy - DS2016'!F40 -> 1.93
I83: Total (Annual)
J84: CSRm | K84: PSRm | L84: =L71 -> SB | M84: SRt
B85: two season | I85: =I72 -> Annual paddy yield (Mg/ha) | J85: =J51+J72 -> 10.175027 | K85: =K51+K72 -> 10.204571 | L85: =L51+L72 -> 9.8286987 | M85: =M51+M72 -> 10.1436
C86: =C50 -> CSR | D86: =D50 -> PSR | E86: =E50 -> SB | F86: =F50 -> SRT | G86: PSR | I86: =I73 -> Head rice recovery (%) | J86: =AVERAGE(J52,J73) -> 56.175209 | K86: =AVERAGE(K52,K73) -> 55.372497 | L86: =AVERAGE(L52,L73) -> 56.886074 | M86: =AVERAGE(M52,M73) -> 57.891331
B87: Annual paddy yield (10.2 Mg/ha) | C87: =C51+C72 -> 10.175027 | D87: =D51+D72 -> 10.204571 | E87: =E51+E72 -> 9.8286987 | F87: =F51+F72 -> 10.1436 | G87: =D87 -> 10.204571 | I87: Annual net energy (GJ/ha) | J87: =(J53+J74) -> 116.41279 | K87: =(K53+K74) -> 110.71064 | L87: =(L53+L74) -> 99.282489 | M87: =(M53+M74) -> 105.29283
B88: =B52 -> Grain quality (head rice recovery ratio), 63.6% | C88: =AVERAGE(C73,C52) -> 56.175209 | D88: =AVERAGE(D73,D52) -> 55.372497 | E88: =AVERAGE(E73,E52) -> 56.886074 | F88: =AVERAGE(F73,F52) -> 57.891331 | G88: =D88 -> 55.372497 | I88: Annual GHGE (MgCO2-eq/ha) | J88: ='GHFE and Human Toxicity'!B29 -> 6.82555 | K88: ='GHFE and Human Toxicity'!C29 -> 7.61155 | L88: ='GHFE and Human Toxicity'!D29 -> 7.40355 | M88: ='GHFE and Human Toxicity'!E29 -> 11.21655
B89: Net energy balance (4.7) | C89: ='[1]Energy_2 season'!AI43 -> 3.3941309 | D89: ='[1]Energy_2 season'!AJ43 -> 3.4964988 | E89: ='[1]Energy_2 season'!AK43 -> 2.4801697 | F89: ='[1]Energy_2 season'!AL43 -> 3.4915671 | G89: =D89 -> 3.4964988 | I89: Annual human toxicity (Mg 1,4 DB-eq/ ha) | J89: ='GHFE and Human Toxicity'!AI26 -> 1.1535123 | K89: ='GHFE and Human Toxicity'!AJ26 -> 1.1530072 | L89: ='GHFE and Human Toxicity'!AK26 -> 1.3449708 | M89: ='GHFE and Human Toxicity'!AL26 -> 1.1540011
I92: =I76 -> SD
C93: Partial removal (control = 1) | D93: Complete straw removal | E93: In-field burning | F93: Straw retained and incorporated | J93: =J84 -> CSRm | K93: =K84 -> PSRm | L93: =L84 -> SB | M93: =M84 -> SRt
B94: =B87 -> Annual paddy yield (10.2 Mg/ha) | C94: =D87/$G87 -> 1 | D94: =C87/$G87 -> 0.99710481 | E94: =E87/$G87 -> 0.96316626 | F94: =F87/$G87 -> 0.99402513 | I94: =I78 -> Annual paddy yield (Mg/ha) | J94: =J59+J78 -> 0.88934832 | K94: =K59+K78 -> 1.2117714 | L94: =L59+L78 -> 0.76920414 | M94: =M59+M78 -> 0.76092636
B95: Grain quality: head rice recovery (55.4%) | C95: =D88/$G88 -> 1 | D95: =C88/$G88 -> 1.0144966 | E95: =E88/$G88 -> 1.0273345 | F95: =F88/$G88 -> 1.0454889 | I95: =I79 -> Head rice recovery (%) | J95: =(J60+J79)/2 -> 1.606888 | K95: =(K60+K79)/2 -> 3.1104465 | L95: =(L60+L79)/2 -> 2.697125 | M95: =(M60+M79)/2 -> 1.2829981
B96: =B89 -> Net energy balance (4.7) | C96: =D89/$G89 -> 1 | D96: =C89/$G89 -> 0.97072274 | E96: =E89/$G89 -> 0.70932949 | F96: =F89/$G89 -> 0.99858954 | I96: =I87 -> Annual net energy (GJ/ha) | J96: =(J61+J80) -> 15.21 | K96: =(K61+K80) -> 20.08 | L96: =(L61+L80) -> 12.15 | M96: =(M61+M80) -> 12.22
I97: GHGE (Mg CO2-eq/ha) | J97: 0.81262 | K97: 1.2778 | L97: 1.246555 | M97: 2.816635
I98: Human toxicity (Mg 1,4 DB-eq/ ha) | J98: 0.028272934 | K98: 0.027279813 | L98: 0.089616829 | M98: 0.024281218

Sheet LAND PREPARATION
A1: OPERATION | B1: PLOWING
A2: Amount of fuel used | B2: 10L | F2: FC | G2: =10/D17 -> 15.793547
A3: Plot No. | B3: Treatment | C3: Area | E3: Fuel used | F3: Fuel consumption, FC
C4: (m^2) | D4: ha | E4: mL | F4: L/ha
A5: 1 | B5: CSR | C5: 506.1 | D5: =C5/10000 -> 0.05061 | E5: =G$2*D5*1000 -> 799.3114 | F5: =E5/1000/D5 -> 15.793547
A6: 2 | B6: PSR | C6: 592.9 | D6: =C6/10000 -> 0.05929 | E6: =G$2*D6*1000 -> 936.39939 | F6: =E6/1000/D6 -> 15.793547
A7: 3 | B7: SB | C7: 457.9 | D7: =C7/10000 -> 0.04579 | E7: =G$2*D7*1000 -> 723.18651 | F7: =E7/1000/D7 -> 15.793547
A8: 4 | B8: CSR | C8: 578.4 | D8: =C8/10000 -> 0.05784 | E8: =G$2*D8*1000 -> 913.49874 | F8: =E8/1000/D8 -> 15.793547
A9: 5 | B9: SB | C9: 501.3 | D9: =C9/10000 -> 0.05013 | E9: =G$2*D9*1000 -> 791.7305 | F9: =E9/1000/D9 -> 15.793547
A10: 6 | B10: SRT | C10: 592.9 | D10: =C10/10000 -> 0.05929 | E10: =G$2*D10*1000 -> 936.39939 | F10: =E10/1000/D10 -> 15.793547
A11: 7 | B11: SB | C11: 486.2 | D11: =C11/10000 -> 0.04862 | E11: =G$2*D11*1000 -> 767.88224 | F11: =E11/1000/D11 -> 15.793547
A12: 8 | B12: SRT | C12: 569.5 | D12: =C12/10000 -> 0.05695 | E12: =G$2*D12*1000 -> 899.44249 | F12: =E12/1000/D12 -> 15.793547
A13: 9 | B13: SRT | C13: 439.9 | D13: =C13/10000 -> 0.04399 | E13: =G$2*D13*1000 -> 694.75812 | F13: =E13/1000/D13 -> 15.793547
A14: 10 | B14: PSR | C14: 555.6 | D14: =C14/10000 -> 0.05556 | E14: =G$2*D14*1000 -> 877.48946 | F14: =E14/1000/D14 -> 15.793547
A15: 11 | B15: CSR | C15: 481.5 | D15: =C15/10000 -> 0.04815 | E15: =G$2*D15*1000 -> 760.45928 | F15: =E15/1000/D15 -> 15.793547
A16: 12 | B16: PSR | C16: 569.5 | D16: =C16/10000 -> 0.05695 | E16: =G$2*D16*1000 -> 899.44249 | F16: =E16/1000/D16 -> 15.793547
D17: =SUM(D5:D16) -> 0.63317
A21: Dec 04* & 9 | B21: FIRST PUDDLING
A22: Plot No. | B22: Treatment | C22: Area | E22: Time | H22: Fuel used | I22: FC (L/hr) | K22: Field Capacity | P22: =B21 -> FIRST PUDDLING | S22: Lit/ha)
C23: (m^2) | D23: ha | E23: min | F23: min | G23: hr | H23: mL | I23: L/hr | J23: L/ha | K23: hr/ha | P23: =B24 -> CSR | Q23: =B27 -> PSR | R23: =B30 -> SB | S23: =B33 -> SRT
A24: 1 | B24: CSR | C24: 506.1 | D24: =C24/10000 -> 0.05061 | E24: 13:05 | F24: =13+(5/60) -> 13.083333 | G24: =F24/60 -> 0.21805556 | H24: 360 | I24: =(H24/1000)/G24 -> 1.6509554 | J24: =(H24/1000)/D24 -> 7.1132187 | K24: =G24/D24 -> 4.3085468 | P24: =J24 -> 7.1132187 | Q24: =J27 -> 5.7345252 | R24: =J30 -> 5.0229308 | S24: =J33 -> 4.0479002
A25: 2 | B25: CSR | C25: 578.4 | D25: =C25/10000 -> 0.05784 | E25: 17:55 | F25: =17+(55/60) -> 17.916667 | G25: =F25/60 -> 0.29861111 | H25: 370 | I25: =(H25/1000)/G25 -> 1.2390698 | J25: =(H25/1000)/D25 -> 6.3969571 | K25: =G25/D25 -> 5.1627094 | P25: =J25 -> 6.3969571 | Q25: =J28 -> 5.0395968 | R25: =J31 -> 3.9078568 | S25: =J34 -> 4.5654083
A26: 3 | B26: CSR* | C26: 481.5 | D26: =C26/10000 -> 0.04815 | E26: 36:20 | F26: =36+(20/60) -> 36.333333 | G26: =F26/60 -> 0.60555556 | H26: 760 | I26: =(H26/1000)/G26 -> 1.2550459 | J26: =(H26/1000)/D26 -> 15.784008 | Q26: =J29 -> 5.2677788 | S26: =J35 -> 6.1377586
A27: 4 | B27: PSR | C27: 592.9 | D27: =C27/10000 -> 0.05929 | E27: 15:21 | F27: =15+(21/60) -> 15.35 | G27: =F27/60 -> 0.25583333 | H27: 340 | I27: =(H27/1000)/G27 -> 1.3289902 | J27: =(H27/1000)/D27 -> 5.7345252 | K27: =G27/D27 -> 4.3149491 | O27: Ave | P27: =AVERAGE(P24:P26) -> 6.7550879 | Q27: =AVERAGE(Q24:Q26) -> 5.3473003 | R27: =AVERAGE(R24:R26) -> 4.4653938 | S27: =AVERAGE(S24:S26) -> 4.9170223
A28: 5 | B28: PSR | C28: 555.6 | D28: =C28/10000 -> 0.05556 | E28: 12:20 | F28: =12+(20/60) -> 12.333333 | G28: =F28/60 -> 0.20555556 | H28: 280 | I28: =(H28/1000)/G28 -> 1.3621622 | J28: =(H28/1000)/D28 -> 5.0395968 | K28: =G28/D28 -> 3.699704 | O28: Stdev | P28: =STDEV(P24:P26) -> 0.50647344 | Q28: =STDEV(Q24:Q26) -> 0.35422326 | R28: =STDEV(R24:R26) -> 0.78847633 | S28: =STDEV(S24:S26) -> 1.088394
A29: 6 | B29: PSR | C29: 569.5 | D29: =C29/10000 -> 0.05695 | E29: 17:21 | F29: =17+(21/60) -> 17.35 | G29: =F29/60 -> 0.28916667 | H29: 300 | I29: =(H29/1000)/G29 -> 1.037464 | J29: =(H29/1000)/D29 -> 5.2677788 | K29: =G29/D29 -> 5.0775534
A30: 7 | B30: SB | C30: 457.9 | D30: =C30/10000 -> 0.04579 | E30: 13:31 | F30: =13+(31/60) -> 13.516667 | G30: =F30/60 -> 0.22527778 | H30: 230 | I30: =(H30/1000)/G30 -> 1.0209618 | J30: =(H30/1000)/D30 -> 5.0229308 | K30: =G30/D30 -> 4.919803
A31: 8 | B31: SB | C31: 486.2 | D31: =C31/10000 -> 0.04862 | E31: 7:56 | F31: =7+(56/60) -> 7.9333333 | G31: =F31/60 -> 0.13222222 | H31: 190 | I31: =(H31/1000)/G31 -> 1.4369748 | J31: =(H31/1000)/D31 -> 3.9078568 | K31: =G31/D31 -> 2.7195027
A32: 9 | B32: SB* | C32: 501.3 | D32: =C32/10000 -> 0.05013 | E32: 41:42 | F32: =41+(42/60) -> 41.7 | G32: =F32/60 -> 0.695 | H32: 910 | I32: =(H32/1000)/G32 -> 1.3093525 | J32: =(H32/1000)/D32 -> 18.152803
A33: 10 | B33: SRT | C33: 592.9 | D33: =C33/10000 -> 0.05929 | E33: 13:47 | F33: =13+(47/60) -> 13.783333 | G33: =F33/60 -> 0.22972222 | H33: 240 | I33: =(H33/1000)/G33 -> 1.04474 | J33: =(H33/1000)/D33 -> 4.0479002 | K33: =G33/D33 -> 3.8745526
A34: 11 | B34: SRT | C34: 569.5 | D34: =C34/10000 -> 0.05695 | E34: 15:35 | F34: =15+(35/60) -> 15.583333 | G34: =F34/60 -> 0.25972222 | H34: 260 | I34: =(H34/1000)/G34 -> 1.0010695 | J34: =(H34/1000)/D34 -> 4.5654083 | K34: =G34/D34 -> 4.5605307
A35: 12 | B35: SRT | C35: 439.9 | D35: =C35/10000 -> 0.04399 | E35: 13:25 | F35: =10+(25/60) -> 10.416667 | G35: =F35/60 -> 0.17361111 | H35: 270 | I35: =(H35/1000)/G35 -> 1.5552 | J35: =(H35/1000)/D35 -> 6.1377586 | K35: =G35/D35 -> 3.946604
A36: * puddled without rotavating the soil | K36: =AVERAGE(K24:K35) -> 4.2584456 | L36: average
K37: =STDEV(K24:K35) -> 0.7414804
A38: 42349 | B38: ROTAVATION
A40: Plot No. | B40: Treatment | C40: Area | E40: Time | H40: Fuel used | I40: FC (L/hr) | K40: Field Capacity | S40: Lit/ha)
C41: (m^2) | D41: ha | E41: min | F41: min | G41: hr | H41: mL | I41: L/hr | J41: L/ha | K41: hr/ha | P41: =B42 -> CSR | Q41: =B45 -> PSR | R41: =B48 -> SB | S41: =B51 -> SRT
A42: 1 | B42: CSR | C42: 506.1 | D42: =C42/10000 -> 0.05061 | E42: 17:25 | F42: =18+(2/60) -> 18.033333 | G42: =F42/60 -> 0.30055556 | H42: 3700 | I42: =(H$42/1000)/G42 -> 12.310536 | J42: =(H$42/1000)/SUM(D$42:D$53) -> 5.8436123 | K42: =G42/D42 -> 5.9386595 | P42: =J42 -> 5.8436123 | Q42: =J45 -> 5.8436123 | R42: =J48 -> 5.8436123 | S42: =J51 -> 5.8436123
A43: 4 | B43: CSR | C43: 578.4 | D43: =C43/10000 -> 0.05784 | E43: 9:08 | F43: =16+(17/60) -> 16.283333 | G43: =F43/60 -> 0.27138889 | I43: =(H$42/1000)/G43 -> 13.633572 | J43: =(H$42/1000)/SUM(D$42:D$53) -> 5.8436123 | K43: =G43/D43 -> 4.6920624 | P43: =J43 -> 5.8436123 | Q43: =J46 -> 5.8436123 | S43: =J52 -> 5.8436123
A44: 11 | B44: CSR | C44: 481.5 | D44: =C44/10000 -> 0.04815 | Q44: =J47 -> 5.8436123 | R44: =J50 -> 5.8436123 | S44: =J53 -> 5.8436123
A45: 2 | B45: PSR | C45: 592.9 | D45: =C45/10000 -> 0.05929 | E45: 15:20 | F45: =18+(12/60) -> 18.2 | G45: =F45/60 -> 0.30333333 | I45: =(H$42/1000)/G45 -> 12.197802 | J45: =(H$42/1000)/SUM(D$42:D$53) -> 5.8436123 | K45: =G45/D45 -> 5.116096 | O45: Ave | P45: =AVERAGE(P42:P44) -> 5.8436123 | Q45: =AVERAGE(Q42:Q44) -> 5.8436123 | R45: =AVERAGE(R42:R44) -> 5.8436123 | S45: =AVERAGE(S42:S44) -> 5.8436123
A46: 10 | B46: PSR | C46: 555.6 | D46: =C46/10000 -> 0.05556 | E46: 18:25 | F46: =19+(22/60) -> 19.366667 | G46: =F46/60 -> 0.32277778 | I46: =(H$42/1000)/G46 -> 11.462995 | J46: =(H$42/1000)/SUM(D$42:D$53) -> 5.8436123 | K46: =G46/D46 -> 5.8095352 | O46: Stdev | P46: =STDEV(P42:P44) -> 0 | Q46: =STDEV(Q42:Q44) -> 0 | R46: =STDEV(R42:R44) -> 0 | S46: =STDEV(S42:S44) -> 0
A47: 12 | B47: PSR | C47: 569.5 | D47: =C47/10000 -> 0.05695 | E47: 14:15 | F47: =18+(44/60) -> 18.733333 | G47: =F47/60 -> 0.31222222 | I47: =(H$42/1000)/G47 -> 11.850534 | J47: =(H$42/1000)/SUM(D$42:D$53) -> 5.8436123 | K47: =G47/D47 -> 5.482392
A48: 3 | B48: SB | C48: 457.9 | D48: =C48/10000 -> 0.04579 | E48: 10:23 | F48: =14+(30/60) -> 14.5 | G48: =F48/60 -> 0.24166667 | I48: =(H$42/1000)/G48 -> 15.310345 | J48: =(H$42/1000)/SUM(D$42:D$53) -> 5.8436123 | K48: =G48/D48 -> 5.2777171
A49: 5 | B49: SB | C49: 501.3 | D49: =C49/10000 -> 0.05013
A50: 7 | B50: SB | C50: 486.2 | D50: =C50/10000 -> 0.04862 | E50: 11:26 | F50: =19 -> 19 | G50: =F50/60 -> 0.31666667 | I50: =(H$42/1000)/G50 -> 11.684211 | J50: =(H$42/1000)/SUM(D$42:D$53) -> 5.8436123 | K50: =G50/D50 -> 6.5130947
A51: 6 | B51: SRT | C51: 592.9 | D51: =C51/10000 -> 0.05929 | E51: 14:22 | F51: =17+(4/60) -> 17.066667 | G51: =F51/60 -> 0.28444444 | I51: =(H$42/1000)/G51 -> 13.007812 | J51: =(H$42/1000)/SUM(D$42:D$53) -> 5.8436123 | K51: =G51/D51 -> 4.7975113
A52: 8 | B52: SRT | C52: 569.5 | D52: =C52/10000 -> 0.05695 | E52: 13:27 | F52: =18+(26/60) -> 18.433333 | G52: =F52/60 -> 0.30722222 | I52: =(H$42/1000)/G52 -> 12.0434 | J52: =(H$42/1000)/SUM(D$42:D$53) -> 5.8436123 | K52: =G52/D52 -> 5.3945956
A53: 9 | B53: SRT | C53: 439.9 | D53: =C53/10000 -> 0.04399 | E53: 13:23 | F53: =16+(42/60) -> 16.7 | G53: =F53/60 -> 0.27833333 | I53: =(H$42/1000)/G53 -> 13.293413 | J53: =(H$42/1000)/SUM(D$42:D$53) -> 5.8436123 | K53: =G53/D53 -> 6.3271956
K54: =AVERAGE(K42:K53) -> 5.5348859
K55: =STDEV(K42:K53) -> 0.60929313
A57: 42349 | B57: SECOND PUDDLING
A58: Plot No. | B58: Treatment | C58: Area | E58: Time | H58: Fuel used | I58: FC (L/hr) | K58: Field Capacity
C59: (m^2) | D59: ha | E59: min | F59: min | G59: hr | H59: mL | I59: L/hr | J59: L/ha | K59: hr/ha | P59: =B60 -> CSR | Q59: =B63 -> PSR | R59: =B66 -> SB | S59: =B69 -> SRT
A60: 1 | B60: CSR | C60: 506.1 | D60: =C60/10000 -> 0.05061 | E60: 18:02 | F60: =18+(2/60) -> 18.033333 | G60: =F60/60 -> 0.30055556 | H60: 390 | I60: =(H60/1000)/G60 -> 1.297597 | J60: =(H60/1000)/D60 -> 7.705987 | K60: =G60/D60 -> 5.9386595 | P60: =J60 -> 7.705987 | Q60: =J63 -> 5.5658627 | R60: =J66 -> 6.7700371 | S60: =J69 -> 6.0718502
A61: 4 | B61: CSR | C61: 578.4 | D61: =C61/10000 -> 0.05784 | E61: 16:17 | F61: =16+(17/60) -> 16.283333 | G61: =F61/60 -> 0.27138889 | H61: 310 | I61: =(H61/1000)/G61 -> 1.1422723 | J61: =(H61/1000)/D61 -> 5.3596127 | K61: =G61/D61 -> 4.6920624 | P61: =J61 -> 5.3596127 | Q61: =J64 -> 7.9193665 | R61: =J67 -> 6.7823658 | S61: =J70 -> 7.3748903
A62: 11 | B62: CSR | C62: 481.5 | D62: =C62/10000 -> 0.04815 | E62: 16:59 | F62: =16+(59/60) -> 16.983333 | G62: =F62/60 -> 0.28305556 | H62: 400 | I62: =(H62/1000)/G62 -> 1.4131501 | J62: =(H62/1000)/D62 -> 8.3073728 | K62: =G62/D62 -> 5.8786201 | P62: =J62 -> 8.3073728 | Q62: =J65 -> 6.8481124 | R62: =J68 -> 8.8440971 | S62: =J71 -> 7.9563537
A63: 2 | B63: PSR | C63: 592.9 | D63: =C63/10000 -> 0.05929 | E63: 18:12 | F63: =18+(12/60) -> 18.2 | G63: =F63/60 -> 0.30333333 | H63: 330 | I63: =(H63/1000)/G63 -> 1.0879121 | J63: =(H63/1000)/D63 -> 5.5658627 | K63: =G63/D63 -> 5.116096 | O63: Ave | P63: =AVERAGE(P60:P62) -> 7.1243242 | Q63: =AVERAGE(Q60:Q62) -> 6.7777805 | R63: =AVERAGE(R60:R62) -> 7.4655 | S63: =AVERAGE(S60:S62) -> 7.1343647
A64: 10 | B64: PSR | C64: 555.6 | D64: =C64/10000 -> 0.05556 | E64: 19:22 | F64: =19+(22/60) -> 19.366667 | G64: =F64/60 -> 0.32277778 | H64: 440 | I64: =(H64/1000)/G64 -> 1.363167 | J64: =(H64/1000)/D64 -> 7.9193665 | K64: =G64/D64 -> 5.8095352 | O64: Stdev | P64: =STDEV(P60:P62) -> 1.557585 | Q64: =STDEV(Q60:Q62) -> 1.1783272 | R64: =STDEV(R60:R62) -> 1.193916 | S64: =STDEV(S60:S62) -> 0.96500142
A65: 12 | B65: PSR | C65: 569.5 | D65: =C65/10000 -> 0.05695 | E65: 18:44 | F65: =18+(44/60) -> 18.733333 | G65: =F65/60 -> 0.31222222 | H65: 390 | I65: =(H65/1000)/G65 -> 1.2491103 | J65: =(H65/1000)/D65 -> 6.8481124 | K65: =G65/D65 -> 5.482392
A66: 3 | B66: SB | C66: 457.9 | D66: =C66/10000 -> 0.04579 | E66: 14:30 | F66: =14+(30/60) -> 14.5 | G66: =F66/60 -> 0.24166667 | H66: 310 | I66: =(H66/1000)/G66 -> 1.2827586 | J66: =(H66/1000)/D66 -> 6.7700371 | K66: =G66/D66 -> 5.2777171
A67: 5 | B67: SB | C67: 501.3 | D67: =C67/10000 -> 0.05013 | E67: 15:31 | F67: =15+(31/60) -> 15.516667 | G67: =F67/60 -> 0.25861111 | H67: 340 | I67: =(H67/1000)/G67 -> 1.3147154 | J67: =(H67/1000)/D67 -> 6.7823658 | K67: =G67/D67 -> 5.1588093
A68: 7 | B68: SB | C68: 486.2 | D68: =C68/10000 -> 0.04862 | E68: 19:00 | F68: =19 -> 19 | G68: =F68/60 -> 0.31666667 | H68: 430 | I68: =(H68/1000)/G68 -> 1.3578947 | J68: =(H68/1000)/D68 -> 8.8440971 | K68: =G68/D68 -> 6.5130947
A69: 6 | B69: SRT | C69: 592.9 | D69: =C69/10000 -> 0.05929 | E69: 17:04 | F69: =17+(4/60) -> 17.066667 | G69: =F69/60 -> 0.28444444 | H69: 360 | I69: =(H69/1000)/G69 -> 1.265625 | J69: =(H69/1000)/D69 -> 6.0718502 | K69: =G69/D69 -> 4.7975113
A70: 8 | B70: SRT | C70: 569.5 | D70: =C70/10000 -> 0.05695 | E70: 18:26 | F70: =18+(26/60) -> 18.433333 | G70: =F70/60 -> 0.30722222 | H70: 420 | I70: =(H70/1000)/G70 -> 1.3670886 | J70: =(H70/1000)/D70 -> 7.3748903 | K70: =G70/D70 -> 5.3945956
A71: 9 | B71: SRT | C71: 439.9 | D71: =C71/10000 -> 0.04399 | E71: 16:42 | F71: =16+(42/60) -> 16.7 | G71: =F71/60 -> 0.27833333 | H71: 350 | I71: =(H71/1000)/G71 -> 1.257485 | J71: =(H71/1000)/D71 -> 7.9563537 | K71: =G71/D71 -> 6.3271956
K72: =AVERAGE(K60:K71) -> 5.5321907
K73: =STDEV(K60:K71) -> 0.57212861
A75: 42355 | B75: FIRST HARROWING
A76: Plot No. | B76: Treatment | C76: Area | E76: Time | H76: Fuel used | I76: FC (L/hr) | K76: Field Capacity
C77: (m^2) | D77: ha | E77: min | F77: min | G77: hr | H77: mL | I77: L/hr | J77: L/ha | K77: hr/ha | P77: =B78 -> CSR | Q77: =B81 -> PSR | R77: =B84 -> SB | S77: =B87 -> SRT
A78: 1 | B78: CSR | C78: 506.1 | D78: =C78/10000 -> 0.05061 | E78: 16:14 | F78: =16+14/60 -> 16.233333 | G78: =F78/60 -> 0.27055556 | H78: 210 | I78: =(H78/1000)/G78 -> 0.7761807 | J78: =(H78/1000)/D78 -> 4.1493776 | K78: =G78/D78 -> 5.3458912 | P78: =J78 -> 4.1493776 | Q78: =J81 -> 5.2285377 | R78: =J84 -> 4.1493776 | S78: =J87 -> 4.3852252
A79: 4 | B79: CSR | C79: 578.4 | D79: =C79/10000 -> 0.05784 | E79: 21:59 | F79: =21+59/60 -> 21.983333 | G79: =F79/60 -> 0.36638889 | H79: 270 | I79: =(H79/1000)/G79 -> 0.73692191 | J79: =(H79/1000)/D79 -> 4.6680498 | K79: =G79/D79 -> 6.3345244 | P79: =J79 -> 4.6680498 | Q79: =J82 -> 4.1396688 | R79: =J85 -> 4.9870337 | S79: =J88 -> 4.5654083
A80: 11 | B80: CSR | C80: 481.5 | D80: =C80/10000 -> 0.04815 | E80: 12:20 | F80: =12+(20/60) -> 12.333333 | G80: =F80/60 -> 0.20555556 | H80: 170 | I80: =(H80/1000)/G80 -> 0.82702703 | J80: =(H80/1000)/D80 -> 3.5306334 | K80: =G80/D80 -> 4.2690666 | P80: =J80 -> 3.5306334 | Q80: =J83 -> 5.0921861 | R80: =J86 -> 3.0851501 | S80: =J89 -> 4.7738122
A81: 2 | B81: PSR | C81: 592.9 | D81: =C81/10000 -> 0.05929 | E81: 20:59 | F81: =20+59/60 -> 20.983333 | G81: =F81/60 -> 0.34972222 | H81: 310 | I81: =(H81/1000)/G81 -> 0.88641779 | J81: =(H81/1000)/D81 -> 5.2285377 | K81: =G81/D81 -> 5.8985027 | O81: Ave | P81: =AVERAGE(P78:P80) -> 4.1160203 | Q81: =AVERAGE(Q78:Q80) -> 4.8201309 | R81: =AVERAGE(R78:R80) -> 4.0738538 | S81: =AVERAGE(S78:S80) -> 4.5748152
A82: 10 | B82: PSR | C82: 555.6 | D82: =C82/10000 -> 0.05556 | E82: 19:29 | F82: =19+29/60 -> 19.483333 | G82: =F82/60 -> 0.32472222 | H82: 230 | I82: =(H82/1000)/G82 -> 0.70829769 | J82: =(H82/1000)/D82 -> 4.1396688 | K82: =G82/D82 -> 5.8445324 | O82: Stdev | P82: =STDEV(P78:P80) -> 0.56944141 | Q82: =STDEV(Q78:Q80) -> 0.59322795 | R82: =STDEV(R78:R80) -> 0.95318842 | S82: =STDEV(S78:S80) -> 0.19446425
A83: 12 | B83: PSR | C83: 569.5 | D83: =C83/10000 -> 0.05695 | E83: 20:16 | F83: =20+16/60 -> 20.266667 | G83: =F83/60 -> 0.33777778 | H83: 290 | I83: =(H83/1000)/G83 -> 0.85855263 | J83: =(H83/1000)/D83 -> 5.0921861 | K83: =G83/D83 -> 5.9311287
A84: 3 | B84: SB | C84: 457.9 | D84: =C84/10000 -> 0.04579 | E84: 12:05 | F84: =12+5/60 -> 12.083333 | G84: =F84/60 -> 0.20138889 | H84: 190 | I84: =(H84/1000)/G84 -> 0.94344828 | J84: =(H84/1000)/D84 -> 4.1493776 | K84: =G84/D84 -> 4.3980976
A85: 5 | B85: SB | C85: 501.3 | D85: =C85/10000 -> 0.05013 | E85: 13:29 | F85: =13+29/60 -> 13.483333 | G85: =F85/60 -> 0.22472222 | H85: 250 | I85: =(H85/1000)/G85 -> 1.1124845 | J85: =(H85/1000)/D85 -> 4.9870337 | K85: =G85/D85 -> 4.4827892
A86: 7 | B86: SB | C86: 486.2 | D86: =C86/10000 -> 0.04862 | E86: 11:57 | F86: =11+57/60 -> 11.95 | G86: =F86/60 -> 0.19916667 | H86: 150 | I86: =(H86/1000)/G86 -> 0.75313808 | J86: =(H86/1000)/D86 -> 3.0851501 | K86: =G86/D86 -> 4.0963938
A87: 6 | B87: SRT | C87: 592.9 | D87: =C87/10000 -> 0.05929 | E87: 19:39 | F87: =19+39/60 -> 19.65 | G87: =F87/60 -> 0.3275 | H87: 260 | I87: =(H87/1000)/G87 -> 0.79389313 | J87: =(H87/1000)/D87 -> 4.3852252 | K87: =G87/D87 -> 5.5236971
A88: 8 | B88: SRT | C88: 569.5 | D88: =C88/10000 -> 0.05695 | E88: 21:22 | F88: =21+22/60 -> 21.366667 | G88: =F88/60 -> 0.35611111 | H88: 260 | I88: =(H88/1000)/G88 -> 0.7301092 | J88: =(H88/1000)/D88 -> 4.5654083 | K88: =G88/D88 -> 6.2530485
A89: 9 | B89: SRT | C89: 439.9 | D89: =C89/10000 -> 0.04399 | E89: 19:00 | F89: =19 -> 19 | G89: =F89/60 -> 0.31666667 | H89: 210 | I89: =(H89/1000)/G89 -> 0.66315789 | J89: =(H89/1000)/D89 -> 4.7738122 | K89: =G89/D89 -> 7.1986057
K90: =AVERAGE(K78:K89) -> 5.4646898
K91: =STDEV(K78:K89) -> 0.97027254
A94: 42356 | B94: SECOND HARROWING
A95: Plot No. | B95: Treatment | C95: Area | E95: Time | H95: Fuel used | I95: FC (L/hr) | K95: Field Capacity
C96: (m^2) | D96: ha | E96: min | F96: min | G96: hr | H96: mL | I96: L/hr | J96: L/ha | K96: hr/ha | P96: =B97 -> CSR | Q96: =B100 -> PSR | R96: =B103 -> SB | S96: =B106 -> SRT
A97: 1 | B97: CSR | C97: 506.1 | D97: =C97/10000 -> 0.05061 | E97: 6:12 | F97: =6+12/60 -> 6.2 | G97: =F97/60 -> 0.10333333 | H97: 110 | I97: =(H97/1000)/G97 -> 1.0645161 | J97: =(H97/1000)/D97 -> 2.1734835 | K97: =G97/D97 -> 2.0417572 | P97: =J97 -> 2.1734835 | Q97: =J100 -> 0.84331253 | R97: =J103 -> 3.4942127 | S97: =J106 -> 2.0239501
A98: 4 | B98: CSR | C98: 578.4 | D98: =C98/10000 -> 0.05784 | E98: 7:35 | F98: =7+35/60 -> 7.5833333 | G98: =F98/60 -> 0.12638889 | H98: 150 | I98: =(H98/1000)/G98 -> 1.1868132 | J98: =(H98/1000)/D98 -> 2.593361 | K98: =G98/D98 -> 2.1851468 | P98: =J98 -> 2.593361 | Q98: =J101 -> 3.4197264 | R98: =J104 -> 1.9948135 | S98: =J107 -> 2.809482
A99: 11 | B99: CSR | C99: 481.5 | D99: =C99/10000 -> 0.04815 | E99: 9:24 | F99: =9+24/60 -> 9.4 | G99: =F99/60 -> 0.15666667 | H99: 105 | I99: =(H99/1000)/G99 -> 0.67021277 | J99: =(H99/1000)/D99 -> 2.1806854 | K99: =G99/D99 -> 3.253721 | P99: =J99 -> 2.1806854 | Q99: =J102 -> 1.4925373 | R99: =J105 -> 3.2908268 | S99: =J108 -> 3.8645147
A100: 2 | B100: PSR | C100: 592.9 | D100: =C100/10000 -> 0.05929 | E100: 9:39 | F100: =9+39/60 -> 9.65 | G100: =F100/60 -> 0.16083333 | H100: 50 | I100: =(H100/1000)/G100 -> 0.31088083 | J100: =(H100/1000)/D100 -> 0.84331253 | K100: =G100/D100 -> 2.7126553 | O100: Ave | P100: =AVERAGE(P97:P99) -> 2.3158433 | Q100: =AVERAGE(Q97:Q99) -> 1.9185254 | R100: =AVERAGE(R97:R99) -> 2.9266177 | S100: =AVERAGE(S97:S99) -> 2.8993156
A101: 10 | B101: PSR | C101: 555.6 | D101: =C101/10000 -> 0.05556 | E101: 11:39 | F101: =11+39/60 -> 11.65 | G101: =F101/60 -> 0.19416667 | H101: 190 | I101: =(H101/1000)/G101 -> 0.97854077 | J101: =(H101/1000)/D101 -> 3.4197264 | K101: =G101/D101 -> 3.4947204 | O101: Stdev | P101: =STDEV(P97:P99) -> 0.24036436 | Q101: =STDEV(Q97:Q99) -> 1.3399912 | R101: =STDEV(R97:R99) -> 0.81334847 | S101: =STDEV(S97:S99) -> 0.92356486
A102: 12 | B102: PSR | C102: 569.5 | D102: =C102/10000 -> 0.05695 | E102: 8:49 | F102: =8+49/60 -> 8.8166667 | G102: =F102/60 -> 0.14694444 | H102: 85 | I102: =(H102/1000)/G102 -> 0.57844991 | J102: =(H102/1000)/D102 -> 1.4925373 | K102: =G102/D102 -> 2.5802361
A103: 3 | B103: SB | C103: 457.9 | D103: =C103/10000 -> 0.04579 | E103: 7:53 | F103: =7+53/60 -> 7.8833333 | G103: =F103/60 -> 0.13138889 | H103: 160 | I103: =(H103/1000)/G103 -> 1.217759 | J103: =(H103/1000)/D103 -> 3.4942127 | K103: =G103/D103 -> 2.8693795
A104: 5 | B104: SB | C104: 501.3 | D104: =C104/10000 -> 0.05013 | E104: 5:27 | F104: =5+27/60 -> 5.45 | G104: =F104/60 -> 0.090833333 | H104: 100 | I104: =(H104/1000)/G104 -> 1.1009174 | J104: =(H104/1000)/D104 -> 1.9948135 | K104: =G104/D104 -> 1.8119556
A105: 7 | B105: SB | C105: 486.2 | D105: =C105/10000 -> 0.04862 | E105: 6:36 | F105: =6+36/60 -> 6.6 | G105: =F105/60 -> 0.11 | H105: 160 | I105: =(H105/1000)/G105 -> 1.4545455 | J105: =(H105/1000)/D105 -> 3.2908268 | K105: =G105/D105 -> 2.2624434
A106: 6 | B106: SRT | C106: 592.9 | D106: =C106/10000 -> 0.05929 | E106: 6:10 | F106: =6+10/60 -> 6.1666667 | G106: =F106/60 -> 0.10277778 | H106: 120 | I106: =(H106/1000)/G106 -> 1.1675676 | J106: =(H106/1000)/D106 -> 2.0239501 | K106: =G106/D106 -> 1.7334758
A107: 8 | B107: SRT | C107: 569.5 | D107: =C107/10000 -> 0.05695 | E107: 11:36 | F107: =11+36/60 -> 11.6 | G107: =F107/60 -> 0.19333333 | H107: 160 | I107: =(H107/1000)/G107 -> 0.82758621 | J107: =(H107/1000)/D107 -> 2.809482 | K107: =G107/D107 -> 3.3947908
A108: 9 | B108: SRT | C108: 439.9 | D108: =C108/10000 -> 0.04399 | E108: 9:35 | F108: =9+35/60 -> 9.5833333 | G108: =F108/60 -> 0.15972222 | H108: 170 | I108: =(H108/1000)/G108 -> 1.0643478 | J108: =(H108/1000)/D108 -> 3.8645147 | K108: =G108/D108 -> 3.6308757
...

Sheet TRANSPLANTING
A1: Plot No. | B1: Treatment | C1: Area | D1: MANPOWER | E1: Total Time of Planting | G1: Planting Rate
C2: ha | E2: (min) | G2: (hr/ha)
A3: 1 | B3: CSR | C3: 0.05061 | D3: 8 | E3: 37:24 | F3: =37+24/60 -> 37.4 | G3: =(F3/60)*D3/C3 -> 98.531252
A4: 2 | B4: PSR | C4: 0.059286 | D4: 8 | E4: 34:34 | F4: =34+34/60 -> 34.566667 | G4: =(F4/60)*D4/C4 -> 77.73992
A5: 3 | B5: SB | C5: 0.04579 | D5: 8 | E5: 36:47 | F5: =36+47/60 -> 36.783333 | G5: =(F5/60)*D5/C5 -> 107.10733
A6: 4 | B6: CSR | C6: 0.05784 | D6: 8 | E6: 39:45 | F6: =39+45/60 -> 39.75 | G6: =(F6/60)*D6/C6 -> 91.632089
A7: 5 | B7: SB | C7: 0.050128 | D7: 10 | E7: 29:27 | F7: =29+27/60 -> 29.45 | G7: =(F7/60)*D7/C7 -> 97.916002
A8: 6 | B8: SRT | C8: 0.059286 | D8: 10 | E8: 30:28 | F8: =30+28/60 -> 30.466667 | G8: =(F8/60)*D8/C8 -> 85.648851
A9: 7 | B9: SB | C9: 0.048615 | D9: 8 | E9: 34:50 | F9: =34+50/60 -> 34.833333 | G9: =(F9/60)*D9/C9 -> 95.535214
A10: 8 | B10: SRT | C10: 0.056949 | D10: 8 | E10: 43:27 | F10: =42+27/60 -> 42.45 | G10: =(F10/60)*D10/C10 -> 99.387171
A11: 9 | B11: SRT | C11: 0.043985 | D11: 8 | E11: 38:11 | F11: =38+11/60 -> 38.183333 | G11: =(F11/60)*D11/C11 -> 115.74653
A12: 10 | B12: PSR | C12: 0.05556 | D12: 8 | E12: 35:58 | F12: =35+58/60 -> 35.966667 | G12: =(F12/60)*D12/C12 -> 86.313095
A13: 11 | B13: CSR | C13: 0.048152 | D13: 10 | E13: 34:58 | F13: =34+58/60 -> 34.966667 | G13: =(F13/60)*D13/C13 -> 121.02878
A14: 12 | B14: PSR | C14: 0.056949 | D14: 10 | E14: 29:08 | F14: =29+8/60 -> 29.133333 | G14: =(F14/60)*D14/C14 -> 85.261472
G16: =AVERAGE(G3:G14) -> 96.820642 | H16: ave
G17: =STDEV(G3:G14) -> 12.870796

Sheet agr inputs
A1: =[2]analyse!K35 -> Agr. Inputs | B1: =[2]analyse!L35 -> CSR | C1: =[2]analyse!M35 -> PSR | D1: =[2]analyse!N35 -> SB | E1: =[2]analyse!O35 -> SRT
A2: Land used (m2) | B2: =[2]analyse!L36 -> 518.95333 | C2: =[2]analyse!M36 -> 557.51333 | D2: =[2]analyse!N36 -> 498.49667 | E2: =[2]analyse!O36 -> 535.53667
A3: =[2]analyse!K37 -> Seeds (kg ha-1) | B3: =[2]analyse!L37 -> 14.833333 | C3: =[2]analyse!M37 -> 14.833333 | D3: =[2]analyse!N37 -> 14.833333 | E3: =B3 -> 14.833333
A4: NPK (14-14-14) (kg ha-1) | B4: ='[3]FERTILIZER APPLICATION'!N28 -> 249.83021 | C4: =B4 -> 249.83021 | D4: =C4 -> 249.83021 | E4: =D4 -> 249.83021
A5: Urea (46-0-0) (kg ha-1) | B5: ='[3]FERTILIZER APPLICATION'!N29 -> 238.44902 | C5: =B5 -> 238.44902 | D5: =C5 -> 238.44902 | E5: =D5 -> 238.44902
A6: Herbicide (kg ha-1) | B6: 1.5 | C6: 1.5 | D6: 1.5 | E6: 1.5

Sheet Fertilizer 2015WS
A1: BASAL FERTILIZER APPLICATION | H1: Max tillering Stage (28-30DAT) | K1: Panicle Initiation Stage (42-45DAT) | M1: Re-application of Urea (max tillering) | Q1: Spot application of Urea (Additional) | U1: Total N at 2nd application | V1: Additional N to be applied | W1: 3rd application, 5 August
A2: Date | B2: 42184 | C2: 10 DAT | D2: TP Date | E2: 42174 | H2: Date | I2: =E2+30 -> 42204 | K2: Date | L2: =E2+45 -> 42219 | M2: Date | N2: 42207 | O2: 33 DAT | Q2: Date | R2: 42216 | S2: 42 DAT
A3: INPUT | B3: Complete Fertilizer (14-14-14) | H3: Input | I3: Urea | K3: Input | L3: Urea | M3: INPUT | N3: Urea, kg | O3: 25 | Q3: INPUT | R3: Urea, kg | S3: 22
A4: Total fert used: | B4: =200-39 -> 161 | C4: kg | D4: Fuel consumption | H4: Recommended N, kg | I4: 35 | K4: 35 | N4: N amount | O4: =O3*0.46 -> 11.5 | R4: N amount | S4: =22*0.46 -> 10.12 | T4: N Amount | U4: =(U5/0.63)*0.46 -> 46.292063 | V4: =I4-U4 -> -11.292063 | W4: =V4+K4 -> 23.707937
A5: Losses: | B5: 17.51 | C5: kg | D5: =(B7/1000)/(B11/60) -> 0.33153868 | E5: L/ha | H5: Total Amount (kg.ha) | I5: =35/0.46 -> 76.086957 | K5: Total Amount (kg/ha) | L5: =35/0.46 -> 76.086957 | M5: Manpower | N5: 2 | R5: Manpower | S5: 2 persons | T5: Urea, kg | U5: =F68+O3+S3 -> 63.4 | V5: =V4/0.46 -> -24.547964 | W5: =W4/0.46 -> 51.538992
A6: Amount applied on plots: | B6: =B4-B5 -> 143.49 | H6: Amt. needed at LCA plot (0.63ha) | I6: =I5*0.63 -> 47.934783 | K6: Amt. needed at LCA plot (0.63ha) | L6: =L5*0.63 -> 47.934783 | M6: Total time of operation: | N6: 25 | O6: mins
A7: total fuel used: | B7: 390 | C7: mL
A8: MACHINE USED | B8: POLARO mechanical fertilizer spreader (5HP gas engine) | R8: N req't for 0.63ha | T8: RECOMPUTATION | U8: Total N at 2nd application | V8: Additional N to be applied | W8: 3rd application, 5 August
A9: speed setting: | B9: 5
A10: Rate | B10: 449.3 | C10: kg/hr | R10: max tillering | S10: =I4*0.63 -> 22.05 | T10: N Amount | U10: =U12*0.46 -> 29.164 | V10: =(35*0.63)-U10 -> -7.114 | W10: =(35*0.63)+V10 -> 14.936
A11: Total time of operation: | B11: 70.58 | C11: mins | U11: OR | V11: =S10-U10 -> -7.114 | W11: =S12+V11 -> 14.936
A12: Plot No. | B12: Treatment | C12: Area | D12: Total Time of Application | F12: Fertilizer Used | H12: Fuel Used | J12: SUMMARY | R12: panicle initiation | S12: =K4*0.63 -> 22.05 | T12: Urea, kg | U12: =F68+O3+S3 -> 63.4 | V12: =V10/0.46 -> -15.465217 | W12: =W10/0.46 -> 32.469565 | X12: =SUM(W10:W12) -> 62.341565
C13: ha | D13: (sec) | E13: (hr) | F13: (kg) | H13: (mL) | J13: total fert used/ treatment | K13: Area total/ treatment | M13: Total fuel used/ treatment
A14: 1 | B14: CSR | C14: 0.05061 | D14: 108.48 | E14: =D14/3600 -> 0.030133333 | F14: =($B$6/$C$26)*C14 -> 11.469682 | H14: =D$5*C14*1000 -> 16.779173 | J14: =F14+F17+F24 -> 35.490517 | K14: =C14+C17+C24 -> 0.156602 | M14: =SUM(H24+H17+H14) -> 51.91962 | N14: CSR | T14: 1st | U14: 2nd+ re-appl'n + spot | V14: 3rd+ re-appl'n | W14: TOTAL
A15: 2 | B15: PSR | C15: 0.059286 | D15: 91.82 | E15: =D15/3600 -> 0.025505556 | F15: =($B$6/$C$26)*C15 -> 13.435913 | H15: =D$5*C15*1000 -> 19.655602 | J15: =F15+F23+F25 -> 38.933688 | K15: =C15+C23+C25 -> 0.171795 | M15: =SUM(H15+H23+H25) -> 56.956687 | N15: PSR | S15: fertilizer used | T15: =F27 -> 143.49 | U15: =F68+L46+S3 -> 63.4 | V15: =F97+L74 -> 60.78
A16: 3 | B16: SB | C16: 0.04579 | D16: 101.16 | E16: =D16/3600 -> 0.0281 | F16: =($B$6/$C$26)*C16 -> 10.377331 | H16: =D$5*C16*1000 -> 15.181156 | J16: =F16+F18+F20 -> 32.755335 | K16: =C16+C18+C20 -> 0.144533 | M16: =SUM(H16+H18+H20) -> 47.91828 | N16: SB | S16: amount of N applied | T16: =T15*0.14 -> 20.0886 | U16: =U15*0.46 -> 29.164 | V16: =V15*0.46 -> 27.9588 | W16: =SUM(T16:V16) -> 77.2114
A17: 4 | B17: CSR | C17: 0.05784 | D17: 103.02 | E17: =D17/3600 -> 0.028616667 | F17: =($B$6/$C$26)*C17 -> 13.108208 | H17: =D$5*C17*1000 -> 19.176197 | S17: required N | U17: . | W17: =(30+35+35)*0.63 -> 63
A18: 5 | B18: SB | C18: 0.050128 | D18: 104.26 | E18: =D18/3600 -> 0.028961111 | F18: =($B$6/$C$26)*C18 -> 11.360447 | H18: =D$5*C18*1000 -> 16.619371 | S18: P, K | W18: =T15*0.14 -> 20.0886
A19: 6 | B19: SRT | C19: 0.059286 | D19: 95.03 | E19: =D19/3600 -> 0.026397222 | F19: =($B$6/$C$26)*C19 -> 13.435913 | H19: =D$5*C19*1000 -> 19.655602 | J19: =F19+F21+F22 -> 36.31046 | K19: =C19+C21+C22 -> 0.16022 | M19: =SUM(H19+H21+H22) -> 53.119127 | N19: SRT
A20: 7 | B20: SB | C20: 0.048615 | D20: 91.69 | E20: =D20/3600 -> 0.025469444 | F20: =($B$6/$C$26)*C20 -> 11.017557 | H20: =D$5*C20*1000 -> 16.117753 | L20: =SUM(L14:L19) -> 0
A21: 8 | B21: SRT | C21: 0.056949 | D21: 84.85 | E21: =D21/3600 -> 0.023569444 | F21: =($B$6/$C$26)*C21 -> 12.906281 | H21: =D$5*C21*1000 -> 18.880796 | M21: =SUM(M14:M19) -> 209.91371
A22: 9 | B22: SRT | C22: 0.043985 | D22: 89.51 | E22: =D22/3600 -> 0.024863889 | F22: =($B$6/$C$26)*C22 -> 9.9682661 | H22: =D$5*C22*1000 -> 14.582729
A23: 10 | B23: PSR | C23: 0.05556 | D23: 90.74 | E23: =D23/3600 -> 0.025205556 | F23: =($B$6/$C$26)*C23 -> 12.591494 | H23: =D$5*C23*1000 -> 18.420289
A24: 11 | B24: CSR | C24: 0.048152 | D24: 101.87 | E24: =D24/3600 -> 0.028297222 | F24: =($B$6/$C$26)*C24 -> 10.912628 | H24: =D$5*C24*1000 -> 15.96425
A25: 12 | B25: PSR | C25: 0.056949 | D25: 87.25 | E25: =D25/3600 -> 0.024236111 | F25: =($B$6/$C$26)*C25 -> 12.906281 | H25: =D$5*C25*1000 -> 18.880796
C26: =SUM(C14:C25) -> 0.63315 | E26: =SUM(E14:E25) -> 0.31935556 | H26: =SUM(H14:H25) -> 209.91371 | L26: kg N/ha | M26: P | N26: K
D27: total fertilizer used in the plots | F27: =SUM(F14:F25) -> 143.49 | K27: =F27*0.14 -> 20.0886 | L27: =K27/C26 -> 31.728027 | M27: =L27 -> 31.728027 | N27: =M27 -> 31.728027
D28: losses: | F28: =B4-F27 -> 17.51
E29: T14 applied | F29: =F27/C26 -> 226.62876 | G29: =F29*0.14 -> 31.728027 | H29: N, P & K applied, kg/hectare
A34: PESTICIDE APPLICATION
A37: Period | B37: Name of Pesticide | C37: Classification | D37: A.i. | E37: Dosage (ml)
A38: After transplanting | B38: Bayluscide | C38: molluscicide | D38: Niclosamide | E38: 750
B39: Sofit | C39: herbicide | D39: Pretilachlor | E39: 900
A41: MAX TILLERING STAGE
A43: Date | B43: 42206 | C43: 32 DAT | D43: TP Date | E43: 42174
A44: INPUT | B44: Urea | J44: REAPPLICATION
A45: Total fert used: | B45: 21 | C45: kg | D45: Fuel consumption
A46: Losses: | B46: 4.6 | C46: kg | D46: =(B48/1000)/(B52/60) -> 1.1155872 | E46: L/hr | J46: Amount of Urea | L46: 25 | M46: kg
A47: Amount applied on plots: | B47: 16.4 | J47: Amount of N | L47: =25*0.46 -> 11.5
A48: total fuel used: | B48: 600 | C48: mL | J48: Manpower | L48: 2
A49: MACHINE USED | B49: POLARO mechanical fertilizer spreader | H49: =21-F68 -> 4.6 | J49: Total Time of application | L49: 25 | M49: mins
A50: speed setting: | B50: 4 | C50: 1000
A51: Rate | B51: 25.91 | C51: kg/ ha
A52: Total time of operation: | B52: =32.27 -> 32.27 | C52: mins
J53: SUMMARY
A54: Plot No. | B54: Treatment | C54: Area | D54: Total Time of Application | F54: Fertilizer Used | H54: Fuel Used | J54: total fert used/ treatment | K54: Area total/ treatment | M54: Total fuel used/ treatment
C55: ha | D55: (sec) | E55: (hr) | F55: (kg) | H55: mL | J55: =F56+F59+F66 -> 4.0563418 | K55: =K14 -> 0.156602 | M55: =H56+H59+H66 -> 105.81655 | N55: CSR
A56: 1 | B56: CSR | C56: 0.05061 | D56: 131.22 | E56: =D56/3600 -> 0.03645 | F56: =($B$47/$C$68)*C56 -> 1.3109121 | H56: =D$46*E56*1000 -> 40.663155 | J56: =F57+F67+F65 -> 4.4498744 | K56: =K15 -> 0.171795 | M56: =H57+H65+H67 -> 103.71553 | N56: PSR
A57: 2 | B57: PSR | C57: 0.059286 | D57: =51.1+62.84 -> 113.94 | E57: =D57/3600 -> 0.03165 | F57: =($B$47/$C$68)*C57 -> 1.5356399 | H57: =D$46*E57*1000 -> 35.308336 | J57: =F491+F60+F62 -> 2.5576644 | K57: =K16 -> 0.144533 | M57: =H58+H62+H60 -> 100.38116 | N57: SB
A58: 3 | B58: SB | C58: 0.04579 | D58: =56.59+54.35 -> 110.94 | E58: =D58/3600 -> 0.030816667 | F58: =($B$47/$C$68)*C58 -> 1.1860633 | H58: =D$46*E58*1000 -> 34.37868 | K58: =K17 -> 0
A59: 4 | B59: CSR | C59: 0.05784 | D59: =61.37+52.94 -> 114.31 | E59: =D59/3600 -> 0.031752778 | F59: =($B$47/$C$68)*C59 -> 1.4981853 | H59: =D$46*E59*1000 -> 35.422993 | K59: =K18 -> 0
A60: 5 | B60: SB | C60: 0.050128 | D60: =58.12+57.53 -> 115.65 | E60: =D60/3600 -> 0.032125 | F60: =($B$47/$C$68)*C60 -> 1.2984272 | H60: =D$46*E60*1000 -> 35.83824 | J60: =F61+F63+F64 -> 4.1500561 | K60: =K19 -> 0.16022 | M60: =H61+H63+H64 -> 106.73381 | N60: SRT
A61: 6 | B61: SRT | C61: 0.059286 | D61: =68.25+50.59 -> 118.84 | E61: =D61/3600 -> 0.033011111 | F61: =($B$47/$C$68)*C61 -> 1.5356399 | H61: =D$46*E61*1000 -> 36.826774
A62: 7 | B62: SB | C62: 0.048615 | D62: =49.84+47.5 -> 97.34 | E62: =D62/3600 -> 0.027038889 | F62: =($B$47/$C$68)*C62 -> 1.2592371 | H62: =D$46*E62*1000 -> 30.164239
A63: 8 | B63: SRT | C63: 0.056949 | D63: =55.56+57.16 -> 112.72 | E63: =D63/3600 -> 0.031311111 | F63: =($B$47/$C$68)*C63 -> 1.4751064 | H63: =D$46*E63*1000 -> 34.930276 | K63: kg N/ha | L63: =F68*0.46/C26 -> 11.915028
A64: 9 | B64: SRT | C64: 0.043985 | D64: =52.21+60.66 -> 112.87 | E64: =D64/3600 -> 0.031352778 | F64: =($B$47/$C$68)*C64 -> 1.1393098 | H64: =D$46*E64*1000 -> 34.976759
A65: 10 | B65: PSR | C65: 0.05556 | D65: =52.62+52.53 -> 105.15 | E65: =D65/3600 -> 0.029208333 | F65: =($B$47/$C$68)*C65 -> 1.4391282 | H65: =D$46*E65*1000 -> 32.584444
A66: 11 | B66: CSR | C66: 0.048152 | D66: =50.97+44.97 -> 95.94 | E66: =D66/3600 -> 0.02665 | F66: =($B$47/$C$68)*C66 -> 1.2472444 | H66: =D$46*E66*1000 -> 29.7304
A67: 12 | B67: PSR | C67: 0.056949 | D67: =59.37+56.23 -> 115.6 | E67: =D67/3600 -> 0.032111111 | F67: =($B$47/$C$68)*C67 -> 1.4751064 | H67: =D$46*E67*1000 -> 35.822746
C68: =SUM(C56:C67) -> 0.63315 | D68: Total fertilizer used in the plots | F68: =SUM(F56:F67) -> 16.4 | H68: =SUM(H56:H67) -> 416.64704
E70: Urea Applied per hectare | F70: =F68/C68 -> 25.902235 | G70: =F70*0.46 -> 11.915028 | H70: N applied per hectare
A72: PANICLE INITIATION STAGE | J72: REAPPLICATION
A73: Date | B73: 42221 | D73: TP Date | E73: 42175
A74: INPUT | B74: Urea | J74: Amount of Urea | L74: 21 | M74: kg
A75: Total fert used: | B75: =70-21 -> 49 | C75: kg | D75: Fuel consumption | J75: Amount of N | L75: =L74*0.46 -> 9.66
A76: Losses: | B76: 9.22 | C76: kg | D76: =(B78/1000)/(B82/60) -> 0.66989207 | E76: L/hr | J76: Manpower | L76: 1
A77: Amount applied on plots: | B77: 39.78 | C77: kg | H77: =B75-F97 -> 9.22 | J77: Total Time of application | M77: mins
A78: total fuel used: | B78: 500 | C78: mL
A79: MACHINE USED | B79: POLARO mechanical fertilizer spreader
A80: speed setting: | B80: 5.5 | C80: 1000
A81: Rate | B81: =1.57*60 -> 94.2 | C81: kg/hr
A82: Time of Operation | B82: =44+(47/60) -> 44.783333 | C82: mins | J82: SUMMARY
A83: Plot No. | B83: Treatment | C83: Area | D83: Total Time of Application | F83: Fertilizer Used | H83: Fuel Used | J83: total fert used/ treatment | K83: Area total/ treatment | L83: Amount N | M83: Total fuel used/ treatment
C84: ha | D84: (sec) | E84: (hr) | F84: (kg) | H84: mL | J84: =F85+F88+F95 -> 9.8391022 | K84: =K55 -> 0.156602 | L84: =L92*K84 -> 4.525987 | M84: =H85+H88+H95 -> 74.478973 | N84: CSR
A85: 1 | B85: CSR | C85: 0.05061 | D85: =71.18+78.53 -> 149.71 | E85: =D85/3600 -> 0.041586111 | F85: =($B$77/$C$97)*C85 -> 3.1797612 | H85: =D$76*E85*1000 -> 27.858206 | J85: =F86+F96+F94 -> 10.793659 | K85: =K56 -> 0.171795 | L85: =L92*K85 -> 4.9650831 | M85: =H86+H94+H96 -> 67.826572 | N85: PSR
A86: 2 | B86: PSR | C86: 0.059286 | D86: =61.08+68.59 -> 129.67 | E86: =D86/3600 -> 0.036019444 | F86: =($B$77/$C$97)*C86 -> 3.7248631 | H86: =D$76*E86*1000 -> 24.12914 | J86: =F518+F89+F91 -> 6.2038957 | K86: =K57 -> 0.144533 | L86: =K86*L92 -> 4.1771783 | M86: =H87+H91+H89 -> 71.203945 | N86: SB
A87: 3 | B87: SB | C87: 0.04579 | D87: =63.51+68.75 -> 132.26 | E87: =D87/3600 -> 0.036738889 | F87: =($B$77/$C$97)*C87 -> 2.8769268 | H87: =D$76*E87*1000 -> 24.61109 | K87: =K58 -> 0 | L87: =SUM(L84:L86) -> 13.668248
A88: 4 | B88: CSR | C88: 0.05784 | D88: =59.72+56.72 -> 116.44 | E88: =D88/3600 -> 0.032344444 | F88: =($B$77/$C$97)*C88 -> 3.6340128 | H88: =D$76*E88*1000 -> 21.667287 | K88: =K59 -> 0
A89: 5 | B89: SB | C89: 0.050128 | D89: =68.97+59.08 -> 128.05 | E89: =D89/3600 -> 0.035569444 | F89: =($B$77/$C$97)*C89 -> 3.1494778 | H89: =D$76*E89*1000 -> 23.827689 | J89: =F90+F92+F93 -> 10.066416 | K89: =K60 -> 0.16022 | M89: =H90+H92+H93 -> 69.378489 | N89: SRT
A90: 6 | B90: SRT | C90: 0.059286 | D90: =68.31+59.18 -> 127.49 | E90: =D90/3600 -> 0.035413889 | F90: =($B$77/$C$97)*C90 -> 3.7248631 | H90: =D$76*E90*1000 -> 23.723483
A91: 7 | B91: SB | C91: 0.048615 | D91: =63.21+59.13 -> 122.34 | E91: =D91/3600 -> 0.033983333 | F91: =($B$77/$C$97)*C91 -> 3.0544179 | H91: =D$76*E91*1000 -> 22.765166
A92: 8 | B92: SRT | C92: 0.056949 | D92: =53.75+63.56 -> 117.31 | E92: =D92/3600 -> 0.032586111 | F92: =($B$77/$C$97)*C92 -> 3.5780324 | H92: =D$76*E92*1000 -> 21.829178 | K92: kg N/ha | L92: =F97*0.46/C26 -> 28.901208
A93: 9 | B93: SRT | C93: 0.043985 | D93: =60.82+67.22 -> 128.04 | E93: =D93/3600 -> 0.035566667 | F93: =($B$77/$C$97)*C93 -> 2.763521 | H93: =D$76*E93*1000 -> 23.825828
A94: 10 | B94: PSR | C94: 0.05556 | D94: =61.31+55.01 -> 116.32 | E94: =D94/3600 -> 0.032311111 | F94: =($B$77/$C$97)*C94 -> 3.4907633 | H94: =D$76*E94*1000 -> 21.644957
A95: 11 | B95: CSR | C95: 0.048152 | D95: =65.01+69.09 -> 134.1 | E95: =D95/3600 -> 0.03725 | F95: =($B$77/$C$97)*C95 -> 3.0253282 | H95: =D$76*E95*1000 -> 24.95348
A96: 12 | B96: PSR | C96: 0.056949 | D96: =60.63+57.88 -> 118.51 | E96: =D96/3600 -> 0.032919444 | F96: =($B$77/$C$97)*C96 -> 3.5780324 | H96: =D$76*E96*1000 -> 22.052475
C97: =SUM(C85:C96) -> 0.63315 | D97: Total fertilizer used in the plots | F97: =SUM(F85:F96) -> 39.78 | H97: =SUM(H85:H96) -> 282.88798
D98: Losses: | F98: =B75-F97 -> 9.22 | H98: =B78-H97 -> 217.11202
E101: Urea applied per hectare | F101: =F97/C97 -> 62.828714 | G101: =F101*0.46 -> 28.901208
L103: =L92+L63+L27 -> 72.544263
E104: N applied per hectare | G104: =G101+G70+G29 -> 72.544263
E105: Re-applications, kg | F105: =L46+L74 -> 46 | G105: =F105*0.46 -> 21.16 | H105: =G105/0.63 -> 33.587302 | I105: urea used per hectare | L105: =H105+L103 -> 106.13156 | M105: This should be the total amount of N applied instead of 136 as written in Table 1 of the manuscript.
E106: Total N applied with re-applications | G106: =H105+G104 -> 106.13156

Sheet Fertilizer 2016DS
A1: BASAL FERTILIZER APPLICATION
A2: Date | B2: 42184 | C2: 10 DAT | D2: TP Date | E2: 42360
A3: INPUT | B3: Complete Fertilizer (14-14-14) | J3: per ha | K3: .63 ha
A4: amount: | B4: =F27 -> 158.18 | C4: kg | H4: Total N requirement: | J4: =30+35+35 -> 100 | K4: =J4*0.63 -> 63
A5: total fuel used: | H5: Total N applied : | K5: =(F27*0.14)+(0.46*B39)+(0.46*B74) -> 91.59324
A6: MANUAL APPL'N
A7: Manpower | B7: 1
A12: Plot No. | B12: Treatment | C12: Area | D12: Total Time of Application | F12: Fertilizer Used | G12: Fert appl'n rate | H12: Manpower
C13: ha | D13: (min) | E13: (hr) | F13: (kg) | G13: hr/ha | H13: man-days/ha
A14: 1 | B14: CSR | C14: 0.05061 | D14: =7+58/60 -> 7.9666667 | E14: =D14/60 -> 0.13277778 | F14: 12.7 | G14: =E14/C14 -> 2.6235483 | H14: =E14/(C14*8) -> 0.32794353
A15: 2 | B15: PSR | C15: 0.059286 | D15: =9+19/60 -> 9.3166667 | E15: =D15/60 -> 0.15527778 | F15: 14.8 | G15: =E15/C15 -> 2.6191306 | H15: =E15/(C15*8) -> 0.32739133
A16: 3 | B16: SB | C16: 0.04579 | D16: =7+47/60 -> 7.7833333 | E16: =D16/60 -> 0.12972222 | F16: 11.4 | G16: =E16/C16 -> 2.8329815 | H16: =E16/(C16*8) -> 0.35412269
A17: 4 | B17: CSR | C17: 0.05784 | D17: =8+51/60 -> 8.85 | E17: =D17/60 -> 0.1475 | F17: 14.5 | G17: =E17/C17 -> 2.5501383 | H17: =E17/(C17*8) -> 0.31876729
A18: 5 | B18: SB | C18: 0.050128 | D18: =7+49/60 -> 7.8166667 | E18: =D18/60 -> 0.13027778 | F18: 12.5 | G18: =E18/C18 -> 2.5989024 | H18: =E18/(C18*8) -> 0.3248628
A19: 6 | B19: SRT | C19: 0.059286 | D19: =7+23/60 -> 7.3833333 | E19: =D19/60 -> 0.12305556 | F19: 14.78 | G19: =E19/C19 -> 2.0756259 | H19: =E19/(C19*8) -> 0.25945323
A20: 7 | B20: SB | C20: 0.048615 | D20: =6+45/60 -> 6.75 | E20: =D20/60 -> 0.1125 | F20: 12.2 | G20: =E20/C20 -> 2.3141006 | H20: =E20/(C20*8) -> 0.28926257
A21: 8 | B21: SRT | C21: 0.056949 | D21: =8+7/60 -> 8.1166667 | E21: =D21/60 -> 0.13527778 | F21: 14.2 | G21: =E21/C21 -> 2.3754197 | H21: =E21/(C21*8) -> 0.29692747
A22: 9 | B22: SRT | C22: 0.043985 | D22: =7+2/60 -> 7.0333333 | E22: =D22/60 -> 0.11722222 | F22: 11 | G22: =E22/C22 -> 2.66505 | H22: =E22/(C22*8) -> 0.33313124
A23: 10 | B23: PSR | C23: 0.05556 | D23: =8+50/60 -> 8.8333333 | E23: =D23/60 -> 0.14722222 | F23: 13.9 | G23: =E23/C23 -> 2.649788 | H23: =E23/(C23*8) -> 0.3312235
A24: 11 | B24: CSR | C24: 0.048152 | D24: =7+1/60 -> 7.0166667 | E24: =D24/60 -> 0.11694444 | F24: 12 | G24: =E24/C24 -> 2.4286519 | H24: =E24/(C24*8) -> 0.30358148
A25: 12 | B25: PSR | C25: 0.056949 | D25: =8+1/60 -> 8.0166667 | E25: =D25/60 -> 0.13361111 | F25: 14.2 | G25: =E25/C25 -> 2.3461538 | H25: =E25/(C25*8) -> 0.29326922
C26: =SUM(C14:C25) -> 0.63315
D27: total fertilizer used in the plots | F27: =SUM(F14:F25) -> 158.18
E29: Application per hectare | F29: =F27/C26 -> 249.83021 | G29: kg/ha | H29: =F29*0.14 -> 34.97623 | I29: N, P & K rate, kg/ha
D31: Total Time (hr) | E31: =SUM(E14:E25) -> 1.5813889 | F31: Manual fertilizer spreading
A35: MAX TILLERING FERTILIZER APPLICATION
A36: Date | B36: 42389 | C36: 29DAT | D36: TP Date | E36: 42360
A37: INPUT | B37: Urea
A38: Total fert used | B38: =95-2.13-10.34 -> 82.53 | C38: kg
A39: amount used | B39: =B38*0.95 -> 78.4035 | C39: kg
A40: losses (assumed at 5%) | B40: =B38*0.05 -> 4.1265 | C40: kg
A41: Fuel used | B41: 3.5 | C41: L
A42: 16HP diesel engine
A46: Plot No. | B46: Treatment | C46: Area | D46: Total Time of Application | F46: Fertilizer Used | G46: Fert appl'n rate | H46: Fuel consumption
C47: ha | D47: (min) | E47: (hr) | F47: (kg) | G47: hr/ha | H47: L/ha
A48: 1 | B48: CSR | C48: 0.05061 | D48: =5+(59+53+49+7)/60 -> 7.8 | E48: =D48/60 -> 0.13 | F48: =(B$39/C$60)*C48 -> 6.2670791 | G48: =E48/C48 -> 2.5686623 | H48: =B$41/C$60 -> 5.527916
A49: 2 | B49: PSR | C49: 0.059286 | D49: =4+(47+53)/60 -> 5.6666667 | E49: =D49/60 -> 0.094444444 | F49: =(B$39/C$60)*C49 -> 7.3414355 | G49: =E49/C49 -> 1.5930311 | H49: =B$41/C$60 -> 5.527916
A50: 3 | B50: SB | C50: 0.04579 | D50: =3+(56+49+47)/60 -> 5.5333333 | E50: =D50/60 -> 0.092222222 | F50: =(B$39/C$60)*C50 -> 5.6702144 | G50: =E50/C50 -> 2.0140254 | H50: =B$41/C$60 -> 5.527916
A51: 4 | B51: CSR | C51: 0.05784 | D51: =3+(58+44+47)/60 -> 5.4833333 | E51: =D51/60 -> 0.091388889 | F51: =(B$39/C$60)*C51 -> 7.1623761 | G51: =E51/C51 -> 1.5800292 | H51: =B$41/C$60 -> 5.527916
A52: 5 | B52: SB | C52: 0.050128 | D52: =3+(55+49+43)/60 -> 5.45 | E52: =D52/60 -> 0.090833333 | F52: =(B$39/C$60)*C52 -> 6.2073926 | G52: =E52/C52 -> 1.8120279 | H52: =B$41/C$60 -> 5.527916
A53: 6 | B53: SRT | C53: 0.059286 | D53: =3+(59+54+42)/60 -> 5.5833333 | E53: =D53/60 -> 0.093055556 | F53: =(B$39/C$60)*C53 -> 7.3414355 | G53: =E53/C53 -> 1.5696042 | H53: =B$41/C$60 -> 5.527916
A54: 7 | B54: SB | C54: 0.048615 | D54: =4+(57+57+50+52)/60 -> 7.6 | E54: =D54/60 -> 0.12666667 | F54: =(B$39/C$60)*C54 -> 6.0200366 | G54: =E54/C54 -> 2.6055058 | H54: =B$41/C$60 -> 5.527916
A55: 8 | B55: SRT | C55: 0.056949 | D55: =4+(7+57+51)/60 -> 5.9166667 | E55: =D55/60 -> 0.098611111 | F55: =(B$39/C$60)*C55 -> 7.0520428 | G55: =E55/C55 -> 1.7315688 | H55: =B$41/C$60 -> 5.527916
A56: 9 | B56: SRT | C56: 0.043985 | D56: =3+(53+52+43)/60 -> 5.4666667 | E56: =D56/60 -> 0.091111111 | F56: =(B$39/C$60)*C56 -> 5.4466998 | G56: =E56/C56 -> 2.0714132 | H56: =B$41/C$60 -> 5.527916
A57: 10 | B57: PSR | C57: 0.05556 | D57: =3+(48+50+52)/60 -> 5.5 | E57: =D57/60 -> 0.091666667 | F57: =(B$39/C$60)*C57 -> 6.8800418 | G57: =E57/C57 -> 1.649868 | H57: =B$41/C$60 -> 5.527916
A58: 11 | B58: CSR | C58: 0.048152 | D58: =3+(44+42+44)/60 -> 5.1666667 | E58: =D58/60 -> 0.086111111 | F58: =(B$39/C$60)*C58 -> 5.9627029 | G58: =E58/C58 -> 1.7883185 | H58: =B$41/C$60 -> 5.527916
A59: 12 | B59: PSR | C59: 0.056949 | D59: =3+(54+54+52)/60 -> 5.6666667 | E59: =D59/60 -> 0.094444444 | F59: =(B$39/C$60)*C59 -> 7.0520428 | G59: =E59/C59 -> 1.6584039 | H59: =B$41/C$60 -> 5.527916
C60: =SUM(C48:C59) -> 0.63315 | H60: =AVERAGE(H48:H59) -> 5.527916
D61: total fertilizer used in the plots | F61: =SUM(F48:F59) -> 78.4035 | G61: =F61*0.46 -> 36.06561
E63: Application per hectare | F63: =F61/C60 -> 123.83085 | G63: =F63*0.46 -> 56.962189 | H63: N rate, kg/ha
E65: =SUM(E48:E59) -> 1.1805556
A70: PANICLE INITIATION FERTILIZER APPLICATION
A71: Date | B71: 42402 | C71: 29DAT | D71: TP Date | E71: 42360
A72: INPUT | B72: Urea
A73: Total fert used | B73: =100-23.61 -> 76.39 | C73: kg
A74: amount used | B74: =B73*0.95 -> 72.5705 | C74: kg
A75: losses (assumed at 5%) | B75: =B73*0.05 -> 3.8195 | C75: kg
A76: Fuel used | B76: 2.15 | C76: L
A81: Plot No. | B81: Treatment | C81: Area | D81: Total Time of Application | F81: Fertilizer Used | G81: Fert appl'n rate | H81: Fuel consumption
C82: ha | D82: (min) | E82: (hr) | F82: (kg) | G82: hr/ha | H82: L/ha
A83: 1 | B83: CSR | C83: 0.05061 | D83: =1+57/60 -> 1.95 | E83: =D83/60 -> 0.0325 | F83: =(B$74/C$95)*C83 -> 5.800826 | G83: =E83/C83 -> 0.64216558 | H83: =B$76/C$95 -> 3.3957198
A84: 2 | B84: PSR | C84: 0.059286 | D84: =2 -> 2 | E84: =D84/60 -> 0.033333333 | F84: =(B$74/C$95)*C84 -> 6.7952534 | G84: =E84/C84 -> 0.56224629 | H84: =B$76/C$95 -> 3.3957198
A85: 3 | B85: SB | C85: 0.04579 | D85: =1+46/60 -> 1.7666667 | E85: =D85/60 -> 0.029444444 | F85: =(B$74/C$95)*C85 -> 5.2483664 | G85: =E85/C85 -> 0.6430322 | H85: =B$76/C$95 -> 3.3957198
A86: 4 | B86: CSR | C86: 0.05784 | D86: =1+51/60 -> 1.85 | E86: =D86/60 -> 0.030833333 | F86: =(B$74/C$95)*C86 -> 6.6295155 | G86: =E86/C86 -> 0.53307976 | H86: =B$76/C$95 -> 3.3957198
A87: 5 | B87: SB | C87: 0.050128 | D87: =2+3/60 -> 2.05 | E87: =D87/60 -> 0.034166667 | F87: =(B$74/C$95)*C87 -> 5.7455801 | G87: =E87/C87 -> 0.68158847 | H87: =B$76/C$95 -> 3.3957198
A88: 6 | B88: SRT | C88: 0.059286 | D88: =2+16/60 -> 2.2666667 | E88: =D88/60 -> 0.037777778 | F88: =(B$74/C$95)*C88 -> 6.7952534 | G88: =E88/C88 -> 0.63721246 | H88: =B$76/C$95 -> 3.3957198
A89: 7 | B89: SB | C89: 0.048615 | D89: =1+55/60 -> 1.9166667 | E89: =D89/60 -> 0.031944444 | F89: =(B$74/C$95)*C89 -> 5.5721628 | G89: =E89/C89 -> 0.65709029 | H89: =B$76/C$95 -> 3.3957198
A90: 8 | B90: SRT | C90: 0.056949 | D90: =1+57/60 -> 1.95 | E90: =D90/60 -> 0.0325 | F90: =(B$74/C$95)*C90 -> 6.5273907 | G90: =E90/C90 -> 0.57068605 | H90: =B$76/C$95 -> 3.3957198
A91: 9 | B91: SRT | C91: 0.043985 | D91: =2+3/60 -> 2.05 | E91: =D91/60 -> 0.034166667 | F91: =(B$74/C$95)*C91 -> 5.0414806 | G91: =E91/C91 -> 0.77677996 | H91: =B$76/C$95 -> 3.3957198
A92: 10 | B92: PSR | C92: 0.05556 | D92: =1+54/60 -> 1.9 | E92: =D92/60 -> 0.031666667 | F92: =(B$74/C$95)*C92 -> 6.368186 | G92: =E92/C92 -> 0.5699544 | H92: =B$76/C$95 -> 3.3957198
A93: 11 | B93: CSR | C93: 0.048152 | D93: =2+7/60 -> 2.1166667 | E93: =D93/60 -> 0.035277778 | F93: =(B$74/C$95)*C93 -> 5.5190946 | G93: =E93/C93 -> 0.7326337 | H93: =B$76/C$95 -> 3.3957198
A94: 12 | B94: PSR | C94: 0.056949 | D94: =2+5/60 -> 2.0833333 | E94: =D94/60 -> 0.034722222 | F94: =(B$74/C$95)*C94 -> 6.5273907 | G94: =E94/C94 -> 0.60970732 | H94: =B$76/C$95 -> 3.3957198
C95: =SUM(C83:C94) -> 0.63315
D96: total fertilizer used in the plots | F96: =SUM(F83:F94) -> 72.5705 | G96: =F96*0.46 -> 33.38243
F98: =F96/C95 -> 114.61818 | G98: kg per hectare | H98: =F98*0.46 -> 52.724362
H100: =G96+G61+H29 -> 104.42427
E103: TOTAL N applied, kg/ha | H103: =H98+G63+H29 -> 144.66278
E104: TOTAL P applied, kg/ha | H104: =H29 -> 34.97623
E105: TOTAL K applied, kg/ha | H105: =H29 -> 34.97623

Sheet FERTILIZER APPLICATION
A1: BASAL FERTILIZER APPLICATION
A2: Date | B2: 42184 | C2: 10 DAT | D2: TP Date | E2: 42360 | M2: per ha | N2: .63 ha
A3: INPUT | B3: Complete Fertilizer (14-14-14) | K3: Total N requirement: | M3: =30+35+35 -> 100 | N3: =M3*0.63 -> 63
A4: amount: | B4: =F27 -> 158.18 | C4: kg | K4: Total N applied : | N4: =(F27*0.14)+(0.46*B39)+(0.46*B74) -> 91.59324
A5: total fuel used:
A6: MANUAL APPL'N
A7: Manpower | B7: 1
A12: Plot No. | B12: Treatment | C12: Area | D12: Total Time of Application | F12: Fertilizer Used | G12: Fert appl'n rate | H12: Manpower
C13: ha | D13: (min) | E13: (hr) | F13: (kg) | G13: hr/ha | H13: man-days/ha | K13: h/ha | L13: =AVERAGE(G14:G25) -> 2.5066242
A14: 1 | B14: CSR | C14: 0.05061 | D14: =7+58/60 -> 7.9666667 | E14: =D14/60 -> 0.13277778 | F14: 12.7 | G14: =E14/C14 -> 2.6235483 | H14: =E14/(C14*8) -> 0.32794353 | K14: st | L14: =STDEV(G14:G25) -> 0.20465299
A15: 2 | B15: PSR | C15: 0.059286 | D15: =9+19/60 -> 9.3166667 | E15: =D15/60 -> 0.15527778 | F15: 14.8 | G15: =E15/C15 -> 2.6191306 | H15: =E15/(C15*8) -> 0.32739133
A16: 3 | B16: SB | C16: 0.04579 | D16: =7+47/60 -> 7.7833333 | E16: =D16/60 -> 0.12972222 | F16: 11.4 | G16: =E16/C16 -> 2.8329815 | H16: =E16/(C16*8) -> 0.35412269
A17: 4 | B17: CSR | C17: 0.05784 | D17: =8+51/60 -> 8.85 | E17: =D17/60 -> 0.1475 | F17: 14.5 | G17: =E17/C17 -> 2.5501383 | H17: =E17/(C17*8) -> 0.31876729
A18: 5 | B18: SB | C18: 0.050128 | D18: =7+49/60 -> 7.8166667 | E18: =D18/60 -> 0.13027778 | F18: 12.5 | G18: =E18/C18 -> 2.5989024 | H18: =E18/(C18*8) -> 0.3248628
A19: 6 | B19: SRT | C19: 0.059286 | D19: =7+23/60 -> 7.3833333 | E19: =D19/60 -> 0.12305556 | F19: 14.78 | G19: =E19/C19 -> 2.0756259 | H19: =E19/(C19*8) -> 0.25945323
A20: 7 | B20: SB | C20: 0.048615 | D20: =6+45/60 -> 6.75 | E20: =D20/60 -> 0.1125 | F20: 12.2 | G20: =E20/C20 -> 2.3141006 | H20: =E20/(C20*8) -> 0.28926257
A21: 8 | B21: SRT | C21: 0.056949 | D21: =8+7/60 -> 8.1166667 | E21: =D21/60 -> 0.13527778 | F21: 14.2 | G21: =E21/C21 -> 2.3754197 | H21: =E21/(C21*8) -> 0.29692747
A22: 9 | B22: SRT | C22: 0.043985 | D22: =7+2/60 -> 7.0333333 | E22: =D22/60 -> 0.11722222 | F22: 11 | G22: =E22/C22 -> 2.66505 | H22: =E22/(C22*8) -> 0.33313124
A23: 10 | B23: PSR | C23: 0.05556 | D23: =8+50/60 -> 8.8333333 | E23: =D23/60 -> 0.14722222 | F23: 13.9 | G23: =E23/C23 -> 2.649788 | H23: =E23/(C23*8) -> 0.3312235
A24: 11 | B24: CSR | C24: 0.048152 | D24: =7+1/60 -> 7.0166667 | E24: =D24/60 -> 0.11694444 | F24: 12 | G24: =E24/C24 -> 2.4286519 | H24: =E24/(C24*8) -> 0.30358148
A25: 12 | B25: PSR | C25: 0.056949 | D25: =8+1/60 -> 8.0166667 | E25: =D25/60 -> 0.13361111 | F25: 14.2 | G25: =E25/C25 -> 2.3461538 | H25: =E25/(C25*8) -> 0.29326922
C26: =SUM(C14:C25) -> 0.63315
D27: total fertilizer used in the plots | F27: =SUM(F14:F25) -> 158.18 | N27: kg/ha
M28: NPK | N28: =F29 -> 249.83021
E29: Per hectare req't | F29: =F27/C26 -> 249.83021 | G29: kg/ha | M29: Urea | N29: =F63+F98 -> 238.44902
A35: MAX TILLERING FERTILIZER APPLICATION
A36: Date | B36: 42389 | C36: 29DAT | D36: TP Date | E36: 42360
A37: INPUT | B37: Urea
A38: Total fert used | B38: =95-2.13-10.34 -> 82.53 | C38: kg
A39: amount used | B39: =B38*0.95 -> 78.4035 | C39: kg
A40: losses (assumed at 5%) | B40: =B38*0.05 -> 4.1265 | C40: kg
A41: Fuel used | B41: 3.5 | C41: L
A46: Plot No. | B46: Treatment | C46: Area | D46: Total Time of Application | F46: Fertilizer Used | G46: Fert appl'n rate | H46: Fuel consumption
C47: ha | D47: (min) | E47: (hr) | F47: (kg) | G47: hr/ha | H47: L/ha | K47: h/ha | L47: =AVERAGE(G48:G59) -> 1.8868715
A48: 1 | B48: CSR | C48: 0.05061 | D48: =5+(59+53+49+7)/60 -> 7.8 | E48: =D48/60 -> 0.13 | F48: =(B$39/C$60)*C48 -> 6.2670791 | G48: =E48/C48 -> 2.5686623 | H48: =B$41/C$60 -> 5.527916 | K48: st | L48: =STDEV(G48:G59) -> 0.36437393
A49: 2 | B49: PSR | C49: 0.059286 | D49: =4+(47+53)/60 -> 5.6666667 | E49: =D49/60 -> 0.094444444 | F49: =(B$39/C$60)*C49 -> 7.3414355 | G49: =E49/C49 -> 1.5930311 | H49: =B$41/C$60 -> 5.527916
A50: 3 | B50: SB | C50: 0.04579 | D50: =3+(56+49+47)/60 -> 5.5333333 | E50: =D50/60 -> 0.092222222 | F50: =(B$39/C$60)*C50 -> 5.6702144 | G50: =E50/C50 -> 2.0140254 | H50: =B$41/C$60 -> 5.527916
A51: 4 | B51: CSR | C51: 0.05784 | D51: =3+(58+44+47)/60 -> 5.4833333 | E51: =D51/60 -> 0.091388889 | F51: =(B$39/C$60)*C51 -> 7.1623761 | G51: =E51/C51 -> 1.5800292 | H51: =B$41/C$60 -> 5.527916
A52: 5 | B52: SB | C52: 0.050128 | D52: =3+(55+49+43)/60 -> 5.45 | E52: =D52/60 -> 0.090833333 | F52: =(B$39/C$60)*C52 -> 6.2073926 | G52: =E52/C52 -> 1.8120279 | H52: =B$41/C$60 -> 5.527916
A53: 6 | B53: SRT | C53: 0.059286 | D53: =3+(59+54+42)/60 -> 5.5833333 | E53: =D53/60 -> 0.093055556 | F53: =(B$39/C$60)*C53 -> 7.3414355 | G53: =E53/C53 -> 1.5696042 | H53: =B$41/C$60 -> 5.527916
A54: 7 | B54: SB | C54: 0.048615 | D54: =4+(57+57+50+52)/60 -> 7.6 | E54: =D54/60 -> 0.12666667 | F54: =(B$39/C$60)*C54 -> 6.0200366 | G54: =E54/C54 -> 2.6055058 | H54: =B$41/C$60 -> 5.527916
A55: 8 | B55: SRT | C55: 0.056949 | D55: =4+(7+57+51)/60 -> 5.9166667 | E55: =D55/60 -> 0.098611111 | F55: =(B$39/C$60)*C55 -> 7.0520428 | G55: =E55/C55 -> 1.7315688 | H55: =B$41/C$60 -> 5.527916
A56: 9 | B56: SRT | C56: 0.043985 | D56: =3+(53+52+43)/60 -> 5.4666667 | E56: =D56/60 -> 0.091111111 | F56: =(B$39/C$60)*C56 -> 5.4466998 | G56: =E56/C56 -> 2.0714132 | H56: =B$41/C$60 -> 5.527916
A57: 10 | B57: PSR | C57: 0.05556 | D57: =3+(48+50+52)/60 -> 5.5 | E57: =D57/60 -> 0.091666667 | F57: =(B$39/C$60)*C57 -> 6.8800418 | G57: =E57/C57 -> 1.649868 | H57: =B$41/C$60 -> 5.527916
A58: 11 | B58: CSR | C58: 0.048152 | D58: =3+(44+42+44)/60 -> 5.1666667 | E58: =D58/60 -> 0.086111111 | F58: =(B$39/C$60)*C58 -> 5.9627029 | G58: =E58/C58 -> 1.7883185 | H58: =B$41/C$60 -> 5.527916
A59: 12 | B59: PSR | C59: 0.056949 | D59: =3+(54+54+52)/60 -> 5.6666667 | E59: =D59/60 -> 0.094444444 | F59: =(B$39/C$60)*C59 -> 7.0520428 | G59: =E59/C59 -> 1.6584039 | H59: =B$41/C$60 -> 5.527916
C60: =SUM(C48:C59) -> 0.63315
D61: total fertilizer used in the plots | F61: =SUM(F48:F59) -> 78.4035 | G61: =F61*0.46 -> 36.06561
E63: Per hectare req't | F63: =F61/C60 -> 123.83085 | G63: kg/ha
Q65: 3500 | R65: MJ/ton
Q66: =Q65/1000 -> 3.5 | R66: MJ/kg
A70: PANICLE INITIATION FERTILIZER APPLICATION
A71: Date | B71: 42402 | C71: 29DAT | D71: TP Date | E71: 42360
A72: INPUT | B72: Urea
A73: Total fert used | B73: =100-23.61 -> 76.39 | C73: kg
A74: amount used | B74: =B73*0.95 -> 72.5705 | C74: kg
A75: losses (assumed at 5%) | B75: =B73*0.05 -> 3.8195 | C75: kg
A76: Fuel used | B76: 2.15 | C76: L
A81: Plot No. | B81: Treatment | C81: Area | D81: Total Time of Application | F81: Fertilizer Used | G81: Fert appl'n rate | H81: Fuel consumption
C82: ha | D82: (min) | E82: (hr) | F82: (kg) | G82: hr/ha | H82: L/ha | K82: h/ha | L82: =AVERAGE(G83:G94) -> 0.63468137
A83: 1 | B83: CSR | C83: 0.05061 | D83: =1+57/60 -> 1.95 | E83: =D83/60 -> 0.0325 | F83: =(B$74/C$95)*C83 -> 5.800826 | G83: =E83/C83 -> 0.64216558 | H83: =B$76/C$95 -> 3.3957198 | K83: st | L83: =STDEV(G83:G94) -> 0.072047757
A84: 2 | B84: PSR | C84: 0.059286 | D84: =2 -> 2 | E84: =D84/60 -> 0.033333333 | F84: =(B$74/C$95)*C84 -> 6.7952534 | G84: =E84/C84 -> 0.56224629 | H84: =B$76/C$95 -> 3.3957198
A85: 3 | B85: SB | C85: 0.04579 | D85: =1+46/60 -> 1.7666667 | E85: =D85/60 -> 0.029444444 | F85: =(B$74/C$95)*C85 -> 5.2483664 | G85: =E85/C85 -> 0.6430322 | H85: =B$76/C$95 -> 3.3957198
A86: 4 | B86: CSR | C86: 0.05784 | D86: =1+51/60 -> 1.85 | E86: =D86/60 -> 0.030833333 | F86: =(B$74/C$95)*C86 -> 6.6295155 | G86: =E86/C86 -> 0.53307976 | H86: =B$76/C$95 -> 3.3957198
A87: 5 | B87: SB | C87: 0.050128 | D87: =2+3/60 -> 2.05 | E87: =D87/60 -> 0.034166667 | F87: =(B$74/C$95)*C87 -> 5.7455801 | G87: =E87/C87 -> 0.68158847 | H87: =B$76/C$95 -> 3.3957198
A88: 6 | B88: SRT | C88: 0.059286 | D88: =2+16/60 -> 2.2666667 | E88: =D88/60 -> 0.037777778 | F88: =(B$74/C$95)*C88 -> 6.7952534 | G88: =E88/C88 -> 0.63721246 | H88: =B$76/C$95 -> 3.3957198
A89: 7 | B89: SB | C89: 0.048615 | D89: =1+55/60 -> 1.9166667 | E89: =D89/60 -> 0.031944444 | F89: =(B$74/C$95)*C89 -> 5.5721628 | G89: =E89/C89 -> 0.65709029 | H89: =B$76/C$95 -> 3.3957198
A90: 8 | B90: SRT | C90: 0.056949 | D90: =1+57/60 -> 1.95 | E90: =D90/60 -> 0.0325 | F90: =(B$74/C$95)*C90 -> 6.5273907 | G90: =E90/C90 -> 0.57068605 | H90: =B$76/C$95 -> 3.3957198
A91: 9 | B91: SRT | C91: 0.043985 | D91: =2+3/60 -> 2.05 | E91: =D91/60 -> 0.034166667 | F91: =(B$74/C$95)*C91 -> 5.0414806 | G91: =E91/C91 -> 0.77677996 | H91: =B$76/C$95 -> 3.3957198
A92: 10 | B92: PSR | C92: 0.05556 | D92: =1+54/60 -> 1.9 | E92: =D92/60 -> 0.031666667 | F92: =(B$74/C$95)*C92 -> 6.368186 | G92: =E92/C92 -> 0.5699544 | H92: =B$76/C$95 -> 3.3957198
A93: 11 | B93: CSR | C93: 0.048152 | D93: =2+7/60 -> 2.1166667 | E93: =D93/60 -> 0.035277778 | F93: =(B$74/C$95)*C93 -> 5.5190946 | G93: =E93/C93 -> 0.7326337 | H93: =B$76/C$95 -> 3.3957198
A94: 12 | B94: PSR | C94: 0.056949 | D94: =2+5/60 -> 2.0833333 | E94: =D94/60 -> 0.034722222 | F94: =(B$74/C$95)*C94 -> 6.5273907 | G94: =E94/C94 -> 0.60970732 | H94: =B$76/C$95 -> 3.3957198
C95: =SUM(C83:C94) -> 0.63315
D96: total fertilizer used in the plots | F96: =SUM(F83:F94) -> 72.5705 | G96: =F96*0.46 -> 33.38243
E98: Per hectare req't | F98: =F96/C95 -> 114.61818 | G98: kg/ha

Sheet Grain and ricestraw
A1: Wet Season 2015 | Y1: Rice straw
A2: Yield (t/ha at 14%) | I2: Yield (dry-weight) | P2: HRR % | Z2: Yield at harvest | AD2: Yield at treatment | AH2: Straw | AM2: SD energy | AN2: output
B3: CSRm | C3: PSRm | D3: ='[4]Grain and ricestraw-WS'!J2 -> SB | E3: SRt | I3: =B3 -> CSRm | J3: =C3 -> PSRm | K3: =D3 -> SB | L3: =E3 -> SRt | Q3: =I3 -> CSRm | R3: =J3 -> PSRm | S3: =K3 -> SB | T3: =L3 -> SRt | Y3: Treatments | Z3: t/ha (dry weight) | AD3: t/ha (dry weight) | AH3: =Q3 -> CSRm | AJ3: PSR | AN3: =Q3 -> CSRm | AO3: =R3 -> PSRm | AP3: =S3 -> SB | AQ3: =T3 -> SRt
B4: ='[4]Grain and ricestraw-WS'!H3 -> 5.8501231 | C4: ='[4]Grain and ricestraw-WS'!I3 -> 5.7287372 | D4: ='[4]Grain and ricestraw-WS'!J3 -> 6.1419592 | E4: ='[4]Grain and ricestraw-WS'!K3 -> 6.3927054 | I4: =B4*(100-14)/100 -> 5.0311058 | J4: =C4*(100-14)/100 -> 4.926714 | K4: =D4*(100-14)/100 -> 5.2820849 | L4: =E4*(100-14)/100 -> 5.4977267 | Q4: ='[4]Grain and ricestraw-WS'!O3 -> 64.68 | R4: ='[4]Grain and ricestraw-WS'!P3 -> 61.772 | S4: ='[4]Grain and ricestraw-WS'!Q3 -> 61.92 | T4: ='[4]Grain and ricestraw-WS'!R3 -> 65.28 | AA4: Average | AB4: SD | AD4: Yield (t/ha) | AE4: Incorporate | AF4: Remove | AG4: SD | AH4: 0.229 | AI4: 0.298 | AJ4: 0.575 | AK4: 1.036 | AN4: 3.19 | AO4: 10.36 | AP4: 5.33 | AQ4: 9.9
B5: ='[4]Grain and ricestraw-WS'!H4 -> 5.7806798 | C5: ='[4]Grain and ricestraw-WS'!I4 -> 5.6104895 | D5: ='[4]Grain and ricestraw-WS'!J4 -> 5.6665479 | E5: ='[4]Grain and ricestraw-WS'!K4 -> 5.090118 | I5: =B5*(100-14)/100 -> 4.9713847 | J5: =C5*(100-14)/100 -> 4.825021 | K5: =D5*(100-14)/100 -> 4.8732312 | L5: =E5*(100-14)/100 -> 4.3775015 | Q5: ='[4]Grain and ricestraw-WS'!O4 -> 62.908 | R5: ='[4]Grain and ricestraw-WS'!P4 -> 65.728 | S5: ='[4]Grain and ricestraw-WS'!Q4 -> 59.984 | T5: ='[4]Grain and ricestraw-WS'!R4 -> 64.236 | Y5: =Y38 -> CSRm | Z5: 2.2 | AA5: =AVERAGE(Z5:Z7) -> 2.6033333 | AB5: =STDEV(Z5:Z7) -> 0.37819748 | AF5: =-AE11 -> -2.21 | AG5: SE | AH5: =AH4/SQRT(3) -> 0.13221321 | AI5: =AI4/SQRT(3) -> 0.17205038 | AJ5: =AJ4/SQRT(3) -> 0.3319764 | AK5: =AK4/SQRT(3) -> 0.59813488 | AN5: 0.69 | AO5: 0.81
B6: ='[4]Grain and ricestraw-WS'!H5 -> 6.1743969 | C6: ='[4]Grain and ricestraw-WS'!I5 -> 6.8461452 | D6: ='[4]Grain and ricestraw-WS'!J5 -> 5.4572325 | E6: ='[4]Grain and ricestraw-WS'!K5 -> 5.7159138 | I6: =B6*(100-14)/100 -> 5.3099814 | J6: =C6*(100-14)/100 -> 5.8876849 | K6: =D6*(100-14)/100 -> 4.69322 | L6: =E6*(100-14)/100 -> 4.9156859 | Q6: ='[4]Grain and ricestraw-WS'!O5 -> 62.34 | R6: ='[4]Grain and ricestraw-WS'!P5 -> 64.696 | S6: ='[4]Grain and ricestraw-WS'!Q5 -> 65.708 | T6: ='[4]Grain and ricestraw-WS'!R5 -> 63.396 | Y6: =Y39 -> CSRm | Z6: 2.95 | AH6: =Q3 -> CSRm | AI6: =R3 -> PSRm | AJ6: =S3 -> SB | AK6: =T3 -> SRt | AO6: 0.12 | AP6: 0.04 | AQ6: 0.14
A7: Average | B7: =AVERAGE(B4:B6) -> 5.9350666 | C7: =AVERAGE(C4:C6) -> 6.0617907 | D7: =AVERAGE(D4:D6) -> 5.7552465 | E7: =AVERAGE(E4:E6) -> 5.7329124 | H7: Average | I7: =AVERAGE(I4:I6) -> 5.1041573 | J7: =AVERAGE(J4:J6) -> 5.21314 | K7: =AVERAGE(K4:K6) -> 4.949512 | L7: =AVERAGE(L4:L6) -> 4.9303047 | P7: Average | Q7: =AVERAGE(Q4:Q6) -> 63.309333 | R7: =AVERAGE(R4:R6) -> 64.065333 | S7: =AVERAGE(S4:S6) -> 62.537333 | T7: =AVERAGE(T4:T6) -> 64.304 | Y7: =Y40 -> CSRm | Z7: 2.66 | AG7: Yield | AH7: 2.21 | AI7: 1.3 | AJ7: 2.21 | AK7: 2.21
A8: SD | B8: =STDEV(B4:B6) -> 0.21015432 | C8: =STDEV(C4:C6) -> 0.68183919 | D8: =STDEV(D4:D6) -> 0.35087495 | E8: =STDEV(E4:E6) -> 0.65146004 | H8: SD | I8: =STDEV(I4:I6) -> 0.18073272 | J8: =STDEV(J4:J6) -> 0.58638171 | K8: =STDEV(K4:K6) -> 0.30175245 | L8: =STDEV(L4:L6) -> 0.56025563 | P8: SD | Q8: =STDEV(Q4:Q6) -> 1.2205332 | R8: =STDEV(R4:R6) -> 2.0520208 | S8: =STDEV(S4:S6) -> 2.9115064 | T8: =STDEV(T4:T6) -> 0.94383897 | Y8: =Y41 -> PSRm | Z8: 2.69 | AA8: =AVERAGE(Z8:Z10) -> 2.4133333 | AB8: =STDEV(Z8:Z10) -> 0.40377386 | AE8: 1.3 | AF8: =AD17-AE8 -> 0.91 | AI8: 0.91 | AM8: SD energy output | AN8: =SUM(AN4:AN6) -> 3.88 | AO8: =SUM(AO4:AO6) -> 11.29 | AP8: =SUM(AP4:AP6) -> 5.37 | AQ8: =SUM(AQ4:AQ6) -> 10.04
Y9: =Y42 -> PSRm | Z9: 2.6 | AG9: Mushroom | AH9: 0.23 | AI9: 0.27 | AM9: SD input | AN9: 0.19 | AO9: 0.19 | AP9: 0.2 | AQ9: 0.25
P10: ='[4]Grain and ricestraw-WS'!P9 -> Anova: Single Factor | Y10: =Y43 -> PSRm | Z10: 1.95 | AH10: =AH9*3 -> 0.69 | AI10: =AI9*3 -> 0.81 | AJ10: =AJ9*3 -> 0 | AK10: =AK9*3 -> 0
Y11: =Y44 -> SB | Z11: 2.580349 | AA11: =AVERAGE(Z11:Z13) -> 2.481229 | AB11: =STDEV(Z11:Z13) -> 0.28178606 | AE11: =AD17 -> 2.21 | AG11: Incorporate | AI11: 0.2 | AJ11: 0.23 | AK11: 0.23 | AM11: total | AN11: =SUM(AN8:AN9) -> 4.07 | AO11: =SUM(AO8:AO9) -> 11.48 | AP11: =SUM(AP8:AP9) -> 5.57 | AQ11: =SUM(AQ8:AQ9) -> 10.29
P12: ='[4]Grain and ricestraw-WS'!P11 -> SUMMARY | Y12: =Y45 -> SB | Z12: 2.700062 | AG12: GJ/ha | AI12: 0.81 | AJ12: 0.34 | AK12: 1.33
A13: ='[4]Grain and ricestraw-WS'!H10 -> Anova: Single Factor | H13: Anova: Single Factor | P13: ='[4]Grain and ricestraw-WS'!P12 -> Groups | Q13: ='[4]Grain and ricestraw-WS'!Q12 -> Count | R13: ='[4]Grain and ricestraw-WS'!R12 -> Sum | S13: ='[4]Grain and ricestraw-WS'!S12 -> Average | T13: ='[4]Grain and ricestraw-WS'!T12 -> Variance | Y13: =Y46 -> SB | Z13: 2.163276 | AH13: =AH11*3 -> 0 | AI13: =AI12*AI11/AI7 -> 0.12461538 | AJ13: =AJ12*AJ11/AJ7 -> 0.035384615 | AK13: =AK12*AK11/AK7 -> 0.13841629
P14: ='[4]Grain and ricestraw-WS'!P13 -> CSR | Q14: ='[4]Grain and ricestraw-WS'!Q13 -> 3 | R14: ='[4]Grain and ricestraw-WS'!R13 -> 189.928 | S14: ='[4]Grain and ricestraw-WS'!S13 -> 63.309333 | T14: ='[4]Grain and ricestraw-WS'!T13 -> 1.4897013 | Y14: =Y47 -> SRt | Z14: 2.646104 | AA14: =AVERAGE(Z14:Z16) -> 2.6729897 | AB14: =STDEV(Z14:Z16) -> 0.21680042 | AE14: =AD17 -> 2.21
A15: ='[4]Grain and ricestraw-WS'!H12 -> SUMMARY | H15: SUMMARY | P15: ='[4]Grain and ricestraw-WS'!P14 -> PSR | Q15: ='[4]Grain and ricestraw-WS'!Q14 -> 3 | R15: ='[4]Grain and ricestraw-WS'!R14 -> 192.196 | S15: ='[4]Grain and ricestraw-WS'!S14 -> 64.065333 | T15: ='[4]Grain and ricestraw-WS'!T14 -> 4.2107893 | Y15: =Y48 -> SRt | Z15: 2.470886
A16: ='[4]Grain and ricestraw-WS'!H13 -> Groups | B16: ='[4]Grain and ricestraw-WS'!I13 -> Count | C16: ='[4]Grain and ricestraw-WS'!J13 -> Sum | D16: ='[4]Grain and ricestraw-WS'!K13 -> Average | E16: ='[4]Grain and ricestraw-WS'!L13 -> Variance | H16: Groups | I16: Count | J16: Sum | K16: Average | L16: Variance | P16: ='[4]Grain and ricestraw-WS'!P15 -> SB | Q16: ='[4]Grain and ricestraw-WS'!Q15 -> 3 | R16: ='[4]Grain and ricestraw-WS'!R15 -> 187.612 | S16: ='[4]Grain and ricestraw-WS'!S15 -> 62.537333 | T16: ='[4]Grain and ricestraw-WS'!T15 -> 8.4768693 | Y16: =Y49 -> SRt | Z16: 2.901979 | AF16: % (loss)
A17: ='[4]Grain and ricestraw-WS'!H14 -> CSR | B17: ='[4]Grain and ricestraw-WS'!I14 -> 3 | C17: ='[4]Grain and ricestraw-WS'!J14 -> 17.8052 | D17: ='[4]Grain and ricestraw-WS'!K14 -> 5.9350666 | E17: ='[4]Grain and ricestraw-WS'!L14 -> 0.044164839 | H17: CSR | I17: 3 | J17: 15.312472 | K17: 5.1041573 | L17: 0.032664315 | P17: ='[4]Grain and ricestraw-WS'!P16 -> SRT | Q17: ='[4]Grain and ricestraw-WS'!Q16 -> 3 | R17: ='[4]Grain and ricestraw-WS'!R16 -> 192.912 | S17: ='[4]Grain and ricestraw-WS'!S16 -> 64.304 | T17: ='[4]Grain and ricestraw-WS'!T16 -> 0.890832 | Y17: Average | Z17: =AVERAGE(Z5:Z16) -> 2.5427213 | AD17: 2.21 | AF17: =100*(Z17-AD17)/Z17 -> 13.085246
A18: ='[4]Grain and ricestraw-WS'!H15 -> PSR | B18: ='[4]Grain and ricestraw-WS'!I15 -> 3 | C18: ='[4]Grain and ricestraw-WS'!J15 -> 18.185372 | D18: ='[4]Grain and ricestraw-WS'!K15 -> 6.0617907 | E18: ='[4]Grain and ricestraw-WS'!L15 -> 0.46490469 | H18: PSR | I18: 3 | J18: 15.63942 | K18: 5.21314 | L18: 0.34384351 | Y18: SD | Z18: =STDEV(Z5:Z16) -> 0.29976409 | AD18: 0.23
A19: ='[4]Grain and ricestraw-WS'!H16 -> SB | B19: ='[4]Grain and ricestraw-WS'!I16 -> 3 | C19: ='[4]Grain and ricestraw-WS'!J16 -> 17.26574 | D19: ='[4]Grain and ricestraw-WS'!K16 -> 5.7552465 | E19: ='[4]Grain and ricestraw-WS'!L16 -> 0.12311323 | H19: SB | I19: 3 | J19: 14.848536 | K19: 4.949512 | L19: 0.091054543 | P19: ='[4]Grain and ricestraw-WS'!P19 -> ANOVA
A20: ='[4]Grain and ricestraw-WS'!H17 -> SRT | B20: ='[4]Grain and ricestraw-WS'!I17 -> 3 | C20: ='[4]Grain and ricestraw-WS'!J17 -> 17.198737 | D20: ='[4]Grain and ricestraw-WS'!K17 -> 5.7329124 | E20: ='[4]Grain and ricestraw-WS'!L17 -> 0.42440018 | H20: SRT | I20: 3 | J20: 14.790914 | K20: 4.9303047 | L20: 0.31388637 | P20: ='[4]Grain and ricestraw-WS'!P20 -> Source of Variation | Q20: ='[4]Grain and ricestraw-WS'!Q20 -> SS | R20: ='[4]Grain and ricestraw-WS'!R20 -> df | S20: ='[4]Grain and ricestraw-WS'!S20 -> MS | T20: ='[4]Grain and ricestraw-WS'!T20 -> F | U20: ='[4]Grain and ricestraw-WS'!U20 -> P-value
P21: ='[4]Grain and ricestraw-WS'!P21 -> Between Groups | Q21: ='[4]Grain and ricestraw-WS'!Q21 -> 5.752304 | R21: ='[4]Grain and ricestraw-WS'!R21 -> 3 | S21: ='[4]Grain and ricestraw-WS'!S21 -> 1.9174347 | T21: ='[4]Grain and ricestraw-WS'!T21 -> 0.50900192 | U21: ='[4]Grain and ricestraw-WS'!U21 -> 0.68705179 | Y21: Harvest index | Z21: =AVERAGE(I7:L7)/(AVERAGE(I7:L7)+Z17) -> 0.66507885
A22: ='[4]Grain and ricestraw-WS'!H20 -> ANOVA | P22: ='[4]Grain and ricestraw-WS'!P22 -> Within Groups | Q22: ='[4]Grain and ricestraw-WS'!Q22 -> 30.136384 | R22: ='[4]Grain and ricestraw-WS'!R22 -> 8 | S22: ='[4]Grain and ricestraw-WS'!S22 -> 3.767048
A23: ='[4]Grain and ricestraw-WS'!H21 -> Source of Variation | B23: ='[4]Grain and ricestraw-WS'!I21 -> SS | C23: ='[4]Grain and ricestraw-WS'!J21 -> df | D23: ='[4]Grain and ricestraw-WS'!K21 -> MS | E23: ='[4]Grain and ricestraw-WS'!L21 -> F | F23: ='[4]Grain and ricestraw-WS'!M21 -> P-value | G23: ='[4]Grain and ricestraw-WS'!N21 -> F crit | H23: ANOVA
A24: ='[4]Grain and ricestraw-WS'!H22 -> Between Groups | B24: ='[4]Grain and ricestraw-WS'!I22 -> 0.21891717 | C24: ='[4]Grain and ricestraw-WS'!J22 -> 3 | D24: ='[4]Grain and ricestraw-WS'!K22 -> 0.072972391 | E24: ='[4]Grain and ricestraw-WS'!L22 -> 0.27625807 | F24: ='[4]Grain and ricestraw-WS'!M22 -> 0.84106166 | G24: ='[4]Grain and ricestraw-WS'!N22 -> 4.0661806 | H24: Source of Variation | I24: SS | J24: df | K24: MS | L24: F | M24: P-value | N24: F crit | P24: ='[4]Grain and ricestraw-WS'!P24 -> Total | Q24: ='[4]Grain and ricestraw-WS'!Q24 -> 35.888688 | R24: ='[4]Grain and ricestraw-WS'!R24 -> 11
A25: ='[4]Grain and ricestraw-WS'!H23 -> Within Groups | B25: ='[4]Grain and ricestraw-WS'!I23 -> 2.1131659 | C25: ='[4]Grain and ricestraw-WS'!J23 -> 8 | D25: ='[4]Grain and ricestraw-WS'!K23 -> 0.26414573 | H25: Between Groups | I25: 0.16191114 | J25: 3 | K25: 0.05397038 | L25: 0.27625807 | M25: 0.84106166 | N25: 4.0661806
H26: Within Groups | I26: 1.5628975 | J26: 8 | K26: 0.19536218
A27: ='[4]Grain and ricestraw-WS'!H25 -> Total | B27: ='[4]Grain and ricestraw-WS'!I25 -> 2.332083 | C27: ='[4]Grain and ricestraw-WS'!J25 -> 11
H28: Total | I28: 1.7248086 | J28: 11
A33: Dry season 2016
A34: Yield (t/ha at 14%) | I34: Yield (dry-weight) | P34: HRR % | Y34: Rice straw
B35: =B3 -> CSRm | C35: =C3 -> PSRm | D35: =D3 -> SB | E35: =E3 -> SRt | I35: =B35 -> CSRm | J35: =C35 -> PSRm | K35: =D35 -> SB | L35: =E35 -> SRt | P35: =I35 -> CSRm | Q35: =J35 -> PSRm | R35: =K35 -> SB | S35: =L35 -> SRt | Z35: Yield at harvest | AF35: Yield at treatment
B36: =[4]HARVESTING_Grain_straw!I33 -> 3.4559536 | C36: =[4]HARVESTING_Grain_straw!J33 -> 3.5430975 | D36: =[4]HARVESTING_Grain_straw!K33 -> 4.2663084 | E36: =[4]HARVESTING_Grain_straw!L33 -> 4.375027 | I36: =B36*(100-14)/100 -> 2.9721201 | J36: =C36*(100-14)/100 -> 3.0470639 | K36: =D36*(100-14)/100 -> 3.6690253 | L36: =E36*(100-14)/100 -> 3.7625232 | P36: ='[4]GRAIN QUALITY'!N20 -> 47.525214 | Q36: ='[4]GRAIN QUALITY'!O20 -> 44.717961 | R36: ='[4]GRAIN QUALITY'!P20 -> 48.369783 | S36: ='[4]GRAIN QUALITY'!Q20 -> 50.551777 | Y36: Treatments | Z36: t/ha | AA36: MC straw % | AC36: t/ha (dry weight) | AF36: t/ha (dry weight)
B37: =[4]HARVESTING_Grain_straw!I34 -> 4.614514 | C37: =[4]HARVESTING_Grain_straw!J34 -> 4.5480418 | D37: =[4]HARVESTING_Grain_straw!K34 -> 4.3605656 | E37: =[4]HARVESTING_Grain_straw!L34 -> 4.3234988 | I37: =B37*(100-14)/100 -> 3.968482 | J37: =C37*(100-14)/100 -> 3.911316 | K37: =D37*(100-14)/100 -> 3.7500864 | L37: =E37*(100-14)/100 -> 3.718209 | P37: ='[4]GRAIN QUALITY'!N21 -> 51.298892 | Q37: ='[4]GRAIN QUALITY'!O21 -> 43.853505 | R37: ='[4]GRAIN QUALITY'!P21 -> 52.755128 | S37: ='[4]GRAIN QUALITY'!Q21 -> 50.532474 | AD37: Average | AE37: SD | AF37: Yield (t/ha) | AG37: Incorporate | AH37: Remove
B38: =[4]HARVESTING_Grain_straw!I35 -> 4.6494137 | C38: =[4]HARVESTING_Grain_straw!J35 -> 4.3372025 | D38: =[4]HARVESTING_Grain_straw!K35 -> 3.5934824 | E38: =[4]HARVESTING_Grain_straw!L35 -> 4.5335378 | I38: =B38*(100-14)/100 -> 3.9984958 | J38: =C38*(100-14)/100 -> 3.7299941 | K38: =D38*(100-14)/100 -> 3.0903949 | L38: =E38*(100-14)/100 -> 3.8988425 | P38: ='[4]GRAIN QUALITY'!N22 -> 48.299145 | Q38: ='[4]GRAIN QUALITY'!O22 -> 51.467517 | R38: ='[4]GRAIN QUALITY'!P22 -> 52.579535 | S38: ='[4]GRAIN QUALITY'!Q22 -> 53.351735 | Y38: =Q3 -> CSRm | Z38: 5.8798656 | AA38: 46.370284 | AC38: =Z38*(100-AA38)/100 -> 3.1533552 | AD38: =AVERAGE(AC38:AC40) -> 3.4436214 | AE38: =STDEV(AC38:AC40) -> 0.25606198 | AH38: 2.23 | AS38: 2.23
A39: Average | B39: =AVERAGE(B36:B38) -> 4.2399604 | C39: =AVERAGE(C36:C38) -> 4.1427806 | D39: =AVERAGE(D36:D38) -> 4.0734522 | E39: =AVERAGE(E36:E38) -> 4.4106879 | H39: Average | I39: =AVERAGE(I36:I38) -> 3.646366 | J39: =AVERAGE(J36:J38) -> 3.5627913 | K39: =AVERAGE(K36:K38) -> 3.5031689 | L39: =AVERAGE(L36:L38) -> 3.7931916 | O39: =H39 -> Average | P39: =AVERAGE(P36:P38) -> 49.041084 | Q39: =AVERAGE(Q36:Q38) -> 46.679661 | R39: =AVERAGE(R36:R38) -> 51.234815 | S39: =AVERAGE(S36:S38) -> 51.478662 | Y39: =Y38 -> CSRm | Z39: 6.7254495 | AA39: 47.364102 | AC39: =Z39*(100-AA39)/100 -> 3.5400007
A40: SD | B40: =STDEV(B36:B38) -> 0.679194 | C40: =STDEV(C36:C38) -> 0.52993222 | D40: =STDEV(D36:D38) -> 0.41832919 | E40: =STDEV(E36:E38) -> 0.10946632 | H40: SD | I40: =STDEV(I36:I38) -> 0.58410684 | J40: =STDEV(J36:J38) -> 0.45574171 | K40: =STDEV(K36:K38) -> 0.3597631 | L40: =STDEV(L36:L38) -> 0.094141036 | O40: =H40 -> SD | P40: =STDEV(P36:P38) -> 1.9932429 | Q40: =STDEV(Q36:Q38) -> 4.1688722 | R40: =STDEV(R36:R38) -> 2.4827435 | S40: =STDEV(S36:S38) -> 1.6221572 | Y40: =Y39 -> CSRm | Z40: 7.1339564 | AA40: 49.011349 | AC40: =Z40*(100-AA40)/100 -> 3.6375081
Y41: =R3 -> PSRm | Z41: 6.5862709 | AA41: 53.072853 | AC41: =Z41*(100-AA41)/100 -> 3.090749 | AD41: =AVERAGE(AC41:AC43) -> 3.5378369 | AE41: =STDEV(AC41:AC43) -> 0.8910174 | AG41: 1.37 | AH41: 0.86 | AR41: 1.37 | AS41: 0.86
A42: =[4]HARVESTING_Grain_straw!M31 -> Anova: Single Factor | H42: Anova: Single Factor | Y42: =Y41 -> PSRm | Z42: 6.1105112 | AA42: 51.577095 | AC42: =Z42*(100-AA42)/100 -> 2.958887
P43: ='[4]GRAIN QUALITY'!N27 -> SUMMARY | Y43: =Y42 -> PSRm | Z43: 8.1562774 | AA43: 44.044637 | AC43: =Z43*(100-AA43)/100 -> 4.5638747
A44: =[4]HARVESTING_Grain_straw!M33 -> SUMMARY | H44: SUMMARY | P44: ='[4]GRAIN QUALITY'!N28 -> Groups | Q44: ='[4]GRAIN QUALITY'!O28 -> Count | R44: ='[4]GRAIN QUALITY'!P28 -> Sum | S44: ='[4]GRAIN QUALITY'!Q28 -> Average | T44: ='[4]GRAIN QUALITY'!R28 -> Variance | Y44: SB | Z44: 7.7309456 | AA44: 52.594479 | AC44: =Z44*(100-AA44)/100 -> 3.6648951 | AD44: =AVERAGE(AC44:AC46) -> 3.0216203 | AE44: =STDEV(AC44:AC46) -> 0.5680715 | AG44: 2.23 | AR44: 2.23
A45: =[4]HARVESTING_Grain_straw!M34 -> Groups | B45: =[4]HARVESTING_Grain_straw!N34 -> Count | C45: =[4]HARVESTING_Grain_straw!O34 -> Sum | D45: =[4]HARVESTING_Grain_straw!P34 -> Average | E45: =[4]HARVESTING_Grain_straw!Q34 -> Variance | H45: Groups | I45: Count | J45: Sum | K45: Average | L45: Variance | P45: ='[4]GRAIN QUALITY'!N29 -> CSR | Q45: ='[4]GRAIN QUALITY'!O29 -> 3 | R45: ='[4]GRAIN QUALITY'!P29 -> 147.12325 | S45: ='[4]GRAIN QUALITY'!Q29 -> 49.041084 | T45: ='[4]GRAIN QUALITY'!R29 -> 3.9730171 | Y45: SB | Z45: 5.7051666 | AA45: 50.726617 | AC45: =Z45*(100-AA45)/100 -> 2.8111286
A46: =[4]HARVESTING_Grain_straw!M35 -> CSR | B46: =[4]HARVESTING_Grain_straw!N35 -> 3 | C46: =[4]HARVESTING_Grain_straw!O35 -> 12.719881 | D46: =[4]HARVESTING_Grain_straw!P35 -> 4.2399604 | E46: =[4]HARVESTING_Grain_straw!Q35 -> 0.46130448 | H46: CSRm | I46: 3 | J46: 10.939098 | K46: 3.646366 | L46: 0.3411808 | P46: ='[4]GRAIN QUALITY'!N30 -> PSR | Q46: ='[4]GRAIN QUALITY'!O30 -> 3 | R46: ='[4]GRAIN QUALITY'!P30 -> 140.03898 | S46: ='[4]GRAIN QUALITY'!Q30 -> 46.679661 | T46: ='[4]GRAIN QUALITY'!R30 -> 17.379496 | Y46: SB | Z46: 5.2550391 | AA46: 50.736102 | AC46: =Z46*(100-AA46)/100 -> 2.5888371
A47: =[4]HARVESTING_Grain_straw!M36 -> PSR | B47: =[4]HARVESTING_Grain_straw!N36 -> 3 | C47: =[4]HARVESTING_Grain_straw!O36 -> 12.428342 | D47: =[4]HARVESTING_Grain_straw!P36 -> 4.1427806 | E47: =[4]HARVESTING_Grain_straw!Q36 -> 0.28082816 | H47: PSRm | I47: 3 | J47: 10.688374 | K47: 3.5627913 | L47: 0.20770051 | P47: ='[4]GRAIN QUALITY'!N31 -> SB | Q47: ='[4]GRAIN QUALITY'!O31 -> 3 | R47: ='[4]GRAIN QUALITY'!P31 -> 153.70445 | S47: ='[4]GRAIN QUALITY'!Q31 -> 51.234815 | T47: ='[4]GRAIN QUALITY'!R31 -> 6.1640155 | Y47: =T3 -> SRt | Z47: 6.1730477 | AA47: 54.581693 | AC47: =Z47*(100-AA47)/100 -> 2.8036938 | AD47: =AVERAGE(AC47:AC49) -> 3.2407166 | AE47: =STDEV(AC47:AC49) -> 0.37993929 | AG47: 2.23 | AR47: 2.23
A48: =[4]HARVESTING_Grain_straw!M37 -> SB | B48: =[4]HARVESTING_Grain_straw!N37 -> 3 | C48: =[4]HARVESTING_Grain_straw!O37 -> 12.220357 | D48: =[4]HARVESTING_Grain_straw!P37 -> 4.0734522 | E48: =[4]HARVESTING_Grain_straw!Q37 -> 0.17499931 | H48: SB | I48: 3 | J48: 10.509507 | K48: 3.5031689 | L48: 0.12942949 | P48: ='[4]GRAIN QUALITY'!N32 -> SRT | Q48: ='[4]GRAIN QUALITY'!O32 -> 3 | R48: ='[4]GRAIN QUALITY'!P32 -> 154.43599 | S48: ='[4]GRAIN QUALITY'!Q32 -> 51.478662 | T48: ='[4]GRAIN QUALITY'!R32 -> 2.631394 | Y48: =T3 -> SRt | Z48: 7.4539069 | AA48: 53.14434 | AC48: =Z48*(100-AA48)/100 -> 3.4925773
A49: =[4]HARVESTING_Grain_straw!M38 -> SRT | B49: =[4]HARVESTING_Grain_straw!N38 -> 3 | C49: =[4]HARVESTING_Grain_straw!O38 -> 13.232064 | D49: =[4]HARVESTING_Grain_straw!P38 -> 4.4106879 | E49: =[4]HARVESTING_Grain_straw!Q38 -> 0.011982875 | H49: SRt | I49: 3 | J49: 11.379575 | K49: 3.7931916 | L49: 0.0088625347 | Y49: =Y48 -> SRt | Z49: 7.5471698 | AA49: 54.607109 | AC49: =Z49*(100-AA49)/100 -> 3.4258786 | AH49: % (loss) | AS49: % (loss)
AB50: Average | AC50: =AVERAGE(AC38:AC49) -> 3.3109488 | AF50: 2.23 | AH50: =100*(AC50-AF50)/AC50 -> 32.647704 | AS50: =100*(AC50-AF50)/AC50 -> 32.647704
P51: ='[4]GRAIN QUALITY'!N35 -> ANOVA | AB51: SD | AC51: =STDEV(AC38:AC49) -> 0.5331083 | AF51: 0.23
A52: =[4]HARVESTING_Grain_straw!M41 -> ANOVA | H52: ANOVA | P52: ='[4]GRAIN QUALITY'!N36 -> Source of Variation | Q52: ='[4]GRAIN QUALITY'!O36 -> SS | R52: ='[4]GRAIN QUALITY'!P36 -> df | S52: ='[4]GRAIN QUALITY'!Q36 -> MS | T52: ='[4]GRAIN QUALITY'!R36 -> F | U52: ='[4]GRAIN QUALITY'!S36 -> P-value | V52: ='[4]GRAIN QUALITY'!T36 -> F crit
A53: =[4]HARVESTING_Grain_straw!M42 -> Source of Variation | B53: =[4]HARVESTING_Grain_straw!N42 -> SS | C53: =[4]HARVESTING_Grain_straw!O42 -> df | D53: =[4]HARVESTING_Grain_straw!P42 -> MS | E53: =[4]HARVESTING_Grain_straw!Q42 -> F | F53: =[4]HARVESTING_Grain_straw!R42 -> P-value | G53: =[4]HARVESTING_Grain_straw!S42 -> F crit | H53: Source of Variation | I53: SS | J53: df | K53: MS | L53: F | M53: P-value | N53: F crit | P53: ='[4]GRAIN QUALITY'!N37 -> Between Groups | Q53: ='[4]GRAIN QUALITY'!O37 -> 45.127391 | R53: ='[4]GRAIN QUALITY'!P37 -> 3 | S53: ='[4]GRAIN QUALITY'!Q37 -> 15.042464 | T53: ='[4]GRAIN QUALITY'!R37 -> 1.9958209 | U53: ='[4]GRAIN QUALITY'!S37 -> 0.19327393 | V53: ='[4]GRAIN QUALITY'!T37 -> 4.0661806 | Y53: Harvest index | Z53: =AVERAGE(I39:L39)/(AVERAGE(I39:L39)+AC50) -> 0.5227343
A54: =[4]HARVESTING_Grain_straw!M43 -> Between Groups | B54: =[4]HARVESTING_Grain_straw!N43 -> 0.19246906 | C54: =[4]HARVESTING_Grain_straw!O43 -> 3 | D54: =[4]HARVESTING_Grain_straw!P43 -> 0.064156354 | E54: =[4]HARVESTING_Grain_straw!Q43 -> 0.2762042 | F54: =[4]HARVESTING_Grain_straw!R43 -> 0.84109888 | G54: =[4]HARVESTING_Grain_straw!S43 -> 4.0661806 | H54: Between Groups | I54: 0.14235012 | J54: 3 | K54: 0.04745004 | L54: 0.2762042 | M54: 0.84109888 | N54: 4.0661806 | P54: ='[4]GRAIN QUALITY'!N38 -> Within Groups | Q54: ='[4]GRAIN QUALITY'!O38 -> 60.295845 | R54: ='[4]GRAIN QUALITY'!P38 -> 8 | S54: ='[4]GRAIN QUALITY'!Q38 -> 7.5369806
A55: =[4]HARVESTING_Grain_straw!M44 -> Within Groups | B55: =[4]HARVESTING_Grain_straw!N44 -> 1.8582297 | C55: =[4]HARVESTING_Grain_straw!O44 -> 8 | D55: =[4]HARVESTING_Grain_straw!P44 -> 0.23227871 | H55: Within Groups | I55: 1.3743467 | J55: 8 | K55: 0.17179333
P56: ='[4]GRAIN QUALITY'!N40 -> Total | Q56: ='[4]GRAIN QUALITY'!O40 -> 105.42324 | R56: ='[4]GRAIN QUALITY'!P40 -> 11
A57: =[4]HARVESTING_Grain_straw!M46 -> Total | B57: =[4]HARVESTING_Grain_straw!N46 -> 2.0506987 | C57: =[4]HARVESTING_Grain_straw!O46 -> 11 | H57: Total | I57: 1.5166968 | J57: 11

Sheet Energy - WS2015
A1: SimaPro 8.5.0.0 | B1: Process contribution | C1: Date: | D1: 43157 | E1: Time: | F1: 0.38623282
A2: Project | B2: LCA Rice production-IRRI_1
H3: Energy from Paddy | J3: GJ/ha
I4: ='Grain and ricestraw'!B3 -> CSRm | J4: ='Grain and ricestraw'!C3 -> PSRm | K4: ='Grain and ricestraw'!D3 -> SB | L4: ='Grain and ricestraw'!E3 -> SRt
A5: Calculation: | B5: Analyze | I5: ='Grain and ricestraw'!I4*15.2 -> 76.472809 | J5: ='Grain and ricestraw'!J4*15.2 -> 74.886053 | K5: ='Grain and ricestraw'!K4*15.2 -> 80.28769 | L5: ='Grain and ricestraw'!L4*15.2 -> 83.565445
A6: Results: | B6: Process contribution | I6: ='Grain and ricestraw'!I5*15.2 -> 75.565047 | J6: ='Grain and ricestraw'!J5*15.2 -> 73.340319 | K6: ='Grain and ricestraw'!K5*15.2 -> 74.073114 | L6: ='Grain and ricestraw'!L5*15.2 -> 66.538023
A7: Product: | B7: 1 ha CSR_DS (of project LCA Rice production-IRRI_1) | I7: ='Grain and ricestraw'!I6*15.2 -> 80.711717 | J7: ='Grain and ricestraw'!J6*15.2 -> 89.49281 | K7: ='Grain and ricestraw'!K6*15.2 -> 71.336944 | L7: ='Grain and ricestraw'!L6*15.2 -> 74.718426
A8: Method: | B8: Cumulative Energy Demand V1.09 / Cumulative energy demand | H8: Average | I8: =AVERAGE(I5:I7) -> 77.583191 | J8: =AVERAGE(J5:J7) -> 79.239727 | K8: =AVERAGE(K5:K7) -> 75.232583 | L8: =AVERAGE(L5:L7) -> 74.940631
A9: Indicator: | B9: Single score | H9: SD | I9: =STDEV(I5:I7) -> 2.7471373 | J9: =STDEV(J5:J7) -> 8.913002 | K9: =STDEV(K5:K7) -> 4.5866373 | L9: =STDEV(L5:L7) -> 8.5158856
A10: Cut-off: | B10: 0.1 %
A11: Default units: | B11: No
A12: Exclude infrastructure processes: | B12: No
A13: Exclude long-term emissions: | B13: No
A14: Sorted on item: | B14: Process
A15: Sort order: | B15: Ascending
A17: =F17 -> CSR_WS-18 | B17: Process | C17: Project | D17: Unit | E17: Total | F17: CSR_WS-18 | G17: Energy based diesel consumption | H17: Rice seed, for sowing {GLO}| market for | Alloc Rec, S | I17: Labor | J17: Fertilizer WS2015_1 | K17: Herbicide | L17: Paddy | M17: Rice straw - mushrrom_E
B18: Total of all processes | D18: GJ | E18: -68.58818 | F18: 0 | G18: 5.4569446 | H18: 0.53379805 | I18: 0.361 | J18: 7.05 | K18: 0.50799335 | L18: -77.64768 | M18: -6.618
A20: =F20 -> PSR_WS-1 | B20: Process | C20: Project | D20: Unit | E20: Total | F20: PSR_WS-1 | G20: Energy based diesel consumption | H20: Rice seed, for sowing {GLO}| market for | Alloc Rec, S | I20: Labor | J20: Fertilizer WS2015_1 | K20: Herbicide | L20: Paddy | M20: Rice straw - mushrrom_E | N20: Rice straw(dm)_Based NPK
B21: Total of all processes | D21: GJ | E21: -67.256656 | F21: 0 | G21: 5.3661972 | H21: 0.53379805 | I21: 0.263 | J21: 7.05 | K21: 0.50799335 | L21: -79.21632 | M21: -2.721 | N21: -0.80808834
A23: =F23 -> SB_WS-1 | B23: Process | C23: Project | D23: Unit | E23: Total | F23: SB_WS-1 | G23: Energy based diesel consumption | H23: Rice seed, for sowing {GLO}| market for | Alloc Rec, S | I23: Labor | J23: Fertilizer WS2015_1 | K23: Herbicide | L23: Paddy | M23: Rice straw(dm)_based NPK-burning
B24: Total of all processes | D24: GJ | E24: -59.895983 | F24: 0 | G24: 5.6323896 | H24: 0.53379805 | I24: 0.2444 | J24: =J21 -> 7.05 | K24: 0.50799335 | L24: -75.29472 | M24: -0.33760734
A26: =F26 -> STR_WS-1 | B26: Process | C26: Project | D26: Unit | E26: Total | F26: STR_WS-1 | G26: Energy based diesel consumption | H26: Rice seed, for sowing {GLO}| market for | Alloc Rec, S | I26: Labor | J26: Fertilizer WS2015_1 | K26: Herbicide | L26: Paddy | M26: Rice straw(dm)_Based NPK
B27: Total of all processes | D27: GJ | E27: -60.476507 | F27: 0 | G27: 5.6565889 | H27: 0.53379805 | I27: 0.2444 | J27: =J24 -> 7.05 | K27: 0.50799335 | L27: -74.90256 | M27: -1.3344906
C29: Energy
C30: =A17 -> CSR_WS-18 | D30: =A20 -> PSR_WS-1 | E30: =A23 -> SB_WS-1 | F30: =A26 -> STR_WS-1
B31: =G17 -> Energy based diesel consumption | C31: =G18 -> 5.4569446 | D31: =G21 -> 5.3661972 | E31: =G24 -> 5.6323896 | F31: =G27 -> 5.6565889
B32: =H17 -> Rice seed, for sowing {GLO}| market for | Alloc Rec, S | C32: =H18 -> 0.53379805 | D32: =H21 -> 0.53379805 | E32: =H24 -> 0.53379805 | F32: =H27 -> 0.53379805
B33: =I17 -> Labor | C33: =I18 -> 0.361 | D33: =I21 -> 0.263 | E33: =I24 -> 0.2444 | F33: =I27 -> 0.2444 | K33: MJ kg-1 | L33: kg/ha | N33: GJ/ha
B34: =J17 -> Fertilizer WS2015_1 | C34: =J18 -> 7.05 | D34: =J21 -> 7.05 | E34: =J24 -> 7.05 | F34: =J27 -> 7.05 | J34: Nitrogen (N) | K34: 58.7 | L34: 106 | N34: =K34*L34/1000 -> 6.2222
B35: =K17 -> Herbicide | C35: =K18 -> 0.50799335 | D35: =K21 -> 0.50799335 | E35: =K24 -> 0.50799335 | F35: =K27 -> 0.50799335 | J35: P2O5 | K35: 17.1 | L35: 32 | N35: =K35*L35/1000 -> 0.5472
B36: =L17 -> Paddy | C36: =L18 -> -77.64768 | D36: =L21 -> -79.21632 | E36: =L24 -> -75.29472 | F36: =L27 -> -74.90256 | J36: K2O | K36: 8.83 | L36: 32 | N36: =K36*L36/1000 -> 0.28256
B37: =M17 -> Rice straw - mushrrom_E | C37: =M18 -> -6.618 | D37: =M21 -> -2.721 | M37: total | N37: =SUM(N34:N36) -> 7.05196
B38: Rice straw and ash incorporation | D38: =N21 -> -0.80808834 | E38: =M24 -> -0.33760734 | F38: =M27 -> -1.3344906
B39: Total | C39: =SUM(C31:C38) -> -70.355944 | D39: =SUM(D31:D38) -> -69.02442 | E39: =SUM(E31:E38) -> -61.663746 | F39: =SUM(F31:F38) -> -62.24427
B40: SD | C40: 4.07 | D40: 11.48 | E40: 5.57 | F40: 10.29
B43: IE
C44: =SUM(C31:C35) -> 13.909736 | D44: =SUM(D31:D35) -> 13.720989 | E44: =SUM(E31:E35) -> 13.968581 | F44: =SUM(F31:F35) -> 13.99278

Sheet Energy - DS2016
A1: SimaPro 8.5.0.0 | B1: Process contribution | C1: Date: | D1: 43157 | E1: Time: | F1: 0.38623282
A2: Project | B2: LCA Rice production-IRRI_1
A5: Calculation: | B5: Analyze
A6: Results: | B6: Process contribution
A7: Product: | B7: 1 ha CSR_DS (of project LCA Rice production-IRRI_1)
A8: Method: | B8: Cumulative Energy Demand V1.09 / Cumulative energy demand
A9: Indicator: | B9: Single score
A10: Cut-off: | B10: 0.1 %
A11: Default units: | B11: No
A12: Exclude infrastructure processes: | B12: No
A13: Exclude long-term emissions: | B13: No
A14: Sorted on item: | B14: Process
A15: Sort order: | B15: Ascending
A17: CSR-DS | B17: Process | C17: Project | D17: Unit | E17: Total | F17: CSR_DS | G17: Energy based diesel consumption | H17: Rice seed, for sowing {GLO}| market for | Alloc Rec, S | I17: Labor | J17: Fertilizer DS2016_1 | K17: Herbicide | L17: Paddy | M17: Rice straw - mushrrom_E
B18: Total of all processes | D18: GJ | E18: -48.822818 | F18: 0 | G18: 5.3661972 | H18: 0.53379805 | I18: 0.2434 | J18: =M34 -> 9.41905 | K18: 0.50799335 | L18: -55.42528 | M18: -6.702
A20: =F20 -> PSR_DS-1 | B20: Process | C20: Project | D20: Unit | E20: Total | F20: PSR_DS-1 | G20: Energy based diesel consumption | H20: Rice seed, for sowing {GLO}| market for | Alloc Rec, S | I20: Labor | J20: Fertilizer DS2016_1 | K20: Herbicide | L20: Paddy | M20: Rice straw - mushrrom_E | N20: Rice straw(dm)_Based NPK
B21: Total of all processes | D21: GJ | E21: -44.452194 | F21: 0 | G21: 5.2694 | H21: 0.53379805 | I21: 0.1435 | J21: =M34 -> 9.41905 | K21: 0.50799335 | L21: -54.11808 | M21: -2.589 | N21: -0.85287846
A23: =F23 -> SB_DS-1 | B23: Process | C23: Project | D23: Unit | E23: Total | F23: SB_DS-1 | G23: Energy based diesel consumption | H23: Rice seed, for sowing {GLO}| market for | Alloc Rec, S | I23: Labor | J23: Fertilizer DS2016_1 | K23: Herbicide | L23: Paddy | M23: Rice straw(dm)_based NPK-burning
B24: Total of all processes | D24: GJ | E24: -40.384719 | F24: 0 | G24: 5.3238484 | H24: 0.53379805 | I24: 0.1415 | J24: =M34 -> 9.41905 | K24: 0.50799335 | L24: -53.20304 | M24: -0.34189247
A26: =F26 -> STR_DS-1 | B26: Process | C26: Project | D26: Unit | E26: Total | F26: STR_DS-1 | G26: Energy based diesel consumption | H26: Rice seed, for sowing {GLO}| market for | Alloc Rec, S | I26: Labor | J26: Fertilizer DS2016_1 | K26: Herbicide | L26: Paddy | M26: Rice straw(dm)_Based NPK
B27: Total of all processes | D27: GJ | E27: -45.814536 | F27: 0 | G27: 5.3480477 | H27: 0.53379805 | I27: 0.1415 | J27: =M34 -> 9.41905 | K27: 0.50799335 | L27: -57.64752 | M27: -1.3514288
C30: CSR-DS | D30: =A20 -> PSR_DS-1 | E30: =A23 -> SB_DS-1 | F30: =A26 -> STR_DS-1 | J30: MJ kg-1 | K30: kg/ha | M30: GJ/ha
B31: =G17 -> Energy based diesel consumption | C31: =G18 -> 5.3661972 | D31: =G21 -> 5.2694 | E31: =G24 -> 5.3238484 | F31: =G27 -> 5.3480477 | I31: Nitrogen (N) | J31: 58.7 | K31: 145 | M31: =J31*K31/1000 -> 8.5115
B32: =H17 -> Rice seed, for sowing {GLO}| market for | Alloc Rec, S | C32: =H18 -> 0.53379805 | D32: =H21 -> 0.53379805 | E32: =H24 -> 0.53379805 | F32: =H27 -> 0.53379805 | I32: P2O5 | J32: 17.1 | K32: 35 | M32: =J32*K32/1000 -> 0.5985
B33: =I17 -> Labor | C33: =I18 -> 0.2434 | D33: =I21 -> 0.1435 | E33: =I24 -> 0.1415 | F33: =I27 -> 0.1415 | I33: K2O | J33: 8.83 | K33: 35 | M33: =J33*K33/1000 -> 0.30905
B34: =J17 -> Fertilizer DS2016_1 | C34: =J18 -> 9.41905 | D34: =J21 -> 9.41905 | E34: =J24 -> 9.41905 | F34: =J27 -> 9.41905 | L34: total | M34: =SUM(M31:M33) -> 9.41905
B35: =K17 -> Herbicide | C35: =K18 -> 0.50799335 | D35: =K21 -> 0.50799335 | E35: =K24 -> 0.50799335 | F35: =K27 -> 0.50799335
B36: =L17 -> Paddy | C36: =L18 -> -55.42528 | D36: =L21 -> -54.11808 | E36: =L24 -> -53.20304 | F36: =L27 -> -57.64752
B37: =M17 -> Rice straw - mushrrom_E | C37: =M18 -> -6.702 | D37: =M21 -> -2.589
B38: Rice straw and ash incorporation | D38: =N21 -> -0.85287846 | E38: =M24 -> -0.34189247 | F38: =M27 -> -1.3514288
B39: Total | C39: =SUM(C31:C38) -> -46.056841 | D39: =SUM(D31:D38) -> -41.686217 | E39: =SUM(E31:E38) -> -37.618743 | F39: =SUM(F31:F38) -> -43.04856
B40: SD | C40: 11.14 | D40: 8.6 | E40: 6.58 | F40: 1.93
B43: IE | C43: =SUM(C31:C35) -> 16.070439 | D43: =SUM(D31:D35) -> 15.873741 | E43: =SUM(E31:E35) -> 15.92619 | F43: =SUM(F31:F35) -> 15.950389

Sheet GHFE and Human Toxicity
A1: . Annual GHGE (kg CO2-eq ha-1) | F1: % | N1: DS | AH1: Human toxicity | AI1: kg 1,4DB-eq/ha
A2: GHGE from | B2: CSRm | C2: PSRm | D2: SB | E2: SRt | J2: PSRm | K2: SB | L2: SRt | N2: CSRm | O2: PSRm | P2: SB | Q2: SRt | Y2: Nutrients | Z2: Contents in rice straw | AB2: Balance from rice straw incorporation | AC2: =V3 -> kg/ha | AI2: =B2 -> CSRm | AJ2: =C2 -> PSRm | AK2: =D2 -> SB | AL2: =E2 -> SRt
A3: Seeds | B3: 67 | C3: 67 | D3: 67 | E3: 67 | F3: =100*B3/B$13 -> 0.98160588 | G3: =100*C3/C$13 -> 0.88024121 | H3: =100*D3/D$13 -> 0.90497126 | I3: =100*E3/E$13 -> 0.59733162 | J3: ='[5]Energy WS 2015'!S15 -> -76.508347 | K3: ='[5]Energy WS 2015'!T15 -> -60.279358 | L3: ='[5]Energy WS 2015'!U15 -> -63.047465 | N3: ='[5]Energy DS2016)'!R15 -> -62.786618 | O3: ='[5]Energy DS2016)'!S15 -> -53.700588 | P3: ='[5]Energy DS2016)'!T15 -> -40.833933 | Q3: ='[5]Energy DS2016)'!U15 -> -48.748402 | U3: kgCO2-eq kg-1 | V3: kg/ha | W3: kgCO2-eq/ha | Z3: (% dm) | AB3: =B2 -> CSRm | AC3: =C2 -> PSRm | AD3: =D2 -> SB | AE3: =E2 -> SRt | AH3: Cultivation-measured directly | AI3: 0 | AJ3: 0 | AK3: 0 | AL3: 0
A4: Fertilizer | B4: =W7 -> 1533.55 | C4: =B4 -> 1533.55 | D4: =C4 -> 1533.55 | E4: =D4 -> 1533.55 | F4: =100*B4/B$13 -> 22.467786 | G4: =100*C4/C$13 -> 20.14767 | H4: =100*D4/D$13 -> 20.713712 | I4: =100*E4/E$13 -> 13.672208 | T4: Nitrogen (N) | U4: 5.68 | V4: ='Energy - WS2015'!L34+'Energy - DS2016'!K31 -> 251 | W4: =U4*V4 -> 1425.68 | Y4: N | Z4: 0.8 | AB4: =10*('Grain and ricestraw'!AA$5+'Grain and ricestraw'!AD$38)*'GHFE and Human Toxicity'!Z4 -> 48.375638 | AC4: =10*('Grain and ricestraw'!AA$8+'Grain and ricestraw'!AD$41)*'GHFE and Human Toxicity'!Z4 -> 47.609362 | AD4: =10*('Grain and ricestraw'!AA$11+'Grain and ricestraw'!AD$44)*'GHFE and Human Toxicity'!Z4 -> 44.022794 | AE4: =10*('Grain and ricestraw'!AD$47+'Grain and ricestraw'!AA$14)*'GHFE and Human Toxicity'!Z4 -> 47.30965 | AH4: In-field burning straw | AI4: 0 | AJ4: 0 | AK4: 191.10003 | AL4: 0
A5: Herbicide | B5: 66 | C5: 66 | D5: 66 | E5: 66 | F5: =100*B5/B$13 -> 0.96695504 | G5: =100*C5/C$13 -> 0.86710328 | H5: =100*D5/D$13 -> 0.89146423 | I5: =100*E5/E$13 -> 0.58841622 | J5: =(J3-L3)/J3 -> 0.17594004 | N5: =(N3-P3)/N3 -> 0.34963956 | O5: =(O3-Q3)/O3 -> 0.092218474 | T5: P2O5 | U5: 1.09 | V5: ='Energy - WS2015'!L35+'Energy - DS2016'!K32 -> 67 | W5: =U5*V5 -> 73.03 | Y5: P2O5 | Z5: 0.05 | AB5: =10*('Grain and ricestraw'!AA$5+'Grain and ricestraw'!AD$38)*'GHFE and Human Toxicity'!Z5 -> 3.0234773 | AC5: =10*('Grain and ricestraw'!AA$8+'Grain and ricestraw'!AD$41)*'GHFE and Human Toxicity'!Z5 -> 2.9755851 | AD5: =10*('Grain and ricestraw'!AA$11+'Grain and ricestraw'!AD$44)*'GHFE and Human Toxicity'!Z5 -> 2.7514246 | AE5: =10*('Grain and ricestraw'!AD$47+'Grain and ricestraw'!AA$14)*'GHFE and Human Toxicity'!Z5 -> 2.9568531 | AH5: Fuel consumption | AI5: 29.150832 | AJ5: 28.645703 | AK5: 29.509311 | AL5: 29.639667
A6: Mechanized operations | B6: 864 | C6: 849 | D6: 875 | E6: 879 | F6: =100*B6/B$13 -> 12.658321 | G6: =100*C6/C$13 -> 11.154101 | H6: =100*D6/D$13 -> 11.818655 | I6: =100*E6/E$13 -> 7.8366343 | J6: =(#REF!-K3)/#REF! -> #REF! | K6: =(#REF!-L3)/#REF! -> #REF! | N6: =($N3-O3)/$N3 -> 0.14471284 | O6: =($N3-P3)/$N3 -> 0.34963956 | P6: =($N3-Q3)/$N3 -> 0.22358612 | T6: K2O | U6: 0.52 | V6: ='Energy - WS2015'!L36+'Energy - DS2016'!K33 -> 67 | W6: =U6*V6 -> 34.84 | Y6: K2O | Z6: 1.42 | AB6: =10*('Grain and ricestraw'!AA$5+'Grain and ricestraw'!AD$38)*'GHFE and Human Toxicity'!Z6 -> 85.866757 | AC6: =10*('Grain and ricestraw'!AA$8+'Grain and ricestraw'!AD$41)*'GHFE and Human Toxicity'!Z6 -> 84.506617 | AD6: =10*('Grain and ricestraw'!AA$11+'Grain and ricestraw'!AD$44)*'GHFE and Human Toxicity'!Z6 -> 78.140459 | AE6: =10*('Grain and ricestraw'!AD$47+'Grain and ricestraw'!AA$14)*'GHFE and Human Toxicity'!Z6 -> 83.974629 | AH6: Seeds | AI6: 10.18002 | AJ6: 10.18002 | AK6: 10.18002 | AL6: 10.18002 | AN6: =AI7/AI10 -> 0.82357162 | AO6: =AK7/AK10 -> 0.70633503
A7: Direct field emission | B7: 3739 | C7: 4875 | D7: 4168 | E7: 8671 | F7: =100*B7/B$13 -> 54.779468 | G7: =100*C7/C$13 -> 64.047402 | H7: =100*D7/D$13 -> 56.297317 | I7: =100*E7/E$13 -> 77.30541 | K7: 2015 WS | V7: Total | W7: =SUM(W4:W6) -> 1533.55 | AH7: Fertilizer | AI7: 950 | AJ7: =AI7 -> 950 | AK7: =AJ7 -> 950 | AL7: =AK7 -> 950
A8: In-field burning straw | B8: 0 | C8: 0 | D8: 694 | E8: 0 | F8: =100*B8/B$13 -> 0 | G8: =100*C8/C$13 -> 0 | H8: =100*D8/D$13 -> 9.3738814 | I8: =100*E8/E$13 -> 0 | K8: Treatments | L8: Grain Yield (Mg ha-1) | M8: HRR (%) | N8: Straw Yield (Mg ha-1) | P8: Grain | R8: Straw | Y8: Fertilizer | AH8: Herbicide | AI8: 164.18146 | AJ8: 164.18146 | AK8: 164.18146 | AL8: 164.18146 | AN8: =AI8/AI10 -> 0.14233178 | AO8: =AK8/AK10 -> 0.12207065
A9: Collection of rice straw (using round baler) | B9: 500 | C9: 199 | F9: =100*B9/B$13 -> 7.325417 | G9: =100*C9/C$13 -> 2.6144478 | H9: =100*D9/D$13 -> 0 | I9: =100*E9/E$13 -> 0 | K9: CSRm | L9: 5.94a | M9: 63.31b | N9: 7.24 | P9: 5.94 | R9: 7.24 | Z9: Balance from rice straw incorporation | AA9: =W3 -> kgCO2-eq/ha
A10: Transportation of rice straw (truck) | B10: 26 | C10: 10 | K10: PSRm | L10: 6.06a | M10: 64.07b | N10: 4.34 | P10: 6.06 | R10: 4.34 | Z10: =AB3 -> CSRm | AA10: =AC3 -> PSRm | AB10: =AD3 -> SB | AC10: =AE3 -> SRt | AH10: Total | AI10: =SUM(AI3:AI8) -> 1153.5123 | AJ10: =SUM(AJ3:AJ8) -> 1153.0072 | AK10: =SUM(AK3:AK8) -> 1344.9708 | AL10: =SUM(AL3:AL8) -> 1154.0011
A11: Mushroom production (silage and growing) | B11: 30 | C11: 12 | Y11: Nitrogen (N) | Z11: =$U4*($V4-AB4) -> 1150.9064 | AA11: =$U4*($V4-AC4) -> 1155.2588 | AB11: =$U4*($V4-AD4) -> 1175.6305 | AC11: =$U4*($V4-AE4) -> 1156.9612
K12: SB | L12: 5.76a | M12: 62.54b | P12: 5.76 | Y12: P2O5 | Z12: =$U5*($V5-AB5) -> 69.73441 | AA12: =$U5*($V5-AC5) -> 69.786612 | AB12: =$U5*($V5-AD5) -> 70.030947 | AC12: =$U5*($V5-AE5) -> 69.80703 | AK12: =(AK10-AI10)/AK10 -> 0.14235142
A13: Total | B13: =SUM(B3:B12) -> 6825.55 | C13: =SUM(C3:C12) -> 7611.55 | D13: =SUM(D3:D12) -> 7403.55 | E13: =SUM(E3:E12) -> 11216.55 | F13: =SUM(F3:F9) -> 99.179553 | G13: =SUM(G3:G9) -> 99.710966 | H13: =SUM(H3:H9) -> 100 | I13: =SUM(I3:I9) -> 100 | K13: SRt | L13: 5.73a | M13: 64.30b | P13: 5.73 | Y13: K2O | Z13: =$U6*($V6-AB6) -> -9.8107134 | AA13: =$U6*($V6-AC6) -> -9.103441 | AB13: =$U6*($V6-AD6) -> -5.7930389 | AC13: =$U6*($V6-AE6) -> -8.8268068
Y14: Total | Z14: =SUM(Z11:Z13) -> 1210.8301 | AA14: =SUM(AA11:AA13) -> 1215.942 | AB14: =SUM(AB11:AB13) -> 1239.8684 | AC14: =SUM(AC11:AC13) -> 1217.9414
AH15: Human toxicity, Mg 1,4DB-eq/ha
Y16: balance fertilizer | AH16: =AH2 -> 0 | AI16: =AI2 -> CSRm | AJ16: =AJ2 -> PSRm | AK16: =AK2 -> SB | AL16: =AL2 -> SRt
A17: Not balance fertilizer | F17: =#REF!/1000 -> #REF! | G17: =#REF!/1000 -> #REF! | H17: =#REF!/1000 -> #REF! | I17: =#REF!/1000 -> #REF! | J17: =J3/1000 -> -0.076508347 | K17: =K3/1000 -> -0.060279358 | L17: =L3/1000 -> -0.063047465 | M17: =M3/1000 -> 0 | N17: =N3/1000 -> -0.062786618 | O17: =O3/1000 -> -0.053700588 | P17: =P3/1000 -> -0.040833933 | Q17: =Q3/1000 -> -0.048748402 | R17: =R3/1000 -> 0 | Y17: Annual GHGE (Mg CO2-eq ha-1) | AH17: =AH3 -> Cultivation-measured directly | AI17: =AI3/1000 -> 0 | AJ17: =AJ3/1000 -> 0 | AK17: =AK3/1000 -> 0 | AL17: =AL3/1000 -> 0
A18: Annual GHGE (Mg CO2-eq ha-1) | Y18: =A19 -> Seeds | Z18: =B19 -> 0.067 | AA18: =C19 -> 0.067 | AB18: =D19 -> 0.067 | AC18: =E19 -> 0.067 | AH18: =AH4 -> In-field burning straw | AI18: =AI4/1000 -> 0 | AJ18: =AJ4/1000 -> 0 | AK18: =AK4/1000 -> 0.19110003 | AL18: =AL4/1000 -> 0
A19: =A3 -> Seeds | B19: =B3/1000 -> 0.067 | C19: =C3/1000 -> 0.067 | D19: =D3/1000 -> 0.067 | E19: =E3/1000 -> 0.067 | Y19: =A20 -> Fertilizer | Z19: =Z14/1000 -> 1.2108301 | AA19: =AA14/1000 -> 1.215942 | AB19: =AB14/1000 -> 1.2398684 | AC19: =AC14/1000 -> 1.2179414 | AH19: =AH5 -> Fuel consumption | AI19: =AI5/1000 -> 0.029150832 | AJ19: =AJ5/1000 -> 0.028645703 | AK19: =AK5/1000 -> 0.029509311 | AL19: =AL5/1000 -> 0.029639667
A20: =A4 -> Fertilizer | B20: =B4/1000 -> 1.53355 | C20: =C4/1000 -> 1.53355 | D20: =D4/1000 -> 1.53355 | E20: =E4/1000 -> 1.53355 | Y20: =A21 -> Herbicide | Z20: =B21 -> 0.066 | AA20: =C21 -> 0.066 | AB20: =D21 -> 0.066 | AC20: =E21 -> 0.066 | AH20: =AH6 -> Seeds | AI20: =AI6/1000 -> 0.01018002 | AJ20: =AJ6/1000 -> 0.01018002 | AK20: =AK6/1000 -> 0.01018002 | AL20: =AL6/1000 -> 0.01018002
A21: =A5 -> Herbicide | B21: =B5/1000 -> 0.066 | C21: =C5/1000 -> 0.066 | D21: =D5/1000 -> 0.066 | E21: =E5/1000 -> 0.066 | Y21: =A22 -> Mechanized operations | Z21: =B22 -> 0.864 | AA21: =C22 -> 0.849 | AB21: =D22 -> 0.875 | AC21: =E22 -> 0.879 | AH21: =AH7 -> Fertilizer | AI21: =AI7/1000 -> 0.95 | AJ21: =AJ7/1000 -> 0.95 | AK21: =AK7/1000 -> 0.95 | AL21: =AL7/1000 -> 0.95
A22: =A6 -> Mechanized operations | B22: =B6/1000 -> 0.864 | C22: =C6/1000 -> 0.849 | D22: =D6/1000 -> 0.875 | E22: =E6/1000 -> 0.879 | Y22: =A23 -> Direct field emission | Z22: =B23 -> 3.739 | AA22: =C23 -> 4.875 | AB22: =D23 -> 4.168 | AC22: =E23 -> 8.671 | AH22: =AH8 -> Herbicide | AI22: =AI8/1000 -> 0.16418146 | AJ22: =AJ8/1000 -> 0.16418146 | AK22: =AK8/1000 -> 0.16418146 | AL22: =AL8/1000 -> 0.16418146
A23: =A7 -> Direct field emission | B23: =B7/1000 -> 3.739 | C23: =C7/1000 -> 4.875 | D23: =D7/1000 -> 4.168 | E23: =E7/1000 -> 8.671 | Y23: =A24 -> In-field burning straw | Z23: =B24 -> 0 | AA23: =C24 -> 0 | AB23: =D24 -> 0.694 | AC23: =E24 -> 0
A24: =A8 -> In-field burning straw | B24: =B8/1000 -> 0 | C24: =C8/1000 -> 0 | D24: =D8/1000 -> 0.694 | E24: =E8/1000 -> 0 | Y24: =A25 -> Collection of rice straw (using round baler) | Z24: =B25 -> 0.5 | AA24: =C25 -> 0.199 | AB24: =D25 -> 0 | AC24: =E25 -> 0
A25: =A9 -> Collection of rice straw (using round baler) | B25: =B9/1000 -> 0.5 | C25: =C9/1000 -> 0.199 | D25: =D9/1000 -> 0 | E25: =E9/1000 -> 0 | Y25: =A26 -> Transportation of rice straw (truck) | Z25: =B26 -> 0.026 | AA25: =C26 -> 0.01 | AB25: =D26 -> 0 | AC25: =E26 -> 0
A26: =A10 -> Transportation of rice straw (truck) | B26: =B10/1000 -> 0.026 | C26: =C10/1000 -> 0.01 | D26: =D10/1000 -> 0 | E26: =E10/1000 -> 0 | Y26: =A27 -> Mushroom production (silage and growing) | Z26: =B27 -> 0.03 | AA26: =C27 -> 0.012 | AB26: =D27 -> 0 | AC26: =E27 -> 0 | AH26: =AH10 -> Total | AI26: =SUM(AI17:AI25) -> 1.1535123 | AJ26: =SUM(AJ17:AJ25) -> 1.1530072 | AK26: =SUM(AK17:AK25) -> 1.3449708 | AL26: =SUM(AL17:AL25) -> 1.1540011
A27: =A11 -> Mushroom production (silage and growing) | B27: =B11/1000 -> 0.03 | C27: =C11/1000 -> 0.012 | D27: =D11/1000 -> 0 | E27: =E11/1000 -> 0 | Y27: =A28 -> 0 | Z27: =B28 -> 0 | AA27: =C28 -> 0 | AB27: =D28 -> 0 | AC27: =E28 -> 0 | AH27: SD | AI27: 0.028272934 | AJ27: 0.027279813 | AK27: 0.089616829 | AL27: 0.024281218
Y28: Total | Z28: =SUM(Z18:Z27) -> 6.5028301 | AA28: =SUM(AA18:AA27) -> 7.293942 | AB28: =SUM(AB18:AB27) -> 7.1098684 | AC28: =SUM(AC18:AC27) -> 10.900941
A29: Total | B29: =SUM(B19:B28) -> 6.82555 | C29: =SUM(C19:C28) -> 7.61155 | D29: =SUM(D19:D28) -> 7.40355 | E29: =SUM(E19:E28) -> 11.21655 | Y29: SD | Z29: 0.81262 | AA29: 1.2778 | AB29: 1.246555 | AC29: 2.816635
A30: SD | B30: 0.81262 | C30: 1.2778 | D30: 1.246555 | E30: 2.816635
B33: =(E29-B29)/E29 -> 0.3914751 | C33: =(E29-C29)/E29 -> 0.32140007
F38: =SUM(F31:F36) -> 0 | G38: =SUM(G31:G36) -> 0 | H38: =SUM(H31:H36) -> 0 | I38: =SUM(I31:I36) -> 0 | J38: =SUM(J31:J36) -> 0 | K38: =SUM(K31:K36) -> 0 | L38: =SUM(L31:L36) -> 0 | M38: =SUM(M31:M36) -> 0 | ... R38: =SUM(R31:R36) -> 0
L40: Impact category | M40: Unit | N40: Total | O40: Fertilizer 2 seasons (Dec 2017) | P40: Nitrogen fertiliser, as N {RoW}| urea ammonium nitrate production | Alloc Rec, S | Q40: Phosphate fertiliser, as P2O5 {RoW}| ammonium nitrate phosphate production | Alloc Rec, S | R40: Potassium chloride, as K2O {RoW}| potassium chloride production | Alloc Rec, S
F41: =F30 -> 0 | G41: =G30 -> 0 | H41: =H30 -> 0 | I41: =I30 -> 0 | J41: =J30 -> 0 | K41: =K30 -> 0 | L41: =L30 -> 0 | M41: =M30 -> 0 | ... R41: =R30 -> 0
F42: 0.89766248 | G42: 1.0521723 | H42: 0.82040274 | I42: 1.3327813
F43: 82.054519 | G43: 79.017867 | H43: 68.169499 | I43: 73.291909
F44: 14.477332 | G44: 16.969238 | H44: 13.231301 | I44: 21.494847
F45: 2.5704869 | G45: 2.9607227 | H45: 2.3781406 | I45: 3.8804632 | L45: Lit/ha | N45: kgCo2/MJ | P45: Total
F46: 0 | G46: 0 | H46: 15.400656 | I46: 0 | L46: =90.2+88.7 -> 178.9 | N46: =0.08*(44.8+15.6) -> 4.832 | P46: =L46*N46 -> 864.4448
F47: 100 | G47: 100 | H47: 100 | I47: 100 | L47: =88.7+87.1 -> 175.8 | N47: =N46 -> 4.832 | P47: =L47*N47 -> 849.4656
L48: =93.1+88 -> 181.1 | N48: =N47 -> 4.832 | P48: =L48*N48 -> 875.0752
L49: =93.5+88.4 -> 181.9 | N49: =N48 -> 4.832 | P49: =L49*N49 -> 878.9408
F51: =SUM(F41:F47) -> 200 | G51: =SUM(G41:G47) -> 200 | H51: =SUM(H41:H47) -> 200 | I51: =SUM(I41:I47) -> 200
