Workbook

Sheet Ar
B1: EC | D1: OC | F1: CC
B3: Patzer and Schultz (2002) | D3: Schelhaas and Begemann (1990) | F3: Mazor et al. (1970)
B4: mol 36Ar/g | D4: mol 36Ar/g | F4: mol 36Ar/g | H4: references | I4: Patzer, A., & Schultz, L. me(2002). Noble gases in enstatite chondrites II: The trapped component. Meteoritics & Planetary Science, 37(4), 601-612.
B5: 1.6819845e-11 | D5: 2.6992059e-11 | F5: 2.2220104e-11 | I5: Okazaki, R., Takaoka, N., Nagao, K., & Nakamura, T. (2010). Noble gases in enstatite chondrites released by stepped crushing and heating. Meteoritics & Planetary Science, 45(3), 339-360.
B6: 5.3091818e-13 | D6: 1.1109128e-11 | F6: 4.4484828e-11 | I6: Crabb, J., & Anders, E. (1982). On the siting of noble gases in E-chondrites. Geochimica et Cosmochimica Acta, 46(11), 2351-2361.
B7: 2.1905952e-11 | D7: 1.1912198e-11 | F7: 3.6676558e-11 | I7: Schelhaas, N., Ott, U., & Begemann, F. (1990). Trapped noble gases in unequilibrated ordinary chondrites. Geochimica et Cosmochimica Acta, 54(10), 2869-2882.
B8: 3.6718123e-11 | D8: 3.8948871e-11 | F8: 3.9264442e-11 | I8: Heymann, D., & Mazor, E. (1968). Noble gases in unequilibrated ordinary chondrites. Geochimica et Cosmochimica Acta, 32(1), 1-19.
B9: 9.5476042e-12 | D9: 4.2205764e-11 | F9: 4.1049189e-11 | I9: Hashizume, K., & Sugiura, N. (1995). Nitrogen isotopes in bulk ordinary chondrites. Geochimica et cosmochimica acta, 59(19), 4057-4069.
B10: 1.623985e-12 | D10: 1.0216829e-11 | F10: 3.7925881e-11 | I10: Mazor, E., Heymann, D., & Anders, E. (1970). Noble gases in carbonaceous chondrites. Geochimica et Cosmochimica Acta, 34(7), 781-824.
B11: 4.5061123e-12 | D11: 9.815294e-12 | F11: 3.3464013e-11 | I11: Nakamura, T. (2006). Yamato 793321 CM chondrite: Dehydrated regolith material of a hydrous asteroid. Earth and Planetary Science Letters, 242(1-2), 26-38.
B12: 6.3353261e-12 | D12: 5.1753368e-12 | F12: 3.4802573e-11 | I12: Bekaert, D. V., Marrocchi, Y., Meshik, A., Remusat, L., & Marty, B. (2019). Primordial heavy n
B13: 5.0861069e-12 | F13: 3.4802573e-11 | I13: Haack, H., Grau, T., Bischoff, A., Horstmann, M., Wasson, J., Sørensen, A., ... & Greenwood, R. C. (2012). Maribo—A new CM fall from Denmark. Meteoritics & Planetary Science, 47(1), 30-50.
B14: 1.4544481e-11 | D14: Heymann and Mazor (1968) | F14: 3.7479694e-11 | I14: Okazaki, R., & Nagao, K. (2017). Primordial and cosmogenic noble gases in the Sutter's Mill CM chondrite. Meteoritics & Planetary Science, 52(4), 669-689.
B15: 1.7176765e-10 | D15: mol 36Ar/g | F15: 1.3385605e-10
B16: 1.570447e-12 | D16: 2.6322834e-12 | F16: 4.2967792e-11
B17: 4.0242705e-11 | D17: 4.5061123e-12 | F17: 3.5694947e-11
B18: 2.3512091e-11 | D18: 3.7476577e-12 | F18: 1.6865862e-11
B19: 3.7119657e-11 | D19: 1.650754e-11 | F19: 1.8739847e-11
B20: 2.1325957e-12 | D20: 2.8553583e-11 | F20: 2.0747688e-11
B21: 5.5768716e-11 | D21: 1.7399839e-11 | F21: 2.0524595e-11
B22: 2.9044347e-12 | D22: 2.6768984e-11 | F22: 7.8528883e-12
B23: 1.677523e-11 | D23: 6.9599358e-12 | F23: 5.2650047e-12
B24: 9.4137593e-13 | D24: 1.1421433e-11 | F24: 1.6687388e-11
B25: 2.6545909e-11 | D25: 4.863032e-12 | F25: 1.7401287e-11
B26: 1.0306059e-12 | D26: 1.7399839e-12 | F26: 2.4584895e-11
B27: 2.6412064e-12 | D27: 2.1861337e-12 | F27: 1.4054885e-11
... B32: 5.7553315e-11 | D32: 1.561524e-12 | F32: 1.490264e-11
B33: 1.3875257e-11 | D33: other sources | F33: 1.9186034e-11
B34: 2.1325957e-11 | D34: 2.3199786e-12 | F34: 1.1600858e-11
B35: 2.7170518e-12 | D35: 1.7845989e-12 | F35: 2.4004852e-11
B36: 2.6412064e-12 | D36: 1.0172214e-11 | F36: 2.10154e-11
B37: 1.1466048e-11 | D37: 2.7661283e-12 | F37: 2.5878837e-11
B38: 3.4308914e-12 | D38: 2.4538235e-12 | F38: 1.3028656e-11
B39: 3.3505845e-12 | D39: 1.561524e-12 | F39: 3.2125452e-11
B40: 1.0439904e-11 | D40: 5.4876417e-12 | F40: 3.4356386e-11
B41: 3.4041224e-12 | D41: 2.3289016e-11 | F41: 1.798133e-11
B42: 9.3691443e-11 | D42: 4.5061123e-12 | F42: 2.4540276e-11
B43: 4.7291871e-11 | D43: 5.8891764e-12 | F43: 2.0970781e-11
B44: 4.2562684e-12 | D44: 1.3384492e-12
B45: 1.695369e-11 | D45: 2.6768984e-12 | F45: Nakamura (2006)
B46: 2.6590524e-11 | D46: 3.1230481e-12 | F46: 4.050944e-11
B47: 3.6004283e-11
B48: 1.0038369e-11 | D48: Hashizume and Sugiura (1995) | F48: Bekaert et al. (2019)
B49: 2.7661283e-12 | D49: mol 36Ar/g | F49: 6.516736e-11
B50: 4.7738021e-11 | D50: 1.1555278e-12 | F50: 6.6048e-11
B51: 3.5513518e-12 | D51: 2.2976711e-12 | F51: 8.233984e-11
B52: 2.6902829e-11 | D52: 3.8636566e-12 | F52: 8.14592e-11
B53: 3.0338181e-13 | D53: 2.4359775e-11
D54: 2.8687428e-12 | F54: Haack et al. (2012)
B55: Okazaki et al. (2010) | D55: 6.8260908e-13 | F55: 3.5753984e-11
B56: 2.7652096e-12 | D56: 3.6138128e-13 | F56: 3.6991283e-11
B57: 4.050944e-13 | D57: 4.5061123e-13
B58: 7.48544e-14 | D58: 4.5953422e-13 | F58: Okazaki and Nagao (2017)
B59: 3.368448e-10 | D59: 3.1676631e-13 | F59: 2.5934848e-11
B60: 4.006912e-12 | D60: 9.3691443e-14 | F60: 3.0734336e-11
B61: 3.3948672e-12 | D61: 5.4430267e-13
B62: 8.674304e-12 | D62: 2.0076738e-13 | E62: Q1 | F62: =QUARTILE(F5:F60,1) -> 1.8550218e-11
B63: 7.969792e-12 | D63: 2.9445882e-13 | E63: median | F63: =QUARTILE(F5:F60,2) -> 2.5906842e-11
B64: 1.2372992e-11 | D64: 5.9337914e-11 | E64: Q3 | F64: =QUARTILE(F5:F60,3) -> 3.7591241e-11
B65: 2.7916288e-11 | D65: 2.2664406e-12
B66: 1.2681216e-11 | D66: 1.2938342e-13 | E66: median-Q1 | F66: =F63-F62 -> 7.3566245e-12
B67: 1.7304576e-11 | D67: 9.7260641e-12 | E67: Q3-median | F67: =F64-F63 -> 1.1684399e-11
B68: 7.353344e-13 | D68: 5.6214866e-13
B69: 5.151744e-13 | D69: 4.1045775e-13 | E69: n | F69: =COUNTA(F5:F43,F46,F49:F52,F55:F56,F59:F60) -> 48
D70: 3.2256625e-11
B71: Crabb and Anders (1982) | D71: 2.0969037e-13
B72: 2.7652096e-12 | D72: 1.9139823e-11
B73: 4.006912e-12 | D73: 7.0045507e-12
B74: 8.674304e-12 | D74: 5.3984117e-12
B75: 7.969792e-12 | D75: 5.0861069e-13
B76: 1.2372992e-11 | D76: 3.4353529e-13
B77: 1.2681216e-11
B78: 1.7304576e-11 | C78: Q1 | D78: =QUARTILE(D5:D76,1) -> 1.3384492e-12
B79: 7.353344e-13 | C79: median | D79: =QUARTILE(D5:D76,2) -> 3.7476577e-12
B80: 5.151744e-13 | C80: Q3 | D80: =QUARTILE(D5:D76,3) -> 1.1109128e-11
A82: Q1 | B82: =QUARTILE(B5:B80,1) -> 2.7652096e-12 | C82: median-Q1 | D82: =D79-D78 -> 2.4092085e-12
A83: median | B83: =QUARTILE(B5:B80,2) -> 8.322048e-12 | C83: Q3-median | D83: =D80-D79 -> 7.3614705e-12
A84: Q3 | B84: =QUARTILE(B5:B80,3) -> 2.1470956e-11
C85: n | D85: =COUNTA(D49:D76)+COUNTA(D34:D46)+COUNTA(D16:D32)+COUNTA(D5:D12) -> 66
A86: median-Q1 | B86: =B83-B82 -> 5.5568384e-12
A87: Q3-median | B87: =B84-B83 -> 1.3148908e-11
A89: n | B89: =COUNTA(B5:B53,B56:B69,B72:B80) -> 72

Sheet Kr
B1: EC | D1: OC | F1: CC
B3: Patzer and Schultz (2002) | D3: Schelhaas and Begemann (1990) | F3: Mazor et al. (1970)
B4: mol 84Kr/g | D4: mol 84Kr/g | F4: mol 84Kr/g | H4: references | I4: Patzer, A., & Schultz, L. me(2002). Noble gases in enstatite chondrites II: The trapped component. Meteoritics & Planetary Science, 37(4), 601-612.
B5: 6.558401e-14 | D5: 2.0567502e-13 | F5: 4.1049189e-13 | I5: Okazaki, R., Takaoka, N., Nagao, K., & Nakamura, T. (2010). Noble gases in enstatite chondrites released by stepped crushing and heating. Meteoritics & Planetary Science, 45(3), 339-360.
B6: 9.859909e-15 | D6: 7.5399304e-14 | F6: 4.4618684e-13 | I6: Crabb, J., & Anders, E. (1982). On the siting of noble gases in E-chondrites. Geochimica et Cosmochimica Acta, 46(11), 2351-2361.
B7: 1.1867583e-13 | D7: 7.7183903e-14 | F7: 4.4618684e-13 | I7: Schelhaas, N., Ott, U., & Begemann, F. (1990). Trapped noble gases in unequilibrated ordinary chondrites. Geochimica et Cosmochimica Acta, 54(10), 2869-2882.
B8: 1.2358347e-13 | D8: 2.0389043e-13 | F8: 4.238775e-13 | I8: Heymann, D., & Mazor, E. (1968). Noble gases in unequilibrated ordinary chondrites. Geochimica et Cosmochimica Acta, 32(1), 1-19.
B9: 1.2626037e-13 | D9: 2.0032123e-13 | F9: 3.5694947e-13 | I9: Hashizume, K., & Sugiura, N. (1995). Nitrogen isotopes in bulk ordinary chondrites. Geochimica et cosmochimica acta, 59(19), 4057-4069.
B10: 1.2492192e-14 | D10: 7.8968502e-14 | F10: 2.5878837e-13 | I10: Mazor, E., Heymann, D., & Anders, E. (1970). Noble gases in carbonaceous chondrites. Geochimica et Cosmochimica Acta, 34(7), 781-824.
B11: =0.00000000272*0.000044032 -> 1.1976704e-13 | D11: 5.5768716e-14 | F11: 3.7033507e-13 | I11: Nakamura, T. (2006). Yamato 793321 CM chondrite: Dehydrated regolith material of a hydrous asteroid. Earth and Planetary Science Letters, 242(1-2), 26-38.
B12: 4.046578e-14 | D12: 5.3537967e-14 | F12: 4.9080552e-13 | I12: Bekaert, D. V., Marrocchi, Y., Meshik, A., Remusat, L., & Marty, B. (2019). Primordial heavy n
B13: 1.4053716e-13 | F13: 1.1154671e-12 | I13: Haack, H., Grau, T., Bischoff, A., Horstmann, M., Wasson, J., Sørensen, A., ... & Greenwood, R. C. (2012). Maribo—A new CM fall from Denmark. Meteoritics & Planetary Science, 47(1), 30-50.
B14: 1.1466048e-12 | D14: Heymann and Mazor (1968) | F14: 6.2466157e-13 | I14: Okazaki, R., & Nagao, K. (2017). Primordial and cosmogenic noble gases in the Sutter's Mill CM chondrite. Meteoritics & Planetary Science, 52(4), 669-689.
B15: 4.863032e-13 | D15: mol 84Kr/g | F15: 4.4618684e-13 | I15: Srinivasan, B., Lewis, R. S., & Anders, E. (1978). Noble gases in the Allende and Abee meteorites and a gas-rich mineral fraction: investigation by stepwise heating. Geochimica et Cosmochimica Acta, 42(2), 183-198.
B16: 8.8783796e-14 | D16: 5.7999465e-14 | F16: 2.0970781e-13
B17: 1.3027572e-13 | D17: 7.1383956e-14 | F17: 2.4986463e-13
B18: 7.4060855e-14 | D18: 1.695369e-13 | F18: 2.2755529e-13
B19: 9.4583742e-14 | D19: 1.8292139e-13 | F19: 2.8109771e-13
B20: 2.7438208e-14 | D20: 8.4768448e-14 | F20: 8.4775499e-14
B21: 2.8107433e-13 | D21: 9.3691443e-14 | F21: 1.2493231e-13
B22: 1.1912198e-13 | D22: 5.7999465e-14 | F22: 2.4540276e-13
B23: 6.4691711e-14 | D23: 8.4768448e-14 | F23: 2.677121e-13
B24: 9.0568395e-15 | D24: 5.7999465e-14 | F24: 3.0340705e-13
B25: 7.0491657e-14 | D25: 1.3830642e-13 | F25: 1.1154671e-13
B26: 7.9414652e-15 | D26: 7.5845454e-14 | F26: 1.3385605e-13
B27: 5.3091818e-14 | D27: 5.3537967e-14 | F27: 5.2650047e-13
B28: 5.1753368e-14 | D28: 2.6768984e-14 | F28: 4.1049189e-13
B29: 4.4570358e-14 | D29: other sources | F29: 1.5170352e-13
B30: 1.3786027e-13 | D30: 1.3384492e-13 | F30: 9.8161104e-14
B31: 2.5742839e-14 | D31: 4.4614973e-14 | F31: 7.049752e-13
B32: 2.3913625e-13 | F32: 1.829366e-13
B33: 5.0414919e-14 | D33: Alaerts et al. (1979) | F33: 6.5589465e-13
B34: 7.8968502e-14 | D34: mol 84Kr/g | F34: 3.5694947e-13
B35: 9.7260641e-14 | D35: 1.1733738e-13 | F35: 4.2833936e-13
B36: 6.6922459e-14 | D36: 4.4168823e-14 | F36: 2.3201716e-13
B37: 6.1122513e-14 | D37: 2.529669e-14 | F37: 4.372631e-13
B38: 5.5322566e-14 | D38: 3.9261176e-15 | F38: 5.6665728e-13
B39: 5.7999465e-14 | D39: 3.1765861e-15 | F39: 2.2309342e-13
B40: 7.4953154e-14 | F40: 3.6587321e-13
B41: 2.4716695e-14 | C41: Q1 | D41: =QUARTILE(D5:D39,1) -> 5.3537967e-14 | F41: 3.3464013e-13
B42: 2.4538235e-13 | C42: median | D42: =QUARTILE(D5:D39,2) -> 7.5622379e-14
B43: 1.6373695e-13 | C43: Q3 | D43: =QUARTILE(D5:D39,3) -> 1.2146426e-13 | F43: Nakamura (2006)
B44: 1.2982957e-13 | F44: 5.06368e-13
B45: 7.3614705e-14 | C45: median-Q1 | D45: =D42-D41 -> 2.2084412e-14
B46: 1.2670652e-13 | C46: Q3-median | D46: =D43-D42 -> 4.5841885e-14 | F46: Bekaert et al. (2019)
B47: 8.8783796e-14 | F47: 6.076416e-13
B48: 1.4142946e-13 | C48: n | D48: =COUNTA(D5:D12)+COUNTA(D16:D28)+COUNTA(D30:D31)+COUNTA(D35:D39) -> 28 | F48: 5.592064e-13
B49: 6.0676363e-14 | F49: 6.076416e-13
B50: 9.6368341e-14 | F50: 6.296576e-13
B51: 9.6814491e-14
B52: 8.6106897e-14 | F52: Haack et al. (2012)
B53: 4.1491925e-15 | F53: 3.7163008e-13
F54: 3.7251072e-13
B55: Okazaki et al. (2010)
B56: 4.3503616e-14 | F56: Okazaki and Nagao (2017)
B57: 1.6027648e-14 | F57: 3.2187392e-13
B58: 2.64192e-15 | F58: 3.5137536e-13
B59: 7.48544e-13
B60: 2.003456e-14 | F60: Srinivasan et al. (1978)
B61: 5.592064e-14 | F61: =0.00000000261*0.000044032 -> 1.1492352e-13
B62: 2.5670656e-14
B63: 3.1835136e-14 | E63: Q1 | F63: =QUARTILE(F5:F61,1) -> 2.3870996e-13
B64: 4.0333312e-14 | E64: median | F64: =QUARTILE(F5:F61,2) -> 3.6587321e-13
B65: 1.4486528e-13 | E65: Q3 | F65: =QUARTILE(F5:F61,3) -> 4.6849618e-13
B66: 5.327872e-14
B67: 5.019648e-14 | E67: median-Q1 | F67: =F64-F63 -> 1.2716325e-13
B68: 1.2240896e-14 | E68: Q3-median | F68: =F65-F64 -> 1.0262297e-13
B69: 6.252544e-15
E70: n | F70: =COUNTA(F5:F41,F44,F47:F50,F53:F54,F57:F58,F61) -> 47
B71: Crabb and Anders (1982)
B72: 4.3503616e-14
B73: 7.48544e-13
B74: 2.003456e-14
B75: 2.5670656e-14
B76: 3.1835136e-14
B77: 4.0333312e-14
B78: 5.327872e-14
B79: 5.019648e-14
B80: 1.2240896e-14
B81: 6.252544e-15
A83: Q1 | B83: =QUARTILE(B5:B81,1) -> 3.1835136e-14
A84: median | B84: =QUARTILE(B5:B81,2) -> 6.0676363e-14
A85: Q3 | B85: =QUARTILE(B5:B81,3) -> 1.1912198e-13
A87: median-Q1 | B87: =B84-B83 -> 2.8841227e-14
A88: Q3-median | B88: =B85-B84 -> 5.8445614e-14
A90: n | B90: =COUNTA(B4:B53,B56:B69,B72:B81) -> 74

Sheet Xe
B1: EC | D1: OC | F1: CC
B3: Patzer and Schultz (2002) | D3: Schelhaas and Begemann (1990) | F3: Mazor et al. (1970)
B4: mol 132Xe/g | D4: mol 132Xe/g | F4: mol 132Xe/g | H4: references | I4: Patzer, A., & Schultz, L. me(2002). Noble gases in enstatite chondrites II: The trapped component. Meteoritics & Planetary Science, 37(4), 601-612.
B5: 5.1307219e-14 | D5: 1.6462925e-13 | F5: 3.1679265e-13 | I5: Okazaki, R., Takaoka, N., Nagao, K., & Nakamura, T. (2010). Noble gases in enstatite chondrites released by stepped crushing and heating. Meteoritics & Planetary Science, 45(3), 339-360.
B6: 6.2460962e-15 | D6: 5.2199518e-14 | F6: 4.1941563e-13 | I6: Crabb, J., & Anders, E. (1982). On the siting of noble gases in E-chondrites. Geochimica et Cosmochimica Acta, 46(11), 2351-2361.
B7: 2.7705898e-13 | D7: 6.2460962e-14 | F7: 2.0078408e-13 | I7: Schelhaas, N., Ott, U., & Begemann, F. (1990). Trapped noble gases in unequilibrated ordinary chondrites. Geochimica et Cosmochimica Acta, 54(10), 2869-2882.
B8: 3.0025877e-13 | D8: 1.623985e-13 | F8: 2.2309342e-13 | I8: Heymann, D., & Mazor, E. (1968). Noble gases in unequilibrated ordinary chondrites. Geochimica et Cosmochimica Acta, 32(1), 1-19.
B9: 2.8955117e-13 | D9: 1.704292e-13 | F9: 3.39102e-13 | I9: Hashizume, K., & Sugiura, N. (1995). Nitrogen isotopes in bulk ordinary chondrites. Geochimica et cosmochimica acta, 59(19), 4057-4069.
B10: 7.4953154e-15 | D10: 5.2645668e-14 | F10: 7.5851762e-13 | I10: Mazor, E., Heymann, D., & Anders, E. (1970). Noble gases in carbonaceous chondrites. Geochimica et Cosmochimica Acta, 34(7), 781-824.
B11: 1.188864e-14 | D11: 7.8076202e-14 | F11: 4.4618684e-13 | I11: Nakamura, T. (2006). Yamato 793321 CM chondrite: Dehydrated regolith material of a hydrous asteroid. Earth and Planetary Science Letters, 242(1-2), 26-38.
B12: 2.6322834e-14 | F12: 3.1233079e-13 | I12: Bekaert, D. V., Marrocchi, Y., Meshik, A., Remusat, L., & Marty, B. (2019). Primordial heavy n
B13: 1.677523e-13 | D13: Heymann and Mazor (1968) | F13: 1.5170352e-13 | I13: Haack, H., Grau, T., Bischoff, A., Horstmann, M., Wasson, J., Sørensen, A., ... & Greenwood, R. C. (2012). Maribo—A new CM fall from Denmark. Meteoritics & Planetary Science, 47(1), 30-50.
B14: 1.5436781e-12 | D14: mol 132Xe/g | F14: 2.6325023e-13 | I14: Okazaki, R., & Nagao, K. (2017). Primordial and cosmogenic noble gases in the Sutter's Mill CM chondrite. Meteoritics & Planetary Science, 52(4), 669-689.
B15: 1.8425984e-13 | D15: 5.7999465e-14 | F15: 9.8161104e-14 | I15: Srinivasan, B., Lewis, R. S., & Anders, E. (1978). Noble gases in the Allende and Abee meteorites and a gas-rich mineral fraction: investigation by stepwise heating. Geochimica et Cosmochimica Acta, 42(2), 183-198.
B16: 1.7890604e-13 | D16: 4.907647e-14 | F16: 7.5851762e-14
B17: 4.863032e-14 | D17: 1.5169091e-13 | F17: 1.9186034e-13
B18: 8.3876149e-14 | D18: 1.4722941e-13 | F18: 2.4540276e-13
B19: 2.9624342e-14 | D19: 6.6922459e-14 | F19: 1.0262297e-13
B20: 2.2173641e-14 | D20: 7.1383956e-14 | F20: 3.6587321e-13
B21: 1.3652182e-13 | D21: 6.2460962e-14 | F21: 4.3280123e-13
B22: 1.6998305e-13 | D22: 6.2460962e-14 | F22: 2.4094089e-13
B23: 2.3422861e-14 | D23: 6.6922459e-14 | F23: 3.3464013e-13
B24: 1.0975283e-14 | D24: 1.0707593e-13 | F24: 1.7847473e-13
B25: 4.5061123e-14 | D25: 5.7999465e-14 | F25: 2.3201716e-13
B26: 6.558401e-15 | D26: 3.5691978e-14
B27: 4.2161149e-14 | D27: 4.4614973e-14 | F27: Nakamura (2006)
B28: 6.4245561e-14 | D28: other sources | F28: 5.72416e-13
B29: 4.952262e-14 | D29: 9.3691443e-14
B30: 4.907647e-14 | D30: 4.0153476e-14 | F30: Bekaert et al. (2019)
B31: 1.4232176e-14 | F31: 8.278016e-13
B32: 8.0753101e-14 | D32: Alaerts et al. (1979) | F32: 7.133184e-13
B33: 2.5965914e-14 | D33: mol 132Xe/g | F33: 7.177216e-13
B34: 9.9937539e-14 | D34: 8.6553047e-14 | F34: 7.529472e-13
B35: 6.3353261e-14 | D35: 3.5825823e-14
B36: 6.8260908e-14 | D36: 2.1682877e-14 | F36: Haack et al. (2012)
B37: 3.5558133e-14 | D37: 2.431516e-15 | F37: 4.4384256e-13
B38: 5.7107165e-14 | D38: 1.2179888e-15 | F38: 4.469248e-13
B39: 6.1122513e-14
B40: 2.6099759e-14 | C40: Q1 | D40: =QUARTILE(D5:D38,1) -> 4.6845721e-14 | F40: Okazaki and Nagao (2017)
B41: 1.5035246e-14 | C41: median | D41: =QUARTILE(D5:D38,2) -> 6.2460962e-14 | F41: 4.447232e-13
B42: 1.0082984e-13 | C42: Q3 | D42: =QUARTILE(D5:D38,3) -> 9.0122245e-14 | F42: 5.28384e-13
B43: 6.4691711e-14
B44: 8.16454e-14 | C44: median-Q1 | D44: =D41-D40 -> 1.561524e-14 | F44: Srinivasan et al. (1978)
B45: 3.1096636e-14 | C45: Q3-median | D45: =D42-D41 -> 2.7661283e-14 | F45: 8.498176e-14
B46: 5.4430267e-14
B47: 3.7298117e-14 | C47: n | D47: =COUNTA(D5:D11)+COUNTA(D15:D27)+COUNTA(D29:D30)+COUNTA(D34:D38) -> 27 | E47: Q1 | F47: =QUARTILE(F5:F45,1) -> 2.1193875e-13
B48: 3.24797e-13 | E48: median | F48: =QUARTILE(F5:F45,2) -> 3.3464013e-13
B49: 5.3537967e-14 | E49: Q3 | F49: =QUARTILE(F5:F45,3) -> 4.4655582e-13
B50: 2.4002855e-14
B51: 1.2670652e-13 | E51: median-Q1 | F51: =F48-F47 -> 1.2270138e-13
B52: 3.1810476e-14 | E52: Q3-median | F52: =F49-F48 -> 1.1191569e-13
B53: 3.346123e-15
E54: n | F54: =COUNTA(F5:F25,F28,F31:F34,F37:F38,F41:F42,F45) -> 31
B55: Okazaki et al. (2010)
B56: 3.8131712e-14
B57: 3.566592e-15
B58: 5.28384e-16
B59: 1.2681216e-13
B60: 8.762368e-15
B61: 5.812224e-15
B62: 8.674304e-15
B63: 1.7260544e-14
B64: 1.629184e-14
B65: 4.2799104e-14
B66: 2.003456e-14
B67: 1.144832e-14
... B69: 4.755456e-15
B71: Crabb and Anders (1982)
B72: 3.8131712e-14
B73: 1.2681216e-13
B74: 8.762368e-15
B75: 8.674304e-15
B76: 1.7260544e-14
B77: 1.629184e-14
B78: 2.003456e-14
B79: 1.144832e-14
B80: 2.377728e-15
B81: 4.755456e-15
A83: Q1 | B83: =QUARTILE(B5:B81,1) -> 1.188864e-14
A84: median | B84: =QUARTILE(B5:B81,2) -> 3.5558133e-14
A85: Q3 | B85: =QUARTILE(B5:B81,3) -> 6.8260908e-14
A87: median-Q1 | B87: =B84-B83 -> 2.3669493e-14
A88: Q3-median | B88: =B85-B84 -> 3.2702775e-14
A90: n | B90: =COUNTA(B4:B53,B56:B69,B72:B81) -> 74

Sheet Kr to Xe
B1: EC | G1: CC
B3: Patzer and Schultz (2002) | G3: Mazor et al. (1970)
B4: mol 84Kr/g | C4: mol 132Xe/g | D4: 84Kr132/Xe | G4: mol 84Kr/g | H4: mol 132Xe/g | I4: 84Kr132/Xe | K4: references | L4: Patzer, A., & Schultz, L. me(2002). Noble gases in enstatite chondrites II: The trapped component. Meteoritics & Planetary Science, 37(4), 601-612.
B5: 6.558401e-14 | C5: 5.1307219e-14 | D5: =B5/C5 -> 1.2782609 | G5: 4.1049189e-13 | H5: 3.1679265e-13 | I5: 1.2957746 | L5: Okazaki, R., Takaoka, N., Nagao, K., & Nakamura, T. (2010). Noble gases in enstatite chondrites released by stepped crushing and heating. Meteoritics & Planetary Science, 45(3), 339-360.
B6: 9.859909e-15 | C6: 6.2460962e-15 | D6: =B6/C6 -> 1.5785714 | G6: 4.4618684e-13 | H6: 4.1941563e-13 | I6: 1.0638298 | L6: Crabb, J., & Anders, E. (1982). On the siting of noble gases in E-chondrites. Geochimica et Cosmochimica Acta, 46(11), 2351-2361.
B7: 1.1867583e-13 | C7: 2.7705898e-13 | D7: =B7/C7 -> 0.42834138 | G7: 4.4618684e-13 | H7: 2.0078408e-13 | I7: 2.2222222 | L7: Mazor, E., Heymann, D., & Anders, E. (1970). Noble gases in carbonaceous chondrites. Geochimica et Cosmochimica Acta, 34(7), 781-824.
B8: 1.2358347e-13 | C8: 3.0025877e-13 | D8: =B8/C8 -> 0.4115899 | G8: 3.5694947e-13 | H8: 2.2309342e-13 | I8: 1.6 | L8: Nakamura, T. (2006). Yamato 793321 CM chondrite: Dehydrated regolith material of a hydrous asteroid. Earth and Planetary Science Letters, 242(1-2), 26-38.
B9: 1.2626037e-13 | C9: 2.8955117e-13 | D9: =B9/C9 -> 0.43605547 | G9: 3.7033507e-13 | H9: 3.39102e-13 | I9: 1.0921053 | L9: Bekaert, D. V., Marrocchi, Y., Meshik, A., Remusat, L., & Marty, B. (2019). Primordial heavy n
B10: 1.2492192e-14 | C10: 7.4953154e-15 | D10: =B10/C10 -> 1.6666667 | G10: 1.1154671e-12 | H10: 7.5851762e-13 | I10: 1.4705882 | L10: Haack, H., Grau, T., Bischoff, A., Horstmann, M., Wasson, J., Sørensen, A., ... & Greenwood, R. C. (2012). Maribo—A new CM fall from Denmark. Meteoritics & Planetary Science, 47(1), 30-50.
B11: 4.046578e-14 | C11: 2.6322834e-14 | D11: =B11/C11 -> 1.5372881 | G11: 6.2466157e-13 | H11: 4.4618684e-13 | I11: 1.4 | L11: Okazaki, R., & Nagao, K. (2017). Primordial and cosmogenic noble gases in the Sutter's Mill CM chondrite. Meteoritics & Planetary Science, 52(4), 669-689.
B12: 1.4053716e-13 | C12: 1.677523e-13 | D12: =B12/C12 -> 0.83776596 | G12: 4.4618684e-13 | H12: 3.1233079e-13 | I12: 1.4285714 | L12: Srinivasan, B., Lewis, R. S., & Anders, E. (1978). Noble gases in the Allende and Abee meteorites and a gas-rich mineral fraction: investigation by stepwise heating. Geochimica et Cosmochimica Acta, 42(2), 183-198.
B13: 1.1466048e-12 | C13: 1.5436781e-12 | D13: =B13/C13 -> 0.74277457 | G13: 2.4986463e-13 | H13: 1.5170352e-13 | I13: 1.6470588
B14: 4.863032e-13 | C14: 1.8425984e-13 | D14: =B14/C14 -> 2.6392252 | G14: 2.8109771e-13 | H14: 2.6325023e-13 | I14: 1.0677966
B15: 8.8783796e-14 | C15: 1.7890604e-13 | D15: =B15/C15 -> 0.49625935 | G15: 8.4775499e-14 | H15: 9.8161104e-14 | I15: 0.86363636
B16: 1.3027572e-13 | C16: 4.863032e-14 | D16: =B16/C16 -> 2.6788991 | G16: 1.2493231e-13 | H16: 7.5851762e-14 | I16: 1.6470588
B17: 7.4060855e-14 | C17: 8.3876149e-14 | D17: =B17/C17 -> 0.88297872 | G17: 2.677121e-13 | H17: 1.9186034e-13 | I17: 1.3953488
B18: 9.4583742e-14 | C18: 2.9624342e-14 | D18: =B18/C18 -> 3.1927711 | G18: 3.0340705e-13 | H18: 2.4540276e-13 | I18: 1.2363636
B19: 2.7438208e-14 | C19: 2.2173641e-14 | D19: =B19/C19 -> 1.2374245 | G19: 1.3385605e-13 | H19: 1.0262297e-13 | I19: 1.3043478
B20: 2.8107433e-13 | C20: 1.3652182e-13 | D20: =B20/C20 -> 2.0588235 | G20: 5.2650047e-13 | H20: 3.6587321e-13 | I20: 1.4390244
B21: 1.1912198e-13 | C21: 1.6998305e-13 | D21: =B21/C21 -> 0.7007874 | G21: 4.1049189e-13 | H21: 4.3280123e-13 | I21: 0.94845361
B22: 6.4691711e-14 | C22: 2.3422861e-14 | D22: =B22/C22 -> 2.7619048 | G22: 3.5694947e-13 | H22: 2.4094089e-13 | I22: 1.4814815
B23: 9.0568395e-15 | C23: 1.0975283e-14 | D23: =B23/C23 -> 0.82520325 | G23: 4.2833936e-13 | H23: 3.3464013e-13 | I23: 1.28
B24: 7.0491657e-14 | C24: 4.5061123e-14 | D24: =B24/C24 -> 1.5643564 | G24: 2.3201716e-13 | H24: 1.7847473e-13 | I24: 1.3
B25: 7.9414652e-15 | C25: 6.558401e-15 | D25: =B25/C25 -> 1.2108844 | G25: 3.3464013e-13 | H25: 2.3201716e-13 | I25: 1.4423077
B26: 5.3091818e-14 | C26: 4.2161149e-14 | D26: =B26/C26 -> 1.2592593
B27: 5.1753368e-14 | C27: 6.4245561e-14 | D27: =B27/C27 -> 0.80555556 | I27: Nakamura (2006)
B28: 4.4570358e-14 | C28: 4.952262e-14 | D28: =B28/C28 -> 0.9 | I28: =Kr!F44/Xe!F28 -> 0.88461538
B29: 1.3786027e-13 | C29: 4.907647e-14 | D29: =B29/C29 -> 2.8090909
B30: 2.5742839e-14 | C30: 1.4232176e-14 | D30: =B30/C30 -> 1.8087774 | I30: Bekaert et al. (2019)
B31: 2.3913625e-13 | C31: 8.0753101e-14 | D31: =B31/C31 -> 2.961326 | I31: 0.734
B32: 5.0414919e-14 | C32: 2.5965914e-14 | D32: =B32/C32 -> 1.9415808 | I32: 0.784
B33: 7.8968502e-14 | C33: 9.9937539e-14 | D33: =B33/C33 -> 0.79017857 | I33: 0.847
B34: 9.7260641e-14 | C34: 6.3353261e-14 | D34: =B34/C34 -> 1.5352113 | I34: 0.836
B35: 6.6922459e-14 | C35: 6.8260908e-14 | D35: =B35/C35 -> 0.98039216
B36: 6.1122513e-14 | C36: 3.5558133e-14 | D36: =B36/C36 -> 1.718946 | I36: Haack et al. (2012)
B37: 5.5322566e-14 | C37: 5.7107165e-14 | D37: =B37/C37 -> 0.96875 | I37: =Kr!F53/Xe!F37 -> 0.83730159
B38: 5.7999465e-14 | C38: 6.1122513e-14 | D38: =B38/C38 -> 0.94890511 | I38: =Kr!F54/Xe!F38 -> 0.83349754
B39: 7.4953154e-14 | C39: 2.6099759e-14 | D39: =B39/C39 -> 2.8717949
B40: 2.4716695e-14 | C40: 1.5035246e-14 | D40: =B40/C40 -> 1.6439169 | I40: Okazaki and Nagao (2017)
B41: 2.4538235e-13 | C41: 1.0082984e-13 | D41: =B41/C41 -> 2.4336283 | I41: =Kr!F57/Xe!F41 -> 0.72376238
B42: 1.6373695e-13 | C42: 6.4691711e-14 | D42: =B42/C42 -> 2.5310345 | I42: =Kr!F58/Xe!F42 -> 0.665
B43: 1.2982957e-13 | C43: 8.16454e-14 | D43: =B43/C43 -> 1.5901639
B44: 7.3614705e-14 | C44: 3.1096636e-14 | D44: =B44/C44 -> 2.3672884 | I44: Srinivasan et al. (1978)
B45: 1.2670652e-13 | C45: 5.4430267e-14 | D45: =B45/C45 -> 2.3278689 | I45: =0.00000000261/0.00000000193 -> 1.3523316
B46: 8.8783796e-14 | C46: 3.7298117e-14 | D46: =B46/C46 -> 2.3803828
B47: 1.4142946e-13 | C47: 3.24797e-13 | D47: =B47/C47 -> 0.43543956
B48: 6.0676363e-14 | C48: 5.3537967e-14 | D48: =B48/C48 -> 1.1333333 | H48: mean | I48: =AVERAGE(I5:I45) -> 1.1975316
B49: 9.6368341e-14 | C49: 2.4002855e-14 | D49: =B49/C49 -> 4.0148699 | H49: STD deviation | I49: =STDEVA(I5:I25,I28,I31:I34,I37:I38,I41:I42,I45) -> 0.35655415
B50: 9.6814491e-14 | C50: 1.2670652e-13 | D50: =B50/C50 -> 0.76408451
B51: 8.6106897e-14 | C51: 3.1810476e-14 | D51: =B51/C51 -> 2.7068724
B52: 4.1491925e-15 | C52: 3.346123e-15 | D52: =B52/C52 -> 1.24 | H52: n | I52: =COUNTA(I5:I25,I28,I31:I34,I37:I38,I41:I42,I45) -> 31
D54: Okazaki et al. (2010)
D55: 0.76
D56: 0.92
D57: 0.77
D58: 0.87
D59: 0.76
D60: 2.5
D61: 0.8
D62: 4.53
D63: 1.68
D64: 2.84
D65: 2.57
D66: 2.47
... D69: 1.58
D71: Crabb and Anders (1982)
B72: 9.88e-10 | C72: 8.66e-10 | D72: =B72/C72 -> 1.1408776
B73: 1.7e-08 | C73: 2.88e-09 | D73: =B73/C73 -> 5.9027778
B74: 4.55e-10 | C74: 1.99e-10 | D74: =B74/C74 -> 2.2864322
B75: 5.83e-10 | C75: 1.97e-10 | D75: =B75/C75 -> 2.9593909
B76: 7.23e-10 | C76: 3.92e-10 | D76: =B76/C76 -> 1.8443878
B77: 9.16e-10 | C77: 3.7e-10 | D77: =B77/C77 -> 2.4756757
B78: 1.21e-09 | C78: 4.55e-10 | D78: =B78/C78 -> 2.6593407
B79: 1.14e-09 | C79: 2.6e-10 | D79: =B79/C79 -> 4.3846154
B80: 2.78e-10 | C80: 5.4e-11 | D80: =B80/C80 -> 5.1481481
B81: 1.42e-10 | C81: 1.08e-10 | D81: =B81/C81 -> 1.3148148
C83: mean | D83: =AVERAGE(D55:D69,D5:D52,D72:D81) -> 1.8429033
C84: STD deviation | D84: =STDEVA(D55:D69,D5:D52,D72:D81) -> 1.1440733
C87: n | D87: =COUNTA(D5:D52,D55:D69,D72:D81) -> 73

Sheet H2O
C1: EC | E1: OC | G1: CC
C3: mol H2O/g | E3: Jarosewich (1990) | G3: Jarosewich (1990)
A4: Javoy (1995) | B4: 0.05wt% | C4: =0.05*0.01/18.01528 -> 2.7754218e-05 | E4: mol H2O/g | G4: 0.005994911 | I4: references | J4: Javoy, M. (1995). The integral enstatite chondrite model of the Earth. Geophysical Research Letters, 22(16), 2219-2222.
A5: Jarosewich (1990) | B5: 0.5wt% | C5: =0.5*0.01/18.01528 -> 0.00027754218 | D5: H | E5: 0.000638347 | G5: 0.0066887664 | J5: Jarosewich, E. (1990). Chemical analyses of meteorites: A compilation of stony and iron meteorite analyses. Meteoritics, 25(4), 323-337.
E6: 0.0014043634 | G6: 0.0061114787 | J6: Piani, L., Yurimoto, H., & Remusat, L. (2018). A dual origin for water in carbonaceous asteroids revealed by CM chondrites. Nature Astronomy, 1.
E7: 0.00056063519 | G7: 0.0047237678
E8: 0.0011268212 | G8: 0.0049680049
E9: 0.0016541514 | G9: 0.0055952503
E10: 0.00011656771 | G10: 0.0064445293
E11: 0.0014987277 | G11: 0.0057062671
E12: 8.3262653e-05 | G12: 0.0036302517
E13: 0.00024978796
E14: 0.00021093205 | G14: Piani et al. (2018)
E15: 0.0011934314 | G15: 0.0071605881
E16: 0.00012211856 | G16: 0.0067720291
E17: 0.00047737254 | G17: 0.0056618604
E18: 0.00039966073 | G18: 0.0057728772
E19: 0.0018872868 | G19: 0.0053288098
E20: 5.5508435e-05 | G20: 0.0026644049
E21: 5.5508435e-05
E22: 0.00016652531 | G22: =QUARTILE(G4:G20,1) -> 0.0051484074
E23: 0.0017485157 | G23: =QUARTILE(G4:G20,2) -> 0.0057062671
E24: 0.0013155499 | G24: =QUARTILE(G4:G20,3) -> 0.006278004
E25: 0.0005106776
E26: 0.0003830082 | G26: =G23-G22 -> 0.00055785977
E27: 0.0001276694 | G27: =G24-G23 -> 0.00057173688
E28: 9.9915183e-05
E29: 5.5508435e-05 | G29: =COUNTA(G15:G20,G4:G12,#REF!) -> 16
E30: 5.5508435e-05
E31: 0.00024423711
E32: 0.00084927906
E33: 0.0010768636
E34: 0.00062169447
E35: 0.00033860145
E36: 5.5508435e-05
E37: 0.00028309302
E38: 0.00049957592
E39: 5.5508435e-05
E40: 0.00078821978
E41: 5.5508435e-05
... E57: 0.0010158044
D58: L | E58: 0.0011767788
E59: 0.0011601263 | F59: Q1
E60: 0.001171228 | F60: median
E61: 0.0012988974 | F61: Q3
E62: 0.00018872868
E63: 0.0014487702 | F63: median-Q1
E64: 0.0012822448 | F64: Q3-median
E65: 0.00052733013
E66: 0.00091033834 | F66: n
E67: 0.000815974
E68: 0.00064389785
E69: 0.00043851664
E70: 0.00030529639
E71: 0.00021093205
E72: 0.00037190651
E73: 0.00043296579
E74: 0.00042186411
E75: 0.00062169447
E76: 0.00034970314
E77: 0.00029419471
E78: 0.0014210159
... E143: 5.5508435e-05
D144: LL | E144: 0.00023868627
E145: 0.00066610122
E146: 0.00022203374
E147: 0.00061059279
E148: 0.0009824993
E149: 0.00035525398
E150: 0.0013599567
E151: 0.00067720291
E152: 5.5508435e-05
E153: 7.7711809e-05
E154: 0.00022203374
E155: 6.6610122e-05
E156: 0.00018872868
... E164: 0.00054398266
D166: Q1 | E166: =QUARTILE(E5:E164,1) -> 7.7711809e-05
D167: median | E167: =QUARTILE(E5:E164,2) -> 0.00023868627
D168: Q3 | E168: =QUARTILE(E5:E164,3) -> 0.00054398266
D170: median-Q1 | E170: =E167-E166 -> 0.00016097446
D171: Q3-median | E171: =E168-E167 -> 0.00030529639
D173: n | E173: =COUNTA(E5:E164) -> 160

Sheet N
B1: EC | D1: OC | F1: CC
B3: Grady et al. (1986) | D3: Hashizume and Sugiura (1995) | F3: Kerridge (1985)
B4: ppm 14N | D4: ppm 14N | F4: ppm 14N | H4: references | I4: Grady, M. M., Wright, I. P., Carr, L. P., & Pillinger, C. T. (1986). Compositional differences in enstatite chondrites based on carbon and nitrogen stable isotope measurements. Geochimica et Cosmochimica Acta, 50(12), 2799-2813.
B5: 531 | D5: 14N | F5: 14N
B6: 380 | D6: 0.63 | F6: 1476 | I6: Kung, C. C., & Clayton, R. N. (1978). Nitrogen abundances and isotopic compositions in stony meteorites. Earth and Planetary Science Letters, 38(2), 421-435.
B7: 310 | D7: 5.23 | F7: 1360 | I7: Hashizume, K., & Sugiura, N. (1995). Nitrogen isotopes in bulk ordinary chondrites. Geochimica et cosmochimica acta, 59(19), 4057-4069.
B8: 288 | D8: 0.73 | F8: 560 | I8: Kerridge, J. F. (1985). Carbon, hydrogen and nitrogen in carbonaceous chondrites: Abundances and isotopic compositions in bulk samples. Geochimica et Cosmochimica Acta, 49(8), 1707-1714.
B9: 147 | D9: 8.25 | F9: 850
B10: 152 | D10: 3.07 | F10: 1078
B11: 210 | D11: 1.86 | F11: 1030
B12: 133 | D12: 0.7 | F12: 760
B13: 252 | D13: 0.89 | F13: 845
B14: 200 | D14: 0.37 | F14: 830
B15: 193 | D15: 1.72 | F15: 367
B16: 973 | D16: 3.45 | F16: 345
B17: 481 | D17: 1.14 | F17: 990
B18: 220 | D18: 1.18 | F18: 1020
B19: 896 | D19: 1.23 | F19: 784
B20: 428 | D20: 25.2 | F20: 685
... B27: 490 | D27: 0.62 | F27: 1150
B28: 214
D29: Kung and Clayton (1978) | F29: Kung and Clayton (1978)
B30: Kung and Clayton (1978) | D30: ppm 14N | F30: ppm 14N
B31: ppm 14N | D31: 10 | F31: 693
B32: 277 | D32: 3 | F32: 764
B33: 102 | D33: 11 | F33: 149
B34: 344 | D34: 6 | F34: 828
B35: 544 | D35: 74 | F35: 950
B36: 499 | D36: 77 | F36: 173
B37: 785 | D37: 14 | F37: 167
B38: 847 | D38: 5 | F38: 24
B39: 310 | D39: 5 | F39: 545
B40: 320 | D40: 10 | F40: 580
B41: 167 | D41: 11
D42: 12 | F42: mol 14N/g
B43: mol 14N/g | D43: 7 | F43: =QUARTILE(F6:F40,1)/14.0067*0.000001 -> 3.9177679e-05
A44: Q1 | B44: =QUARTILE(B5:B41,1)/14.0067*0.000001 -> 1.5064219e-05 | D44: 10 | F44: =QUARTILE(F6:F40,2)/14.0067*0.000001 -> 5.2117915e-05
A45: median | B45: =QUARTILE(B5:B41,2)/14.0067*0.000001 -> 2.3024695e-05 | D45: 6 | F45: =QUARTILE(F6:F40,3)/14.0067*0.000001 -> 6.2470104e-05
A46: Q3 | B46: =QUARTILE(B5:B41,3)/14.0067*0.000001 -> 3.7339273e-05 | D46: 3
D47: 13 | F47: =F44-F43 -> 1.2940236e-05
A48: median-Q1 | B48: =B45-B44 -> 7.9604761e-06 | D48: 12 | F48: =F45-F44 -> 1.0352189e-05
A49: Q3-median | B49: =B46-B45 -> 1.4314578e-05
D50: mol 14N/g | F50: =COUNTA(F31:F40,F5:F27) -> 33
A51: n | B51: =COUNTA(B32:B41,B5:B28,#REF!) -> 35 | C51: Q1 | D51: =QUARTILE(D6:D48,1)/14.0067*0.000001 -> 8.3531453e-08
C52: median | D52: =QUARTILE(D6:D48,2)/14.0067*0.000001 -> 3.5697202e-07
C53: Q3 | D53: =QUARTILE(D6:D48,3)/14.0067*0.000001 -> 7.3179264e-07
C55: median-Q1 | D55: =D52-D51 -> 2.7344057e-07
C56: Q3-median | D56: =D53-D52 -> 3.7482062e-07
C58: n | D58: =COUNTA(D31:D48,D6:D27) -> 40

Sheet C
B1: EC | D1: OC | F1: CC
B3: Jarosewich (1990) | D3: Grady et al. (1986) | F3: Alexanderet al. (1990)
B4: wt% C | D4: mol C/g | F4: mol C/g | H4: references | I4: Jarosewich, E. (1990). Chemical analyses of meteorites: A compilation of stony and iron meteorite analyses. Meteoritics, 25(4), 323-337.
B5: 0.32 | D5: 0.001473686 | F5: 0.00029090727 | I5: Grady, M. M., Wright, I. P., Carr, L. P., & Pillinger, C. T. (1986). Compositional differences in enstatite chondrites based on carbon and nitrogen stable isotope measurements. Geochimica et Cosmochimica Acta, 50(12), 2799-2813.
B6: 0.42 | D6: 0.00022812992 | F6: 0.00022138593
B7: 0.46 | D7: 0.00030472828 | F7: 0.00012305694 | I7: Alexander C. M. O’D., Arden J. W., Ash R. D., and Pillinger C. T. (1990) Presolar components in the ordinary chondrites. Earth. Planet. Sci. Lett. 99, 220-229.
B8: 0.18 | D8: 0.00022812992 | F8: 0.00010107654 | I8: Kerridge, J. F. (1985). Carbon, hydrogen and nitrogen in carbonaceous chondrites: Abundances and isotopic compositions in bulk samples. Geochimica et Cosmochimica Acta, 49(8), 1707-1714.
D9: 0.00018233742 | F9: 0.00012022613 | I9: Piani, L., Yurimoto, H., & Remusat, L. (2018). A dual origin for water in carbonaceous asteroids revealed by CM chondrites. Nature Astronomy, 1.
B10: mol C/g | D10: 0.00061861507 | F10: 1.6318782e-05
A11: Q1 | B11: =QUARTILE(B5:B8,1)*0.01/12.0107 -> 0.00023728842 | D11: 0.00013654491 | F11: 1.290516e-05
A12: median | B12: =QUARTILE(B5:B8,2)*0.01/12.0107 -> 0.00030805865 | D12: 0.00026393133 | F12: 6.4942093e-06
A13: Q3 | B13: =QUARTILE(B5:B8,3)*0.01/12.0107 -> 0.0003580141 | D13: 0.00011323237 | F13: 1.1489755e-05
D14: 8.5756867e-05 | F14: 3.8299183e-06
A15: median-Q1 | B15: =B12-B11 -> 7.077023e-05 | D15: 0.00027142465 | F15: 6.6607275e-06
A16: Q3-median | B16: =B13-B12 -> 4.9955456e-05 | D16: 0.00076598366
D17: 0.00012488864 | F17: Kerridge (1985)
A18: n | B18: =COUNTA(B5:B8) -> 4 | D18: 0.00030389569 | F18: 0.0037133556
D19: 0.00016069005 | F19: 0.0033553415
D20: 0.00013154937 | F20: 0.0027475501
D21: 9.6580549e-05 | F21: 0.0030805865
D22: 0.00044793393 | F22: 0.003122216
D23: 0.00033553415 | F23: 0.0023312546
D24: 0.00036051188 | F24: 0.0022563214
D25: 0.00026559651 | F25: 0.0016318782
D26: 0.00025310765 | F26: 0.0020731514
D27: 0.00010573905 | F27: 0.0020148701
D28: 8.0761321e-05 | F28: 0.0015069896
D29: 5.9113957e-05 | F29: 0.0016901596
D30: 3.580141e-05 | F30: 0.0019565887
... D32: 8.2426503e-05 | F32: 0.0016651819
F33: 0.0070437194
D34: Jarosewich (1990) | F34: 0.0048540052
C35: H | D35: 0.00031638456 | F35: 0.0019149592
D36: 0.00018317001 | F36: 0.0015402932
D37: 9.1585003e-05 | F37: 0.0029806756
D38: 0.00079096139 | F38: 0.0013321455
D39: 0.00016651819 | F39: 0.0023728842
D40: 5.8281366e-05 | F40: 0.0021647364
D41: 0.00014154046 | F41: 0.0014154046
D42: 3.3303638e-05 | F42: 0.0017900705
D43: 8.3259094e-05 | F43: 0.0020814773
D44: 3.3303638e-05 | F44: 0.0012988419
D45: 0.00022479955 | F45: 0.001748441
D46: 9.9910913e-05 | F46: 0.0015819228
D47: 0.00012488864 | F47: 0.0018650037
... D53: 2.4977728e-05 | F53: 0.0016485301
D54: 2.4977728e-05
D55: 9.9910913e-05 | F55: Jarosewich (1990)
D56: 7.4933185e-05 | F56: 0.0023312546
D57: 3.3303638e-05 | F57: 0.0012155828
D58: 1.6651819e-05 | F58: 0.0011573014
D59: 4.1629547e-05 | F59: 0.0014820119
D60: 1.6651819e-05 | F60: 0.0015402932
D61: 8.3259094e-05 | F61: 0.0016901596
D62: 6.6607275e-05 | F62: 0.0022396696
D63: 0.00010823682 | F63: 0.0010157609
D64: 4.9955456e-05 | F64: 0.0010157609
D65: 7.4933185e-05 | F65: 0.0011239978
D66: 9.1585003e-05
D67: 0.00028308092 | F67: Piani et al. (2018)
D68: 8.3259094e-06 | F68: 0.001656856
D69: 9.9910913e-05 | F69: 0.0020398478
D70: 3.3303638e-05 | F70: 0.0020648255
D71: 0.00018317001 | F71: 0.0019399369
D72: 9.1585003e-05 | F72: 0.0017317892
D73: 5.8281366e-05 | F73: 0.0013654491
D74: 0.00011656273
D75: 4.1629547e-05 | E75: Q1 | F75: =QUARTILE(F5:F73,1) -> 0.0012572123
D76: 7.4933185e-05 | E76: median | F76: =QUARTILE(F5:F73,2) -> 0.0016651819
D77: 8.3259094e-06 | E77: Q3 | F77: =QUARTILE(F5:F73,3) -> 0.0021231069
D78: 8.3259094e-05
D79: 0.00016651819 | E79: median-Q1 | F79: =F76-F75 -> 0.00040796956
D80: 3.3303638e-05 | E80: Q3-median | F80: =F77-F76 -> 0.00045792502
D81: 4.1629547e-05
D82: 4.9955456e-05 | E82: n | F82: =COUNTA(F68:F73,F56:F65,F18:F53,F5:F15) -> 63
D83: 4.9955456e-05
D84: 1.6651819e-05
D85: 1.6651819e-05
D86: 7.4933185e-05
C87: L | D87: 0.00080761321
D88: 0.00081593912
D89: 0.00082426503
D90: 0.00089919821
D91: 3.3303638e-05
D92: 0.00089919821
D93: 0.00089087231
D94: 0.00021647364
D95: 0.00029140683
D96: 9.9910913e-05
D97: 0.0002664291
D98: 0.00038299183
D99: 0.00010823682
... D168: 1.6651819e-05
C169: LL | D169: 1.6651819e-05
D170: 0.00013321455
D171: 1.6651819e-05
D172: 0.0004412732
D173: 0.00024145137
D174: 0.00023312546
D175: 0.00050788047
...
