Workbook

Sheet Ar
B1: EC | D1: OC | F1: CC
B3: Patzer and Schultz (2002) | D3: Schelhaas and Begemann (1990) | F3: Mazor et al. (1970)
B4: mol 36Ar/g | D4: mol 36Ar/g | F4: mol 36Ar/g | H4: references | I4: Patzer, A., & Schultz, L. me(2002). Noble gases in enstatite chondrites II: The trapped component. Meteoritics & Planetary Science, 37(4), 601-612.
B5: 1.6819845e-11 | D5: 2.6992059e-11 | F5: 2.2220104e-11 | I5: Okazaki, R., Takaoka, N., Nagao, K., & Nakamura, T. (2010). Noble gases in enstatite chondrites released by stepped crushing and heating. Meteoritics & Planetary Science, 45(3), 339-360.
B6: 5.3091818e-13 | D6: 1.1109128e-11 | F6: 4.4484828e-11 | I6: Crabb, J., & Anders, E. (1982). On the siting of noble gases in E-chondrites. Geochimica et Cosmochimica Acta, 46(11), 2351-2361.
B7: 2.1905952e-11 | D7: 1.1912198e-11 | F7: 3.6676558e-11 | I7: Schelhaas, N., Ott, U., & Begemann, F. (1990). Trapped noble gases in unequilibrated ordinary chondrites. Geochimica et Cosmochimica Acta, 54(10), 2869-2882.
B8: 3.6718123e-11 | D8: 3.8948871e-11 | F8: 3.9264442e-11 | I8: Heymann, D., & Mazor, E. (1968). Noble gases in unequilibrated ordinary chondrites. Geochimica et Cosmochimica Acta, 32(1), 1-19.
B9: 9.5476042e-12 | D9: 4.2205764e-11 | F9: 4.1049189e-11 | I9: Hashizume, K., & Sugiura, N. (1995). Nitrogen isotopes in bulk ordinary chondrites. Geochimica et cosmochimica acta, 59(19), 4057-4069.
B10: 1.623985e-12 | D10: 1.0216829e-11 | F10: 3.7925881e-11 | I10: Mazor, E., Heymann, D., & Anders, E. (1970). Noble gases in carbonaceous chondrites. Geochimica et Cosmochimica Acta, 34(7), 781-824.
B11: 4.5061123e-12 | D11: 9.815294e-12 | F11: 3.3464013e-11 | I11: Nakamura, T. (2006). Yamato 793321 CM chondrite: Dehydrated regolith material of a hydrous asteroid. Earth and Planetary Science Letters, 242(1-2), 26-38.
B12: 6.3353261e-12 | D12: 5.1753368e-12 | F12: 3.4802573e-11 | I12: Bekaert, D. V., Marrocchi, Y., Meshik, A., Remusat, L., & Marty, B. (2019). Primordial heavy n
B13: 5.0861069e-12 | F13: 3.4802573e-11 | I13: Haack, H., Grau, T., Bischoff, A., Horstmann, M., Wasson, J., Sørensen, A., ... & Greenwood, R. C. (2012). Maribo—A new CM fall from Denmark. Meteoritics & Planetary Science, 47(1), 30-50.
B14: 1.4544481e-11 | D14: Heymann and Mazor (1968) | F14: 3.7479694e-11 | I14: Okazaki, R., & Nagao, K. (2017). Primordial and cosmogenic noble gases in the Sutter's Mill CM chondrite. Meteoritics & Planetary Science, 52(4), 669-689.
B15: 1.7176765e-10 | D15: mol 36Ar/g | F15: 1.3385605e-10
B16: 1.570447e-12 | D16: 2.6322834e-12 | F16: 4.2967792e-11
B17: 4.0242705e-11 | D17: 4.5061123e-12 | F17: 3.5694947e-11
B18: 2.3512091e-11 | D18: 3.7476577e-12 | F18: 1.6865862e-11
B19: 3.7119657e-11 | D19: 1.650754e-11 | F19: 1.8739847e-11
B20: 2.1325957e-12 | D20: 2.8553583e-11 | F20: 2.0747688e-11
B21: 5.5768716e-11 | D21: 1.7399839e-11 | F21: 2.0524595e-11
B22: 2.9044347e-12 | D22: 2.6768984e-11 | F22: 7.8528883e-12
B23: 1.677523e-11 | D23: 6.9599358e-12 | F23: 5.2650047e-12
B24: 9.4137593e-13 | D24: 1.1421433e-11 | F24: 1.6687388e-11
B25: 2.6545909e-11 | D25: 4.863032e-12 | F25: 1.7401287e-11
B26: 1.0306059e-12 | D26: 1.7399839e-12 | F26: 2.4584895e-11
B27: 2.6412064e-12 | D27: 2.1861337e-12 | F27: 1.4054885e-11
... B32: 5.7553315e-11 | D32: 1.561524e-12 | F32: 1.490264e-11
B33: 1.3875257e-11 | D33: other sources | F33: 1.9186034e-11
B34: 2.1325957e-11 | D34: 2.3199786e-12 | F34: 1.1600858e-11
B35: 2.7170518e-12 | D35: 1.7845989e-12 | F35: 2.4004852e-11
B36: 2.6412064e-12 | D36: 1.0172214e-11 | F36: 2.10154e-11
B37: 1.1466048e-11 | D37: 2.7661283e-12 | F37: 2.5878837e-11
B38: 3.4308914e-12 | D38: 2.4538235e-12 | F38: 1.3028656e-11
B39: 3.3505845e-12 | D39: 1.561524e-12 | F39: 3.2125452e-11
B40: 1.0439904e-11 | D40: 5.4876417e-12 | F40: 3.4356386e-11
B41: 3.4041224e-12 | D41: 2.3289016e-11 | F41: 1.798133e-11
B42: 9.3691443e-11 | D42: 4.5061123e-12 | F42: 2.4540276e-11
B43: 4.7291871e-11 | D43: 5.8891764e-12 | F43: 2.0970781e-11
B44: 4.2562684e-12 | D44: 1.3384492e-12
B45: 1.695369e-11 | D45: 2.6768984e-12 | F45: Nakamura (2006)
...

Sheet Kr
B1: EC | D1: OC | F1: CC
B3: Patzer and Schultz (2002) | D3: Schelhaas and Begemann (1990) | F3: Mazor et al. (1970)
B4: mol 84Kr/g | D4: mol 84Kr/g | F4: mol 84Kr/g | H4: references | I4: Patzer, A., & Schultz, L. me(2002). Noble gases in enstatite chondrites II: The trapped component. Meteoritics & Planetary Science, 37(4), 601-612.
B5: 6.558401e-14 | D5: 2.0567502e-13 | F5: 4.1049189e-13 | I5: Okazaki, R., Takaoka, N., Nagao, K., & Nakamura, T. (2010). Noble gases in enstatite chondrites released by stepped crushing and heating. Meteoritics & Planetary Science, 45(3), 339-360.
B6: 9.859909e-15 | D6: 7.5399304e-14 | F6: 4.4618684e-13 | I6: Crabb, J., & Anders, E. (1982). On the siting of noble gases in E-chondrites. Geochimica et Cosmochimica Acta, 46(11), 2351-2361.
B7: 1.1867583e-13 | D7: 7.7183903e-14 | F7: 4.4618684e-13 | I7: Schelhaas, N., Ott, U., & Begemann, F. (1990). Trapped noble gases in unequilibrated ordinary chondrites. Geochimica et Cosmochimica Acta, 54(10), 2869-2882.
B8: 1.2358347e-13 | D8: 2.0389043e-13 | F8: 4.238775e-13 | I8: Heymann, D., & Mazor, E. (1968). Noble gases in unequilibrated ordinary chondrites. Geochimica et Cosmochimica Acta, 32(1), 1-19.
B9: 1.2626037e-13 | D9: 2.0032123e-13 | F9: 3.5694947e-13 | I9: Hashizume, K., & Sugiura, N. (1995). Nitrogen isotopes in bulk ordinary chondrites. Geochimica et cosmochimica acta, 59(19), 4057-4069.
B10: 1.2492192e-14 | D10: 7.8968502e-14 | F10: 2.5878837e-13 | I10: Mazor, E., Heymann, D., & Anders, E. (1970). Noble gases in carbonaceous chondrites. Geochimica et Cosmochimica Acta, 34(7), 781-824.
B11: =0.00000000272*0.000044032 -> 1.1976704e-13 | D11: 5.5768716e-14 | F11: 3.7033507e-13 | I11: Nakamura, T. (2006). Yamato 793321 CM chondrite: Dehydrated regolith material of a hydrous asteroid. Earth and Planetary Science Letters, 242(1-2), 26-38.
B12: 4.046578e-14 | D12: 5.3537967e-14 | F12: 4.9080552e-13 | I12: Bekaert, D. V., Marrocchi, Y., Meshik, A., Remusat, L., & Marty, B. (2019). Primordial heavy n
B13: 1.4053716e-13 | F13: 1.1154671e-12 | I13: Haack, H., Grau, T., Bischoff, A., Horstmann, M., Wasson, J., Sørensen, A., ... & Greenwood, R. C. (2012). Maribo—A new CM fall from Denmark. Meteoritics & Planetary Science, 47(1), 30-50.
B14: 1.1466048e-12 | D14: Heymann and Mazor (1968) | F14: 6.2466157e-13 | I14: Okazaki, R., & Nagao, K. (2017). Primordial and cosmogenic noble gases in the Sutter's Mill CM chondrite. Meteoritics & Planetary Science, 52(4), 669-689.
B15: 4.863032e-13 | D15: mol 84Kr/g | F15: 4.4618684e-13 | I15: Srinivasan, B., Lewis, R. S., & Anders, E. (1978). Noble gases in the Allende and Abee meteorites and a gas-rich mineral fraction: investigation by stepwise heating. Geochimica et Cosmochimica Acta, 42(2), 183-198.
B16: 8.8783796e-14 | D16: 5.7999465e-14 | F16: 2.0970781e-13
B17: 1.3027572e-13 | D17: 7.1383956e-14 | F17: 2.4986463e-13
B18: 7.4060855e-14 | D18: 1.695369e-13 | F18: 2.2755529e-13
B19: 9.4583742e-14 | D19: 1.8292139e-13 | F19: 2.8109771e-13
B20: 2.7438208e-14 | D20: 8.4768448e-14 | F20: 8.4775499e-14
B21: 2.8107433e-13 | D21: 9.3691443e-14 | F21: 1.2493231e-13
B22: 1.1912198e-13 | D22: 5.7999465e-14 | F22: 2.4540276e-13
B23: 6.4691711e-14 | D23: 8.4768448e-14 | F23: 2.677121e-13
B24: 9.0568395e-15 | D24: 5.7999465e-14 | F24: 3.0340705e-13
B25: 7.0491657e-14 | D25: 1.3830642e-13 | F25: 1.1154671e-13
B26: 7.9414652e-15 | D26: 7.5845454e-14 | F26: 1.3385605e-13
B27: 5.3091818e-14 | D27: 5.3537967e-14 | F27: 5.2650047e-13
B28: 5.1753368e-14 | D28: 2.6768984e-14 | F28: 4.1049189e-13
B29: 4.4570358e-14 | D29: other sources | F29: 1.5170352e-13
B30: 1.3786027e-13 | D30: 1.3384492e-13 | F30: 9.8161104e-14
B31: 2.5742839e-14 | D31: 4.4614973e-14 | F31: 7.049752e-13
B32: 2.3913625e-13 | F32: 1.829366e-13
B33: 5.0414919e-14 | D33: Alaerts et al. (1979) | F33: 6.5589465e-13
B34: 7.8968502e-14 | D34: mol 84Kr/g | F34: 3.5694947e-13
B35: 9.7260641e-14 | D35: 1.1733738e-13 | F35: 4.2833936e-13
B36: 6.6922459e-14 | D36: 4.4168823e-14 | F36: 2.3201716e-13
B37: 6.1122513e-14 | D37: 2.529669e-14 | F37: 4.372631e-13
B38: 5.5322566e-14 | D38: 3.9261176e-15 | F38: 5.6665728e-13
B39: 5.7999465e-14 | D39: 3.1765861e-15 | F39: 2.2309342e-13
B40: 7.4953154e-14 | F40: 3.6587321e-13
B41: 2.4716695e-14 | C41: Q1 | D41: =QUARTILE(D5:D39,1) -> 5.3537967e-14 | F41: 3.3464013e-13
...

Sheet Xe
B1: EC | D1: OC | F1: CC
B3: Patzer and Schultz (2002) | D3: Schelhaas and Begemann (1990) | F3: Mazor et al. (1970)
B4: mol 132Xe/g | D4: mol 132Xe/g | F4: mol 132Xe/g | H4: references | I4: Patzer, A., & Schultz, L. me(2002). Noble gases in enstatite chondrites II: The trapped component. Meteoritics & Planetary Science, 37(4), 601-612.
B5: 5.1307219e-14 | D5: 1.6462925e-13 | F5: 3.1679265e-13 | I5: Okazaki, R., Takaoka, N., Nagao, K., & Nakamura, T. (2010). Noble gases in enstatite chondrites released by stepped crushing and heating. Meteoritics & Planetary Science, 45(3), 339-360.
B6: 6.2460962e-15 | D6: 5.2199518e-14 | F6: 4.1941563e-13 | I6: Crabb, J., & Anders, E. (1982). On the siting of noble gases in E-chondrites. Geochimica et Cosmochimica Acta, 46(11), 2351-2361.
B7: 2.7705898e-13 | D7: 6.2460962e-14 | F7: 2.0078408e-13 | I7: Schelhaas, N., Ott, U., & Begemann, F. (1990). Trapped noble gases in unequilibrated ordinary chondrites. Geochimica et Cosmochimica Acta, 54(10), 2869-2882.
B8: 3.0025877e-13 | D8: 1.623985e-13 | F8: 2.2309342e-13 | I8: Heymann, D., & Mazor, E. (1968). Noble gases in unequilibrated ordinary chondrites. Geochimica et Cosmochimica Acta, 32(1), 1-19.
B9: 2.8955117e-13 | D9: 1.704292e-13 | F9: 3.39102e-13 | I9: Hashizume, K., & Sugiura, N. (1995). Nitrogen isotopes in bulk ordinary chondrites. Geochimica et cosmochimica acta, 59(19), 4057-4069.
B10: 7.4953154e-15 | D10: 5.2645668e-14 | F10: 7.5851762e-13 | I10: Mazor, E., Heymann, D., & Anders, E. (1970). Noble gases in carbonaceous chondrites. Geochimica et Cosmochimica Acta, 34(7), 781-824.
B11: 1.188864e-14 | D11: 7.8076202e-14 | F11: 4.4618684e-13 | I11: Nakamura, T. (2006). Yamato 793321 CM chondrite: Dehydrated regolith material of a hydrous asteroid. Earth and Planetary Science Letters, 242(1-2), 26-38.
B12: 2.6322834e-14 | F12: 3.1233079e-13 | I12: Bekaert, D. V., Marrocchi, Y., Meshik, A., Remusat, L., & Marty, B. (2019). Primordial heavy n
B13: 1.677523e-13 | D13: Heymann and Mazor (1968) | F13: 1.5170352e-13 | I13: Haack, H., Grau, T., Bischoff, A., Horstmann, M., Wasson, J., Sørensen, A., ... & Greenwood, R. C. (2012). Maribo—A new CM fall from Denmark. Meteoritics & Planetary Science, 47(1), 30-50.
B14: 1.5436781e-12 | D14: mol 132Xe/g | F14: 2.6325023e-13 | I14: Okazaki, R., & Nagao, K. (2017). Primordial and cosmogenic noble gases in the Sutter's Mill CM chondrite. Meteoritics & Planetary Science, 52(4), 669-689.
B15: 1.8425984e-13 | D15: 5.7999465e-14 | F15: 9.8161104e-14 | I15: Srinivasan, B., Lewis, R. S., & Anders, E. (1978). Noble gases in the Allende and Abee meteorites and a gas-rich mineral fraction: investigation by stepwise heating. Geochimica et Cosmochimica Acta, 42(2), 183-198.
B16: 1.7890604e-13 | D16: 4.907647e-14 | F16: 7.5851762e-14
B17: 4.863032e-14 | D17: 1.5169091e-13 | F17: 1.9186034e-13
B18: 8.3876149e-14 | D18: 1.4722941e-13 | F18: 2.4540276e-13
B19: 2.9624342e-14 | D19: 6.6922459e-14 | F19: 1.0262297e-13
B20: 2.2173641e-14 | D20: 7.1383956e-14 | F20: 3.6587321e-13
B21: 1.3652182e-13 | D21: 6.2460962e-14 | F21: 4.3280123e-13
B22: 1.6998305e-13 | D22: 6.2460962e-14 | F22: 2.4094089e-13
B23: 2.3422861e-14 | D23: 6.6922459e-14 | F23: 3.3464013e-13
B24: 1.0975283e-14 | D24: 1.0707593e-13 | F24: 1.7847473e-13
B25: 4.5061123e-14 | D25: 5.7999465e-14 | F25: 2.3201716e-13
B26: 6.558401e-15 | D26: 3.5691978e-14
B27: 4.2161149e-14 | D27: 4.4614973e-14 | F27: Nakamura (2006)
B28: 6.4245561e-14 | D28: other sources | F28: 5.72416e-13
B29: 4.952262e-14 | D29: 9.3691443e-14
B30: 4.907647e-14 | D30: 4.0153476e-14 | F30: Bekaert et al. (2019)
B31: 1.4232176e-14 | F31: 8.278016e-13
B32: 8.0753101e-14 | D32: Alaerts et al. (1979) | F32: 7.133184e-13
B33: 2.5965914e-14 | D33: mol 132Xe/g | F33: 7.177216e-13
B34: 9.9937539e-14 | D34: 8.6553047e-14 | F34: 7.529472e-13
B35: 6.3353261e-14 | D35: 3.5825823e-14
B36: 6.8260908e-14 | D36: 2.1682877e-14 | F36: Haack et al. (2012)
B37: 3.5558133e-14 | D37: 2.431516e-15 | F37: 4.4384256e-13
B38: 5.7107165e-14 | D38: 1.2179888e-15 | F38: 4.469248e-13
B39: 6.1122513e-14
B40: 2.6099759e-14 | C40: Q1 | D40: =QUARTILE(D5:D38,1) -> 4.6845721e-14 | F40: Okazaki and Nagao (2017)
B41: 1.5035246e-14 | C41: median | D41: =QUARTILE(D5:D38,2) -> 6.2460962e-14 | F41: 4.447232e-13
...

Sheet Kr to Xe
B1: EC | G1: CC
B3: Patzer and Schultz (2002) | G3: Mazor et al. (1970)
B4: mol 84Kr/g | C4: mol 132Xe/g | D4: 84Kr132/Xe | G4: mol 84Kr/g | H4: mol 132Xe/g | I4: 84Kr132/Xe | K4: references | L4: Patzer, A., & Schultz, L. me(2002). Noble gases in enstatite chondrites II: The trapped component. Meteoritics & Planetary Science, 37(4), 601-612.
B5: 6.558401e-14 | C5: 5.1307219e-14 | D5: =B5/C5 -> 1.2782609 | G5: 4.1049189e-13 | H5: 3.1679265e-13 | I5: 1.2957746 | L5: Okazaki, R., Takaoka, N., Nagao, K., & Nakamura, T. (2010). Noble gases in enstatite chondrites released by stepped crushing and heating. Meteoritics & Planetary Science, 45(3), 339-360.
B6: 9.859909e-15 | C6: 6.2460962e-15 | D6: =B6/C6 -> 1.5785714 | G6: 4.4618684e-13 | H6: 4.1941563e-13 | I6: 1.0638298 | L6: Crabb, J., & Anders, E. (1982). On the siting of noble gases in E-chondrites. Geochimica et Cosmochimica Acta, 46(11), 2351-2361.
B7: 1.1867583e-13 | C7: 2.7705898e-13 | D7: =B7/C7 -> 0.42834138 | G7: 4.4618684e-13 | H7: 2.0078408e-13 | I7: 2.2222222 | L7: Mazor, E., Heymann, D., & Anders, E. (1970). Noble gases in carbonaceous chondrites. Geochimica et Cosmochimica Acta, 34(7), 781-824.
B8: 1.2358347e-13 | C8: 3.0025877e-13 | D8: =B8/C8 -> 0.4115899 | G8: 3.5694947e-13 | H8: 2.2309342e-13 | I8: 1.6 | L8: Nakamura, T. (2006). Yamato 793321 CM chondrite: Dehydrated regolith material of a hydrous asteroid. Earth and Planetary Science Letters, 242(1-2), 26-38.
B9: 1.2626037e-13 | C9: 2.8955117e-13 | D9: =B9/C9 -> 0.43605547 | G9: 3.7033507e-13 | H9: 3.39102e-13 | I9: 1.0921053 | L9: Bekaert, D. V., Marrocchi, Y., Meshik, A., Remusat, L., & Marty, B. (2019). Primordial heavy n
B10: 1.2492192e-14 | C10: 7.4953154e-15 | D10: =B10/C10 -> 1.6666667 | G10: 1.1154671e-12 | H10: 7.5851762e-13 | I10: 1.4705882 | L10: Haack, H., Grau, T., Bischoff, A., Horstmann, M., Wasson, J., Sørensen, A., ... & Greenwood, R. C. (2012). Maribo—A new CM fall from Denmark. Meteoritics & Planetary Science, 47(1), 30-50.
B11: 4.046578e-14 | C11: 2.6322834e-14 | D11: =B11/C11 -> 1.5372881 | G11: 6.2466157e-13 | H11: 4.4618684e-13 | I11: 1.4 | L11: Okazaki, R., & Nagao, K. (2017). Primordial and cosmogenic noble gases in the Sutter's Mill CM chondrite. Meteoritics & Planetary Science, 52(4), 669-689.
B12: 1.4053716e-13 | C12: 1.677523e-13 | D12: =B12/C12 -> 0.83776596 | G12: 4.4618684e-13 | H12: 3.1233079e-13 | I12: 1.4285714 | L12: Srinivasan, B., Lewis, R. S., & Anders, E. (1978). Noble gases in the Allende and Abee meteorites and a gas-rich mineral fraction: investigation by stepwise heating. Geochimica et Cosmochimica Acta, 42(2), 183-198.
B13: 1.1466048e-12 | C13: 1.5436781e-12 | D13: =B13/C13 -> 0.74277457 | G13: 2.4986463e-13 | H13: 1.5170352e-13 | I13: 1.6470588
B14: 4.863032e-13 | C14: 1.8425984e-13 | D14: =B14/C14 -> 2.6392252 | G14: 2.8109771e-13 | H14: 2.6325023e-13 | I14: 1.0677966
B15: 8.8783796e-14 | C15: 1.7890604e-13 | D15: =B15/C15 -> 0.49625935 | G15: 8.4775499e-14 | H15: 9.8161104e-14 | I15: 0.86363636
B16: 1.3027572e-13 | C16: 4.863032e-14 | D16: =B16/C16 -> 2.6788991 | G16: 1.2493231e-13 | H16: 7.5851762e-14 | I16: 1.6470588
B17: 7.4060855e-14 | C17: 8.3876149e-14 | D17: =B17/C17 -> 0.88297872 | G17: 2.677121e-13 | H17: 1.9186034e-13 | I17: 1.3953488
B18: 9.4583742e-14 | C18: 2.9624342e-14 | D18: =B18/C18 -> 3.1927711 | G18: 3.0340705e-13 | H18: 2.4540276e-13 | I18: 1.2363636
B19: 2.7438208e-14 | C19: 2.2173641e-14 | D19: =B19/C19 -> 1.2374245 | G19: 1.3385605e-13 | H19: 1.0262297e-13 | I19: 1.3043478
B20: 2.8107433e-13 | C20: 1.3652182e-13 | D20: =B20/C20 -> 2.0588235 | G20: 5.2650047e-13 | H20: 3.6587321e-13 | I20: 1.4390244
B21: 1.1912198e-13 | C21: 1.6998305e-13 | D21: =B21/C21 -> 0.7007874 | G21: 4.1049189e-13 | H21: 4.3280123e-13 | I21: 0.94845361
B22: 6.4691711e-14 | C22: 2.3422861e-14 | D22: =B22/C22 -> 2.7619048 | G22: 3.5694947e-13 | H22: 2.4094089e-13 | I22: 1.4814815
B23: 9.0568395e-15 | C23: 1.0975283e-14 | D23: =B23/C23 -> 0.82520325 | G23: 4.2833936e-13 | H23: 3.3464013e-13 | I23: 1.28
B24: 7.0491657e-14 | C24: 4.5061123e-14 | D24: =B24/C24 -> 1.5643564 | G24: 2.3201716e-13 | H24: 1.7847473e-13 | I24: 1.3
B25: 7.9414652e-15 | C25: 6.558401e-15 | D25: =B25/C25 -> 1.2108844 | G25: 3.3464013e-13 | H25: 2.3201716e-13 | I25: 1.4423077
B26: 5.3091818e-14 | C26: 4.2161149e-14 | D26: =B26/C26 -> 1.2592593
B27: 5.1753368e-14 | C27: 6.4245561e-14 | D27: =B27/C27 -> 0.80555556 | I27: Nakamura (2006)
B28: 4.4570358e-14 | C28: 4.952262e-14 | D28: =B28/C28 -> 0.9 | I28: =Kr!F44/Xe!F28 -> 0.88461538
B29: 1.3786027e-13 | C29: 4.907647e-14 | D29: =B29/C29 -> 2.8090909
B30: 2.5742839e-14 | C30: 1.4232176e-14 | D30: =B30/C30 -> 1.8087774 | I30: Bekaert et al. (2019)
B31: 2.3913625e-13 | C31: 8.0753101e-14 | D31: =B31/C31 -> 2.961326 | I31: 0.734
B32: 5.0414919e-14 | C32: 2.5965914e-14 | D32: =B32/C32 -> 1.9415808 | I32: 0.784
B33: 7.8968502e-14 | C33: 9.9937539e-14 | D33: =B33/C33 -> 0.79017857 | I33: 0.847
B34: 9.7260641e-14 | C34: 6.3353261e-14 | D34: =B34/C34 -> 1.5352113 | I34: 0.836
B35: 6.6922459e-14 | C35: 6.8260908e-14 | D35: =B35/C35 -> 0.98039216
B36: 6.1122513e-14 | C36: 3.5558133e-14 | D36: =B36/C36 -> 1.718946 | I36: Haack et al. (2012)
B37: 5.5322566e-14 | C37: 5.7107165e-14 | D37: =B37/C37 -> 0.96875 | I37: =Kr!F53/Xe!F37 -> 0.83730159
B38: 5.7999465e-14 | C38: 6.1122513e-14 | D38: =B38/C38 -> 0.94890511 | I38: =Kr!F54/Xe!F38 -> 0.83349754
B39: 7.4953154e-14 | C39: 2.6099759e-14 | D39: =B39/C39 -> 2.8717949
B40: 2.4716695e-14 | C40: 1.5035246e-14 | D40: =B40/C40 -> 1.6439169 | I40: Okazaki and Nagao (2017)
B41: 2.4538235e-13 | C41: 1.0082984e-13 | D41: =B41/C41 -> 2.4336283 | I41: =Kr!F57/Xe!F41 -> 0.72376238
...

Sheet H2O
C1: EC | E1: OC | G1: CC
C3: mol H2O/g | E3: Jarosewich (1990) | G3: Jarosewich (1990)
A4: Javoy (1995) | B4: 0.05wt% | C4: =0.05*0.01/18.01528 -> 2.7754218e-05 | E4: mol H2O/g | G4: 0.005994911 | I4: references | J4: Javoy, M. (1995). The integral enstatite chondrite model of the Earth. Geophysical Research Letters, 22(16), 2219-2222.
A5: Jarosewich (1990) | B5: 0.5wt% | C5: =0.5*0.01/18.01528 -> 0.00027754218 | D5: H | E5: 0.000638347 | G5: 0.0066887664 | J5: Jarosewich, E. (1990). Chemical analyses of meteorites: A compilation of stony and iron meteorite analyses. Meteoritics, 25(4), 323-337.
E6: 0.0014043634 | G6: 0.0061114787 | J6: Piani, L., Yurimoto, H., & Remusat, L. (2018). A dual origin for water in carbonaceous asteroids revealed by CM chondrites. Nature Astronomy, 1.
E7: 0.00056063519 | G7: 0.0047237678
E8: 0.0011268212 | G8: 0.0049680049
E9: 0.0016541514 | G9: 0.0055952503
E10: 0.00011656771 | G10: 0.0064445293
E11: 0.0014987277 | G11: 0.0057062671
E12: 8.3262653e-05 | G12: 0.0036302517
E13: 0.00024978796
E14: 0.00021093205 | G14: Piani et al. (2018)
E15: 0.0011934314 | G15: 0.0071605881
E16: 0.00012211856 | G16: 0.0067720291
E17: 0.00047737254 | G17: 0.0056618604
E18: 0.00039966073 | G18: 0.0057728772
E19: 0.0018872868 | G19: 0.0053288098
E20: 5.5508435e-05 | G20: 0.0026644049
E21: 5.5508435e-05
E22: 0.00016652531 | G22: =QUARTILE(G4:G20,1) -> 0.0051484074
E23: 0.0017485157 | G23: =QUARTILE(G4:G20,2) -> 0.0057062671
E24: 0.0013155499 | G24: =QUARTILE(G4:G20,3) -> 0.006278004
E25: 0.0005106776
E26: 0.0003830082 | G26: =G23-G22 -> 0.00055785977
E27: 0.0001276694 | G27: =G24-G23 -> 0.00057173688
E28: 9.9915183e-05
E29: 5.5508435e-05 | G29: =COUNTA(G15:G20,G4:G12,#REF!) -> 16
E30: 5.5508435e-05
E31: 0.00024423711
E32: 0.00084927906
E33: 0.0010768636
E34: 0.00062169447
E35: 0.00033860145
E36: 5.5508435e-05
E37: 0.00028309302
E38: 0.00049957592
E39: 5.5508435e-05
E40: 0.00078821978
E41: 5.5508435e-05
...

Sheet N
B1: EC | D1: OC | F1: CC
B3: Grady et al. (1986) | D3: Hashizume and Sugiura (1995) | F3: Kerridge (1985)
B4: ppm 14N | D4: ppm 14N | F4: ppm 14N | H4: references | I4: Grady, M. M., Wright, I. P., Carr, L. P., & Pillinger, C. T. (1986). Compositional differences in enstatite chondrites based on carbon and nitrogen stable isotope measurements. Geochimica et Cosmochimica Acta, 50(12), 2799-2813.
B5: 531 | D5: 14N | F5: 14N
B6: 380 | D6: 0.63 | F6: 1476 | I6: Kung, C. C., & Clayton, R. N. (1978). Nitrogen abundances and isotopic compositions in stony meteorites. Earth and Planetary Science Letters, 38(2), 421-435.
B7: 310 | D7: 5.23 | F7: 1360 | I7: Hashizume, K., & Sugiura, N. (1995). Nitrogen isotopes in bulk ordinary chondrites. Geochimica et cosmochimica acta, 59(19), 4057-4069.
B8: 288 | D8: 0.73 | F8: 560 | I8: Kerridge, J. F. (1985). Carbon, hydrogen and nitrogen in carbonaceous chondrites: Abundances and isotopic compositions in bulk samples. Geochimica et Cosmochimica Acta, 49(8), 1707-1714.
B9: 147 | D9: 8.25 | F9: 850
B10: 152 | D10: 3.07 | F10: 1078
B11: 210 | D11: 1.86 | F11: 1030
B12: 133 | D12: 0.7 | F12: 760
B13: 252 | D13: 0.89 | F13: 845
B14: 200 | D14: 0.37 | F14: 830
B15: 193 | D15: 1.72 | F15: 367
B16: 973 | D16: 3.45 | F16: 345
B17: 481 | D17: 1.14 | F17: 990
B18: 220 | D18: 1.18 | F18: 1020
B19: 896 | D19: 1.23 | F19: 784
B20: 428 | D20: 25.2 | F20: 685
... B27: 490 | D27: 0.62 | F27: 1150
B28: 214
D29: Kung and Clayton (1978) | F29: Kung and Clayton (1978)
B30: Kung and Clayton (1978) | D30: ppm 14N | F30: ppm 14N
B31: ppm 14N | D31: 10 | F31: 693
B32: 277 | D32: 3 | F32: 764
B33: 102 | D33: 11 | F33: 149
B34: 344 | D34: 6 | F34: 828
B35: 544 | D35: 74 | F35: 950
B36: 499 | D36: 77 | F36: 173
B37: 785 | D37: 14 | F37: 167
B38: 847 | D38: 5 | F38: 24
B39: 310 | D39: 5 | F39: 545
B40: 320 | D40: 10 | F40: 580
B41: 167 | D41: 11
D42: 12 | F42: mol 14N/g
B43: mol 14N/g | D43: 7 | F43: =QUARTILE(F6:F40,1)/14.0067*0.000001 -> 3.9177679e-05
A44: Q1 | B44: =QUARTILE(B5:B41,1)/14.0067*0.000001 -> 1.5064219e-05 | D44: 10 | F44: =QUARTILE(F6:F40,2)/14.0067*0.000001 -> 5.2117915e-05
A45: median | B45: =QUARTILE(B5:B41,2)/14.0067*0.000001 -> 2.3024695e-05 | D45: 6 | F45: =QUARTILE(F6:F40,3)/14.0067*0.000001 -> 6.2470104e-05
A46: Q3 | B46: =QUARTILE(B5:B41,3)/14.0067*0.000001 -> 3.7339273e-05 | D46: 3
D47: 13 | F47: =F44-F43 -> 1.2940236e-05
...

Sheet C
B1: EC | D1: OC | F1: CC
B3: Jarosewich (1990) | D3: Grady et al. (1986) | F3: Alexanderet al. (1990)
B4: wt% C | D4: mol C/g | F4: mol C/g | H4: references | I4: Jarosewich, E. (1990). Chemical analyses of meteorites: A compilation of stony and iron meteorite analyses. Meteoritics, 25(4), 323-337.
B5: 0.32 | D5: 0.001473686 | F5: 0.00029090727 | I5: Grady, M. M., Wright, I. P., Carr, L. P., & Pillinger, C. T. (1986). Compositional differences in enstatite chondrites based on carbon and nitrogen stable isotope measurements. Geochimica et Cosmochimica Acta, 50(12), 2799-2813.
B6: 0.42 | D6: 0.00022812992 | F6: 0.00022138593
B7: 0.46 | D7: 0.00030472828 | F7: 0.00012305694 | I7: Alexander C. M. O’D., Arden J. W., Ash R. D., and Pillinger C. T. (1990) Presolar components in the ordinary chondrites. Earth. Planet. Sci. Lett. 99, 220-229.
B8: 0.18 | D8: 0.00022812992 | F8: 0.00010107654 | I8: Kerridge, J. F. (1985). Carbon, hydrogen and nitrogen in carbonaceous chondrites: Abundances and isotopic compositions in bulk samples. Geochimica et Cosmochimica Acta, 49(8), 1707-1714.
D9: 0.00018233742 | F9: 0.00012022613 | I9: Piani, L., Yurimoto, H., & Remusat, L. (2018). A dual origin for water in carbonaceous asteroids revealed by CM chondrites. Nature Astronomy, 1.
B10: mol C/g | D10: 0.00061861507 | F10: 1.6318782e-05
A11: Q1 | B11: =QUARTILE(B5:B8,1)*0.01/12.0107 -> 0.00023728842 | D11: 0.00013654491 | F11: 1.290516e-05
A12: median | B12: =QUARTILE(B5:B8,2)*0.01/12.0107 -> 0.00030805865 | D12: 0.00026393133 | F12: 6.4942093e-06
A13: Q3 | B13: =QUARTILE(B5:B8,3)*0.01/12.0107 -> 0.0003580141 | D13: 0.00011323237 | F13: 1.1489755e-05
D14: 8.5756867e-05 | F14: 3.8299183e-06
A15: median-Q1 | B15: =B12-B11 -> 7.077023e-05 | D15: 0.00027142465 | F15: 6.6607275e-06
A16: Q3-median | B16: =B13-B12 -> 4.9955456e-05 | D16: 0.00076598366
D17: 0.00012488864 | F17: Kerridge (1985)
A18: n | B18: =COUNTA(B5:B8) -> 4 | D18: 0.00030389569 | F18: 0.0037133556
D19: 0.00016069005 | F19: 0.0033553415
D20: 0.00013154937 | F20: 0.0027475501
D21: 9.6580549e-05 | F21: 0.0030805865
D22: 0.00044793393 | F22: 0.003122216
D23: 0.00033553415 | F23: 0.0023312546
D24: 0.00036051188 | F24: 0.0022563214
D25: 0.00026559651 | F25: 0.0016318782
D26: 0.00025310765 | F26: 0.0020731514
D27: 0.00010573905 | F27: 0.0020148701
D28: 8.0761321e-05 | F28: 0.0015069896
D29: 5.9113957e-05 | F29: 0.0016901596
D30: 3.580141e-05 | F30: 0.0019565887
... D32: 8.2426503e-05 | F32: 0.0016651819
F33: 0.0070437194
D34: Jarosewich (1990) | F34: 0.0048540052
C35: H | D35: 0.00031638456 | F35: 0.0019149592
D36: 0.00018317001 | F36: 0.0015402932
D37: 9.1585003e-05 | F37: 0.0029806756
D38: 0.00079096139 | F38: 0.0013321455
D39: 0.00016651819 | F39: 0.0023728842
D40: 5.8281366e-05 | F40: 0.0021647364
D41: 0.00014154046 | F41: 0.0014154046
D42: 3.3303638e-05 | F42: 0.0017900705
...
