Workbook

Sheet AC
A1: AC
A2: -
A3: - | B3: n=4 | F3: n=4 | K3: n=7 | Q3: n=3 | T3: n=4 | X3: n=6 | AD3: n=3 | AG3: n=3 | AJ3: n=3 | AN3: Average | AX3: StDev | BH3: StError
A4: Species | B4: PFC | Q4: Nac | AD4: vHipp | AN4: PFC | AQ4: Nac | AT4: vHipp | AX4: PFC | BA4: Nac | BD4: vHipp | BH4: PFC | BK4: Nac | BN4: vHipp
A5: - | B5: Control | C5: Control | D5: Control | E5: Control | F5: Susceptible | G5: Susceptible | H5: Susceptible | I5: Susceptible | J5: Resilient | K5: Resilient | L5: Resilient | M5: Resilient | N5: Resilient | O5: Resilient | P5: Resilient | Q5: Control | R5: Control | S5: Control | T5: Susceptible | U5: Susceptible | V5: Susceptible | W5: Susceptible | X5: Resilient | Y5: Resilient | Z5: Resilient | AA5: Resilient | AB5: Resilient | AC5: Resilient | AD5: Control | AE5: Control | AF5: Control | AG5: Susceptible | AH5: Susceptible | AI5: Susceptible | AJ5: Resilient | AK5: Resilient | AL5: Resilient | AN5: Control | AO5: Susceptible | AP5: Resilient | AQ5: Control | AR5: Susceptible | AS5: Resilient | AT5: Control | AU5: Susceptible | AV5: Resilient | AX5: Control | AY5: Susceptible | AZ5: Resilient | BA5: Control | BB5: Susceptible | BC5: Resilient | BD5: Control | BE5: Susceptible | BF5: Resilient | BH5: Control | BI5: Susceptible | BJ5: Resilient | BK5: Control | BL5: Susceptible | BM5: Resilient | BN5: Control | BO5: Susceptible | BP5: Resilient
A6: IS_13C4_16:0 | B6: #N/A | C6: #N/A | D6: #N/A | E6: #N/A | F6: #N/A | G6: #N/A | H6: #N/A | I6: #N/A | J6: #N/A | K6: #N/A | L6: #N/A | M6: #N/A | N6: #N/A | O6: #N/A | P6: #N/A | Q6: #N/A | R6: #N/A | S6: #N/A | T6: #N/A | U6: #N/A | V6: #N/A | W6: #N/A | X6: #N/A | Y6: #N/A | Z6: #N/A | AA6: #N/A | AB6: #N/A | AC6: #N/A | AD6: #N/A | AE6: #N/A | AF6: #N/A | AG6: #N/A | AH6: #N/A | AI6: #N/A | AJ6: #N/A | AK6: #N/A | AL6: #N/A | AN6: =AVERAGE(B6:E6) -> #N/A | AO6: =AVERAGE(F6:I6) -> #N/A | AP6: =AVERAGE(J6:P6) -> #N/A | AQ6: =AVERAGE(Q6:S6) -> #N/A | AR6: =AVERAGE(T6:W6) -> #N/A | AS6: =AVERAGE(X6:AC6) -> #N/A | AT6: =AVERAGE(AD6:AF6) -> #N/A | AU6: =AVERAGE(AG6:AI6) -> #N/A | AV6: =AVERAGE(AJ6:AL6) -> #N/A | AX6: =STDEV(B6:E6) -> #N/A | AY6: =STDEV(F6:I6) -> #N/A | AZ6: =STDEV(J6:P6) -> #N/A | BA6: =STDEV(Q6:S6) -> #N/A | BB6: =STDEV(T6:W6) -> #N/A | BC6: =STDEV(X6:AC6) -> #N/A | BD6: =STDEV(AD6:AF6) -> #N/A | BE6: =STDEV(AG6:AI6) -> #N/A | BF6: =STDEV(AJ6:AL6) -> #N/A | BH6: =AX6/SQRT(4) -> #N/A | BI6: =AY6/SQRT(4) -> #N/A | BJ6: =AZ6/SQRT(7) -> #N/A | BK6: =BA6/SQRT(3) -> #N/A | BL6: =BB6/SQRT(4) -> #N/A | BM6: =BC6/SQRT(6) -> #N/A | BN6: =BD6/SQRT(3) -> #N/A | BO6: =BE6/SQRT(3) -> #N/A | BP6: =BF6/SQRT(3) -> #N/A
A7: AC_2:0 | B7: 0.0046626148 | C7: 0.001639229 | D7: 0.0013331023 | E7: 0.0017427241 | F7: 0.0011619352 | G7: 0 | H7: 0.0012405664 | I7: 0.00089798223 | J7: 0.00093920394 | K7: 0.00089822076 | L7: 3.6929886e-05 | M7: 0.0015580937 | N7: 0.00023007197 | O7: 0.0011832619 | P7: 0.0013128941 | Q7: 0.00045236272 | R7: 0.0026758113 | S7: 0.0013332022 | T7: 0.0043922494 | U7: 0 | V7: 0.0012328321 | W7: 0.0012577284 | X7: 0 | Y7: 0 | Z7: 0.002563513 | AA7: 0.0014311857 | AB7: 0.00061868602 | AC7: 0.0012065243 | AD7: 0.003751091 | AE7: 0.0018598702 | AF7: 0.0022939847 | AG7: 0 | AH7: 0.0012729084 | AI7: 0 | AJ7: 0 | AK7: 0.0035561312 | AL7: 0.0017842785 | AN7: =AVERAGE(B7:E7) -> 0.0023444176 | AO7: =AVERAGE(F7:I7) -> 0.00082512096 | AP7: =AVERAGE(J7:P7) -> 0.0008798109 | AQ7: =AVERAGE(Q7:S7) -> 0.0014871254 | AR7: =AVERAGE(T7:W7) -> 0.0017207025 | AS7: =AVERAGE(X7:AC7) -> 0.00096998484 | AT7: =AVERAGE(AD7:AF7) -> 0.002634982 | AU7: =AVERAGE(AG7:AI7) -> 0.00042430281 | AV7: =AVERAGE(AJ7:AL7) -> 0.0017801366 | AX7: =STDEV(B7:E7) -> 0.0015552195 | AY7: =STDEV(F7:I7) -> 0.00056926037 | AZ7: =STDEV(J7:P7) -> 0.00055919387 | BA7: =STDEV(Q7:S7) -> 0.0011196875 | BB7: =STDEV(T7:W7) -> 0.0018753082 | BC7: =STDEV(X7:AC7) -> 0.0009811362 | BD7: =STDEV(AD7:AF7) -> 0.00099065049 | BE7: =STDEV(AG7:AI7) -> 0.00073491403 | BF7: =STDEV(AJ7:AL7) -> 0.0017780692 | BH7: =AX7/SQRT(4) -> 0.00077760975 | BI7: =AY7/SQRT(4) -> 0.00028463019 | BJ7: =AZ7/SQRT(7) -> 0.00021135542 | BK7: =BA7/SQRT(3) -> 0.0006464519 | BL7: =BB7/SQRT(4) -> 0.0009376541 | BM7: =BC7/SQRT(6) -> 0.00040054717 | BN7: =BD7/SQRT(3) -> 0.00057195233 | BO7: =BE7/SQRT(3) -> 0.00042430281 | BP7: =BF7/SQRT(3) -> 0.0010265687
A8: AC_3:0 | B8: 0 | C8: 0 | D8: 0.00029865071 | E8: 0.00077587904 | F8: 0 | G8: 0.00078187718 | H8: 0 | I8: 0.00022880337 | J8: 0 | K8: 0 | L8: 0 | M8: 0 | N8: 0.00022301896 | O8: 0.00018767856 | P8: 0.00023091997 | Q8: 0 | R8: 0 | S8: 0.00074804596 | T8: 0 | U8: 0 | V8: 0.00058248021 | W8: 0.00016317967 | X8: 0 | Y8: 0 | Z8: 0 | AA8: 0.00039832239 | AB8: 0 | AC8: 0.00013741849 | AD8: 0 | AE8: 0 | AF8: 0.0007402712 | AG8: 0.00073726073 | AH8: 0.00077415718 | AI8: 0 | AJ8: 0 | AK8: 0.00037522443 | AL8: 0.00035600626 | AN8: =AVERAGE(B8:E8) -> 0.00026863244 | AO8: =AVERAGE(F8:I8) -> 0.00025267014 | AP8: =AVERAGE(J8:P8) -> 9.165964e-05 | AQ8: =AVERAGE(Q8:S8) -> 0.00024934865 | AR8: =AVERAGE(T8:W8) -> 0.00018641497 | AS8: =AVERAGE(X8:AC8) -> 8.9290148e-05 | AT8: =AVERAGE(AD8:AF8) -> 0.00024675707 | AU8: =AVERAGE(AG8:AI8) -> 0.00050380597 | AV8: =AVERAGE(AJ8:AL8) -> 0.00024374356 | AX8: =STDEV(B8:E8) -> 0.00036629996 | AY8: =STDEV(F8:I8) -> 0.00036892371 | AZ8: =STDEV(J8:P8) -> 0.00011509004 | BA8: =STDEV(Q8:S8) -> 0.00043188454 | BB8: =STDEV(T8:W8) -> 0.00027502039 | BC8: =STDEV(X8:AC8) -> 0.00016106408 | BD8: =STDEV(AD8:AF8) -> 0.00042739578 | BE8: =STDEV(AG8:AI8) -> 0.00043669861 | BF8: =STDEV(AJ8:AL8) -> 0.00021130672 | BH8: =AX8/SQRT(4) -> 0.00018314998 | BI8: =AY8/SQRT(4) -> 0.00018446185 | BJ8: =AZ8/SQRT(7) -> 4.3499945e-05 | BK8: =BA8/SQRT(3) -> 0.00024934865 | BL8: =BB8/SQRT(4) -> 0.00013751019 | BM8: =BC8/SQRT(6) -> 6.5754135e-05 | BN8: =BD8/SQRT(3) -> 0.00024675707 | BO8: =BE8/SQRT(3) -> 0.00025212806 | BP8: =BF8/SQRT(3) -> 0.00012199799
A9: AC_4:1 | B9: 0 | C9: 0 | D9: 0 | E9: 0.00089101369 | F9: 0.00075943384 | G9: 0 | H9: 0 | I9: 0.00018472273 | J9: 0 | K9: 0 | L9: 0 | M9: 0.00015413235 | N9: 0 | O9: 0 | P9: 0 | Q9: 0 | R9: 0 | S9: 0.00074804596 | T9: 0 | U9: 0 | V9: 0 | W9: 0 | X9: 0 | Y9: 0 | Z9: 0 | AA9: 6.9375803e-05 | AB9: 0 | AC9: 0 | AD9: 0 | AE9: 0 | AF9: 0 | AG9: 0 | AH9: 0.00020636936 | AI9: 0 | AJ9: 0 | AK9: 0.00016081047 | AL9: 0.00029220663 | AN9: =AVERAGE(B9:E9) -> 0.00022275342 | AO9: =AVERAGE(F9:I9) -> 0.00023603914 | AP9: =AVERAGE(J9:P9) -> 2.2018907e-05 | AQ9: =AVERAGE(Q9:S9) -> 0.00024934865 | AR9: =AVERAGE(T9:W9) -> 0 | AS9: =AVERAGE(X9:AC9) -> 1.1562634e-05 | AT9: =AVERAGE(AD9:AF9) -> 0 | AU9: =AVERAGE(AG9:AI9) -> 6.8789787e-05 | AV9: =AVERAGE(AJ9:AL9) -> 0.0001510057 | AX9: =STDEV(B9:E9) -> 0.00044550684 | AY9: =STDEV(F9:I9) -> 0.00035963145 | AZ9: =STDEV(J9:P9) -> 5.8256553e-05 | BA9: =STDEV(Q9:S9) -> 0.00043188454 | BB9: =STDEV(T9:W9) -> 0 | BC9: =STDEV(X9:AC9) -> 2.8322553e-05 | BD9: =STDEV(AD9:AF9) -> 0 | BE9: =STDEV(AG9:AI9) -> 0.00011914741 | BF9: =STDEV(AJ9:AL9) -> 0.00014634985 | BH9: =AX9/SQRT(4) -> 0.00022275342 | BI9: =AY9/SQRT(4) -> 0.00017981572 | BJ9: =AZ9/SQRT(7) -> 2.2018907e-05 | BK9: =BA9/SQRT(3) -> 0.00024934865 | BL9: =BB9/SQRT(4) -> 0 | BM9: =BC9/SQRT(6) -> 1.1562634e-05 | BN9: =BD9/SQRT(3) -> 0 | BO9: =BE9/SQRT(3) -> 6.8789787e-05 | BP9: =BF9/SQRT(3) -> 8.4495126e-05
A10: AC_4:0 | B10: 0.0011761608 | C10: 0.00039490118 | D10: 0 | E10: 0 | F10: 0 | G10: 0.00078187718 | H10: 0 | I10: 0 | J10: 0 | K10: 0 | L10: 0 | M10: 0.00041777871 | N10: 0 | O10: 9.4002212e-05 | P10: 0.00021327068 | Q10: 0 | R10: 0 | S10: 0.00044444393 | T10: 0 | U10: 0 | V10: 0 | W10: 0.00019726082 | X10: 0 | Y10: 0.00085078056 | Z10: 0 | AA10: 0.000197064 | AB10: 0.00023824572 | AC10: 0 | AD10: 0 | AE10: 0 | AF10: 0 | AG10: 0.00073726073 | AH10: 0.000449707 | AI10: 0.00080863481 | AJ10: 0 | AK10: 0.00021772162 | AL10: 0 | AN10: =AVERAGE(B10:E10) -> 0.00039276549 | AO10: =AVERAGE(F10:I10) -> 0.00019546929 | AP10: =AVERAGE(J10:P10) -> 0.0001035788 | AQ10: =AVERAGE(Q10:S10) -> 0.00014814798 | AR10: =AVERAGE(T10:W10) -> 4.9315205e-05 | AS10: =AVERAGE(X10:AC10) -> 0.00021434838 | AT10: =AVERAGE(AD10:AF10) -> 0 | AU10: =AVERAGE(AG10:AI10) -> 0.00066520084 | AV10: =AVERAGE(AJ10:AL10) -> 7.2573873e-05 | AX10: =STDEV(B10:E10) -> 0.00055444934 | AY10: =STDEV(F10:I10) -> 0.00039093859 | AZ10: =STDEV(J10:P10) -> 0.00016008325 | BA10: =STDEV(Q10:S10) -> 0.00025659982 | BB10: =STDEV(T10:W10) -> 9.863041e-05 | BC10: =STDEV(X10:AC10) -> 0.00032977308 | BD10: =STDEV(AD10:AF10) -> 0 | BE10: =STDEV(AG10:AI10) -> 0.00019000464 | BF10: =STDEV(AJ10:AL10) -> 0.00012570164 | BH10: =AX10/SQRT(4) -> 0.00027722467 | BI10: =AY10/SQRT(4) -> 0.00019546929 | BJ10: =AZ10/SQRT(7) -> 6.050578e-05 | BK10: =BA10/SQRT(3) -> 0.00014814798 | BL10: =BB10/SQRT(4) -> 4.9315205e-05 | BM10: =BC10/SQRT(6) -> 0.0001346293 | BN10: =BD10/SQRT(3) -> 0 | BO10: =BE10/SQRT(3) -> 0.00010969923 | BP10: =BF10/SQRT(3) -> 7.2573873e-05
A11: AC_6:1 | B11: 0 | C11: 3.5680755e-05 | D11: 0 | E11: 0 | F11: 0 | G11: 0 | H11: 0 | I11: 0 | J11: 0 | K11: 0 | L11: 0 | M11: 0 | N11: 0.00018977082 | O11: 0 | P11: 0 | Q11: 0 | R11: 0 | S11: 0 | T11: 0 | U11: 0.00081133818 | V11: 0 | W11: 0 | X11: 0 | Y11: 0 | Z11: 0 | AA11: 0 | AB11: 0 | AC11: 0 | AD11: 0 | AE11: 0 | AF11: 0 | AG11: 0 | AH11: 0 | AI11: 0 | AJ11: 0 | AK11: 0 | AL11: 0.00025650876 | AN11: =AVERAGE(B11:E11) -> 8.9201888e-06 | AO11: =AVERAGE(F11:I11) -> 0 | AP11: =AVERAGE(J11:P11) -> 2.7110118e-05 | AQ11: =AVERAGE(Q11:S11) -> 0 | AR11: =AVERAGE(T11:W11) -> 0.00020283455 | AS11: =AVERAGE(X11:AC11) -> 0 | AT11: =AVERAGE(AD11:AF11) -> 0 | AU11: =AVERAGE(AG11:AI11) -> 0 | AV11: =AVERAGE(AJ11:AL11) -> 8.5502921e-05 | AX11: =STDEV(B11:E11) -> 1.7840378e-05 | AY11: =STDEV(F11:I11) -> 0 | AZ11: =STDEV(J11:P11) -> 7.172663e-05 | BA11: =STDEV(Q11:S11) -> 0 | BB11: =STDEV(T11:W11) -> 0.00040566909 | BC11: =STDEV(X11:AC11) -> 0 | BD11: =STDEV(AD11:AF11) -> 0 | BE11: =STDEV(AG11:AI11) -> 0 | BF11: =STDEV(AJ11:AL11) -> 0.0001480954 | BH11: =AX11/SQRT(4) -> 8.9201888e-06 | BI11: =AY11/SQRT(4) -> 0 | BJ11: =AZ11/SQRT(7) -> 2.7110118e-05 | BK11: =BA11/SQRT(3) -> 0 | BL11: =BB11/SQRT(4) -> 0.00020283455 | BM11: =BC11/SQRT(6) -> 0 | BN11: =BD11/SQRT(3) -> 0 | BO11: =BE11/SQRT(3) -> 0 | BP11: =BF11/SQRT(3) -> 8.5502921e-05
A12: AC_6:0 | B12: 0 | C12: 0 | D12: 0 | E12: 0 | F12: 0 | G12: 0 | H12: 0 | I12: 0 | J12: 0 | K12: 0 | L12: 0 | M12: 0.0002602403 | N12: 0 | O12: 0 | P12: 0.00021327068 | Q12: 0 | R12: 0 | S12: 0.00021353208 | T12: 0 | U12: 0 | V12: 0 | W12: 0 | X12: 0 | Y12: 0 | Z12: 0 | AA12: 0 | AB12: 0 | AC12: 0 | AD12: 0.00042500375 | AE12: 0 | AF12: 0 | AG12: 0 | AH12: 0.00024333764 | AI12: 0 | AJ12: 0.00063549725 | AK12: 0 | AL12: 0 | AN12: =AVERAGE(B12:E12) -> 0 | AO12: =AVERAGE(F12:I12) -> 0 | AP12: =AVERAGE(J12:P12) -> 6.7644425e-05 | AQ12: =AVERAGE(Q12:S12) -> 7.1177359e-05 | AR12: =AVERAGE(T12:W12) -> 0 | AS12: =AVERAGE(X12:AC12) -> 0 | AT12: =AVERAGE(AD12:AF12) -> 0.00014166792 | AU12: =AVERAGE(AG12:AI12) -> 8.1112545e-05 | AV12: =AVERAGE(AJ12:AL12) -> 0.00021183242 | AX12: =STDEV(B12:E12) -> 0 | AY12: =STDEV(F12:I12) -> 0 | AZ12: =STDEV(J12:P12) -> 0.00011631782 | BA12: =STDEV(Q12:S12) -> 0.0001232828 | BB12: =STDEV(T12:W12) -> 0 | BC12: =STDEV(X12:AC12) -> 0 | BD12: =STDEV(AD12:AF12) -> 0.00024537603 | BE12: =STDEV(AG12:AI12) -> 0.00014049105 | BF12: =STDEV(AJ12:AL12) -> 0.00036690451 | BH12: =AX12/SQRT(4) -> 0 | BI12: =AY12/SQRT(4) -> 0 | BJ12: =AZ12/SQRT(7) -> 4.3964005e-05 | BK12: =BA12/SQRT(3) -> 7.1177359e-05 | BL12: =BB12/SQRT(4) -> 0 | BM12: =BC12/SQRT(6) -> 0 | BN12: =BD12/SQRT(3) -> 0.00014166792 | BO12: =BE12/SQRT(3) -> 8.1112545e-05 | BP12: =BF12/SQRT(3) -> 0.00021183242
A13: AC_8:3 | B13: 0 | C13: 0 | D13: 0 | E13: 0 | F13: 0 | G13: 0 | H13: 0 | I13: 0.0004584811 | J13: 0 | K13: 0.00097404404 | L13: 0 | M13: 0 | N13: 0 | O13: 0 | P13: 0 | Q13: 0 | R13: 0 | S13: 0 | T13: 0 | U13: 0 | V13: 0 | W13: 0 | X13: 0.0030067051 | Y13: 0 | Z13: 0 | AA13: 0 | AB13: 0 | AC13: 0.00013741849 | AD13: 0 | AE13: 0.00079708723 | AF13: 0 | AG13: 0 | AH13: 0 | AI13: 0 | AJ13: 0 | AK13: 0 | AL13: 0.00019164788 | AN13: =AVERAGE(B13:E13) -> 0 | AO13: =AVERAGE(F13:I13) -> 0.00011462028 | AP13: =AVERAGE(J13:P13) -> 0.00013914915 | AQ13: =AVERAGE(Q13:S13) -> 0 | AR13: =AVERAGE(T13:W13) -> 0 | AS13: =AVERAGE(X13:AC13) -> 0.0005240206 | AT13: =AVERAGE(AD13:AF13) -> 0.00026569574 | AU13: =AVERAGE(AG13:AI13) -> 0 | AV13: =AVERAGE(AJ13:AL13) -> 6.3882626e-05 | AX13: =STDEV(B13:E13) -> 0 | AY13: =STDEV(F13:I13) -> 0.00022924055 | AZ13: =STDEV(J13:P13) -> 0.00036815404 | BA13: =STDEV(Q13:S13) -> 0 | BB13: =STDEV(T13:W13) -> 0 | BC13: =STDEV(X13:AC13) -> 0.0012175035 | BD13: =STDEV(AD13:AF13) -> 0.00046019852 | BE13: =STDEV(AG13:AI13) -> 0 | BF13: =STDEV(AJ13:AL13) -> 0.00011064795 | BH13: =AX13/SQRT(4) -> 0 | BI13: =AY13/SQRT(4) -> 0.00011462028 | BJ13: =AZ13/SQRT(7) -> 0.00013914915 | BK13: =BA13/SQRT(3) -> 0 | BL13: =BB13/SQRT(4) -> 0 | BM13: =BC13/SQRT(6) -> 0.00049704372 | BN13: =BD13/SQRT(3) -> 0.00026569574 | BO13: =BE13/SQRT(3) -> 0 | BP13: =BF13/SQRT(3) -> 6.3882626e-05
A14: AC_8:2 | B14: 0.0013308192 | C14: 0.00014033706 | D14: 0 | E14: 0 | F14: 0 | G14: 0 | H14: 0 | I14: 0 | J14: 0 | K14: 0.00084068665 | L14: 0 | M14: 0.00026824686 | N14: 0 | O14: 0 | P14: 0.0001488092 | Q14: 0 | R14: 0.0019303546 | S14: 0 | T14: 0 | U14: 0 | V14: 0 | W14: 0 | X14: 0 | Y14: 0 | Z14: 0 | AA14: 0 | AB14: 0 | AC14: 0 | AD14: 0 | AE14: 0 | AF14: 0 | AG14: 0.00073726073 | AH14: 0.000449707 | AI14: 0 | AJ14: 0 | AK14: 0 | AL14: 0.00029949797 | AN14: =AVERAGE(B14:E14) -> 0.00036778907 | AO14: =AVERAGE(F14:I14) -> 0 | AP14: =AVERAGE(J14:P14) -> 0.00017967753 | AQ14: =AVERAGE(Q14:S14) -> 0.00064345152 | AR14: =AVERAGE(T14:W14) -> 0 | AS14: =AVERAGE(X14:AC14) -> 0 | AT14: =AVERAGE(AD14:AF14) -> 0 | AU14: =AVERAGE(AG14:AI14) -> 0.00039565591 | AV14: =AVERAGE(AJ14:AL14) -> 9.9832658e-05 | AX14: =STDEV(B14:E14) -> 0.00064541952 | AY14: =STDEV(F14:I14) -> 0 | AZ14: =STDEV(J14:P14) -> 0.00030953365 | BA14: =STDEV(Q14:S14) -> 0.0011144907 | BB14: =STDEV(T14:W14) -> 0 | BC14: =STDEV(X14:AC14) -> 0 | BD14: =STDEV(AD14:AF14) -> 0 | BE14: =STDEV(AG14:AI14) -> 0.00037159048 | BF14: =STDEV(AJ14:AL14) -> 0.00017291524 | BH14: =AX14/SQRT(4) -> 0.00032270976 | BI14: =AY14/SQRT(4) -> 0 | BJ14: =AZ14/SQRT(7) -> 0.00011699272 | BK14: =BA14/SQRT(3) -> 0.00064345152 | BL14: =BB14/SQRT(4) -> 0 | BM14: =BC14/SQRT(6) -> 0 | BN14: =BD14/SQRT(3) -> 0 | BO14: =BE14/SQRT(3) -> 0.00021453786 | BP14: =BF14/SQRT(3) -> 9.9832658e-05
A15: AC_8:1 | B15: 0 | C15: 0.00014583817 | D15: 0.0001896687 | E15: 0.00077587904 | F15: 0 | G15: 0.00078187718 | H15: 0 | I15: 0.00016406017 | J15: 0 | K15: 0.0018722648 | L15: 0 | M15: 0 | N15: 0 | O15: 7.4063741e-05 | P15: 0.00023091997 | Q15: 0 | R15: 0.00074545675 | S15: 0 | T15: 0.0027264119 | U15: 0.0013286345 | V15: 0 | W15: 8.5621319e-05 | X15: 0 | Y15: 0 | Z15: 0 | AA15: 0 | AB15: 0 | AC15: 0.00031736305 | AD15: 0.00086077094 | AE15: 0.00079708723 | AF15: 0 | AG15: 0 | AH15: 0.00024333764 | AI15: 0.00078455909 | AJ15: 0 | AK15: 0 | AL15: 0 | AN15: =AVERAGE(B15:E15) -> 0.00027784648 | AO15: =AVERAGE(F15:I15) -> 0.00023648434 | AP15: =AVERAGE(J15:P15) -> 0.0003110355 | AQ15: =AVERAGE(Q15:S15) -> 0.00024848558 | AR15: =AVERAGE(T15:W15) -> 0.0010351669 | AS15: =AVERAGE(X15:AC15) -> 5.2893841e-05 | AT15: =AVERAGE(AD15:AF15) -> 0.00055261939 | AU15: =AVERAGE(AG15:AI15) -> 0.00034263224 | AV15: =AVERAGE(AJ15:AL15) -> 0 | AX15: =STDEV(B15:E15) -> 0.000341778 | AY15: =STDEV(F15:I15) -> 0.00037172942 | AZ15: =STDEV(J15:P15) -> 0.00069365978 | BA15: =STDEV(Q15:S15) -> 0.00043038966 | BB15: =STDEV(T15:W15) -> 0.001280578 | BC15: =STDEV(X15:AC15) -> 0.00012956292 | BD15: =STDEV(AD15:AF15) -> 0.00047964054 | BE15: =STDEV(AG15:AI15) -> 0.00040159408 | BF15: =STDEV(AJ15:AL15) -> 0 | BH15: =AX15/SQRT(4) -> 0.000170889 | BI15: =AY15/SQRT(4) -> 0.00018586471 | BJ15: =AZ15/SQRT(7) -> 0.00026217875 | BK15: =BA15/SQRT(3) -> 0.00024848558 | BL15: =BB15/SQRT(4) -> 0.00064028901 | BM15: =BC15/SQRT(6) -> 5.2893841e-05 | BN15: =BD15/SQRT(3) -> 0.00027692059 | BO15: =BE15/SQRT(3) -> 0.00023186045 | BP15: =BF15/SQRT(3) -> 0
A16: AC_8:0 | B16: 0 | C16: 0 | D16: 0.00021768652 | E16: 0 | F16: 0 | G16: 0 | H16: 0.00056197349 | I16: 0 | J16: 0 | K16: 0 | L16: 0.00077911316 | M16: 0 | N16: 0 | O16: 0 | P16: 0.00021327068 | Q16: 0.0017043628 | R16: 0 | S16: 0.00012810262 | T16: 0 | U16: 0 | V16: 0.00033502717 | W16: 0 | X16: 0.00089913137 | Y16: 0.00058197551 | Z16: 0 | AA16: 0 | AB16: 0 | AC16: 0.00017994455 | AD16: 0 | AE16: 0 | AF16: 0 | AG16: 0 | AH16: 0 | AI16: 0 | AJ16: 0 | AK16: 3.9343878e-05 | AL16: 0 | AN16: =AVERAGE(B16:E16) -> 5.4421629e-05 | AO16: =AVERAGE(F16:I16) -> 0.00014049337 | AP16: =AVERAGE(J16:P16) -> 0.00014176912 | AQ16: =AVERAGE(Q16:S16) -> 0.00061082182 | AR16: =AVERAGE(T16:W16) -> 8.3756793e-05 | AS16: =AVERAGE(X16:AC16) -> 0.00027684191 | AT16: =AVERAGE(AD16:AF16) -> 0 | AU16: =AVERAGE(AG16:AI16) -> 0 | AV16: =AVERAGE(AJ16:AL16) -> 1.3114626e-05 | AX16: =STDEV(B16:E16) -> 0.00010884326 | AY16: =STDEV(F16:I16) -> 0.00028098674 | AZ16: =STDEV(J16:P16) -> 0.00029206515 | BA16: =STDEV(Q16:S16) -> 0.00094919784 | BB16: =STDEV(T16:W16) -> 0.00016751359 | BC16: =STDEV(X16:AC16) -> 0.00037938479 | BD16: =STDEV(AD16:AF16) -> 0 | BE16: =STDEV(AG16:AI16) -> 0 | BF16: =STDEV(AJ16:AL16) -> 2.2715199e-05 | BH16: =AX16/SQRT(4) -> 5.4421629e-05 | BI16: =AY16/SQRT(4) -> 0.00014049337 | BJ16: =AZ16/SQRT(7) -> 0.00011039025 | BK16: =BA16/SQRT(3) -> 0.00054801963 | BL16: =BB16/SQRT(4) -> 8.3756793e-05 | BM16: =BC16/SQRT(6) -> 0.00015488319 | BN16: =BD16/SQRT(3) -> 0 | BO16: =BE16/SQRT(3) -> 0 | BP16: =BF16/SQRT(3) -> 1.3114626e-05
A17: AC_10:3 | B17: 0.0023313074 | C17: 0.00022595283 | D17: 0.00021768652 | E17: 0 | F17: 0 | G17: 0 | H17: 0 | I17: 0.00016406017 | J17: 0.00031044723 | K17: 0 | L17: 0 | M17: 0 | N17: 0.00041278978 | O17: 0.00017915223 | P17: 0 | Q17: 0 | R17: 0 | S17: 0 | T17: 0 | U17: 0.00062116304 | V17: 6.0541843e-05 | W17: 0 | X17: 0 | Y17: 0.0015073596 | Z17: 0.00078961412 | AA17: 0.00026643981 | AB17: 0 | AC17: 7.2104281e-05 | AD17: 0.00086077094 | AE17: 0 | AF17: 5.3555772e-05 | AG17: 0 | AH17: 8.1439708e-05 | AI17: 0 | AJ17: 0.00063549725 | AK17: 0 | AL17: 0.00019164788 | AN17: =AVERAGE(B17:E17) -> 0.00069373669 | AO17: =AVERAGE(F17:I17) -> 4.1015043e-05 | AP17: =AVERAGE(J17:P17) -> 0.00012891275 | AQ17: =AVERAGE(Q17:S17) -> 0 | AR17: =AVERAGE(T17:W17) -> 0.00017042622 | AS17: =AVERAGE(X17:AC17) -> 0.00043925296 | AT17: =AVERAGE(AD17:AF17) -> 0.00030477557 | AU17: =AVERAGE(AG17:AI17) -> 2.7146569e-05 | AV17: =AVERAGE(AJ17:AL17) -> 0.00027571504 | AX17: =STDEV(B17:E17) -> 0.0010967154 | AY17: =STDEV(F17:I17) -> 8.2030086e-05 | AZ17: =STDEV(J17:P17) -> 0.00017442235 | BA17: =STDEV(Q17:S17) -> 0 | BB17: =STDEV(T17:W17) -> 0.00030184348 | BC17: =STDEV(X17:AC17) -> 0.0006023543 | BD17: =STDEV(AD17:AF17) -> 0.00048225014 | BE17: =STDEV(AG17:AI17) -> 4.7019237e-05 | BF17: =STDEV(AJ17:AL17) -> 0.0003259826 | BH17: =AX17/SQRT(4) -> 0.0005483577 | BI17: =AY17/SQRT(4) -> 4.1015043e-05 | BJ17: =AZ17/SQRT(7) -> 6.5925451e-05 | BK17: =BA17/SQRT(3) -> 0 | BL17: =BB17/SQRT(4) -> 0.00015092174 | BM17: =BC17/SQRT(6) -> 0.00024591011 | BN17: =BD17/SQRT(3) -> 0.00027842725 | BO17: =BE17/SQRT(3) -> 2.7146569e-05 | BP17: =BF17/SQRT(3) -> 0.00018820614
A18: AC_10:2 | B18: 0.0016678187 | C18: 0 | D18: 0 | E18: 0.0045976351 | F18: 0.0015045993 | G18: 0.0012415093 | H18: 0 | I18: 0 | J18: 0.0015027272 | K18: 0 | L18: 0 | M18: 0.00052848716 | N18: 0 | O18: 7.4063741e-05 | P18: 0.00023091997 | Q18: 0.0027671857 | R18: 0.00072039376 | S18: 0 | T18: 0.0011683852 | U18: 0.00054164233 | V18: 0 | W18: 0.00019726082 | X18: 0.0033254669 | Y18: 0.0021756959 | Z18: 0.00068674378 | AA18: 0 | AB18: 0 | AC18: 0.00017994455 | AD18: 0.0021676292 | AE18: 0.000536585 | AF18: 0.00026975606 | AG18: 0.00084572871 | AH18: 0 | AI18: 0.00092735377 | AJ18: 0.0045201231 | AK18: 0.00056305269 | AL18: 0 | AN18: =AVERAGE(B18:E18) -> 0.0015663635 | AO18: =AVERAGE(F18:I18) -> 0.00068652715 | AP18: =AVERAGE(J18:P18) -> 0.00033374258 | AQ18: =AVERAGE(Q18:S18) -> 0.0011625265 | AR18: =AVERAGE(T18:W18) -> 0.00047682208 | AS18: =AVERAGE(X18:AC18) -> 0.0010613085 | AT18: =AVERAGE(AD18:AF18) -> 0.00099132343 | AU18: =AVERAGE(AG18:AI18) -> 0.00059102749 | AV18: =AVERAGE(AJ18:AL18) -> 0.0016943919 | AX18: =STDEV(B18:E18) -> 0.0021684011 | AY18: =STDEV(F18:I18) -> 0.00079997631 | AZ18: =STDEV(J18:P18) -> 0.00055024365 | BA18: =STDEV(Q18:S18) -> 0.0014355975 | BB18: =STDEV(T18:W18) -> 0.00051250202 | BC18: =STDEV(X18:AC18) -> 0.001381168 | BD18: =STDEV(AD18:AF18) -> 0.0010274098 | BE18: =STDEV(AG18:AI18) -> 0.00051346936 | BF18: =STDEV(AJ18:AL18) -> 0.0024632954 | BH18: =AX18/SQRT(4) -> 0.0010842005 | BI18: =AY18/SQRT(4) -> 0.00039998815 | BJ18: =AZ18/SQRT(7) -> 0.00020797255 | BK18: =BA18/SQRT(3) -> 0.00082884259 | BL18: =BB18/SQRT(4) -> 0.00025625101 | BM18: =BC18/SQRT(6) -> 0.00056385947 | BN18: =BD18/SQRT(3) -> 0.00059317533 | BO18: =BE18/SQRT(3) -> 0.00029645167 | BP18: =BF18/SQRT(3) -> 0.0014221843
... A95: TOTAL | B95: 0.032921863 | C95: 0.018759655 | D95: 0.019280923 | E95: 0.038788925 | F95: 0.030255535 | G95: 0.028874838 | H95: 0.03361518 | I95: 0.022907588 | J95: 0.036651294 | K95: 0.047650462 | L95: 0.018638672 | M95: 0.032217881 | N95: 0.030426645 | O95: 0.022183098 | P95: 0.021969898 | Q95: 0.031566887 | R95: 0.029071783 | S95: 0.024916596 | T95: 0.033415963 | U95: 0.02638431 | V95: 0.02502486 | W95: 0.026480955 | X95: 0.030750532 | Y95: 0.033493807 | Z95: 0.03004054 | AA95: 0.029406309 | AB95: 0.022002655 | AC95: 0.020776268 | AD95: 0.039197499 | AE95: 0.036058598 | AF95: 0.031585534 | AG95: 0.030780276 | AH95: 0.02246208 | AI95: 0.043193672 | AJ95: 0.038087222 | AK95: 0.024638289 | AL95: 0.017222496 | AN95: =AVERAGE(B95:E95) -> 0.027437841 | AO95: =AVERAGE(F95:I95) -> 0.028913285 | AP95: =AVERAGE(J95:P95) -> 0.029962564 | AQ95: =AVERAGE(Q95:S95) -> 0.028518422 | AR95: =AVERAGE(T95:W95) -> 0.027826522 | AS95: =AVERAGE(X95:AC95) -> 0.027745019 | AT95: =AVERAGE(AD95:AF95) -> 0.035613877 | AU95: =AVERAGE(AG95:AI95) -> 0.032145343 | AV95: =AVERAGE(AJ95:AL95) -> 0.026649336 | AX95: =STDEV(B95:E95) -> 0.010012789 | AY95: =STDEV(F95:I95) -> 0.0044713654 | AZ95: =STDEV(J95:P95) -> 0.010128639 | BA95: =STDEV(Q95:S95) -> 0.0033595011 | BB95: =STDEV(T95:W95) -> 0.0037851326 | BC95: =STDEV(X95:AC95) -> 0.0051312611 | BD95: =STDEV(AD95:AF95) -> 0.0038254194 | BE95: =STDEV(AG95:AI95) -> 0.01043299 | BF95: =STDEV(AJ95:AL95) -> 0.01057674 | BH95: =AX95/SQRT(4) -> 0.0050063945 | BI95: =AY95/SQRT(4) -> 0.0022356827 | BJ95: =AZ95/SQRT(7) -> 0.0038282658 | BK95: =BA95/SQRT(3) -> 0.0019396089 | BL95: =BB95/SQRT(4) -> 0.0018925663 | BM95: =BC95/SQRT(6) -> 0.0020948286 | BN95: =BD95/SQRT(3) -> 0.0022086069 | BO95: =BE95/SQRT(3) -> 0.0060234896 | BP95: =BF95/SQRT(3) -> 0.0061064837
A98: Saturated Sum | B98: =SUM(B93,B86,B73,B60,B49,B44,B40,B36,B32,B28,B24,B20,B16,B12,B10,B7:B8) -> 0.018914663 | C98: =SUM(C93,C86,C73,C60,C49,C44,C40,C36,C32,C28,C24,C20,C16,C12,C10,C7:C8) -> 0.010137286 | D98: =SUM(D93,D86,D73,D60,D49,D44,D40,D36,D32,D28,D24,D20,D16,D12,D10,D7:D8) -> 0.010650072 | E98: =SUM(E93,E86,E73,E60,E49,E44,E40,E36,E32,E28,E24,E20,E16,E12,E10,E7:E8) -> 0.015933899 | F98: =SUM(F93,F86,F73,F60,F49,F44,F40,F36,F32,F28,F24,F20,F16,F12,F10,F7:F8) -> 0.016558399 | G98: =SUM(G93,G86,G73,G60,G49,G44,G40,G36,G32,G28,G24,G20,G16,G12,G10,G7:G8) -> 0.014479286 | H98: =SUM(H93,H86,H73,H60,H49,H44,H40,H36,H32,H28,H24,H20,H16,H12,H10,H7:H8) -> 0.018764987 | I98: =SUM(I93,I86,I73,I60,I49,I44,I40,I36,I32,I28,I24,I20,I16,I12,I10,I7:I8) -> 0.011240435 | ... AL98: =SUM(AL93,AL86,AL73,AL60,AL49,AL44,AL40,AL36,AL32,AL28,AL24,AL20,AL16,AL12,AL10,AL7:AL8) -> 0.0087183359 | AM98: Saturated Sum | AN98: =AVERAGE(B98:E98) -> 0.01390898 | AO98: =AVERAGE(F98:I98) -> 0.015260777 | AP98: =AVERAGE(J98:P98) -> 0.01453988 | AQ98: =AVERAGE(Q98:S98) -> 0.013671723 | AR98: =AVERAGE(T98:W98) -> 0.014488546 | AS98: =AVERAGE(X98:AC98) -> 0.014501731 | AT98: =AVERAGE(AD98:AF98) -> 0.017914576 | AU98: =AVERAGE(AG98:AI98) -> 0.018153811 | AV98: =AVERAGE(AJ98:AL98) -> 0.011518984 | AX98: =STDEV(B98:E98) -> 0.0042427708 | AY98: =STDEV(F98:I98) -> 0.0032008954 | AZ98: =STDEV(J98:P98) -> 0.0054669422 | BA98: =STDEV(Q98:S98) -> 0.0012869639 | BB98: =STDEV(T98:W98) -> 0.0036958699 | BC98: =STDEV(X98:AC98) -> 0.0048703026 | BD98: =STDEV(AD98:AF98) -> 0.0019643499 | BE98: =STDEV(AG98:AI98) -> 0.0072951535 | BF98: =STDEV(AJ98:AL98) -> 0.0037825007 | BH98: =AX98/SQRT(4) -> 0.0021213854 | BI98: =AY98/SQRT(4) -> 0.0016004477 | BJ98: =AZ98/SQRT(7) -> 0.0020663099 | BK98: =BA98/SQRT(3) -> 0.00074302897 | BL98: =BB98/SQRT(4) -> 0.0018479349 | BM98: =BC98/SQRT(6) -> 0.0019882927 | BN98: =BD98/SQRT(3) -> 0.001134118 | BO98: =BE98/SQRT(3) -> 0.0042118588 | BP98: =BF98/SQRT(3) -> 0.0021838278
A99: Mono Sum | B99: =SUM(B92,B85,B79,B72,B66,B59,B53,B48,B43,B39,B35,B31,B27,B23,B19,B15,B11,B9) -> 0.0057755963 | C99: =SUM(C92,C85,C79,C72,C66,C59,C53,C48,C43,C39,C35,C31,C27,C23,C19,C15,C11,C9) -> 0.0042483811 | D99: =SUM(D92,D85,D79,D72,D66,D59,D53,D48,D43,D39,D35,D31,D27,D23,D19,D15,D11,D9) -> 0.005000431 | E99: =SUM(E92,E85,E79,E72,E66,E59,E53,E48,E43,E39,E35,E31,E27,E23,E19,E15,E11,E9) -> 0.010957669 | F99: =SUM(F92,F85,F79,F72,F66,F59,F53,F48,F43,F39,F35,F31,F27,F23,F19,F15,F11,F9) -> 0.006796795 | G99: =SUM(G92,G85,G79,G72,G66,G59,G53,G48,G43,G39,G35,G31,G27,G23,G19,G15,G11,G9) -> 0.0067839651 | H99: =SUM(H92,H85,H79,H72,H66,H59,H53,H48,H43,H39,H35,H31,H27,H23,H19,H15,H11,H9) -> 0.0098860528 | I99: =SUM(I92,I85,I79,I72,I66,I59,I53,I48,I43,I39,I35,I31,I27,I23,I19,I15,I11,I9) -> 0.0073371529 | ... AL99: =SUM(AL92,AL85,AL79,AL72,AL66,AL59,AL53,AL48,AL43,AL39,AL35,AL31,AL27,AL23,AL19,AL15,AL11,AL9) -> 0.0047885597 | AM99: Mono Sum | AN99: =AVERAGE(B99:E99) -> 0.0064955193 | AO99: =AVERAGE(F99:I99) -> 0.0077009914 | AP99: =AVERAGE(J99:P99) -> 0.0082639141 | AQ99: =AVERAGE(Q99:S99) -> 0.0077522655 | AR99: =AVERAGE(T99:W99) -> 0.0080979877 | AS99: =AVERAGE(X99:AC99) -> 0.0051788286 | AT99: =AVERAGE(AD99:AF99) -> 0.0089484245 | AU99: =AVERAGE(AG99:AI99) -> 0.0082451821 | AV99: =AVERAGE(AJ99:AL99) -> 0.0074023747 | AX99: =STDEV(B99:E99) -> 0.003039407 | AY99: =STDEV(F99:I99) -> 0.0014793445 | AZ99: =STDEV(J99:P99) -> 0.0029929116 | BA99: =STDEV(Q99:S99) -> 0.0024927324 | BB99: =STDEV(T99:W99) -> 0.0028181578 | BC99: =STDEV(X99:AC99) -> 0.0015126668 | BD99: =STDEV(AD99:AF99) -> 0.0029411133 | BE99: =STDEV(AG99:AI99) -> 0.0043395468 | BF99: =STDEV(AJ99:AL99) -> 0.0044892576 | BH99: =AX99/SQRT(4) -> 0.0015197035 | BI99: =AY99/SQRT(4) -> 0.00073967223 | BJ99: =AZ99/SQRT(7) -> 0.0011312142 | BK99: =BA99/SQRT(3) -> 0.0014391797 | BL99: =BB99/SQRT(4) -> 0.0014090789 | BM99: =BC99/SQRT(6) -> 0.00061754362 | BN99: =BD99/SQRT(3) -> 0.0016980525 | BO99: =BE99/SQRT(3) -> 0.0025054385 | BP99: =BF99/SQRT(3) -> 0.0025918741
A100: Poly Sum | B100: =SUM(B87:B91,B81:B84,B74:B78,B68:B71,B61:B65,B55:B58,B50:B52,B45:B47,B41:B42,B37:B38,B33:B34,B29:B30,B25:B26,B21:B22,B17:B18,B13:B14) -> 0.0070554431 | C100: =SUM(C87:C91,C81:C84,C74:C78,C68:C71,C61:C65,C55:C58,C50:C52,C45:C47,C41:C42,C37:C38,C33:C34,C29:C30,C25:C26,C21:C22,C17:C18,C13:C14) -> 0.0041765372 | D100: =SUM(D87:D91,D81:D84,D74:D78,D68:D71,D61:D65,D55:D58,D50:D52,D45:D47,D41:D42,D37:D38,D33:D34,D29:D30,D25:D26,D21:D22,D17:D18,D13:D14) -> 0.0036304197 | E100: =SUM(E87:E91,E81:E84,E74:E78,E68:E71,E61:E65,E55:E58,E50:E52,E45:E47,E41:E42,E37:E38,E33:E34,E29:E30,E25:E26,E21:E22,E17:E18,E13:E14) -> 0.011897358 | F100: =SUM(F87:F91,F81:F84,F74:F78,F68:F71,F61:F65,F55:F58,F50:F52,F45:F47,F41:F42,F37:F38,F33:F34,F29:F30,F25:F26,F21:F22,F17:F18,F13:F14) -> 0.006900341 | G100: =SUM(G87:G91,G81:G84,G74:G78,G68:G71,G61:G65,G55:G58,G50:G52,G45:G47,G41:G42,G37:G38,G33:G34,G29:G30,G25:G26,G21:G22,G17:G18,G13:G14) -> 0.0076115869 | H100: =SUM(H87:H91,H81:H84,H74:H78,H68:H71,H61:H65,H55:H58,H50:H52,H45:H47,H41:H42,H37:H38,H33:H34,H29:H30,H25:H26,H21:H22,H17:H18,H13:H14) -> 0.0049641399 | I100: =SUM(I87:I91,I81:I84,I74:I78,I68:I71,I61:I65,I55:I58,I50:I52,I45:I47,I41:I42,I37:I38,I33:I34,I29:I30,I25:I26,I21:I22,I17:I18,I13:I14) -> 0.0042571034 | ... AL100: =SUM(AL87:AL91,AL81:AL84,AL74:AL78,AL68:AL71,AL61:AL65,AL55:AL58,AL50:AL52,AL45:AL47,AL41:AL42,AL37:AL38,AL33:AL34,AL29:AL30,AL25:AL26,AL21:AL22,AL17:AL18,AL13:AL14) -> 0.0035239524 | AM100: Poly Sum | AN100: =AVERAGE(B100:E100) -> 0.0066899394 | AO100: =AVERAGE(F100:I100) -> 0.0059332928 | AP100: =AVERAGE(J100:P100) -> 0.006701783 | AQ100: =AVERAGE(Q100:S100) -> 0.0065941363 | AR100: =AVERAGE(T100:W100) -> 0.0042255158 | AS100: =AVERAGE(X100:AC100) -> 0.0079517261 | AT100: =AVERAGE(AD100:AF100) -> 0.0081192821 | AU100: =AVERAGE(AG100:AI100) -> 0.0054194833 | AV100: =AVERAGE(AJ100:AL100) -> 0.0076104907 | AX100: =STDEV(B100:E100) -> 0.0037827966 | AY100: =STDEV(F100:I100) -> 0.0015812149 | AZ100: =STDEV(J100:P100) -> 0.0016418815 | BA100: =STDEV(Q100:S100) -> 0.0015384544 | BB100: =STDEV(T100:W100) -> 0.0013535878 | BC100: =STDEV(X100:AC100) -> 0.0048381154 | BD100: =STDEV(AD100:AF100) -> 0.0020291018 | BE100: =STDEV(AG100:AI100) -> 0.0023698431 | BF100: =STDEV(AJ100:AL100) -> 0.0068206177 | BH100: =AX100/SQRT(4) -> 0.0018913983 | BI100: =AY100/SQRT(4) -> 0.00079060743 | BJ100: =AZ100/SQRT(7) -> 0.00062057289 | BK100: =BA100/SQRT(3) -> 0.00088822708 | BL100: =BB100/SQRT(4) -> 0.0006767939 | BM100: =BC100/SQRT(6) -> 0.0019751524 | BN100: =BD100/SQRT(3) -> 0.0011715025 | BO100: =BE100/SQRT(3) -> 0.0013682296 | BP100: =BF100/SQRT(3) -> 0.0039378855
A101: Short Sum | B101: =SUM(B7:B20) -> 0.012344882 | C101: =SUM(C7:C20) -> 0.0027793896 | D101: =SUM(D7:D20) -> 0.0022567948 | E101: =SUM(E7:E20) -> 0.0096741447 | F101: =SUM(F7:F20) -> 0.0053473374 | G101: =SUM(G7:G20) -> 0.0040467729 | H101: =SUM(H7:H20) -> 0.0018025399 | I101: =SUM(I7:I20) -> 0.0020981098 | ... AL101: =SUM(AL7:AL20) -> 0.0033717939 | AM101: Short Sum | AN101: =AVERAGE(B101:E101) -> 0.0067638027 | AO101: =AVERAGE(F101:I101) -> 0.00332369 | AP101: =AVERAGE(J101:P101) -> 0.0026970341 | AQ101: =AVERAGE(Q101:S101) -> 0.0054790054 | AR101: =AVERAGE(T101:W101) -> 0.0041181737 | AS101: =AVERAGE(X101:AC101) -> 0.0043697041 | AT101: =AVERAGE(AD101:AF101) -> 0.0052277398 | AU101: =AVERAGE(AG101:AI101) -> 0.0031807867 | AV101: =AVERAGE(AJ101:AL101) -> 0.0046917319 | AX101: =STDEV(B101:E101) -> 0.0050268348 | AY101: =STDEV(F101:I101) -> 0.0016766974 | AZ101: =STDEV(J101:P101) -> 0.0015887465 | BA101: =STDEV(Q101:S101) -> 0.001924171 | BB101: =STDEV(T101:W101) -> 0.0028166108 | BC101: =STDEV(X101:AC101) -> 0.0029088213 | BD101: =STDEV(AD101:AF101) -> 0.0024640746 | BE101: =STDEV(AG101:AI101) -> 0.00072972874 | BF101: =STDEV(AJ101:AL101) -> 0.0012246486 | BH101: =AX101/SQRT(4) -> 0.0025134174 | BI101: =AY101/SQRT(4) -> 0.00083834869 | BJ101: =AZ101/SQRT(7) -> 0.00060048972 | BK101: =BA101/SQRT(3) -> 0.0011109207 | BL101: =BB101/SQRT(4) -> 0.0014083054 | BM101: =BC101/SQRT(6) -> 0.0011875213 | BN101: =BD101/SQRT(3) -> 0.0014226341 | BO101: =BE101/SQRT(3) -> 0.00042130909 | BP101: =BF101/SQRT(3) -> 0.00070705122
A102: Medium Sum | B102: =SUM(B21:B53,B55:B60,B62:B66) -> 0.017654309 | C102: =SUM(C21:C53,C55:C60,C62:C66) -> 0.014299225 | D102: =SUM(D21:D53,D55:D60,D62:D66) -> 0.015592928 | E102: =SUM(E21:E53,E55:E60,E62:E66) -> 0.025424384 | F102: =SUM(F21:F53,F55:F60,F62:F66) -> 0.023413171 | G102: =SUM(G21:G53,G55:G60,G62:G66) -> 0.022184379 | H102: =SUM(H21:H53,H55:H60,H62:H66) -> 0.028771706 | I102: =SUM(I21:I53,I55:I60,I62:I66) -> 0.019749871 | ... AL102: =SUM(AL21:AL53,AL55:AL60,AL62:AL66) -> 0.012689472 | AM102: Medium Sum | AN102: =AVERAGE(B102:E102) -> 0.018242712 | AO102: =AVERAGE(F102:I102) -> 0.023529782 | AP102: =AVERAGE(J102:P102) -> 0.02396054 | AQ102: =AVERAGE(Q102:S102) -> 0.0202876 | AR102: =AVERAGE(T102:W102) -> 0.020572212 | AS102: =AVERAGE(X102:AC102) -> 0.0210747 | AT102: =AVERAGE(AD102:AF102) -> 0.024986982 | AU102: =AVERAGE(AG102:AI102) -> 0.027016054 | AV102: =AVERAGE(AJ102:AL102) -> 0.020621493 | AX102: =STDEV(B102:E102) -> 0.0049831409 | AY102: =STDEV(F102:I102) -> 0.0038117887 | AZ102: =STDEV(J102:P102) -> 0.0086284165 | BA102: =STDEV(Q102:S102) -> 0.0039242586 | BB102: =STDEV(T102:W102) -> 0.0014790291 | BC102: =STDEV(X102:AC102) -> 0.0031125036 | BD102: =STDEV(AD102:AF102) -> 0.0010318093 | BE102: =STDEV(AG102:AI102) -> 0.012334587 | BF102: =STDEV(AJ102:AL102) -> 0.0096530223 | BH102: =AX102/SQRT(4) -> 0.0024915705 | BI102: =AY102/SQRT(4) -> 0.0019058944 | BJ102: =AZ102/SQRT(7) -> 0.0032612349 | BK102: =BA102/SQRT(3) -> 0.0022656717 | BL102: =BB102/SQRT(4) -> 0.00073951453 | BM102: =BC102/SQRT(6) -> 0.0012706743 | BN102: =BD102/SQRT(3) -> 0.00059571538 | BO102: =BE102/SQRT(3) -> 0.0071213771 | BP102: =BF102/SQRT(3) -> 0.005573175
A103: Long Sum | B103: =SUM(B81:B93,B68:B79,B61) -> 0.0017465119 | C103: =SUM(C81:C93,C68:C79,C61) -> 0.0014835893 | D103: =SUM(D81:D93,D68:D79,D61) -> 0.0014311999 | E103: =SUM(E81:E93,E68:E79,E61) -> 0.0036903959 | F103: =SUM(F81:F93,F68:F79,F61) -> 0.0014950265 | G103: =SUM(G81:G93,G68:G79,G61) -> 0.0026436864 | H103: =SUM(H81:H93,H68:H79,H61) -> 0.0030409346 | I103: =SUM(I81:I93,I68:I79,I61) -> 0.00098671038 | ... AL103: =SUM(AL81:AL93,AL68:AL79,AL61) -> 0.00096958254 | AM103: Long Sum | AN103: =AVERAGE(B103:E103) -> 0.0020879243 | AO103: =AVERAGE(F103:I103) -> 0.0020415894 | AP103: =AVERAGE(J103:P103) -> 0.0028480032 | AQ103: =AVERAGE(Q103:S103) -> 0.0022515196 | AR103: =AVERAGE(T103:W103) -> 0.0021216635 | AS103: =AVERAGE(X103:AC103) -> 0.0021878811 | AT103: =AVERAGE(AD103:AF103) -> 0.0047675601 | AU103: =AVERAGE(AG103:AI103) -> 0.001621636 | AV103: =AVERAGE(AJ103:AL103) -> 0.0012186242 | AX103: =STDEV(B103:E103) -> 0.0010771854 | AY103: =STDEV(F103:I103) -> 0.00096137268 | AZ103: =STDEV(J103:P103) -> 0.0022886615 | BA103: =STDEV(Q103:S103) -> 0.00084437415 | BB103: =STDEV(T103:W103) -> 0.0014446263 | BC103: =STDEV(X103:AC103) -> 0.00099522007 | BD103: =STDEV(AD103:AF103) -> 0.0026765341 | BE103: =STDEV(AG103:AI103) -> 0.0015531859 | BF103: =STDEV(AJ103:AL103) -> 0.00046891143 | BH103: =AX103/SQRT(4) -> 0.00053859272 | BI103: =AY103/SQRT(4) -> 0.00048068634 | BJ103: =AZ103/SQRT(7) -> 0.00086503274 | BK103: =BA103/SQRT(3) -> 0.00048749964 | BL103: =BB103/SQRT(4) -> 0.00072231316 | BM103: =BC103/SQRT(6) -> 0.00040629689 | BN103: =BD103/SQRT(3) -> 0.0015452977 | BO103: =BE103/SQRT(3) -> 0.00089673227 | BP103: =BF103/SQRT(3) -> 0.00027072614
A104: Hydroxy Sum | B104: =SUM(B87:B93,B74:B79,B61:B66,B50:B53,B41:B44,B33:B36,B25:B28) -> 0.0040568051 | C104: =SUM(C87:C93,C74:C79,C61:C66,C50:C53,C41:C44,C33:C36,C25:C28) -> 0.003209568 | D104: =SUM(D87:D93,D74:D79,D61:D66,D50:D53,D41:D44,D33:D36,D25:D28) -> 0.0032343082 | E104: =SUM(E87:E93,E74:E79,E61:E66,E50:E53,E41:E44,E33:E36,E25:E28) -> 0.0028446542 | F104: =SUM(F87:F93,F74:F79,F61:F66,F50:F53,F41:F44,F33:F36,F25:F28) -> 0.0032932324 | G104: =SUM(G87:G93,G74:G79,G61:G66,G50:G53,G41:G44,G33:G36,G25:G28) -> 0.0031787639 | H104: =SUM(H87:H93,H74:H79,H61:H66,H50:H53,H41:H44,H33:H36,H25:H28) -> 0.0031571851 | I104: =SUM(I87:I93,I74:I79,I61:I66,I50:I53,I41:I44,I33:I36,I25:I28) -> 0.0019644694 | ... AL104: =SUM(AL87:AL93,AL74:AL79,AL61:AL66,AL50:AL53,AL41:AL44,AL33:AL36,AL25:AL28) -> 0.002967869 | AM104: Hydroxy Sum | AN104: =AVERAGE(B104:E104) -> 0.0033363339 | AO104: =AVERAGE(F104:I104) -> 0.0028984127 | AP104: =AVERAGE(J104:P104) -> 0.0042343115 | AQ104: =AVERAGE(Q104:S104) -> 0.0049463565 | AR104: =AVERAGE(T104:W104) -> 0.0027217731 | AS104: =AVERAGE(X104:AC104) -> 0.0031496293 | AT104: =AVERAGE(AD104:AF104) -> 0.0060861599 | AU104: =AVERAGE(AG104:AI104) -> 0.0040443573 | AV104: =AVERAGE(AJ104:AL104) -> 0.0029974174 | AX104: =STDEV(B104:E104) -> 0.00051228462 | AY104: =STDEV(F104:I104) -> 0.00062548453 | AZ104: =STDEV(J104:P104) -> 0.0022431699 | BA104: =STDEV(Q104:S104) -> 0.00092602991 | BB104: =STDEV(T104:W104) -> 0.00051877053 | BC104: =STDEV(X104:AC104) -> 0.00092992886 | BD104: =STDEV(AD104:AF104) -> 0.0025930443 | BE104: =STDEV(AG104:AI104) -> 0.00093297278 | BF104: =STDEV(AJ104:AL104) -> 0.00080741467 | BH104: =AX104/SQRT(4) -> 0.00025614231 | BI104: =AY104/SQRT(4) -> 0.00031274226 | BJ104: =AZ104/SQRT(7) -> 0.00084783853 | BK104: =BA104/SQRT(3) -> 0.00053464362 | BL104: =BB104/SQRT(4) -> 0.00025938526 | BM104: =BC104/SQRT(6) -> 0.00037964187 | BN104: =BD104/SQRT(3) -> 0.0014970948 | BO104: =BE104/SQRT(3) -> 0.00053865208 | BP104: =BF104/SQRT(3) -> 0.00046616107
A106: TOTAL | B106: =SUM(B7:B93) -> 0.032921863 | C106: =SUM(C7:C93) -> 0.018759655 | D106: =SUM(D7:D93) -> 0.019280923 | E106: =SUM(E7:E93) -> 0.038788925 | F106: =SUM(F7:F93) -> 0.030255535 | G106: =SUM(G7:G93) -> 0.028874838 | H106: =SUM(H7:H93) -> 0.03361518 | I106: =SUM(I7:I93) -> 0.022907588 | ... AL106: =SUM(AL7:AL93) -> 0.017222496 | AM106: TOTAL | AN106: =AVERAGE(B106:E106) -> 0.027437841 | AO106: =AVERAGE(F106:I106) -> 0.028913285 | AP106: =AVERAGE(J106:P106) -> 0.029962564 | AQ106: =AVERAGE(Q106:S106) -> 0.028518422 | AR106: =AVERAGE(T106:W106) -> 0.027826522 | AS106: =AVERAGE(X106:AC106) -> 0.027745019 | AT106: =AVERAGE(AD106:AF106) -> 0.035613877 | AU106: =AVERAGE(AG106:AI106) -> 0.032145343 | AV106: =AVERAGE(AJ106:AL106) -> 0.026649336 | AX106: =STDEV(B106:E106) -> 0.010012789 | AY106: =STDEV(F106:I106) -> 0.0044713654 | AZ106: =STDEV(J106:P106) -> 0.010128639 | BA106: =STDEV(Q106:S106) -> 0.0033595011 | BB106: =STDEV(T106:W106) -> 0.0037851326 | BC106: =STDEV(X106:AC106) -> 0.0051312611 | BD106: =STDEV(AD106:AF106) -> 0.0038254194 | BE106: =STDEV(AG106:AI106) -> 0.01043299 | BF106: =STDEV(AJ106:AL106) -> 0.01057674 | BH106: =AX106/SQRT(4) -> 0.0050063945 | BI106: =AY106/SQRT(4) -> 0.0022356827 | BJ106: =AZ106/SQRT(7) -> 0.0038282658 | BK106: =BA106/SQRT(3) -> 0.0019396089 | BL106: =BB106/SQRT(4) -> 0.0018925663 | BM106: =BC106/SQRT(6) -> 0.0020948286 | BN106: =BD106/SQRT(3) -> 0.0022086069 | BO106: =BE106/SQRT(3) -> 0.0060234896 | BP106: =BF106/SQRT(3) -> 0.0061064837
A107: Number of Species | B107: =COUNTIF(B7:B93,">0") -> 16 | C107: =COUNTIF(C7:C93,">0") -> 38 | D107: =COUNTIF(D7:D93,">0") -> 31 | E107: =COUNTIF(E7:E93,">0") -> 21 | F107: =COUNTIF(F7:F93,">0") -> 20 | G107: =COUNTIF(G7:G93,">0") -> 23 | H107: =COUNTIF(H7:H93,">0") -> 19 | I107: =COUNTIF(I7:I93,">0") -> 34 | ... AL107: =COUNTIF(AL7:AL93,">0") -> 35 | AM107: Number of Species | AN107: =AVERAGE(B107:E107) -> 26.5 | AO107: =AVERAGE(F107:I107) -> 24 | AP107: =AVERAGE(J107:P107) -> 32.571429 | AQ107: =AVERAGE(Q107:S107) -> 24.333333 | AR107: =AVERAGE(T107:W107) -> 25.25 | AS107: =AVERAGE(X107:AC107) -> 27.833333 | AT107: =AVERAGE(AD107:AF107) -> 28.333333 | AU107: =AVERAGE(AG107:AI107) -> 25.333333 | AV107: =AVERAGE(AJ107:AL107) -> 28 | AX107: =STDEV(B107:E107) -> 9.8826447 | AY107: =STDEV(F107:I107) -> 6.8799225 | AZ107: =STDEV(J107:P107) -> 10.080627 | BA107: =STDEV(Q107:S107) -> 10.115994 | BB107: =STDEV(T107:W107) -> 11.383468 | BC107: =STDEV(X107:AC107) -> 11.651895 | BD107: =STDEV(AD107:AF107) -> 6.1101009 | BE107: =STDEV(AG107:AI107) -> 11.846237 | BF107: =STDEV(AJ107:AL107) -> 10.440307 | BH107: =AX107/SQRT(4) -> 4.9413224 | BI107: =AY107/SQRT(4) -> 3.4399612 | BJ107: =AZ107/SQRT(7) -> 3.810119 | BK107: =BA107/SQRT(3) -> 5.8404718 | BL107: =BB107/SQRT(4) -> 5.6917338 | BM107: =BC107/SQRT(6) -> 4.7568664 | BN107: =BD107/SQRT(3) -> 3.5276684 | BO107: =BE107/SQRT(3) -> 6.8394282 | BP107: =BF107/SQRT(3) -> 6.0277138

Sheet CE
A1: CE
A2: - | B2: n=4 | F2: n=4 | K2: n=7 | Q2: n=3 | T2: n=4 | X2: n=6 | AD2: n=3 | AG2: n=3 | AJ2: n=3
A3: - | B3: PFC | Q3: Nac | AD3: vHipp | AN3: Average | AX3: StDev | BH3: StError
A4: Species | B4: PFC | C4: PFC | D4: PFC | E4: PFC | F4: PFC | G4: PFC | H4: PFC | I4: PFC | J4: PFC | K4: PFC | L4: PFC | M4: PFC | N4: PFC | O4: PFC | P4: PFC | Q4: Nac | R4: Nac | S4: Nac | T4: Nac | U4: Nac | V4: Nac | W4: Nac | X4: Nac | Y4: Nac | Z4: Nac | AA4: Nac | AB4: Nac | AC4: Nac | AD4: vHipp | AE4: vHipp | AF4: vHipp | AG4: vHipp | AH4: vHipp | AI4: vHipp | AJ4: vHipp | AK4: vHipp | AL4: vHipp | AN4: PFC | AQ4: Nac | AT4: vHipp | AX4: PFC | BA4: Nac | BD4: vHipp | BH4: PFC | BK4: Nac | BN4: vHipp
A5: - | B5: Control | C5: Control | D5: Control | E5: Control | F5: Susceptible | G5: Susceptible | H5: Susceptible | I5: Susceptible | J5: Resilient | K5: Resilient | L5: Resilient | M5: Resilient | N5: Resilient | O5: Resilient | P5: Resilient | Q5: Control | R5: Control | S5: Control | T5: Susceptible | U5: Susceptible | V5: Susceptible | W5: Susceptible | X5: Resilient | Y5: Resilient | Z5: Resilient | AA5: Resilient | AB5: Resilient | AC5: Resilient | AD5: Control | AE5: Control | AF5: Control | AG5: Susceptible | AH5: Susceptible | AI5: Susceptible | AJ5: Resilient | AK5: Resilient | AL5: Resilient | AN5: Control | AO5: Susceptible | AP5: Resilient | AQ5: Control | AR5: Susceptible | AS5: Resilient | AT5: Control | AU5: Susceptible | AV5: Resilient | AX5: Control | AY5: Susceptible | AZ5: Resilient | BA5: Control | BB5: Susceptible | BC5: Resilient | BD5: Control | BE5: Susceptible | BF5: Resilient | BH5: Control | BI5: Susceptible | BJ5: Resilient | BK5: Control | BL5: Susceptible | BM5: Resilient | BN5: Control | BO5: Susceptible | BP5: Resilient
A6: IS_TAG_17:1/17:1/17:1_ | B6: #N/A | C6: #N/A | D6: #N/A | E6: #N/A | F6: #N/A | G6: #N/A | H6: #N/A | I6: #N/A | J6: #N/A | K6: #N/A | L6: #N/A | M6: #N/A | N6: #N/A | O6: #N/A | P6: #N/A | Q6: #N/A | R6: #N/A | S6: #N/A | T6: #N/A | U6: #N/A | V6: #N/A | W6: #N/A | X6: #N/A | Y6: #N/A | Z6: #N/A | AA6: #N/A | AB6: #N/A | AC6: #N/A | AD6: #N/A | AE6: #N/A | AF6: #N/A | AG6: #N/A | AH6: #N/A | AI6: #N/A | AJ6: #N/A | AK6: #N/A | AL6: #N/A | AN6: =AVERAGE(B6:E6) -> #N/A | AO6: =AVERAGE(F6:I6) -> #N/A | AP6: =AVERAGE(J6:P6) -> #N/A | AQ6: =AVERAGE(Q6:S6) -> #N/A | AR6: =AVERAGE(T6:W6) -> #N/A | AS6: =AVERAGE(X6:AC6) -> #N/A | AT6: =AVERAGE(AD6:AF6) -> #N/A | AU6: =AVERAGE(AG6:AI6) -> #N/A | AV6: =AVERAGE(AJ6:AL6) -> #N/A | AX6: =STDEV(B6:E6) -> #N/A | AY6: =STDEV(F6:I6) -> #N/A | AZ6: =STDEV(J6:P6) -> #N/A | BA6: =STDEV(Q6:S6) -> #N/A | BB6: =STDEV(T6:W6) -> #N/A | BC6: =STDEV(X6:AC6) -> #N/A | BD6: =STDEV(AD6:AF6) -> #N/A | BE6: =STDEV(AG6:AI6) -> #N/A | BF6: =STDEV(AJ6:AL6) -> #N/A | BH6: =AX6/SQRT(4) -> #N/A | BI6: =AY6/SQRT(4) -> #N/A | BJ6: =AZ6/SQRT(7) -> #N/A | BK6: =BA6/SQRT(3) -> #N/A | BL6: =BB6/SQRT(4) -> #N/A | BM6: =BC6/SQRT(6) -> #N/A | BN6: =BD6/SQRT(3) -> #N/A | BO6: =BE6/SQRT(3) -> #N/A | BP6: =BF6/SQRT(3) -> #N/A
A7: CE_10:0+NH4_ | B7: 0.0015247926 | C7: 0.0021622671 | D7: 0.0024745599 | E7: 0.0010468263 | F7: 0.0023303075 | G7: 0.0024571152 | H7: 0.00082207112 | I7: 0.0016194046 | J7: 0.00092800593 | K7: 0.0027911184 | L7: 0.0031257836 | M7: 0.0019665518 | N7: 0.0014263921 | O7: 0.0037427021 | P7: 0.0023544279 | Q7: 0.0016166549 | R7: 0.0042823593 | S7: 0 | T7: 0.0026356636 | U7: 0.0042629515 | V7: 0.0015444006 | W7: 0.0019696958 | X7: 0.0036304468 | Y7: 0.0019170061 | Z7: 0.0045009453 | AA7: 0.0013376099 | AB7: 0.0035624615 | AC7: 0.0019850117 | AD7: 0.0015583794 | AE7: 0.0013807697 | AF7: 0.0076621998 | AG7: 0.0001412154 | AH7: 0.0026484419 | AI7: 0.0032807391 | AJ7: 0.0017018682 | AK7: 0.0009327863 | AL7: 0.0023760566 | AN7: =AVERAGE(B7:E7) -> 0.0018021115 | AO7: =AVERAGE(F7:I7) -> 0.0018072246 | AP7: =AVERAGE(J7:P7) -> 0.0023335688 | AQ7: =AVERAGE(Q7:S7) -> 0.0019663381 | AR7: =AVERAGE(T7:W7) -> 0.0026031779 | AS7: =AVERAGE(X7:AC7) -> 0.0028222469 | AT7: =AVERAGE(AD7:AF7) -> 0.003533783 | AU7: =AVERAGE(AG7:AI7) -> 0.0020234655 | AV7: =AVERAGE(AJ7:AL7) -> 0.001670237 | AX7: =STDEV(B7:E7) -> 0.00064011987 | AY7: =STDEV(F7:I7) -> 0.00075316606 | AZ7: =STDEV(J7:P7) -> 0.00097948334 | BA7: =STDEV(Q7:S7) -> 0.0021624891 | BB7: =STDEV(T7:W7) -> 0.0011941821 | BC7: =STDEV(X7:AC7) -> 0.0012444841 | BD7: =STDEV(AD7:AF7) -> 0.0035764166 | BE7: =STDEV(AG7:AI7) -> 0.0016604514 | BF7: =STDEV(AJ7:AL7) -> 0.00072215489 | BH7: =AX7/SQRT(4) -> 0.00032005993 | BI7: =AY7/SQRT(4) -> 0.00037658303 | BJ7: =AZ7/SQRT(7) -> 0.00037020991 | BK7: =BA7/SQRT(3) -> 0.0012485137 | BL7: =BB7/SQRT(4) -> 0.00059709105 | BM7: =BC7/SQRT(6) -> 0.00050805852 | BN7: =BD7/SQRT(3) -> 0.0020648451 | BO7: =BE7/SQRT(3) -> 0.00095866207 | BP7: =BF7/SQRT(3) -> 0.00041693632
A8: CE_12:0+NH4_ | B8: 0.00047139938 | C8: 0.0012525379 | D8: 0 | E8: 0 | F8: 0 | G8: 0 | H8: 0 | I8: 0.00017531893 | J8: 0 | K8: 0.00027583637 | L8: 0 | M8: 0 | N8: 0 | O8: 0 | P8: 0 | Q8: 0 | R8: 0 | S8: 0.005576554 | T8: 0 | U8: 0 | V8: 0.00076416813 | W8: 0 | X8: 0.0011006763 | Y8: 0 | Z8: 0 | AA8: 0 | AB8: 0.00081409928 | AC8: 0 | AD8: 0 | AE8: 0.00095021026 | AF8: 0 | AG8: 0 | AH8: 0.00107021 | AI8: 0 | AJ8: 0.00093916698 | AK8: 0.0005298906 | AL8: 0 | AN8: =AVERAGE(B8:E8) -> 0.00043098431 | AO8: =AVERAGE(F8:I8) -> 4.3829732e-05 | AP8: =AVERAGE(J8:P8) -> 3.9405196e-05 | AQ8: =AVERAGE(Q8:S8) -> 0.0018588513 | AR8: =AVERAGE(T8:W8) -> 0.00019104203 | AS8: =AVERAGE(X8:AC8) -> 0.00031912927 | AT8: =AVERAGE(AD8:AF8) -> 0.00031673675 | AU8: =AVERAGE(AG8:AI8) -> 0.00035673665 | AV8: =AVERAGE(AJ8:AL8) -> 0.00048968586 | AX8: =STDEV(B8:E8) -> 0.00059106643 | AY8: =STDEV(F8:I8) -> 8.7659463e-05 | AZ8: =STDEV(J8:P8) -> 0.00010425635 | BA8: =STDEV(Q8:S8) -> 0.003219625 | BB8: =STDEV(T8:W8) -> 0.00038208406 | BC8: =STDEV(X8:AC8) -> 0.0005026301 | BD8: =STDEV(AD8:AF8) -> 0.00054860415 | BE8: =STDEV(AG8:AI8) -> 0.00061788601 | BF8: =STDEV(AJ8:AL8) -> 0.00047087256 | BH8: =AX8/SQRT(4) -> 0.00029553322 | BI8: =AY8/SQRT(4) -> 4.3829732e-05 | BJ8: =AZ8/SQRT(7) -> 3.9405196e-05 | BK8: =BA8/SQRT(3) -> 0.0018588513 | BL8: =BB8/SQRT(4) -> 0.00019104203 | BM8: =BC8/SQRT(6) -> 0.00020519788 | BN8: =BD8/SQRT(3) -> 0.00031673675 | BO8: =BE8/SQRT(3) -> 0.00035673665 | BP8: =BF8/SQRT(3) -> 0.0002718584
A9: CE_14:0+NH4_ | B9: 0.0007148481 | C9: 0 | D9: 2.748809e-05 | E9: 0 | F9: 0 | G9: 0 | H9: 0 | I9: 0.00098873702 | J9: 0 | K9: 0 | L9: 0.0010108855 | M9: 0.00061551349 | N9: 0 | O9: 0.00094357654 | P9: 7.1548186e-05 | Q9: 0 | R9: 0 | S9: 0.0028588743 | T9: 0 | U9: 0.00046144933 | V9: 0 | W9: 0 | X9: 0 | Y9: 0.0013956579 | Z9: 0 | AA9: 0 | AB9: 0.00055963144 | AC9: 0.0030513628 | AD9: 0.00079904123 | AE9: 0.00030900467 | AF9: 0.00069328182 | AG9: 0 | AH9: 0 | AI9: 0 | AJ9: 0.0002097949 | AK9: 0.00068833796 | AL9: 0.00080785975 | AN9: =AVERAGE(B9:E9) -> 0.00018558405 | AO9: =AVERAGE(F9:I9) -> 0.00024718425 | AP9: =AVERAGE(J9:P9) -> 0.00037736053 | AQ9: =AVERAGE(Q9:S9) -> 0.00095295809 | AR9: =AVERAGE(T9:W9) -> 0.00011536233 | AS9: =AVERAGE(X9:AC9) -> 0.00083444203 | AT9: =AVERAGE(AD9:AF9) -> 0.00060044257 | AU9: =AVERAGE(AG9:AI9) -> 0 | AV9: =AVERAGE(AJ9:AL9) -> 0.0005686642 | AX9: =STDEV(B9:E9) -> 0.00035308056 | AY9: =STDEV(F9:I9) -> 0.00049436851 | AZ9: =STDEV(J9:P9) -> 0.00046536641 | BA9: =STDEV(Q9:S9) -> 0.0016505718 | BB9: =STDEV(T9:W9) -> 0.00023072467 | BC9: =STDEV(X9:AC9) -> 0.0012160676 | BD9: =STDEV(AD9:AF9) -> 0.00025787265 | BE9: =STDEV(AG9:AI9) -> 0 | BF9: =STDEV(AJ9:AL9) -> 0.00031648341 | BH9: =AX9/SQRT(4) -> 0.00017654028 | BI9: =AY9/SQRT(4) -> 0.00024718425 | BJ9: =AZ9/SQRT(7) -> 0.00017589197 | BK9: =BA9/SQRT(3) -> 0.00095295809 | BL9: =BB9/SQRT(4) -> 0.00011536233 | BM9: =BC9/SQRT(6) -> 0.00049645753 | BN9: =BD9/SQRT(3) -> 0.00014888284 | BO9: =BE9/SQRT(3) -> 0 | BP9: =BF9/SQRT(3) -> 0.00018272178
A10: CE_16:2+NH4_ | B10: 0.00047139938 | C10: 0.001347424 | D10: 0 | E10: 0.00057833856 | F10: 0 | G10: 0 | H10: 0 | I10: 0.00069158815 | J10: 0 | K10: 0 | L10: 0.00060221136 | M10: 0.00061551349 | N10: 0.00076505894 | O10: 0.00057670204 | P10: 0.00047452941 | Q10: 0 | R10: 0 | S10: 0 | T10: 0 | U10: 0.00050453682 | V10: 0.0018125565 | W10: 0 | X10: 0 | Y10: 0.00030396087 | Z10: 0.0015301571 | AA10: 0 | AB10: 0.00056652323 | AC10: 0.00072167893 | AD10: 0.00079904123 | AE10: 0 | AF10: 0.0013317183 | AG10: 0.0001412154 | AH10: 0 | AI10: 0 | AJ10: 0 | AK10: 0.00016716364 | AL10: 0 | AN10: =AVERAGE(B10:E10) -> 0.00059929048 | AO10: =AVERAGE(F10:I10) -> 0.00017289704 | AP10: =AVERAGE(J10:P10) -> 0.00043343075 | AQ10: =AVERAGE(Q10:S10) -> 0 | AR10: =AVERAGE(T10:W10) -> 0.00057927332 | AS10: =AVERAGE(X10:AC10) -> 0.00052038669 | AT10: =AVERAGE(AD10:AF10) -> 0.00071025316 | AU10: =AVERAGE(AG10:AI10) -> 4.7071801e-05 | AV10: =AVERAGE(AJ10:AL10) -> 5.5721214e-05 | AX10: =STDEV(B10:E10) -> 0.00055846453 | AY10: =STDEV(F10:I10) -> 0.00034579408 | AZ10: =STDEV(J10:P10) -> 0.0003081013 | BA10: =STDEV(Q10:S10) -> 0 | BB10: =STDEV(T10:W10) -> 0.00085589876 | BC10: =STDEV(X10:AC10) -> 0.00057458302 | BD10: =STDEV(AD10:AF10) -> 0.00067028417 | BE10: =STDEV(AG10:AI10) -> 8.153075e-05 | BF10: =STDEV(AJ10:AL10) -> 9.6511974e-05 | BH10: =AX10/SQRT(4) -> 0.00027923227 | BI10: =AY10/SQRT(4) -> 0.00017289704 | BJ10: =AZ10/SQRT(7) -> 0.00011645135 | BK10: =BA10/SQRT(3) -> 0 | BL10: =BB10/SQRT(4) -> 0.00042794938 | BM10: =BC10/SQRT(6) -> 0.00023457253 | BN10: =BD10/SQRT(3) -> 0.00038698875 | BO10: =BE10/SQRT(3) -> 4.7071801e-05 | BP10: =BF10/SQRT(3) -> 5.5721214e-05
A11: CE_16:1+NH4_ | B11: 0.00077623404 | C11: 0.0021622671 | D11: 0.0056352125 | E11: 0.0016909113 | F11: 0 | G11: 0.00076237996 | H11: 0.00066951544 | I11: 0.0025865817 | J11: 0.0012200831 | K11: 0.0015613735 | L11: 0.0010108855 | M11: 0.0044261655 | N11: 0.0023121924 | O11: 0.0028719786 | P11: 0.0025653956 | Q11: 0.0012442508 | R11: 0.0033838272 | S11: 0.0028588743 | T11: 0.0032899315 | U11: 0.00046144933 | V11: 0.0034431171 | W11: 0.0019925469 | X11: 0.00063739135 | Y11: 0.0029848062 | Z11: 0.0067277828 | AA11: 0.0031489193 | AB11: 0.0036829868 | AC11: 0.0053143656 | AD11: 0.00079904123 | AE11: 0.0014715887 | AF11: 0.0087842873 | AG11: 0.00073232941 | AH11: 0 | AI11: 0.0043290914 | AJ11: 0.00095167705 | AK11: 0.0037560939 | AL11: 0.0035293349 | AN11: =AVERAGE(B11:E11) -> 0.0025661562 | AO11: =AVERAGE(F11:I11) -> 0.0010046193 | AP11: =AVERAGE(J11:P11) -> 0.0022811534 | AQ11: =AVERAGE(Q11:S11) -> 0.0024956508 | AR11: =AVERAGE(T11:W11) -> 0.0022967612 | AS11: =AVERAGE(X11:AC11) -> 0.0037493753 | AT11: =AVERAGE(AD11:AF11) -> 0.0036849724 | AU11: =AVERAGE(AG11:AI11) -> 0.0016871403 | AV11: =AVERAGE(AJ11:AL11) -> 0.0027457019 | AX11: =STDEV(B11:E11) -> 0.0021254104 | AY11: =STDEV(F11:I11) -> 0.0011079771 | AZ11: =STDEV(J11:P11) -> 0.0011754036 | BA11: =STDEV(Q11:S11) -> 0.0011150763 | BB11: =STDEV(T11:W11) -> 0.0013858132 | BC11: =STDEV(X11:AC11) -> 0.002095427 | BD11: =STDEV(AD11:AF11) -> 0.0044289208 | BE11: =STDEV(AG11:AI11) -> 0.0023171116 | BF11: =STDEV(AJ11:AL11) -> 0.0015578026 | BH11: =AX11/SQRT(4) -> 0.0010627052 | BI11: =AY11/SQRT(4) -> 0.00055398854 | BJ11: =AZ11/SQRT(7) -> 0.00044426081 | BK11: =BA11/SQRT(3) -> 0.00064378963 | BL11: =BB11/SQRT(4) -> 0.00069290662 | BM11: =BC11/SQRT(6) -> 0.00085545448 | BN11: =BD11/SQRT(3) -> 0.0025570386 | BO11: =BE11/SQRT(3) -> 0.001337785 | BP11: =BF11/SQRT(3) -> 0.00089939774
A12: CE_16:0+NH4_ | B12: 0.00024895262 | C12: 0.00045842803 | D12: 0.00067215091 | E12: 0.0020365208 | F12: 0.001295063 | G12: 0.00012219382 | H12: 0.0019714876 | I12: 0.0024922077 | J12: 0.00023234352 | K12: 0.001553636 | L12: 0.00060221136 | M12: 0.027575407 | N12: 0.0014786434 | O12: 0.0036417263 | P12: 0.0014210964 | Q12: 0.0012896593 | R12: 0.00090575769 | S12: 0.0051224563 | T12: 0.00011368407 | U12: 0.00077459921 | V12: 0.0024818706 | W12: 0.0040069718 | X12: 0.00010181118 | Y12: 0.0025297811 | Z12: 0.00091155526 | AA12: 2.8823722e-05 | AB12: 0.00074969604 | AC12: 0.0020866586 | AD12: 0.00048839221 | AE12: 0.0014715887 | AF12: 0.00063843643 | AG12: 0.0017087686 | AH12: 0.0021507424 | AI12: 0.0021239755 | AJ12: 0 | AK12: 0.0010999499 | AL12: 0.00048639901 | AN12: =AVERAGE(B12:E12) -> 0.00085401309 | AO12: =AVERAGE(F12:I12) -> 0.001470238 | AP12: =AVERAGE(J12:P12) -> 0.0052150092 | AQ12: =AVERAGE(Q12:S12) -> 0.0024392911 | AR12: =AVERAGE(T12:W12) -> 0.0018442814 | AS12: =AVERAGE(X12:AC12) -> 0.0010680543 | AT12: =AVERAGE(AD12:AF12) -> 0.00086613911 | AU12: =AVERAGE(AG12:AI12) -> 0.0019944955 | AV12: =AVERAGE(AJ12:AL12) -> 0.00052878298 | AX12: =STDEV(B12:E12) -> 0.00080704896 | AY12: =STDEV(F12:I12) -> 0.0010236508 | AZ12: =STDEV(J12:P12) -> 0.009919067 | BA12: =STDEV(Q12:S12) -> 0.0023316039 | BB12: =STDEV(T12:W12) -> 0.0017533717 | BC12: =STDEV(X12:AC12) -> 0.0010308899 | BD12: =STDEV(AD12:AF12) -> 0.00052967462 | BE12: =STDEV(AG12:AI12) -> 0.0002478084 | BF12: =STDEV(AJ12:AL12) -> 0.00055119848 | BH12: =AX12/SQRT(4) -> 0.00040352448 | BI12: =AY12/SQRT(4) -> 0.00051182539 | BJ12: =AZ12/SQRT(7) -> 0.0037490549 | BK12: =BA12/SQRT(3) -> 0.0013461521 | BL12: =BB12/SQRT(4) -> 0.00087668585 | BM12: =BC12/SQRT(6) -> 0.00042085903 | BN12: =BD12/SQRT(3) -> 0.00030580779 | BO12: =BE12/SQRT(3) -> 0.00014307224 | BP12: =BF12/SQRT(3) -> 0.00031823459
A13: CE_18:3+NH4_ | B13: 0 | C13: 0 | D13: 0.0013111055 | E13: 0 | F13: 0.00038172965 | G13: 0 | H13: 0.001226485 | I13: 0 | J13: 0.00047810997 | K13: 0 | L13: 0.00091119474 | M13: 0.0018583011 | N13: 0.0012542534 | O13: 0.00022186988 | P13: 0.00062172011 | Q13: 0.0007741295 | R13: 0 | S13: 0.00012636973 | T13: 0.00083844793 | U13: 0.00050453682 | V13: 0.00017193828 | W13: 0.00047173138 | X13: 0 | Y13: 0 | Z13: 0 | AA13: 6.565145e-05 | AB13: 0 | AC13: 0.00037057775 | AD13: 0.00058473727 | AE13: 0.00056606551 | AF13: 0 | AG13: 0 | AH13: 0 | AI13: 0.00022350079 | AJ13: 0.0011912722 | AK13: 0.0005298906 | AL13: 0.00059972774 | AN13: =AVERAGE(B13:E13) -> 0.00032777638 | AO13: =AVERAGE(F13:I13) -> 0.00040205366 | AP13: =AVERAGE(J13:P13) -> 0.0007636356 | AQ13: =AVERAGE(Q13:S13) -> 0.00030016641 | AR13: =AVERAGE(T13:W13) -> 0.0004966636 | AS13: =AVERAGE(X13:AC13) -> 7.2704867e-05 | AT13: =AVERAGE(AD13:AF13) -> 0.00038360093 | AU13: =AVERAGE(AG13:AI13) -> 7.4500262e-05 | AV13: =AVERAGE(AJ13:AL13) -> 0.00077363018 | AX13: =STDEV(B13:E13) -> 0.00065555276 | AY13: =STDEV(F13:I13) -> 0.00057832932 | AZ13: =STDEV(J13:P13) -> 0.00063758483 | BA13: =STDEV(Q13:S13) -> 0.00041529879 | BB13: =STDEV(T13:W13) -> 0.00027260879 | BC13: =STDEV(X13:AC13) -> 0.00014827137 | BD13: =STDEV(AD13:AF13) -> 0.0003323393 | BE13: =STDEV(AG13:AI13) -> 0.00012903824 | BF13: =STDEV(AJ13:AL13) -> 0.00036337026 | BH13: =AX13/SQRT(4) -> 0.00032777638 | BI13: =AY13/SQRT(4) -> 0.00028916466 | BJ13: =AZ13/SQRT(7) -> 0.00024098441 | BK13: =BA13/SQRT(3) -> 0.00023977287 | BL13: =BB13/SQRT(4) -> 0.0001363044 | BM13: =BC13/SQRT(6) -> 6.0531534e-05 | BN13: =BD13/SQRT(3) -> 0.00019187619 | BO13: =BE13/SQRT(3) -> 7.4500262e-05 | BP13: =BF13/SQRT(3) -> 0.00020979192
A14: CE_18:2+NH4_ | B14: 0.0053054797 | C14: 0.0090079413 | D14: 0.021025047 | E14: 0.013169416 | F14: 0.0037466043 | G14: 0.0068931885 | H14: 0.0043785558 | I14: 0.0099613231 | J14: 0.0084017856 | K14: 0.0018421099 | L14: 0.0067874563 | M14: 0.05625611 | N14: 0.0050464827 | O14: 0.0072215623 | P14: 0.0079496202 | Q14: 0.0067958689 | R14: 0.0044424996 | S14: 0.0055436887 | T14: 0.0037008684 | U14: 0.0028996938 | V14: 0.0063338226 | W14: 0.0088567163 | X14: 0.0036222345 | Y14: 0.0081994333 | Z14: 0.0077674048 | AA14: 0.0099088369 | AB14: 0.011044981 | AC14: 0.0083056091 | AD14: 0.0017954338 | AE14: 0.0011237089 | AF14: 0.011627357 | AG14: 0.0019954472 | AH14: 0.0057565571 | AI14: 0.0046346017 | AJ14: 0.0021913896 | AK14: 0.0077894411 | AL14: 0.0094318163 | AN14: =AVERAGE(B14:E14) -> 0.012126971 | AO14: =AVERAGE(F14:I14) -> 0.0062449179 | AP14: =AVERAGE(J14:P14) -> 0.013357875 | AQ14: =AVERAGE(Q14:S14) -> 0.0055940191 | AR14: =AVERAGE(T14:W14) -> 0.0054477753 | AS14: =AVERAGE(X14:AC14) -> 0.0081414167 | AT14: =AVERAGE(AD14:AF14) -> 0.0048488331 | AU14: =AVERAGE(AG14:AI14) -> 0.0041288687 | AV14: =AVERAGE(AJ14:AL14) -> 0.0064708823 | AX14: =STDEV(B14:E14) -> 0.0067459503 | AY14: =STDEV(F14:I14) -> 0.0028258805 | AZ14: =STDEV(J14:P14) -> 0.019046379 | BA14: =STDEV(Q14:S14) -> 0.0011774917 | BB14: =STDEV(T14:W14) -> 0.002704956 | BC14: =STDEV(X14:AC14) -> 0.0025356529 | BD14: =STDEV(AD14:AF14) -> 0.0058799736 | BE14: =STDEV(AG14:AI14) -> 0.0019308835 | BF14: =STDEV(AJ14:AL14) -> 0.0037960364 | BH14: =AX14/SQRT(4) -> 0.0033729751 | BI14: =AY14/SQRT(4) -> 0.0014129402 | BJ14: =AZ14/SQRT(7) -> 0.0071988548 | BK14: =BA14/SQRT(3) -> 0.00067982515 | BL14: =BB14/SQRT(4) -> 0.001352478 | BM14: =BC14/SQRT(6) -> 0.001035176 | BN14: =BD14/SQRT(3) -> 0.0033948043 | BO14: =BE14/SQRT(3) -> 0.0011147961 | BP14: =BF14/SQRT(3) -> 0.0021916427
A15: CE_18:1+NH4_ | B15: 0.0010372319 | C15: 0.0039916342 | D15: 0.0075173531 | E15: 0.0077724211 | F15: 0.0016767926 | G15: 0.0046391783 | H15: 0.0041546862 | I15: 0.00328177 | J15: 0.002457021 | K15: 0.0032514103 | L15: 0.0026025336 | M15: 0.010372623 | N15: 0.0076289157 | O15: 0.0053554826 | P15: 0.0095418819 | Q15: 0.0014870395 | R15: 0.0018042046 | S15: 0.0058714167 | T15: 0.00080862466 | U15: 0.00073686663 | V15: 0.0048857495 | W15: 0.0074757913 | X15: 0.0023900874 | Y15: 0.00054028202 | Z15: 0.002949698 | AA15: 0.0058953777 | AB15: 0.0050991171 | AC15: 0.0069748455 | AD15: 0.00058852375 | AE15: 0.0018421979 | AF15: 0.0082220682 | AG15: 0.00073232941 | AH15: 0.0014496181 | AI15: 0.0053679664 | AJ15: 0.0015022366 | AK15: 0.0073721634 | AL15: 0.0068795033 | AN15: =AVERAGE(B15:E15) -> 0.0050796601 | AO15: =AVERAGE(F15:I15) -> 0.0034381068 | AP15: =AVERAGE(J15:P15) -> 0.005887124 | AQ15: =AVERAGE(Q15:S15) -> 0.0030542203 | AR15: =AVERAGE(T15:W15) -> 0.003476758 | AS15: =AVERAGE(X15:AC15) -> 0.0039749013 | AT15: =AVERAGE(AD15:AF15) -> 0.0035509299 | AU15: =AVERAGE(AG15:AI15) -> 0.002516638 | AV15: =AVERAGE(AJ15:AL15) -> 0.0052513011 | AX15: =STDEV(B15:E15) -> 0.0031999133 | AY15: =STDEV(F15:I15) -> 0.0013016307 | AZ15: =STDEV(J15:P15) -> 0.0033240178 | BA15: =STDEV(Q15:S15) -> 0.0024449121 | BB15: =STDEV(T15:W15) -> 0.0032966379 | BC15: =STDEV(X15:AC15) -> 0.0024211998 | BD15: =STDEV(AD15:AF15) -> 0.0040936016 | BE15: =STDEV(AG15:AI15) -> 0.0024952317 | BF15: =STDEV(AJ15:AL15) -> 0.0032561161 | BH15: =AX15/SQRT(4) -> 0.0015999566 | BI15: =AY15/SQRT(4) -> 0.00065081536 | BJ15: =AZ15/SQRT(7) -> 0.0012563606 | BK15: =BA15/SQRT(3) -> 0.0014115707 | BL15: =BB15/SQRT(4) -> 0.001648319 | BM15: =BC15/SQRT(6) -> 0.00098845068 | BN15: =BD15/SQRT(3) -> 0.002363442 | BO15: =BE15/SQRT(3) -> 0.0014406227 | BP15: =BF15/SQRT(3) -> 0.0018799195
A16: CE_18:0+NH4_ | B16: 0.0018112128 | C16: 0.0036822901 | D16: 6.4138876e-05 | E16: 0.0028979766 | F16: 0.0010896217 | G16: 0.0027904055 | H16: 0.0014938193 | I16: 0.0015766097 | J16: 0.00044989596 | K16: 0.00095123409 | L16: 0.0014051598 | M16: 0.0036472595 | N16: 0.0042831255 | O16: 0.0039810863 | P16: 0.0005460776 | Q16: 0.00025703003 | R16: 0.00056227749 | S16: 0.00012636973 | T16: 0 | U16: 0 | V16: 0.00074237593 | W16: 0.0018817282 | X16: 0.00084571797 | Y16: 0 | Z16: 0.00091155526 | AA16: 0.0006107765 | AB16: 0.001737848 | AC16: 0.0011962428 | AD16: 0 | AE16: 0 | AF16: 0.00015598882 | AG16: 0.0010044526 | AH16: 0.0011651618 | AI16: 0.0011900317 | AJ16: 0.00046190011 | AK16: 0.001445631 | AL16: 0.002160476 | AN16: =AVERAGE(B16:E16) -> 0.0021139046 | AO16: =AVERAGE(F16:I16) -> 0.0017376141 | AP16: =AVERAGE(J16:P16) -> 0.0021805484 | AQ16: =AVERAGE(Q16:S16) -> 0.00031522575 | AR16: =AVERAGE(T16:W16) -> 0.00065602604 | AS16: =AVERAGE(X16:AC16) -> 0.0008836901 | AT16: =AVERAGE(AD16:AF16) -> 5.1996273e-05 | AU16: =AVERAGE(AG16:AI16) -> 0.001119882 | AV16: =AVERAGE(AJ16:AL16) -> 0.0013560024 | AX16: =STDEV(B16:E16) -> 0.0015671379 | AY16: =STDEV(F16:I16) -> 0.000733399 | AZ16: =STDEV(J16:P16) -> 0.001712362 | BA16: =STDEV(Q16:S16) -> 0.00022370505 | BB16: =STDEV(T16:W16) -> 0.00088892116 | BC16: =STDEV(X16:AC16) -> 0.00058049692 | BD16: =STDEV(AD16:AF16) -> 9.0060186e-05 | BE16: =STDEV(AG16:AI16) -> 0.00010073525 | BF16: =STDEV(AJ16:AL16) -> 0.00085282762 | BH16: =AX16/SQRT(4) -> 0.00078356897 | BI16: =AY16/SQRT(4) -> 0.0003666995 | BJ16: =AZ16/SQRT(7) -> 0.00064721201 | BK16: =BA16/SQRT(3) -> 0.00012915617 | BL16: =BB16/SQRT(4) -> 0.00044446058 | BM16: =BC16/SQRT(6) -> 0.00023698688 | BN16: =BD16/SQRT(3) -> 5.1996273e-05 | BO16: =BE16/SQRT(3) -> 5.8159523e-05 | BP16: =BF16/SQRT(3) -> 0.00049238026
