Workbook

Sheet AC
A1: AC
A2: -
A3: - | B3: n=4 | F3: n=4 | K3: n=7 | Q3: n=3 | T3: n=4 | X3: n=6 | AD3: n=3 | AG3: n=3 | AJ3: n=3 | AN3: Average | AX3: StDev | BH3: StError
A4: Species | B4: PFC | Q4: Nac | AD4: vHipp | AN4: PFC | AQ4: Nac | AT4: vHipp | AX4: PFC | BA4: Nac | BD4: vHipp | BH4: PFC | BK4: Nac | BN4: vHipp
A5: - | B5: Control | C5: Control | D5: Control | E5: Control | F5: Susceptible | G5: Susceptible | H5: Susceptible | I5: Susceptible | J5: Resilient | K5: Resilient | L5: Resilient | M5: Resilient | N5: Resilient | O5: Resilient | P5: Resilient | Q5: Control | R5: Control | S5: Control | T5: Susceptible | U5: Susceptible | V5: Susceptible | W5: Susceptible | X5: Resilient | Y5: Resilient | Z5: Resilient | AA5: Resilient | AB5: Resilient | AC5: Resilient | AD5: Control | AE5: Control | AF5: Control | AG5: Susceptible | AH5: Susceptible | AI5: Susceptible | AJ5: Resilient | AK5: Resilient | AL5: Resilient | AN5: Control | AO5: Susceptible | AP5: Resilient | AQ5: Control | AR5: Susceptible | AS5: Resilient | AT5: Control | AU5: Susceptible | AV5: Resilient | AX5: Control | AY5: Susceptible | AZ5: Resilient | BA5: Control | BB5: Susceptible | BC5: Resilient | BD5: Control | BE5: Susceptible | BF5: Resilient | BH5: Control | BI5: Susceptible | BJ5: Resilient | BK5: Control | BL5: Susceptible | BM5: Resilient | BN5: Control | BO5: Susceptible | BP5: Resilient
A6: IS_13C4_16:0 | B6: #N/A | C6: #N/A | D6: #N/A | E6: #N/A | F6: #N/A | G6: #N/A | H6: #N/A | I6: #N/A | J6: #N/A | K6: #N/A | L6: #N/A | M6: #N/A | N6: #N/A | O6: #N/A | P6: #N/A | Q6: #N/A | R6: #N/A | S6: #N/A | T6: #N/A | U6: #N/A | V6: #N/A | W6: #N/A | X6: #N/A | Y6: #N/A | Z6: #N/A | AA6: #N/A | AB6: #N/A | AC6: #N/A | AD6: #N/A | AE6: #N/A | AF6: #N/A | AG6: #N/A | AH6: #N/A | AI6: #N/A | AJ6: #N/A | AK6: #N/A | AL6: #N/A | AN6: =AVERAGE(B6:E6) -> #N/A | AO6: =AVERAGE(F6:I6) -> #N/A | AP6: =AVERAGE(J6:P6) -> #N/A | AQ6: =AVERAGE(Q6:S6) -> #N/A | AR6: =AVERAGE(T6:W6) -> #N/A | AS6: =AVERAGE(X6:AC6) -> #N/A | AT6: =AVERAGE(AD6:AF6) -> #N/A | AU6: =AVERAGE(AG6:AI6) -> #N/A | AV6: =AVERAGE(AJ6:AL6) -> #N/A | AX6: =STDEV(B6:E6) -> #N/A | AY6: =STDEV(F6:I6) -> #N/A | AZ6: =STDEV(J6:P6) -> #N/A | BA6: =STDEV(Q6:S6) -> #N/A | BB6: =STDEV(T6:W6) -> #N/A | BC6: =STDEV(X6:AC6) -> #N/A | BD6: =STDEV(AD6:AF6) -> #N/A | BE6: =STDEV(AG6:AI6) -> #N/A | BF6: =STDEV(AJ6:AL6) -> #N/A | BH6: =AX6/SQRT(4) -> #N/A | BI6: =AY6/SQRT(4) -> #N/A | BJ6: =AZ6/SQRT(7) -> #N/A | BK6: =BA6/SQRT(3) -> #N/A | BL6: =BB6/SQRT(4) -> #N/A | BM6: =BC6/SQRT(6) -> #N/A | BN6: =BD6/SQRT(3) -> #N/A | BO6: =BE6/SQRT(3) -> #N/A | BP6: =BF6/SQRT(3) -> #N/A
A7: AC_2:0 | B7: 0.0046626148 | C7: 0.001639229 | D7: 0.0013331023 | E7: 0.0017427241 | F7: 0.0011619352 | G7: 0 | H7: 0.0012405664 | I7: 0.00089798223 | J7: 0.00093920394 | K7: 0.00089822076 | L7: 3.6929886e-05 | M7: 0.0015580937 | N7: 0.00023007197 | O7: 0.0011832619 | P7: 0.0013128941 | Q7: 0.00045236272 | R7: 0.0026758113 | S7: 0.0013332022 | T7: 0.0043922494 | U7: 0 | V7: 0.0012328321 | W7: 0.0012577284 | X7: 0 | Y7: 0 | Z7: 0.002563513 | AA7: 0.0014311857 | AB7: 0.00061868602 | AC7: 0.0012065243 | AD7: 0.003751091 | AE7: 0.0018598702 | AF7: 0.0022939847 | AG7: 0 | AH7: 0.0012729084 | AI7: 0 | AJ7: 0 | AK7: 0.0035561312 | AL7: 0.0017842785 | AN7: =AVERAGE(B7:E7) -> 0.0023444176 | AO7: =AVERAGE(F7:I7) -> 0.00082512096 | AP7: =AVERAGE(J7:P7) -> 0.0008798109 | AQ7: =AVERAGE(Q7:S7) -> 0.0014871254 | AR7: =AVERAGE(T7:W7) -> 0.0017207025 | AS7: =AVERAGE(X7:AC7) -> 0.00096998484 | AT7: =AVERAGE(AD7:AF7) -> 0.002634982 | AU7: =AVERAGE(AG7:AI7) -> 0.00042430281 | AV7: =AVERAGE(AJ7:AL7) -> 0.0017801366 | AX7: =STDEV(B7:E7) -> 0.0015552195 | AY7: =STDEV(F7:I7) -> 0.00056926037 | AZ7: =STDEV(J7:P7) -> 0.00055919387 | BA7: =STDEV(Q7:S7) -> 0.0011196875 | BB7: =STDEV(T7:W7) -> 0.0018753082 | BC7: =STDEV(X7:AC7) -> 0.0009811362 | BD7: =STDEV(AD7:AF7) -> 0.00099065049 | BE7: =STDEV(AG7:AI7) -> 0.00073491403 | BF7: =STDEV(AJ7:AL7) -> 0.0017780692 | BH7: =AX7/SQRT(4) -> 0.00077760975 | BI7: =AY7/SQRT(4) -> 0.00028463019 | BJ7: =AZ7/SQRT(7) -> 0.00021135542 | BK7: =BA7/SQRT(3) -> 0.0006464519 | BL7: =BB7/SQRT(4) -> 0.0009376541 | BM7: =BC7/SQRT(6) -> 0.00040054717 | BN7: =BD7/SQRT(3) -> 0.00057195233 | BO7: =BE7/SQRT(3) -> 0.00042430281 | BP7: =BF7/SQRT(3) -> 0.0010265687
A8: AC_3:0 | B8: 0 | C8: 0 | D8: 0.00029865071 | E8: 0.00077587904 | F8: 0 | G8: 0.00078187718 | H8: 0 | I8: 0.00022880337 | J8: 0 | K8: 0 | L8: 0 | M8: 0 | N8: 0.00022301896 | O8: 0.00018767856 | P8: 0.00023091997 | Q8: 0 | R8: 0 | S8: 0.00074804596 | T8: 0 | U8: 0 | V8: 0.00058248021 | W8: 0.00016317967 | X8: 0 | Y8: 0 | Z8: 0 | AA8: 0.00039832239 | AB8: 0 | AC8: 0.00013741849 | AD8: 0 | AE8: 0 | AF8: 0.0007402712 | AG8: 0.00073726073 | AH8: 0.00077415718 | AI8: 0 | AJ8: 0 | AK8: 0.00037522443 | AL8: 0.00035600626 | AN8: =AVERAGE(B8:E8) -> 0.00026863244 | AO8: =AVERAGE(F8:I8) -> 0.00025267014 | AP8: =AVERAGE(J8:P8) -> 9.165964e-05 | AQ8: =AVERAGE(Q8:S8) -> 0.00024934865 | AR8: =AVERAGE(T8:W8) -> 0.00018641497 | AS8: =AVERAGE(X8:AC8) -> 8.9290148e-05 | AT8: =AVERAGE(AD8:AF8) -> 0.00024675707 | AU8: =AVERAGE(AG8:AI8) -> 0.00050380597 | AV8: =AVERAGE(AJ8:AL8) -> 0.00024374356 | AX8: =STDEV(B8:E8) -> 0.00036629996 | AY8: =STDEV(F8:I8) -> 0.00036892371 | AZ8: =STDEV(J8:P8) -> 0.00011509004 | BA8: =STDEV(Q8:S8) -> 0.00043188454 | BB8: =STDEV(T8:W8) -> 0.00027502039 | BC8: =STDEV(X8:AC8) -> 0.00016106408 | BD8: =STDEV(AD8:AF8) -> 0.00042739578 | BE8: =STDEV(AG8:AI8) -> 0.00043669861 | BF8: =STDEV(AJ8:AL8) -> 0.00021130672 | BH8: =AX8/SQRT(4) -> 0.00018314998 | BI8: =AY8/SQRT(4) -> 0.00018446185 | BJ8: =AZ8/SQRT(7) -> 4.3499945e-05 | BK8: =BA8/SQRT(3) -> 0.00024934865 | BL8: =BB8/SQRT(4) -> 0.00013751019 | BM8: =BC8/SQRT(6) -> 6.5754135e-05 | BN8: =BD8/SQRT(3) -> 0.00024675707 | BO8: =BE8/SQRT(3) -> 0.00025212806 | BP8: =BF8/SQRT(3) -> 0.00012199799
A9: AC_4:1 | B9: 0 | C9: 0 | D9: 0 | E9: 0.00089101369 | F9: 0.00075943384 | G9: 0 | H9: 0 | I9: 0.00018472273 | J9: 0 | K9: 0 | L9: 0 | M9: 0.00015413235 | N9: 0 | O9: 0 | P9: 0 | Q9: 0 | R9: 0 | S9: 0.00074804596 | T9: 0 | U9: 0 | V9: 0 | W9: 0 | X9: 0 | Y9: 0 | Z9: 0 | AA9: 6.9375803e-05 | AB9: 0 | AC9: 0 | AD9: 0 | AE9: 0 | AF9: 0 | AG9: 0 | AH9: 0.00020636936 | AI9: 0 | AJ9: 0 | AK9: 0.00016081047 | AL9: 0.00029220663 | AN9: =AVERAGE(B9:E9) -> 0.00022275342 | AO9: =AVERAGE(F9:I9) -> 0.00023603914 | AP9: =AVERAGE(J9:P9) -> 2.2018907e-05 | AQ9: =AVERAGE(Q9:S9) -> 0.00024934865 | AR9: =AVERAGE(T9:W9) -> 0 | AS9: =AVERAGE(X9:AC9) -> 1.1562634e-05 | AT9: =AVERAGE(AD9:AF9) -> 0 | AU9: =AVERAGE(AG9:AI9) -> 6.8789787e-05 | AV9: =AVERAGE(AJ9:AL9) -> 0.0001510057 | AX9: =STDEV(B9:E9) -> 0.00044550684 | AY9: =STDEV(F9:I9) -> 0.00035963145 | AZ9: =STDEV(J9:P9) -> 5.8256553e-05 | BA9: =STDEV(Q9:S9) -> 0.00043188454 | BB9: =STDEV(T9:W9) -> 0 | BC9: =STDEV(X9:AC9) -> 2.8322553e-05 | BD9: =STDEV(AD9:AF9) -> 0 | BE9: =STDEV(AG9:AI9) -> 0.00011914741 | BF9: =STDEV(AJ9:AL9) -> 0.00014634985 | BH9: =AX9/SQRT(4) -> 0.00022275342 | BI9: =AY9/SQRT(4) -> 0.00017981572 | BJ9: =AZ9/SQRT(7) -> 2.2018907e-05 | BK9: =BA9/SQRT(3) -> 0.00024934865 | BL9: =BB9/SQRT(4) -> 0 | BM9: =BC9/SQRT(6) -> 1.1562634e-05 | BN9: =BD9/SQRT(3) -> 0 | BO9: =BE9/SQRT(3) -> 6.8789787e-05 | BP9: =BF9/SQRT(3) -> 8.4495126e-05
A10: AC_4:0 | B10: 0.0011761608 | C10: 0.00039490118 | D10: 0 | E10: 0 | F10: 0 | G10: 0.00078187718 | H10: 0 | I10: 0 | J10: 0 | K10: 0 | L10: 0 | M10: 0.00041777871 | N10: 0 | O10: 9.4002212e-05 | P10: 0.00021327068 | Q10: 0 | R10: 0 | S10: 0.00044444393 | T10: 0 | U10: 0 | V10: 0 | W10: 0.00019726082 | X10: 0 | Y10: 0.00085078056 | Z10: 0 | AA10: 0.000197064 | AB10: 0.00023824572 | AC10: 0 | AD10: 0 | AE10: 0 | AF10: 0 | AG10: 0.00073726073 | AH10: 0.000449707 | AI10: 0.00080863481 | AJ10: 0 | AK10: 0.00021772162 | AL10: 0 | AN10: =AVERAGE(B10:E10) -> 0.00039276549 | AO10: =AVERAGE(F10:I10) -> 0.00019546929 | AP10: =AVERAGE(J10:P10) -> 0.0001035788 | AQ10: =AVERAGE(Q10:S10) -> 0.00014814798 | AR10: =AVERAGE(T10:W10) -> 4.9315205e-05 | AS10: =AVERAGE(X10:AC10) -> 0.00021434838 | AT10: =AVERAGE(AD10:AF10) -> 0 | AU10: =AVERAGE(AG10:AI10) -> 0.00066520084 | AV10: =AVERAGE(AJ10:AL10) -> 7.2573873e-05 | AX10: =STDEV(B10:E10) -> 0.00055444934 | AY10: =STDEV(F10:I10) -> 0.00039093859 | AZ10: =STDEV(J10:P10) -> 0.00016008325 | BA10: =STDEV(Q10:S10) -> 0.00025659982 | BB10: =STDEV(T10:W10) -> 9.863041e-05 | BC10: =STDEV(X10:AC10) -> 0.00032977308 | BD10: =STDEV(AD10:AF10) -> 0 | BE10: =STDEV(AG10:AI10) -> 0.00019000464 | BF10: =STDEV(AJ10:AL10) -> 0.00012570164 | BH10: =AX10/SQRT(4) -> 0.00027722467 | BI10: =AY10/SQRT(4) -> 0.00019546929 | BJ10: =AZ10/SQRT(7) -> 6.050578e-05 | BK10: =BA10/SQRT(3) -> 0.00014814798 | BL10: =BB10/SQRT(4) -> 4.9315205e-05 | BM10: =BC10/SQRT(6) -> 0.0001346293 | BN10: =BD10/SQRT(3) -> 0 | BO10: =BE10/SQRT(3) -> 0.00010969923 | BP10: =BF10/SQRT(3) -> 7.2573873e-05
A11: AC_6:1 | B11: 0 | C11: 3.5680755e-05 | D11: 0 | E11: 0 | F11: 0 | G11: 0 | H11: 0 | I11: 0 | J11: 0 | K11: 0 | L11: 0 | M11: 0 | N11: 0.00018977082 | O11: 0 | P11: 0 | Q11: 0 | R11: 0 | S11: 0 | T11: 0 | U11: 0.00081133818 | V11: 0 | W11: 0 | X11: 0 | Y11: 0 | Z11: 0 | AA11: 0 | AB11: 0 | AC11: 0 | AD11: 0 | AE11: 0 | AF11: 0 | AG11: 0 | AH11: 0 | AI11: 0 | AJ11: 0 | AK11: 0 | AL11: 0.00025650876 | AN11: =AVERAGE(B11:E11) -> 8.9201888e-06 | AO11: =AVERAGE(F11:I11) -> 0 | AP11: =AVERAGE(J11:P11) -> 2.7110118e-05 | AQ11: =AVERAGE(Q11:S11) -> 0 | AR11: =AVERAGE(T11:W11) -> 0.00020283455 | AS11: =AVERAGE(X11:AC11) -> 0 | AT11: =AVERAGE(AD11:AF11) -> 0 | AU11: =AVERAGE(AG11:AI11) -> 0 | AV11: =AVERAGE(AJ11:AL11) -> 8.5502921e-05 | AX11: =STDEV(B11:E11) -> 1.7840378e-05 | AY11: =STDEV(F11:I11) -> 0 | AZ11: =STDEV(J11:P11) -> 7.172663e-05 | BA11: =STDEV(Q11:S11) -> 0 | BB11: =STDEV(T11:W11) -> 0.00040566909 | BC11: =STDEV(X11:AC11) -> 0 | BD11: =STDEV(AD11:AF11) -> 0 | BE11: =STDEV(AG11:AI11) -> 0 | BF11: =STDEV(AJ11:AL11) -> 0.0001480954 | BH11: =AX11/SQRT(4) -> 8.9201888e-06 | BI11: =AY11/SQRT(4) -> 0 | BJ11: =AZ11/SQRT(7) -> 2.7110118e-05 | BK11: =BA11/SQRT(3) -> 0 | BL11: =BB11/SQRT(4) -> 0.00020283455 | BM11: =BC11/SQRT(6) -> 0 | BN11: =BD11/SQRT(3) -> 0 | BO11: =BE11/SQRT(3) -> 0 | BP11: =BF11/SQRT(3) -> 8.5502921e-05
A12: AC_6:0 | B12: 0 | C12: 0 | D12: 0 | E12: 0 | F12: 0 | G12: 0 | H12: 0 | I12: 0 | J12: 0 | K12: 0 | L12: 0 | M12: 0.0002602403 | N12: 0 | O12: 0 | P12: 0.00021327068 | Q12: 0 | R12: 0 | S12: 0.00021353208 | T12: 0 | U12: 0 | V12: 0 | W12: 0 | X12: 0 | Y12: 0 | Z12: 0 | AA12: 0 | AB12: 0 | AC12: 0 | AD12: 0.00042500375 | AE12: 0 | AF12: 0 | AG12: 0 | AH12: 0.00024333764 | AI12: 0 | AJ12: 0.00063549725 | AK12: 0 | AL12: 0 | AN12: =AVERAGE(B12:E12) -> 0 | AO12: =AVERAGE(F12:I12) -> 0 | AP12: =AVERAGE(J12:P12) -> 6.7644425e-05 | AQ12: =AVERAGE(Q12:S12) -> 7.1177359e-05 | AR12: =AVERAGE(T12:W12) -> 0 | AS12: =AVERAGE(X12:AC12) -> 0 | AT12: =AVERAGE(AD12:AF12) -> 0.00014166792 | AU12: =AVERAGE(AG12:AI12) -> 8.1112545e-05 | AV12: =AVERAGE(AJ12:AL12) -> 0.00021183242 | AX12: =STDEV(B12:E12) -> 0 | AY12: =STDEV(F12:I12) -> 0 | AZ12: =STDEV(J12:P12) -> 0.00011631782 | BA12: =STDEV(Q12:S12) -> 0.0001232828 | BB12: =STDEV(T12:W12) -> 0 | BC12: =STDEV(X12:AC12) -> 0 | BD12: =STDEV(AD12:AF12) -> 0.00024537603 | BE12: =STDEV(AG12:AI12) -> 0.00014049105 | BF12: =STDEV(AJ12:AL12) -> 0.00036690451 | BH12: =AX12/SQRT(4) -> 0 | BI12: =AY12/SQRT(4) -> 0 | BJ12: =AZ12/SQRT(7) -> 4.3964005e-05 | BK12: =BA12/SQRT(3) -> 7.1177359e-05 | BL12: =BB12/SQRT(4) -> 0 | BM12: =BC12/SQRT(6) -> 0 | BN12: =BD12/SQRT(3) -> 0.00014166792 | BO12: =BE12/SQRT(3) -> 8.1112545e-05 | BP12: =BF12/SQRT(3) -> 0.00021183242
A13: AC_8:3 | B13: 0 | C13: 0 | D13: 0 | E13: 0 | F13: 0 | G13: 0 | H13: 0 | I13: 0.0004584811 | J13: 0 | K13: 0.00097404404 | L13: 0 | M13: 0 | N13: 0 | O13: 0 | P13: 0 | Q13: 0 | R13: 0 | S13: 0 | T13: 0 | U13: 0 | V13: 0 | W13: 0 | X13: 0.0030067051 | Y13: 0 | Z13: 0 | AA13: 0 | AB13: 0 | AC13: 0.00013741849 | AD13: 0 | AE13: 0.00079708723 | AF13: 0 | AG13: 0 | AH13: 0 | AI13: 0 | AJ13: 0 | AK13: 0 | AL13: 0.00019164788 | AN13: =AVERAGE(B13:E13) -> 0 | AO13: =AVERAGE(F13:I13) -> 0.00011462028 | AP13: =AVERAGE(J13:P13) -> 0.00013914915 | AQ13: =AVERAGE(Q13:S13) -> 0 | AR13: =AVERAGE(T13:W13) -> 0 | AS13: =AVERAGE(X13:AC13) -> 0.0005240206 | AT13: =AVERAGE(AD13:AF13) -> 0.00026569574 | AU13: =AVERAGE(AG13:AI13) -> 0 | AV13: =AVERAGE(AJ13:AL13) -> 6.3882626e-05 | AX13: =STDEV(B13:E13) -> 0 | AY13: =STDEV(F13:I13) -> 0.00022924055 | AZ13: =STDEV(J13:P13) -> 0.00036815404 | BA13: =STDEV(Q13:S13) -> 0 | BB13: =STDEV(T13:W13) -> 0 | BC13: =STDEV(X13:AC13) -> 0.0012175035 | BD13: =STDEV(AD13:AF13) -> 0.00046019852 | BE13: =STDEV(AG13:AI13) -> 0 | BF13: =STDEV(AJ13:AL13) -> 0.00011064795 | BH13: =AX13/SQRT(4) -> 0 | BI13: =AY13/SQRT(4) -> 0.00011462028 | BJ13: =AZ13/SQRT(7) -> 0.00013914915 | BK13: =BA13/SQRT(3) -> 0 | BL13: =BB13/SQRT(4) -> 0 | BM13: =BC13/SQRT(6) -> 0.00049704372 | BN13: =BD13/SQRT(3) -> 0.00026569574 | BO13: =BE13/SQRT(3) -> 0 | BP13: =BF13/SQRT(3) -> 6.3882626e-05
A14: AC_8:2 | B14: 0.0013308192 | C14: 0.00014033706 | D14: 0 | E14: 0 | F14: 0 | G14: 0 | H14: 0 | I14: 0 | J14: 0 | K14: 0.00084068665 | L14: 0 | M14: 0.00026824686 | N14: 0 | O14: 0 | P14: 0.0001488092 | Q14: 0 | R14: 0.0019303546 | S14: 0 | T14: 0 | U14: 0 | V14: 0 | W14: 0 | X14: 0 | Y14: 0 | Z14: 0 | AA14: 0 | AB14: 0 | AC14: 0 | AD14: 0 | AE14: 0 | AF14: 0 | AG14: 0.00073726073 | AH14: 0.000449707 | AI14: 0 | AJ14: 0 | AK14: 0 | AL14: 0.00029949797 | AN14: =AVERAGE(B14:E14) -> 0.00036778907 | AO14: =AVERAGE(F14:I14) -> 0 | AP14: =AVERAGE(J14:P14) -> 0.00017967753 | AQ14: =AVERAGE(Q14:S14) -> 0.00064345152 | AR14: =AVERAGE(T14:W14) -> 0 | AS14: =AVERAGE(X14:AC14) -> 0 | AT14: =AVERAGE(AD14:AF14) -> 0 | AU14: =AVERAGE(AG14:AI14) -> 0.00039565591 | AV14: =AVERAGE(AJ14:AL14) -> 9.9832658e-05 | AX14: =STDEV(B14:E14) -> 0.00064541952 | AY14: =STDEV(F14:I14) -> 0 | AZ14: =STDEV(J14:P14) -> 0.00030953365 | BA14: =STDEV(Q14:S14) -> 0.0011144907 | BB14: =STDEV(T14:W14) -> 0 | BC14: =STDEV(X14:AC14) -> 0 | BD14: =STDEV(AD14:AF14) -> 0 | BE14: =STDEV(AG14:AI14) -> 0.00037159048 | BF14: =STDEV(AJ14:AL14) -> 0.00017291524 | BH14: =AX14/SQRT(4) -> 0.00032270976 | BI14: =AY14/SQRT(4) -> 0 | BJ14: =AZ14/SQRT(7) -> 0.00011699272 | BK14: =BA14/SQRT(3) -> 0.00064345152 | BL14: =BB14/SQRT(4) -> 0 | BM14: =BC14/SQRT(6) -> 0 | BN14: =BD14/SQRT(3) -> 0 | BO14: =BE14/SQRT(3) -> 0.00021453786 | BP14: =BF14/SQRT(3) -> 9.9832658e-05
A15: AC_8:1 | B15: 0 | C15: 0.00014583817 | D15: 0.0001896687 | E15: 0.00077587904 | F15: 0 | G15: 0.00078187718 | H15: 0 | I15: 0.00016406017 | J15: 0 | K15: 0.0018722648 | L15: 0 | M15: 0 | N15: 0 | O15: 7.4063741e-05 | P15: 0.00023091997 | Q15: 0 | R15: 0.00074545675 | S15: 0 | T15: 0.0027264119 | U15: 0.0013286345 | V15: 0 | W15: 8.5621319e-05 | X15: 0 | Y15: 0 | Z15: 0 | AA15: 0 | AB15: 0 | AC15: 0.00031736305 | AD15: 0.00086077094 | AE15: 0.00079708723 | AF15: 0 | AG15: 0 | AH15: 0.00024333764 | AI15: 0.00078455909 | AJ15: 0 | AK15: 0 | AL15: 0 | AN15: =AVERAGE(B15:E15) -> 0.00027784648 | AO15: =AVERAGE(F15:I15) -> 0.00023648434 | AP15: =AVERAGE(J15:P15) -> 0.0003110355 | AQ15: =AVERAGE(Q15:S15) -> 0.00024848558 | AR15: =AVERAGE(T15:W15) -> 0.0010351669 | AS15: =AVERAGE(X15:AC15) -> 5.2893841e-05 | AT15: =AVERAGE(AD15:AF15) -> 0.00055261939 | AU15: =AVERAGE(AG15:AI15) -> 0.00034263224 | AV15: =AVERAGE(AJ15:AL15) -> 0 | AX15: =STDEV(B15:E15) -> 0.000341778 | AY15: =STDEV(F15:I15) -> 0.00037172942 | AZ15: =STDEV(J15:P15) -> 0.00069365978 | BA15: =STDEV(Q15:S15) -> 0.00043038966 | BB15: =STDEV(T15:W15) -> 0.001280578 | BC15: =STDEV(X15:AC15) -> 0.00012956292 | BD15: =STDEV(AD15:AF15) -> 0.00047964054 | BE15: =STDEV(AG15:AI15) -> 0.00040159408 | BF15: =STDEV(AJ15:AL15) -> 0 | BH15: =AX15/SQRT(4) -> 0.000170889 | BI15: =AY15/SQRT(4) -> 0.00018586471 | BJ15: =AZ15/SQRT(7) -> 0.00026217875 | BK15: =BA15/SQRT(3) -> 0.00024848558 | BL15: =BB15/SQRT(4) -> 0.00064028901 | BM15: =BC15/SQRT(6) -> 5.2893841e-05 | BN15: =BD15/SQRT(3) -> 0.00027692059 | BO15: =BE15/SQRT(3) -> 0.00023186045 | BP15: =BF15/SQRT(3) -> 0
A16: AC_8:0 | B16: 0 | C16: 0 | D16: 0.00021768652 | E16: 0 | F16: 0 | G16: 0 | H16: 0.00056197349 | I16: 0 | J16: 0 | K16: 0 | L16: 0.00077911316 | M16: 0 | N16: 0 | O16: 0 | P16: 0.00021327068 | Q16: 0.0017043628 | R16: 0 | S16: 0.00012810262 | T16: 0 | U16: 0 | V16: 0.00033502717 | W16: 0 | X16: 0.00089913137 | Y16: 0.00058197551 | Z16: 0 | AA16: 0 | AB16: 0 | AC16: 0.00017994455 | AD16: 0 | AE16: 0 | AF16: 0 | AG16: 0 | AH16: 0 | AI16: 0 | AJ16: 0 | AK16: 3.9343878e-05 | AL16: 0 | AN16: =AVERAGE(B16:E16) -> 5.4421629e-05 | AO16: =AVERAGE(F16:I16) -> 0.00014049337 | AP16: =AVERAGE(J16:P16) -> 0.00014176912 | AQ16: =AVERAGE(Q16:S16) -> 0.00061082182 | AR16: =AVERAGE(T16:W16) -> 8.3756793e-05 | AS16: =AVERAGE(X16:AC16) -> 0.00027684191 | AT16: =AVERAGE(AD16:AF16) -> 0 | AU16: =AVERAGE(AG16:AI16) -> 0 | AV16: =AVERAGE(AJ16:AL16) -> 1.3114626e-05 | AX16: =STDEV(B16:E16) -> 0.00010884326 | AY16: =STDEV(F16:I16) -> 0.00028098674 | AZ16: =STDEV(J16:P16) -> 0.00029206515 | BA16: =STDEV(Q16:S16) -> 0.00094919784 | BB16: =STDEV(T16:W16) -> 0.00016751359 | BC16: =STDEV(X16:AC16) -> 0.00037938479 | BD16: =STDEV(AD16:AF16) -> 0 | BE16: =STDEV(AG16:AI16) -> 0 | BF16: =STDEV(AJ16:AL16) -> 2.2715199e-05 | BH16: =AX16/SQRT(4) -> 5.4421629e-05 | BI16: =AY16/SQRT(4) -> 0.00014049337 | BJ16: =AZ16/SQRT(7) -> 0.00011039025 | BK16: =BA16/SQRT(3) -> 0.00054801963 | BL16: =BB16/SQRT(4) -> 8.3756793e-05 | BM16: =BC16/SQRT(6) -> 0.00015488319 | BN16: =BD16/SQRT(3) -> 0 | BO16: =BE16/SQRT(3) -> 0 | BP16: =BF16/SQRT(3) -> 1.3114626e-05
A17: AC_10:3 | B17: 0.0023313074 | C17: 0.00022595283 | D17: 0.00021768652 | E17: 0 | F17: 0 | G17: 0 | H17: 0 | I17: 0.00016406017 | J17: 0.00031044723 | K17: 0 | L17: 0 | M17: 0 | N17: 0.00041278978 | O17: 0.00017915223 | P17: 0 | Q17: 0 | R17: 0 | S17: 0 | T17: 0 | U17: 0.00062116304 | V17: 6.0541843e-05 | W17: 0 | X17: 0 | Y17: 0.0015073596 | Z17: 0.00078961412 | AA17: 0.00026643981 | AB17: 0 | AC17: 7.2104281e-05 | AD17: 0.00086077094 | AE17: 0 | AF17: 5.3555772e-05 | AG17: 0 | AH17: 8.1439708e-05 | AI17: 0 | AJ17: 0.00063549725 | AK17: 0 | AL17: 0.00019164788 | AN17: =AVERAGE(B17:E17) -> 0.00069373669 | AO17: =AVERAGE(F17:I17) -> 4.1015043e-05 | AP17: =AVERAGE(J17:P17) -> 0.00012891275 | AQ17: =AVERAGE(Q17:S17) -> 0 | AR17: =AVERAGE(T17:W17) -> 0.00017042622 | AS17: =AVERAGE(X17:AC17) -> 0.00043925296 | AT17: =AVERAGE(AD17:AF17) -> 0.00030477557 | AU17: =AVERAGE(AG17:AI17) -> 2.7146569e-05 | AV17: =AVERAGE(AJ17:AL17) -> 0.00027571504 | AX17: =STDEV(B17:E17) -> 0.0010967154 | AY17: =STDEV(F17:I17) -> 8.2030086e-05 | AZ17: =STDEV(J17:P17) -> 0.00017442235 | BA17: =STDEV(Q17:S17) -> 0 | BB17: =STDEV(T17:W17) -> 0.00030184348 | BC17: =STDEV(X17:AC17) -> 0.0006023543 | BD17: =STDEV(AD17:AF17) -> 0.00048225014 | BE17: =STDEV(AG17:AI17) -> 4.7019237e-05 | BF17: =STDEV(AJ17:AL17) -> 0.0003259826 | BH17: =AX17/SQRT(4) -> 0.0005483577 | BI17: =AY17/SQRT(4) -> 4.1015043e-05 | BJ17: =AZ17/SQRT(7) -> 6.5925451e-05 | BK17: =BA17/SQRT(3) -> 0 | BL17: =BB17/SQRT(4) -> 0.00015092174 | BM17: =BC17/SQRT(6) -> 0.00024591011 | BN17: =BD17/SQRT(3) -> 0.00027842725 | BO17: =BE17/SQRT(3) -> 2.7146569e-05 | BP17: =BF17/SQRT(3) -> 0.00018820614
A18: AC_10:2 | B18: 0.0016678187 | C18: 0 | D18: 0 | E18: 0.0045976351 | F18: 0.0015045993 | G18: 0.0012415093 | H18: 0 | I18: 0 | J18: 0.0015027272 | K18: 0 | L18: 0 | M18: 0.00052848716 | N18: 0 | O18: 7.4063741e-05 | P18: 0.00023091997 | Q18: 0.0027671857 | R18: 0.00072039376 | S18: 0 | T18: 0.0011683852 | U18: 0.00054164233 | V18: 0 | W18: 0.00019726082 | X18: 0.0033254669 | Y18: 0.0021756959 | Z18: 0.00068674378 | AA18: 0 | AB18: 0 | AC18: 0.00017994455 | AD18: 0.0021676292 | AE18: 0.000536585 | AF18: 0.00026975606 | AG18: 0.00084572871 | AH18: 0 | AI18: 0.00092735377 | AJ18: 0.0045201231 | AK18: 0.00056305269 | AL18: 0 | AN18: =AVERAGE(B18:E18) -> 0.0015663635 | AO18: =AVERAGE(F18:I18) -> 0.00068652715 | AP18: =AVERAGE(J18:P18) -> 0.00033374258 | AQ18: =AVERAGE(Q18:S18) -> 0.0011625265 | AR18: =AVERAGE(T18:W18) -> 0.00047682208 | AS18: =AVERAGE(X18:AC18) -> 0.0010613085 | AT18: =AVERAGE(AD18:AF18) -> 0.00099132343 | AU18: =AVERAGE(AG18:AI18) -> 0.00059102749 | AV18: =AVERAGE(AJ18:AL18) -> 0.0016943919 | AX18: =STDEV(B18:E18) -> 0.0021684011 | AY18: =STDEV(F18:I18) -> 0.00079997631 | AZ18: =STDEV(J18:P18) -> 0.00055024365 | BA18: =STDEV(Q18:S18) -> 0.0014355975 | BB18: =STDEV(T18:W18) -> 0.00051250202 | BC18: =STDEV(X18:AC18) -> 0.001381168 | BD18: =STDEV(AD18:AF18) -> 0.0010274098 | BE18: =STDEV(AG18:AI18) -> 0.00051346936 | BF18: =STDEV(AJ18:AL18) -> 0.0024632954 | BH18: =AX18/SQRT(4) -> 0.0010842005 | BI18: =AY18/SQRT(4) -> 0.00039998815 | BJ18: =AZ18/SQRT(7) -> 0.00020797255 | BK18: =BA18/SQRT(3) -> 0.00082884259 | BL18: =BB18/SQRT(4) -> 0.00025625101 | BM18: =BC18/SQRT(6) -> 0.00056385947 | BN18: =BD18/SQRT(3) -> 0.00059317533 | BO18: =BE18/SQRT(3) -> 0.00029645167 | BP18: =BF18/SQRT(3) -> 0.0014221843
... A95: TOTAL | B95: 0.032921863 | C95: 0.018759655 | D95: 0.019280923 | E95: 0.038788925 | F95: 0.030255535 | G95: 0.028874838 | H95: 0.03361518 | I95: 0.022907588 | J95: 0.036651294 | K95: 0.047650462 | L95: 0.018638672 | M95: 0.032217881 | N95: 0.030426645 | O95: 0.022183098 | P95: 0.021969898 | Q95: 0.031566887 | R95: 0.029071783 | S95: 0.024916596 | T95: 0.033415963 | U95: 0.02638431 | V95: 0.02502486 | W95: 0.026480955 | X95: 0.030750532 | Y95: 0.033493807 | Z95: 0.03004054 | AA95: 0.029406309 | AB95: 0.022002655 | AC95: 0.020776268 | AD95: 0.039197499 | AE95: 0.036058598 | AF95: 0.031585534 | AG95: 0.030780276 | AH95: 0.02246208 | AI95: 0.043193672 | AJ95: 0.038087222 | AK95: 0.024638289 | AL95: 0.017222496 | AN95: =AVERAGE(B95:E95) -> 0.027437841 | AO95: =AVERAGE(F95:I95) -> 0.028913285 | AP95: =AVERAGE(J95:P95) -> 0.029962564 | AQ95: =AVERAGE(Q95:S95) -> 0.028518422 | AR95: =AVERAGE(T95:W95) -> 0.027826522 | AS95: =AVERAGE(X95:AC95) -> 0.027745019 | AT95: =AVERAGE(AD95:AF95) -> 0.035613877 | AU95: =AVERAGE(AG95:AI95) -> 0.032145343 | AV95: =AVERAGE(AJ95:AL95) -> 0.026649336 | AX95: =STDEV(B95:E95) -> 0.010012789 | AY95: =STDEV(F95:I95) -> 0.0044713654 | AZ95: =STDEV(J95:P95) -> 0.010128639 | BA95: =STDEV(Q95:S95) -> 0.0033595011 | BB95: =STDEV(T95:W95) -> 0.0037851326 | BC95: =STDEV(X95:AC95) -> 0.0051312611 | BD95: =STDEV(AD95:AF95) -> 0.0038254194 | BE95: =STDEV(AG95:AI95) -> 0.01043299 | BF95: =STDEV(AJ95:AL95) -> 0.01057674 | BH95: =AX95/SQRT(4) -> 0.0050063945 | BI95: =AY95/SQRT(4) -> 0.0022356827 | BJ95: =AZ95/SQRT(7) -> 0.0038282658 | BK95: =BA95/SQRT(3) -> 0.0019396089 | BL95: =BB95/SQRT(4) -> 0.0018925663 | BM95: =BC95/SQRT(6) -> 0.0020948286 | BN95: =BD95/SQRT(3) -> 0.0022086069 | BO95: =BE95/SQRT(3) -> 0.0060234896 | BP95: =BF95/SQRT(3) -> 0.0061064837
A98: Saturated Sum | B98: =SUM(B93,B86,B73,B60,B49,B44,B40,B36,B32,B28,B24,B20,B16,B12,B10,B7:B8) -> 0.018914663 | C98: =SUM(C93,C86,C73,C60,C49,C44,C40,C36,C32,C28,C24,C20,C16,C12,C10,C7:C8) -> 0.010137286 | D98: =SUM(D93,D86,D73,D60,D49,D44,D40,D36,D32,D28,D24,D20,D16,D12,D10,D7:D8) -> 0.010650072 | E98: =SUM(E93,E86,E73,E60,E49,E44,E40,E36,E32,E28,E24,E20,E16,E12,E10,E7:E8) -> 0.015933899 | F98: =SUM(F93,F86,F73,F60,F49,F44,F40,F36,F32,F28,F24,F20,F16,F12,F10,F7:F8) -> 0.016558399 | G98: =SUM(G93,G86,G73,G60,G49,G44,G40,G36,G32,G28,G24,G20,G16,G12,G10,G7:G8) -> 0.014479286 | H98: =SUM(H93,H86,H73,H60,H49,H44,H40,H36,H32,H28,H24,H20,H16,H12,H10,H7:H8) -> 0.018764987 | I98: =SUM(I93,I86,I73,I60,I49,I44,I40,I36,I32,I28,I24,I20,I16,I12,I10,I7:I8) -> 0.011240435 | ... AL98: =SUM(AL93,AL86,AL73,AL60,AL49,AL44,AL40,AL36,AL32,AL28,AL24,AL20,AL16,AL12,AL10,AL7:AL8) -> 0.0087183359 | AM98: Saturated Sum | AN98: =AVERAGE(B98:E98) -> 0.01390898 | AO98: =AVERAGE(F98:I98) -> 0.015260777 | AP98: =AVERAGE(J98:P98) -> 0.01453988 | AQ98: =AVERAGE(Q98:S98) -> 0.013671723 | AR98: =AVERAGE(T98:W98) -> 0.014488546 | AS98: =AVERAGE(X98:AC98) -> 0.014501731 | AT98: =AVERAGE(AD98:AF98) -> 0.017914576 | AU98: =AVERAGE(AG98:AI98) -> 0.018153811 | AV98: =AVERAGE(AJ98:AL98) -> 0.011518984 | AX98: =STDEV(B98:E98) -> 0.0042427708 | AY98: =STDEV(F98:I98) -> 0.0032008954 | AZ98: =STDEV(J98:P98) -> 0.0054669422 | BA98: =STDEV(Q98:S98) -> 0.0012869639 | BB98: =STDEV(T98:W98) -> 0.0036958699 | BC98: =STDEV(X98:AC98) -> 0.0048703026 | BD98: =STDEV(AD98:AF98) -> 0.0019643499 | BE98: =STDEV(AG98:AI98) -> 0.0072951535 | BF98: =STDEV(AJ98:AL98) -> 0.0037825007 | BH98: =AX98/SQRT(4) -> 0.0021213854 | BI98: =AY98/SQRT(4) -> 0.0016004477 | BJ98: =AZ98/SQRT(7) -> 0.0020663099 | BK98: =BA98/SQRT(3) -> 0.00074302897 | BL98: =BB98/SQRT(4) -> 0.0018479349 | BM98: =BC98/SQRT(6) -> 0.0019882927 | BN98: =BD98/SQRT(3) -> 0.001134118 | BO98: =BE98/SQRT(3) -> 0.0042118588 | BP98: =BF98/SQRT(3) -> 0.0021838278
A99: Mono Sum | B99: =SUM(B92,B85,B79,B72,B66,B59,B53,B48,B43,B39,B35,B31,B27,B23,B19,B15,B11,B9) -> 0.0057755963 | C99: =SUM(C92,C85,C79,C72,C66,C59,C53,C48,C43,C39,C35,C31,C27,C23,C19,C15,C11,C9) -> 0.0042483811 | D99: =SUM(D92,D85,D79,D72,D66,D59,D53,D48,D43,D39,D35,D31,D27,D23,D19,D15,D11,D9) -> 0.005000431 | E99: =SUM(E92,E85,E79,E72,E66,E59,E53,E48,E43,E39,E35,E31,E27,E23,E19,E15,E11,E9) -> 0.010957669 | F99: =SUM(F92,F85,F79,F72,F66,F59,F53,F48,F43,F39,F35,F31,F27,F23,F19,F15,F11,F9) -> 0.006796795 | G99: =SUM(G92,G85,G79,G72,G66,G59,G53,G48,G43,G39,G35,G31,G27,G23,G19,G15,G11,G9) -> 0.0067839651 | H99: =SUM(H92,H85,H79,H72,H66,H59,H53,H48,H43,H39,H35,H31,H27,H23,H19,H15,H11,H9) -> 0.0098860528 | I99: =SUM(I92,I85,I79,I72,I66,I59,I53,I48,I43,I39,I35,I31,I27,I23,I19,I15,I11,I9) -> 0.0073371529 | ... AL99: =SUM(AL92,AL85,AL79,AL72,AL66,AL59,AL53,AL48,AL43,AL39,AL35,AL31,AL27,AL23,AL19,AL15,AL11,AL9) -> 0.0047885597 | AM99: Mono Sum | AN99: =AVERAGE(B99:E99) -> 0.0064955193 | AO99: =AVERAGE(F99:I99) -> 0.0077009914 | AP99: =AVERAGE(J99:P99) -> 0.0082639141 | AQ99: =AVERAGE(Q99:S99) -> 0.0077522655 | AR99: =AVERAGE(T99:W99) -> 0.0080979877 | AS99: =AVERAGE(X99:AC99) -> 0.0051788286 | AT99: =AVERAGE(AD99:AF99) -> 0.0089484245 | AU99: =AVERAGE(AG99:AI99) -> 0.0082451821 | AV99: =AVERAGE(AJ99:AL99) -> 0.0074023747 | AX99: =STDEV(B99:E99) -> 0.003039407 | AY99: =STDEV(F99:I99) -> 0.0014793445 | AZ99: =STDEV(J99:P99) -> 0.0029929116 | BA99: =STDEV(Q99:S99) -> 0.0024927324 | BB99: =STDEV(T99:W99) -> 0.0028181578 | BC99: =STDEV(X99:AC99) -> 0.0015126668 | BD99: =STDEV(AD99:AF99) -> 0.0029411133 | BE99: =STDEV(AG99:AI99) -> 0.0043395468 | BF99: =STDEV(AJ99:AL99) -> 0.0044892576 | BH99: =AX99/SQRT(4) -> 0.0015197035 | BI99: =AY99/SQRT(4) -> 0.00073967223 | BJ99: =AZ99/SQRT(7) -> 0.0011312142 | BK99: =BA99/SQRT(3) -> 0.0014391797 | BL99: =BB99/SQRT(4) -> 0.0014090789 | BM99: =BC99/SQRT(6) -> 0.00061754362 | BN99: =BD99/SQRT(3) -> 0.0016980525 | BO99: =BE99/SQRT(3) -> 0.0025054385 | BP99: =BF99/SQRT(3) -> 0.0025918741
A100: Poly Sum | B100: =SUM(B87:B91,B81:B84,B74:B78,B68:B71,B61:B65,B55:B58,B50:B52,B45:B47,B41:B42,B37:B38,B33:B34,B29:B30,B25:B26,B21:B22,B17:B18,B13:B14) -> 0.0070554431 | C100: =SUM(C87:C91,C81:C84,C74:C78,C68:C71,C61:C65,C55:C58,C50:C52,C45:C47,C41:C42,C37:C38,C33:C34,C29:C30,C25:C26,C21:C22,C17:C18,C13:C14) -> 0.0041765372 | D100: =SUM(D87:D91,D81:D84,D74:D78,D68:D71,D61:D65,D55:D58,D50:D52,D45:D47,D41:D42,D37:D38,D33:D34,D29:D30,D25:D26,D21:D22,D17:D18,D13:D14) -> 0.0036304197 | E100: =SUM(E87:E91,E81:E84,E74:E78,E68:E71,E61:E65,E55:E58,E50:E52,E45:E47,E41:E42,E37:E38,E33:E34,E29:E30,E25:E26,E21:E22,E17:E18,E13:E14) -> 0.011897358 | F100: =SUM(F87:F91,F81:F84,F74:F78,F68:F71,F61:F65,F55:F58,F50:F52,F45:F47,F41:F42,F37:F38,F33:F34,F29:F30,F25:F26,F21:F22,F17:F18,F13:F14) -> 0.006900341 | G100: =SUM(G87:G91,G81:G84,G74:G78,G68:G71,G61:G65,G55:G58,G50:G52,G45:G47,G41:G42,G37:G38,G33:G34,G29:G30,G25:G26,G21:G22,G17:G18,G13:G14) -> 0.0076115869 | H100: =SUM(H87:H91,H81:H84,H74:H78,H68:H71,H61:H65,H55:H58,H50:H52,H45:H47,H41:H42,H37:H38,H33:H34,H29:H30,H25:H26,H21:H22,H17:H18,H13:H14) -> 0.0049641399 | I100: =SUM(I87:I91,I81:I84,I74:I78,I68:I71,I61:I65,I55:I58,I50:I52,I45:I47,I41:I42,I37:I38,I33:I34,I29:I30,I25:I26,I21:I22,I17:I18,I13:I14) -> 0.0042571034 | ... AL100: =SUM(AL87:AL91,AL81:AL84,AL74:AL78,AL68:AL71,AL61:AL65,AL55:AL58,AL50:AL52,AL45:AL47,AL41:AL42,AL37:AL38,AL33:AL34,AL29:AL30,AL25:AL26,AL21:AL22,AL17:AL18,AL13:AL14) -> 0.0035239524 | AM100: Poly Sum | AN100: =AVERAGE(B100:E100) -> 0.0066899394 | AO100: =AVERAGE(F100:I100) -> 0.0059332928 | AP100: =AVERAGE(J100:P100) -> 0.006701783 | AQ100: =AVERAGE(Q100:S100) -> 0.0065941363 | AR100: =AVERAGE(T100:W100) -> 0.0042255158 | AS100: =AVERAGE(X100:AC100) -> 0.0079517261 | AT100: =AVERAGE(AD100:AF100) -> 0.0081192821 | AU100: =AVERAGE(AG100:AI100) -> 0.0054194833 | AV100: =AVERAGE(AJ100:AL100) -> 0.0076104907 | AX100: =STDEV(B100:E100) -> 0.0037827966 | AY100: =STDEV(F100:I100) -> 0.0015812149 | AZ100: =STDEV(J100:P100) -> 0.0016418815 | BA100: =STDEV(Q100:S100) -> 0.0015384544 | BB100: =STDEV(T100:W100) -> 0.0013535878 | BC100: =STDEV(X100:AC100) -> 0.0048381154 | BD100: =STDEV(AD100:AF100) -> 0.0020291018 | BE100: =STDEV(AG100:AI100) -> 0.0023698431 | BF100: =STDEV(AJ100:AL100) -> 0.0068206177 | BH100: =AX100/SQRT(4) -> 0.0018913983 | BI100: =AY100/SQRT(4) -> 0.00079060743 | BJ100: =AZ100/SQRT(7) -> 0.00062057289 | BK100: =BA100/SQRT(3) -> 0.00088822708 | BL100: =BB100/SQRT(4) -> 0.0006767939 | BM100: =BC100/SQRT(6) -> 0.0019751524 | BN100: =BD100/SQRT(3) -> 0.0011715025 | BO100: =BE100/SQRT(3) -> 0.0013682296 | BP100: =BF100/SQRT(3) -> 0.0039378855
A101: Short Sum | B101: =SUM(B7:B20) -> 0.012344882 | C101: =SUM(C7:C20) -> 0.0027793896 | D101: =SUM(D7:D20) -> 0.0022567948 | E101: =SUM(E7:E20) -> 0.0096741447 | F101: =SUM(F7:F20) -> 0.0053473374 | G101: =SUM(G7:G20) -> 0.0040467729 | H101: =SUM(H7:H20) -> 0.0018025399 | I101: =SUM(I7:I20) -> 0.0020981098 | ... AL101: =SUM(AL7:AL20) -> 0.0033717939 | AM101: Short Sum | AN101: =AVERAGE(B101:E101) -> 0.0067638027 | AO101: =AVERAGE(F101:I101) -> 0.00332369 | AP101: =AVERAGE(J101:P101) -> 0.0026970341 | AQ101: =AVERAGE(Q101:S101) -> 0.0054790054 | AR101: =AVERAGE(T101:W101) -> 0.0041181737 | AS101: =AVERAGE(X101:AC101) -> 0.0043697041 | AT101: =AVERAGE(AD101:AF101) -> 0.0052277398 | AU101: =AVERAGE(AG101:AI101) -> 0.0031807867 | AV101: =AVERAGE(AJ101:AL101) -> 0.0046917319 | AX101: =STDEV(B101:E101) -> 0.0050268348 | AY101: =STDEV(F101:I101) -> 0.0016766974 | AZ101: =STDEV(J101:P101) -> 0.0015887465 | BA101: =STDEV(Q101:S101) -> 0.001924171 | BB101: =STDEV(T101:W101) -> 0.0028166108 | BC101: =STDEV(X101:AC101) -> 0.0029088213 | BD101: =STDEV(AD101:AF101) -> 0.0024640746 | BE101: =STDEV(AG101:AI101) -> 0.00072972874 | BF101: =STDEV(AJ101:AL101) -> 0.0012246486 | BH101: =AX101/SQRT(4) -> 0.0025134174 | BI101: =AY101/SQRT(4) -> 0.00083834869 | BJ101: =AZ101/SQRT(7) -> 0.00060048972 | BK101: =BA101/SQRT(3) -> 0.0011109207 | BL101: =BB101/SQRT(4) -> 0.0014083054 | BM101: =BC101/SQRT(6) -> 0.0011875213 | BN101: =BD101/SQRT(3) -> 0.0014226341 | BO101: =BE101/SQRT(3) -> 0.00042130909 | BP101: =BF101/SQRT(3) -> 0.00070705122
A102: Medium Sum | B102: =SUM(B21:B53,B55:B60,B62:B66) -> 0.017654309 | C102: =SUM(C21:C53,C55:C60,C62:C66) -> 0.014299225 | D102: =SUM(D21:D53,D55:D60,D62:D66) -> 0.015592928 | E102: =SUM(E21:E53,E55:E60,E62:E66) -> 0.025424384 | F102: =SUM(F21:F53,F55:F60,F62:F66) -> 0.023413171 | G102: =SUM(G21:G53,G55:G60,G62:G66) -> 0.022184379 | H102: =SUM(H21:H53,H55:H60,H62:H66) -> 0.028771706 | I102: =SUM(I21:I53,I55:I60,I62:I66) -> 0.019749871 | ... AL102: =SUM(AL21:AL53,AL55:AL60,AL62:AL66) -> 0.012689472 | AM102: Medium Sum | AN102: =AVERAGE(B102:E102) -> 0.018242712 | AO102: =AVERAGE(F102:I102) -> 0.023529782 | AP102: =AVERAGE(J102:P102) -> 0.02396054 | AQ102: =AVERAGE(Q102:S102) -> 0.0202876 | AR102: =AVERAGE(T102:W102) -> 0.020572212 | AS102: =AVERAGE(X102:AC102) -> 0.0210747 | AT102: =AVERAGE(AD102:AF102) -> 0.024986982 | AU102: =AVERAGE(AG102:AI102) -> 0.027016054 | AV102: =AVERAGE(AJ102:AL102) -> 0.020621493 | AX102: =STDEV(B102:E102) -> 0.0049831409 | AY102: =STDEV(F102:I102) -> 0.0038117887 | AZ102: =STDEV(J102:P102) -> 0.0086284165 | BA102: =STDEV(Q102:S102) -> 0.0039242586 | BB102: =STDEV(T102:W102) -> 0.0014790291 | BC102: =STDEV(X102:AC102) -> 0.0031125036 | BD102: =STDEV(AD102:AF102) -> 0.0010318093 | BE102: =STDEV(AG102:AI102) -> 0.012334587 | BF102: =STDEV(AJ102:AL102) -> 0.0096530223 | BH102: =AX102/SQRT(4) -> 0.0024915705 | BI102: =AY102/SQRT(4) -> 0.0019058944 | BJ102: =AZ102/SQRT(7) -> 0.0032612349 | BK102: =BA102/SQRT(3) -> 0.0022656717 | BL102: =BB102/SQRT(4) -> 0.00073951453 | BM102: =BC102/SQRT(6) -> 0.0012706743 | BN102: =BD102/SQRT(3) -> 0.00059571538 | BO102: =BE102/SQRT(3) -> 0.0071213771 | BP102: =BF102/SQRT(3) -> 0.005573175
A103: Long Sum | B103: =SUM(B81:B93,B68:B79,B61) -> 0.0017465119 | C103: =SUM(C81:C93,C68:C79,C61) -> 0.0014835893 | D103: =SUM(D81:D93,D68:D79,D61) -> 0.0014311999 | E103: =SUM(E81:E93,E68:E79,E61) -> 0.0036903959 | F103: =SUM(F81:F93,F68:F79,F61) -> 0.0014950265 | G103: =SUM(G81:G93,G68:G79,G61) -> 0.0026436864 | H103: =SUM(H81:H93,H68:H79,H61) -> 0.0030409346 | I103: =SUM(I81:I93,I68:I79,I61) -> 0.00098671038 | ... AL103: =SUM(AL81:AL93,AL68:AL79,AL61) -> 0.00096958254 | AM103: Long Sum | AN103: =AVERAGE(B103:E103) -> 0.0020879243 | AO103: =AVERAGE(F103:I103) -> 0.0020415894 | AP103: =AVERAGE(J103:P103) -> 0.0028480032 | AQ103: =AVERAGE(Q103:S103) -> 0.0022515196 | AR103: =AVERAGE(T103:W103) -> 0.0021216635 | AS103: =AVERAGE(X103:AC103) -> 0.0021878811 | AT103: =AVERAGE(AD103:AF103) -> 0.0047675601 | AU103: =AVERAGE(AG103:AI103) -> 0.001621636 | AV103: =AVERAGE(AJ103:AL103) -> 0.0012186242 | AX103: =STDEV(B103:E103) -> 0.0010771854 | AY103: =STDEV(F103:I103) -> 0.00096137268 | AZ103: =STDEV(J103:P103) -> 0.0022886615 | BA103: =STDEV(Q103:S103) -> 0.00084437415 | BB103: =STDEV(T103:W103) -> 0.0014446263 | BC103: =STDEV(X103:AC103) -> 0.00099522007 | BD103: =STDEV(AD103:AF103) -> 0.0026765341 | BE103: =STDEV(AG103:AI103) -> 0.0015531859 | BF103: =STDEV(AJ103:AL103) -> 0.00046891143 | BH103: =AX103/SQRT(4) -> 0.00053859272 | BI103: =AY103/SQRT(4) -> 0.00048068634 | BJ103: =AZ103/SQRT(7) -> 0.00086503274 | BK103: =BA103/SQRT(3) -> 0.00048749964 | BL103: =BB103/SQRT(4) -> 0.00072231316 | BM103: =BC103/SQRT(6) -> 0.00040629689 | BN103: =BD103/SQRT(3) -> 0.0015452977 | BO103: =BE103/SQRT(3) -> 0.00089673227 | BP103: =BF103/SQRT(3) -> 0.00027072614
A104: Hydroxy Sum | B104: =SUM(B87:B93,B74:B79,B61:B66,B50:B53,B41:B44,B33:B36,B25:B28) -> 0.0040568051 | C104: =SUM(C87:C93,C74:C79,C61:C66,C50:C53,C41:C44,C33:C36,C25:C28) -> 0.003209568 | D104: =SUM(D87:D93,D74:D79,D61:D66,D50:D53,D41:D44,D33:D36,D25:D28) -> 0.0032343082 | E104: =SUM(E87:E93,E74:E79,E61:E66,E50:E53,E41:E44,E33:E36,E25:E28) -> 0.0028446542 | F104: =SUM(F87:F93,F74:F79,F61:F66,F50:F53,F41:F44,F33:F36,F25:F28) -> 0.0032932324 | G104: =SUM(G87:G93,G74:G79,G61:G66,G50:G53,G41:G44,G33:G36,G25:G28) -> 0.0031787639 | H104: =SUM(H87:H93,H74:H79,H61:H66,H50:H53,H41:H44,H33:H36,H25:H28) -> 0.0031571851 | I104: =SUM(I87:I93,I74:I79,I61:I66,I50:I53,I41:I44,I33:I36,I25:I28) -> 0.0019644694 | ... AL104: =SUM(AL87:AL93,AL74:AL79,AL61:AL66,AL50:AL53,AL41:AL44,AL33:AL36,AL25:AL28) -> 0.002967869 | AM104: Hydroxy Sum | AN104: =AVERAGE(B104:E104) -> 0.0033363339 | AO104: =AVERAGE(F104:I104) -> 0.0028984127 | AP104: =AVERAGE(J104:P104) -> 0.0042343115 | AQ104: =AVERAGE(Q104:S104) -> 0.0049463565 | AR104: =AVERAGE(T104:W104) -> 0.0027217731 | AS104: =AVERAGE(X104:AC104) -> 0.0031496293 | AT104: =AVERAGE(AD104:AF104) -> 0.0060861599 | AU104: =AVERAGE(AG104:AI104) -> 0.0040443573 | AV104: =AVERAGE(AJ104:AL104) -> 0.0029974174 | AX104: =STDEV(B104:E104) -> 0.00051228462 | AY104: =STDEV(F104:I104) -> 0.00062548453 | AZ104: =STDEV(J104:P104) -> 0.0022431699 | BA104: =STDEV(Q104:S104) -> 0.00092602991 | BB104: =STDEV(T104:W104) -> 0.00051877053 | BC104: =STDEV(X104:AC104) -> 0.00092992886 | BD104: =STDEV(AD104:AF104) -> 0.0025930443 | BE104: =STDEV(AG104:AI104) -> 0.00093297278 | BF104: =STDEV(AJ104:AL104) -> 0.00080741467 | BH104: =AX104/SQRT(4) -> 0.00025614231 | BI104: =AY104/SQRT(4) -> 0.00031274226 | BJ104: =AZ104/SQRT(7) -> 0.00084783853 | BK104: =BA104/SQRT(3) -> 0.00053464362 | BL104: =BB104/SQRT(4) -> 0.00025938526 | BM104: =BC104/SQRT(6) -> 0.00037964187 | BN104: =BD104/SQRT(3) -> 0.0014970948 | BO104: =BE104/SQRT(3) -> 0.00053865208 | BP104: =BF104/SQRT(3) -> 0.00046616107
A106: TOTAL | B106: =SUM(B7:B93) -> 0.032921863 | C106: =SUM(C7:C93) -> 0.018759655 | D106: =SUM(D7:D93) -> 0.019280923 | E106: =SUM(E7:E93) -> 0.038788925 | F106: =SUM(F7:F93) -> 0.030255535 | G106: =SUM(G7:G93) -> 0.028874838 | H106: =SUM(H7:H93) -> 0.03361518 | I106: =SUM(I7:I93) -> 0.022907588 | ... AL106: =SUM(AL7:AL93) -> 0.017222496 | AM106: TOTAL | AN106: =AVERAGE(B106:E106) -> 0.027437841 | AO106: =AVERAGE(F106:I106) -> 0.028913285 | AP106: =AVERAGE(J106:P106) -> 0.029962564 | AQ106: =AVERAGE(Q106:S106) -> 0.028518422 | AR106: =AVERAGE(T106:W106) -> 0.027826522 | AS106: =AVERAGE(X106:AC106) -> 0.027745019 | AT106: =AVERAGE(AD106:AF106) -> 0.035613877 | AU106: =AVERAGE(AG106:AI106) -> 0.032145343 | AV106: =AVERAGE(AJ106:AL106) -> 0.026649336 | AX106: =STDEV(B106:E106) -> 0.010012789 | AY106: =STDEV(F106:I106) -> 0.0044713654 | AZ106: =STDEV(J106:P106) -> 0.010128639 | BA106: =STDEV(Q106:S106) -> 0.0033595011 | BB106: =STDEV(T106:W106) -> 0.0037851326 | BC106: =STDEV(X106:AC106) -> 0.0051312611 | BD106: =STDEV(AD106:AF106) -> 0.0038254194 | BE106: =STDEV(AG106:AI106) -> 0.01043299 | BF106: =STDEV(AJ106:AL106) -> 0.01057674 | BH106: =AX106/SQRT(4) -> 0.0050063945 | BI106: =AY106/SQRT(4) -> 0.0022356827 | BJ106: =AZ106/SQRT(7) -> 0.0038282658 | BK106: =BA106/SQRT(3) -> 0.0019396089 | BL106: =BB106/SQRT(4) -> 0.0018925663 | BM106: =BC106/SQRT(6) -> 0.0020948286 | BN106: =BD106/SQRT(3) -> 0.0022086069 | BO106: =BE106/SQRT(3) -> 0.0060234896 | BP106: =BF106/SQRT(3) -> 0.0061064837
A107: Number of Species | B107: =COUNTIF(B7:B93,">0") -> 16 | C107: =COUNTIF(C7:C93,">0") -> 38 | D107: =COUNTIF(D7:D93,">0") -> 31 | E107: =COUNTIF(E7:E93,">0") -> 21 | F107: =COUNTIF(F7:F93,">0") -> 20 | G107: =COUNTIF(G7:G93,">0") -> 23 | H107: =COUNTIF(H7:H93,">0") -> 19 | I107: =COUNTIF(I7:I93,">0") -> 34 | ... AL107: =COUNTIF(AL7:AL93,">0") -> 35 | AM107: Number of Species | AN107: =AVERAGE(B107:E107) -> 26.5 | AO107: =AVERAGE(F107:I107) -> 24 | AP107: =AVERAGE(J107:P107) -> 32.571429 | AQ107: =AVERAGE(Q107:S107) -> 24.333333 | AR107: =AVERAGE(T107:W107) -> 25.25 | AS107: =AVERAGE(X107:AC107) -> 27.833333 | AT107: =AVERAGE(AD107:AF107) -> 28.333333 | AU107: =AVERAGE(AG107:AI107) -> 25.333333 | AV107: =AVERAGE(AJ107:AL107) -> 28 | AX107: =STDEV(B107:E107) -> 9.8826447 | AY107: =STDEV(F107:I107) -> 6.8799225 | AZ107: =STDEV(J107:P107) -> 10.080627 | BA107: =STDEV(Q107:S107) -> 10.115994 | BB107: =STDEV(T107:W107) -> 11.383468 | BC107: =STDEV(X107:AC107) -> 11.651895 | BD107: =STDEV(AD107:AF107) -> 6.1101009 | BE107: =STDEV(AG107:AI107) -> 11.846237 | BF107: =STDEV(AJ107:AL107) -> 10.440307 | BH107: =AX107/SQRT(4) -> 4.9413224 | BI107: =AY107/SQRT(4) -> 3.4399612 | BJ107: =AZ107/SQRT(7) -> 3.810119 | BK107: =BA107/SQRT(3) -> 5.8404718 | BL107: =BB107/SQRT(4) -> 5.6917338 | BM107: =BC107/SQRT(6) -> 4.7568664 | BN107: =BD107/SQRT(3) -> 3.5276684 | BO107: =BE107/SQRT(3) -> 6.8394282 | BP107: =BF107/SQRT(3) -> 6.0277138

Sheet CE
A1: CE
A2: - | B2: n=4 | F2: n=4 | K2: n=7 | Q2: n=3 | T2: n=4 | X2: n=6 | AD2: n=3 | AG2: n=3 | AJ2: n=3
A3: - | B3: PFC | Q3: Nac | AD3: vHipp | AN3: Average | AX3: StDev | BH3: StError
A4: Species | B4: PFC | C4: PFC | D4: PFC | E4: PFC | F4: PFC | G4: PFC | H4: PFC | I4: PFC | J4: PFC | K4: PFC | L4: PFC | M4: PFC | N4: PFC | O4: PFC | P4: PFC | Q4: Nac | R4: Nac | S4: Nac | T4: Nac | U4: Nac | V4: Nac | W4: Nac | X4: Nac | Y4: Nac | Z4: Nac | AA4: Nac | AB4: Nac | AC4: Nac | AD4: vHipp | AE4: vHipp | AF4: vHipp | AG4: vHipp | AH4: vHipp | AI4: vHipp | AJ4: vHipp | AK4: vHipp | AL4: vHipp | AN4: PFC | AQ4: Nac | AT4: vHipp | AX4: PFC | BA4: Nac | BD4: vHipp | BH4: PFC | BK4: Nac | BN4: vHipp
A5: - | B5: Control | C5: Control | D5: Control | E5: Control | F5: Susceptible | G5: Susceptible | H5: Susceptible | I5: Susceptible | J5: Resilient | K5: Resilient | L5: Resilient | M5: Resilient | N5: Resilient | O5: Resilient | P5: Resilient | Q5: Control | R5: Control | S5: Control | T5: Susceptible | U5: Susceptible | V5: Susceptible | W5: Susceptible | X5: Resilient | Y5: Resilient | Z5: Resilient | AA5: Resilient | AB5: Resilient | AC5: Resilient | AD5: Control | AE5: Control | AF5: Control | AG5: Susceptible | AH5: Susceptible | AI5: Susceptible | AJ5: Resilient | AK5: Resilient | AL5: Resilient | AN5: Control | AO5: Susceptible | AP5: Resilient | AQ5: Control | AR5: Susceptible | AS5: Resilient | AT5: Control | AU5: Susceptible | AV5: Resilient | AX5: Control | AY5: Susceptible | AZ5: Resilient | BA5: Control | BB5: Susceptible | BC5: Resilient | BD5: Control | BE5: Susceptible | BF5: Resilient | BH5: Control | BI5: Susceptible | BJ5: Resilient | BK5: Control | BL5: Susceptible | BM5: Resilient | BN5: Control | BO5: Susceptible | BP5: Resilient
A6: IS_TAG_17:1/17:1/17:1_ | B6: #N/A | C6: #N/A | D6: #N/A | E6: #N/A | F6: #N/A | G6: #N/A | H6: #N/A | I6: #N/A | J6: #N/A | K6: #N/A | L6: #N/A | M6: #N/A | N6: #N/A | O6: #N/A | P6: #N/A | Q6: #N/A | R6: #N/A | S6: #N/A | T6: #N/A | U6: #N/A | V6: #N/A | W6: #N/A | X6: #N/A | Y6: #N/A | Z6: #N/A | AA6: #N/A | AB6: #N/A | AC6: #N/A | AD6: #N/A | AE6: #N/A | AF6: #N/A | AG6: #N/A | AH6: #N/A | AI6: #N/A | AJ6: #N/A | AK6: #N/A | AL6: #N/A | AN6: =AVERAGE(B6:E6) -> #N/A | AO6: =AVERAGE(F6:I6) -> #N/A | AP6: =AVERAGE(J6:P6) -> #N/A | AQ6: =AVERAGE(Q6:S6) -> #N/A | AR6: =AVERAGE(T6:W6) -> #N/A | AS6: =AVERAGE(X6:AC6) -> #N/A | AT6: =AVERAGE(AD6:AF6) -> #N/A | AU6: =AVERAGE(AG6:AI6) -> #N/A | AV6: =AVERAGE(AJ6:AL6) -> #N/A | AX6: =STDEV(B6:E6) -> #N/A | AY6: =STDEV(F6:I6) -> #N/A | AZ6: =STDEV(J6:P6) -> #N/A | BA6: =STDEV(Q6:S6) -> #N/A | BB6: =STDEV(T6:W6) -> #N/A | BC6: =STDEV(X6:AC6) -> #N/A | BD6: =STDEV(AD6:AF6) -> #N/A | BE6: =STDEV(AG6:AI6) -> #N/A | BF6: =STDEV(AJ6:AL6) -> #N/A | BH6: =AX6/SQRT(4) -> #N/A | BI6: =AY6/SQRT(4) -> #N/A | BJ6: =AZ6/SQRT(7) -> #N/A | BK6: =BA6/SQRT(3) -> #N/A | BL6: =BB6/SQRT(4) -> #N/A | BM6: =BC6/SQRT(6) -> #N/A | BN6: =BD6/SQRT(3) -> #N/A | BO6: =BE6/SQRT(3) -> #N/A | BP6: =BF6/SQRT(3) -> #N/A
A7: CE_10:0+NH4_ | B7: 0.0015247926 | C7: 0.0021622671 | D7: 0.0024745599 | E7: 0.0010468263 | F7: 0.0023303075 | G7: 0.0024571152 | H7: 0.00082207112 | I7: 0.0016194046 | J7: 0.00092800593 | K7: 0.0027911184 | L7: 0.0031257836 | M7: 0.0019665518 | N7: 0.0014263921 | O7: 0.0037427021 | P7: 0.0023544279 | Q7: 0.0016166549 | R7: 0.0042823593 | S7: 0 | T7: 0.0026356636 | U7: 0.0042629515 | V7: 0.0015444006 | W7: 0.0019696958 | X7: 0.0036304468 | Y7: 0.0019170061 | Z7: 0.0045009453 | AA7: 0.0013376099 | AB7: 0.0035624615 | AC7: 0.0019850117 | AD7: 0.0015583794 | AE7: 0.0013807697 | AF7: 0.0076621998 | AG7: 0.0001412154 | AH7: 0.0026484419 | AI7: 0.0032807391 | AJ7: 0.0017018682 | AK7: 0.0009327863 | AL7: 0.0023760566 | AN7: =AVERAGE(B7:E7) -> 0.0018021115 | AO7: =AVERAGE(F7:I7) -> 0.0018072246 | AP7: =AVERAGE(J7:P7) -> 0.0023335688 | AQ7: =AVERAGE(Q7:S7) -> 0.0019663381 | AR7: =AVERAGE(T7:W7) -> 0.0026031779 | AS7: =AVERAGE(X7:AC7) -> 0.0028222469 | AT7: =AVERAGE(AD7:AF7) -> 0.003533783 | AU7: =AVERAGE(AG7:AI7) -> 0.0020234655 | AV7: =AVERAGE(AJ7:AL7) -> 0.001670237 | AX7: =STDEV(B7:E7) -> 0.00064011987 | AY7: =STDEV(F7:I7) -> 0.00075316606 | AZ7: =STDEV(J7:P7) -> 0.00097948334 | BA7: =STDEV(Q7:S7) -> 0.0021624891 | BB7: =STDEV(T7:W7) -> 0.0011941821 | BC7: =STDEV(X7:AC7) -> 0.0012444841 | BD7: =STDEV(AD7:AF7) -> 0.0035764166 | BE7: =STDEV(AG7:AI7) -> 0.0016604514 | BF7: =STDEV(AJ7:AL7) -> 0.00072215489 | BH7: =AX7/SQRT(4) -> 0.00032005993 | BI7: =AY7/SQRT(4) -> 0.00037658303 | BJ7: =AZ7/SQRT(7) -> 0.00037020991 | BK7: =BA7/SQRT(3) -> 0.0012485137 | BL7: =BB7/SQRT(4) -> 0.00059709105 | BM7: =BC7/SQRT(6) -> 0.00050805852 | BN7: =BD7/SQRT(3) -> 0.0020648451 | BO7: =BE7/SQRT(3) -> 0.00095866207 | BP7: =BF7/SQRT(3) -> 0.00041693632
A8: CE_12:0+NH4_ | B8: 0.00047139938 | C8: 0.0012525379 | D8: 0 | E8: 0 | F8: 0 | G8: 0 | H8: 0 | I8: 0.00017531893 | J8: 0 | K8: 0.00027583637 | L8: 0 | M8: 0 | N8: 0 | O8: 0 | P8: 0 | Q8: 0 | R8: 0 | S8: 0.005576554 | T8: 0 | U8: 0 | V8: 0.00076416813 | W8: 0 | X8: 0.0011006763 | Y8: 0 | Z8: 0 | AA8: 0 | AB8: 0.00081409928 | AC8: 0 | AD8: 0 | AE8: 0.00095021026 | AF8: 0 | AG8: 0 | AH8: 0.00107021 | AI8: 0 | AJ8: 0.00093916698 | AK8: 0.0005298906 | AL8: 0 | AN8: =AVERAGE(B8:E8) -> 0.00043098431 | AO8: =AVERAGE(F8:I8) -> 4.3829732e-05 | AP8: =AVERAGE(J8:P8) -> 3.9405196e-05 | AQ8: =AVERAGE(Q8:S8) -> 0.0018588513 | AR8: =AVERAGE(T8:W8) -> 0.00019104203 | AS8: =AVERAGE(X8:AC8) -> 0.00031912927 | AT8: =AVERAGE(AD8:AF8) -> 0.00031673675 | AU8: =AVERAGE(AG8:AI8) -> 0.00035673665 | AV8: =AVERAGE(AJ8:AL8) -> 0.00048968586 | AX8: =STDEV(B8:E8) -> 0.00059106643 | AY8: =STDEV(F8:I8) -> 8.7659463e-05 | AZ8: =STDEV(J8:P8) -> 0.00010425635 | BA8: =STDEV(Q8:S8) -> 0.003219625 | BB8: =STDEV(T8:W8) -> 0.00038208406 | BC8: =STDEV(X8:AC8) -> 0.0005026301 | BD8: =STDEV(AD8:AF8) -> 0.00054860415 | BE8: =STDEV(AG8:AI8) -> 0.00061788601 | BF8: =STDEV(AJ8:AL8) -> 0.00047087256 | BH8: =AX8/SQRT(4) -> 0.00029553322 | BI8: =AY8/SQRT(4) -> 4.3829732e-05 | BJ8: =AZ8/SQRT(7) -> 3.9405196e-05 | BK8: =BA8/SQRT(3) -> 0.0018588513 | BL8: =BB8/SQRT(4) -> 0.00019104203 | BM8: =BC8/SQRT(6) -> 0.00020519788 | BN8: =BD8/SQRT(3) -> 0.00031673675 | BO8: =BE8/SQRT(3) -> 0.00035673665 | BP8: =BF8/SQRT(3) -> 0.0002718584
A9: CE_14:0+NH4_ | B9: 0.0007148481 | C9: 0 | D9: 2.748809e-05 | E9: 0 | F9: 0 | G9: 0 | H9: 0 | I9: 0.00098873702 | J9: 0 | K9: 0 | L9: 0.0010108855 | M9: 0.00061551349 | N9: 0 | O9: 0.00094357654 | P9: 7.1548186e-05 | Q9: 0 | R9: 0 | S9: 0.0028588743 | T9: 0 | U9: 0.00046144933 | V9: 0 | W9: 0 | X9: 0 | Y9: 0.0013956579 | Z9: 0 | AA9: 0 | AB9: 0.00055963144 | AC9: 0.0030513628 | AD9: 0.00079904123 | AE9: 0.00030900467 | AF9: 0.00069328182 | AG9: 0 | AH9: 0 | AI9: 0 | AJ9: 0.0002097949 | AK9: 0.00068833796 | AL9: 0.00080785975 | AN9: =AVERAGE(B9:E9) -> 0.00018558405 | AO9: =AVERAGE(F9:I9) -> 0.00024718425 | AP9: =AVERAGE(J9:P9) -> 0.00037736053 | AQ9: =AVERAGE(Q9:S9) -> 0.00095295809 | AR9: =AVERAGE(T9:W9) -> 0.00011536233 | AS9: =AVERAGE(X9:AC9) -> 0.00083444203 | AT9: =AVERAGE(AD9:AF9) -> 0.00060044257 | AU9: =AVERAGE(AG9:AI9) -> 0 | AV9: =AVERAGE(AJ9:AL9) -> 0.0005686642 | AX9: =STDEV(B9:E9) -> 0.00035308056 | AY9: =STDEV(F9:I9) -> 0.00049436851 | AZ9: =STDEV(J9:P9) -> 0.00046536641 | BA9: =STDEV(Q9:S9) -> 0.0016505718 | BB9: =STDEV(T9:W9) -> 0.00023072467 | BC9: =STDEV(X9:AC9) -> 0.0012160676 | BD9: =STDEV(AD9:AF9) -> 0.00025787265 | BE9: =STDEV(AG9:AI9) -> 0 | BF9: =STDEV(AJ9:AL9) -> 0.00031648341 | BH9: =AX9/SQRT(4) -> 0.00017654028 | BI9: =AY9/SQRT(4) -> 0.00024718425 | BJ9: =AZ9/SQRT(7) -> 0.00017589197 | BK9: =BA9/SQRT(3) -> 0.00095295809 | BL9: =BB9/SQRT(4) -> 0.00011536233 | BM9: =BC9/SQRT(6) -> 0.00049645753 | BN9: =BD9/SQRT(3) -> 0.00014888284 | BO9: =BE9/SQRT(3) -> 0 | BP9: =BF9/SQRT(3) -> 0.00018272178
A10: CE_16:2+NH4_ | B10: 0.00047139938 | C10: 0.001347424 | D10: 0 | E10: 0.00057833856 | F10: 0 | G10: 0 | H10: 0 | I10: 0.00069158815 | J10: 0 | K10: 0 | L10: 0.00060221136 | M10: 0.00061551349 | N10: 0.00076505894 | O10: 0.00057670204 | P10: 0.00047452941 | Q10: 0 | R10: 0 | S10: 0 | T10: 0 | U10: 0.00050453682 | V10: 0.0018125565 | W10: 0 | X10: 0 | Y10: 0.00030396087 | Z10: 0.0015301571 | AA10: 0 | AB10: 0.00056652323 | AC10: 0.00072167893 | AD10: 0.00079904123 | AE10: 0 | AF10: 0.0013317183 | AG10: 0.0001412154 | AH10: 0 | AI10: 0 | AJ10: 0 | AK10: 0.00016716364 | AL10: 0 | AN10: =AVERAGE(B10:E10) -> 0.00059929048 | AO10: =AVERAGE(F10:I10) -> 0.00017289704 | AP10: =AVERAGE(J10:P10) -> 0.00043343075 | AQ10: =AVERAGE(Q10:S10) -> 0 | AR10: =AVERAGE(T10:W10) -> 0.00057927332 | AS10: =AVERAGE(X10:AC10) -> 0.00052038669 | AT10: =AVERAGE(AD10:AF10) -> 0.00071025316 | AU10: =AVERAGE(AG10:AI10) -> 4.7071801e-05 | AV10: =AVERAGE(AJ10:AL10) -> 5.5721214e-05 | AX10: =STDEV(B10:E10) -> 0.00055846453 | AY10: =STDEV(F10:I10) -> 0.00034579408 | AZ10: =STDEV(J10:P10) -> 0.0003081013 | BA10: =STDEV(Q10:S10) -> 0 | BB10: =STDEV(T10:W10) -> 0.00085589876 | BC10: =STDEV(X10:AC10) -> 0.00057458302 | BD10: =STDEV(AD10:AF10) -> 0.00067028417 | BE10: =STDEV(AG10:AI10) -> 8.153075e-05 | BF10: =STDEV(AJ10:AL10) -> 9.6511974e-05 | BH10: =AX10/SQRT(4) -> 0.00027923227 | BI10: =AY10/SQRT(4) -> 0.00017289704 | BJ10: =AZ10/SQRT(7) -> 0.00011645135 | BK10: =BA10/SQRT(3) -> 0 | BL10: =BB10/SQRT(4) -> 0.00042794938 | BM10: =BC10/SQRT(6) -> 0.00023457253 | BN10: =BD10/SQRT(3) -> 0.00038698875 | BO10: =BE10/SQRT(3) -> 4.7071801e-05 | BP10: =BF10/SQRT(3) -> 5.5721214e-05
A11: CE_16:1+NH4_ | B11: 0.00077623404 | C11: 0.0021622671 | D11: 0.0056352125 | E11: 0.0016909113 | F11: 0 | G11: 0.00076237996 | H11: 0.00066951544 | I11: 0.0025865817 | J11: 0.0012200831 | K11: 0.0015613735 | L11: 0.0010108855 | M11: 0.0044261655 | N11: 0.0023121924 | O11: 0.0028719786 | P11: 0.0025653956 | Q11: 0.0012442508 | R11: 0.0033838272 | S11: 0.0028588743 | T11: 0.0032899315 | U11: 0.00046144933 | V11: 0.0034431171 | W11: 0.0019925469 | X11: 0.00063739135 | Y11: 0.0029848062 | Z11: 0.0067277828 | AA11: 0.0031489193 | AB11: 0.0036829868 | AC11: 0.0053143656 | AD11: 0.00079904123 | AE11: 0.0014715887 | AF11: 0.0087842873 | AG11: 0.00073232941 | AH11: 0 | AI11: 0.0043290914 | AJ11: 0.00095167705 | AK11: 0.0037560939 | AL11: 0.0035293349 | AN11: =AVERAGE(B11:E11) -> 0.0025661562 | AO11: =AVERAGE(F11:I11) -> 0.0010046193 | AP11: =AVERAGE(J11:P11) -> 0.0022811534 | AQ11: =AVERAGE(Q11:S11) -> 0.0024956508 | AR11: =AVERAGE(T11:W11) -> 0.0022967612 | AS11: =AVERAGE(X11:AC11) -> 0.0037493753 | AT11: =AVERAGE(AD11:AF11) -> 0.0036849724 | AU11: =AVERAGE(AG11:AI11) -> 0.0016871403 | AV11: =AVERAGE(AJ11:AL11) -> 0.0027457019 | AX11: =STDEV(B11:E11) -> 0.0021254104 | AY11: =STDEV(F11:I11) -> 0.0011079771 | AZ11: =STDEV(J11:P11) -> 0.0011754036 | BA11: =STDEV(Q11:S11) -> 0.0011150763 | BB11: =STDEV(T11:W11) -> 0.0013858132 | BC11: =STDEV(X11:AC11) -> 0.002095427 | BD11: =STDEV(AD11:AF11) -> 0.0044289208 | BE11: =STDEV(AG11:AI11) -> 0.0023171116 | BF11: =STDEV(AJ11:AL11) -> 0.0015578026 | BH11: =AX11/SQRT(4) -> 0.0010627052 | BI11: =AY11/SQRT(4) -> 0.00055398854 | BJ11: =AZ11/SQRT(7) -> 0.00044426081 | BK11: =BA11/SQRT(3) -> 0.00064378963 | BL11: =BB11/SQRT(4) -> 0.00069290662 | BM11: =BC11/SQRT(6) -> 0.00085545448 | BN11: =BD11/SQRT(3) -> 0.0025570386 | BO11: =BE11/SQRT(3) -> 0.001337785 | BP11: =BF11/SQRT(3) -> 0.00089939774
A12: CE_16:0+NH4_ | B12: 0.00024895262 | C12: 0.00045842803 | D12: 0.00067215091 | E12: 0.0020365208 | F12: 0.001295063 | G12: 0.00012219382 | H12: 0.0019714876 | I12: 0.0024922077 | J12: 0.00023234352 | K12: 0.001553636 | L12: 0.00060221136 | M12: 0.027575407 | N12: 0.0014786434 | O12: 0.0036417263 | P12: 0.0014210964 | Q12: 0.0012896593 | R12: 0.00090575769 | S12: 0.0051224563 | T12: 0.00011368407 | U12: 0.00077459921 | V12: 0.0024818706 | W12: 0.0040069718 | X12: 0.00010181118 | Y12: 0.0025297811 | Z12: 0.00091155526 | AA12: 2.8823722e-05 | AB12: 0.00074969604 | AC12: 0.0020866586 | AD12: 0.00048839221 | AE12: 0.0014715887 | AF12: 0.00063843643 | AG12: 0.0017087686 | AH12: 0.0021507424 | AI12: 0.0021239755 | AJ12: 0 | AK12: 0.0010999499 | AL12: 0.00048639901 | AN12: =AVERAGE(B12:E12) -> 0.00085401309 | AO12: =AVERAGE(F12:I12) -> 0.001470238 | AP12: =AVERAGE(J12:P12) -> 0.0052150092 | AQ12: =AVERAGE(Q12:S12) -> 0.0024392911 | AR12: =AVERAGE(T12:W12) -> 0.0018442814 | AS12: =AVERAGE(X12:AC12) -> 0.0010680543 | AT12: =AVERAGE(AD12:AF12) -> 0.00086613911 | AU12: =AVERAGE(AG12:AI12) -> 0.0019944955 | AV12: =AVERAGE(AJ12:AL12) -> 0.00052878298 | AX12: =STDEV(B12:E12) -> 0.00080704896 | AY12: =STDEV(F12:I12) -> 0.0010236508 | AZ12: =STDEV(J12:P12) -> 0.009919067 | BA12: =STDEV(Q12:S12) -> 0.0023316039 | BB12: =STDEV(T12:W12) -> 0.0017533717 | BC12: =STDEV(X12:AC12) -> 0.0010308899 | BD12: =STDEV(AD12:AF12) -> 0.00052967462 | BE12: =STDEV(AG12:AI12) -> 0.0002478084 | BF12: =STDEV(AJ12:AL12) -> 0.00055119848 | BH12: =AX12/SQRT(4) -> 0.00040352448 | BI12: =AY12/SQRT(4) -> 0.00051182539 | BJ12: =AZ12/SQRT(7) -> 0.0037490549 | BK12: =BA12/SQRT(3) -> 0.0013461521 | BL12: =BB12/SQRT(4) -> 0.00087668585 | BM12: =BC12/SQRT(6) -> 0.00042085903 | BN12: =BD12/SQRT(3) -> 0.00030580779 | BO12: =BE12/SQRT(3) -> 0.00014307224 | BP12: =BF12/SQRT(3) -> 0.00031823459
A13: CE_18:3+NH4_ | B13: 0 | C13: 0 | D13: 0.0013111055 | E13: 0 | F13: 0.00038172965 | G13: 0 | H13: 0.001226485 | I13: 0 | J13: 0.00047810997 | K13: 0 | L13: 0.00091119474 | M13: 0.0018583011 | N13: 0.0012542534 | O13: 0.00022186988 | P13: 0.00062172011 | Q13: 0.0007741295 | R13: 0 | S13: 0.00012636973 | T13: 0.00083844793 | U13: 0.00050453682 | V13: 0.00017193828 | W13: 0.00047173138 | X13: 0 | Y13: 0 | Z13: 0 | AA13: 6.565145e-05 | AB13: 0 | AC13: 0.00037057775 | AD13: 0.00058473727 | AE13: 0.00056606551 | AF13: 0 | AG13: 0 | AH13: 0 | AI13: 0.00022350079 | AJ13: 0.0011912722 | AK13: 0.0005298906 | AL13: 0.00059972774 | AN13: =AVERAGE(B13:E13) -> 0.00032777638 | AO13: =AVERAGE(F13:I13) -> 0.00040205366 | AP13: =AVERAGE(J13:P13) -> 0.0007636356 | AQ13: =AVERAGE(Q13:S13) -> 0.00030016641 | AR13: =AVERAGE(T13:W13) -> 0.0004966636 | AS13: =AVERAGE(X13:AC13) -> 7.2704867e-05 | AT13: =AVERAGE(AD13:AF13) -> 0.00038360093 | AU13: =AVERAGE(AG13:AI13) -> 7.4500262e-05 | AV13: =AVERAGE(AJ13:AL13) -> 0.00077363018 | AX13: =STDEV(B13:E13) -> 0.00065555276 | AY13: =STDEV(F13:I13) -> 0.00057832932 | AZ13: =STDEV(J13:P13) -> 0.00063758483 | BA13: =STDEV(Q13:S13) -> 0.00041529879 | BB13: =STDEV(T13:W13) -> 0.00027260879 | BC13: =STDEV(X13:AC13) -> 0.00014827137 | BD13: =STDEV(AD13:AF13) -> 0.0003323393 | BE13: =STDEV(AG13:AI13) -> 0.00012903824 | BF13: =STDEV(AJ13:AL13) -> 0.00036337026 | BH13: =AX13/SQRT(4) -> 0.00032777638 | BI13: =AY13/SQRT(4) -> 0.00028916466 | BJ13: =AZ13/SQRT(7) -> 0.00024098441 | BK13: =BA13/SQRT(3) -> 0.00023977287 | BL13: =BB13/SQRT(4) -> 0.0001363044 | BM13: =BC13/SQRT(6) -> 6.0531534e-05 | BN13: =BD13/SQRT(3) -> 0.00019187619 | BO13: =BE13/SQRT(3) -> 7.4500262e-05 | BP13: =BF13/SQRT(3) -> 0.00020979192
A14: CE_18:2+NH4_ | B14: 0.0053054797 | C14: 0.0090079413 | D14: 0.021025047 | E14: 0.013169416 | F14: 0.0037466043 | G14: 0.0068931885 | H14: 0.0043785558 | I14: 0.0099613231 | J14: 0.0084017856 | K14: 0.0018421099 | L14: 0.0067874563 | M14: 0.05625611 | N14: 0.0050464827 | O14: 0.0072215623 | P14: 0.0079496202 | Q14: 0.0067958689 | R14: 0.0044424996 | S14: 0.0055436887 | T14: 0.0037008684 | U14: 0.0028996938 | V14: 0.0063338226 | W14: 0.0088567163 | X14: 0.0036222345 | Y14: 0.0081994333 | Z14: 0.0077674048 | AA14: 0.0099088369 | AB14: 0.011044981 | AC14: 0.0083056091 | AD14: 0.0017954338 | AE14: 0.0011237089 | AF14: 0.011627357 | AG14: 0.0019954472 | AH14: 0.0057565571 | AI14: 0.0046346017 | AJ14: 0.0021913896 | AK14: 0.0077894411 | AL14: 0.0094318163 | AN14: =AVERAGE(B14:E14) -> 0.012126971 | AO14: =AVERAGE(F14:I14) -> 0.0062449179 | AP14: =AVERAGE(J14:P14) -> 0.013357875 | AQ14: =AVERAGE(Q14:S14) -> 0.0055940191 | AR14: =AVERAGE(T14:W14) -> 0.0054477753 | AS14: =AVERAGE(X14:AC14) -> 0.0081414167 | AT14: =AVERAGE(AD14:AF14) -> 0.0048488331 | AU14: =AVERAGE(AG14:AI14) -> 0.0041288687 | AV14: =AVERAGE(AJ14:AL14) -> 0.0064708823 | AX14: =STDEV(B14:E14) -> 0.0067459503 | AY14: =STDEV(F14:I14) -> 0.0028258805 | AZ14: =STDEV(J14:P14) -> 0.019046379 | BA14: =STDEV(Q14:S14) -> 0.0011774917 | BB14: =STDEV(T14:W14) -> 0.002704956 | BC14: =STDEV(X14:AC14) -> 0.0025356529 | BD14: =STDEV(AD14:AF14) -> 0.0058799736 | BE14: =STDEV(AG14:AI14) -> 0.0019308835 | BF14: =STDEV(AJ14:AL14) -> 0.0037960364 | BH14: =AX14/SQRT(4) -> 0.0033729751 | BI14: =AY14/SQRT(4) -> 0.0014129402 | BJ14: =AZ14/SQRT(7) -> 0.0071988548 | BK14: =BA14/SQRT(3) -> 0.00067982515 | BL14: =BB14/SQRT(4) -> 0.001352478 | BM14: =BC14/SQRT(6) -> 0.001035176 | BN14: =BD14/SQRT(3) -> 0.0033948043 | BO14: =BE14/SQRT(3) -> 0.0011147961 | BP14: =BF14/SQRT(3) -> 0.0021916427
A15: CE_18:1+NH4_ | B15: 0.0010372319 | C15: 0.0039916342 | D15: 0.0075173531 | E15: 0.0077724211 | F15: 0.0016767926 | G15: 0.0046391783 | H15: 0.0041546862 | I15: 0.00328177 | J15: 0.002457021 | K15: 0.0032514103 | L15: 0.0026025336 | M15: 0.010372623 | N15: 0.0076289157 | O15: 0.0053554826 | P15: 0.0095418819 | Q15: 0.0014870395 | R15: 0.0018042046 | S15: 0.0058714167 | T15: 0.00080862466 | U15: 0.00073686663 | V15: 0.0048857495 | W15: 0.0074757913 | X15: 0.0023900874 | Y15: 0.00054028202 | Z15: 0.002949698 | AA15: 0.0058953777 | AB15: 0.0050991171 | AC15: 0.0069748455 | AD15: 0.00058852375 | AE15: 0.0018421979 | AF15: 0.0082220682 | AG15: 0.00073232941 | AH15: 0.0014496181 | AI15: 0.0053679664 | AJ15: 0.0015022366 | AK15: 0.0073721634 | AL15: 0.0068795033 | AN15: =AVERAGE(B15:E15) -> 0.0050796601 | AO15: =AVERAGE(F15:I15) -> 0.0034381068 | AP15: =AVERAGE(J15:P15) -> 0.005887124 | AQ15: =AVERAGE(Q15:S15) -> 0.0030542203 | AR15: =AVERAGE(T15:W15) -> 0.003476758 | AS15: =AVERAGE(X15:AC15) -> 0.0039749013 | AT15: =AVERAGE(AD15:AF15) -> 0.0035509299 | AU15: =AVERAGE(AG15:AI15) -> 0.002516638 | AV15: =AVERAGE(AJ15:AL15) -> 0.0052513011 | AX15: =STDEV(B15:E15) -> 0.0031999133 | AY15: =STDEV(F15:I15) -> 0.0013016307 | AZ15: =STDEV(J15:P15) -> 0.0033240178 | BA15: =STDEV(Q15:S15) -> 0.0024449121 | BB15: =STDEV(T15:W15) -> 0.0032966379 | BC15: =STDEV(X15:AC15) -> 0.0024211998 | BD15: =STDEV(AD15:AF15) -> 0.0040936016 | BE15: =STDEV(AG15:AI15) -> 0.0024952317 | BF15: =STDEV(AJ15:AL15) -> 0.0032561161 | BH15: =AX15/SQRT(4) -> 0.0015999566 | BI15: =AY15/SQRT(4) -> 0.00065081536 | BJ15: =AZ15/SQRT(7) -> 0.0012563606 | BK15: =BA15/SQRT(3) -> 0.0014115707 | BL15: =BB15/SQRT(4) -> 0.001648319 | BM15: =BC15/SQRT(6) -> 0.00098845068 | BN15: =BD15/SQRT(3) -> 0.002363442 | BO15: =BE15/SQRT(3) -> 0.0014406227 | BP15: =BF15/SQRT(3) -> 0.0018799195
A16: CE_18:0+NH4_ | B16: 0.0018112128 | C16: 0.0036822901 | D16: 6.4138876e-05 | E16: 0.0028979766 | F16: 0.0010896217 | G16: 0.0027904055 | H16: 0.0014938193 | I16: 0.0015766097 | J16: 0.00044989596 | K16: 0.00095123409 | L16: 0.0014051598 | M16: 0.0036472595 | N16: 0.0042831255 | O16: 0.0039810863 | P16: 0.0005460776 | Q16: 0.00025703003 | R16: 0.00056227749 | S16: 0.00012636973 | T16: 0 | U16: 0 | V16: 0.00074237593 | W16: 0.0018817282 | X16: 0.00084571797 | Y16: 0 | Z16: 0.00091155526 | AA16: 0.0006107765 | AB16: 0.001737848 | AC16: 0.0011962428 | AD16: 0 | AE16: 0 | AF16: 0.00015598882 | AG16: 0.0010044526 | AH16: 0.0011651618 | AI16: 0.0011900317 | AJ16: 0.00046190011 | AK16: 0.001445631 | AL16: 0.002160476 | AN16: =AVERAGE(B16:E16) -> 0.0021139046 | AO16: =AVERAGE(F16:I16) -> 0.0017376141 | AP16: =AVERAGE(J16:P16) -> 0.0021805484 | AQ16: =AVERAGE(Q16:S16) -> 0.00031522575 | AR16: =AVERAGE(T16:W16) -> 0.00065602604 | AS16: =AVERAGE(X16:AC16) -> 0.0008836901 | AT16: =AVERAGE(AD16:AF16) -> 5.1996273e-05 | AU16: =AVERAGE(AG16:AI16) -> 0.001119882 | AV16: =AVERAGE(AJ16:AL16) -> 0.0013560024 | AX16: =STDEV(B16:E16) -> 0.0015671379 | AY16: =STDEV(F16:I16) -> 0.000733399 | AZ16: =STDEV(J16:P16) -> 0.001712362 | BA16: =STDEV(Q16:S16) -> 0.00022370505 | BB16: =STDEV(T16:W16) -> 0.00088892116 | BC16: =STDEV(X16:AC16) -> 0.00058049692 | BD16: =STDEV(AD16:AF16) -> 9.0060186e-05 | BE16: =STDEV(AG16:AI16) -> 0.00010073525 | BF16: =STDEV(AJ16:AL16) -> 0.00085282762 | BH16: =AX16/SQRT(4) -> 0.00078356897 | BI16: =AY16/SQRT(4) -> 0.0003666995 | BJ16: =AZ16/SQRT(7) -> 0.00064721201 | BK16: =BA16/SQRT(3) -> 0.00012915617 | BL16: =BB16/SQRT(4) -> 0.00044446058 | BM16: =BC16/SQRT(6) -> 0.00023698688 | BN16: =BD16/SQRT(3) -> 5.1996273e-05 | BO16: =BE16/SQRT(3) -> 5.8159523e-05 | BP16: =BF16/SQRT(3) -> 0.00049238026
A17: CE_20:5+NH4_ | B17: 0.00077623404 | C17: 0.001347424 | D17: 0.0011562799 | E17: 0.001211534 | F17: 0 | G17: 0.001099188 | H17: 0.00088234512 | I17: 0.00050517759 | J17: 0.00074082524 | K17: 0.0028219481 | L17: 0 | M17: 0.0013472049 | N17: 0.00093719765 | O17: 0.0024069621 | P17: 0.0012211916 | Q17: 0.0020913649 | R17: 0.00090575769 | S17: 0 | T17: 0 | U17: 0.00084692683 | V17: 0.00040118932 | W17: 0.0014347199 | X17: 0 | Y17: 0 | Z17: 0.0035703666 | AA17: 0.00056026128 | AB17: 0.00080419572 | AC17: 0.00088870462 | AD17: 0.0012894654 | AE17: 0 | AF17: 0.0027846705 | AG17: 0.00078380667 | AH17: 0.0013316703 | AI17: 0.00316213 | AJ17: 0.00022230497 | AK17: 0.00076145784 | AL17: 0 | AN17: =AVERAGE(B17:E17) -> 0.001122868 | AO17: =AVERAGE(F17:I17) -> 0.00062167767 | AP17: =AVERAGE(J17:P17) -> 0.0013536185 | AQ17: =AVERAGE(Q17:S17) -> 0.00099904086 | AR17: =AVERAGE(T17:W17) -> 0.00067070902 | AS17: =AVERAGE(X17:AC17) -> 0.00097058804 | AT17: =AVERAGE(AD17:AF17) -> 0.0013580453 | AU17: =AVERAGE(AG17:AI17) -> 0.0017592023 | AV17: =AVERAGE(AJ17:AL17) -> 0.00032792094 | AX17: =STDEV(B17:E17) -> 0.00024464839 | AY17: =STDEV(F17:I17) -> 0.00048167036 | AZ17: =STDEV(J17:P17) -> 0.00097162301 | BA17: =STDEV(Q17:S17) -> 0.0010487984 | BB17: =STDEV(T17:W17) -> 0.0006156993 | BC17: =STDEV(X17:AC17) -> 0.0013300895 | BD17: =STDEV(AD17:AF17) -> 0.0013936014 | BE17: =STDEV(AG17:AI17) -> 0.001245469 | BF17: =STDEV(AJ17:AL17) -> 0.00039156169 | BH17: =AX17/SQRT(4) -> 0.0001223242 | BI17: =AY17/SQRT(4) -> 0.00024083518 | BJ17: =AZ17/SQRT(7) -> 0.00036723898 | BK17: =BA17/SQRT(3) -> 0.00060552404 | BL17: =BB17/SQRT(4) -> 0.00030784965 | BM17: =BC17/SQRT(6) -> 0.00054300676 | BN17: =BD17/SQRT(3) -> 0.00080459615 | BO17: =BE17/SQRT(3) -> 0.00071907188 | BP17: =BF17/SQRT(3) -> 0.00022606825
A18: CE_20:4+NH4_ | B18: 0.0075098704 | C18: 0.0056159473 | D18: 0.0087202263 | E18: 0.00285433 | F18: 0.004775728 | G18: 0.006774786 | H18: 0.0039090704 | I18: 0.0059808713 | J18: 0.0031684844 | K18: 0.0028356793 | L18: 0.0069310125 | M18: 0.0074808731 | N18: 0.0040091675 | O18: 0.0064371128 | P18: 0.0076024873 | Q18: 0.0035976579 | R18: 0.0049968459 | S18: 0.015484192 | T18: 0.0028526371 | U18: 0.0050578761 | V18: 0.0057871895 | W18: 0.0046588333 | X18: 0.0028835096 | Y18: 0.0021773939 | Z18: 0.0029712467 | AA18: 0.0089866495 | AB18: 0.0044404914 | AC18: 0.0079216167 | AD18: 0.0032661407 | AE18: 0.0061707724 | AF18: 0.0069970883 | AG18: 0.0039595677 | AH18: 0.0030667389 | AI18: 0.0040551861 | AJ18: 0.00048944322 | AK18: 0.011295705 | AL18: 0.0078265987 | AN18: =AVERAGE(B18:E18) -> 0.0061750935 | AO18: =AVERAGE(F18:I18) -> 0.0053601139 | AP18: =AVERAGE(J18:P18) -> 0.0054949738 | AQ18: =AVERAGE(Q18:S18) -> 0.0080262321 | AR18: =AVERAGE(T18:W18) -> 0.004589134 | AS18: =AVERAGE(X18:AC18) -> 0.004896818 | AT18: =AVERAGE(AD18:AF18) -> 0.0054780005 | AU18: =AVERAGE(AG18:AI18) -> 0.0036938309 | AV18: =AVERAGE(AJ18:AL18) -> 0.006537249 | AX18: =STDEV(B18:E18) -> 0.0025560024 | AY18: =STDEV(F18:I18) -> 0.0012693399 | AZ18: =STDEV(J18:P18) -> 0.0020827571 | BA18: =STDEV(Q18:S18) -> 0.0064965615 | BB18: =STDEV(T18:W18) -> 0.001248377 | BC18: =STDEV(X18:AC18) -> 0.0028719633 | BD18: =STDEV(AD18:AF18) -> 0.0019595771 | BE18: =STDEV(AG18:AI18) -> 0.00054517795 | BF18: =STDEV(AJ18:AL18) -> 0.0055173037 | BH18: =AX18/SQRT(4) -> 0.0012780012 | BI18: =AY18/SQRT(4) -> 0.00063466993 | BJ18: =AZ18/SQRT(7) -> 0.00078720819 | BK18: =BA18/SQRT(3) -> 0.0037507916 | BL18: =BB18/SQRT(4) -> 0.00062418851 | BM18: =BC18/SQRT(6) -> 0.0011724741 | BN18: =BD18/SQRT(3) -> 0.0011313623 | BO18: =BE18/SQRT(3) -> 0.00031475864 | BP18: =BF18/SQRT(3) -> 0.0031854168
... A68: TOTAL | B68: 0.034026982 | C68: 0.051747572 | D68: 0.065308075 | E68: 0.05329651 | F68: 0.025115189 | G68: 0.037681764 | H68: 0.034756644 | I68: 0.047649351 | J68: 0.027177649 | K68: 0.039100246 | L68: 0.041175641 | M68: 0.13066458 | N68: 0.058515313 | O68: 0.0547032 | P68: 0.061667534 | Q68: 0.029568176 | R68: 0.037219114 | S68: 0.06448057 | T68: 0.032500514 | U68: 0.023632657 | V68: 0.044025172 | W68: 0.063566894 | X68: 0.021613719 | Y68: 0.030002978 | Z68: 0.067130717 | AA68: 0.056124028 | AB68: 0.056328707 | AC68: 0.066629778 | AD68: 0.01909371 | AE68: 0.023114889 | AF68: 0.075897602 | AG68: 0.023075572 | AH68: 0.045882201 | AI68: 0.048780035 | AJ68: 0.019585338 | AK68: 0.054874366 | AL68: 0.057085661 | AN68: =AVERAGE(B68:E68) -> 0.051094785 | AO68: =AVERAGE(F68:I68) -> 0.036300737 | AP68: =AVERAGE(J68:P68) -> 0.059000595 | AQ68: =AVERAGE(Q68:S68) -> 0.043755953 | AR68: =AVERAGE(T68:W68) -> 0.040931309 | AS68: =AVERAGE(X68:AC68) -> 0.049638321 | AT68: =AVERAGE(AD68:AF68) -> 0.039368734 | AU68: =AVERAGE(AG68:AI68) -> 0.039245936 | AV68: =AVERAGE(AJ68:AL68) -> 0.043848455 | AX68: =STDEV(B68:E68) -> 0.012891874 | AY68: =STDEV(F68:I68) -> 0.0092771941 | AZ68: =STDEV(J68:P68) -> 0.033882137 | BA68: =STDEV(Q68:S68) -> 0.018351199 | BB68: =STDEV(T68:W68) -> 0.017245902 | BC68: =STDEV(X68:AC68) -> 0.019248087 | BD68: =STDEV(AD68:AF68) -> 0.031698756 | BE68: =STDEV(AG68:AI68) -> 0.014078703 | BF68: =STDEV(AJ68:AL68) -> 0.021041544 | BH68: =AX68/SQRT(4) -> 0.0064459368 | BI68: =AY68/SQRT(4) -> 0.0046385971 | BJ68: =AZ68/SQRT(7) -> 0.012806244 | BK68: =BA68/SQRT(3) -> 0.01059507 | BL68: =BB68/SQRT(4) -> 0.0086229508 | BM68: =BC68/SQRT(6) -> 0.0078579985 | BN68: =BD68/SQRT(3) -> 0.018301285 | BO68: =BE68/SQRT(3) -> 0.0081283428 | BP68: =BF68/SQRT(3) -> 0.012148341
A71: Saturated Sum | B71: =SUM(B66,B59,B52,B46,B42,B36:B39,B29,B22,B16,B12,B7:B9) -> 0.0067780021 | C71: =SUM(C66,C59,C52,C46,C42,C36:C39,C29,C22,C16,C12,C7:C9) -> 0.010132838 | D71: =SUM(D66,D59,D52,D46,D42,D36:D39,D29,D22,D16,D12,D7:D9) -> 0.0076449512 | E71: =SUM(E66,E59,E52,E46,E42,E36:E39,E29,E22,E16,E12,E7:E9) -> 0.011381957 | F71: =SUM(F66,F59,F52,F46,F42,F36:F39,F29,F22,F16,F12,F7:F9) -> 0.0069016054 | G71: =SUM(G66,G59,G52,G46,G42,G36:G39,G29,G22,G16,G12,G7:G9) -> 0.0078864714 | H71: =SUM(H66,H59,H52,H46,H42,H36:H39,H29,H22,H16,H12,H7:H9) -> 0.0050801357 | I71: =SUM(I66,I59,I52,I46,I42,I36:I39,I29,I22,I16,I12,I7:I9) -> 0.01155766 | ... AL71: =SUM(AL66,AL59,AL52,AL46,AL42,AL36:AL39,AL29,AL22,AL16,AL12,AL7:AL9) -> 0.0096369031 | AM71: Saturated Sum | AN71: =AVERAGE(B71:E71) -> 0.0089844369 | AO71: =AVERAGE(F71:I71) -> 0.0078564682 | AP71: =AVERAGE(J71:P71) -> 0.013826738 | AQ71: =AVERAGE(Q71:S71) -> 0.010968238 | AR71: =AVERAGE(T71:W71) -> 0.0091240205 | AS71: =AVERAGE(X71:AC71) -> 0.0105536 | AT71: =AVERAGE(AD71:AF71) -> 0.0081965452 | AU71: =AVERAGE(AG71:AI71) -> 0.0090818312 | AV71: =AVERAGE(AJ71:AL71) -> 0.0079014897 | AX71: =STDEV(B71:E71) -> 0.0021392757 | AY71: =STDEV(F71:I71) -> 0.0027276063 | AZ71: =STDEV(J71:P71) -> 0.010796511 | BA71: =STDEV(Q71:S71) -> 0.0069530287 | BB71: =STDEV(T71:W71) -> 0.004903354 | BC71: =STDEV(X71:AC71) -> 0.0036241465 | BD71: =STDEV(AD71:AF71) -> 0.0059697166 | BE71: =STDEV(AG71:AI71) -> 0.0052286273 | BF71: =STDEV(AJ71:AL71) -> 0.001617827 | BH71: =AX71/SQRT(4) -> 0.0010696379 | BI71: =AY71/SQRT(4) -> 0.0013638032 | BJ71: =AZ71/SQRT(7) -> 0.0040806974 | BK71: =BA71/SQRT(3) -> 0.004014333 | BL71: =BB71/SQRT(4) -> 0.002451677 | BM71: =BC71/SQRT(6) -> 0.0014795516 | BN71: =BD71/SQRT(3) -> 0.0034466175 | BO71: =BE71/SQRT(3) -> 0.0030187494 | BP71: =BF71/SQRT(3) -> 0.00093405288
A72: Mono Sum | B72: =SUM(B65,B58,B51,B45,B41,B35,B28,B21,B15,B11) -> 0.0021218367 | C72: =SUM(C65,C58,C51,C45,C41,C35,C28,C21,C15,C11) -> 0.0066380822 | D72: =SUM(D65,D58,D51,D45,D41,D35,D28,D21,D15,D11) -> 0.015462296 | E72: =SUM(E65,E58,E51,E45,E41,E35,E28,E21,E15,E11) -> 0.013508932 | F72: =SUM(F65,F58,F51,F45,F41,F35,F28,F21,F15,F11) -> 0.0024420181 | G72: =SUM(G65,G58,G51,G45,G41,G35,G28,G21,G15,G11) -> 0.0073555466 | H72: =SUM(H65,H58,H51,H45,H41,H35,H28,H21,H15,H11) -> 0.0070469812 | I72: =SUM(I65,I58,I51,I45,I41,I35,I28,I21,I15,I11) -> 0.0092151274 | ... AL72: =SUM(AL65,AL58,AL51,AL45,AL41,AL35,AL28,AL21,AL15,AL11) -> 0.015070056 | AM72: Mono Sum | AN72: =AVERAGE(B72:E72) -> 0.0094327867 | AO72: =AVERAGE(F72:I72) -> 0.0065149183 | AP72: =AVERAGE(J72:P72) -> 0.011873259 | AQ72: =AVERAGE(Q72:S72) -> 0.006842044 | AR72: =AVERAGE(T72:W72) -> 0.0092084339 | AS72: =AVERAGE(X72:AC72) -> 0.011287268 | AT72: =AVERAGE(AD72:AF72) -> 0.0094448695 | AU72: =AVERAGE(AG72:AI72) -> 0.0074810986 | AV72: =AVERAGE(AJ72:AL72) -> 0.010849606 | AX72: =STDEV(B72:E72) -> 0.0061706376 | AY72: =STDEV(F72:I72) -> 0.0028792008 | AZ72: =STDEV(J72:P72) -> 0.0052919318 | BA72: =STDEV(Q72:S72) -> 0.0037772786 | BB72: =STDEV(T72:W72) -> 0.0061306305 | BC72: =STDEV(X72:AC72) -> 0.005733749 | BD72: =STDEV(AD72:AF72) -> 0.0083696918 | BE72: =STDEV(AG72:AI72) -> 0.004666688 | BF72: =STDEV(AJ72:AL72) -> 0.0056973926 | BH72: =AX72/SQRT(4) -> 0.0030853188 | BI72: =AY72/SQRT(4) -> 0.0014396004 | BJ72: =AZ72/SQRT(7) -> 0.0020001622 | BK72: =BA72/SQRT(3) -> 0.0021808128 | BL72: =BB72/SQRT(4) -> 0.0030653153 | BM72: =BC72/SQRT(6) -> 0.0023407932 | BN72: =BD72/SQRT(3) -> 0.0048322438 | BO72: =BE72/SQRT(3) -> 0.0026943136 | BP72: =BF72/SQRT(3) -> 0.0032893911
A73: Poly Sum | B73: =SUM(B60:B64,B53:B57,B47:B50,B43:B44,B40,B30:B34,B23:B27,B17:B20,B13:B14,B10) -> 0.025127143 | C73: =SUM(C60:C64,C53:C57,C47:C50,C43:C44,C40,C30:C34,C23:C27,C17:C20,C13:C14,C10) -> 0.034976652 | D73: =SUM(D60:D64,D53:D57,D47:D50,D43:D44,D40,D30:D34,D23:D27,D17:D20,D13:D14,D10) -> 0.042200828 | E73: =SUM(E60:E64,E53:E57,E47:E50,E43:E44,E40,E30:E34,E23:E27,E17:E20,E13:E14,E10) -> 0.028405621 | F73: =SUM(F60:F64,F53:F57,F47:F50,F43:F44,F40,F30:F34,F23:F27,F17:F20,F13:F14,F10) -> 0.015771565 | G73: =SUM(G60:G64,G53:G57,G47:G50,G43:G44,G40,G30:G34,G23:G27,G17:G20,G13:G14,G10) -> 0.022439746 | H73: =SUM(H60:H64,H53:H57,H47:H50,H43:H44,H40,H30:H34,H23:H27,H17:H20,H13:H14,H10) -> 0.022629528 | I73: =SUM(I60:I64,I53:I57,I47:I50,I43:I44,I40,I30:I34,I23:I27,I17:I20,I13:I14,I10) -> 0.026876564 | ... AL73: =SUM(AL60:AL64,AL53:AL57,AL47:AL50,AL43:AL44,AL40,AL30:AL34,AL23:AL27,AL17:AL20,AL13:AL14,AL10) -> 0.032378702 | AM73: Poly Sum | AN73: =AVERAGE(B73:E73) -> 0.032677561 | AO73: =AVERAGE(F73:I73) -> 0.021929351 | AP73: =AVERAGE(J73:P73) -> 0.033300598 | AQ73: =AVERAGE(Q73:S73) -> 0.025945672 | AR73: =AVERAGE(T73:W73) -> 0.022598855 | AS73: =AVERAGE(X73:AC73) -> 0.027797454 | AT73: =AVERAGE(AD73:AF73) -> 0.021727319 | AU73: =AVERAGE(AG73:AI73) -> 0.022683006 | AV73: =AVERAGE(AJ73:AL73) -> 0.02509736 | AX73: =STDEV(B73:E73) -> 0.0075550579 | AY73: =STDEV(F73:I73) -> 0.0045878095 | AZ73: =STDEV(J73:P73) -> 0.020376509 | BA73: =STDEV(Q73:S73) -> 0.0076670419 | BB73: =STDEV(T73:W73) -> 0.007222646 | BC73: =STDEV(X73:AC73) -> 0.011708318 | BD73: =STDEV(AD73:AF73) -> 0.017375252 | BE73: =STDEV(AG73:AI73) -> 0.0067002612 | BF73: =STDEV(AJ73:AL73) -> 0.014157107 | BH73: =AX73/SQRT(4) -> 0.003777529 | BI73: =AY73/SQRT(4) -> 0.0022939047 | BJ73: =AZ73/SQRT(7) -> 0.0077015966 | BK73: =BA73/SQRT(3) -> 0.0044265687 | BL73: =BB73/SQRT(4) -> 0.003611323 | BM73: =BC73/SQRT(6) -> 0.0047799008 | BN73: =BD73/SQRT(3) -> 0.010031607 | BO73: =BE73/SQRT(3) -> 0.0038683976 | BP73: =BF73/SQRT(3) -> 0.0081736095
A74: Short Sum | B74: =SUM(B37:B38,B7:B8) -> 0.001996192 | C74: =SUM(C37:C38,C7:C8) -> 0.0034148049 | D74: =SUM(D37:D38,D7:D8) -> 0.0030689374 | E74: =SUM(E37:E38,E7:E8) -> 0.0010468263 | F74: =SUM(F37:F38,F7:F8) -> 0.0023303075 | G74: =SUM(G37:G38,G7:G8) -> 0.0028221342 | H74: =SUM(H37:H38,H7:H8) -> 0.00082207112 | I74: =SUM(I37:I38,I7:I8) -> 0.0017947235 | ... AL74: =SUM(AL37:AL38,AL7:AL8) -> 0.0029757843 | AM74: Short Sum | AN74: =AVERAGE(B74:E74) -> 0.0023816902 | AO74: =AVERAGE(F74:I74) -> 0.0019423091 | AP74: =AVERAGE(J74:P74) -> 0.0025783211 | AQ74: =AVERAGE(Q74:S74) -> 0.0038251894 | AR74: =AVERAGE(T74:W74) -> 0.0027942199 | AS74: =AVERAGE(X74:AC74) -> 0.0032427753 | AT74: =AVERAGE(AD74:AF74) -> 0.0038505197 | AU74: =AVERAGE(AG74:AI74) -> 0.0025348142 | AV74: =AVERAGE(AJ74:AL74) -> 0.0027328808 | AX74: =STDEV(B74:E74) -> 0.0010755007 | AY74: =STDEV(F74:I74) -> 0.00085661145 | AZ74: =STDEV(J74:P74) -> 0.0011660411 | BA74: =STDEV(Q74:S74) -> 0.0020191467 | BB74: =STDEV(T74:W74) -> 0.0010162037 | BC74: =STDEV(X74:AC74) -> 0.0014216109 | BD74: =STDEV(AD74:AF74) -> 0.0033235383 | BE74: =STDEV(AG74:AI74) -> 0.0020729579 | BF74: =STDEV(AJ74:AL74) -> 0.00048029691 | BH74: =AX74/SQRT(4) -> 0.00053775036 | BI74: =AY74/SQRT(4) -> 0.00042830573 | BJ74: =AZ74/SQRT(7) -> 0.00044072213 | BK74: =BA74/SQRT(3) -> 0.0011657549 | BL74: =BB74/SQRT(4) -> 0.00050810184 | BM74: =BC74/SQRT(6) -> 0.00058037023 | BN74: =BD74/SQRT(3) -> 0.0019188457 | BO74: =BE74/SQRT(3) -> 0.0011968228 | BP74: =BF74/SQRT(3) -> 0.00027729955
A75: Medium Sum | B75: =SUM(B54:B59,B39:B52,B24:B29,B9:B22) -> 0.02503162 | C75: =SUM(C54:C59,C39:C52,C24:C29,C9:C22) -> 0.039467193 | D75: =SUM(D54:D59,D39:D52,D24:D29,D9:D22) -> 0.057889787 | E75: =SUM(E54:E59,E39:E52,E24:E29,E9:E22) -> 0.042782177 | F75: =SUM(F54:F59,F39:F52,F24:F29,F9:F22) -> 0.019443198 | G75: =SUM(G54:G59,G39:G52,G24:G29,G9:G22) -> 0.029199186 | H75: =SUM(H54:H59,H39:H52,H24:H29,H9:H22) -> 0.024640943 | I75: =SUM(I54:I59,I39:I52,I24:I29,I9:I22) -> 0.04003714 | ... AL75: =SUM(AL54:AL59,AL39:AL52,AL24:AL29,AL9:AL22) -> 0.047119555 | AM75: Medium Sum | AN75: =AVERAGE(B75:E75) -> 0.041292694 | AO75: =AVERAGE(F75:I75) -> 0.028330117 | AP75: =AVERAGE(J75:P75) -> 0.048362483 | AQ75: =AVERAGE(Q75:S75) -> 0.033888115 | AR75: =AVERAGE(T75:W75) -> 0.029911422 | AS75: =AVERAGE(X75:AC75) -> 0.037933505 | AT75: =AVERAGE(AD75:AF75) -> 0.030018181 | AU75: =AVERAGE(AG75:AI75) -> 0.028630001 | AV75: =AVERAGE(AJ75:AL75) -> 0.035035436 | AX75: =STDEV(B75:E75) -> 0.013483781 | AY75: =STDEV(F75:I75) -> 0.0087635041 | AZ75: =STDEV(J75:P75) -> 0.034657018 | BA75: =STDEV(Q75:S75) -> 0.016704982 | BB75: =STDEV(T75:W75) -> 0.016252863 | BC75: =STDEV(X75:AC75) -> 0.015594039 | BD75: =STDEV(AD75:AF75) -> 0.022720062 | BE75: =STDEV(AG75:AI75) -> 0.009416722 | BF75: =STDEV(AJ75:AL75) -> 0.018746769 | BH75: =AX75/SQRT(4) -> 0.0067418905 | BI75: =AY75/SQRT(4) -> 0.004381752 | BJ75: =AZ75/SQRT(7) -> 0.013099122 | BK75: =BA75/SQRT(3) -> 0.009644626 | BL75: =BB75/SQRT(4) -> 0.0081264317 | BM75: =BC75/SQRT(6) -> 0.0063662398 | BN75: =BD75/SQRT(3) -> 0.013117434 | BO75: =BE75/SQRT(3) -> 0.005436747 | BP75: =BF75/SQRT(3) -> 0.010823452
A76: Long Sum | B76: =SUM(B60:B66,B53,B30:B36,B23) -> 0.0069991704 | C76: =SUM(C60:C66,C53,C30:C36,C23) -> 0.0088655734 | D76: =SUM(D60:D66,D53,D30:D36,D23) -> 0.0043493499 | E76: =SUM(E60:E66,E53,E30:E36,E23) -> 0.0094675065 | F76: =SUM(F60:F66,F53,F30:F36,F23) -> 0.0033416833 | G76: =SUM(G60:G66,G53,G30:G36,G23) -> 0.0056604436 | H76: =SUM(H60:H66,H53,H30:H36,H23) -> 0.00929363 | I76: =SUM(I60:I66,I53,I30:I36,I23) -> 0.0058174873 | ... AL76: =SUM(AL60:AL66,AL53,AL30:AL36,AL23) -> 0.0069903213 | AM76: Long Sum | AN76: =AVERAGE(B76:E76) -> 0.0074204001 | AO76: =AVERAGE(F76:I76) -> 0.0060283111 | AP76: =AVERAGE(J76:P76) -> 0.0080597906 | AQ76: =AVERAGE(Q76:S76) -> 0.0060426489 | AR76: =AVERAGE(T76:W76) -> 0.008225667 | AS76: =AVERAGE(X76:AC76) -> 0.0084620408 | AT76: =AVERAGE(AD76:AF76) -> 0.0055000327 | AU76: =AVERAGE(AG76:AI76) -> 0.0080811207 | AV76: =AVERAGE(AJ76:AL76) -> 0.0060801383 | AX76: =STDEV(B76:E76) -> 0.0023013006 | AY76: =STDEV(F76:I76) -> 0.0024535722 | AZ76: =STDEV(J76:P76) -> 0.0030484339 | BA76: =STDEV(Q76:S76) -> 0.00021760486 | BB76: =STDEV(T76:W76) -> 0.002997676 | BC76: =STDEV(X76:AC76) -> 0.004556323 | BD76: =STDEV(AD76:AF76) -> 0.0056626555 | BE76: =STDEV(AG76:AI76) -> 0.002765505 | BF76: =STDEV(AJ76:AL76) -> 0.0026427458 | BH76: =AX76/SQRT(4) -> 0.0011506503 | BI76: =AY76/SQRT(4) -> 0.0012267861 | BJ76: =AZ76/SQRT(7) -> 0.0011521997 | BK76: =BA76/SQRT(3) -> 0.00012563422 | BL76: =BB76/SQRT(4) -> 0.001498838 | BM76: =BC76/SQRT(6) -> 0.0018601111 | BN76: =BD76/SQRT(3) -> 0.0032693357 | BO76: =BE76/SQRT(3) -> 0.001596665 | BP76: =BF76/SQRT(3) -> 0.00152579
A77: CE Sum | B77: =SUM(B7:B36) -> 0.029875655 | C77: =SUM(C7:C36) -> 0.048152333 | D77: =SUM(D7:D36) -> 0.056550605 | E77: =SUM(E7:E36) -> 0.044350305 | F77: =SUM(F7:F36) -> 0.020265449 | G77: =SUM(G7:G36) -> 0.031721669 | H77: =SUM(H7:H36) -> 0.030466548 | I77: =SUM(I7:I36) -> 0.039065636 | ... AL77: =SUM(AL7:AL36) -> 0.049419879 | AM77: CE Sum | AN77: =AVERAGE(B77:E77) -> 0.044732225 | AO77: =AVERAGE(F77:I77) -> 0.030379826 | AP77: =AVERAGE(J77:P77) -> 0.050745183 | AQ77: =AVERAGE(Q77:S77) -> 0.037530694 | AR77: =AVERAGE(T77:W77) -> 0.033871264 | AS77: =AVERAGE(X77:AC77) -> 0.039914958 | AT77: =AVERAGE(AD77:AF77) -> 0.034074114 | AU77: =AVERAGE(AG77:AI77) -> 0.030988218 | AV77: =AVERAGE(AJ77:AL77) -> 0.036591738 | AX77: =STDEV(B77:E77) -> 0.011139042 | AY77: =STDEV(F77:I77) -> 0.0077363209 | AZ77: =STDEV(J77:P77) -> 0.034494107 | BA77: =STDEV(Q77:S77) -> 0.015173761 | BB77: =STDEV(T77:W77) -> 0.013474583 | BC77: =STDEV(X77:AC77) -> 0.013619469 | BD77: =STDEV(AD77:AF77) -> 0.026878921 | BE77: =STDEV(AG77:AI77) -> 0.012263421 | BF77: =STDEV(AJ77:AL77) -> 0.01886334 | BH77: =AX77/SQRT(4) -> 0.0055695211 | BI77: =AY77/SQRT(4) -> 0.0038681604 | BJ77: =AZ77/SQRT(7) -> 0.013037547 | BK77: =BA77/SQRT(3) -> 0.0087605748 | BL77: =BB77/SQRT(4) -> 0.0067372914 | BM77: =BC77/SQRT(6) -> 0.0055601247 | BN77: =BD77/SQRT(3) -> 0.015518552 | BO77: =BE77/SQRT(3) -> 0.0070802893 | BP77: =BF77/SQRT(3) -> 0.010890755
A78: Des Sum | B78: =SUM(B37:B66) -> 0.004151327 | C78: =SUM(C37:C66) -> 0.0035952386 | D78: =SUM(D37:D66) -> 0.008757469 | E78: =SUM(E37:E66) -> 0.0089462055 | F78: =SUM(F37:F66) -> 0.0048497397 | G78: =SUM(G37:G66) -> 0.0059600951 | H78: =SUM(H37:H66) -> 0.004290096 | I78: =SUM(I37:I66) -> 0.0085837152 | ... AL78: =SUM(AL37:AL66) -> 0.0076657822 | AM78: Des Sum | AN78: =AVERAGE(B78:E78) -> 0.00636256 | AO78: =AVERAGE(F78:I78) -> 0.0059209115 | AP78: =AVERAGE(J78:P78) -> 0.0082554115 | AQ78: =AVERAGE(Q78:S78) -> 0.0062252594 | AR78: =AVERAGE(T78:W78) -> 0.0070600452 | AS78: =AVERAGE(X78:AC78) -> 0.0097233636 | AT78: =AVERAGE(AD78:AF78) -> 0.0052946193 | AU78: =AVERAGE(AG78:AI78) -> 0.0082577178 | AV78: =AVERAGE(AJ78:AL78) -> 0.0072567173 | AX78: =STDEV(B78:E78) -> 0.0028843504 | AY78: =STDEV(F78:I78) -> 0.0019060454 | AZ78: =STDEV(J78:P78) -> 0.0045560934 | BA78: =STDEV(Q78:S78) -> 0.0033186991 | BB78: =STDEV(T78:W78) -> 0.0038862685 | BC78: =STDEV(X78:AC78) -> 0.0062111474 | BD78: =STDEV(AD78:AF78) -> 0.004969128 | BE78: =STDEV(AG78:AI78) -> 0.0029624905 | BF78: =STDEV(AJ78:AL78) -> 0.0024256969 | BH78: =AX78/SQRT(4) -> 0.0014421752 | BI78: =AY78/SQRT(4) -> 0.0009530227 | BJ78: =AZ78/SQRT(7) -> 0.0017220414 | BK78: =BA78/SQRT(3) -> 0.0019160518 | BL78: =BB78/SQRT(4) -> 0.0019431343 | BM78: =BC78/SQRT(6) -> 0.0025356903 | BN78: =BD78/SQRT(3) -> 0.0028689274 | BO78: =BE78/SQRT(3) -> 0.0017103947 | BP78: =BF78/SQRT(3) -> 0.0014004767
A80: TOTAL | B80: =SUM(B7:B66) -> 0.034026982 | C80: =SUM(C7:C66) -> 0.051747572 | D80: =SUM(D7:D66) -> 0.065308075 | E80: =SUM(E7:E66) -> 0.05329651 | F80: =SUM(F7:F66) -> 0.025115189 | G80: =SUM(G7:G66) -> 0.037681764 | H80: =SUM(H7:H66) -> 0.034756644 | I80: =SUM(I7:I66) -> 0.047649351 | ... AL80: =SUM(AL7:AL66) -> 0.057085661 | AM80: TOTAL | AN80: =AVERAGE(B80:E80) -> 0.051094785 | AO80: =AVERAGE(F80:I80) -> 0.036300737 | AP80: =AVERAGE(J80:P80) -> 0.059000595 | AQ80: =AVERAGE(Q80:S80) -> 0.043755953 | AR80: =AVERAGE(T80:W80) -> 0.040931309 | AS80: =AVERAGE(X80:AC80) -> 0.049638321 | AT80: =AVERAGE(AD80:AF80) -> 0.039368734 | AU80: =AVERAGE(AG80:AI80) -> 0.039245936 | AV80: =AVERAGE(AJ80:AL80) -> 0.043848455 | AX80: =STDEV(B80:E80) -> 0.012891874 | AY80: =STDEV(F80:I80) -> 0.0092771941 | AZ80: =STDEV(J80:P80) -> 0.033882137 | BA80: =STDEV(Q80:S80) -> 0.018351199 | BB80: =STDEV(T80:W80) -> 0.017245902 | BC80: =STDEV(X80:AC80) -> 0.019248087 | BD80: =STDEV(AD80:AF80) -> 0.031698756 | BE80: =STDEV(AG80:AI80) -> 0.014078703 | BF80: =STDEV(AJ80:AL80) -> 0.021041544 | BH80: =AX80/SQRT(4) -> 0.0064459368 | BI80: =AY80/SQRT(4) -> 0.0046385971 | BJ80: =AZ80/SQRT(7) -> 0.012806244 | BK80: =BA80/SQRT(3) -> 0.01059507 | BL80: =BB80/SQRT(4) -> 0.0086229508 | BM80: =BC80/SQRT(6) -> 0.0078579985 | BN80: =BD80/SQRT(3) -> 0.018301285 | BO80: =BE80/SQRT(3) -> 0.0081283428 | BP80: =BF80/SQRT(3) -> 0.012148341
A81: Number of Species | B81: =COUNTIF(B7:B66,">0") -> 27 | C81: =COUNTIF(C7:C66,">0") -> 25 | D81: =COUNTIF(D7:D66,">0") -> 32 | E81: =COUNTIF(E7:E66,">0") -> 28 | F81: =COUNTIF(F7:F66,">0") -> 23 | G81: =COUNTIF(G7:G66,">0") -> 22 | H81: =COUNTIF(H7:H66,">0") -> 23 | I81: =COUNTIF(I7:I66,">0") -> 34 | ... AL81: =COUNTIF(AL7:AL66,">0") -> 37 | AM81: Number of Species | AN81: =AVERAGE(B81:E81) -> 28 | AO81: =AVERAGE(F81:I81) -> 25.5 | AP81: =AVERAGE(J81:P81) -> 29.571429 | AQ81: =AVERAGE(Q81:S81) -> 20.666667 | AR81: =AVERAGE(T81:W81) -> 25.75 | AS81: =AVERAGE(X81:AC81) -> 25.166667 | AT81: =AVERAGE(AD81:AF81) -> 24.333333 | AU81: =AVERAGE(AG81:AI81) -> 25 | AV81: =AVERAGE(AJ81:AL81) -> 30.333333 | AX81: =STDEV(B81:E81) -> 2.9439203 | AY81: =STDEV(F81:I81) -> 5.6862407 | AZ81: =STDEV(J81:P81) -> 6.0237625 | BA81: =STDEV(Q81:S81) -> 5.033223 | BB81: =STDEV(T81:W81) -> 3.7749172 | BC81: =STDEV(X81:AC81) -> 5.2694086 | BD81: =STDEV(AD81:AF81) -> 4.163332 | BE81: =STDEV(AG81:AI81) -> 6 | BF81: =STDEV(AJ81:AL81) -> 5.7735027 | BH81: =AX81/SQRT(4) -> 1.4719601 | BI81: =AY81/SQRT(4) -> 2.8431204 | BJ81: =AZ81/SQRT(7) -> 2.2767682 | BK81: =BA81/SQRT(3) -> 2.9059326 | BL81: =BB81/SQRT(4) -> 1.8874586 | BM81: =BC81/SQRT(6) -> 2.151227 | BN81: =BD81/SQRT(3) -> 2.4037009 | BO81: =BE81/SQRT(3) -> 3.4641016 | BP81: =BF81/SQRT(3) -> 3.3333333

Sheet Cer
A1: Cer
A2: - | B2: n=4 | F2: n=4 | K2: n=7 | Q2: n=3 | T2: n=4 | X2: n=6 | AD2: n=3 | AG2: n=3 | AJ2: n=3
A3: - | B3: PFC | Q3: Nac | AD3: vHipp | AN3: Average | AX3: StDev | BH3: StError
A4: Species | B4: PFC | C4: PFC | D4: PFC | E4: PFC | F4: PFC | G4: PFC | H4: PFC | I4: PFC | J4: PFC | K4: PFC | L4: PFC | M4: PFC | N4: PFC | O4: PFC | P4: PFC | Q4: Nac | R4: Nac | S4: Nac | T4: Nac | U4: Nac | V4: Nac | W4: Nac | X4: Nac | Y4: Nac | Z4: Nac | AA4: Nac | AB4: Nac | AC4: Nac | AD4: vHipp | AE4: vHipp | AF4: vHipp | AG4: vHipp | AH4: vHipp | AI4: vHipp | AJ4: vHipp | AK4: vHipp | AL4: vHipp | AN4: PFC | AQ4: Nac | AT4: vHipp | AX4: PFC | BA4: Nac | BD4: vHipp | BH4: PFC | BK4: Nac | BN4: vHipp
A5: - | B5: Control | C5: Control | D5: Control | E5: Control | F5: Susceptible | G5: Susceptible | H5: Susceptible | I5: Susceptible | J5: Resilient | K5: Resilient | L5: Resilient | M5: Resilient | N5: Resilient | O5: Resilient | P5: Resilient | Q5: Control | R5: Control | S5: Control | T5: Susceptible | U5: Susceptible | V5: Susceptible | W5: Susceptible | X5: Resilient | Y5: Resilient | Z5: Resilient | AA5: Resilient | AB5: Resilient | AC5: Resilient | AD5: Control | AE5: Control | AF5: Control | AG5: Susceptible | AH5: Susceptible | AI5: Susceptible | AJ5: Resilient | AK5: Resilient | AL5: Resilient | AN5: Control | AO5: Susceptible | AP5: Resilient | AQ5: Control | AR5: Susceptible | AS5: Resilient | AT5: Control | AU5: Susceptible | AV5: Resilient | AX5: Control | AY5: Susceptible | AZ5: Resilient | BA5: Control | BB5: Susceptible | BC5: Resilient | BD5: Control | BE5: Susceptible | BF5: Resilient | BH5: Control | BI5: Susceptible | BJ5: Resilient | BK5: Control | BL5: Susceptible | BM5: Resilient | BN5: Control | BO5: Susceptible | BP5: Resilient
A6: IS_Cer_d18:1/17:0 | B6: #N/A | C6: #N/A | D6: #N/A | E6: #N/A | F6: #N/A | G6: #N/A | H6: #N/A | I6: #N/A | J6: #N/A | K6: #N/A | L6: #N/A | M6: #N/A | N6: #N/A | O6: #N/A | P6: #N/A | Q6: #N/A | R6: #N/A | S6: #N/A | T6: #N/A | U6: #N/A | V6: #N/A | W6: #N/A | X6: #N/A | Y6: #N/A | Z6: #N/A | AA6: #N/A | AB6: #N/A | AC6: #N/A | AD6: #N/A | AE6: #N/A | AF6: #N/A | AG6: #N/A | AH6: #N/A | AI6: #N/A | AJ6: #N/A | AK6: #N/A | AL6: #N/A | AN6: =AVERAGE(B6:E6) -> #N/A | AO6: =AVERAGE(F6:I6) -> #N/A | AP6: =AVERAGE(J6:P6) -> #N/A | AQ6: =AVERAGE(Q6:S6) -> #N/A | AR6: =AVERAGE(T6:W6) -> #N/A | AS6: =AVERAGE(X6:AC6) -> #N/A | AT6: =AVERAGE(AD6:AF6) -> #N/A | AU6: =AVERAGE(AG6:AI6) -> #N/A | AV6: =AVERAGE(AJ6:AL6) -> #N/A | AX6: =STDEV(B6:E6) -> #N/A | AY6: =STDEV(F6:I6) -> #N/A | AZ6: =STDEV(J6:P6) -> #N/A | BA6: =STDEV(Q6:S6) -> #N/A | BB6: =STDEV(T6:W6) -> #N/A | BC6: =STDEV(X6:AC6) -> #N/A | BD6: =STDEV(AD6:AF6) -> #N/A | BE6: =STDEV(AG6:AI6) -> #N/A | BF6: =STDEV(AJ6:AL6) -> #N/A | BH6: =AX6/SQRT(4) -> #N/A | BI6: =AY6/SQRT(4) -> #N/A | BJ6: =AZ6/SQRT(7) -> #N/A | BK6: =BA6/SQRT(3) -> #N/A | BL6: =BB6/SQRT(4) -> #N/A | BM6: =BC6/SQRT(6) -> #N/A | BN6: =BD6/SQRT(3) -> #N/A | BO6: =BE6/SQRT(3) -> #N/A | BP6: =BF6/SQRT(3) -> #N/A
A7: Cer_d18:0/12:0 | B7: 0 | C7: 0 | D7: 0 | E7: 0.00026743306 | F7: 0 | G7: 0 | H7: 0.00088789286 | I7: 0 | J7: 0 | K7: 0 | L7: 0 | M7: 0 | N7: 0 | O7: 0 | P7: 0.00054365209 | Q7: 0 | R7: 0 | S7: 0 | T7: 0 | U7: 0 | V7: 0 | W7: 0 | X7: 0 | Y7: 0 | Z7: 0.0019578499 | AA7: 0 | AB7: 0 | AC7: 0 | AD7: 0 | AE7: 0.0010778849 | AF7: 0 | AG7: 0 | AH7: 0 | AI7: 0 | AJ7: 0 | AK7: 0.00028431314 | AL7: 0 | AN7: =AVERAGE(B7:E7) -> 6.6858264e-05 | AO7: =AVERAGE(F7:I7) -> 0.00022197321 | AP7: =AVERAGE(J7:P7) -> 7.7664584e-05 | AQ7: =AVERAGE(Q7:S7) -> 0 | AR7: =AVERAGE(T7:W7) -> 0 | AS7: =AVERAGE(X7:AC7) -> 0.00032630832 | AT7: =AVERAGE(AD7:AF7) -> 0.00035929498 | AU7: =AVERAGE(AG7:AI7) -> 0 | AV7: =AVERAGE(AJ7:AL7) -> 9.4771048e-05 | AX7: =STDEV(B7:E7) -> 0.00013371653 | AY7: =STDEV(F7:I7) -> 0.00044394643 | AZ7: =STDEV(J7:P7) -> 0.00020548118 | BA7: =STDEV(Q7:S7) -> 0 | BB7: =STDEV(T7:W7) -> 0 | BC7: =STDEV(X7:AC7) -> 0.00079928887 | BD7: =STDEV(AD7:AF7) -> 0.00062231715 | BE7: =STDEV(AG7:AI7) -> 0 | BF7: =STDEV(AJ7:AL7) -> 0.00016414827 | BH7: =AX7/SQRT(4) -> 6.6858264e-05 | BI7: =AY7/SQRT(4) -> 0.00022197321 | BJ7: =AZ7/SQRT(7) -> 7.7664584e-05 | BK7: =BA7/SQRT(3) -> 0 | BL7: =BB7/SQRT(4) -> 0 | BM7: =BC7/SQRT(6) -> 0.00032630832 | BN7: =BD7/SQRT(3) -> 0.00035929498 | BO7: =BE7/SQRT(3) -> 0 | BP7: =BF7/SQRT(3) -> 9.4771048e-05
A8: Cer_d18:0/14:1 | B8: 0 | C8: 0 | D8: 0 | E8: 0 | F8: 0 | G8: 0 | H8: 0 | I8: 0 | J8: 0 | K8: 0 | L8: 0 | M8: 0 | N8: 0 | O8: 0 | P8: 0 | Q8: 0 | R8: 0 | S8: 0 | T8: 0 | U8: 0 | V8: 0 | W8: 0 | X8: 0 | Y8: 0 | Z8: 0 | AA8: 0 | AB8: 0.00075604752 | AC8: 0 | AD8: 0 | AE8: 0 | AF8: 0 | AG8: 0 | AH8: 0 | AI8: 0 | AJ8: 0 | AK8: 0 | AL8: 0 | AN8: =AVERAGE(B8:E8) -> 0 | AO8: =AVERAGE(F8:I8) -> 0 | AP8: =AVERAGE(J8:P8) -> 0 | AQ8: =AVERAGE(Q8:S8) -> 0 | AR8: =AVERAGE(T8:W8) -> 0 | AS8: =AVERAGE(X8:AC8) -> 0.00012600792 | AT8: =AVERAGE(AD8:AF8) -> 0 | AU8: =AVERAGE(AG8:AI8) -> 0 | AV8: =AVERAGE(AJ8:AL8) -> 0 | AX8: =STDEV(B8:E8) -> 0 | AY8: =STDEV(F8:I8) -> 0 | AZ8: =STDEV(J8:P8) -> 0 | BA8: =STDEV(Q8:S8) -> 0 | BB8: =STDEV(T8:W8) -> 0 | BC8: =STDEV(X8:AC8) -> 0.00030865511 | BD8: =STDEV(AD8:AF8) -> 0 | BE8: =STDEV(AG8:AI8) -> 0 | BF8: =STDEV(AJ8:AL8) -> 0 | BH8: =AX8/SQRT(4) -> 0 | BI8: =AY8/SQRT(4) -> 0 | BJ8: =AZ8/SQRT(7) -> 0 | BK8: =BA8/SQRT(3) -> 0 | BL8: =BB8/SQRT(4) -> 0 | BM8: =BC8/SQRT(6) -> 0.00012600792 | BN8: =BD8/SQRT(3) -> 0 | BO8: =BE8/SQRT(3) -> 0 | BP8: =BF8/SQRT(3) -> 0
A9: Cer_d18:0/14:0 | B9: 0 | C9: 0 | D9: 0 | E9: 0 | F9: 0 | G9: 0 | H9: 0 | I9: 0 | J9: 0 | K9: 0 | L9: 0 | M9: 0 | N9: 0 | O9: 0 | P9: 0 | Q9: 0 | R9: 0 | S9: 0 | T9: 0 | U9: 0 | V9: 0 | W9: 0 | X9: 0 | Y9: 0 | Z9: 0 | AA9: 0 | AB9: 0.00057642758 | AC9: 0 | AD9: 0 | AE9: 0 | AF9: 0 | AG9: 0 | AH9: 0 | AI9: 0 | AJ9: 0 | AK9: 0 | AL9: 0 | AN9: =AVERAGE(B9:E9) -> 0 | AO9: =AVERAGE(F9:I9) -> 0 | AP9: =AVERAGE(J9:P9) -> 0 | AQ9: =AVERAGE(Q9:S9) -> 0 | AR9: =AVERAGE(T9:W9) -> 0 | AS9: =AVERAGE(X9:AC9) -> 9.6071263e-05 | AT9: =AVERAGE(AD9:AF9) -> 0 | AU9: =AVERAGE(AG9:AI9) -> 0 | AV9: =AVERAGE(AJ9:AL9) -> 0 | AX9: =STDEV(B9:E9) -> 0 | AY9: =STDEV(F9:I9) -> 0 | AZ9: =STDEV(J9:P9) -> 0 | BA9: =STDEV(Q9:S9) -> 0 | BB9: =STDEV(T9:W9) -> 0 | BC9: =STDEV(X9:AC9) -> 0.00023532557 | BD9: =STDEV(AD9:AF9) -> 0 | BE9: =STDEV(AG9:AI9) -> 0 | BF9: =STDEV(AJ9:AL9) -> 0 | BH9: =AX9/SQRT(4) -> 0 | BI9: =AY9/SQRT(4) -> 0 | BJ9: =AZ9/SQRT(7) -> 0 | BK9: =BA9/SQRT(3) -> 0 | BL9: =BB9/SQRT(4) -> 0 | BM9: =BC9/SQRT(6) -> 9.6071263e-05 | BN9: =BD9/SQRT(3) -> 0 | BO9: =BE9/SQRT(3) -> 0 | BP9: =BF9/SQRT(3) -> 0
A10: Cer_d18:0/16:1 | B10: 0 | C10: 0 | D10: 0 | E10: 0 | F10: 0 | G10: 0 | H10: 0 | I10: 0 | J10: 0 | K10: 0 | L10: 0 | M10: 0 | N10: 0 | O10: 0 | P10: 0 | Q10: 0 | R10: 0 | S10: 0 | T10: 0 | U10: 0 | V10: 0 | W10: 0 | X10: 0 | Y10: 0 | Z10: 0 | AA10: 0 | AB10: 0.00081095324 | AC10: 0.00010444595 | AD10: 4.6576623e-05 | AE10: 0 | AF10: 0 | AG10: 0 | AH10: 0 | AI10: 0.00082837934 | AJ10: 0 | AK10: 0.00045607253 | AL10: 0 | AN10: =AVERAGE(B10:E10) -> 0 | AO10: =AVERAGE(F10:I10) -> 0 | AP10: =AVERAGE(J10:P10) -> 0 | AQ10: =AVERAGE(Q10:S10) -> 0 | AR10: =AVERAGE(T10:W10) -> 0 | AS10: =AVERAGE(X10:AC10) -> 0.00015256653 | AT10: =AVERAGE(AD10:AF10) -> 1.5525541e-05 | AU10: =AVERAGE(AG10:AI10) -> 0.00027612645 | AV10: =AVERAGE(AJ10:AL10) -> 0.00015202418 | AX10: =STDEV(B10:E10) -> 0 | AY10: =STDEV(F10:I10) -> 0 | AZ10: =STDEV(J10:P10) -> 0 | BA10: =STDEV(Q10:S10) -> 0 | BB10: =STDEV(T10:W10) -> 0 | BC10: =STDEV(X10:AC10) -> 0.00032523679 | BD10: =STDEV(AD10:AF10) -> 2.6891026e-05 | BE10: =STDEV(AG10:AI10) -> 0.00047826504 | BF10: =STDEV(AJ10:AL10) -> 0.0002633136 | BH10: =AX10/SQRT(4) -> 0 | BI10: =AY10/SQRT(4) -> 0 | BJ10: =AZ10/SQRT(7) -> 0 | BK10: =BA10/SQRT(3) -> 0 | BL10: =BB10/SQRT(4) -> 0 | BM10: =BC10/SQRT(6) -> 0.00013277736 | BN10: =BD10/SQRT(3) -> 1.5525541e-05 | BO10: =BE10/SQRT(3) -> 0.00027612645 | BP10: =BF10/SQRT(3) -> 0.00015202418
A11: Cer_d18:0/16:0 | B11: 0.0023386625 | C11: 0 | D11: 0.0011246793 | E11: 0.0008475433 | F11: 0.0017937458 | G11: 0 | H11: 0 | I11: 0.00056009401 | J11: 0.0019480697 | K11: 0 | L11: 0.00045910246 | M11: 1.1383739e-05 | N11: 0.00026903387 | O11: 0.00075407631 | P11: 0.0012757691 | Q11: 5.4814551e-05 | R11: 0.001468094 | S11: 0 | T11: 0.00064578298 | U11: 0.001429973 | V11: 0 | W11: 0 | X11: 0 | Y11: 0 | Z11: 0 | AA11: 0.00064044975 | AB11: 0.0017641109 | AC11: 0.00069335849 | AD11: 0 | AE11: 0.00054898928 | AF11: 0.00077802115 | AG11: 0 | AH11: 0 | AI11: 0.00082837934 | AJ11: 0.00060365421 | AK11: 0.0012615861 | AL11: 0.00063870268 | AN11: =AVERAGE(B11:E11) -> 0.0010777213 | AO11: =AVERAGE(F11:I11) -> 0.00058845994 | AP11: =AVERAGE(J11:P11) -> 0.00067391931 | AQ11: =AVERAGE(Q11:S11) -> 0.00050763618 | AR11: =AVERAGE(T11:W11) -> 0.00051893899 | AS11: =AVERAGE(X11:AC11) -> 0.00051631985 | AT11: =AVERAGE(AD11:AF11) -> 0.00044233681 | AU11: =AVERAGE(AG11:AI11) -> 0.00027612645 | AV11: =AVERAGE(AJ11:AL11) -> 0.00083464767 | AX11: =STDEV(B11:E11) -> 0.0009672371 | AY11: =STDEV(F11:I11) -> 0.00084579129 | AZ11: =STDEV(J11:P11) -> 0.00071825096 | BA11: =STDEV(Q11:S11) -> 0.00083223228 | BB11: =STDEV(T11:W11) -> 0.00067937906 | BC11: =STDEV(X11:AC11) -> 0.00069332416 | BD11: =STDEV(AD11:AF11) -> 0.00039982533 | BE11: =STDEV(AG11:AI11) -> 0.00047826504 | BF11: =STDEV(AJ11:AL11) -> 0.0003701546 | BH11: =AX11/SQRT(4) -> 0.00048361855 | BI11: =AY11/SQRT(4) -> 0.00042289565 | BJ11: =AZ11/SQRT(7) -> 0.00027147335 | BK11: =BA11/SQRT(3) -> 0.00048048953 | BL11: =BB11/SQRT(4) -> 0.00033968953 | BM11: =BC11/SQRT(6) -> 0.0002830484 | BN11: =BD11/SQRT(3) -> 0.00023083926 | BO11: =BE11/SQRT(3) -> 0.00027612645 | BP11: =BF11/SQRT(3) -> 0.00021370886
A12: Cer_d18:0/18:3 | B12: 0 | C12: 0 | D12: 0 | E12: 0 | F12: 0 | G12: 0 | H12: 0 | I12: 0 | J12: 0 | K12: 0 | L12: 0 | M12: 0 | N12: 0 | O12: 0 | P12: 0 | Q12: 0 | R12: 0 | S12: 0 | T12: 0 | U12: 0 | V12: 0 | W12: 0 | X12: 0 | Y12: 0 | Z12: 0.00081633991 | AA12: 0 | AB12: 0 | AC12: 0 | AD12: 6.19192e-05 | AE12: 0 | AF12: 0 | AG12: 0 | AH12: 0 | AI12: 0 | AJ12: 0 | AK12: 0 | AL12: 0 | AN12: =AVERAGE(B12:E12) -> 0 | AO12: =AVERAGE(F12:I12) -> 0 | AP12: =AVERAGE(J12:P12) -> 0 | AQ12: =AVERAGE(Q12:S12) -> 0 | AR12: =AVERAGE(T12:W12) -> 0 | AS12: =AVERAGE(X12:AC12) -> 0.00013605665 | AT12: =AVERAGE(AD12:AF12) -> 2.0639733e-05 | AU12: =AVERAGE(AG12:AI12) -> 0 | AV12: =AVERAGE(AJ12:AL12) -> 0 | AX12: =STDEV(B12:E12) -> 0 | AY12: =STDEV(F12:I12) -> 0 | AZ12: =STDEV(J12:P12) -> 0 | BA12: =STDEV(Q12:S12) -> 0 | BB12: =STDEV(T12:W12) -> 0 | BC12: =STDEV(X12:AC12) -> 0.00033326937 | BD12: =STDEV(AD12:AF12) -> 3.5749067e-05 | BE12: =STDEV(AG12:AI12) -> 0 | BF12: =STDEV(AJ12:AL12) -> 0 | BH12: =AX12/SQRT(4) -> 0 | BI12: =AY12/SQRT(4) -> 0 | BJ12: =AZ12/SQRT(7) -> 0 | BK12: =BA12/SQRT(3) -> 0 | BL12: =BB12/SQRT(4) -> 0 | BM12: =BC12/SQRT(6) -> 0.00013605665 | BN12: =BD12/SQRT(3) -> 2.0639733e-05 | BO12: =BE12/SQRT(3) -> 0 | BP12: =BF12/SQRT(3) -> 0
A13: Cer_d18:0/18:2 | B13: 0 | C13: 0 | D13: 0 | E13: 0.00072250408 | F13: 7.5373568e-05 | G13: 0 | H13: 0 | I13: 9.8792265e-05 | J13: 0 | K13: 0 | L13: 0 | M13: 0 | N13: 0 | O13: 0 | P13: 0.00029957825 | Q13: 5.3277255e-05 | R13: 0 | S13: 0 | T13: 0 | U13: 0 | V13: 0 | W13: 0 | X13: 0 | Y13: 0 | Z13: 0 | AA13: 3.928704e-05 | AB13: 0 | AC13: 0 | AD13: 6.19192e-05 | AE13: 0 | AF13: 0 | AG13: 0 | AH13: 0 | AI13: 0 | AJ13: 0 | AK13: 0 | AL13: 0 | AN13: =AVERAGE(B13:E13) -> 0.00018062602 | AO13: =AVERAGE(F13:I13) -> 4.3541458e-05 | AP13: =AVERAGE(J13:P13) -> 4.2796893e-05 | AQ13: =AVERAGE(Q13:S13) -> 1.7759085e-05 | AR13: =AVERAGE(T13:W13) -> 0 | AS13: =AVERAGE(X13:AC13) -> 6.5478399e-06 | AT13: =AVERAGE(AD13:AF13) -> 2.0639733e-05 | AU13: =AVERAGE(AG13:AI13) -> 0 | AV13: =AVERAGE(AJ13:AL13) -> 0 | AX13: =STDEV(B13:E13) -> 0.00036125204 | AY13: =STDEV(F13:I13) -> 5.117829e-05 | AZ13: =STDEV(J13:P13) -> 0.00011322993 | BA13: =STDEV(Q13:S13) -> 3.0759638e-05 | BB13: =STDEV(T13:W13) -> 0 | BC13: =STDEV(X13:AC13) -> 1.6038867e-05 | BD13: =STDEV(AD13:AF13) -> 3.5749067e-05 | BE13: =STDEV(AG13:AI13) -> 0 | BF13: =STDEV(AJ13:AL13) -> 0 | BH13: =AX13/SQRT(4) -> 0.00018062602 | BI13: =AY13/SQRT(4) -> 2.5589145e-05 | BJ13: =AZ13/SQRT(7) -> 4.2796893e-05 | BK13: =BA13/SQRT(3) -> 1.7759085e-05 | BL13: =BB13/SQRT(4) -> 0 | BM13: =BC13/SQRT(6) -> 6.5478399e-06 | BN13: =BD13/SQRT(3) -> 2.0639733e-05 | BO13: =BE13/SQRT(3) -> 0 | BP13: =BF13/SQRT(3) -> 0
A14: Cer_d18:0/18:1 | B14: 0 | C14: 0 | D14: 0.00088074385 | E14: 0.00083017269 | F14: 0 | G14: 0.0014721813 | H14: 0.00088789286 | I14: 0 | J14: 0 | K14: 0.0019138637 | L14: 0 | M14: 0.00058653983 | N14: 0.00069257634 | O14: 0.00010199002 | P14: 0 | Q14: 0.0015093371 | R14: 0 | S14: 0 | T14: 0 | U14: 0.0010942635 | V14: 0 | W14: 0 | X14: 0 | Y14: 0 | Z14: 0.0010669187 | AA14: 0.00068217444 | AB14: 0.00024355427 | AC14: 0 | AD14: 0 | AE14: 0 | AF14: 0 | AG14: 0 | AH14: 0.0015813155 | AI14: 0 | AJ14: 0 | AK14: 0 | AL14: 0 | AN14: =AVERAGE(B14:E14) -> 0.00042772913 | AO14: =AVERAGE(F14:I14) -> 0.00059001854 | AP14: =AVERAGE(J14:P14) -> 0.00047070998 | AQ14: =AVERAGE(Q14:S14) -> 0.00050311236 | AR14: =AVERAGE(T14:W14) -> 0.00027356588 | AS14: =AVERAGE(X14:AC14) -> 0.0003321079 | AT14: =AVERAGE(AD14:AF14) -> 0 | AU14: =AVERAGE(AG14:AI14) -> 0.00052710517 | AV14: =AVERAGE(AJ14:AL14) -> 0 | AX14: =STDEV(B14:E14) -> 0.00049433038 | AY14: =STDEV(F14:I14) -> 0.00072184578 | AZ14: =STDEV(J14:P14) -> 0.00070071295 | BA14: =STDEV(Q14:S14) -> 0.00087141617 | BB14: =STDEV(T14:W14) -> 0.00054713177 | BC14: =STDEV(X14:AC14) -> 0.00044748681 | BD14: =STDEV(AD14:AF14) -> 0 | BE14: =STDEV(AG14:AI14) -> 0.00091297293 | BF14: =STDEV(AJ14:AL14) -> 0 | BH14: =AX14/SQRT(4) -> 0.00024716519 | BI14: =AY14/SQRT(4) -> 0.00036092289 | BJ14: =AZ14/SQRT(7) -> 0.0002648446 | BK14: =BA14/SQRT(3) -> 0.00050311236 | BL14: =BB14/SQRT(4) -> 0.00027356588 | BM14: =BC14/SQRT(6) -> 0.00018268573 | BN14: =BD14/SQRT(3) -> 0 | BO14: =BE14/SQRT(3) -> 0.00052710517 | BP14: =BF14/SQRT(3) -> 0
A15: Cer_d18:0/18:0 | B15: 0.019688857 | C15: 0.028042718 | D15: 0.020803171 | E15: 0.027503373 | F15: 0.03328172 | G15: 0.029914287 | H15: 0.016210673 | I15: 0.015531192 | J15: 0.015998006 | K15: 0.031208526 | L15: 0.020248125 | M15: 0.025386742 | N15: 0.038824929 | O15: 0.016038386 | P15: 0.011243474 | Q15: 0.038396434 | R15: 0.013041363 | S15: 0.025258319 | T15: 0.01728395 | U15: 0.01916916 | V15: 0.031804726 | W15: 0.029069826 | X15: 0.031590042 | Y15: 0.024302913 | Z15: 0.036373462 | AA15: 0.020374581 | AB15: 0.036789834 | AC15: 0.033069055 | AD15: 0.022529782 | AE15: 0.018427841 | AF15: 0.039555494 | AG15: 0.015299231 | AH15: 0.020146712 | AI15: 0.012683329 | AJ15: 0.010265848 | AK15: 0.02302209 | AL15: 0.022859242 | AN15: =AVERAGE(B15:E15) -> 0.02400953 | AO15: =AVERAGE(F15:I15) -> 0.023734468 | AP15: =AVERAGE(J15:P15) -> 0.022706884 | AQ15: =AVERAGE(Q15:S15) -> 0.025565372 | AR15: =AVERAGE(T15:W15) -> 0.024331915 | AS15: =AVERAGE(X15:AC15) -> 0.030416648 | AT15: =AVERAGE(AD15:AF15) -> 0.026837706 | AU15: =AVERAGE(AG15:AI15) -> 0.016043091 | AV15: =AVERAGE(AJ15:AL15) -> 0.018715727 | AX15: =STDEV(B15:E15) -> 0.0043750234 | AY15: =STDEV(F15:I15) -> 0.0091876986 | AZ15: =STDEV(J15:P15) -> 0.0097141145 | BA15: =STDEV(Q15:S15) -> 0.012680324 | BB15: =STDEV(T15:W15) -> 0.0071791031 | BC15: =STDEV(X15:AC15) -> 0.0066743405 | BD15: =STDEV(AD15:AF15) -> 0.011203262 | BE15: =STDEV(AG15:AI15) -> 0.0037868874 | BF15: =STDEV(AJ15:AL15) -> 0.0073182622 | BH15: =AX15/SQRT(4) -> 0.0021875117 | BI15: =AY15/SQRT(4) -> 0.0045938493 | BJ15: =AZ15/SQRT(7) -> 0.0036715902 | BK15: =BA15/SQRT(3) -> 0.0073209884 | BL15: =BB15/SQRT(4) -> 0.0035895516 | BM15: =BC15/SQRT(6) -> 0.0027247881 | BN15: =BD15/SQRT(3) -> 0.0064682063 | BO15: =BE15/SQRT(3) -> 0.0021863605 | BP15: =BF15/SQRT(3) -> 0.0042252007
A16: Cer_d18:0/20:5 | B16: 0 | C16: 0 | D16: 0 | E16: 0.00026743306 | F16: 0 | G16: 0 | H16: 0 | I16: 0 | J16: 0 | K16: 0 | L16: 0 | M16: 0 | N16: 0 | O16: 0 | P16: 0 | Q16: 0 | R16: 0 | S16: 0 | T16: 0 | U16: 0 | V16: 0 | W16: 0 | X16: 0 | Y16: 0 | Z16: 0 | AA16: 0 | AB16: 0 | AC16: 0 | AD16: 0 | AE16: 0 | AF16: 0 | AG16: 0 | AH16: 0 | AI16: 0 | AJ16: 0 | AK16: 0 | AL16: 0.00012808682 | AN16: =AVERAGE(B16:E16) -> 6.6858264e-05 | AO16: =AVERAGE(F16:I16) -> 0 | AP16: =AVERAGE(J16:P16) -> 0 | AQ16: =AVERAGE(Q16:S16) -> 0 | AR16: =AVERAGE(T16:W16) -> 0 | AS16: =AVERAGE(X16:AC16) -> 0 | AT16: =AVERAGE(AD16:AF16) -> 0 | AU16: =AVERAGE(AG16:AI16) -> 0 | AV16: =AVERAGE(AJ16:AL16) -> 4.2695606e-05 | AX16: =STDEV(B16:E16) -> 0.00013371653 | AY16: =STDEV(F16:I16) -> 0 | AZ16: =STDEV(J16:P16) -> 0 | BA16: =STDEV(Q16:S16) -> 0 | BB16: =STDEV(T16:W16) -> 0 | BC16: =STDEV(X16:AC16) -> 0 | BD16: =STDEV(AD16:AF16) -> 0 | BE16: =STDEV(AG16:AI16) -> 0 | BF16: =STDEV(AJ16:AL16) -> 7.3950959e-05 | BH16: =AX16/SQRT(4) -> 6.6858264e-05 | BI16: =AY16/SQRT(4) -> 0 | BJ16: =AZ16/SQRT(7) -> 0 | BK16: =BA16/SQRT(3) -> 0 | BL16: =BB16/SQRT(4) -> 0 | BM16: =BC16/SQRT(6) -> 0 | BN16: =BD16/SQRT(3) -> 0 | BO16: =BE16/SQRT(3) -> 0 | BP16: =BF16/SQRT(3) -> 4.2695606e-05
A17: Cer_d18:0/20:4 | B17: 0 | C17: 0 | D17: 0 | E17: 0 | F17: 0 | G17: 0 | H17: 0 | I17: 0 | J17: 0 | K17: 0 | L17: 0 | M17: 0 | N17: 0.00083514197 | O17: 0 | P17: 0 | Q17: 0 | R17: 0 | S17: 0 | T17: 0 | U17: 0 | V17: 0 | W17: 0 | X17: 0 | Y17: 0 | Z17: 0 | AA17: 4.1724692e-05 | AB17: 0 | AC17: 0 | AD17: 0 | AE17: 0 | AF17: 0 | AG17: 0 | AH17: 0 | AI17: 0 | AJ17: 0 | AK17: 0 | AL17: 0 | AN17: =AVERAGE(B17:E17) -> 0 | AO17: =AVERAGE(F17:I17) -> 0 | AP17: =AVERAGE(J17:P17) -> 0.000119306 | AQ17: =AVERAGE(Q17:S17) -> 0 | AR17: =AVERAGE(T17:W17) -> 0 | AS17: =AVERAGE(X17:AC17) -> 6.9541154e-06 | AT17: =AVERAGE(AD17:AF17) -> 0 | AU17: =AVERAGE(AG17:AI17) -> 0 | AV17: =AVERAGE(AJ17:AL17) -> 0 | AX17: =STDEV(B17:E17) -> 0 | AY17: =STDEV(F17:I17) -> 0 | AZ17: =STDEV(J17:P17) -> 0.000315654 | BA17: =STDEV(Q17:S17) -> 0 | BB17: =STDEV(T17:W17) -> 0 | BC17: =STDEV(X17:AC17) -> 1.7034034e-05 | BD17: =STDEV(AD17:AF17) -> 0 | BE17: =STDEV(AG17:AI17) -> 0 | BF17: =STDEV(AJ17:AL17) -> 0 | BH17: =AX17/SQRT(4) -> 0 | BI17: =AY17/SQRT(4) -> 0 | BJ17: =AZ17/SQRT(7) -> 0.000119306 | BK17: =BA17/SQRT(3) -> 0 | BL17: =BB17/SQRT(4) -> 0 | BM17: =BC17/SQRT(6) -> 6.9541154e-06 | BN17: =BD17/SQRT(3) -> 0 | BO17: =BE17/SQRT(3) -> 0 | BP17: =BF17/SQRT(3) -> 0
A18: Cer_d18:0/20:3 | B18: 0 | C18: 0 | D18: 0 | E18: 0 | F18: 0 | G18: 0 | H18: 0 | I18: 0 | J18: 0 | K18: 0 | L18: 0 | M18: 0 | N18: 0 | O18: 0 | P18: 0 | Q18: 0 | R18: 0 | S18: 0 | T18: 0 | U18: 0 | V18: 0 | W18: 0 | X18: 0 | Y18: 0 | Z18: 0 | AA18: 0 | AB18: 0 | AC18: 0 | AD18: 0 | AE18: 0 | AF18: 0.0010204594 | AG18: 0 | AH18: 0 | AI18: 0 | AJ18: 0 | AK18: 0 | AL18: 0 | AN18: =AVERAGE(B18:E18) -> 0 | AO18: =AVERAGE(F18:I18) -> 0 | AP18: =AVERAGE(J18:P18) -> 0 | AQ18: =AVERAGE(Q18:S18) -> 0 | AR18: =AVERAGE(T18:W18) -> 0 | AS18: =AVERAGE(X18:AC18) -> 0 | AT18: =AVERAGE(AD18:AF18) -> 0.00034015315 | AU18: =AVERAGE(AG18:AI18) -> 0 | AV18: =AVERAGE(AJ18:AL18) -> 0 | AX18: =STDEV(B18:E18) -> 0 | AY18: =STDEV(F18:I18) -> 0 | AZ18: =STDEV(J18:P18) -> 0 | BA18: =STDEV(Q18:S18) -> 0 | BB18: =STDEV(T18:W18) -> 0 | BC18: =STDEV(X18:AC18) -> 0 | BD18: =STDEV(AD18:AF18) -> 0.00058916253 | BE18: =STDEV(AG18:AI18) -> 0 | BF18: =STDEV(AJ18:AL18) -> 0 | BH18: =AX18/SQRT(4) -> 0 | BI18: =AY18/SQRT(4) -> 0 | BJ18: =AZ18/SQRT(7) -> 0 | BK18: =BA18/SQRT(3) -> 0 | BL18: =BB18/SQRT(4) -> 0 | BM18: =BC18/SQRT(6) -> 0 | BN18: =BD18/SQRT(3) -> 0.00034015315 | BO18: =BE18/SQRT(3) -> 0 | BP18: =BF18/SQRT(3) -> 0
... A86: TOTAL | B86: 3.7497066 | C86: 3.3156464 | D86: 2.7875449 | E86: 2.030343 | F86: 3.6730219 | G86: 4.4475909 | H86: 1.8741429 | I86: 2.4385442 | J86: 1.7021429 | K86: 3.4795764 | L86: 2.431041 | M86: 2.7619162 | N86: 3.0999261 | O86: 1.7207468 | P86: 1.499952 | Q86: 2.5795078 | R86: 1.7301161 | S86: 2.402617 | T86: 2.4035076 | U86: 3.0009043 | V86: 2.3589104 | W86: 2.3312903 | X86: 2.3383887 | Y86: 1.3841906 | Z86: 3.8823775 | AA86: 2.3708615 | AB86: 2.5567801 | AC86: 2.4874616 | AD86: 2.7035098 | AE86: 2.0663085 | AF86: 3.7898003 | AG86: 2.1555666 | AH86: 2.4004874 | AI86: 1.4897774 | AJ86: 1.5993068 | AK86: 2.2004944 | AL86: 2.3983618 | AN86: =AVERAGE(B86:E86) -> 2.9708102 | AO86: =AVERAGE(F86:I86) -> 3.108325 | AP86: =AVERAGE(J86:P86) -> 2.3850431 | AQ86: =AVERAGE(Q86:S86) -> 2.2374136 | AR86: =AVERAGE(T86:W86) -> 2.5236531 | AS86: =AVERAGE(X86:AC86) -> 2.5033433 | AT86: =AVERAGE(AD86:AF86) -> 2.8532062 | AU86: =AVERAGE(AG86:AI86) -> 2.0152771 | AV86: =AVERAGE(AJ86:AL86) -> 2.0660543 | AX86: =STDEV(B86:E86) -> 0.74019284 | AY86: =STDEV(F86:I86) -> 1.1668087 | AZ86: =STDEV(J86:P86) -> 0.76857428 | BA86: =STDEV(Q86:S86) -> 0.44814691 | BB86: =STDEV(T86:W86) -> 0.31955554 | BC86: =STDEV(X86:AC86) -> 0.80026335 | BD86: =STDEV(AD86:AF86) -> 0.87144292 | BE86: =STDEV(AG86:AI86) -> 0.47128444 | BF86: =STDEV(AJ86:AL86) -> 0.41614641 | BH86: =AX86/SQRT(4) -> 0.37009642 | BI86: =AY86/SQRT(4) -> 0.58340434 | BJ86: =AZ86/SQRT(7) -> 0.29049377 | BK86: =BA86/SQRT(3) -> 0.25873774 | BL86: =BB86/SQRT(4) -> 0.15977777 | BM86: =BC86/SQRT(6) -> 0.32670615 | BN86: =BD86/SQRT(3) -> 0.50312781 | BO86: =BE86/SQRT(3) -> 0.2720962 | BP86: =BF86/SQRT(3) -> 0.24026224
A89: Saturated Sum | B89: =SUM(B84,B82,B80,B73,B67,B63,B61,B58:B59,B56,B54,B47,B41,B37,B35,B32:B33,B30,B28,B21,B15,B11,B9,B7) -> 3.6291605 | C89: =SUM(C84,C82,C80,C73,C67,C63,C61,C58:C59,C56,C54,C47,C41,C37,C35,C32:C33,C30,C28,C21,C15,C11,C9,C7) -> 3.2031168 | D89: =SUM(D84,D82,D80,D73,D67,D63,D61,D58:D59,D56,D54,D47,D41,D37,D35,D32:D33,D30,D28,D21,D15,D11,D9,D7) -> 2.6791462 | E89: =SUM(E84,E82,E80,E73,E67,E63,E61,E58:E59,E56,E54,E47,E41,E37,E35,E32:E33,E30,E28,E21,E15,E11,E9,E7) -> 1.9403328 | F89: =SUM(F84,F82,F80,F73,F67,F63,F61,F58:F59,F56,F54,F47,F41,F37,F35,F32:F33,F30,F28,F21,F15,F11,F9,F7) -> 3.5526062 | G89: =SUM(G84,G82,G80,G73,G67,G63,G61,G58:G59,G56,G54,G47,G41,G37,G35,G32:G33,G30,G28,G21,G15,G11,G9,G7) -> 4.3228128 | H89: =SUM(H84,H82,H80,H73,H67,H63,H61,H58:H59,H56,H54,H47,H41,H37,H35,H32:H33,H30,H28,H21,H15,H11,H9,H7) -> 1.8245615 | I89: =SUM(I84,I82,I80,I73,I67,I63,I61,I58:I59,I56,I54,I47,I41,I37,I35,I32:I33,I30,I28,I21,I15,I11,I9,I7) -> 2.3217818 | ... AL89: =SUM(AL84,AL82,AL80,AL73,AL67,AL63,AL61,AL58:AL59,AL56,AL54,AL47,AL41,AL37,AL35,AL32:AL33,AL30,AL28,AL21,AL15,AL11,AL9,AL7) -> 2.2967016 | AM89: Saturated Sum | AN89: =AVERAGE(B89:E89) -> 2.8629391 | AO89: =AVERAGE(F89:I89) -> 3.0054406 | AP89: =AVERAGE(J89:P89) -> 2.2891745 | AQ89: =AVERAGE(Q89:S89) -> 2.1666375 | AR89: =AVERAGE(T89:W89) -> 2.4168313 | AS89: =AVERAGE(X89:AC89) -> 2.4041713 | AT89: =AVERAGE(AD89:AF89) -> 2.7582145 | AU89: =AVERAGE(AG89:AI89) -> 1.9391053 | AV89: =AVERAGE(AJ89:AL89) -> 1.9874113 | AX89: =STDEV(B89:E89) -> 0.72750677 | AY89: =STDEV(F89:I89) -> 1.1396965 | AZ89: =STDEV(J89:P89) -> 0.72975034 | BA89: =STDEV(Q89:S89) -> 0.43903296 | BB89: =STDEV(T89:W89) -> 0.31050891 | BC89: =STDEV(X89:AC89) -> 0.77444503 | BD89: =STDEV(AD89:AF89) -> 0.82632239 | BE89: =STDEV(AG89:AI89) -> 0.45878187 | BF89: =STDEV(AJ89:AL89) -> 0.38970443 | BH89: =AX89/SQRT(4) -> 0.36375338 | BI89: =AY89/SQRT(4) -> 0.56984824 | BJ89: =AZ89/SQRT(7) -> 0.2758197 | BK89: =BA89/SQRT(3) -> 0.2534758 | BL89: =BB89/SQRT(4) -> 0.15525446 | BM89: =BC89/SQRT(6) -> 0.31616586 | BN89: =BD89/SQRT(3) -> 0.47707745 | BO89: =BE89/SQRT(3) -> 0.26487784 | BP89: =BF89/SQRT(3) -> 0.22499596
A90: Mono Sum | B90: =SUM(B83,B81,B79,B72,B66,B62,B60,B57,B55,B53,B46,B40,B36,B34,B31,B29,B27,B20,B14,B10,B8) -> 0.10237341 | C90: =SUM(C83,C81,C79,C72,C66,C62,C60,C57,C55,C53,C46,C40,C36,C34,C31,C29,C27,C20,C14,C10,C8) -> 0.09771008 | D90: =SUM(D83,D81,D79,D72,D66,D62,D60,D57,D55,D53,D46,D40,D36,D34,D31,D29,D27,D20,D14,D10,D8) -> 0.089698831 | E90: =SUM(E83,E81,E79,E72,E66,E62,E60,E57,E55,E53,E46,E40,E36,E34,E31,E29,E27,E20,E14,E10,E8) -> 0.077810556 | F90: =SUM(F83,F81,F79,F72,F66,F62,F60,F57,F55,F53,F46,F40,F36,F34,F31,F29,F27,F20,F14,F10,F8) -> 0.1045368 | G90: =SUM(G83,G81,G79,G72,G66,G62,G60,G57,G55,G53,G46,G40,G36,G34,G31,G29,G27,G20,G14,G10,G8) -> 0.1080078 | H90: =SUM(H83,H81,H79,H72,H66,H62,H60,H57,H55,H53,H46,H40,H36,H34,H31,H29,H27,H20,H14,H10,H8) -> 0.03762135 | I90: =SUM(I83,I81,I79,I72,I66,I62,I60,I57,I55,I53,I46,I40,I36,I34,I31,I29,I27,I20,I14,I10,I8) -> 0.1081599 | ... AL90: =SUM(AL83,AL81,AL79,AL72,AL66,AL62,AL60,AL57,AL55,AL53,AL46,AL40,AL36,AL34,AL31,AL29,AL27,AL20,AL14,AL10,AL8) -> 0.08928001 | AM90: Mono Sum | AN90: =AVERAGE(B90:E90) -> 0.091898219 | AO90: =AVERAGE(F90:I90) -> 0.089581464 | AP90: =AVERAGE(J90:P90) -> 0.083274298 | AQ90: =AVERAGE(Q90:S90) -> 0.055166839 | AR90: =AVERAGE(T90:W90) -> 0.092580271 | AS90: =AVERAGE(X90:AC90) -> 0.086052051 | AT90: =AVERAGE(AD90:AF90) -> 0.078801799 | AU90: =AVERAGE(AG90:AI90) -> 0.062305526 | AV90: =AVERAGE(AJ90:AL90) -> 0.064505042 | AX90: =STDEV(B90:E90) -> 0.01075185 | AY90: =STDEV(F90:I90) -> 0.034680465 | AZ90: =STDEV(J90:P90) -> 0.039363865 | BA90: =STDEV(Q90:S90) -> 0.022745976 | BB90: =STDEV(T90:W90) -> 0.012072534 | BC90: =STDEV(X90:AC90) -> 0.035196506 | BD90: =STDEV(AD90:AF90) -> 0.039524728 | BE90: =STDEV(AG90:AI90) -> 0.0081457337 | BF90: =STDEV(AJ90:AL90) -> 0.026656224 | BH90: =AX90/SQRT(4) -> 0.0053759252 | BI90: =AY90/SQRT(4) -> 0.017340233 | BJ90: =AZ90/SQRT(7) -> 0.014878143 | BK90: =BA90/SQRT(3) -> 0.013132395 | BL90: =BB90/SQRT(4) -> 0.0060362669 | BM90: =BC90/SQRT(6) -> 0.014368914 | BN90: =BD90/SQRT(3) -> 0.022819612 | BO90: =BE90/SQRT(3) -> 0.0047029415 | BP90: =BF90/SQRT(3) -> 0.015389978
A91: Poly Sum | B91: =SUM(B74:B78,B68:B71,B64:B65,B48:B52,B42:B45,B38:B39,B22:B26,B16:B19,B12:B13) -> 0.018172711 | C91: =SUM(C74:C78,C68:C71,C64:C65,C48:C52,C42:C45,C38:C39,C22:C26,C16:C19,C12:C13) -> 0.014819547 | D91: =SUM(D74:D78,D68:D71,D64:D65,D48:D52,D42:D45,D38:D39,D22:D26,D16:D19,D12:D13) -> 0.01869987 | E91: =SUM(E74:E78,E68:E71,E64:E65,E48:E52,E42:E45,E38:E39,E22:E26,E16:E19,E12:E13) -> 0.012199655 | F91: =SUM(F74:F78,F68:F71,F64:F65,F48:F52,F42:F45,F38:F39,F22:F26,F16:F19,F12:F13) -> 0.015878873 | G91: =SUM(G74:G78,G68:G71,G64:G65,G48:G52,G42:G45,G38:G39,G22:G26,G16:G19,G12:G13) -> 0.016770328 | H91: =SUM(H74:H78,H68:H71,H64:H65,H48:H52,H42:H45,H38:H39,H22:H26,H16:H19,H12:H13) -> 0.011959962 | I91: =SUM(I74:I78,I68:I71,I64:I65,I48:I52,I42:I45,I38:I39,I22:I26,I16:I19,I12:I13) -> 0.0086024962 | ... AL91: =SUM(AL74:AL78,AL68:AL71,AL64:AL65,AL48:AL52,AL42:AL45,AL38:AL39,AL22:AL26,AL16:AL19,AL12:AL13) -> 0.012380227 | AM91: Poly Sum | AN91: =AVERAGE(B91:E91) -> 0.015972946 | AO91: =AVERAGE(F91:I91) -> 0.013302915 | AP91: =AVERAGE(J91:P91) -> 0.012594284 | AQ91: =AVERAGE(Q91:S91) -> 0.015609268 | AR91: =AVERAGE(T91:W91) -> 0.01424161 | AS91: =AVERAGE(X91:AC91) -> 0.013119972 | AT91: =AVERAGE(AD91:AF91) -> 0.016189887 | AU91: =AVERAGE(AG91:AI91) -> 0.013866279 | AV91: =AVERAGE(AJ91:AL91) -> 0.01413799 | AX91: =STDEV(B91:E91) -> 0.0030464806 | AY91: =STDEV(F91:I91) -> 0.0037663409 | AZ91: =STDEV(J91:P91) -> 0.0062366833 | BA91: =STDEV(Q91:S91) -> 0.0074056154 | BB91: =STDEV(T91:W91) -> 0.0021280625 | BC91: =STDEV(X91:AC91) -> 0.0054900169 | BD91: =STDEV(AD91:AF91) -> 0.008518315 | BE91: =STDEV(AG91:AI91) -> 0.0050788261 | BF91: =STDEV(AJ91:AL91) -> 0.0022922342 | BH91: =AX91/SQRT(4) -> 0.0015232403 | BI91: =AY91/SQRT(4) -> 0.0018831704 | BJ91: =AZ91/SQRT(7) -> 0.0023572447 | BK91: =BA91/SQRT(3) -> 0.004275634 | BL91: =BB91/SQRT(4) -> 0.0010640313 | BM91: =BC91/SQRT(6) -> 0.00224129 | BN91: =BD91/SQRT(3) -> 0.0049180515 | BO91: =BE91/SQRT(3) -> 0.0029322616 | BP91: =BF91/SQRT(3) -> 0.001323422
A92: Short Sum | B92: =SUM(B59,B33,B7) -> 0.009221429 | C92: =SUM(C59,C33,C7) -> 0.0069125912 | D92: =SUM(D59,D33,D7) -> 0.0048245201 | E92: =SUM(E59,E33,E7) -> 0.0077844938 | F92: =SUM(F59,F33,F7) -> 0.0063796059 | G92: =SUM(G59,G33,G7) -> 0.0029379128 | H92: =SUM(H59,H33,H7) -> 0.012150102 | I92: =SUM(I59,I33,I7) -> 0.0069209414 | ... AL92: =SUM(AL59,AL33,AL7) -> 0.0077347574 | AM92: Short Sum | AN92: =AVERAGE(B92:E92) -> 0.0071857585 | AO92: =AVERAGE(F92:I92) -> 0.0070971405 | AP92: =AVERAGE(J92:P92) -> 0.0054707811 | AQ92: =AVERAGE(Q92:S92) -> 0.0062046893 | AR92: =AVERAGE(T92:W92) -> 0.0058409885 | AS92: =AVERAGE(X92:AC92) -> 0.0059871037 | AT92: =AVERAGE(AD92:AF92) -> 0.0066845249 | AU92: =AVERAGE(AG92:AI92) -> 0.0041534563 | AV92: =AVERAGE(AJ92:AL92) -> 0.0052792219 | AX92: =STDEV(B92:E92) -> 0.0018396109 | AY92: =STDEV(F92:I92) -> 0.0038025209 | AZ92: =STDEV(J92:P92) -> 0.0031472922 | BA92: =STDEV(Q92:S92) -> 0.00080625265 | BB92: =STDEV(T92:W92) -> 0.003894798 | BC92: =STDEV(X92:AC92) -> 0.005181269 | BD92: =STDEV(AD92:AF92) -> 0.0032776953 | BE92: =STDEV(AG92:AI92) -> 0.0037443163 | BF92: =STDEV(AJ92:AL92) -> 0.0021498697 | BH92: =AX92/SQRT(4) -> 0.00091980547 | BI92: =AY92/SQRT(4) -> 0.0019012604 | BJ92: =AZ92/SQRT(7) -> 0.0011895646 | BK92: =BA92/SQRT(3) -> 0.00046549018 | BL92: =BB92/SQRT(4) -> 0.001947399 | BM92: =BC92/SQRT(6) -> 0.0021152442 | BN92: =BD92/SQRT(3) -> 0.0018923783 | BO92: =BE92/SQRT(3) -> 0.002161782 | BP92: =BF92/SQRT(3) -> 0.0012412279
A93: Medium Sum | B93: =SUM(B75:B80,B60:B73,B49:B54,B34:B47,B8:B21,B23:B28) -> 3.659302 | C93: =SUM(C75:C80,C60:C73,C49:C54,C34:C47,C8:C21,C23:C28) -> 3.2399191 | D93: =SUM(D75:D80,D60:D73,D49:D54,D34:D47,D8:D21,D23:D28) -> 2.7057254 | E93: =SUM(E75:E80,E60:E73,E49:E54,E34:E47,E8:E21,E23:E28) -> 1.9516397 | F93: =SUM(F75:F80,F60:F73,F49:F54,F34:F47,F8:F21,F23:F28) -> 3.5748736 | G93: =SUM(G75:G80,G60:G73,G49:G54,G34:G47,G8:G21,G23:G28) -> 4.366569 | H93: =SUM(H75:H80,H60:H73,H49:H54,H34:H47,H8:H21,H23:H28) -> 1.8249344 | I93: =SUM(I75:I80,I60:I73,I49:I54,I34:I47,I8:I21,I23:I28) -> 2.3351452 | ... AL93: =SUM(AL75:AL80,AL60:AL73,AL49:AL54,AL34:AL47,AL8:AL21,AL23:AL28) -> 2.3108641 | AM93: Medium Sum | AN93: =AVERAGE(B93:E93) -> 2.8891465 | AO93: =AVERAGE(F93:I93) -> 3.0253806 | AP93: =AVERAGE(J93:P93) -> 2.3120957 | AQ93: =AVERAGE(Q93:S93) -> 2.1855483 | AR93: =AVERAGE(T93:W93) -> 2.4426457 | AS93: =AVERAGE(X93:AC93) -> 2.4309217 | AT93: =AVERAGE(AD93:AF93) -> 2.780628 | AU93: =AVERAGE(AG93:AI93) -> 1.9693036 | AV93: =AVERAGE(AJ93:AL93) -> 2.0056373 | AX93: =STDEV(B93:E93) -> 0.73682724 | AY93: =STDEV(F93:I93) -> 1.1573281 | AZ93: =STDEV(J93:P93) -> 0.7400549 | BA93: =STDEV(Q93:S93) -> 0.43593663 | BB93: =STDEV(T93:W93) -> 0.31148471 | BC93: =STDEV(X93:AC93) -> 0.78761338 | BD93: =STDEV(AD93:AF93) -> 0.83788216 | BE93: =STDEV(AG93:AI93) -> 0.46537895 | BF93: =STDEV(AJ93:AL93) -> 0.38916047 | BH93: =AX93/SQRT(4) -> 0.36841362 | BI93: =AY93/SQRT(4) -> 0.57866403 | BJ93: =AZ93/SQRT(7) -> 0.27971446 | BK93: =BA93/SQRT(3) -> 0.25168813 | BL93: =BB93/SQRT(4) -> 0.15574236 | BM93: =BC93/SQRT(6) -> 0.32154182 | BN93: =BD93/SQRT(3) -> 0.48375149 | BO93: =BE93/SQRT(3) -> 0.26868666 | BP93: =BF93/SQRT(3) -> 0.2246819
A94: Long Sum | B94: =SUM(B81:B84,B74,B55:B58,B48,B29:B32,B22) -> 0.081183206 | C94: =SUM(C81:C84,C74,C55:C58,C48,C29:C32,C22) -> 0.068814785 | D94: =SUM(D81:D84,D74,D55:D58,D48,D29:D32,D22) -> 0.076995002 | E94: =SUM(E81:E84,E74,E55:E58,E48,E29:E32,E22) -> 0.070918827 | F94: =SUM(F81:F84,F74,F55:F58,F48,F29:F32,F22) -> 0.091768659 | G94: =SUM(G81:G84,G74,G55:G58,G48,G29:G32,G22) -> 0.078083983 | H94: =SUM(H81:H84,H74,H55:H58,H48,H29:H32,H22) -> 0.03705831 | I94: =SUM(I81:I84,I74,I55:I58,I48,I29:I32,I22) -> 0.096478081 | ... AL94: =SUM(AL81:AL84,AL74,AL55:AL58,AL48,AL29:AL32,AL22) -> 0.079762963 | AM94: Long Sum | AN94: =AVERAGE(B94:E94) -> 0.074477955 | AO94: =AVERAGE(F94:I94) -> 0.075847258 | AP94: =AVERAGE(J94:P94) -> 0.067476558 | AQ94: =AVERAGE(Q94:S94) -> 0.045660684 | AR94: =AVERAGE(T94:W94) -> 0.075166494 | AS94: =AVERAGE(X94:AC94) -> 0.066434513 | AT94: =AVERAGE(AD94:AF94) -> 0.065893725 | AU94: =AVERAGE(AG94:AI94) -> 0.041820096 | AV94: =AVERAGE(AJ94:AL94) -> 0.055137839 | AX94: =STDEV(B94:E94) -> 0.0056578795 | AY94: =STDEV(F94:I94) -> 0.027010537 | AZ94: =STDEV(J94:P94) -> 0.035574247 | BA94: =STDEV(Q94:S94) -> 0.01776774 | BB94: =STDEV(T94:W94) -> 0.015686249 | BC94: =STDEV(X94:AC94) -> 0.027033285 | BD94: =STDEV(AD94:AF94) -> 0.030676971 | BE94: =STDEV(AG94:AI94) -> 0.0083764105 | BF94: =STDEV(AJ94:AL94) -> 0.025883144 | BH94: =AX94/SQRT(4) -> 0.0028289398 | BI94: =AY94/SQRT(4) -> 0.013505268 | BJ94: =AZ94/SQRT(7) -> 0.013445801 | BK94: =BA94/SQRT(3) -> 0.010258209 | BL94: =BB94/SQRT(4) -> 0.0078431245 | BM94: =BC94/SQRT(6) -> 0.011036292 | BN94: =BD94/SQRT(3) -> 0.017711357 | BO94: =BE94/SQRT(3) -> 0.0048361228 | BP94: =BF94/SQRT(3) -> 0.01494364
A95: 18:0 Sum | B95: =SUM(B7:B32) -> 0.024674216 | C95: =SUM(C7:C32) -> 0.029382279 | D95: =SUM(D7:D32) -> 0.025955531 | E95: =SUM(E7:E32) -> 0.033042419 | F95: =SUM(F7:F32) -> 0.040976187 | G95: =SUM(G7:G32) -> 0.034748341 | H95: =SUM(H7:H32) -> 0.020790155 | I95: =SUM(I7:I32) -> 0.019704417 | ... AL95: =SUM(AL7:AL32) -> 0.026732927 | AM95: 18:0 Sum | AN95: =AVERAGE(B95:E95) -> 0.028263611 | AO95: =AVERAGE(F95:I95) -> 0.029054775 | AP95: =AVERAGE(J95:P95) -> 0.027734823 | AQ95: =AVERAGE(Q95:S95) -> 0.028653837 | AR95: =AVERAGE(T95:W95) -> 0.027686198 | AS95: =AVERAGE(X95:AC95) -> 0.037658557 | AT95: =AVERAGE(AD95:AF95) -> 0.03178269 | AU95: =AVERAGE(AG95:AI95) -> 0.018999439 | AV95: =AVERAGE(AJ95:AL95) -> 0.022228334 | AX95: =STDEV(B95:E95) -> 0.0037549708 | AY95: =STDEV(F95:I95) -> 0.010492377 | AZ95: =STDEV(J95:P95) -> 0.012308946 | BA95: =STDEV(Q95:S95) -> 0.012031976 | BB95: =STDEV(T95:W95) -> 0.0078354853 | BC95: =STDEV(X95:AC95) -> 0.0096342842 | BD95: =STDEV(AD95:AF95) -> 0.014643876 | BE95: =STDEV(AG95:AI95) -> 0.0048174595 | BF95: =STDEV(AJ95:AL95) -> 0.0074693701 | BH95: =AX95/SQRT(4) -> 0.0018774854 | BI95: =AY95/SQRT(4) -> 0.0052461883 | BJ95: =AZ95/SQRT(7) -> 0.0046523443 | BK95: =BA95/SQRT(3) -> 0.0069466643 | BL95: =BB95/SQRT(4) -> 0.0039177426 | BM95: =BC95/SQRT(6) -> 0.0039331801 | BN95: =BD95/SQRT(3) -> 0.0084546456 | BO95: =BE95/SQRT(3) -> 0.0027813615 | BP95: =BF95/SQRT(3) -> 0.0043124428
A96: 18:1 Sum | B96: =SUM(B33:B58) -> 2.7511308 | C96: =SUM(C33:C58) -> 2.7061443 | D96: =SUM(D33:D58) -> 2.2534432 | E96: =SUM(E33:E58) -> 1.4557442 | F96: =SUM(F33:F58) -> 3.090912 | G96: =SUM(G33:G58) -> 3.6280854 | H96: =SUM(H33:H58) -> 1.5142395 | I96: =SUM(I33:I58) -> 1.9142424 | ... AL96: =SUM(AL33:AL58) -> 1.9165104 | AM96: 18:1 Sum | AN96: =AVERAGE(B96:E96) -> 2.2916156 | AO96: =AVERAGE(F96:I96) -> 2.5368698 | AP96: =AVERAGE(J96:P96) -> 1.8450564 | AQ96: =AVERAGE(Q96:S96) -> 1.7202556 | AR96: =AVERAGE(T96:W96) -> 1.9707282 | AS96: =AVERAGE(X96:AC96) -> 2.013928 | AT96: =AVERAGE(AD96:AF96) -> 2.1808046 | AU96: =AVERAGE(AG96:AI96) -> 1.5856047 | AV96: =AVERAGE(AJ96:AL96) -> 1.5487855 | AX96: =STDEV(B96:E96) -> 0.60086782 | AY96: =STDEV(F96:I96) -> 0.9884587 | AZ96: =STDEV(J96:P96) -> 0.68120754 | BA96: =STDEV(Q96:S96) -> 0.33480148 | BB96: =STDEV(T96:W96) -> 0.1275076 | BC96: =STDEV(X96:AC96) -> 0.6937618 | BD96: =STDEV(AD96:AF96) -> 0.84326944 | BE96: =STDEV(AG96:AI96) -> 0.36303623 | BF96: =STDEV(AJ96:AL96) -> 0.37430943 | BH96: =AX96/SQRT(4) -> 0.30043391 | BI96: =AY96/SQRT(4) -> 0.49422935 | BJ96: =AZ96/SQRT(7) -> 0.25747225 | BK96: =BA96/SQRT(3) -> 0.19329772 | BL96: =BB96/SQRT(4) -> 0.0637538 | BM96: =BC96/SQRT(6) -> 0.28322707 | BN96: =BD96/SQRT(3) -> 0.48686184 | BO96: =BE96/SQRT(3) -> 0.20959907 | BP96: =BF96/SQRT(3) -> 0.21610765
A97: 18:2 Sum | B97: =SUM(B59:B84) -> 0.97390159 | C97: =SUM(C59:C84) -> 0.58011983 | D97: =SUM(D59:D84) -> 0.50814619 | E97: =SUM(E59:E84) -> 0.5415564 | F97: =SUM(F59:F84) -> 0.54113366 | G97: =SUM(G59:G84) -> 0.78475717 | H97: =SUM(H59:H84) -> 0.3391132 | I97: =SUM(I59:I84) -> 0.50459739 | ... AL97: =SUM(AL59:AL84) -> 0.45511852 | AM97: 18:2 Sum | AN97: =AVERAGE(B97:E97) -> 0.650931 | AO97: =AVERAGE(F97:I97) -> 0.54240036 | AP97: =AVERAGE(J97:P97) -> 0.51225187 | AQ97: =AVERAGE(Q97:S97) -> 0.48850419 | AR97: =AVERAGE(T97:W97) -> 0.52523869 | AS97: =AVERAGE(X97:AC97) -> 0.45175679 | AT97: =AVERAGE(AD97:AF97) -> 0.64061894 | AU97: =AVERAGE(AG97:AI97) -> 0.41067294 | AV97: =AVERAGE(AJ97:AL97) -> 0.49504052 | AX97: =STDEV(B97:E97) -> 0.21731278 | AY97: =STDEV(F97:I97) -> 0.1839322 | AZ97: =STDEV(J97:P97) -> 0.11292723 | BA97: =STDEV(Q97:S97) -> 0.16538537 | BB97: =STDEV(T97:W97) -> 0.20330972 | BC97: =STDEV(X97:AC97) -> 0.10924242 | BD97: =STDEV(AD97:AF97) -> 0.053623352 | BE97: =STDEV(AG97:AI97) -> 0.13193786 | BF97: =STDEV(AJ97:AL97) -> 0.10347003 | BH97: =AX97/SQRT(4) -> 0.10865639 | BI97: =AY97/SQRT(4) -> 0.0919661 | BJ97: =AZ97/SQRT(7) -> 0.04268248 | BK97: =BA97/SQRT(3) -> 0.095485288 | BL97: =BB97/SQRT(4) -> 0.10165486 | BM97: =BC97/SQRT(6) -> 0.044598032 | BN97: =BD97/SQRT(3) -> 0.030959456 | BO97: =BE97/SQRT(3) -> 0.076174358 | BP97: =BF97/SQRT(3) -> 0.059738452
A99: TOTAL | B99: =SUM(B7:B84) -> 3.7497066 | C99: =SUM(C7:C84) -> 3.3156464 | D99: =SUM(D7:D84) -> 2.7875449 | E99: =SUM(E7:E84) -> 2.030343 | F99: =SUM(F7:F84) -> 3.6730219 | G99: =SUM(G7:G84) -> 4.4475909 | H99: =SUM(H7:H84) -> 1.8741429 | I99: =SUM(I7:I84) -> 2.4385442 | ... AL99: =SUM(AL7:AL84) -> 2.3983618 | AM99: TOTAL | AN99: =AVERAGE(B99:E99) -> 2.9708102 | AO99: =AVERAGE(F99:I99) -> 3.108325 | AP99: =AVERAGE(J99:P99) -> 2.3850431 | AQ99: =AVERAGE(Q99:S99) -> 2.2374136 | AR99: =AVERAGE(T99:W99) -> 2.5236531 | AS99: =AVERAGE(X99:AC99) -> 2.5033433 | AT99: =AVERAGE(AD99:AF99) -> 2.8532062 | AU99: =AVERAGE(AG99:AI99) -> 2.0152771 | AV99: =AVERAGE(AJ99:AL99) -> 2.0660543 | AX99: =STDEV(B99:E99) -> 0.74019284 | AY99: =STDEV(F99:I99) -> 1.1668087 | AZ99: =STDEV(J99:P99) -> 0.76857428 | BA99: =STDEV(Q99:S99) -> 0.44814691 | BB99: =STDEV(T99:W99) -> 0.31955554 | BC99: =STDEV(X99:AC99) -> 0.80026335 | BD99: =STDEV(AD99:AF99) -> 0.87144292 | BE99: =STDEV(AG99:AI99) -> 0.47128444 | BF99: =STDEV(AJ99:AL99) -> 0.41614641 | BH99: =AX99/SQRT(4) -> 0.37009642 | BI99: =AY99/SQRT(4) -> 0.58340434 | BJ99: =AZ99/SQRT(7) -> 0.29049377 | BK99: =BA99/SQRT(3) -> 0.25873774 | BL99: =BB99/SQRT(4) -> 0.15977777 | BM99: =BC99/SQRT(6) -> 0.32670615 | BN99: =BD99/SQRT(3) -> 0.50312781 | BO99: =BE99/SQRT(3) -> 0.2720962 | BP99: =BF99/SQRT(3) -> 0.24026224
A100: Number of Species | B100: =COUNTIF(B7:B87, ">0") -> 32 | C100: =COUNTIF(C7:C87, ">0") -> 32 | D100: =COUNTIF(D7:D87, ">0") -> 39 | E100: =COUNTIF(E7:E87, ">0") -> 43 | F100: =COUNTIF(F7:F87, ">0") -> 38 | G100: =COUNTIF(G7:G87, ">0") -> 32 | H100: =COUNTIF(H7:H87, ">0") -> 34 | I100: =COUNTIF(I7:I87, ">0") -> 38 | ... AL100: =COUNTIF(AL7:AL87, ">0") -> 40 | AM100: Number of Species | AN100: =AVERAGE(B100:E100) -> 36.5 | AO100: =AVERAGE(F100:I100) -> 35.5 | AP100: =AVERAGE(J100:P100) -> 36.428571 | AQ100: =AVERAGE(Q100:S100) -> 33 | AR100: =AVERAGE(T100:W100) -> 33.75 | AS100: =AVERAGE(X100:AC100) -> 38.5 | AT100: =AVERAGE(AD100:AF100) -> 34.333333 | AU100: =AVERAGE(AG100:AI100) -> 34.333333 | AV100: =AVERAGE(AJ100:AL100) -> 37.333333 | AX100: =STDEV(B100:E100) -> 5.4467115 | AY100: =STDEV(F100:I100) -> 3 | AZ100: =STDEV(J100:P100) -> 7.9761549 | BA100: =STDEV(Q100:S100) -> 1 | BB100: =STDEV(T100:W100) -> 4.0311289 | BC100: =STDEV(X100:AC100) -> 8.3845095 | BD100: =STDEV(AD100:AF100) -> 5.7735027 | BE100: =STDEV(AG100:AI100) -> 4.5092498 | BF100: =STDEV(AJ100:AL100) -> 3.7859389 | BH100: =AX100/SQRT(4) -> 2.7233558 | BI100: =AY100/SQRT(4) -> 1.5 | BJ100: =AZ100/SQRT(7) -> 3.0147032 | BK100: =BA100/SQRT(3) -> 0.57735027 | BL100: =BB100/SQRT(4) -> 2.0155644 | BM100: =BC100/SQRT(6) -> 3.4229617 | BN100: =BD100/SQRT(3) -> 3.3333333 | BO100: =BE100/SQRT(3) -> 2.6034166 | BP100: =BF100/SQRT(3) -> 2.1858128

Sheet COQ10
A1: COQ10
A2: - | B2: n=4 | F2: n=4 | K2: n=7 | Q2: n=3 | T2: n=4 | X2: n=6 | AD2: n=3 | AG2: n=3 | AJ2: n=3
A3: - | B3: PFC | Q3: Nac | AD3: vHipp | AN3: Average | AX3: StDev | BH3: StError
A4: Species | B4: PFC | C4: PFC | D4: PFC | E4: PFC | F4: PFC | G4: PFC | H4: PFC | I4: PFC | J4: PFC | K4: PFC | L4: PFC | M4: PFC | N4: PFC | O4: PFC | P4: PFC | Q4: Nac | R4: Nac | S4: Nac | T4: Nac | U4: Nac | V4: Nac | W4: Nac | X4: Nac | Y4: Nac | Z4: Nac | AA4: Nac | AB4: Nac | AC4: Nac | AD4: vHipp | AE4: vHipp | AF4: vHipp | AG4: vHipp | AH4: vHipp | AI4: vHipp | AJ4: vHipp | AK4: vHipp | AL4: vHipp | AN4: PFC | AQ4: Nac | AT4: vHipp | AX4: PFC | BA4: Nac | BD4: vHipp | BH4: PFC | BK4: Nac | BN4: vHipp
A5: - | B5: Control | C5: Control | D5: Control | E5: Control | F5: Susceptible | G5: Susceptible | H5: Susceptible | I5: Susceptible | J5: Resilient | K5: Resilient | L5: Resilient | M5: Resilient | N5: Resilient | O5: Resilient | P5: Resilient | Q5: Control | R5: Control | S5: Control | T5: Susceptible | U5: Susceptible | V5: Susceptible | W5: Susceptible | X5: Resilient | Y5: Resilient | Z5: Resilient | AA5: Resilient | AB5: Resilient | AC5: Resilient | AD5: Control | AE5: Control | AF5: Control | AG5: Susceptible | AH5: Susceptible | AI5: Susceptible | AJ5: Resilient | AK5: Resilient | AL5: Resilient | AN5: Control | AO5: Susceptible | AP5: Resilient | AQ5: Control | AR5: Susceptible | AS5: Resilient | AT5: Control | AU5: Susceptible | AV5: Resilient | AX5: Control | AY5: Susceptible | AZ5: Resilient | BA5: Control | BB5: Susceptible | BC5: Resilient | BD5: Control | BE5: Susceptible | BF5: Resilient | BH5: Control | BI5: Susceptible | BJ5: Resilient | BK5: Control | BL5: Susceptible | BM5: Resilient | BN5: Control | BO5: Susceptible | BP5: Resilient
A6: CoQ10_NH4 | B6: 0.022857748 | C6: 0.025660374 | D6: 0.018602367 | E6: 0.02203549 | F6: 0.019145251 | G6: 0.026095897 | H6: 0.026469923 | I6: 0.019928344 | J6: 0.02424105 | K6: 0.022018007 | L6: 0.02761839 | M6: 0.021169028 | N6: 0.025810308 | O6: 0.023805187 | P6: 0.017857049 | Q6: 0.017877956 | R6: 0.012788787 | S6: 0.017723951 | T6: 0.014363569 | U6: 0.026817143 | V6: 0.010452319 | W6: 0.015987878 | X6: 0.015689959 | Y6: 0.023196163 | Z6: 0.019641306 | AA6: 0.013459986 | AB6: 0.024183206 | AC6: 0.017645987 | AD6: 0.025397726 | AE6: 0.022082755 | AF6: 0.023738672 | AG6: 0.029185369 | AH6: 0.021533362 | AI6: 0.020122991 | AJ6: 0.018339433 | AK6: 0.025767107 | AL6: 0.016128485 | AN6: =AVERAGE(B6:E6) -> 0.022288995 | AO6: =AVERAGE(F6:I6) -> 0.022909854 | AP6: =AVERAGE(J6:P6) -> 0.023217003 | AQ6: =AVERAGE(Q6:S6) -> 0.016130231 | AR6: =AVERAGE(T6:W6) -> 0.016905227 | AS6: =AVERAGE(X6:AC6) -> 0.018969435 | AT6: =AVERAGE(AD6:AF6) -> 0.023739718 | AU6: =AVERAGE(AG6:AI6) -> 0.023613908 | AV6: =AVERAGE(AJ6:AL6) -> 0.020078342 | AX6: =STDEV(B6:E6) -> 0.0029066115 | AY6: =STDEV(F6:I6) -> 0.0039109507 | AZ6: =STDEV(J6:P6) -> 0.0032107364 | BA6: =STDEV(Q6:S6) -> 0.0028948001 | BB6: =STDEV(T6:W6) -> 0.0070044668 | BC6: =STDEV(X6:AC6) -> 0.0042038211 | BD6: =STDEV(AD6:AF6) -> 0.001657486 | BE6: =STDEV(AG6:AI6) -> 0.0048762869 | BF6: =STDEV(AJ6:AL6) -> 0.0050491196 | BH6: =AX6/SQRT(4) -> 0.0014533058 | BI6: =AY6/SQRT(4) -> 0.0019554753 | BJ6: =AZ6/SQRT(7) -> 0.0012135443 | BK6: =BA6/SQRT(3) -> 0.0016713136 | BL6: =BB6/SQRT(4) -> 0.0035022334 | BM6: =BC6/SQRT(6) -> 0.0017162028 | BN6: =BD6/SQRT(3) -> 0.00095694999 | BO6: =BE6/SQRT(3) -> 0.0028153256 | BP6: =BF6/SQRT(3) -> 0.0029151106
A7: CoQ10H2_NH4 | B7: 0.0059186772 | C7: 0.0023578127 | D7: 0.00038457955 | E7: 0.0063608307 | F7: 0.0015067375 | G7: 0.0040354246 | H7: 0.0072982894 | I7: 0.0034711063 | J7: 0.0022331298 | K7: 0.0042455807 | L7: 0.001260796 | M7: 0.0047986067 | N7: 0.00077244604 | O7: 0.0029686114 | P7: 0.00047318805 | Q7: 0.004237665 | R7: 0.0021219089 | S7: 0.0016464751 | T7: 0.0044702715 | U7: 0.0016188235 | V7: 0.0026770816 | W7: 0.0020876836 | X7: 0.001278571 | Y7: 0.004556462 | Z7: 0.005026932 | AA7: 0.0027315425 | AB7: 0.00015959 | AC7: 0.0034534204 | AD7: 0.0026489323 | AE7: 0.0053276962 | AF7: 0.0042540505 | AG7: 0.0034220136 | AH7: 0.0035701584 | AI7: 0.0010629652 | AJ7: 0.0030217253 | AK7: 0.0041041722 | AL7: 0.002886583 | AN7: =AVERAGE(B7:E7) -> 0.003755475 | AO7: =AVERAGE(F7:I7) -> 0.0040778894 | AP7: =AVERAGE(J7:P7) -> 0.0023931941 | AQ7: =AVERAGE(Q7:S7) -> 0.002668683 | AR7: =AVERAGE(T7:W7) -> 0.0027134651 | AS7: =AVERAGE(X7:AC7) -> 0.002867753 | AT7: =AVERAGE(AD7:AF7) -> 0.004076893 | AU7: =AVERAGE(AG7:AI7) -> 0.0026850457 | AV7: =AVERAGE(AJ7:AL7) -> 0.0033374935 | AX7: =STDEV(B7:E7) -> 0.0028742372 | AY7: =STDEV(F7:I7) -> 0.0024049801 | AZ7: =STDEV(J7:P7) -> 0.0016916286 | BA7: =STDEV(Q7:S7) -> 0.0013794157 | BB7: =STDEV(T7:W7) -> 0.0012486707 | BC7: =STDEV(X7:AC7) -> 0.001883348 | BD7: =STDEV(AD7:AF7) -> 0.0013481404 | BE7: =STDEV(AG7:AI7) -> 0.0014067145 | BF7: =STDEV(AJ7:AL7) -> 0.00066739274 | BH7: =AX7/SQRT(4) -> 0.0014371186 | BI7: =AY7/SQRT(4) -> 0.00120249 | BJ7: =AZ7/SQRT(7) -> 0.00063937553 | BK7: =BA7/SQRT(3) -> 0.00079640602 | BL7: =BB7/SQRT(4) -> 0.00062433533 | BM7: =BC7/SQRT(6) -> 0.00076887358 | BN7: =BD7/SQRT(3) -> 0.00077834923 | BO7: =BE7/SQRT(3) -> 0.00081216698 | BP7: =BF7/SQRT(3) -> 0.00038531938
A8: CoQ9_NH4 | B8: 0.055551666 | C8: 0.056117222 | D8: 0.060165565 | E8: 0.053327686 | F8: 0.04916311 | G8: 0.067179821 | H8: 0.094411215 | I8: 0.036007798 | J8: 0.044854495 | K8: 0.074058888 | L8: 0.048953078 | M8: 0.038636326 | N8: 0.068689861 | O8: 0.045088017 | P8: 0.039826278 | Q8: 0.057727773 | R8: 0.068751974 | S8: 0.046914956 | T8: 0.072478817 | U8: 0.04703687 | V8: 0.050534042 | W8: 0.045450531 | X8: 0.051850865 | Y8: 0.043671396 | Z8: 0.07120542 | AA8: 0.03445206 | AB8: 0.065029796 | AC8: 0.045636375 | AD8: 0.050723426 | AE8: 0.054802826 | AF8: 0.054517037 | AG8: 0.048578829 | AH8: 0.061439745 | AI8: 0.045915436 | AJ8: 0.044542719 | AK8: 0.050817893 | AL8: 0.050593346 | AN8: =AVERAGE(B8:E8) -> 0.056290534 | AO8: =AVERAGE(F8:I8) -> 0.061690486 | AP8: =AVERAGE(J8:P8) -> 0.051443849 | AQ8: =AVERAGE(Q8:S8) -> 0.057798234 | AR8: =AVERAGE(T8:W8) -> 0.053875065 | AS8: =AVERAGE(X8:AC8) -> 0.051974319 | AT8: =AVERAGE(AD8:AF8) -> 0.053347763 | AU8: =AVERAGE(AG8:AI8) -> 0.051978003 | AV8: =AVERAGE(AJ8:AL8) -> 0.048651319 | AX8: =STDEV(B8:E8) -> 0.0028501634 | AY8: =STDEV(F8:I8) -> 0.025280523 | AZ8: =STDEV(J8:P8) -> 0.014129671 | BA8: =STDEV(Q8:S8) -> 0.010918679 | BB8: =STDEV(T8:W8) -> 0.012583 | BC8: =STDEV(X8:AC8) -> 0.013830644 | BD8: =STDEV(AD8:AF8) -> 0.0022772302 | BE8: =STDEV(AG8:AI8) -> 0.008301616 | BF8: =STDEV(AJ8:AL8) -> 0.0035599229 | BH8: =AX8/SQRT(4) -> 0.0014250817 | BI8: =AY8/SQRT(4) -> 0.012640261 | BJ8: =AZ8/SQRT(7) -> 0.0053405138 | BK8: =BA8/SQRT(3) -> 0.0063039024 | BL8: =BB8/SQRT(4) -> 0.0062915002 | BM8: =BC8/SQRT(6) -> 0.0056463369 | BN8: =BD8/SQRT(3) -> 0.0013147595 | BO8: =BE8/SQRT(3) -> 0.0047929402 | BP8: =BF8/SQRT(3) -> 0.0020553224
A9: CoQ9H2_NH4 | B9: 0.0045999358 | C9: 0.01173283 | D9: 0.0096989875 | E9: 0.0021087376 | F9: 0.0052849332 | G9: 0.0060203994 | H9: 0.0098800723 | I9: 0.0065269278 | J9: 0.0024562702 | K9: 0.009998101 | L9: 0.0038984947 | M9: 0.0034836279 | N9: 0.013541554 | O9: 0.0041415845 | P9: 0.0096818728 | Q9: 0.0051930927 | R9: 0.0049014902 | S9: 0.0016464751 | T9: 0.01572336 | U9: 0.0043450127 | V9: 0.004457264 | W9: 0.0032212476 | X9: 0.0073067884 | Y9: 0.0063996448 | Z9: 0.016090845 | AA9: 0.0094829151 | AB9: 0.0086084885 | AC9: 0.0049023303 | AD9: 0.0043868761 | AE9: 0.0063518125 | AF9: 0.0047932823 | AG9: 0.0059440342 | AH9: 0.0077810292 | AI9: 0.0066636269 | AJ9: 0.0047938188 | AK9: 0.0073081048 | AL9: 0.0063369847 | AN9: =AVERAGE(B9:E9) -> 0.0070351227 | AO9: =AVERAGE(F9:I9) -> 0.0069280832 | AP9: =AVERAGE(J9:P9) -> 0.0067430721 | AQ9: =AVERAGE(Q9:S9) -> 0.003913686 | AR9: =AVERAGE(T9:W9) -> 0.0069367212 | AS9: =AVERAGE(X9:AC9) -> 0.0087985021 | AT9: =AVERAGE(AD9:AF9) -> 0.0051773236 | AU9: =AVERAGE(AG9:AI9) -> 0.0067962301 | AV9: =AVERAGE(AJ9:AL9) -> 0.0061463027 | AX9: =STDEV(B9:E9) -> 0.0044483717 | AY9: =STDEV(F9:I9) -> 0.0020329779 | AZ9: =STDEV(J9:P9) -> 0.0042683158 | BA9: =STDEV(Q9:S9) -> 0.0019688682 | BB9: =STDEV(T9:W9) -> 0.0058842851 | BC9: =STDEV(X9:AC9) -> 0.0039202724 | BD9: =STDEV(AD9:AF9) -> 0.0010372365 | BE9: =STDEV(AG9:AI9) -> 0.00092564863 | BF9: =STDEV(AJ9:AL9) -> 0.0012679425 | BH9: =AX9/SQRT(4) -> 0.0022241859 | BI9: =AY9/SQRT(4) -> 0.0010164889 | BJ9: =AZ9/SQRT(7) -> 0.0016132717 | BK9: =BA9/SQRT(3) -> 0.0011367266 | BL9: =BB9/SQRT(4) -> 0.0029421425 | BM9: =BC9/SQRT(6) -> 0.0016004445 | BN9: =BD9/SQRT(3) -> 0.00059884877 | BO9: =BE9/SQRT(3) -> 0.00053442349 | BP9: =BF9/SQRT(3) -> 0.00073204696
A11: TOTAL | B11: 0.088928027 | C11: 0.095868238 | D11: 0.088851498 | E11: 0.083832744 | F11: 0.075100032 | G11: 0.10333154 | H11: 0.1380595 | I11: 0.065934176 | J11: 0.073784945 | K11: 0.11032058 | L11: 0.081730758 | M11: 0.068087589 | N11: 0.10881417 | O11: 0.0760034 | P11: 0.067838388 | Q11: 0.085036487 | R11: 0.08856416 | S11: 0.067931857 | T11: 0.10703602 | U11: 0.079817849 | V11: 0.068120706 | W11: 0.066747341 | X11: 0.076126184 | Y11: 0.077823665 | Z11: 0.1119645 | AA11: 0.060126503 | AB11: 0.097981081 | AC11: 0.071638113 | AD11: 0.083156961 | AE11: 0.08856509 | AF11: 0.087303042 | AG11: 0.087130246 | AH11: 0.094324295 | AI11: 0.073765019 | AJ11: 0.070697696 | AK11: 0.087997276 | AL11: 0.075945399 | AN11: =AVERAGE(B11:E11) -> 0.089370127 | AO11: =AVERAGE(F11:I11) -> 0.095606312 | AP11: =AVERAGE(J11:P11) -> 0.083797118 | AQ11: =AVERAGE(Q11:S11) -> 0.080510835 | AR11: =AVERAGE(T11:W11) -> 0.080430478 | AS11: =AVERAGE(X11:AC11) -> 0.082610008 | AT11: =AVERAGE(AD11:AF11) -> 0.086341697 | AU11: =AVERAGE(AG11:AI11) -> 0.085073187 | AV11: =AVERAGE(AJ11:AL11) -> 0.078213457 | AX11: =STDEV(B11:E11) -> 0.004944778 | AY11: =STDEV(F11:I11) -> 0.032469963 | AZ11: =STDEV(J11:P11) -> 0.018239484 | BA11: =STDEV(Q11:S11) -> 0.011035585 | BB11: =STDEV(T11:W11) -> 0.018681441 | BC11: =STDEV(X11:AC11) -> 0.018914522 | BD11: =STDEV(AD11:AF11) -> 0.0028293288 | BE11: =STDEV(AG11:AI11) -> 0.01043286 | BF11: =STDEV(AJ11:AL11) -> 0.0088700019 | BH11: =AX11/SQRT(4) -> 0.002472389 | BI11: =AY11/SQRT(4) -> 0.016234982 | BJ11: =AZ11/SQRT(7) -> 0.0068938768 | BK11: =BA11/SQRT(3) -> 0.0063713977 | BL11: =BB11/SQRT(4) -> 0.0093407207 | BM11: =BC11/SQRT(6) -> 0.0077218215 | BN11: =BD11/SQRT(3) -> 0.0016335137 | BO11: =BE11/SQRT(3) -> 0.0060234145 | BP11: =BF11/SQRT(3) -> 0.005121098
A14: Total CoQ10 | B14: =SUM(B6:B7) -> 0.028776425 | C14: =SUM(C6:C7) -> 0.028018187 | D14: =SUM(D6:D7) -> 0.018986946 | E14: =SUM(E6:E7) -> 0.028396321 | F14: =SUM(F6:F7) -> 0.020651988 | G14: =SUM(G6:G7) -> 0.030131321 | H14: =SUM(H6:H7) -> 0.033768213 | I14: =SUM(I6:I7) -> 0.02339945 | ... AL14: =SUM(AL6:AL7) -> 0.019015068 | AM14: Total CoQ10 | AN14: =AVERAGE(B14:E14) -> 0.02604447 | AO14: =AVERAGE(F14:I14) -> 0.026987743 | AP14: =AVERAGE(J14:P14) -> 0.025610197 | AQ14: =AVERAGE(Q14:S14) -> 0.018798914 | AR14: =AVERAGE(T14:W14) -> 0.019618692 | AS14: =AVERAGE(X14:AC14) -> 0.021837188 | AT14: =AVERAGE(AD14:AF14) -> 0.027816611 | AU14: =AVERAGE(AG14:AI14) -> 0.026298953 | AV14: =AVERAGE(AJ14:AL14) -> 0.023415835 | AX14: =STDEV(B14:E14) -> 0.0047151876 | AY14: =STDEV(F14:I14) -> 0.0060242425 | AZ14: =STDEV(J14:P14) -> 0.0033487582 | BA14: =STDEV(Q14:S14) -> 0.0036363039 | BB14: =STDEV(T14:W14) -> 0.0063992835 | BC14: =STDEV(X14:AC14) -> 0.0045914471 | BD14: =STDEV(AD14:AF14) -> 0.00035277688 | BE14: =STDEV(AG14:AI14) -> 0.0058037952 | BF14: =STDEV(AJ14:AL14) -> 0.0057123201 | BH14: =AX14/SQRT(4) -> 0.0023575938 | BI14: =AY14/SQRT(4) -> 0.0030121212 | BJ14: =AZ14/SQRT(7) -> 0.0012657116 | BK14: =BA14/SQRT(3) -> 0.0020994211 | BL14: =BB14/SQRT(4) -> 0.0031996417 | BM14: =BC14/SQRT(6) -> 0.0018744504 | BN14: =BD14/SQRT(3) -> 0.00020367583 | BO14: =BE14/SQRT(3) -> 0.0033508227 | BP14: =BF14/SQRT(3) -> 0.0032980096
A15: Total CoQ9 | B15: =SUM(B8:B9) -> 0.060151601 | C15: =SUM(C8:C9) -> 0.067850051 | D15: =SUM(D8:D9) -> 0.069864552 | E15: =SUM(E8:E9) -> 0.055436424 | F15: =SUM(F8:F9) -> 0.054448044 | G15: =SUM(G8:G9) -> 0.073200221 | H15: =SUM(H8:H9) -> 0.10429129 | I15: =SUM(I8:I9) -> 0.042534726 | ... AL15: =SUM(AL8:AL9) -> 0.05693033 | AM15: Total CoQ9 | AN15: =AVERAGE(B15:E15) -> 0.063325657 | AO15: =AVERAGE(F15:I15) -> 0.068618569 | AP15: =AVERAGE(J15:P15) -> 0.058186921 | AQ15: =AVERAGE(Q15:S15) -> 0.06171192 | AR15: =AVERAGE(T15:W15) -> 0.060811786 | AS15: =AVERAGE(X15:AC15) -> 0.060772821 | AT15: =AVERAGE(AD15:AF15) -> 0.058525087 | AU15: =AVERAGE(AG15:AI15) -> 0.058774233 | AV15: =AVERAGE(AJ15:AL15) -> 0.054797622 | AX15: =STDEV(B15:E15) -> 0.0067216547 | AY15: =STDEV(F15:I15) -> 0.026923998 | AZ15: =STDEV(J15:P15) -> 0.017358268 | BA15: =STDEV(Q15:S15) -> 0.012589626 | BB15: =STDEV(T15:W15) -> 0.018442834 | BC15: =STDEV(X15:AC15) -> 0.016579507 | BD15: =STDEV(AD15:AF15) -> 0.0030977319 | BE15: =STDEV(AG15:AI15) -> 0.0090990245 | BF15: =STDEV(AJ15:AL15) -> 0.0047670729 | BH15: =AX15/SQRT(4) -> 0.0033608274 | BI15: =AY15/SQRT(4) -> 0.013461999 | BJ15: =AZ15/SQRT(7) -> 0.0065608087 | BK15: =BA15/SQRT(3) -> 0.0072686241 | BL15: =BB15/SQRT(4) -> 0.009221417 | BM15: =BC15/SQRT(6) -> 0.0067685555 | BN15: =BD15/SQRT(3) -> 0.0017884764 | BO15: =BE15/SQRT(3) -> 0.0052533242 | BP15: =BF15/SQRT(3) -> 0.0027522708
A16: CoQ9/CoQ10 | B16: =B15/B14 -> 2.0903083 | C16: =C15/C14 -> 2.4216432 | D16: =D15/D14 -> 3.6796097 | E16: =E15/E14 -> 1.9522397 | F16: =F15/F14 -> 2.6364553 | G16: =G15/G14 -> 2.4293731 | H16: =H15/H14 -> 3.0884456 | I16: =I15/I14 -> 1.817766 | ... AL16: =AL15/AL14 -> 2.9939588 | AM16: CoQ9/CoQ10 | AN16: =AVERAGE(B16:E16) -> 2.5359502 | AO16: =AVERAGE(F16:I16) -> 2.49301 | AP16: =AVERAGE(J16:P16) -> 2.2961018 | AQ16: =AVERAGE(Q16:S16) -> 3.4305717 | AR16: =AVERAGE(T16:W16) -> 3.3428005 | AS16: =AVERAGE(X16:AC16) -> 2.8271824 | AT16: =AVERAGE(AD16:AF16) -> 2.1049324 | AU16: =AVERAGE(AG16:AI16) -> 2.3037678 | AV16: =AVERAGE(AJ16:AL16) -> 2.416493 | AX16: =STDEV(B16:E16) -> 0.7874723 | AY16: =STDEV(F16:I16) -> 0.52761227 | AZ16: =STDEV(J16:P16) -> 0.67791453 | BA16: =STDEV(Q16:S16) -> 1.3177793 | BB16: =STDEV(T16:W16) -> 1.3283072 | BC16: =STDEV(X16:AC16) -> 0.66723663 | BD16: =STDEV(AD16:AF16) -> 0.13359875 | BE16: =STDEV(AG16:AI16) -> 0.56413086 | BF16: =STDEV(AJ16:AL16) -> 0.53214617 | BH16: =AX16/SQRT(4) -> 0.39373615 | BI16: =AY16/SQRT(4) -> 0.26380614 | BJ16: =AZ16/SQRT(7) -> 0.25622761 | BK16: =BA16/SQRT(3) -> 0.76082025 | BL16: =BB16/SQRT(4) -> 0.66415361 | BM16: =BC16/SQRT(6) -> 0.27239822 | BN16: =BD16/SQRT(3) -> 0.077133275 | BO16: =BE16/SQRT(3) -> 0.32570111 | BP16: =BF16/SQRT(3) -> 0.30723473
A18: Total | B18: =SUM(B6:B9) -> 0.088928027 | C18: =SUM(C6:C9) -> 0.095868238 | D18: =SUM(D6:D9) -> 0.088851498 | E18: =SUM(E6:E9) -> 0.083832744 | F18: =SUM(F6:F9) -> 0.075100032 | G18: =SUM(G6:G9) -> 0.10333154 | H18: =SUM(H6:H9) -> 0.1380595 | I18: =SUM(I6:I9) -> 0.065934176 | ... AL18: =SUM(AL6:AL9) -> 0.075945399 | AM18: Total | AN18: =AVERAGE(B18:E18) -> 0.089370127 | AO18: =AVERAGE(F18:I18) -> 0.095606312 | AP18: =AVERAGE(J18:P18) -> 0.083797118 | AQ18: =AVERAGE(Q18:S18) -> 0.080510835 | AR18: =AVERAGE(T18:W18) -> 0.080430478 | AS18: =AVERAGE(X18:AC18) -> 0.082610008 | AT18: =AVERAGE(AD18:AF18) -> 0.086341697 | AU18: =AVERAGE(AG18:AI18) -> 0.085073187 | AV18: =AVERAGE(AJ18:AL18) -> 0.078213457 | AX18: =STDEV(B18:E18) -> 0.004944778 | AY18: =STDEV(F18:I18) -> 0.032469963 | AZ18: =STDEV(J18:P18) -> 0.018239484 | BA18: =STDEV(Q18:S18) -> 0.011035585 | BB18: =STDEV(T18:W18) -> 0.018681441 | BC18: =STDEV(X18:AC18) -> 0.018914522 | BD18: =STDEV(AD18:AF18) -> 0.0028293288 | BE18: =STDEV(AG18:AI18) -> 0.01043286 | BF18: =STDEV(AJ18:AL18) -> 0.0088700019 | BH18: =AX18/SQRT(4) -> 0.002472389 | BI18: =AY18/SQRT(4) -> 0.016234982 | BJ18: =AZ18/SQRT(7) -> 0.0068938768 | BK18: =BA18/SQRT(3) -> 0.0063713977 | BL18: =BB18/SQRT(4) -> 0.0093407207 | BM18: =BC18/SQRT(6) -> 0.0077218215 | BN18: =BD18/SQRT(3) -> 0.0016335137 | BO18: =BE18/SQRT(3) -> 0.0060234145 | BP18: =BF18/SQRT(3) -> 0.005121098
A19: Number of Species | B19: =COUNTIF(B6:B9, ">0") -> 4 | C19: =COUNTIF(C6:C9, ">0") -> 4 | D19: =COUNTIF(D6:D9, ">0") -> 4 | E19: =COUNTIF(E6:E9, ">0") -> 4 | F19: =COUNTIF(F6:F9, ">0") -> 4 | G19: =COUNTIF(G6:G9, ">0") -> 4 | H19: =COUNTIF(H6:H9, ">0") -> 4 | I19: =COUNTIF(I6:I9, ">0") -> 4 | ... AL19: =COUNTIF(AL6:AL9, ">0") -> 4 | AM19: Number of Species | AN19: =AVERAGE(B19:E19) -> 4 | AO19: =AVERAGE(F19:I19) -> 4 | AP19: =AVERAGE(J19:P19) -> 4 | AQ19: =AVERAGE(Q19:S19) -> 4 | AR19: =AVERAGE(T19:W19) -> 4 | AS19: =AVERAGE(X19:AC19) -> 4 | AT19: =AVERAGE(AD19:AF19) -> 4 | AU19: =AVERAGE(AG19:AI19) -> 4 | AV19: =AVERAGE(AJ19:AL19) -> 4 | AX19: =STDEV(B19:E19) -> 0 | AY19: =STDEV(F19:I19) -> 0 | AZ19: =STDEV(J19:P19) -> 0 | BA19: =STDEV(Q19:S19) -> 0 | BB19: =STDEV(T19:W19) -> 0 | BC19: =STDEV(X19:AC19) -> 0 | BD19: =STDEV(AD19:AF19) -> 0 | BE19: =STDEV(AG19:AI19) -> 0 | BF19: =STDEV(AJ19:AL19) -> 0 | BH19: =AX19/SQRT(4) -> 0 | BI19: =AY19/SQRT(4) -> 0 | BJ19: =AZ19/SQRT(7) -> 0 | BK19: =BA19/SQRT(3) -> 0 | BL19: =BB19/SQRT(4) -> 0 | BM19: =BC19/SQRT(6) -> 0 | BN19: =BD19/SQRT(3) -> 0 | BO19: =BE19/SQRT(3) -> 0 | BP19: =BF19/SQRT(3) -> 0

Sheet DAG
A1: DAG
A2: - | B2: n=4 | F2: n=4 | K2: n=7 | Q2: n=3 | T2: n=4 | X2: n=6 | AD2: n=3 | AG2: n=3 | AJ2: n=3
A3: - | B3: PFC | Q3: Nac | AD3: vHipp | AN3: Average | AX3: StDev | BH3: StError
A4: Species | B4: PFC | C4: PFC | D4: PFC | E4: PFC | F4: PFC | G4: PFC | H4: PFC | I4: PFC | J4: PFC | K4: PFC | L4: PFC | M4: PFC | N4: PFC | O4: PFC | P4: PFC | Q4: Nac | R4: Nac | S4: Nac | T4: Nac | U4: Nac | V4: Nac | W4: Nac | X4: Nac | Y4: Nac | Z4: Nac | AA4: Nac | AB4: Nac | AC4: Nac | AD4: vHipp | AE4: vHipp | AF4: vHipp | AG4: vHipp | AH4: vHipp | AI4: vHipp | AJ4: vHipp | AK4: vHipp | AL4: vHipp | AN4: PFC | AQ4: Nac | AT4: vHipp | AX4: PFC | BA4: Nac | BD4: vHipp | BH4: PFC | BK4: Nac | BN4: vHipp
A5: - | B5: Control | C5: Control | D5: Control | E5: Control | F5: Susceptible | G5: Susceptible | H5: Susceptible | I5: Susceptible | J5: Resilient | K5: Resilient | L5: Resilient | M5: Resilient | N5: Resilient | O5: Resilient | P5: Resilient | Q5: Control | R5: Control | S5: Control | T5: Susceptible | U5: Susceptible | V5: Susceptible | W5: Susceptible | X5: Resilient | Y5: Resilient | Z5: Resilient | AA5: Resilient | AB5: Resilient | AC5: Resilient | AD5: Control | AE5: Control | AF5: Control | AG5: Susceptible | AH5: Susceptible | AI5: Susceptible | AJ5: Resilient | AK5: Resilient | AL5: Resilient | AN5: Control | AO5: Susceptible | AP5: Resilient | AQ5: Control | AR5: Susceptible | AS5: Resilient | AT5: Control | AU5: Susceptible | AV5: Resilient | AX5: Control | AY5: Susceptible | AZ5: Resilient | BA5: Control | BB5: Susceptible | BC5: Resilient | BD5: Control | BE5: Susceptible | BF5: Resilient | BH5: Control | BI5: Susceptible | BJ5: Resilient | BK5: Control | BL5: Susceptible | BM5: Resilient | BN5: Control | BO5: Susceptible | BP5: Resilient
A6: IS_DAG_17:1/17:1_ | B6: #N/A | C6: #N/A | D6: #N/A | E6: #N/A | F6: #N/A | G6: #N/A | H6: #N/A | I6: #N/A | J6: #N/A | K6: #N/A | L6: #N/A | M6: #N/A | N6: #N/A | O6: #N/A | P6: #N/A | Q6: #N/A | R6: #N/A | S6: #N/A | T6: #N/A | U6: #N/A | V6: #N/A | W6: #N/A | X6: #N/A | Y6: #N/A | Z6: #N/A | AA6: #N/A | AB6: #N/A | AC6: #N/A | AD6: #N/A | AE6: #N/A | AF6: #N/A | AG6: #N/A | AH6: #N/A | AI6: #N/A | AJ6: #N/A | AK6: #N/A | AL6: #N/A | AN6: =AVERAGE(B6:E6) -> #N/A | AO6: =AVERAGE(F6:I6) -> #N/A | AP6: =AVERAGE(J6:P6) -> #N/A | AQ6: =AVERAGE(Q6:S6) -> #N/A | AR6: =AVERAGE(T6:W6) -> #N/A | AS6: =AVERAGE(X6:AC6) -> #N/A | AT6: =AVERAGE(AD6:AF6) -> #N/A | AU6: =AVERAGE(AG6:AI6) -> #N/A | AV6: =AVERAGE(AJ6:AL6) -> #N/A | AX6: =STDEV(B6:E6) -> #N/A | AY6: =STDEV(F6:I6) -> #N/A | AZ6: =STDEV(J6:P6) -> #N/A | BA6: =STDEV(Q6:S6) -> #N/A | BB6: =STDEV(T6:W6) -> #N/A | BC6: =STDEV(X6:AC6) -> #N/A | BD6: =STDEV(AD6:AF6) -> #N/A | BE6: =STDEV(AG6:AI6) -> #N/A | BF6: =STDEV(AJ6:AL6) -> #N/A | BH6: =AX6/SQRT(4) -> #N/A | BI6: =AY6/SQRT(4) -> #N/A | BJ6: =AZ6/SQRT(7) -> #N/A | BK6: =BA6/SQRT(3) -> #N/A | BL6: =BB6/SQRT(4) -> #N/A | BM6: =BC6/SQRT(6) -> #N/A | BN6: =BD6/SQRT(3) -> #N/A | BO6: =BE6/SQRT(3) -> #N/A | BP6: =BF6/SQRT(3) -> #N/A
A7: DAG_28:2+NH4_ | B7: 0.0077708825 | C7: 0 | D7: 0.0013677965 | E7: 0.00388057 | F7: 0.003213992 | G7: 0 | H7: 0.0071702338 | I7: 0 | J7: 0 | K7: 0.0074012617 | L7: 0 | M7: 0.013367176 | N7: 0.0039664693 | O7: 0.00941672 | P7: 0.00053683145 | Q7: 0 | R7: 0 | S7: 0 | T7: 0 | U7: 0 | V7: 0.0074066373 | W7: 0.0015224528 | X7: 0.013378294 | Y7: 0.007476966 | Z7: 0.0020056887 | AA7: 0.0061583166 | AB7: 0 | AC7: 0.0014405945 | AD7: 0.0087055596 | AE7: 0 | AF7: 0.0038360791 | AG7: 0 | AH7: 0 | AI7: 0 | AJ7: 0.0054407091 | AK7: 0.0033879961 | AL7: 0 | AN7: =AVERAGE(B7:E7) -> 0.0032548122 | AO7: =AVERAGE(F7:I7) -> 0.0025960565 | AP7: =AVERAGE(J7:P7) -> 0.004955494 | AQ7: =AVERAGE(Q7:S7) -> 0 | AR7: =AVERAGE(T7:W7) -> 0.0022322725 | AS7: =AVERAGE(X7:AC7) -> 0.0050766433 | AT7: =AVERAGE(AD7:AF7) -> 0.0041805462 | AU7: =AVERAGE(AG7:AI7) -> 0 | AV7: =AVERAGE(AJ7:AL7) -> 0.0029429017 | AX7: =STDEV(B7:E7) -> 0.0034127747 | AY7: =STDEV(F7:I7) -> 0.0034050923 | AZ7: =STDEV(J7:P7) -> 0.0052639861 | BA7: =STDEV(Q7:S7) -> 0 | BB7: =STDEV(T7:W7) -> 0.0035234442 | BC7: =STDEV(X7:AC7) -> 0.0049854366 | BD7: =STDEV(AD7:AF7) -> 0.0043629904 | BE7: =STDEV(AG7:AI7) -> 0 | BF7: =STDEV(AJ7:AL7) -> 0.0027475281 | BH7: =AX7/SQRT(4) -> 0.0017063874 | BI7: =AY7/SQRT(4) -> 0.0017025462 | BJ7: =AZ7/SQRT(7) -> 0.0019895997 | BK7: =BA7/SQRT(3) -> 0 | BL7: =BB7/SQRT(4) -> 0.0017617221 | BM7: =BC7/SQRT(6) -> 0.002035296 | BN7: =BD7/SQRT(3) -> 0.0025189737 | BO7: =BE7/SQRT(3) -> 0 | BP7: =BF7/SQRT(3) -> 0.0015862861
A8: DAG_28:1+NH4_ | B8: 0 | C8: 0 | D8: 0.0060427061 | E8: 0.011233261 | F8: 0.006280879 | G8: 0 | H8: 0.022548119 | I8: 0.0093239004 | J8: 0.026773194 | K8: 0.0011928511 | L8: 0.016244559 | M8: 0.0031396194 | N8: 0.0042817653 | O8: 0.010981003 | P8: 0.0029571805 | Q8: 0.0026411533 | R8: 0 | S8: 0.011370799 | T8: 0.0066192771 | U8: 0 | V8: 0.018620348 | W8: 0.0022498281 | X8: 0.009120435 | Y8: 0.013202728 | Z8: 0 | AA8: 0.0033585543 | AB8: 0 | AC8: 0.00168527 | AD8: 0.0047005315 | AE8: 0.0068127091 | AF8: 0 | AG8: 0 | AH8: 0.0074350669 | AI8: 0.01053538 | AJ8: 0.0058426557 | AK8: 0 | AL8: 0.0031367524 | AN8: =AVERAGE(B8:E8) -> 0.0043189917 | AO8: =AVERAGE(F8:I8) -> 0.0095382246 | AP8: =AVERAGE(J8:P8) -> 0.0093671674 | AQ8: =AVERAGE(Q8:S8) -> 0.0046706509 | AR8: =AVERAGE(T8:W8) -> 0.0068723633 | AS8: =AVERAGE(X8:AC8) -> 0.0045611646 | AT8: =AVERAGE(AD8:AF8) -> 0.0038377469 | AU8: =AVERAGE(AG8:AI8) -> 0.0059901491 | AV8: =AVERAGE(AJ8:AL8) -> 0.002993136 | AX8: =STDEV(B8:E8) -> 0.0054186618 | AY8: =STDEV(F8:I8) -> 0.0095024789 | AZ8: =STDEV(J8:P8) -> 0.0093579181 | BA8: =STDEV(Q8:S8) -> 0.0059508751 | BB8: =STDEV(T8:W8) -> 0.0083001287 | BC8: =STDEV(X8:AC8) -> 0.0054182848 | BD8: =STDEV(AD8:AF8) -> 0.0034873413 | BE8: =STDEV(AG8:AI8) -> 0.0054142775 | BF8: =STDEV(AJ8:AL8) -> 0.0029239743 | BH8: =AX8/SQRT(4) -> 0.0027093309 | BI8: =AY8/SQRT(4) -> 0.0047512395 | BJ8: =AZ8/SQRT(7) -> 0.0035369606 | BK8: =BA8/SQRT(3) -> 0.0034357394 | BL8: =BB8/SQRT(4) -> 0.0041500643 | BM8: =BC8/SQRT(6) -> 0.0022120055 | BN8: =BD8/SQRT(3) -> 0.0020134174 | BO8: =BE8/SQRT(3) -> 0.0031259346 | BP8: =BF8/SQRT(3) -> 0.0016881573
A9: DAG_28:0+NH4_ | B9: 0.13386261 | C9: 0.17914068 | D9: 0.15214918 | E9: 0.084852318 | F9: 0.19243749 | G9: 0.17428047 | H9: 0.14615235 | I9: 0.14428687 | J9: 0.11814455 | K9: 0.16406997 | L9: 0.19580324 | M9: 0.12555494 | N9: 0.089384576 | O9: 0.14463018 | P9: 0.12009828 | Q9: 0.15266859 | R9: 0.19061326 | S9: 0.19046877 | T9: 0.1503521 | U9: 0.098147621 | V9: 0.098288418 | W9: 0.12308616 | X9: 0.1281066 | Y9: 0.089979123 | Z9: 0.37169953 | AA9: 0.15352449 | AB9: 0.11694452 | AC9: 0.12058996 | AD9: 0.1131753 | AE9: 0.10702927 | AF9: 0.10253958 | AG9: 0.11419427 | AH9: 0.17974245 | AI9: 0.14421002 | AJ9: 0.1419917 | AK9: 0.13814654 | AL9: 0.12028569 | AN9: =AVERAGE(B9:E9) -> 0.1375012 | AO9: =AVERAGE(F9:I9) -> 0.16428929 | AP9: =AVERAGE(J9:P9) -> 0.13681225 | AQ9: =AVERAGE(Q9:S9) -> 0.17791687 | AR9: =AVERAGE(T9:W9) -> 0.11746857 | AS9: =AVERAGE(X9:AC9) -> 0.16347404 | AT9: =AVERAGE(AD9:AF9) -> 0.10758138 | AU9: =AVERAGE(AG9:AI9) -> 0.14604891 | AV9: =AVERAGE(AJ9:AL9) -> 0.13347464 | AX9: =STDEV(B9:E9) -> 0.039722177 | AY9: =STDEV(F9:I9) -> 0.023246436 | AZ9: =STDEV(J9:P9) -> 0.03485205 | BA9: =STDEV(Q9:S9) -> 0.021865777 | BB9: =STDEV(T9:W9) -> 0.024860016 | BC9: =STDEV(X9:AC9) -> 0.10403196 | BD9: =STDEV(AD9:AF9) -> 0.0053393096 | BE9: =STDEV(AG9:AI9) -> 0.032812758 | BF9: =STDEV(AJ9:AL9) -> 0.011582646 | BH9: =AX9/SQRT(4) -> 0.019861089 | BI9: =AY9/SQRT(4) -> 0.011623218 | BJ9: =AZ9/SQRT(7) -> 0.013172837 | BK9: =BA9/SQRT(3) -> 0.012624212 | BL9: =BB9/SQRT(4) -> 0.012430008 | BM9: =BC9/SQRT(6) -> 0.042470871 | BN9: =BD9/SQRT(3) -> 0.0030826518 | BO9: =BE9/SQRT(3) -> 0.018944455 | BP9: =BF9/SQRT(3) -> 0.006687244
A10: DAG_30:2+NH4_ | B10: 0 | C10: 0.038132105 | D10: 0.0033896552 | E10: 0.024689252 | F10: 0.010845669 | G10: 0 | H10: 0.054605476 | I10: 0.0075836191 | J10: 0.013293395 | K10: 0.0083704241 | L10: 0.038195835 | M10: 0.015782411 | N10: 0.0043694329 | O10: 0.014128743 | P10: 0.017575923 | Q10: 0.0078640739 | R10: 0.023409339 | S10: 0.018463258 | T10: 0.0040393639 | U10: 0.0052998735 | V10: 0.014657575 | W10: 0.0016555296 | X10: 0.00074824458 | Y10: 0.007476966 | Z10: 0.012953301 | AA10: 0.013472301 | AB10: 0.015514466 | AC10: 0.0036421376 | AD10: 0 | AE10: 0.0069764893 | AF10: 0.0093362972 | AG10: 0 | AH10: 0.029946025 | AI10: 0.019369166 | AJ10: 0 | AK10: 0.014089717 | AL10: 0.0045911885 | AN10: =AVERAGE(B10:E10) -> 0.016552753 | AO10: =AVERAGE(F10:I10) -> 0.018258691 | AP10: =AVERAGE(J10:P10) -> 0.015959452 | AQ10: =AVERAGE(Q10:S10) -> 0.01657889 | AR10: =AVERAGE(T10:W10) -> 0.0064130856 | AS10: =AVERAGE(X10:AC10) -> 0.0089679026 | AT10: =AVERAGE(AD10:AF10) -> 0.0054375955 | AU10: =AVERAGE(AG10:AI10) -> 0.016438397 | AV10: =AVERAGE(AJ10:AL10) -> 0.0062269686 | AX10: =STDEV(B10:E10) -> 0.018065914 | AY10: =STDEV(F10:I10) -> 0.024653456 | AZ10: =STDEV(J10:P10) -> 0.01079724 | BA10: =STDEV(Q10:S10) -> 0.0079420996 | BB10: =STDEV(T10:W10) -> 0.005700285 | BC10: =STDEV(X10:AC10) -> 0.0059528134 | BD10: =STDEV(AD10:AF10) -> 0.0048546634 | BE10: =STDEV(AG10:AI10) -> 0.015186611 | BF10: =STDEV(AJ10:AL10) -> 0.0071858796 | BH10: =AX10/SQRT(4) -> 0.0090329572 | BI10: =AY10/SQRT(4) -> 0.012326728 | BJ10: =AZ10/SQRT(7) -> 0.004080973 | BK10: =BA10/SQRT(3) -> 0.0045853733 | BL10: =BB10/SQRT(4) -> 0.0028501425 | BM10: =BC10/SQRT(6) -> 0.0024302259 | BN10: =BD10/SQRT(3) -> 0.0028028412 | BO10: =BE10/SQRT(3) -> 0.008767994 | BP10: =BF10/SQRT(3) -> 0.0041487695
A11: DAG_30:1+NH4_ | B11: 0.022237893 | C11: 0.032576959 | D11: 0.039483632 | E11: 0.040763063 | F11: 0.030839482 | G11: 0.010879654 | H11: 0.08688227 | I11: 0.041059696 | J11: 0.10767947 | K11: 0.067583652 | L11: 0.083386671 | M11: 0.044838124 | N11: 0.058519206 | O11: 0.056359979 | P11: 0.070266835 | Q11: 0.0075024049 | R11: 0.016630724 | S11: 0.065522474 | T11: 0.022663724 | U11: 0.053916306 | V11: 0.071101952 | W11: 0.019954761 | X11: 0.053160132 | Y11: 0.073755138 | Z11: 0.0763462 | AA11: 0.028876971 | AB11: 0.034212954 | AC11: 0.011357264 | AD11: 0.034044036 | AE11: 0.076522527 | AF11: 0.052273557 | AG11: 0.012441199 | AH11: 0.055199085 | AI11: 0.049300127 | AJ11: 0.049183485 | AK11: 0.023145009 | AL11: 0.075537482 | AN11: =AVERAGE(B11:E11) -> 0.033765387 | AO11: =AVERAGE(F11:I11) -> 0.042415275 | AP11: =AVERAGE(J11:P11) -> 0.069804849 | AQ11: =AVERAGE(Q11:S11) -> 0.029885201 | AR11: =AVERAGE(T11:W11) -> 0.041909186 | AS11: =AVERAGE(X11:AC11) -> 0.046284776 | AT11: =AVERAGE(AD11:AF11) -> 0.05428004 | AU11: =AVERAGE(AG11:AI11) -> 0.038980137 | AV11: =AVERAGE(AJ11:AL11) -> 0.049288659 | AX11: =STDEV(B11:E11) -> 0.0084845204 | AY11: =STDEV(F11:I11) -> 0.032185119 | AZ11: =STDEV(J11:P11) -> 0.020638023 | BA11: =STDEV(Q11:S11) -> 0.031198445 | BB11: =STDEV(T11:W11) -> 0.024824538 | BC11: =STDEV(X11:AC11) -> 0.025977961 | BD11: =STDEV(AD11:AF11) -> 0.021310209 | BE11: =STDEV(AG11:AI11) -> 0.023171876 | BF11: =STDEV(AJ11:AL11) -> 0.026196395 | BH11: =AX11/SQRT(4) -> 0.0042422602 | BI11: =AY11/SQRT(4) -> 0.016092559 | BJ11: =AZ11/SQRT(7) -> 0.0078004394 | BK11: =BA11/SQRT(3) -> 0.018012431 | BL11: =BB11/SQRT(4) -> 0.012412269 | BM11: =BC11/SQRT(6) -> 0.010605458 | BN11: =BD11/SQRT(3) -> 0.012303455 | BO11: =BE11/SQRT(3) -> 0.013378289 | BP11: =BF11/SQRT(3) -> 0.015124496
A12: DAG_30:0+NH4_ | B12: 0.076360642 | C12: 0.12876773 | D12: 0.057909486 | E12: 0.045900354 | F12: 0.045729307 | G12: 0.057198708 | H12: 0.15669015 | I12: 0.057973617 | J12: 0.059065687 | K12: 0.10318999 | L12: 0.13301298 | M12: 0.071655906 | N12: 0.051423157 | O12: 0.095670395 | P12: 0.096071058 | Q12: 0.081455527 | R12: 0.1082223 | S12: 0.11287462 | T12: 0.076295406 | U12: 0.052960136 | V12: 0.091787553 | W12: 0.037356165 | X12: 0.069734604 | Y12: 0.083543077 | Z12: 0.093924043 | AA12: 0.060566086 | AB12: 0.044555392 | AC12: 0.053149874 | AD12: 0.091518966 | AE12: 0.10237749 | AF12: 0.057470609 | AG12: 0.090915874 | AH12: 0.17980734 | AI12: 0.070220463 | AJ12: 0.04964989 | AK12: 0.070136103 | AL12: 0.065839496 | AN12: =AVERAGE(B12:E12) -> 0.077234554 | AO12: =AVERAGE(F12:I12) -> 0.079397946 | AP12: =AVERAGE(J12:P12) -> 0.087155595 | AQ12: =AVERAGE(Q12:S12) -> 0.10085082 | AR12: =AVERAGE(T12:W12) -> 0.064599815 | AS12: =AVERAGE(X12:AC12) -> 0.067578846 | AT12: =AVERAGE(AD12:AF12) -> 0.08378902 | AU12: =AVERAGE(AG12:AI12) -> 0.11364789 | AV12: =AVERAGE(AJ12:AL12) -> 0.061875163 | AX12: =STDEV(B12:E12) -> 0.036568305 | AY12: =STDEV(F12:I12) -> 0.051831362 | AZ12: =STDEV(J12:P12) -> 0.028337486 | BA12: =STDEV(Q12:S12) -> 0.016957121 | BB12: =STDEV(T12:W12) -> 0.024177527 | BC12: =STDEV(X12:AC12) -> 0.018660262 | BD12: =STDEV(AD12:AF12) -> 0.023430129 | BE12: =STDEV(AG12:AI12) -> 0.05822267 | BF12: =STDEV(AJ12:AL12) -> 0.010803156 | BH12: =AX12/SQRT(4) -> 0.018284152 | BI12: =AY12/SQRT(4) -> 0.025915681 | BJ12: =AZ12/SQRT(7) -> 0.010710563 | BK12: =BA12/SQRT(3) -> 0.0097901982 | BL12: =BB12/SQRT(4) -> 0.012088764 | BM12: =BC12/SQRT(6) -> 0.0076180199 | BN12: =BD12/SQRT(3) -> 0.013527391 | BO12: =BE12/SQRT(3) -> 0.033614874 | BP12: =BF12/SQRT(3) -> 0.0062372052
A13: DAG_32:4+NH4_ | B13: 0 | C13: 0 | D13: 0 | E13: 0 | F13: 0 | G13: 0 | H13: 0 | I13: 0 | J13: 0 | K13: 0 | L13: 0 | M13: 0 | N13: 0 | O13: 0 | P13: 0 | Q13: 0 | R13: 0 | S13: 0 | T13: 0 | U13: 0 | V13: 0 | W13: 0 | X13: 0 | Y13: 0 | Z13: 0 | AA13: 0 | AB13: 0 | AC13: 0 | AD13: 0 | AE13: 0 | AF13: 0 | AG13: 0 | AH13: 0 | AI13: 0 | AJ13: 0 | AK13: 0.0017684845 | AL13: 0 | AN13: =AVERAGE(B13:E13) -> 0 | AO13: =AVERAGE(F13:I13) -> 0 | AP13: =AVERAGE(J13:P13) -> 0 | AQ13: =AVERAGE(Q13:S13) -> 0 | AR13: =AVERAGE(T13:W13) -> 0 | AS13: =AVERAGE(X13:AC13) -> 0 | AT13: =AVERAGE(AD13:AF13) -> 0 | AU13: =AVERAGE(AG13:AI13) -> 0 | AV13: =AVERAGE(AJ13:AL13) -> 0.00058949482 | AX13: =STDEV(B13:E13) -> 0 | AY13: =STDEV(F13:I13) -> 0 | AZ13: =STDEV(J13:P13) -> 0 | BA13: =STDEV(Q13:S13) -> 0 | BB13: =STDEV(T13:W13) -> 0 | BC13: =STDEV(X13:AC13) -> 0 | BD13: =STDEV(AD13:AF13) -> 0 | BE13: =STDEV(AG13:AI13) -> 0 | BF13: =STDEV(AJ13:AL13) -> 0.001021035 | BH13: =AX13/SQRT(4) -> 0 | BI13: =AY13/SQRT(4) -> 0 | BJ13: =AZ13/SQRT(7) -> 0 | BK13: =BA13/SQRT(3) -> 0 | BL13: =BB13/SQRT(4) -> 0 | BM13: =BC13/SQRT(6) -> 0 | BN13: =BD13/SQRT(3) -> 0 | BO13: =BE13/SQRT(3) -> 0 | BP13: =BF13/SQRT(3) -> 0.00058949482
A14: DAG_32:3+NH4_ | B14: 0 | C14: 0 | D14: 0.0014437318 | E14: 0.0028197518 | F14: 0 | G14: 0 | H14: 0.02359169 | I14: 0.0048327688 | J14: 0 | K14: 0 | L14: 0.026410135 | M14: 0.0071943927 | N14: 0.0043694329 | O14: 0.0079425749 | P14: 0.0014528293 | Q14: 0 | R14: 0 | S14: 0 | T14: 0.0074093062 | U14: 0.00083687445 | V14: 0.0015273397 | W14: 0 | X14: 0 | Y14: 0 | Z14: 0 | AA14: 0 | AB14: 0.0034127891 | AC14: 0 | AD14: 0.0032552708 | AE14: 0 | AF14: 0.0020291101 | AG14: 0 | AH14: 0.0017083432 | AI14: 0.00096557897 | AJ14: 0.0060072401 | AK14: 0.0067759921 | AL14: 0.0091974107 | AN14: =AVERAGE(B14:E14) -> 0.0010658709 | AO14: =AVERAGE(F14:I14) -> 0.0071061146 | AP14: =AVERAGE(J14:P14) -> 0.0067670521 | AQ14: =AVERAGE(Q14:S14) -> 0 | AR14: =AVERAGE(T14:W14) -> 0.0024433801 | AS14: =AVERAGE(X14:AC14) -> 0.00056879819 | AT14: =AVERAGE(AD14:AF14) -> 0.0017614603 | AU14: =AVERAGE(AG14:AI14) -> 0.00089130739 | AV14: =AVERAGE(AJ14:AL14) -> 0.007326881 | AX14: =STDEV(B14:E14) -> 0.0013529029 | AY14: =STDEV(F14:I14) -> 0.011224022 | AZ14: =STDEV(J14:P14) -> 0.0092465373 | BA14: =STDEV(Q14:S14) -> 0 | BB14: =STDEV(T14:W14) -> 0.0033690017 | BC14: =STDEV(X14:AC14) -> 0.0013932653 | BD14: =STDEV(AD14:AF14) -> 0.0016440573 | BE14: =STDEV(AG14:AI14) -> 0.00085658994 | BF14: =STDEV(AJ14:AL14) -> 0.0016649042 | BH14: =AX14/SQRT(4) -> 0.00067645144 | BI14: =AY14/SQRT(4) -> 0.005612011 | BJ14: =AZ14/SQRT(7) -> 0.0034948626 | BK14: =BA14/SQRT(3) -> 0 | BL14: =BB14/SQRT(4) -> 0.0016845009 | BM14: =BC14/SQRT(6) -> 0.00056879819 | BN14: =BD14/SQRT(3) -> 0.00094919691 | BO14: =BE14/SQRT(3) -> 0.00049455243 | BP14: =BF14/SQRT(3) -> 0.00096123288
A15: DAG_32:2+NH4_ | B15: 0.027555796 | C15: 0.018345226 | D15: 0.027528312 | E15: 0.055134494 | F15: 0.026973757 | G15: 0.03798925 | H15: 0.081867074 | I15: 0.042781228 | J15: 0.051427459 | K15: 0.032154231 | L15: 0.011109649 | M15: 0.039026702 | N15: 0.014509262 | O15: 0.021982885 | P15: 0.041030373 | Q15: 0.024728833 | R15: 0.032397897 | S15: 0.076490306 | T15: 0.0094276085 | U15: 0.042160226 | V15: 0.038121721 | W15: 0.015747044 | X15: 0.03285217 | Y15: 0.098998651 | Z15: 0.067427403 | AA15: 0.012201351 | AB15: 0.037980648 | AC15: 0.01616503 | AD15: 0.031298447 | AE15: 0.039190553 | AF15: 0.045847026 | AG15: 0.038229029 | AH15: 0.06306376 | AI15: 0.029747816 | AJ15: 0.071026752 | AK15: 0.035076427 | AL15: 0.022943854 | AN15: =AVERAGE(B15:E15) -> 0.032140957 | AO15: =AVERAGE(F15:I15) -> 0.047402827 | AP15: =AVERAGE(J15:P15) -> 0.030177223 | AQ15: =AVERAGE(Q15:S15) -> 0.044539012 | AR15: =AVERAGE(T15:W15) -> 0.02636415 | AS15: =AVERAGE(X15:AC15) -> 0.044270876 | AT15: =AVERAGE(AD15:AF15) -> 0.038778675 | AU15: =AVERAGE(AG15:AI15) -> 0.043680202 | AV15: =AVERAGE(AJ15:AL15) -> 0.043015678 | AX15: =STDEV(B15:E15) -> 0.015930318 | AY15: =STDEV(F15:I15) -> 0.023910289 | AZ15: =STDEV(J15:P15) -> 0.014876098 | BA15: =STDEV(Q15:S15) -> 0.027935059 | BB15: =STDEV(T15:W15) -> 0.01620006 | BC15: =STDEV(X15:AC15) -> 0.033225595 | BD15: =STDEV(AD15:AF15) -> 0.0072830299 | BE15: =STDEV(AG15:AI15) -> 0.017313997 | BF15: =STDEV(AJ15:AL15) -> 0.0250053 | BH15: =AX15/SQRT(4) -> 0.0079651592 | BI15: =AY15/SQRT(4) -> 0.011955145 | BJ15: =AZ15/SQRT(7) -> 0.0056226366 | BK15: =BA15/SQRT(3) -> 0.016128314 | BL15: =BB15/SQRT(4) -> 0.0081000301 | BM15: =BC15/SQRT(6) -> 0.013564292 | BN15: =BD15/SQRT(3) -> 0.0042048593 | BO15: =BE15/SQRT(3) -> 0.0099962411 | BP15: =BF15/SQRT(3) -> 0.014436817
A16: DAG_32:1+NH4_ | B16: 0.041258658 | C16: 0.15905375 | D16: 0.094007296 | E16: 0.12667291 | F16: 0.10453578 | G16: 0.068830164 | H16: 0.24236584 | I16: 0.12166261 | J16: 0.1703254 | K16: 0.19437223 | L16: 0.17211901 | M16: 0.085982765 | N16: 0.10767354 | O16: 0.087388976 | P16: 0.19593398 | Q16: 0.12752307 | R16: 0.096391981 | S16: 0.28937677 | T16: 0.068274909 | U16: 0.15640282 | V16: 0.13003998 | W16: 0.076896458 | X16: 0.22559843 | Y16: 0.19436701 | Z16: 0.29593823 | AA16: 0.11029304 | AB16: 0.096429478 | AC16: 0.060289521 | AD16: 0.080579454 | AE16: 0.19481886 | AF16: 0.15043553 | AG16: 0.18179742 | AH16: 0.25314503 | AI16: 0.11502662 | AJ16: 0.16591389 | AK16: 0.062029609 | AL16: 0.11719273 | AN16: =AVERAGE(B16:E16) -> 0.10524815 | AO16: =AVERAGE(F16:I16) -> 0.1343486 | AP16: =AVERAGE(J16:P16) -> 0.14482799 | AQ16: =AVERAGE(Q16:S16) -> 0.17109727 | AR16: =AVERAGE(T16:W16) -> 0.10790354 | AS16: =AVERAGE(X16:AC16) -> 0.16381929 | AT16: =AVERAGE(AD16:AF16) -> 0.14194461 | AU16: =AVERAGE(AG16:AI16) -> 0.18332302 | AV16: =AVERAGE(AJ16:AL16) -> 0.11504541 | AX16: =STDEV(B16:E16) -> 0.050249626 | AY16: =STDEV(F16:I16) -> 0.075299687 | AZ16: =STDEV(J16:P16) -> 0.049335291 | BA16: =STDEV(Q16:S16) -> 0.10360895 | BB16: =STDEV(T16:W16) -> 0.042324421 | BC16: =STDEV(X16:AC16) -> 0.089811024 | BD16: =STDEV(AD16:AF16) -> 0.057591076 | BE16: =STDEV(AG16:AI16) -> 0.069071844 | BF16: =STDEV(AJ16:AL16) -> 0.051975419 | BH16: =AX16/SQRT(4) -> 0.025124813 | BI16: =AY16/SQRT(4) -> 0.037649844 | BJ16: =AZ16/SQRT(7) -> 0.018646987 | BK16: =BA16/SQRT(3) -> 0.059818657 | BL16: =BB16/SQRT(4) -> 0.02116221 | BM16: =BC16/SQRT(6) -> 0.036665197 | BN16: =BD16/SQRT(3) -> 0.033250223 | BO16: =BE16/SQRT(3) -> 0.039878648 | BP16: =BF16/SQRT(3) -> 0.030008022
A17: DAG_32:0+NH4_ | B17: 1.1396311 | C17: 0.86875582 | D17: 0.70691251 | E17: 0.79742212 | F17: 0.88647604 | G17: 1.0618081 | H17: 1.1830199 | I17: 0.84676113 | J17: 1.0816773 | K17: 1.0989331 | L17: 1.0662421 | M17: 0.76136978 | N17: 0.75139185 | O17: 0.81536646 | P17: 0.70704245 | Q17: 1.1958826 | R17: 0.96738159 | S17: 0.89401736 | T17: 1.0335542 | U17: 0.68951273 | V17: 0.7340377 | W17: 0.7877137 | X17: 1.1191129 | Y17: 1.0530451 | Z17: 1.1172396 | AA17: 0.7704086 | AB17: 0.67375777 | AC17: 0.52034551 | AD17: 1.0138967 | AE17: 0.92776713 | AF17: 0.70502438 | AG17: 0.80715515 | AH17: 0.78405953 | AI17: 0.82628196 | AJ17: 1.0587034 | AK17: 0.74879491 | AL17: 0.60060082 | AN17: =AVERAGE(B17:E17) -> 0.87818039 | AO17: =AVERAGE(F17:I17) -> 0.99451631 | AP17: =AVERAGE(J17:P17) -> 0.89743187 | AQ17: =AVERAGE(Q17:S17) -> 1.0190939 | AR17: =AVERAGE(T17:W17) -> 0.81120457 | AS17: =AVERAGE(X17:AC17) -> 0.87565157 | AT17: =AVERAGE(AD17:AF17) -> 0.88222939 | AU17: =AVERAGE(AG17:AI17) -> 0.80583221 | AV17: =AVERAGE(AJ17:AL17) -> 0.8026997 | AX17: =STDEV(B17:E17) -> 0.18645812 | AY17: =STDEV(F17:I17) -> 0.15659513 | AZ17: =STDEV(J17:P17) -> 0.17600638 | BA17: =STDEV(Q17:S17) -> 0.15743657 | BB17: =STDEV(T17:W17) -> 0.15357386 | BC17: =STDEV(X17:AC17) -> 0.25580704 | BD17: =STDEV(AD17:AF17) -> 0.15939193 | BE17: =STDEV(AG17:AI17) -> 0.021142278 | BF17: =STDEV(AJ17:AL17) -> 0.2337601 | BH17: =AX17/SQRT(4) -> 0.093229061 | BI17: =AY17/SQRT(4) -> 0.078297563 | BJ17: =AZ17/SQRT(7) -> 0.066524159 | BK17: =BA17/SQRT(3) -> 0.090896048 | BL17: =BB17/SQRT(4) -> 0.076786931 | BM17: =BC17/SQRT(6) -> 0.10443279 | BN17: =BD17/SQRT(3) -> 0.092024971 | BO17: =BE17/SQRT(3) -> 0.0122065 | BP17: =BF17/SQRT(3) -> 0.13496145
A18: DAG_34:4+NH4_ | B18: 0.0066449079 | C18: 0 | D18: 0.0078920066 | E18: 0 | F18: 0.0069402111 | G18: 0 | H18: 0 | I18: 0 | J18: 0 | K18: 0 | L18: 0.020671198 | M18: 0.0060297068 | N18: 0 | O18: 0.0026742961 | P18: 0.0047198172 | Q18: 0.0022980708 | R18: 0.01469742 | S18: 0 | T18: 0 | U18: 0.019178337 | V18: 0.01099422 | W18: 0.0069261082 | X18: 0.012023244 | Y18: 0.006377293 | Z18: 0 | AA18: 0.0085408202 | AB18: 0.0065489689 | AC18: 0.0018877405 | AD18: 0 | AE18: 0.0054992442 | AF18: 0.0071760782 | AG18: 0 | AH18: 0 | AI18: 0.0058464495 | AJ18: 0.011460182 | AK18: 0.0097994402 | AL18: 0.0038025504 | AN18: =AVERAGE(B18:E18) -> 0.0036342286 | AO18: =AVERAGE(F18:I18) -> 0.0017350528 | AP18: =AVERAGE(J18:P18) -> 0.0048707169 | AQ18: =AVERAGE(Q18:S18) -> 0.0056651637 | AR18: =AVERAGE(T18:W18) -> 0.0092746663 | AS18: =AVERAGE(X18:AC18) -> 0.0058963444 | AT18: =AVERAGE(AD18:AF18) -> 0.0042251075 | AU18: =AVERAGE(AG18:AI18) -> 0.0019488165 | AV18: =AVERAGE(AJ18:AL18) -> 0.0083540576 | AX18: =STDEV(B18:E18) -> 0.0042272173 | AY18: =STDEV(F18:I18) -> 0.0034701055 | AZ18: =STDEV(J18:P18) -> 0.0073826051 | BA18: =STDEV(Q18:S18) -> 0.007906107 | BB18: =STDEV(T18:W18) -> 0.0080119644 | BC18: =STDEV(X18:AC18) -> 0.0043823546 | BD18: =STDEV(AD18:AF18) -> 0.0037538771 | BE18: =STDEV(AG18:AI18) -> 0.0033754492 | BF18: =STDEV(AJ18:AL18) -> 0.0040282353 | BH18: =AX18/SQRT(4) -> 0.0021136087 | BI18: =AY18/SQRT(4) -> 0.0017350528 | BJ18: =AZ18/SQRT(7) -> 0.0027903624 | BK18: =BA18/SQRT(3) -> 0.004564593 | BL18: =BB18/SQRT(4) -> 0.0040059822 | BM18: =BC18/SQRT(6) -> 0.0017890888 | BN18: =BD18/SQRT(3) -> 0.0021673019 | BO18: =BE18/SQRT(3) -> 0.0019488165 | BP18: =BF18/SQRT(3) -> 0.0023257027
... A61: TOTAL | B61: 4.1766048 | C61: 5.2026709 | D61: 4.2605431 | E61: 4.4376956 | F61: 4.8129824 | G61: 5.0274463 | H61: 6.1366935 | I61: 4.8951751 | J61: 4.480483 | K61: 5.8889077 | L61: 5.3786975 | M61: 4.4957595 | N61: 5.1693842 | O61: 4.3530026 | P61: 4.5259198 | Q61: 4.789804 | R61: 4.4884023 | S61: 5.8443765 | T61: 4.6090168 | U61: 4.1354187 | V61: 4.1634843 | W61: 4.6158681 | X61: 5.2085504 | Y61: 5.0085393 | Z61: 7.3918095 | AA61: 5.4088938 | AB61: 4.5268583 | AC61: 3.6188208 | AD61: 4.3412384 | AE61: 4.8456628 | AF61: 5.0141681 | AG61: 3.7926743 | AH61: 6.6424223 | AI61: 4.6462918 | AJ61: 4.5334804 | AK61: 3.9963349 | AL61: 3.9148775 | AN61: =AVERAGE(B61:E61) -> 4.5193786 | AO61: =AVERAGE(F61:I61) -> 5.2180743 | AP61: =AVERAGE(J61:P61) -> 4.8988792 | AQ61: =AVERAGE(Q61:S61) -> 5.0408609 | AR61: =AVERAGE(T61:W61) -> 4.380947 | AS61: =AVERAGE(X61:AC61) -> 5.193912 | AT61: =AVERAGE(AD61:AF61) -> 4.7336898 | AU61: =AVERAGE(AG61:AI61) -> 5.0271295 | AV61: =AVERAGE(AJ61:AL61) -> 4.1482309 | AX61: =STDEV(B61:E61) -> 0.46834823 | AY61: =STDEV(F61:I61) -> 0.6187524 | AZ61: =STDEV(J61:P61) -> 0.58568986 | BA61: =STDEV(Q61:S61) -> 0.71199629 | BB61: =STDEV(T61:W61) -> 0.26756801 | BC61: =STDEV(X61:AC61) -> 1.2519921 | BD61: =STDEV(AD61:AF61) -> 0.35016009 | BE61: =STDEV(AG61:AI61) -> 1.4625471 | BF61: =STDEV(AJ61:AL61) -> 0.33611259 | BH61: =AX61/SQRT(4) -> 0.23417412 | BI61: =AY61/SQRT(4) -> 0.3093762 | BJ61: =AZ61/SQRT(7) -> 0.22136996 | BK61: =BA61/SQRT(3) -> 0.41107125 | BL61: =BB61/SQRT(4) -> 0.13378401 | BM61: =BC61/SQRT(6) -> 0.51112363 | BN61: =BD61/SQRT(3) -> 0.20216502 | BO61: =BE61/SQRT(3) -> 0.84440194 | BP61: =BF61/SQRT(3) -> 0.1940547
A64: Saturated Sum | B64: =SUM(B59,B47,B29,B22,B17,B12,B9) -> 3.1031605 | C64: =SUM(C59,C47,C29,C22,C17,C12,C9) -> 3.1000955 | D64: =SUM(D59,D47,D29,D22,D17,D12,D9) -> 2.7752614 | E64: =SUM(E59,E47,E29,E22,E17,E12,E9) -> 2.7994597 | F64: =SUM(F59,F47,F29,F22,F17,F12,F9) -> 2.9159033 | G64: =SUM(G59,G47,G29,G22,G17,G12,G9) -> 3.2067912 | H64: =SUM(H59,H47,H29,H22,H17,H12,H9) -> 3.6627333 | I64: =SUM(I59,I47,I29,I22,I17,I12,I9) -> 3.1895648 | ... AL64: =SUM(AL59,AL47,AL29,AL22,AL17,AL12,AL9) -> 2.3914395 | AM64: Saturated Sum | AN64: =AVERAGE(B64:E64) -> 2.9444943 | AO64: =AVERAGE(F64:I64) -> 3.2437481 | AP64: =AVERAGE(J64:P64) -> 3.0160746 | AQ64: =AVERAGE(Q64:S64) -> 3.2525007 | AR64: =AVERAGE(T64:W64) -> 2.8538214 | AS64: =AVERAGE(X64:AC64) -> 3.053755 | AT64: =AVERAGE(AD64:AF64) -> 2.9343969 | AU64: =AVERAGE(AG64:AI64) -> 3.0572614 | AV64: =AVERAGE(AJ64:AL64) -> 2.6952365 | AX64: =STDEV(B64:E64) -> 0.18171543 | AY64: =STDEV(F64:I64) -> 0.30947936 | AZ64: =STDEV(J64:P64) -> 0.23444043 | BA64: =STDEV(Q64:S64) -> 0.29095167 | BB64: =STDEV(T64:W64) -> 0.24657003 | BC64: =STDEV(X64:AC64) -> 0.60201732 | BD64: =STDEV(AD64:AF64) -> 0.20469549 | BE64: =STDEV(AG64:AI64) -> 0.57762626 | BF64: =STDEV(AJ64:AL64) -> 0.28663358 | BH64: =AX64/SQRT(4) -> 0.090857714 | BI64: =AY64/SQRT(4) -> 0.15473968 | BJ64: =AZ64/SQRT(7) -> 0.088610155 | BK64: =BA64/SQRT(3) -> 0.16798102 | BL64: =BB64/SQRT(4) -> 0.12328502 | BM64: =BC64/SQRT(6) -> 0.24577254 | BN64: =BD64/SQRT(3) -> 0.118181 | BO64: =BE64/SQRT(3) -> 0.33349268 | BP64: =BF64/SQRT(3) -> 0.16548797
A65: Mono Sum | B65: =SUM(B58,B46,B36,B28,B21,B16,B11,B8) -> 0.4976478 | C65: =SUM(C58,C46,C36,C28,C21,C16,C11,C8) -> 1.2805162 | D65: =SUM(D58,D46,D36,D28,D21,D16,D11,D8) -> 0.84990053 | E65: =SUM(E58,E46,E36,E28,E21,E16,E11,E8) -> 0.82326971 | F65: =SUM(F58,F46,F36,F28,F21,F16,F11,F8) -> 1.18195 | G65: =SUM(G58,G46,G36,G28,G21,G16,G11,G8) -> 1.0805645 | H65: =SUM(H58,H46,H36,H28,H21,H16,H11,H8) -> 1.2936496 | I65: =SUM(I58,I46,I36,I28,I21,I16,I11,I8) -> 1.0150432 | ... AL65: =SUM(AL58,AL46,AL36,AL28,AL21,AL16,AL11,AL8) -> 0.75834456 | AM65: Mono Sum | AN65: =AVERAGE(B65:E65) -> 0.86283356 | AO65: =AVERAGE(F65:I65) -> 1.1428018 | AP65: =AVERAGE(J65:P65) -> 1.023224 | AQ65: =AVERAGE(Q65:S65) -> 0.95642878 | AR65: =AVERAGE(T65:W65) -> 0.81389805 | AS65: =AVERAGE(X65:AC65) -> 1.2369662 | AT65: =AVERAGE(AD65:AF65) -> 1.0093717 | AU65: =AVERAGE(AG65:AI65) -> 1.0456234 | AV65: =AVERAGE(AJ65:AL65) -> 0.74357428 | AX65: =STDEV(B65:E65) -> 0.32122266 | AY65: =STDEV(F65:I65) -> 0.12176942 | AZ65: =STDEV(J65:P65) -> 0.29281769 | BA65: =STDEV(Q65:S65) -> 0.17148384 | BB65: =STDEV(T65:W65) -> 0.13962918 | BC65: =STDEV(X65:AC65) -> 0.39758522 | BD65: =STDEV(AD65:AF65) -> 0.25944968 | BE65: =STDEV(AG65:AI65) -> 0.54085896 | BF65: =STDEV(AJ65:AL65) -> 0.067345599 | BH65: =AX65/SQRT(4) -> 0.16061133 | BI65: =AY65/SQRT(4) -> 0.060884709 | BJ65: =AZ65/SQRT(7) -> 0.11067468 | BK65: =BA65/SQRT(3) -> 0.099006241 | BL65: =BB65/SQRT(4) -> 0.06981459 | BM65: =BC65/SQRT(6) -> 0.16231348 | BN65: =BD65/SQRT(3) -> 0.14979334 | BO65: =BE65/SQRT(3) -> 0.31226507 | BP65: =BF65/SQRT(3) -> 0.038882
A66: Poly Sum | B66: =SUM(B48:B57,B37:B45,B30:B35,B23:B27,B18:B20,B14:B15,B13,B10,B7) -> 0.57579644 | C66: =SUM(C48:C57,C37:C45,C30:C35,C23:C27,C18:C20,C14:C15,C13,C10,C7) -> 0.82205928 | D66: =SUM(D48:D57,D37:D45,D30:D35,D23:D27,D18:D20,D14:D15,D13,D10,D7) -> 0.63538116 | E66: =SUM(E48:E57,E37:E45,E30:E35,E23:E27,E18:E20,E14:E15,E13,E10,E7) -> 0.8149662 | F66: =SUM(F48:F57,F37:F45,F30:F35,F23:F27,F18:F20,F14:F15,F13,F10,F7) -> 0.71512908 | G66: =SUM(G48:G57,G37:G45,G30:G35,G23:G27,G18:G20,G14:G15,G13,G10,G7) -> 0.74009056 | H66: =SUM(H48:H57,H37:H45,H30:H35,H23:H27,H18:H20,H14:H15,H13,H10,H7) -> 1.1803106 | I66: =SUM(I48:I57,I37:I45,I30:I35,I23:I27,I18:I20,I14:I15,I13,I10,I7) -> 0.69056716 | ... AL66: =SUM(AL48:AL57,AL37:AL45,AL30:AL35,AL23:AL27,AL18:AL20,AL14:AL15,AL13,AL10,AL7) -> 0.76509346 | AM66: Poly Sum | AN66: =AVERAGE(B66:E66) -> 0.71205077 | AO66: =AVERAGE(F66:I66) -> 0.83152436 | AP66: =AVERAGE(J66:P66) -> 0.85958059 | AQ66: =AVERAGE(Q66:S66) -> 0.8319315 | AR66: =AVERAGE(T66:W66) -> 0.71322753 | AS66: =AVERAGE(X66:AC66) -> 0.90319088 | AT66: =AVERAGE(AD66:AF66) -> 0.78992121 | AU66: =AVERAGE(AG66:AI66) -> 0.92424461 | AV66: =AVERAGE(AJ66:AL66) -> 0.70942015 | AX66: =STDEV(B66:E66) -> 0.12534875 | AY66: =STDEV(F66:I66) -> 0.23340152 | AZ66: =STDEV(J66:P66) -> 0.18410928 | BA66: =STDEV(Q66:S66) -> 0.2514096 | BB66: =STDEV(T66:W66) -> 0.048322914 | BC66: =STDEV(X66:AC66) -> 0.32512872 | BD66: =STDEV(AD66:AF66) -> 0.20357367 | BE66: =STDEV(AG66:AI66) -> 0.36808306 | BF66: =STDEV(AJ66:AL66) -> 0.10095868 | BH66: =AX66/SQRT(4) -> 0.062674377 | BI66: =AY66/SQRT(4) -> 0.11670076 | BJ66: =AZ66/SQRT(7) -> 0.069586768 | BK66: =BA66/SQRT(3) -> 0.1451514 | BL66: =BB66/SQRT(4) -> 0.024161457 | BM66: =BC66/SQRT(6) -> 0.13273324 | BN66: =BD66/SQRT(3) -> 0.11753331 | BO66: =BE66/SQRT(3) -> 0.21251285 | BP66: =BF66/SQRT(3) -> 0.058288522
A67: Short Sum | B67: =SUM(B7:B22) -> 3.1085215 | C67: =SUM(C7:C22) -> 3.2753255 | D67: =SUM(D7:D22) -> 2.7824054 | E67: =SUM(E7:E22) -> 2.9047525 | F67: =SUM(F7:F22) -> 3.2226851 | G67: =SUM(G7:G22) -> 3.0675618 | H67: =SUM(H7:H22) -> 4.075025 | I67: =SUM(I7:I22) -> 3.1710937 | ... AL67: =SUM(AL7:AL22) -> 2.5305555 | AM67: Short Sum | AN67: =AVERAGE(B67:E67) -> 3.0177512 | AO67: =AVERAGE(F67:I67) -> 3.3840914 | AP67: =AVERAGE(J67:P67) -> 3.1960371 | AQ67: =AVERAGE(Q67:S67) -> 3.35321 | AR67: =AVERAGE(T67:W67) -> 2.8881759 | AS67: =AVERAGE(X67:AC67) -> 3.2806085 | AT67: =AVERAGE(AD67:AF67) -> 3.0498738 | AU67: =AVERAGE(AG67:AI67) -> 3.1092145 | AV67: =AVERAGE(AJ67:AL67) -> 2.8033405 | AX67: =STDEV(B67:E67) -> 0.21812847 | AY67: =STDEV(F67:I67) -> 0.46511656 | AZ67: =STDEV(J67:P67) -> 0.36580032 | BA67: =STDEV(Q67:S67) -> 0.31464045 | BB67: =STDEV(T67:W67) -> 0.24905551 | BC67: =STDEV(X67:AC67) -> 0.75633109 | BD67: =STDEV(AD67:AF67) -> 0.15588613 | BE67: =STDEV(AG67:AI67) -> 0.57789037 | BF67: =STDEV(AJ67:AL67) -> 0.30992717 | BH67: =AX67/SQRT(4) -> 0.10906423 | BI67: =AY67/SQRT(4) -> 0.23255828 | BJ67: =AZ67/SQRT(7) -> 0.13825953 | BK67: =BA67/SQRT(3) -> 0.18165775 | BL67: =BB67/SQRT(4) -> 0.12452776 | BM67: =BC67/SQRT(6) -> 0.30877087 | BN67: =BD67/SQRT(3) -> 0.090000897 | BO67: =BE67/SQRT(3) -> 0.33364516 | BP67: =BF67/SQRT(3) -> 0.17893653
A68: Medium Sum | B68: =SUM(B23:B47) -> 1.0308897 | C68: =SUM(C23:C47) -> 1.8879531 | D68: =SUM(D23:D47) -> 1.4293369 | E68: =SUM(E23:E47) -> 1.5019353 | F68: =SUM(F23:F47) -> 1.533142 | G68: =SUM(G23:G47) -> 1.9128101 | H68: =SUM(H23:H47) -> 1.9877356 | I68: =SUM(I23:I47) -> 1.6923069 | ... AL68: =SUM(AL23:AL47) -> 1.3539006 | AM68: Medium Sum | AN68: =AVERAGE(B68:E68) -> 1.4625287 | AO68: =AVERAGE(F68:I68) -> 1.7814987 | AP68: =AVERAGE(J68:P68) -> 1.6779717 | AQ68: =AVERAGE(Q68:S68) -> 1.6293352 | AR68: =AVERAGE(T68:W68) -> 1.4525123 | AS68: =AVERAGE(X68:AC68) -> 1.877384 | AT68: =AVERAGE(AD68:AF68) -> 1.6631073 | AU68: =AVERAGE(AG68:AI68) -> 1.8740588 | AV68: =AVERAGE(AJ68:AL68) -> 1.3169328 | AX68: =STDEV(B68:E68) -> 0.35116603 | AY68: =STDEV(F68:I68) -> 0.20769578 | AZ68: =STDEV(J68:P68) -> 0.32098165 | BA68: =STDEV(Q68:S68) -> 0.41101355 | BB68: =STDEV(T68:W68) -> 0.1599931 | BC68: =STDEV(X68:AC68) -> 0.55655875 | BD68: =STDEV(AD68:AF68) -> 0.28520449 | BE68: =STDEV(AG68:AI68) -> 0.86055622 | BF68: =STDEV(AJ68:AL68) -> 0.067831837 | BH68: =AX68/SQRT(4) -> 0.17558301 | BI68: =AY68/SQRT(4) -> 0.10384789 | BJ68: =AZ68/SQRT(7) -> 0.12131966 | BK68: =BA68/SQRT(3) -> 0.23729879 | BL68: =BB68/SQRT(4) -> 0.079996552 | BM68: =BC68/SQRT(6) -> 0.22721416 | BN68: =BD68/SQRT(3) -> 0.16466289 | BO68: =BE68/SQRT(3) -> 0.49684236 | BP68: =BF68/SQRT(3) -> 0.039162729
A69: Long Sum | B69: =SUM(B48:B59) -> 0.037193559 | C69: =SUM(C48:C59) -> 0.039392354 | D69: =SUM(D48:D59) -> 0.04880081 | E69: =SUM(E48:E59) -> 0.031007811 | F69: =SUM(F48:F59) -> 0.057155319 | G69: =SUM(G48:G59) -> 0.047074384 | H69: =SUM(H48:H59) -> 0.073932883 | I69: =SUM(I48:I59) -> 0.031774494 | ... AL69: =SUM(AL48:AL59) -> 0.03042146 | AM69: Long Sum | AN69: =AVERAGE(B69:E69) -> 0.039098633 | AO69: =AVERAGE(F69:I69) -> 0.05248427 | AP69: =AVERAGE(J69:P69) -> 0.024870295 | AQ69: =AVERAGE(Q69:S69) -> 0.058315684 | AR69: =AVERAGE(T69:W69) -> 0.040258811 | AS69: =AVERAGE(X69:AC69) -> 0.035919455 | AT69: =AVERAGE(AD69:AF69) -> 0.020708601 | AU69: =AVERAGE(AG69:AI69) -> 0.043856176 | AV69: =AVERAGE(AJ69:AL69) -> 0.027957652 | AX69: =STDEV(B69:E69) -> 0.0073781033 | AY69: =STDEV(F69:I69) -> 0.017701445 | AZ69: =STDEV(J69:P69) -> 0.0090923579 | BA69: =STDEV(Q69:S69) -> 0.032574726 | BB69: =STDEV(T69:W69) -> 0.015773606 | BC69: =STDEV(X69:AC69) -> 0.026619741 | BD69: =STDEV(AD69:AF69) -> 0.0024394872 | BE69: =STDEV(AG69:AI69) -> 0.036084071 | BF69: =STDEV(AJ69:AL69) -> 0.0084315971 | BH69: =AX69/SQRT(4) -> 0.0036890516 | BI69: =AY69/SQRT(4) -> 0.0088507223 | BJ69: =AZ69/SQRT(7) -> 0.0034365882 | BK69: =BA69/SQRT(3) -> 0.018807027 | BL69: =BB69/SQRT(4) -> 0.007886803 | BM69: =BC69/SQRT(6) -> 0.010867464 | BN69: =BD69/SQRT(3) -> 0.0014084386 | BO69: =BE69/SQRT(3) -> 0.020833148 | BP69: =BF69/SQRT(3) -> 0.0048679849
A71: TOTAL | B71: =SUM(B7:B59) -> 4.1766048 | C71: =SUM(C7:C59) -> 5.2026709 | D71: =SUM(D7:D59) -> 4.2605431 | E71: =SUM(E7:E59) -> 4.4376956 | F71: =SUM(F7:F59) -> 4.8129824 | G71: =SUM(G7:G59) -> 5.0274463 | H71: =SUM(H7:H59) -> 6.1366935 | I71: =SUM(I7:I59) -> 4.8951751 | ... AL71: =SUM(AL7:AL59) -> 3.9148775 | AM71: TOTAL | AN71: =AVERAGE(B71:E71) -> 4.5193786 | AO71: =AVERAGE(F71:I71) -> 5.2180743 | AP71: =AVERAGE(J71:P71) -> 4.8988792 | AQ71: =AVERAGE(Q71:S71) -> 5.0408609 | AR71: =AVERAGE(T71:W71) -> 4.380947 | AS71: =AVERAGE(X71:AC71) -> 5.193912 | AT71: =AVERAGE(AD71:AF71) -> 4.7336898 | AU71: =AVERAGE(AG71:AI71) -> 5.0271295 | AV71: =AVERAGE(AJ71:AL71) -> 4.1482309 | AX71: =STDEV(B71:E71) -> 0.46834823 | AY71: =STDEV(F71:I71) -> 0.6187524 | AZ71: =STDEV(J71:P71) -> 0.58568986 | BA71: =STDEV(Q71:S71) -> 0.71199629 | BB71: =STDEV(T71:W71) -> 0.26756801 | BC71: =STDEV(X71:AC71) -> 1.2519921 | BD71: =STDEV(AD71:AF71) -> 0.35016009 | BE71: =STDEV(AG71:AI71) -> 1.4625471 | BF71: =STDEV(AJ71:AL71) -> 0.33611259 | BH71: =AX71/SQRT(4) -> 0.23417412 | BI71: =AY71/SQRT(4) -> 0.3093762 | BJ71: =AZ71/SQRT(7) -> 0.22136996 | BK71: =BA71/SQRT(3) -> 0.41107125 | BL71: =BB71/SQRT(4) -> 0.13378401 | BM71: =BC71/SQRT(6) -> 0.51112363 | BN71: =BD71/SQRT(3) -> 0.20216502 | BO71: =BE71/SQRT(3) -> 0.84440194 | BP71: =BF71/SQRT(3) -> 0.1940547
A72: Number of Species | B72: =COUNTIF(B7:B59, ">0") -> 33 | C72: =COUNTIF(C7:C59, ">0") -> 30 | D72: =COUNTIF(D7:D59, ">0") -> 46 | E72: =COUNTIF(E7:E59, ">0") -> 40 | F72: =COUNTIF(F7:F59, ">0") -> 40 | G72: =COUNTIF(G7:G59, ">0") -> 33 | H72: =COUNTIF(H7:H59, ">0") -> 42 | I72: =COUNTIF(I7:I59, ">0") -> 39 | ... AL72: =COUNTIF(AL7:AL59, ">0") -> 45 | AM72: Number of Species | AN72: =AVERAGE(B72:E72) -> 37.25 | AO72: =AVERAGE(F72:I72) -> 38.5 | AP72: =AVERAGE(J72:P72) -> 38 | AQ72: =AVERAGE(Q72:S72) -> 37 | AR72: =AVERAGE(T72:W72) -> 38.25 | AS72: =AVERAGE(X72:AC72) -> 38.5 | AT72: =AVERAGE(AD72:AF72) -> 36 | AU72: =AVERAGE(AG72:AI72) -> 36.666667 | AV72: =AVERAGE(AJ72:AL72) -> 40.333333 | AX72: =STDEV(B72:E72) -> 7.1821538 | AY72: =STDEV(F72:I72) -> 3.8729833 | AZ72: =STDEV(J72:P72) -> 3.7859389 | BA72: =STDEV(Q72:S72) -> 2 | BB72: =STDEV(T72:W72) -> 5.057997 | BC72: =STDEV(X72:AC72) -> 5.4313902 | BD72: =STDEV(AD72:AF72) -> 4 | BE72: =STDEV(AG72:AI72) -> 7.0945989 | BF72: =STDEV(AJ72:AL72) -> 4.163332 | BH72: =AX72/SQRT(4) -> 3.5910769 | BI72: =AY72/SQRT(4) -> 1.9364917 | BJ72: =AZ72/SQRT(7) -> 1.4309504 | BK72: =BA72/SQRT(3) -> 1.1547005 | BL72: =BB72/SQRT(4) -> 2.5289985 | BM72: =BC72/SQRT(6) -> 2.2173558 | BN72: =BD72/SQRT(3) -> 2.3094011 | BO72: =BE72/SQRT(3) -> 4.0960686 | BP72: =BF72/SQRT(3) -> 2.4037009

Sheet FFA
A1: FFA
A2: - | B2: n=4 | F2: n=4 | K2: n=7 | Q2: n=3 | T2: n=4 | X2: n=6 | AD2: n=3 | AG2: n=3 | AJ2: n=3
A3: - | B3: PFC | Q3: Nac | AD3: vHipp | AN3: Average | AX3: StDev | BH3: StError
A4: Species | B4: PFC | C4: PFC | D4: PFC | E4: PFC | F4: PFC | G4: PFC | H4: PFC | I4: PFC | J4: PFC | K4: PFC | L4: PFC | M4: PFC | N4: PFC | O4: PFC | P4: PFC | Q4: Nac | R4: Nac | S4: Nac | T4: Nac | U4: Nac | V4: Nac | W4: Nac | X4: Nac | Y4: Nac | Z4: Nac | AA4: Nac | AB4: Nac | AC4: Nac | AD4: vHipp | AE4: vHipp | AF4: vHipp | AG4: vHipp | AH4: vHipp | AI4: vHipp | AJ4: vHipp | AK4: vHipp | AL4: vHipp | AN4: PFC | AQ4: Nac | AT4: vHipp | AX4: PFC | BA4: Nac | BD4: vHipp | BH4: PFC | BK4: Nac | BN4: vHipp
A5: - | B5: Control | C5: Control | D5: Control | E5: Control | F5: Susceptible | G5: Susceptible | H5: Susceptible | I5: Susceptible | J5: Resilient | K5: Resilient | L5: Resilient | M5: Resilient | N5: Resilient | O5: Resilient | P5: Resilient | Q5: Control | R5: Control | S5: Control | T5: Susceptible | U5: Susceptible | V5: Susceptible | W5: Susceptible | X5: Resilient | Y5: Resilient | Z5: Resilient | AA5: Resilient | AB5: Resilient | AC5: Resilient | AD5: Control | AE5: Control | AF5: Control | AG5: Susceptible | AH5: Susceptible | AI5: Susceptible | AJ5: Resilient | AK5: Resilient | AL5: Resilient | AN5: Control | AO5: Susceptible | AP5: Resilient | AQ5: Control | AR5: Susceptible | AS5: Resilient | AT5: Control | AU5: Susceptible | AV5: Resilient | AX5: Control | AY5: Susceptible | AZ5: Resilient | BA5: Control | BB5: Susceptible | BC5: Resilient | BD5: Control | BE5: Susceptible | BF5: Resilient | BH5: Control | BI5: Susceptible | BJ5: Resilient | BK5: Control | BL5: Susceptible | BM5: Resilient | BN5: Control | BO5: Susceptible | BP5: Resilient
A6: IS_FFA_d4-16:0 | B6: #N/A | C6: #N/A | D6: #N/A | E6: #N/A | F6: #N/A | G6: #N/A | H6: #N/A | I6: #N/A | J6: #N/A | K6: #N/A | L6: #N/A | M6: #N/A | N6: #N/A | O6: #N/A | P6: #N/A | Q6: #N/A | R6: #N/A | S6: #N/A | T6: #N/A | U6: #N/A | V6: #N/A | W6: #N/A | X6: #N/A | Y6: #N/A | Z6: #N/A | AA6: #N/A | AB6: #N/A | AC6: #N/A | AD6: #N/A | AE6: #N/A | AF6: #N/A | AG6: #N/A | AH6: #N/A | AI6: #N/A | AJ6: #N/A | AK6: #N/A | AL6: #N/A | AN6: =AVERAGE(B6:E6) -> #N/A | AO6: =AVERAGE(F6:I6) -> #N/A | AP6: =AVERAGE(J6:P6) -> #N/A | AQ6: =AVERAGE(Q6:S6) -> #N/A | AR6: =AVERAGE(T6:W6) -> #N/A | AS6: =AVERAGE(X6:AC6) -> #N/A | AT6: =AVERAGE(AD6:AF6) -> #N/A | AU6: =AVERAGE(AG6:AI6) -> #N/A | AV6: =AVERAGE(AJ6:AL6) -> #N/A | AX6: =STDEV(B6:E6) -> #N/A | AY6: =STDEV(F6:I6) -> #N/A | AZ6: =STDEV(J6:P6) -> #N/A | BA6: =STDEV(Q6:S6) -> #N/A | BB6: =STDEV(T6:W6) -> #N/A | BC6: =STDEV(X6:AC6) -> #N/A | BD6: =STDEV(AD6:AF6) -> #N/A | BE6: =STDEV(AG6:AI6) -> #N/A | BF6: =STDEV(AJ6:AL6) -> #N/A | BH6: =AX6/SQRT(4) -> #N/A | BI6: =AY6/SQRT(4) -> #N/A | BJ6: =AZ6/SQRT(7) -> #N/A | BK6: =BA6/SQRT(3) -> #N/A | BL6: =BB6/SQRT(4) -> #N/A | BM6: =BC6/SQRT(6) -> #N/A | BN6: =BD6/SQRT(3) -> #N/A | BO6: =BE6/SQRT(3) -> #N/A | BP6: =BF6/SQRT(3) -> #N/A
A7: FFA_14:0_ | B7: 0.90210967 | C7: 0.98054667 | D7: 0.98092801 | E7: 1.0212338 | F7: 0.99487467 | G7: 0.99089889 | H7: 1.1994019 | I7: 0.97773804 | J7: 1.2166827 | K7: 1.0353901 | L7: 1.0863784 | M7: 0.82845533 | N7: 0.95684365 | O7: 0.9249536 | P7: 0.98781631 | Q7: 0.87332888 | R7: 0.9153834 | S7: 0.88157275 | T7: 0.99745461 | U7: 1.0186253 | V7: 0.86951757 | W7: 1.0151057 | X7: 1.0191233 | Y7: 0.976868 | Z7: 0.92811235 | AA7: 0.94815479 | AB7: 0.92206338 | AC7: 0.89787858 | AD7: 0.92948481 | AE7: 0.91260272 | AF7: 1.0951775 | AG7: 1.0082931 | AH7: 0.91485581 | AI7: 0.88620262 | AJ7: 1.2427437 | AK7: 1.0107954 | AL7: 0.90901664 | AN7: =AVERAGE(B7:E7) -> 0.97120454 | AO7: =AVERAGE(F7:I7) -> 1.0407284 | AP7: =AVERAGE(J7:P7) -> 1.0052171 | AQ7: =AVERAGE(Q7:S7) -> 0.89009501 | AR7: =AVERAGE(T7:W7) -> 0.97517581 | AS7: =AVERAGE(X7:AC7) -> 0.94870006 | AT7: =AVERAGE(AD7:AF7) -> 0.97908836 | AU7: =AVERAGE(AG7:AI7) -> 0.9364505 | AV7: =AVERAGE(AJ7:AL7) -> 1.0541853 | AX7: =STDEV(B7:E7) -> 0.049862646 | AY7: =STDEV(F7:I7) -> 0.10603554 | AZ7: =STDEV(J7:P7) -> 0.12419407 | BA7: =STDEV(Q7:S7) -> 0.022284912 | BB7: =STDEV(T7:W7) -> 0.071045216 | BC7: =STDEV(X7:AC7) -> 0.043518608 | BD7: =STDEV(AD7:AF7) -> 0.10088992 | BE7: =STDEV(AG7:AI7) -> 0.063845655 | BF7: =STDEV(AJ7:AL7) -> 0.17104226 | BH7: =AX7/SQRT(4) -> 0.024931323 | BI7: =AY7/SQRT(4) -> 0.053017772 | BJ7: =AZ7/SQRT(7) -> 0.046940947 | BK7: =BA7/SQRT(3) -> 0.0128662 | BL7: =BB7/SQRT(4) -> 0.035522608 | BM7: =BC7/SQRT(6) -> 0.017766397 | BN7: =BD7/SQRT(3) -> 0.05824882 | BO7: =BE7/SQRT(3) -> 0.036861306 | BP7: =BF7/SQRT(3) -> 0.098751298
A8: FFA_14:1_ | B8: 0.056589391 | C8: 0.063962191 | D8: 0.040621741 | E8: 0.063313114 | F8: 0.055241439 | G8: 0.075788235 | H8: 0.092197239 | I8: 0.046342363 | J8: 0.069889525 | K8: 0.080154888 | L8: 0.054720403 | M8: 0.039606856 | N8: 0.069578561 | O8: 0.050197239 | P8: 0.047439733 | Q8: 0.064102985 | R8: 0.064532498 | S8: 0.056822784 | T8: 0.063826212 | U8: 0.074010947 | V8: 0.051415701 | W8: 0.045774892 | X8: 0.067578885 | Y8: 0.060017402 | Z8: 0.037510238 | AA8: 0.055279925 | AB8: 0.052026772 | AC8: 0.041597294 | AD8: 0.061894068 | AE8: 0.065937462 | AF8: 0.069893426 | AG8: 0.071055526 | AH8: 0.056236137 | AI8: 0.054327653 | AJ8: 0.12146201 | AK8: 0.060219718 | AL8: 0.048076491 | AN8: =AVERAGE(B8:E8) -> 0.056121609 | AO8: =AVERAGE(F8:I8) -> 0.067392319 | AP8: =AVERAGE(J8:P8) -> 0.058798172 | AQ8: =AVERAGE(Q8:S8) -> 0.061819422 | AR8: =AVERAGE(T8:W8) -> 0.058756938 | AS8: =AVERAGE(X8:AC8) -> 0.052335086 | AT8: =AVERAGE(AD8:AF8) -> 0.065908319 | AU8: =AVERAGE(AG8:AI8) -> 0.060539772 | AV8: =AVERAGE(AJ8:AL8) -> 0.076586072 | AX8: =STDEV(B8:E8) -> 0.01085752 | AY8: =STDEV(F8:I8) -> 0.020627813 | AZ8: =STDEV(J8:P8) -> 0.014624575 | BA8: =STDEV(Q8:S8) -> 0.0043325419 | BB8: =STDEV(T8:W8) -> 0.012659774 | BC8: =STDEV(X8:AC8) -> 0.011271511 | BD8: =STDEV(AD8:AF8) -> 0.0039997589 | BE8: =STDEV(AG8:AI8) -> 0.0091567677 | BF8: =STDEV(AJ8:AL8) -> 0.039335121 | BH8: =AX8/SQRT(4) -> 0.0054287598 | BI8: =AY8/SQRT(4) -> 0.010313907 | BJ8: =AZ8/SQRT(7) -> 0.0055275699 | BK8: =BA8/SQRT(3) -> 0.0025013942 | BL8: =BB8/SQRT(4) -> 0.0063298869 | BM8: =BC8/SQRT(6) -> 0.0046015751 | BN8: =BD8/SQRT(3) -> 0.0023092619 | BO8: =BE8/SQRT(3) -> 0.0052866623 | BP8: =BF8/SQRT(3) -> 0.022710143
A9: FFA_16:0_ | B9: 5.7083308 | C9: 6.0763607 | D9: 6.2853002 | E9: 6.1107091 | F9: 5.2003656 | G9: 6.3527936 | H9: 6.4989678 | I9: 6.1612395 | J9: 5.9953242 | K9: 5.7652675 | L9: 6.2469335 | M9: 5.3757686 | N9: 6.5688702 | O9: 6.1305442 | P9: 5.5262308 | Q9: 5.3867893 | R9: 5.9746543 | S9: 5.7590187 | T9: 6.0230299 | U9: 6.0797583 | V9: 5.7993158 | W9: 6.5140251 | X9: 6.674917 | Y9: 6.0762464 | Z9: 5.5554303 | AA9: 6.0694843 | AB9: 6.2341133 | AC9: 5.6208138 | AD9: 6.1788341 | AE9: 6.3762691 | AF9: 6.3072714 | AG9: 6.3647154 | AH9: 5.7738968 | AI9: 5.0635422 | AJ9: 6.3531647 | AK9: 6.7780387 | AL9: 5.8824025 | AN9: =AVERAGE(B9:E9) -> 6.0451752 | AO9: =AVERAGE(F9:I9) -> 6.0533416 | AP9: =AVERAGE(J9:P9) -> 5.9441342 | AQ9: =AVERAGE(Q9:S9) -> 5.7068208 | AR9: =AVERAGE(T9:W9) -> 6.1040323 | AS9: =AVERAGE(X9:AC9) -> 6.0385009 | AT9: =AVERAGE(AD9:AF9) -> 6.2874582 | AU9: =AVERAGE(AG9:AI9) -> 5.7340515 | AV9: =AVERAGE(AJ9:AL9) -> 6.3378686 | AX9: =STDEV(B9:E9) -> 0.24248118 | AY9: =STDEV(F9:I9) -> 0.58522479 | AZ9: =STDEV(J9:P9) -> 0.41813626 | BA9: =STDEV(Q9:S9) -> 0.29738825 | BB9: =STDEV(T9:W9) -> 0.29894085 | BC9: =STDEV(X9:AC9) -> 0.41315712 | BD9: =STDEV(AD9:AF9) -> 0.10019761 | BE9: =STDEV(AG9:AI9) -> 0.65150109 | BF9: =STDEV(AJ9:AL9) -> 0.44801394 | BH9: =AX9/SQRT(4) -> 0.12124059 | BI9: =AY9/SQRT(4) -> 0.2926124 | BJ9: =AZ9/SQRT(7) -> 0.15804065 | BK9: =BA9/SQRT(3) -> 0.17169718 | BL9: =BB9/SQRT(4) -> 0.14947043 | BM9: =BC9/SQRT(6) -> 0.16867069 | BN9: =BD9/SQRT(3) -> 0.057849118 | BO9: =BE9/SQRT(3) -> 0.37614433 | BP9: =BF9/SQRT(3) -> 0.25866097
A10: FFA_16:1_ | B10: 0.30061994 | C10: 0.37070995 | D10: 0.53430124 | E10: 0.50318721 | F10: 0.30049536 | G10: 0.37209764 | H10: 0.90928233 | I10: 0.57345454 | J10: 0.42428729 | K10: 0.55616884 | L10: 0.52269871 | M10: 0.52959025 | N10: 0.56194205 | O10: 0.4874573 | P10: 0.53219026 | Q10: 0.31826592 | R10: 0.39490279 | S10: 0.43927414 | T10: 0.31235666 | U10: 0.43481775 | V10: 0.52545495 | W10: 0.52840788 | X10: 0.43364823 | Y10: 0.37537949 | Z10: 0.45321244 | AA10: 0.54722599 | AB10: 0.41990899 | AC10: 0.38392684 | AD10: 0.39332683 | AE10: 0.44765511 | AF10: 0.70723341 | AG10: 0.43478872 | AH10: 0.48985824 | AI10: 0.40610424 | AJ10: 0.87857639 | AK10: 0.60839865 | AL10: 0.49948941 | AN10: =AVERAGE(B10:E10) -> 0.42720458 | AO10: =AVERAGE(F10:I10) -> 0.53883247 | AP10: =AVERAGE(J10:P10) -> 0.51633353 | AQ10: =AVERAGE(Q10:S10) -> 0.38414762 | AR10: =AVERAGE(T10:W10) -> 0.45025931 | AS10: =AVERAGE(X10:AC10) -> 0.43555033 | AT10: =AVERAGE(AD10:AF10) -> 0.51607178 | AU10: =AVERAGE(AG10:AI10) -> 0.44358374 | AV10: =AVERAGE(AJ10:AL10) -> 0.66215482 | AX10: =STDEV(B10:E10) -> 0.11023969 | AY10: =STDEV(F10:I10) -> 0.27266394 | AZ10: =STDEV(J10:P10) -> 0.04733045 | BA10: =STDEV(Q10:S10) -> 0.06121685 | BB10: =STDEV(T10:W10) -> 0.10168115 | BC10: =STDEV(X10:AC10) -> 0.062156554 | BD10: =STDEV(AD10:AF10) -> 0.16776462 | BE10: =STDEV(AG10:AI10) -> 0.042564036 | BF10: =STDEV(AJ10:AL10) -> 0.19517691 | BH10: =AX10/SQRT(4) -> 0.055119845 | BI10: =AY10/SQRT(4) -> 0.13633197 | BJ10: =AZ10/SQRT(7) -> 0.017889228 | BK10: =BA10/SQRT(3) -> 0.035343565 | BL10: =BB10/SQRT(4) -> 0.050840574 | BM10: =BC10/SQRT(6) -> 0.025375307 | BN10: =BD10/SQRT(3) -> 0.096858946 | BO10: =BE10/SQRT(3) -> 0.024574358 | BP10: =BF10/SQRT(3) -> 0.11268544
A11: FFA_18:0_ | B11: 5.9036798 | C11: 6.5386587 | D11: 8.092736 | E11: 7.4179235 | F11: 5.4166462 | G11: 6.6516361 | H11: 7.7535296 | I11: 8.1069568 | J11: 6.3373274 | K11: 6.4676844 | L11: 7.3739897 | M11: 6.9277368 | N11: 7.8055411 | O11: 7.8243907 | P11: 6.8504178 | Q11: 5.4888275 | R11: 6.6151652 | S11: 6.9221525 | T11: 6.27835 | U11: 6.8453619 | V11: 6.9967721 | W11: 8.745859 | X11: 7.019467 | Y11: 6.3673056 | Z11: 6.8940542 | AA11: 7.3372457 | AB11: 7.5947105 | AC11: 7.4615565 | AD11: 6.1432305 | AE11: 6.9506403 | AF11: 7.8824861 | AG11: 6.4671731 | AH11: 7.0750519 | AI11: 6.1372609 | AJ11: 6.6821041 | AK11: 8.5942512 | AL11: 7.356119 | AN11: =AVERAGE(B11:E11) -> 6.9882495 | AO11: =AVERAGE(F11:I11) -> 6.9821922 | AP11: =AVERAGE(J11:P11) -> 7.0838697 | AQ11: =AVERAGE(Q11:S11) -> 6.3420484 | AR11: =AVERAGE(T11:W11) -> 7.2165857 | AS11: =AVERAGE(X11:AC11) -> 7.1123899 | AT11: =AVERAGE(AD11:AF11) -> 6.992119 | AU11: =AVERAGE(AG11:AI11) -> 6.5598287 | AV11: =AVERAGE(AJ11:AL11) -> 7.5441581 | AX11: =STDEV(B11:E11) -> 0.96314301 | AY11: =STDEV(F11:I11) -> 1.2138449 | AZ11: =STDEV(J11:P11) -> 0.60128162 | BA11: =STDEV(Q11:S11) -> 0.75468518 | BB11: =STDEV(T11:W11) -> 1.0653776 | BC11: =STDEV(X11:AC11) -> 0.45090274 | BD11: =STDEV(AD11:AF11) -> 0.87036937 | BE11: =STDEV(AG11:AI11) -> 0.47571187 | BF11: =STDEV(AJ11:AL11) -> 0.96984311 | BH11: =AX11/SQRT(4) -> 0.4815715 | BI11: =AY11/SQRT(4) -> 0.60692246 | BJ11: =AZ11/SQRT(7) -> 0.22726309 | BK11: =BA11/SQRT(3) -> 0.43571769 | BL11: =BB11/SQRT(4) -> 0.5326888 | BM11: =BC11/SQRT(6) -> 0.18408027 | BN11: =BD11/SQRT(3) -> 0.50250799 | BO11: =BE11/SQRT(3) -> 0.27465238 | BP11: =BF11/SQRT(3) -> 0.55993918
A12: FFA_18:1_ | B12: 3.254886 | C12: 3.1254998 | D12: 2.4144102 | E12: 3.3610064 | F12: 2.7741279 | G12: 3.2600848 | H12: 2.7264372 | I12: 2.7274484 | J12: 2.9795854 | K12: 2.6570139 | L12: 2.9986224 | M12: 2.4926762 | N12: 3.3907589 | O12: 2.6612305 | P12: 2.2997783 | Q12: 2.8076453 | R12: 3.0004886 | S12: 2.9860908 | T12: 3.0516176 | U12: 3.3484225 | V12: 2.6377223 | W12: 2.2522365 | X12: 3.3407481 | Y12: 2.9171839 | Z12: 2.5877135 | AA12: 2.9851645 | AB12: 3.1457076 | AC12: 2.106968 | AD12: 3.3884388 | AE12: 3.1743841 | AF12: 2.8733358 | AG12: 3.177839 | AH12: 2.0823758 | AI12: 2.5857057 | AJ12: 3.6401134 | AK12: 2.7214556 | AL12: 2.8987906 | AN12: =AVERAGE(B12:E12) -> 3.0389506 | AO12: =AVERAGE(F12:I12) -> 2.8720246 | AP12: =AVERAGE(J12:P12) -> 2.7828094 | AQ12: =AVERAGE(Q12:S12) -> 2.9314083 | AR12: =AVERAGE(T12:W12) -> 2.8224997 | AS12: =AVERAGE(X12:AC12) -> 2.8472476 | AT12: =AVERAGE(AD12:AF12) -> 3.1453862 | AU12: =AVERAGE(AG12:AI12) -> 2.6153068 | AV12: =AVERAGE(AJ12:AL12) -> 3.0867865 | AX12: =STDEV(B12:E12) -> 0.42735213 | AY12: =STDEV(F12:I12) -> 0.25966161 | AZ12: =STDEV(J12:P12) -> 0.36583257 | BA12: =STDEV(Q12:S12) -> 0.10742333 | BB12: =STDEV(T12:W12) -> 0.47903812 | BC12: =STDEV(X12:AC12) -> 0.44088662 | BD12: =STDEV(AD12:AF12) -> 0.25877296 | BE12: =STDEV(AG12:AI12) -> 0.54833118 | BF12: =STDEV(AJ12:AL12) -> 0.48732936 | BH12: =AX12/SQRT(4) -> 0.21367607 | BI12: =AY12/SQRT(4) -> 0.1298308 | BJ12: =AZ12/SQRT(7) -> 0.13827172 | BK12: =BA12/SQRT(3) -> 0.062020891 | BL12: =BB12/SQRT(4) -> 0.23951906 | BM12: =BC12/SQRT(6) -> 0.17999121 | BN12: =BD12/SQRT(3) -> 0.14940264 | BO12: =BE12/SQRT(3) -> 0.31657915 | BP12: =BF12/SQRT(3) -> 0.28135973
A13: FFA_18:2_ | B13: 0.53680002 | C13: 0.54873489 | D13: 0.47628591 | E13: 0.63929844 | F13: 0.44169873 | G13: 0.5108815 | H13: 0.50015579 | I13: 0.46413178 | J13: 0.60253292 | K13: 0.50266956 | L13: 0.55152908 | M13: 0.440887 | N13: 0.60293065 | O13: 0.46647069 | P13: 0.400901 | Q13: 0.44738736 | R13: 0.52098611 | S13: 0.523009 | T13: 0.49208668 | U13: 0.60300965 | V13: 0.48196559 | W13: 0.36714232 | X13: 0.582958 | Y13: 0.47431373 | Z13: 0.46404766 | AA13: 0.53496427 | AB13: 0.53024096 | AC13: 0.32178124 | AD13: 0.63879598 | AE13: 0.569167 | AF13: 0.58218492 | AG13: 0.57389622 | AH13: 0.30979886 | AI13: 0.50144203 | AJ13: 0.7892808 | AK13: 0.43638527 | AL13: 0.57442074 | AN13: =AVERAGE(B13:E13) -> 0.55027981 | AO13: =AVERAGE(F13:I13) -> 0.47921695 | AP13: =AVERAGE(J13:P13) -> 0.50970299 | AQ13: =AVERAGE(Q13:S13) -> 0.49712749 | AR13: =AVERAGE(T13:W13) -> 0.48605106 | AS13: =AVERAGE(X13:AC13) -> 0.48471764 | AT13: =AVERAGE(AD13:AF13) -> 0.59671596 | AU13: =AVERAGE(AG13:AI13) -> 0.46171237 | AV13: =AVERAGE(AJ13:AL13) -> 0.60002894 | AX13: =STDEV(B13:E13) -> 0.067289189 | AY13: =STDEV(F13:I13) -> 0.032022168 | AZ13: =STDEV(J13:P13) -> 0.07910987 | BA13: =STDEV(Q13:S13) -> 0.043088085 | BB13: =STDEV(T13:W13) -> 0.096387617 | BC13: =STDEV(X13:AC13) -> 0.090919773 | BD13: =STDEV(AD13:AF13) -> 0.03701908 | BE13: =STDEV(AG13:AI13) -> 0.13645764 | BF13: =STDEV(AJ13:AL13) -> 0.17783602 | BH13: =AX13/SQRT(4) -> 0.033644595 | BI13: =AY13/SQRT(4) -> 0.016011084 | BJ13: =AZ13/SQRT(7) -> 0.02990072 | BK13: =BA13/SQRT(3) -> 0.024876918 | BL13: =BB13/SQRT(4) -> 0.048193809 | BM13: =BC13/SQRT(6) -> 0.037117842 | BN13: =BD13/SQRT(3) -> 0.021372976 | BO13: =BE13/SQRT(3) -> 0.078783857 | BP13: =BF13/SQRT(3) -> 0.10267367
A14: FFA_18:3_ | B14: 0.039814417 | C14: 0.035141033 | D14: 0.027579782 | E14: 0.042868986 | F14: 0.031973877 | G14: 0.037439053 | H14: 0.022785472 | I14: 0.022285791 | J14: 0.038854075 | K14: 0.032962443 | L14: 0.037604398 | M14: 0.023713143 | N14: 0.042385986 | O14: 0.032201044 | P14: 0.02695348 | Q14: 0.022696914 | R14: 0.044393471 | S14: 0.034657017 | T14: 0.031880128 | U14: 0.03884885 | V14: 0.033111285 | W14: 0.029242678 | X14: 0.04003195 | Y14: 0.033157096 | Z14: 0.023325466 | AA14: 0.032504799 | AB14: 0.04406703 | AC14: 0.021994834 | AD14: 0.038121281 | AE14: 0.038095447 | AF14: 0.03532449 | AG14: 0.041575205 | AH14: 0.017927802 | AI14: 0.037523118 | AJ14: 0.045298849 | AK14: 0.027841336 | AL14: 0.036349291 | AN14: =AVERAGE(B14:E14) -> 0.036351054 | AO14: =AVERAGE(F14:I14) -> 0.028621048 | AP14: =AVERAGE(J14:P14) -> 0.033524938 | AQ14: =AVERAGE(Q14:S14) -> 0.033915801 | AR14: =AVERAGE(T14:W14) -> 0.033270735 | AS14: =AVERAGE(X14:AC14) -> 0.032513529 | AT14: =AVERAGE(AD14:AF14) -> 0.037180406 | AU14: =AVERAGE(AG14:AI14) -> 0.032342042 | AV14: =AVERAGE(AJ14:AL14) -> 0.036496492 | AX14: =STDEV(B14:E14) -> 0.0066552658 | AY14: =STDEV(F14:I14) -> 0.0073753665 | AZ14: =STDEV(J14:P14) -> 0.0066468582 | BA14: =STDEV(Q14:S14) -> 0.010867253 | BB14: =STDEV(T14:W14) -> 0.0040537975 | BC14: =STDEV(X14:AC14) -> 0.0087805211 | BD14: =STDEV(AD14:AF14) -> 0.0016073224 | BE14: =STDEV(AG14:AI14) -> 0.012646445 | BF14: =STDEV(AJ14:AL14) -> 0.008729687 | BH14: =AX14/SQRT(4) -> 0.0033276329 | BI14: =AY14/SQRT(4) -> 0.0036876833 | BJ14: =AZ14/SQRT(7) -> 0.0025122763 | BK14: =BA14/SQRT(3) -> 0.0062742116 | BL14: =BB14/SQRT(4) -> 0.0020268987 | BM14: =BC14/SQRT(6) -> 0.0035846327 | BN14: =BD14/SQRT(3) -> 0.00092798802 | BO14: =BE14/SQRT(3) -> 0.0073014285 | BP14: =BF14/SQRT(3) -> 0.0050400871
A15: FFA_20:0_ | B15: 0.57228464 | C15: 0.60982419 | D15: 0.56866809 | E15: 0.59118358 | F15: 0.57746853 | G15: 0.59788014 | H15: 0.57128031 | I15: 0.5766959 | J15: 0.58665213 | K15: 0.51868325 | L15: 0.60732464 | M15: 0.48696314 | N15: 0.52223877 | O15: 0.59484573 | P15: 0.59725192 | Q15: 0.5472961 | R15: 0.61191496 | S15: 0.58564205 | T15: 0.56980054 | U15: 0.57153723 | V15: 0.54883865 | W15: 0.53728599 | X15: 0.61182689 | Y15: 0.53170755 | Z15: 0.61221396 | AA15: 0.54650881 | AB15: 0.53021885 | AC15: 0.54891032 | AD15: 0.64109301 | AE15: 0.59596571 | AF15: 0.5811196 | AG15: 0.60325162 | AH15: 0.54466774 | AI15: 0.56189914 | AJ15: 0.63619184 | AK15: 0.59778507 | AL15: 0.52413854 | AN15: =AVERAGE(B15:E15) -> 0.58549012 | AO15: =AVERAGE(F15:I15) -> 0.58083122 | AP15: =AVERAGE(J15:P15) -> 0.55913708 | AQ15: =AVERAGE(Q15:S15) -> 0.5816177 | AR15: =AVERAGE(T15:W15) -> 0.5568656 | AS15: =AVERAGE(X15:AC15) -> 0.5635644 | AT15: =AVERAGE(AD15:AF15) -> 0.60605944 | AU15: =AVERAGE(AG15:AI15) -> 0.5699395 | AV15: =AVERAGE(AJ15:AL15) -> 0.58603848 | AX15: =STDEV(B15:E15) -> 0.018990591 | AY15: =STDEV(F15:I15) -> 0.011694642 | AZ15: =STDEV(J15:P15) -> 0.048328807 | BA15: =STDEV(Q15:S15) -> 0.032496857 | BB15: =STDEV(T15:W15) -> 0.016636932 | BC15: =STDEV(X15:AC15) -> 0.038284376 | BD15: =STDEV(AD15:AF15) -> 0.031234841 | BE15: =STDEV(AG15:AI15) -> 0.030108193 | BF15: =STDEV(AJ15:AL15) -> 0.05694271 | BH15: =AX15/SQRT(4) -> 0.0094952953 | BI15: =AY15/SQRT(4) -> 0.0058473211 | BJ15: =AZ15/SQRT(7) -> 0.018266572 | BK15: =BA15/SQRT(3) -> 0.018762069 | BL15: =BB15/SQRT(4) -> 0.0083184662 | BM15: =BC15/SQRT(6) -> 0.015629531 | BN15: =BD15/SQRT(3) -> 0.018033444 | BO15: =BE15/SQRT(3) -> 0.017382973 | BP15: =BF15/SQRT(3) -> 0.032875889
A16: FFA_20:1_ | B16: 0.14828497 | C16: 0.11447046 | D16: 0.11011132 | E16: 0.1505296 | F16: 0.14524507 | G16: 0.14027712 | H16: 0.15065824 | I16: 0.1555958 | J16: 0.10210379 | K16: 0.12726942 | L16: 0.13893681 | M16: 0.14339339 | N16: 0.1530811 | O16: 0.12335434 | P16: 0.12233532 | Q16: 0.09085733 | R16: 0.10135793 | S16: 0.12447617 | T16: 0.096913587 | U16: 0.1582699 | V16: 0.127945 | W16: 0.11091582 | X16: 0.12366937 | Y16: 0.096897177 | Z16: 0.14838356 | AA16: 0.14630445 | AB16: 0.10839248 | AC16: 0.12134415 | AD16: 0.13603464 | AE16: 0.11475296 | AF16: 0.15266876 | AG16: 0.1317111 | AH16: 0.11033057 | AI16: 0.10880751 | AJ16: 0.16295425 | AK16: 0.15729616 | AL16: 0.12078949 | AN16: =AVERAGE(B16:E16) -> 0.13084909 | AO16: =AVERAGE(F16:I16) -> 0.14794406 | AP16: =AVERAGE(J16:P16) -> 0.13006774 | AQ16: =AVERAGE(Q16:S16) -> 0.10556381 | AR16: =AVERAGE(T16:W16) -> 0.12351108 | AS16: =AVERAGE(X16:AC16) -> 0.1241652 | AT16: =AVERAGE(AD16:AF16) -> 0.13448545 | AU16: =AVERAGE(AG16:AI16) -> 0.11694973 | AV16: =AVERAGE(AJ16:AL16) -> 0.1470133 | AX16: =STDEV(B16:E16) -> 0.021522443 | AY16: =STDEV(F16:I16) -> 0.0066328082 | AZ16: =STDEV(J16:P16) -> 0.016735797 | BA16: =STDEV(Q16:S16) -> 0.017199524 | BB16: =STDEV(T16:W16) -> 0.026419075 | BC16: =STDEV(X16:AC16) -> 0.020382363 | BD16: =STDEV(AD16:AF16) -> 0.019005314 | BE16: =STDEV(AG16:AI16) -> 0.01280639 | BF16: =STDEV(AJ16:AL16) -> 0.022886013 | BH16: =AX16/SQRT(4) -> 0.010761221 | BI16: =AY16/SQRT(4) -> 0.0033164041 | BJ16: =AZ16/SQRT(7) -> 0.0063255367 | BK16: =BA16/SQRT(3) -> 0.0099301496 | BL16: =BB16/SQRT(4) -> 0.013209538 | BM16: =BC16/SQRT(6) -> 0.0083210648 | BN16: =BD16/SQRT(3) -> 0.010972723 | BO16: =BE16/SQRT(3) -> 0.0073937725 | BP16: =BF16/SQRT(3) -> 0.013213246
A17: FFA_20:2_ | B17: 0.058873455 | C17: 0.04739934 | D17: 0.055608069 | E17: 0.070923128 | F17: 0.053854738 | G17: 0.050675156 | H17: 0.076630445 | I17: 0.065899132 | J17: 0.059299243 | K17: 0.060906619 | L17: 0.05921132 | M17: 0.054362528 | N17: 0.066229959 | O17: 0.057676916 | P17: 0.047962281 | Q17: 0.044595484 | R17: 0.048715016 | S17: 0.061945778 | T17: 0.046654658 | U17: 0.069981427 | V17: 0.059356303 | W17: 0.050443591 | X17: 0.056594413 | Y17: 0.051075331 | Z17: 0.049963628 | AA17: 0.062141315 | AB17: 0.056556672 | AC17: 0.041867089 | AD17: 0.064055383 | AE17: 0.056572113 | AF17: 0.057493006 | AG17: 0.069770152 | AH17: 0.040267302 | AI17: 0.048419352 | AJ17: 0.11373071 | AK17: 0.052702747 | AL17: 0.063703217 | AN17: =AVERAGE(B17:E17) -> 0.058200998 | AO17: =AVERAGE(F17:I17) -> 0.061764868 | AP17: =AVERAGE(J17:P17) -> 0.057949838 | AQ17: =AVERAGE(Q17:S17) -> 0.051752092 | AR17: =AVERAGE(T17:W17) -> 0.056608995 | AS17: =AVERAGE(X17:AC17) -> 0.053033075 | AT17: =AVERAGE(AD17:AF17) -> 0.059373501 | AU17: =AVERAGE(AG17:AI17) -> 0.052818936 | AV17: =AVERAGE(AJ17:AL17) -> 0.076712225 | AX17: =STDEV(B17:E17) -> 0.009758823 | AY17: =STDEV(F17:I17) -> 0.011883173 | AZ17: =STDEV(J17:P17) -> 0.0056775842 | BA17: =STDEV(Q17:S17) -> 0.0090651006 | BB17: =STDEV(T17:W17) -> 0.010383812 | BC17: =STDEV(X17:AC17) -> 0.0070141628 | BD17: =STDEV(AD17:AF17) -> 0.0040806897 | BE17: =STDEV(AG17:AI17) -> 0.015235543 | BF17: =STDEV(AJ17:AL17) -> 0.032527355 | BH17: =AX17/SQRT(4) -> 0.0048794115 | BI17: =AY17/SQRT(4) -> 0.0059415865 | BJ17: =AZ17/SQRT(7) -> 0.0021459251 | BK17: =BA17/SQRT(3) -> 0.0052337383 | BL17: =BB17/SQRT(4) -> 0.0051919062 | BM17: =BC17/SQRT(6) -> 0.00286352 | BN17: =BD17/SQRT(3) -> 0.0023559873 | BO17: =BE17/SQRT(3) -> 0.0087962451 | BP17: =BF17/SQRT(3) -> 0.018779677
A18: FFA_20:3_ | B18: 0.26070126 | C18: 0.24286802 | D18: 0.10968506 | E18: 0.22817572 | F18: 0.22884959 | G18: 0.24032445 | H18: 0.12805724 | I18: 0.1290691 | J18: 0.20757821 | K18: 0.16432244 | L18: 0.18725666 | M18: 0.12089183 | N18: 0.24067747 | O18: 0.14835405 | P18: 0.11704302 | Q18: 0.26471632 | R18: 0.23658439 | S18: 0.18807679 | T18: 0.2691853 | U18: 0.2433502 | V18: 0.14145108 | W18: 0.10128074 | X18: 0.25931885 | Y18: 0.23542248 | Z18: 0.14925937 | AA18: 0.16085834 | AB18: 0.21663379 | AC18: 0.097503661 | AD18: 0.27787644 | AE18: 0.24558116 | AF18: 0.13891833 | AG18: 0.26059543 | AH18: 0.085613989 | AI18: 0.19741103 | AJ18: 0.2399857 | AK18: 0.13279419 | AL18: 0.15773732 | AN18: =AVERAGE(B18:E18) -> 0.21035751 | AO18: =AVERAGE(F18:I18) -> 0.18157509 | AP18: =AVERAGE(J18:P18) -> 0.16944624 | AQ18: =AVERAGE(Q18:S18) -> 0.2297925 | AR18: =AVERAGE(T18:W18) -> 0.18881683 | AS18: =AVERAGE(X18:AC18) -> 0.18649942 | AT18: =AVERAGE(AD18:AF18) -> 0.22079197 | AU18: =AVERAGE(AG18:AI18) -> 0.18120682 | AV18: =AVERAGE(AJ18:AL18) -> 0.17683907 | AX18: =STDEV(B18:E18) -> 0.068419923 | AY18: =STDEV(F18:I18) -> 0.061393285 | AZ18: =STDEV(J18:P18) -> 0.045497086 | BA18: =STDEV(Q18:S18) -> 0.038768566 | BB18: =STDEV(T18:W18) -> 0.080289189 | BC18: =STDEV(X18:AC18) -> 0.060940541 | BD18: =STDEV(AD18:AF18) -> 0.072720127 | BE18: =STDEV(AG18:AI18) -> 0.088609022 | BF18: =STDEV(AJ18:AL18) -> 0.056090664 | BH18: =AX18/SQRT(4) -> 0.034209962 | BI18: =AY18/SQRT(4) -> 0.030696643 | BJ18: =AZ18/SQRT(7) -> 0.017196282 | BK18: =BA18/SQRT(3) -> 0.022383042 | BL18: =BB18/SQRT(4) -> 0.040144595 | BM18: =BC18/SQRT(6) -> 0.024878872 | BN18: =BD18/SQRT(3) -> 0.041984985 | BO18: =BE18/SQRT(3) -> 0.051158443 | BP18: =BF18/SQRT(3) -> 0.03238396
... A33: TOTAL | B33: 23.430915 | C33: 24.403642 | D33: 21.892444 | E33: 25.410627 | F33: 21.17854 | G33: 24.866257 | H33: 22.998924 | I33: 22.335692 | J33: 23.806867 | K33: 21.99626 | L33: 24.282336 | M33: 19.566657 | N33: 26.444708 | O33: 23.012573 | P33: 20.201887 | Q33: 21.047628 | R33: 24.090613 | S33: 23.361882 | T33: 23.955705 | U33: 25.323722 | V33: 21.712376 | W33: 22.523929 | X33: 26.025823 | Y33: 23.703933 | Z33: 20.926982 | AA33: 23.766143 | AB33: 25.364792 | AC33: 19.795829 | AD33: 24.558625 | AE33: 25.471316 | AF33: 24.160387 | AG33: 24.911354 | AH33: 19.561173 | AI33: 21.043078 | AJ33: 26.766345 | AK33: 23.519274 | AL33: 22.730329 | AN33: =AVERAGE(B33:E33) -> 23.784407 | AO33: =AVERAGE(F33:I33) -> 22.844853 | AP33: =AVERAGE(J33:P33) -> 22.758755 | AQ33: =AVERAGE(Q33:S33) -> 22.833374 | AR33: =AVERAGE(T33:W33) -> 23.378933 | AS33: =AVERAGE(X33:AC33) -> 23.263917 | AT33: =AVERAGE(AD33:AF33) -> 24.730109 | AU33: =AVERAGE(AG33:AI33) -> 21.838535 | AV33: =AVERAGE(AJ33:AL33) -> 24.33865 | AX33: =STDEV(B33:E33) -> 1.4980568 | AY33: =STDEV(F33:I33) -> 1.5433357 | AZ33: =STDEV(J33:P33) -> 2.393706 | BA33: =STDEV(Q33:S33) -> 1.5888453 | BB33: =STDEV(T33:W33) -> 1.5940845 | BC33: =STDEV(X33:AC33) -> 2.448532 | BD33: =STDEV(AD33:AF33) -> 0.67207783 | BE33: =STDEV(AG33:AI33) -> 2.7623674 | BF33: =STDEV(AJ33:AL33) -> 2.1391323 | BH33: =AX33/SQRT(4) -> 0.7490284 | BI33: =AY33/SQRT(4) -> 0.77166784 | BJ33: =AZ33/SQRT(7) -> 0.90473584 | BK33: =BA33/SQRT(3) -> 0.91732027 | BL33: =BB33/SQRT(4) -> 0.79704223 | BM33: =BC33/SQRT(6) -> 0.99960901 | BN33: =BD33/SQRT(3) -> 0.38802432 | BO33: =BE33/SQRT(3) -> 1.5948535 | BP33: =BF33/SQRT(3) -> 1.2350286
