Workbook

Sheet COMPARISON
A1: COLLECTED SCALES MEMBERS | I1: Matching emerged intervals from the Pankovski/Pankovska model that are found within a distance of +/- 0.5 cent (except for the minor second)
A2: Frequency [Hz] (base=C4:261.6255653) | B2: Interval span relative to the base [cents] | C2: Cents [rounded] | D2: TET | E2: Limit | F2: M | G2: S | H2: Just Intonation scale [1=yes] https://pages.mtu.edu/~suits/scales.html | I2: Emerged interval span [cents] | J2: Decreasing order of amplitude of the emerged interval | K2: Magnitude of the emerged interval [arbitrary units] | L2: Interval Name | M2: Note
A3: =2^(B3/1200)*261.6255653 -> 261.62557 | B3: 0 | C3: =ROUND(B3,0) -> 0 | D3: 1 | E3: 3 | F3: 1 | H3: 1 | I3: =VLOOKUP(C3,'EMERGED by Pankovski-a'!$A$3:$C$1205,1,FALSE) -> 0 | J3: =VLOOKUP(C3,'EMERGED by Pankovski-a'!$A$3:$C$1205,2,FALSE) -> 1 | K3: =VLOOKUP(C3,'EMERGED by Pankovski-a'!$A$3:$C$1205,3,FALSE) -> 0.15360114 | L3: unison
A4: =2^(B4/1200)*261.6255653 -> 261.6301 | B4: 0.03 | C4: =ROUND(B4,0) -> 0 | E4: 65537 | H4: 0 | I4: =VLOOKUP(C4,'EMERGED by Pankovski-a'!$A$3:$C$1205,1,FALSE) -> 0 | J4: =VLOOKUP(C4,'EMERGED by Pankovski-a'!$A$3:$C$1205,2,FALSE) -> 1 | K4: =VLOOKUP(C4,'EMERGED by Pankovski-a'!$A$3:$C$1205,3,FALSE) -> 0.15360114
A5: =2^(B5/1200)*261.6255653 -> 261.68602 | B5: 0.4 | C5: =ROUND(B5,0) -> 0 | E5: 7 | G5: 1 | H5: 0 | I5: =VLOOKUP(C5,'EMERGED by Pankovski-a'!$A$3:$C$1205,1,FALSE) -> 0 | J5: =VLOOKUP(C5,'EMERGED by Pankovski-a'!$A$3:$C$1205,2,FALSE) -> 1 | K5: =VLOOKUP(C5,'EMERGED by Pankovski-a'!$A$3:$C$1205,3,FALSE) -> 0.15360114
A6: =2^(B6/1200)*261.6255653 -> 261.73439 | B6: 0.72 | C6: =ROUND(B6,0) -> 1 | E6: 7 | G6: 1 | H6: 0 | I6: =VLOOKUP(C6,'EMERGED by Pankovski-a'!$A$3:$C$1205,1,FALSE) -> 1 | J6: =VLOOKUP(C6,'EMERGED by Pankovski-a'!$A$3:$C$1205,2,FALSE) -> 602 | K6: =VLOOKUP(C6,'EMERGED by Pankovski-a'!$A$3:$C$1205,3,FALSE) -> 0
A7: =2^(B7/1200)*261.6255653 -> 261.7767 | B7: 0.9998 | C7: =ROUND(B7,0) -> 1 | D7: 1 | H7: 0 | I7: =VLOOKUP(C7,'EMERGED by Pankovski-a'!$A$3:$C$1205,1,FALSE) -> 1 | J7: =VLOOKUP(C7,'EMERGED by Pankovski-a'!$A$3:$C$1205,2,FALSE) -> 602 | K7: =VLOOKUP(C7,'EMERGED by Pankovski-a'!$A$3:$C$1205,3,FALSE) -> 0
A8: =2^(B8/1200)*261.6255653 -> 261.80697 | B8: 1.2 | C8: =ROUND(B8,0) -> 1 | D8: 1 | H8: 0 | I8: =VLOOKUP(C8,'EMERGED by Pankovski-a'!$A$3:$C$1205,1,FALSE) -> 1 | J8: =VLOOKUP(C8,'EMERGED by Pankovski-a'!$A$3:$C$1205,2,FALSE) -> 602 | K8: =VLOOKUP(C8,'EMERGED by Pankovski-a'!$A$3:$C$1205,3,FALSE) -> 0
A9: =2^(B9/1200)*261.6255653 -> 261.92102 | B9: 1.954 | C9: =ROUND(B9,0) -> 2 | E9: 5 | H9: 0 | I9: =VLOOKUP(C9,'EMERGED by Pankovski-a'!$A$3:$C$1205,1,FALSE) -> 2 | J9: =VLOOKUP(C9,'EMERGED by Pankovski-a'!$A$3:$C$1205,2,FALSE) -> 182 | K9: =VLOOKUP(C9,'EMERGED by Pankovski-a'!$A$3:$C$1205,3,FALSE) -> 1.5030404e-14
A10: =2^(B10/1200)*261.6255653 -> 262.22923 | B10: 3.99 | C10: =ROUND(B10,0) -> 4 | D10: 1 | H10: 0 | I10: =VLOOKUP(C10,'EMERGED by Pankovski-a'!$A$3:$C$1205,1,FALSE) -> 4 | J10: =VLOOKUP(C10,'EMERGED by Pankovski-a'!$A$3:$C$1205,2,FALSE) -> 398 | K10: =VLOOKUP(C10,'EMERGED by Pankovski-a'!$A$3:$C$1205,3,FALSE) -> 3.1504934e-23
A11: =2^(B11/1200)*261.6255653 -> 262.79331 | B11: 7.71 | C11: =ROUND(B11,0) -> 8 | E11: 7 | G11: 1 | H11: 0 | I11: =VLOOKUP(C11,'EMERGED by Pankovski-a'!$A$3:$C$1205,1,FALSE) -> 8 | J11: =VLOOKUP(C11,'EMERGED by Pankovski-a'!$A$3:$C$1205,2,FALSE) -> 334 | K11: =VLOOKUP(C11,'EMERGED by Pankovski-a'!$A$3:$C$1205,3,FALSE) -> 9.1071827e-21
A12: =2^(B12/1200)*261.6255653 -> 262.85403 | B12: 8.11 | C12: =ROUND(B12,0) -> 8 | E12: 5 | H12: 0 | I12: =VLOOKUP(C12,'EMERGED by Pankovski-a'!$A$3:$C$1205,1,FALSE) -> 8 | J12: =VLOOKUP(C12,'EMERGED by Pankovski-a'!$A$3:$C$1205,2,FALSE) -> 334 | K12: =VLOOKUP(C12,'EMERGED by Pankovski-a'!$A$3:$C$1205,3,FALSE) -> 9.1071827e-21
A13: =2^(B13/1200)*261.6255653 -> 263.15027 | B13: 10.06 | C13: =ROUND(B13,0) -> 10 | E13: 5 | H13: 0 | I13: =VLOOKUP(C13,'EMERGED by Pankovski-a'!$A$3:$C$1205,1,FALSE) -> 10 | J13: =VLOOKUP(C13,'EMERGED by Pankovski-a'!$A$3:$C$1205,2,FALSE) -> 554 | K13: =VLOOKUP(C13,'EMERGED by Pankovski-a'!$A$3:$C$1205,3,FALSE) -> 2.7435141e-31
A14: =2^(B14/1200)*261.6255653 -> 263.27038 | B14: 10.85 | C14: =ROUND(B14,0) -> 11 | E14: 53 | G14: 1 | H14: 0 | I14: =VLOOKUP(C14,'EMERGED by Pankovski-a'!$A$3:$C$1205,1,FALSE) -> 11 | J14: =VLOOKUP(C14,'EMERGED by Pankovski-a'!$A$3:$C$1205,2,FALSE) -> 607 | K14: =VLOOKUP(C14,'EMERGED by Pankovski-a'!$A$3:$C$1205,3,FALSE) -> 0
A15: =2^(B15/1200)*261.6255653 -> 263.44227 | B15: 11.98 | C15: =ROUND(B15,0) -> 12 | E15: 29 | G15: 1 | H15: 0 | I15: =VLOOKUP(C15,'EMERGED by Pankovski-a'!$A$3:$C$1205,1,FALSE) -> 12 | J15: =VLOOKUP(C15,'EMERGED by Pankovski-a'!$A$3:$C$1205,2,FALSE) -> 542 | K15: =VLOOKUP(C15,'EMERGED by Pankovski-a'!$A$3:$C$1205,3,FALSE) -> 2.0653308e-30
A16: =2^(B16/1200)*261.6255653 -> 263.52141 | B16: 12.5 | C16: =ROUND(B16,0) -> 13 | D16: 1 | H16: 0 | I16: =VLOOKUP(C16,'EMERGED by Pankovski-a'!$A$3:$C$1205,1,FALSE) -> 13 | J16: =VLOOKUP(C16,'EMERGED by Pankovski-a'!$A$3:$C$1205,2,FALSE) -> 608 | K16: =VLOOKUP(C16,'EMERGED by Pankovski-a'!$A$3:$C$1205,3,FALSE) -> 0
A17: =2^(B17/1200)*261.6255653 -> 263.60819 | B17: 13.07 | C17: =ROUND(B17,0) -> 13 | E17: 7 | H17: 0 | I17: =VLOOKUP(C17,'EMERGED by Pankovski-a'!$A$3:$C$1205,1,FALSE) -> 13 | J17: =VLOOKUP(C17,'EMERGED by Pankovski-a'!$A$3:$C$1205,2,FALSE) -> 608 | K17: =VLOOKUP(C17,'EMERGED by Pankovski-a'!$A$3:$C$1205,3,FALSE) -> 0
A18: =2^(B18/1200)*261.6255653 -> 263.66956 | B18: 13.473 | C18: =ROUND(B18,0) -> 13 | E18: 43 | G18: 1 | H18: 0 | I18: =VLOOKUP(C18,'EMERGED by Pankovski-a'!$A$3:$C$1205,1,FALSE) -> 13 | J18: =VLOOKUP(C18,'EMERGED by Pankovski-a'!$A$3:$C$1205,2,FALSE) -> 608 | K18: =VLOOKUP(C18,'EMERGED by Pankovski-a'!$A$3:$C$1205,3,FALSE) -> 0
A19: =2^(B19/1200)*261.6255653 -> 263.71784 | B19: 13.79 | C19: =ROUND(B19,0) -> 14 | E19: 7 | G19: 1 | H19: 0 | I19: =VLOOKUP(C19,'EMERGED by Pankovski-a'!$A$3:$C$1205,1,FALSE) -> 14 | J19: =VLOOKUP(C19,'EMERGED by Pankovski-a'!$A$3:$C$1205,2,FALSE) -> 221 | K19: =VLOOKUP(C19,'EMERGED by Pankovski-a'!$A$3:$C$1205,3,FALSE) -> 2.870113e-16
A20: =2^(B20/1200)*261.6255653 -> 263.71861 | B20: 13.795 | C20: =ROUND(B20,0) -> 14 | H20: 0 | I20: =VLOOKUP(C20,'EMERGED by Pankovski-a'!$A$3:$C$1205,1,FALSE) -> 14 | J20: =VLOOKUP(C20,'EMERGED by Pankovski-a'!$A$3:$C$1205,2,FALSE) -> 221 | K20: =VLOOKUP(C20,'EMERGED by Pankovski-a'!$A$3:$C$1205,3,FALSE) -> 2.870113e-16
A21: =2^(B21/1200)*261.6255653 -> 263.80575 | B21: 14.367 | C21: =ROUND(B21,0) -> 14 | E21: 11 | G21: 1 | H21: 0 | I21: =VLOOKUP(C21,'EMERGED by Pankovski-a'!$A$3:$C$1205,1,FALSE) -> 14 | J21: =VLOOKUP(C21,'EMERGED by Pankovski-a'!$A$3:$C$1205,2,FALSE) -> 221 | K21: =VLOOKUP(C21,'EMERGED by Pankovski-a'!$A$3:$C$1205,3,FALSE) -> 2.870113e-16
A22: =2^(B22/1200)*261.6255653 -> 264.15692 | B22: 16.67 | C22: =ROUND(B22,0) -> 17 | D22: 1 | H22: 0 | I22: =VLOOKUP(C22,'EMERGED by Pankovski-a'!$A$3:$C$1205,1,FALSE) -> 17 | J22: =VLOOKUP(C22,'EMERGED by Pankovski-a'!$A$3:$C$1205,2,FALSE) -> 610 | K22: =VLOOKUP(C22,'EMERGED by Pankovski-a'!$A$3:$C$1205,3,FALSE) -> 0
A23: =2^(B23/1200)*261.6255653 -> 264.26817 | B23: 17.399 | C23: =ROUND(B23,0) -> 17 | H23: 0 | I23: =VLOOKUP(C23,'EMERGED by Pankovski-a'!$A$3:$C$1205,1,FALSE) -> 17 | J23: =VLOOKUP(C23,'EMERGED by Pankovski-a'!$A$3:$C$1205,2,FALSE) -> 610 | K23: =VLOOKUP(C23,'EMERGED by Pankovski-a'!$A$3:$C$1205,3,FALSE) -> 0
A24: =2^(B24/1200)*261.6255653 -> 264.29519 | B24: 17.576 | C24: =ROUND(B24,0) -> 18 | H24: 0 | I24: =VLOOKUP(C24,'EMERGED by Pankovski-a'!$A$3:$C$1205,1,FALSE) -> 18 | J24: =VLOOKUP(C24,'EMERGED by Pankovski-a'!$A$3:$C$1205,2,FALSE) -> 513 | K24: =VLOOKUP(C24,'EMERGED by Pankovski-a'!$A$3:$C$1205,3,FALSE) -> 4.1854431e-28
A25: =2^(B25/1200)*261.6255653 -> 264.37948 | B25: 18.128 | C25: =ROUND(B25,0) -> 18 | E25: 19 | G25: 1 | H25: 0 | I25: =VLOOKUP(C25,'EMERGED by Pankovski-a'!$A$3:$C$1205,1,FALSE) -> 18 | J25: =VLOOKUP(C25,'EMERGED by Pankovski-a'!$A$3:$C$1205,2,FALSE) -> 513 | K25: =VLOOKUP(C25,'EMERGED by Pankovski-a'!$A$3:$C$1205,3,FALSE) -> 4.1854431e-28
A26: =2^(B26/1200)*261.6255653 -> 264.46929 | B26: 18.716 | C26: =ROUND(B26,0) -> 19 | H26: 0 | I26: =VLOOKUP(C26,'EMERGED by Pankovski-a'!$A$3:$C$1205,1,FALSE) -> 19 | J26: =VLOOKUP(C26,'EMERGED by Pankovski-a'!$A$3:$C$1205,2,FALSE) -> 611 | K26: =VLOOKUP(C26,'EMERGED by Pankovski-a'!$A$3:$C$1205,3,FALSE) -> 0
A27: =2^(B27/1200)*261.6255653 -> 264.50061 | B27: 18.921 | C27: =ROUND(B27,0) -> 19 | H27: 0 | I27: =VLOOKUP(C27,'EMERGED by Pankovski-a'!$A$3:$C$1205,1,FALSE) -> 19 | J27: =VLOOKUP(C27,'EMERGED by Pankovski-a'!$A$3:$C$1205,2,FALSE) -> 611 | K27: =VLOOKUP(C27,'EMERGED by Pankovski-a'!$A$3:$C$1205,3,FALSE) -> 0
A28: =2^(B28/1200)*261.6255653 -> 264.53254 | B28: 19.13 | C28: =ROUND(B28,0) -> 19 | H28: 0 | I28: =VLOOKUP(C28,'EMERGED by Pankovski-a'!$A$3:$C$1205,1,FALSE) -> 19 | J28: =VLOOKUP(C28,'EMERGED by Pankovski-a'!$A$3:$C$1205,2,FALSE) -> 611 | K28: =VLOOKUP(C28,'EMERGED by Pankovski-a'!$A$3:$C$1205,3,FALSE) -> 0
A29: =2^(B29/1200)*261.6255653 -> 264.59672 | B29: 19.55 | C29: =ROUND(B29,0) -> 20 | E29: 5 | G29: 1 | H29: 0 | I29: =VLOOKUP(C29,'EMERGED by Pankovski-a'!$A$3:$C$1205,1,FALSE) -> 20 | J29: =VLOOKUP(C29,'EMERGED by Pankovski-a'!$A$3:$C$1205,2,FALSE) -> 88 | K29: =VLOOKUP(C29,'EMERGED by Pankovski-a'!$A$3:$C$1205,3,FALSE) -> 1.3546243e-09
A30: =2^(B30/1200)*261.6255653 -> 264.63279 | B30: 19.786 | C30: =ROUND(B30,0) -> 20 | H30: 0 | I30: =VLOOKUP(C30,'EMERGED by Pankovski-a'!$A$3:$C$1205,1,FALSE) -> 20 | J30: =VLOOKUP(C30,'EMERGED by Pankovski-a'!$A$3:$C$1205,2,FALSE) -> 88 | K30: =VLOOKUP(C30,'EMERGED by Pankovski-a'!$A$3:$C$1205,3,FALSE) -> 1.3546243e-09
A31: =2^(B31/1200)*261.6255653 -> 264.74012 | B31: 20.488 | C31: =ROUND(B31,0) -> 20 | H31: 0 | I31: =VLOOKUP(C31,'EMERGED by Pankovski-a'!$A$3:$C$1205,1,FALSE) -> 20 | J31: =VLOOKUP(C31,'EMERGED by Pankovski-a'!$A$3:$C$1205,2,FALSE) -> 88 | K31: =VLOOKUP(C31,'EMERGED by Pankovski-a'!$A$3:$C$1205,3,FALSE) -> 1.3546243e-09
A32: =2^(B32/1200)*261.6255653 -> 264.89584 | B32: 21.506 | C32: =ROUND(B32,0) -> 22 | E32: 5 | G32: 1 | H32: 0 | I32: =VLOOKUP(C32,'EMERGED by Pankovski-a'!$A$3:$C$1205,1,FALSE) -> 22 | J32: =VLOOKUP(C32,'EMERGED by Pankovski-a'!$A$3:$C$1205,2,FALSE) -> 33 | K32: =VLOOKUP(C32,'EMERGED by Pankovski-a'!$A$3:$C$1205,3,FALSE) -> 7.7495072e-06
A33: =2^(B33/1200)*261.6255653 -> 265.02333 | B33: 22.339 | C33: =ROUND(B33,0) -> 22 | H33: 0 | I33: =VLOOKUP(C33,'EMERGED by Pankovski-a'!$A$3:$C$1205,1,FALSE) -> 22 | J33: =VLOOKUP(C33,'EMERGED by Pankovski-a'!$A$3:$C$1205,2,FALSE) -> 33 | K33: =VLOOKUP(C33,'EMERGED by Pankovski-a'!$A$3:$C$1205,3,FALSE) -> 7.7495072e-06
A34: =2^(B34/1200)*261.6255653 -> 265.06803 | B34: 22.631 | C34: =ROUND(B34,0) -> 23 | H34: 0 | I34: =VLOOKUP(C34,'EMERGED by Pankovski-a'!$A$3:$C$1205,1,FALSE) -> 23 | J34: =VLOOKUP(C34,'EMERGED by Pankovski-a'!$A$3:$C$1205,2,FALSE) -> 613 | K34: =VLOOKUP(C34,'EMERGED by Pankovski-a'!$A$3:$C$1205,3,FALSE) -> 0
A35: =2^(B35/1200)*261.6255653 -> 265.06941 | B35: 22.64 | C35: =ROUND(B35,0) -> 23 | D35: 1 | H35: 0 | I35: =VLOOKUP(C35,'EMERGED by Pankovski-a'!$A$3:$C$1205,1,FALSE) -> 23 | J35: =VLOOKUP(C35,'EMERGED by Pankovski-a'!$A$3:$C$1205,2,FALSE) -> 613 | K35: =VLOOKUP(C35,'EMERGED by Pankovski-a'!$A$3:$C$1205,3,FALSE) -> 0
A36: =2^(B36/1200)*261.6255653 -> 265.11397 | B36: 22.931 | C36: =ROUND(B36,0) -> 23 | H36: 0 | I36: =VLOOKUP(C36,'EMERGED by Pankovski-a'!$A$3:$C$1205,1,FALSE) -> 23 | J36: =VLOOKUP(C36,'EMERGED by Pankovski-a'!$A$3:$C$1205,2,FALSE) -> 613 | K36: =VLOOKUP(C36,'EMERGED by Pankovski-a'!$A$3:$C$1205,3,FALSE) -> 0
A37: =2^(B37/1200)*261.6255653 -> 265.19499 | B37: 23.46 | C37: =ROUND(B37,0) -> 23 | E37: 3 | H37: 0 | I37: =VLOOKUP(C37,'EMERGED by Pankovski-a'!$A$3:$C$1205,1,FALSE) -> 23 | J37: =VLOOKUP(C37,'EMERGED by Pankovski-a'!$A$3:$C$1205,2,FALSE) -> 613 | K37: =VLOOKUP(C37,'EMERGED by Pankovski-a'!$A$3:$C$1205,3,FALSE) -> 0
A38: =2^(B38/1200)*261.6255653 -> 265.20954 | B38: 23.555 | C38: =ROUND(B38,0) -> 24 | H38: 0 | I38: =VLOOKUP(C38,'EMERGED by Pankovski-a'!$A$3:$C$1205,1,FALSE) -> 24 | J38: =VLOOKUP(C38,'EMERGED by Pankovski-a'!$A$3:$C$1205,2,FALSE) -> 330 | K38: =VLOOKUP(C38,'EMERGED by Pankovski-a'!$A$3:$C$1205,3,FALSE) -> 1.1984642e-20
A39: =2^(B39/1200)*261.6255653 -> 265.4172 | B39: 24.91 | C39: =ROUND(B39,0) -> 25 | H39: 0 | I39: =VLOOKUP(C39,'EMERGED by Pankovski-a'!$A$3:$C$1205,1,FALSE) -> 25 | J39: =VLOOKUP(C39,'EMERGED by Pankovski-a'!$A$3:$C$1205,2,FALSE) -> 614 | K39: =VLOOKUP(C39,'EMERGED by Pankovski-a'!$A$3:$C$1205,3,FALSE) -> 0
A40: =2^(B40/1200)*261.6255653 -> 265.431 | B40: 25 | C40: =ROUND(B40,0) -> 25 | D40: 1 | H40: 0 | I40: =VLOOKUP(C40,'EMERGED by Pankovski-a'!$A$3:$C$1205,1,FALSE) -> 25 | J40: =VLOOKUP(C40,'EMERGED by Pankovski-a'!$A$3:$C$1205,2,FALSE) -> 614 | K40: =VLOOKUP(C40,'EMERGED by Pankovski-a'!$A$3:$C$1205,3,FALSE) -> 0
...

Sheet COMPARISON 2
A2: Cents | B2: All potentially emerged from our model (0-1200 cents) | C2: All emerged from our model (non-zero magnitude) | D2: Interval span relative to the base [cents]
A3: 0 | B3: 0.99188 | C3: =IF(B3>0,1,"") -> 1 | D3: 0
A4: =A3+1 -> 1 | B4: 0 | C4: =IF(B4>0,1,"") | D4: 0.03
A5: =A4+1 -> 2 | B5: 1.3307e-14 | C5: =IF(B5>0,1,"") -> 1 | D5: 0.4
A6: =A5+1 -> 3 | B6: 0 | C6: =IF(B6>0,1,"") | D6: 0.72
A7: =A6+1 -> 4 | B7: 2.0046e-23 | C7: =IF(B7>0,1,"") -> 1 | D7: 0.9998
A8: =A7+1 -> 5 | B8: 0 | C8: =IF(B8>0,1,"") | D8: 1.2
A9: =A8+1 -> 6 | B9: 3.1592e-14 | C9: =IF(B9>0,1,"") -> 1 | D9: 1.954
A10: =A9+1 -> 7 | B10: 0 | C10: =IF(B10>0,1,"") | D10: 3.99
A11: =A10+1 -> 8 | B11: 6.6612e-21 | C11: =IF(B11>0,1,"") -> 1 | D11: 7.71
A12: =A11+1 -> 9 | B12: 0 | C12: =IF(B12>0,1,"") | D12: 8.11
A13: =A12+1 -> 10 | B13: 1.9879e-31 | C13: =IF(B13>0,1,"") -> 1 | D13: 10.06
A14: =A13+1 -> 11 | B14: 0 | C14: =IF(B14>0,1,"") | D14: 10.85
A15: =A14+1 -> 12 | B15: 1.6091e-30 | C15: =IF(B15>0,1,"") -> 1 | D15: 11.98
... A1164: =A1163+1 -> 1161 | B1164: 0 | C1164: =IF(B1164>0,1,"") | D1164: 1200
A1165: =A1164+1 -> 1162 | B1165: 3.9039e-26 | C1165: =IF(B1165>0,1,"") -> 1
A1166: =A1165+1 -> 1163 | B1166: 0 | C1166: =IF(B1166>0,1,"")
A1167: =A1166+1 -> 1164 | B1167: 9.979e-30 | C1167: =IF(B1167>0,1,"") -> 1
A1168: =A1167+1 -> 1165 | B1168: 0 | C1168: =IF(B1168>0,1,"")
A1169: =A1168+1 -> 1166 | B1169: 7.1781e-24 | C1169: =IF(B1169>0,1,"") -> 1
A1170: =A1169+1 -> 1167 | B1170: 0 | C1170: =IF(B1170>0,1,"")
A1171: =A1170+1 -> 1168 | B1171: 4.8138e-27 | C1171: =IF(B1171>0,1,"") -> 1
A1172: =A1171+1 -> 1169 | B1172: 0 | C1172: =IF(B1172>0,1,"")
A1173: =A1172+1 -> 1170 | B1173: 1.4732e-24 | C1173: =IF(B1173>0,1,"") -> 1
A1174: =A1173+1 -> 1171 | B1174: 0 | C1174: =IF(B1174>0,1,"")
A1175: =A1174+1 -> 1172 | B1175: 1.4479e-10 | C1175: =IF(B1175>0,1,"") -> 1
A1176: =A1175+1 -> 1173 | B1176: 0 | C1176: =IF(B1176>0,1,"")
... A1203: =A1202+1 -> 1200 | B1203: 0.12322 | C1203: =IF(B1203>0,1,"") -> 1
B1204: 0

Sheet INVERSIONS
A1: Tonic's octave | B1: Intervals of tonic's octave | C1: Inversions - inverted order to facilitate the comparison | D1: Invesions - lower octave | E1: Inversion's interval (negative cents)
A2: 0.2 | B2: 0 | C2: 0.2 | D2: 0 | E2: -1200
A3: 0 | B3: =B2+1 -> 1 | C3: 0 | D3: 0.12637 | E3: =E2+1 -> -1199
A4: 1.3307e-14 | B4: =B3+1 -> 2 | C4: 1.5643e-15 | D4: 0 | E4: =E3+1 -> -1198
A5: 0 | B5: =B4+1 -> 3 | C5: 0 | D5: 4.4849e-15 | E5: =E4+1 -> -1197
A6: 2.0046e-23 | B6: =B5+1 -> 4 | C6: 4.0785e-21 | D6: 0 | E6: =E5+1 -> -1196
A7: 0 | B7: =B6+1 -> 5 | C7: 0 | D7: 1.624e-23 | E7: =E6+1 -> -1195
A8: 3.1592e-14 | B8: =B7+1 -> 6 | C8: 1.8853e-12 | D8: 0 | E8: =E7+1 -> -1194
A9: 0 | B9: =B8+1 -> 7 | C9: 0 | D9: 1.0872e-15 | E9: =E8+1 -> -1193
A10: 6.6612e-21 | B10: =B9+1 -> 8 | C10: 1.5921e-18 | D10: 0 | E10: =E9+1 -> -1192
A11: 0 | B11: =B10+1 -> 9 | C11: 0 | D11: 8.4595e-23 | E11: =E10+1 -> -1191
A12: 1.9879e-31 | B12: =B11+1 -> 10 | C12: 4.7263e-33 | D12: 0 | E12: =E11+1 -> -1190
A13: 0 | B13: =B12+1 -> 11 | C13: 0 | D13: 1.0302e-30 | E13: =E12+1 -> -1189
A14: 1.6091e-30 | B14: =B13+1 -> 12 | C14: 1.0333e-26 | D14: 0 | E14: =E13+1 -> -1188
... A1203: 0 | B1203: =B1202+1 -> 1201 | C1203: 0 | D1203: 0.2 | E1203: =E1202+1 -> 1

Sheet EMERGED by Pankovski-a
A1: Intervals emerged from our model | F1: Helmholtz's intervals | K1: Intervals emerged from our model | P1: Intervals emerged from the Terhardt's model
A2: CENTS | B2: Decreasing order of magnitudes | C2: Magnitudes | D2: Non-zero | F2: Helmholtz's interval ratio (in parethesis: consonance order) | G2: Ratio (numerics) | H2: Interval span related to the tonic [cent] | I2: Order of consonance per Helmholtz (smallest number means more consonant) | K2: Emerged interval ratio | L2: Emerged interval span [cents] | M2: Decreasing order of magnitudes | N2: Magnitudes | O2: Interval name | R2: fraction to ratio | S2: emerged ratio | T2: Frequency | AA2: https://en.wikipedia.org/wiki/Five-limit_tuning#Twelve-tone_scale
A3: 0 | B3: 1 | C3: 0.15360114 | D3: =IF(C3=0,0,1) -> 1 | F3: 1:1 | G3: =1/1 -> 1 | H3: =1200*LOG(G3)/LOG(2) -> 0 | I3: 1 | K3: 1:1 | L3: 0 | M3: 1 | N3: 0.15360114 | O3: unison | R3: =1 -> 1 | S3: =T3/$T$3 -> 1 | T3: =261.6255653*10^(L3*LOG(2)/1200) -> 261.62557
A4: 1 | B4: 602 | C4: 0 | D4: =IF(C4=0,0,1) -> 0 | F4: 2:1 | G4: =2/1 -> 2 | H4: =1200*LOG(G4)/LOG(2) -> 1200 | I4: 2 | K4: 2:1 | L4: 1200 | M4: 2 | N4: 0.12231934 | O4: octave | R4: =2 -> 2 | S4: =T4/$T$3 -> 2 | T4: =261.6255653*10^(L4*LOG(2)/1200) -> 523.25113
A5: 2 | B5: 182 | C5: 1.5030404e-14 | D5: =IF(C5=0,0,1) -> 1 | F5: 3:2 | G5: =3/2 -> 1.5 | H5: =1200*LOG(G5)/LOG(2) -> 701.955 | I5: 3 | K5: 3:2 | L5: 702 | M5: 3 | N5: 0.064481227 | O5: perfect fifth | R5: =3/2 -> 1.5 | S5: =T5/$T$3 -> 1.500039 | T5: =261.6255653*10^(L5*LOG(2)/1200) -> 392.44855
A6: 3 | B6: 603 | C6: 0 | D6: =IF(C6=0,0,1) -> 0 | F6: 4:3 | G6: =4/3 -> 1.3333333 | H6: =1200*LOG(G6)/LOG(2) -> 498.045 | I6: 4 | K6: 4:3 | L6: 498 | M6: 4 | N6: 0.052040367 | O6: perfect fourth | R6: =4/3 -> 1.3333333 | S6: =T6/$T$3 -> 1.3332987 | T6: =261.6255653*10^(L6*LOG(2)/1200) -> 348.82502
A7: 4 | B7: 398 | C7: 3.1504934e-23 | D7: =IF(C7=0,0,1) -> 1 | F7: 5:3 | G7: =5/3 -> 1.6666667 | H7: =1200*LOG(G7)/LOG(2) -> 884.35871 | I7: 5 | K7: 5:3 | L7: 884 | M7: 5 | N7: 0.043846128 | O7: major sixth | R7: =5/3 -> 1.6666667 | S7: =T7/$T$3 -> 1.6663214 | T7: =261.6255653*10^(L7*LOG(2)/1200) -> 435.95227
A8: 5 | B8: 604 | C8: 0 | D8: =IF(C8=0,0,1) -> 0 | F8: 5:4 | G8: =5/4 -> 1.25 | H8: =1200*LOG(G8)/LOG(2) -> 386.31371 | I8: 6 | K8: 5:4 | L8: 386 | M8: 6 | N8: 0.043254288 | O8: major third | R8: =5/4 -> 1.25 | S8: =T8/$T$3 -> 1.2497735 | T8: =261.6255653*10^(L8*LOG(2)/1200) -> 326.9727
A9: 6 | B9: 171 | C9: 6.040178e-14 | D9: =IF(C9=0,0,1) -> 1 | F9: 6:5 | G9: =6/5 -> 1.2 | H9: =1200*LOG(G9)/LOG(2) -> 315.64129 | I9: 7 | K9: 6:5 | L9: 316 | M9: 7 | N9: 0.010385653 | O9: minor third | R9: =6/5 -> 1.2 | S9: =T9/$T$3 -> 1.2002487 | T9: =261.6255653*10^(L9*LOG(2)/1200) -> 314.01574
A10: 7 | B10: 605 | C10: 0 | D10: =IF(C10=0,0,1) -> 0 | F10: 8:5 | G10: =8/5 -> 1.6 | H10: =1200*LOG(G10)/LOG(2) -> 813.68629 | I10: 8 | K10: 8:5 | L10: 814 | M10: 8 | N10: 0.0075059383 | O10: minor sixth | R10: =8/5 -> 1.6 | S10: =T10/$T$3 -> 1.60029 | T10: =261.6255653*10^(L10*LOG(2)/1200) -> 418.67677
A11: 8 | B11: 334 | C11: 9.1071827e-21 | D11: =IF(C11=0,0,1) -> 1 | F11: 9:8 | G11: =9/8 -> 1.125 | H11: =1200*LOG(G11)/LOG(2) -> 203.91 | I11: 9 | K11: 15:8 | L11: 1088 | M11: 9 | N11: 0.0045326847 | O11: major seventh | R11: =15/8 -> 1.875 | S11: =T11/$T$3 -> 1.874709 | T11: =261.6255653*10^(L11*LOG(2)/1200) -> 490.4718
A12: 9 | B12: 606 | C12: 0 | D12: =IF(C12=0,0,1) -> 0 | F12: 15:8 | G12: =15/8 -> 1.875 | H12: =1200*LOG(G12)/LOG(2) -> 1088.2687 | I12: 10 | K12: 9:8 | L12: 204 | M12: 10 | N12: 0.0031459691 | O12: greater major second | R12: =9/8 -> 1.125 | S12: =T12/$T$3 -> 1.1250585 | T12: =261.6255653*10^(L12*LOG(2)/1200) -> 294.34406
A13: 10 | B13: 554 | C13: 2.7435141e-31 | D13: =IF(C13=0,0,1) -> 1 | F13: 16:9 | G13: =16/9 -> 1.7777778 | H13: =1200*LOG(G13)/LOG(2) -> 996.09 | I13: 11 | K13: 9:5 | L13: 1018 | M13: 11 | N13: 0.002974273 | O13: greater minor seventh | R13: =9/5 -> 1.8 | S13: =T13/$T$3 -> 1.8004198 | T13: =261.6255653*10^(L13*LOG(2)/1200) -> 471.03585
A14: 11 | B14: 607 | C14: 0 | D14: =IF(C14=0,0,1) -> 0 | F14: 16:15 | G14: =16/15 -> 1.0666667 | H14: =1200*LOG(G14)/LOG(2) -> 111.73129 | I14: 12 | K14: 10:9 | L14: 182 | M14: 12 | N14: 0.0028726266 | O14: lesser major second | R14: =10/9 -> 1.1111111 | S14: =T14/$T$3 -> 1.110852 | T14: =261.6255653*10^(L14*LOG(2)/1200) -> 290.62729
A15: 12 | B15: 542 | C15: 2.0653308e-30 | D15: =IF(C15=0,0,1) -> 1 | F15: 45:32 | G15: =45/32 -> 1.40625 | H15: =1200*LOG(G15)/LOG(2) -> 590.22372 | I15: 13 | K15: 16:15 | L15: 112 | M15: 13 | N15: 0.0024045628 | O15: minor second | R15: =16/15 -> 1.0666667 | S15: =T15/$T$3 -> 1.0668322 | T15: =261.6255653*10^(L15*LOG(2)/1200) -> 279.11059
A16: 13 | B16: 608 | C16: 0 | D16: =IF(C16=0,0,1) -> 0 | K16: 16:9 | L16: 996 | M16: 14 | N16: 0.0012834468 | O16: lesser minor seventh | R16: =16/9 -> 1.7777778 | S16: =T16/$T$3 -> 1.7776854 | T16: =261.6255653*10^(L16*LOG(2)/1200) -> 465.08794
A17: 14 | B17: 221 | C17: 2.870113e-16 | D17: =IF(C17=0,0,1) -> 1 | K17: 25:16 | L17: 772 | M17: 15 | N17: 0.00086392319 | O17: classic augmented fifth | R17: =25/16 -> 1.5625 | S17: =T17/$T$3 -> 1.5619338 | T17: =261.6255653*10^(L17*LOG(2)/1200) -> 408.64182
A18: 15 | B18: 609 | C18: 0 | D18: =IF(C18=0,0,1) -> 0 | K18: 25:24 | L18: 70 | M18: 16 | N18: 0.00039390698 | O18: lesser chromatic semitone | R18: =25/24 -> 1.0416667 | S18: =T18/$T$3 -> 1.0412622 | T18: =261.6255653*10^(L18*LOG(2)/1200) -> 272.4208
A19: 16 | B19: 235 | C19: 9.5193749e-17 | D19: =IF(C19=0,0,1) -> 1 | K19: 25:18 | L19: 568 | M19: 17 | N19: 0.00027480963 | O19: classic augmented fourth | R19: =25/18 -> 1.3888889 | S19: =T19/$T$3 -> 1.3883135 | T19: =261.6255653*10^(L19*LOG(2)/1200) -> 363.21829
A20: 17 | B20: 610 | C20: 0 | D20: =IF(C20=0,0,1) -> 0 | K20: 32:25 | L20: 428 | M20: 18 | N20: 0.0002309431 | O20: classic diminished fourth | R20: =32/25 -> 1.28 | S20: =T20/$T$3 -> 1.280464 | T20: =261.6255653*10^(L20*LOG(2)/1200) -> 335.00211
A21: 18 | B21: 513 | C21: 4.1854431e-28 | D21: =IF(C21=0,0,1) -> 1 | K21: 27:20 | L21: 520 | M21: 19 | N21: 0.00021100303 | O21: acute fourth | R21: =27/20 -> 1.35 | S21: =T21/$T$3 -> 1.3503499 | T21: =261.6255653*10^(L21*LOG(2)/1200) -> 353.28607
A22: 19 | B22: 611 | C22: 0 | D22: =IF(C22=0,0,1) -> 0 | K22: 36:25 | L22: 632 | M22: 20 | N22: 0.00019600977 | O22: classic diminished fifth | R22: =36/25 -> 1.44 | S22: =T22/$T$3 -> 1.4405969 | T22: =261.6255653*10^(L22*LOG(2)/1200) -> 376.89697
A23: 20 | B23: 88 | C23: 1.3546243e-09 | D23: =IF(C23=0,0,1) -> 1 | K23: 48:25 | L23: 1130 | M23: 21 | N23: 0.00018206136 | O23: diminished octave | R23: =48/25 -> 1.92 | S23: =T23/$T$3 -> 1.9207459 | T23: =261.6255653*10^(L23*LOG(2)/1200) -> 502.51623
A24: 21 | B24: 612 | C24: 0 | D24: =IF(C24=0,0,1) -> 0 | K24: 45:32 | L24: 590 | M24: 22 | N24: 0.00017211528 | O24: augmented fourth (tritone) | R24: =45/32 -> 1.40625 | S24: =T24/$T$3 -> 1.4060683 | T24: =261.6255653*10^(L24*LOG(2)/1200) -> 367.86341
D25: =IF(C25=0,0,1) -> 0 | K25: … | L25: … | M25: … | N25: … | O25: …
D26: =IF(C26=0,0,1) -> 0
A27: 22 | B27: 33 | C27: 7.7495072e-06 | D27: =IF(C27=0,0,1) -> 1 | L27: 906 | M27: 23 | N27: 0.00015346767
A28: 23 | B28: 613 | C28: 0 | D28: =IF(C28=0,0,1) -> 0 | L28: 680 | M28: 24 | N28: 0.00011350702
A29: 24 | B29: 330 | C29: 1.1984642e-20 | D29: =IF(C29=0,0,1) -> 1 | L29: 134 | M29: 25 | N29: 7.8065455e-05
A30: 25 | B30: 614 | C30: 0 | D30: =IF(C30=0,0,1) -> 0 | L30: 294 | M30: 26 | N30: 6.8436563e-05 | S30: =T30/$T$3 -> 1.1850928 | T30: =261.6255653*10^(L30*LOG(2)/1200) -> 310.05057
A31: 26 | B31: 193 | C31: 5.2403631e-15 | D31: =IF(C31=0,0,1) -> 1 | L31: 610 | M31: 27 | N31: 5.9937282e-05 | S31: =T31/$T$3 -> 1.422406 | T31: =261.6255653*10^(L31*LOG(2)/1200) -> 372.13778
A32: 27 | B32: 615 | C32: 0 | D32: =IF(C32=0,0,1) -> 0 | L32: 1066 | M32: 28 | N32: 5.3509404e-05 | S32: =T32/$T$3 -> 1.8510365 | T32: =261.6255653*10^(L32*LOG(2)/1200) -> 484.27847
A33: 28 | B33: 110 | C33: 8.8755681e-11 | D33: =IF(C33=0,0,1) -> 1 | L33: 274 | M33: 29 | N33: 4.6511988e-05 | S33: =T33/$T$3 -> 1.1714808 | T33: =261.6255653*10^(L33*LOG(2)/1200) -> 306.48933
A34: 29 | B34: 616 | C34: 0 | D34: =IF(C34=0,0,1) -> 0 | L34: 926 | M34: 30 | N34: 1.204779e-05 | S34: =T34/$T$3 -> 1.7072409 | T34: =261.6255653*10^(L34*LOG(2)/1200) -> 446.65787
A35: 30 | B35: 423 | C35: 3.5959769e-24 | D35: =IF(C35=0,0,1) -> 1 | L35: 1158 | M35: 31 | N35: 1.0124882e-05 | S35: =T35/$T$3 -> 1.9520635 | T35: =261.6255653*10^(L35*LOG(2)/1200) -> 510.70972
A36: 31 | B36: 617 | C36: 0 | D36: =IF(C36=0,0,1) -> 0 | L36: 954 | M36: 32 | N36: 7.8935234e-06 | S36: =T36/$T$3 -> 1.7350774 | T36: =261.6255653*10^(L36*LOG(2)/1200) -> 453.9406
A37: 32 | B37: 590 | C37: 6.3447803e-37 | D37: =IF(C37=0,0,1) -> 1 | L37: 22 | M37: 33 | N37: 7.7495072e-06 | S37: =T37/$T$3 -> 1.0127888 | T37: =261.6255653*10^(L37*LOG(2)/1200) -> 264.97144
A38: 33 | B38: 618 | C38: 0 | D38: =IF(C38=0,0,1) -> 0 | L38: 456 | M38: 34 | N38: 6.7889706e-06
A39: 34 | B39: 452 | C39: 2.0659698e-25 | D39: =IF(C39=0,0,1) -> 1 | L39: 246 | M39: 35 | N39: 6.7124866e-06
A40: 35 | B40: 619 | C40: 0 | D40: =IF(C40=0,0,1) -> 0 | L40: 42 | M40: 36 | N40: 4.9279604e-06
...

Sheet EMERGED by Terhardt
A1: CENTS | B1: Decreasing order of magnitudes | C1: Magnitudes | H1: CENTS | I1: Decreasing order of magnitudes | J1: Magnitudes
A2: 0 | B2: 1 | C2: 0.99863105 | H2: 0 | I2: 1 | J2: 0.99863105
A3: 1 | B3: 7 | C3: 0 | H3: 1200 | I3: 2 | J3: 0.13349837
A4: 2 | B4: 8 | C4: 0 | H4: 702 | I4: 3 | J4: 0.062492079
A5: 3 | B5: 9 | C5: 0 | H5: 498 | I5: 4 | J5: 0.050587578
A6: 4 | B6: 10 | C6: 0 | H6: 884 | I6: 5 | J6: 0.04552882
A7: 5 | B7: 11 | C7: 0 | H7: 386 | I7: 6 | J7: 0.040595977
A8: 6 | B8: 12 | C8: 0 | H8: 1 | I8: 7 | J8: 0
A9: 7 | B9: 13 | C9: 0 | H9: 2 | I9: 8 | J9: 0
A10: 8 | B10: 14 | C10: 0 | H10: 3 | I10: 9 | J10: 0
A11: 9 | B11: 15 | C11: 0 | H11: 4 | I11: 10 | J11: 0
A12: 10 | B12: 16 | C12: 0 | H12: 5 | I12: 11 | J12: 0
A13: 11 | B13: 17 | C13: 0 | H13: 6 | I13: 12 | J13: 0
... A1202: 1200 | B1202: 2 | C1202: 0.13349837 | H1202: 1199 | I1202: 1201 | J1202: 0

Sheet Misc
A1: https://pages.mtu.edu/~suits/scales.html
A3: Interval Name | B3: Just Scale Ratio to Fundamental | C3: Ratios | D3: Hz | E3: Just cents | F3: Emerged cents | G3: Error | H3: Distance | I3: Emerged interval magnitude
A4: Unison | B4: 1 | C4: 1 | D4: 261.62557 | E4: =1200*LOG(D4/$D$4,2) -> 0 | F4: 0 | G4: =ABS(E4-F4) -> 0 | I4: 0.1536
A5: Minor Second | B5: 25/24 = 1.0417 | C5: =25/24 -> 1.0416667 | D5: =C5*$D$4 -> 272.52663 | E5: =1200*LOG(D5/$D$4,2) -> 70.672427 | F5: 70 | G5: =ABS(E5-F5) -> 0.67242686 | H5: =F5-F4 -> 70 | I5: 0.0004
A6: Major Second | B6: 9/8 = 1.1250 | C6: =9/8 -> 1.125 | D6: =C6*$D$4 -> 294.32876 | E6: =1200*LOG(D6/$D$4,2) -> 203.91 | F6: 204 | G6: =ABS(E6-F6) -> 0.089998269 | H6: =F6-F5 -> 134 | I6: 0.0031
A7: Minor Third | B7: 6/5 = 1.2000 | C7: =6/5 -> 1.2 | D7: =C7*$D$4 -> 313.95068 | E7: =1200*LOG(D7/$D$4,2) -> 315.64129 | F7: 316 | G7: =ABS(E7-F7) -> 0.358713 | H7: =F7-F6 -> 112 | I7: 0.0104
A8: Major Third | B8: 5/4 = 1.2500 | C8: =5/4 -> 1.25 | D8: =C8*$D$4 -> 327.03196 | E8: =1200*LOG(D8/$D$4,2) -> 386.31371 | F8: 386 | G8: =ABS(E8-F8) -> 0.31371386 | H8: =F8-F7 -> 70 | I8: 0.0433
A9: Fourth | B9: 4/3 = 1.3333 | C9: =4/3 -> 1.3333333 | D9: =C9*$D$4 -> 348.83409 | E9: =1200*LOG(D9/$D$4,2) -> 498.045 | F9: 498 | G9: =ABS(E9-F9) -> 0.044999135 | H9: =F9-F8 -> 112 | I9: 0.052
A10: Diminished Fifth | B10: 45/32 = 1.4063 | C10: =45/32 -> 1.40625 | D10: =C10*$D$4 -> 367.91095 | E10: =1200*LOG(D10/$D$4,2) -> 590.22372 | F10: 590 | G10: =ABS(E10-F10) -> 0.2237156 | H10: =F10-F9 -> 92 | I10: 0.0002
A11: Fifth | B11: 3/2 = 1.5000 | C11: =3/2 -> 1.5 | D11: =C11*$D$4 -> 392.43835 | E11: =1200*LOG(D11/$D$4,2) -> 701.955 | F11: 702 | G11: =ABS(E11-F11) -> 0.044999135 | H11: =F11-F10 -> 112 | I11: 0.0645
A12: Minor Sixth | B12: 8/5 = 1.6000 | C12: =8/5 -> 1.6 | D12: =C12*$D$4 -> 418.6009 | E12: =1200*LOG(D12/$D$4,2) -> 813.68629 | F12: 814 | G12: =ABS(E12-F12) -> 0.31371386 | H12: =F12-F11 -> 112 | I12: 0.0075
A13: Major Sixth | B13: 5/3 = 1.6667 | C13: =5/3 -> 1.6666667 | D13: =C13*$D$4 -> 436.04261 | E13: =1200*LOG(D13/$D$4,2) -> 884.35871 | F13: 884 | G13: =ABS(E13-F13) -> 0.358713 | H13: =F13-F12 -> 70 | I13: 0.0438
A14: Minor Seventh | B14: 9/5 = 1.8000 | C14: =9/5 -> 1.8 | D14: =C14*$D$4 -> 470.92602 | E14: =1200*LOG(D14/$D$4,2) -> 1017.5963 | F14: 1018 | G14: =ABS(E14-F14) -> 0.40371213 | H14: =F14-F13 -> 134 | I14: 0.003
A15: Major Seventh | B15: 15/8 = 1.8750 | C15: =15/8 -> 1.875 | D15: =C15*$D$4 -> 490.54793 | E15: =1200*LOG(D15/$D$4,2) -> 1088.2687 | F15: 1088 | G15: =ABS(E15-F15) -> 0.26871473 | H15: =F15-F14 -> 70 | I15: 0.0045
A16: Octave | B16: 2 | C16: 2 | D16: =C16*$D$4 -> 523.25113 | E16: =1200*LOG(D16/$D$4,2) -> 1200 | F16: 1200 | G16: =ABS(E16-F16) -> 0 | H16: =F16-F15 -> 112 | I16: 0.1223
E20: https://en.wikipedia.org/wiki/Five-limit_tuning#Twelve-tone_scale | J20: Ratio | L20: Decimal
J21: 15 | K21: 14 | L21: =J21/K21 -> 1.0714286
J22: 14 | K22: 13 | L22: =J22/K22 -> 1.0769231
J23: 8 | K23: 7 | L23: =J23/K23 -> 1.1428571
J24: 25 | K24: 18 | L24: =J24/K24 -> 1.3888889
J25: 7 | K25: 5 | L25: =J25/K25 -> 1.4
J26: 17 | K26: 12 | L26: =J26/K26 -> 1.4166667
J27: 10 | K27: 7 | L27: =J27/K27 -> 1.4285714
J28: 24 | K28: 17 | L28: =J28/K28 -> 1.4117647
J29: 36 | K29: 25 | L29: =J29/K29 -> 1.44
J30: 64 | K30: 45 | L30: =J30/K30 -> 1.4222222
J31: 45 | K31: 32 | L31: =J31/K31 -> 1.40625
J32: 15 | K32: 8 | L32: =J32/K32 -> 1.875
... J34: 13 | K34: 7 | L34: =J34/K34 -> 1.8571429
A42: Lots and Stone:

Sheet The First Sweep yielded
A2: Complex sound # | C2: Harmonics emerged in sweep 1 for selected tonic f0 - single repetition for each tone -
C3: 1 | E3: 2 | G3: 3 | I3: 4 | K3: 5 | O3: denominator | P3: 1 | R3: 2 | T3: 3 | V3: 4 | X3: 5
A4: 1 | B4: Tone frequency [fraction of f0]: | C4: 1/5 | E4: 2/5 | G4: 3/5 | I4: 4/5 | K4: 5/5 | O4: 5 | P4: =P$3/$O4 -> 0.2 | R4: =R$3/$O4 -> 0.4 | T4: =T$3/$O4 -> 0.6 | V4: =V$3/$O4 -> 0.8 | X4: =X$3/$O4 -> 1 | Z4: =P$3/$O4 -> 0.2 | AA4: =P$3/$O6 -> 0.25 | AB4: =P$3/$O8 -> 0.33333333 | AC4: =P$3/$O10 -> 0.5
B5: Interval f0 to f [cents]: | C5: =1200*LOG(P4/$X$4)/LOG(2) -> -2786.3137 | D5: - | E5: =1200*LOG(R4/$X$4)/LOG(2) -> -1586.3137 | F5: - | G5: =1200*LOG(T4/$X$4)/LOG(2) -> -884.35871 | H5: major 6th | I5: =1200*LOG(V4/$X$4)/LOG(2) -> -386.31371 | J5: major 3rd | K5: =1200*LOG(X4/$X$4)/LOG(2) -> 0 | L5: unison | O5: f0 octave below for inversion | X5: =X4/2 -> 0.5
A6: 2 | B6: Tone frequency [fraction of f0]: | C6: 1/4 | E6: 2/4 | G6: 3/4 | I6: 4/4 | K6: 5/4 | O6: 4 | P6: =P$3/$O6 -> 0.25 | R6: =R$3/$O6 -> 0.5 | T6: =T$3/$O6 -> 0.75 | V6: =V$3/$O6 -> 1 | X6: =X$3/$O6 -> 1.25
B7: Interval f0 to f [cents]: | C7: =1200*LOG(P6/$V$6)/LOG(2) -> -2400 | D7: - | E7: =1200*LOG(R6/$V$6)/LOG(2) -> -1200 | F7: - | G7: =1200*LOG(T6/$V$6)/LOG(2) -> -498.045 | H7: perfect 4th | I7: =1200*LOG(V6/$V$6)/LOG(2) -> 0 | J7: unison | K7: =1200*LOG(X6/$V$6)/LOG(2) -> 386.31371 | L7: major 3rd | O7: f0 octave below for inversion | V7: =V6/2 -> 0.5 | Z7: =T$3/$O4 -> 0.6 | AA7: =T$3/$O6 -> 0.75 | AC7: =T$3/$O10 -> 1.5 | AD7: =T$3/$O12 -> 3
A8: 3 | B8: Tone frequency [fraction of f0]: | C8: 1/3 | E8: 2/3 | G8: 3/3 | I8: 4/3 | K8: 5/3 | O8: 3 | P8: =P$3/$O8 -> 0.33333333 | R8: =R$3/$O8 -> 0.66666667 | T8: =T$3/$O8 -> 1 | V8: =V$3/$O8 -> 1.3333333 | X8: =X$3/$O8 -> 1.6666667 | Z8: =V$3/$O4 -> 0.8 | AB8: =V$3/$O8 -> 1.3333333 | AD8: =V$3/$O12 -> 4
B9: Interval f0 to f [cents]: | C9: =1200*LOG(P8/$T$8)/LOG(2) -> -1901.955 | D9: - | E9: =1200*LOG(R8/$T$8)/LOG(2) -> -701.955 | F9: perfect 5th | G9: =1200*LOG(T8/$T$8)/LOG(2) -> 0 | H9: unison | I9: =1200*LOG(V8/$T$8)/LOG(2) -> 498.045 | J9: perfect 4th | K9: =1200*LOG(X8/$T$8)/LOG(2) -> 884.35871 | L9: major 6th | O9: f0 octave below for inversion | T9: =T8/2 -> 0.5
A10: 4 | B10: Tone frequency [fraction of f0]: | C10: 1/2 | E10: 2/2 | G10: 3/2 | I10: 4/2 | K10: 5/2 | O10: 2 | P10: =P$3/$O10 -> 0.5 | R10: =R$3/$O10 -> 1 | T10: =T$3/$O10 -> 1.5 | V10: =V$3/$O10 -> 2 | X10: =X$3/$O10 -> 2.5
B11: Interval f0 to f [cents]: | C11: =1200*LOG(P10/$R$10)/LOG(2) -> -1200 | D11: - | E11: =1200*LOG(R10/$R$10)/LOG(2) -> 0 | F11: unison | G11: =1200*LOG(T10/$R$10)/LOG(2) -> 701.955 | H11: perfect 5th | I11: =1200*LOG(V10/$R$10)/LOG(2) -> 1200 | J11: octave | K11: =1200*LOG(X10/$R$10)/LOG(2) -> 1586.3137 | L11: - | O11: f0 octave below for inversion | R11: =R10/2 -> 0.5
A12: 5 | B12: Tone frequency [fraction of f0]: | C12: 1 | E12: 2 | G12: 3 | I12: 4 | K12: 5 | O12: 1 | P12: =P$3/$O12 -> 1 | R12: =R$3/$O12 -> 2 | T12: =T$3/$O12 -> 3 | V12: =V$3/$O12 -> 4 | X12: =X$3/$O12 -> 5
B13: Interval f0 to f [cents]: | C13: =1200*LOG(P12/$P$12)/LOG(2) -> 0 | D13: unison | E13: =1200*LOG(R12/$P$12)/LOG(2) -> 1200 | F13: octave | G13: =1200*LOG(T12/$P$12)/LOG(2) -> 1901.955 | H13: - | I13: =1200*LOG(V12/$P$12)/LOG(2) -> 2400 | J13: - | K13: =1200*LOG(X12/$P$12)/LOG(2) -> 2786.3137 | L13: - | O13: f0 octave below for inversion | P13: =P12/2 -> 0.5

Sheet Resolution 1 cent 8 sweeps
A1: Interval [Cents] | B1: Magnitude | C1: Emergence
B2: 0.99988685 | C2: =IF(B2=0,0,1) -> 1
B3: 0 | C3: =IF(B3=0,0,1) -> 0
B4: 0 | C4: =IF(B4=0,0,1) -> 0
B5: 0 | C5: =IF(B5=0,0,1) -> 0
B6: 0 | C6: =IF(B6=0,0,1) -> 0
B7: 0 | C7: =IF(B7=0,0,1) -> 0
B8: 0 | C8: =IF(B8=0,0,1) -> 0
B9: 0 | C9: =IF(B9=0,0,1) -> 0
B10: 0 | C10: =IF(B10=0,0,1) -> 0
B11: 0 | C11: =IF(B11=0,0,1) -> 0
B12: 0 | C12: =IF(B12=0,0,1) -> 0
B13: 0 | C13: =IF(B13=0,0,1) -> 0
... B1202: 0.015296436 | C1202: =IF(B1202=0,0,1) -> 1
