Workbook

Sheet instructions
B2: INSTRUCTIONS and TERMS OF USE
B3: 1 | C3: This is a morphometric template for species of the Tardigrada Order Apochela.
B4: 2 | C4: The template caluclates the pt ratio and other relative measures only if all measurements required to calculate a ratio are provided (otherwise the ratio cell remains empty, meaning lack of data). The only numbers you need to enter are absolute measurements in micrometres [μm] in sheets "females" and "males". If a structure is not measurable leave the cell empty (enetring zeros will mean that the trait has a value of 0).
B5: 3 | C5: Both "females" and "males" sheets automatically calculate basic statistics (number of measurements, range, mean and SD). The table with these statistics is placed after the last (30th) specimen. The summary table can be then copied and pasted directly to MS Word.
B6: 4 | C6: If measurements are done on the type series, please enter the holotype in the first column (this way holotype data are automatically copied to the summary table at end of the sheet). If measurements are not done on the type series, you may delete the last two columns in the summary table. You may change specimen/slide names as desired.
B7: 5 | C7: If a trait listed is not present in the species you are measuring, remove the entire row (highlight the row, right mouse click, choose "delete").
B8: 6 | C8: Data from sheets "females" and "males" are automatically copied to the four remaining "stats" sheets. Data in those sheets are arranged for statistical analyses in the majority of statistical software.
B9: 7 | C9: If you want to see the formulas behind this template, press Ctrl+` (usually just before "1" on the keyboard). To return to the value view, press Ctrl+` again.
B10: 8 | C10: This template can be freely used but each published use must be credited as Morphometric data were handled using the Apochela ver. 1.2 template available from the Tardigrada Register, www.tardigrada.net/register (Michalczyk & Kaczmarek 2013). The reference is: Michalczyk, Ł. & Kaczmarek, Ł. (2013) The Tardigrada Register: a comprehensive online data repository for tardigrade taxonomy. Journal of Limnology, 72(S1): 175-181. DOI:10.4081/jlimnol.2013.s1.e22
B11: 9 | C11: Copyright by Łukasz Michalczyk. Enquires and suggestions: LM@tardigrada.net

Sheet general info
B2: Species | D2: Genus species
B3: Population | D3: Country.sample
B4: Type series | D4: YES/NO
B6: Author | D6: Name Surname
B7: Date | D7: DD.MM.YYYY

Sheet females
A1: SPECIMEN | B1: 1 (Hol) | D1: 2 | F1: 3 | H1: 4 | J1: 5 | L1: 6 | N1: 7 | P1: 8 | R1: 9 (Pol) | T1: 10 (Pol) | V1: 11 | X1: 12 | Z1: 13 | AB1: 14 | AD1: 15 | AF1: 16 | AH1: 17 | AJ1: 18 | AL1: 19 | AN1: 20 | AP1: 21 | AR1: 22 | BK1: CHARACTER | BL1: N | BM1: RANGE | BS1: MEAN | BU1: SD | BW1: Holotype
A2: CHARACTER | B2: µm | C2: pt | D2: µm | E2: pt | F2: µm | G2: pt | H2: µm | I2: pt | J2: µm | K2: pt | L2: µm | M2: pt | N2: µm | O2: pt | P2: µm | Q2: pt | R2: µm | S2: pt | T2: µm | U2: pt | V2: µm | W2: pt | X2: µm | Y2: pt | Z2: µm | AA2: pt | AB2: µm | AC2: pt | AD2: µm | AE2: pt | AF2: µm | AG2: pt | AH2: µm | AI2: pt | AJ2: µm | AK2: pt | AL2: µm | AM2: pt | AN2: µm | AO2: pt | AP2: µm | AQ2: pt | AR2: µm | AS2: pt | AT2: µm | AU2: pt | AV2: µm | AW2: pt | AX2: µm | AY2: pt | AZ2: µm | BA2: pt | BB2: µm | BC2: pt | BD2: µm | BE2: pt | BF2: µm | BG2: pt | BH2: µm | BI2: pt | BM2: µm | BP2: pt | BS2: µm | BT2: pt | BU2: µm | BV2: pt | BW2: µm | BX2: pt
A3: Body length | B3: 858.94 | C3: =IF(AND((B3>0),(B$7>0)),(B3/B$7*100),"") -> 1353.3008 | D3: 809.68 | E3: =IF(AND((D3>0),(D$7>0)),(D3/D$7*100),"") -> 1231.078 | F3: 875.43 | G3: =IF(AND((F3>0),(F$7>0)),(F3/F$7*100),"") -> 1349.3064 | H3: 787.37 | I3: =IF(AND((H3>0),(H$7>0)),(H3/H$7*100),"") -> 1319.762 | J3: 752.92 | K3: =IF(AND((J3>0),(J$7>0)),(J3/J$7*100),"") -> 1264.9866 | L3: 762.87 | M3: =IF(AND((L3>0),(L$7>0)),(L3/L$7*100),"") -> 1087.174 | N3: 717.23 | O3: =IF(AND((N3>0),(N$7>0)),(N3/N$7*100),"") -> 1158.1301 | P3: 755.97 | Q3: =IF(AND((P3>0),(P$7>0)),(P3/P$7*100),"") -> 1239.092 | R3: 780.06 | S3: =IF(AND((R3>0),(R$7>0)),(R3/R$7*100),"") -> 1284.0494 | T3: 783.5 | U3: =IF(AND((T3>0),(T$7>0)),(T3/T$7*100),"") -> 1266.365 | V3: 734.63 | W3: =IF(AND((V3>0),(V$7>0)),(V3/V$7*100),"") -> 1095.155 | X3: 743.07 | Y3: =IF(AND((X3>0),(X$7>0)),(X3/X$7*100),"") -> 1168.1654 | Z3: 657.58 | AA3: =IF(AND((Z3>0),(Z$7>0)),(Z3/Z$7*100),"") -> 1145.8094 | AB3: 710.23 | AC3: =IF(AND((AB3>0),(AB$7>0)),(AB3/AB$7*100),"") -> 1246.2362 | AD3: 706.44 | AE3: =IF(AND((AD3>0),(AD$7>0)),(AD3/AD$7*100),"") -> 1082.3349 | AF3: 816.89 | AG3: =IF(AND((AF3>0),(AF$7>0)),(AF3/AF$7*100),"") -> 1249.8317 | AH3: 656.52 | AI3: =IF(AND((AH3>0),(AH$7>0)),(AH3/AH$7*100),"") -> 1115.9612 | AJ3: 719.83 | AK3: =IF(AND((AJ3>0),(AJ$7>0)),(AJ3/AJ$7*100),"") -> 1244.5194 | AL3: 807.59 | AM3: =IF(AND((AL3>0),(AL$7>0)),(AL3/AL$7*100),"") -> 1278.4391 | AN3: 678.22 | AO3: =IF(AND((AN3>0),(AN$7>0)),(AN3/AN$7*100),"") -> 1207.0119 | AP3: 741.79 | AQ3: =IF(AND((AP3>0),(AP$7>0)),(AP3/AP$7*100),"") -> 1222.0593 | AR3: 694.21 | AS3: =IF(AND((AR3>0),(AR$7>0)),(AR3/AR$7*100),"") -> 1216.8449 | AU3: =IF(AND((AT3>0),(AT$7>0)),(AT3/AT$7*100),"") | AW3: =IF(AND((AV3>0),(AV$7>0)),(AV3/AV$7*100),"") | AY3: =IF(AND((AX3>0),(AX$7>0)),(AX3/AX$7*100),"") | BA3: =IF(AND((AZ3>0),(AZ$7>0)),(AZ3/AZ$7*100),"") | BC3: =IF(AND((BB3>0),(BB$7>0)),(BB3/BB$7*100),"") | BE3: =IF(AND((BD3>0),(BD$7>0)),(BD3/BD$7*100),"") | BG3: =IF(AND((BF3>0),(BF$7>0)),(BF3/BF$7*100),"") | BI3: =IF(AND((BH3>0),(BH$7>0)),(BH3/BH$7*100),"") | BK3: =A3 -> Body length | BL3: =COUNT(B3,D3,F3,H3,J3,L3,N3,P3,R3,T3,V3,X3,Z3,AB3,AD3,AF3,AH3,AJ3,AL3,AN3,AP3,AR3,AT3,AV3,AX3,AZ3,BB3,BD3,BF3,BH3) -> 22 | BM3: =IF(SUM(B3,D3,F3,H3,J3,L3,N3,P3,R3,T3,V3,X3,Z3,AB3,AD3,AF3,AH3,AJ3,AL3,AN3,AP3,AR3,AT3,AV3,AX3,AZ3,BB3,BD3,BF3,BH3)>0,MIN(B3,D3,F3,H3,J3,L3,N3,P3,R3,T3,V3,X3,Z3,AB3,AD3,AF3,AH3,AJ3,AL3,AN3,AP3,AR3,AT3,AV3,AX3,AZ3,BB3,BD3,BF3,BH3),"") -> 656.52 | BN3: =IF(COUNT(BM3)>0,"–","?") -> – | BO3: =IF(SUM(B3,D3,F3,H3,J3,L3,N3,P3,R3,T3,V3,X3,Z3,AB3,AD3,AF3,AH3,AJ3,AL3,AN3,AP3,AR3,AT3,AV3,AX3,AZ3,BB3,BD3,BF3,BH3)>0,MAX(B3,D3,F3,H3,J3,L3,N3,P3,R3,T3,V3,X3,Z3,AB3,AD3,AF3,AH3,AJ3,AL3,AN3,AP3,AR3,AT3,AV3,AX3,AZ3,BB3,BD3,BF3,BH3),"") -> 875.43 | BP3: =IF(SUM(C3,E3,G3,I3,K3,M3,O3,Q3,S3,U3,W3,Y3,AA3,AC3,AE3,AG3,AI3,AK3,AM3,AO3,AQ3,AS3,AU3,AW3,AY3,BA3,BC3,BE3,BG3,BI3)>0,MIN(C3,E3,G3,I3,K3,M3,O3,Q3,S3,U3,W3,Y3,AA3,AC3,AE3,AG3,AI3,AK3,AM3,AO3,AQ3,AS3,AU3,AW3,AY3,BA3,BC3,BE3,BG3,BI3),"") -> 1082.3349 | BQ3: =IF(COUNT(BP3)>0,"–","?") -> – | BR3: =IF(SUM(C3,E3,G3,I3,K3,M3,O3,Q3,S3,U3,W3,Y3,AA3,AC3,AE3,AG3,AI3,AK3,AM3,AO3,AQ3,AS3,AU3,AW3,AY3,BA3,BC3,BE3,BG3,BI3)>0,MAX(C3,E3,G3,I3,K3,M3,O3,Q3,S3,U3,W3,Y3,AA3,AC3,AE3,AG3,AI3,AK3,AM3,AO3,AQ3,AS3,AU3,AW3,AY3,BA3,BC3,BE3,BG3,BI3),"") -> 1353.3008 | BS3: =IF(SUM(B3,D3,F3,H3,J3,L3,N3,P3,R3,T3,V3,X3,Z3,AB3,AD3,AF3,AH3,AJ3,AL3,AN3,AP3,AR3,AT3,AV3,AX3,AZ3,BB3,BD3,BF3,BH3)>0,AVERAGE(B3,D3,F3,H3,J3,L3,N3,P3,R3,T3,V3,X3,Z3,AB3,AD3,AF3,AH3,AJ3,AL3,AN3,AP3,AR3,AT3,AV3,AX3,AZ3,BB3,BD3,BF3,BH3),"?") -> 752.31682 | BT3: =IF(SUM(C3,E3,G3,I3,K3,M3,O3,Q3,S3,U3,W3,Y3,AA3,AC3,AE3,AG3,AI3,AK3,AM3,AO3,AQ3,AS3,AU3,AW3,AY3,BA3,BC3,BE3,BG3,BI3)>0,AVERAGE(C3,E3,G3,I3,K3,M3,O3,Q3,S3,U3,W3,Y3,AA3,AC3,AE3,AG3,AI3,AK3,AM3,AO3,AQ3,AS3,AU3,AW3,AY3,BA3,BC3,BE3,BG3,BI3),"?") -> 1219.346 | BU3: =IF(COUNT(B3,D3,F3,H3,J3,L3,N3,P3,R3,T3,V3,X3,Z3,AB3,AD3,AF3,AH3,AJ3,AL3,AN3,AP3,AR3,AT3,AV3,AX3,AZ3,BB3,BD3,BF3,BH3)>1,STDEV(B3,D3,F3,H3,J3,L3,N3,P3,R3,T3,V3,X3,Z3,AB3,AD3,AF3,AH3,AJ3,AL3,AN3,AP3,AR3,AT3,AV3,AX3,AZ3,BB3,BD3,BF3,BH3),"?") -> 59.292267 | BV3: =IF(COUNT(C3,E3,G3,I3,K3,M3,O3,Q3,S3,U3,W3,Y3,AA3,AC3,AE3,AG3,AI3,AK3,AM3,AO3,AQ3,AS3,AU3,AW3,AY3,BA3,BC3,BE3,BG3,BI3)>1,STDEV(C3,E3,G3,I3,K3,M3,O3,Q3,S3,U3,W3,Y3,AA3,AC3,AE3,AG3,AI3,AK3,AM3,AO3,AQ3,AS3,AU3,AW3,AY3,BA3,BC3,BE3,BG3,BI3),"?") -> 79.879827 | BW3: =IF(COUNT(B3)>0,B3,"?") -> 858.94 | BX3: =IF(COUNT(C3)>0,C3,"?") -> 1353.3008
A4: Peribuccal papillae length | B4: 15.97 | C4: =IF(AND((B4>0),(B$7>0)),(B4/B$7*100),"") -> 25.161494 | D4: 15.9 | E4: =IF(AND((D4>0),(D$7>0)),(D4/D$7*100),"") -> 24.175156 | F4: 14.61 | G4: =IF(AND((F4>0),(F$7>0)),(F4/F$7*100),"") -> 22.518496 | H4: 14.08 | I4: =IF(AND((H4>0),(H$7>0)),(H4/H$7*100),"") -> 23.600402 | J4: 15.08 | K4: =IF(AND((J4>0),(J$7>0)),(J4/J$7*100),"") -> 25.336022 | L4: 14.32 | M4: =IF(AND((L4>0),(L$7>0)),(L4/L$7*100),"") -> 20.407582 | N4: 15.41 | O4: =IF(AND((N4>0),(N$7>0)),(N4/N$7*100),"") -> 24.882932 | P4: 17.89 | Q4: =IF(AND((P4>0),(P$7>0)),(P4/P$7*100),"") -> 29.323062 | R4: 14.77 | S4: =IF(AND((R4>0),(R$7>0)),(R4/R$7*100),"") -> 24.312757 | T4: 16.7 | U4: =IF(AND((T4>0),(T$7>0)),(T4/T$7*100),"") -> 26.99208 | V4: 12.13 | W4: =IF(AND((V4>0),(V$7>0)),(V4/V$7*100),"") -> 18.082886 | X4: 14.52 | Y4: =IF(AND((X4>0),(X$7>0)),(X4/X$7*100),"") -> 22.8266 | Z4: 11.53 | AA4: =IF(AND((Z4>0),(Z$7>0)),(Z4/Z$7*100),"") -> 20.090608 | AB4: 13.88 | AC4: =IF(AND((AB4>0),(AB$7>0)),(AB4/AB$7*100),"") -> 24.35515 | AD4: 17.32 | AE4: =IF(AND((AD4>0),(AD$7>0)),(AD4/AD$7*100),"") -> 26.535928 | AF4: 14.52 | AG4: =IF(AND((AF4>0),(AF$7>0)),(AF4/AF$7*100),"") -> 22.215422 | AH4: 13.84 | AI4: =IF(AND((AH4>0),(AH$7>0)),(AH4/AH$7*100),"") -> 23.525412 | AJ4: 12.58 | AK4: =IF(AND((AJ4>0),(AJ$7>0)),(AJ4/AJ$7*100),"") -> 21.749654 | AL4: 14.53 | AM4: =IF(AND((AL4>0),(AL$7>0)),(AL4/AL$7*100),"") -> 23.001425 | AN4: 11.21 | AO4: =IF(AND((AN4>0),(AN$7>0)),(AN4/AN$7*100),"") -> 19.950169 | AP4: 14.44 | AQ4: =IF(AND((AP4>0),(AP$7>0)),(AP4/AP$7*100),"") -> 23.789127 | AR4: 10.21 | AS4: =IF(AND((AR4>0),(AR$7>0)),(AR4/AR$7*100),"") -> 17.896582 | AU4: =IF(AND((AT4>0),(AT$7>0)),(AT4/AT$7*100),"") | AW4: =IF(AND((AV4>0),(AV$7>0)),(AV4/AV$7*100),"") | AY4: =IF(AND((AX4>0),(AX$7>0)),(AX4/AX$7*100),"") | BA4: =IF(AND((AZ4>0),(AZ$7>0)),(AZ4/AZ$7*100),"") | BC4: =IF(AND((BB4>0),(BB$7>0)),(BB4/BB$7*100),"") | BE4: =IF(AND((BD4>0),(BD$7>0)),(BD4/BD$7*100),"") | BG4: =IF(AND((BF4>0),(BF$7>0)),(BF4/BF$7*100),"") | BI4: =IF(AND((BH4>0),(BH$7>0)),(BH4/BH$7*100),"") | BK4: =A4 -> Peribuccal papillae length | BL4: =COUNT(B4,D4,F4,H4,J4,L4,N4,P4,R4,T4,V4,X4,Z4,AB4,AD4,AF4,AH4,AJ4,AL4,AN4,AP4,AR4,AT4,AV4,AX4,AZ4,BB4,BD4,BF4,BH4) -> 22 | BM4: =IF(SUM(B4,D4,F4,H4,J4,L4,N4,P4,R4,T4,V4,X4,Z4,AB4,AD4,AF4,AH4,AJ4,AL4,AN4,AP4,AR4,AT4,AV4,AX4,AZ4,BB4,BD4,BF4,BH4)>0,MIN(B4,D4,F4,H4,J4,L4,N4,P4,R4,T4,V4,X4,Z4,AB4,AD4,AF4,AH4,AJ4,AL4,AN4,AP4,AR4,AT4,AV4,AX4,AZ4,BB4,BD4,BF4,BH4),"") -> 10.21 | BN4: =IF(COUNT(BM4)>0,"–","?") -> – | BO4: =IF(SUM(B4,D4,F4,H4,J4,L4,N4,P4,R4,T4,V4,X4,Z4,AB4,AD4,AF4,AH4,AJ4,AL4,AN4,AP4,AR4,AT4,AV4,AX4,AZ4,BB4,BD4,BF4,BH4)>0,MAX(B4,D4,F4,H4,J4,L4,N4,P4,R4,T4,V4,X4,Z4,AB4,AD4,AF4,AH4,AJ4,AL4,AN4,AP4,AR4,AT4,AV4,AX4,AZ4,BB4,BD4,BF4,BH4),"") -> 17.89 | BP4: =IF(SUM(C4,E4,G4,I4,K4,M4,O4,Q4,S4,U4,W4,Y4,AA4,AC4,AE4,AG4,AI4,AK4,AM4,AO4,AQ4,AS4,AU4,AW4,AY4,BA4,BC4,BE4,BG4,BI4)>0,MIN(C4,E4,G4,I4,K4,M4,O4,Q4,S4,U4,W4,Y4,AA4,AC4,AE4,AG4,AI4,AK4,AM4,AO4,AQ4,AS4,AU4,AW4,AY4,BA4,BC4,BE4,BG4,BI4),"") -> 17.896582 | BQ4: =IF(COUNT(BP4)>0,"–","?") -> – | BR4: =IF(SUM(C4,E4,G4,I4,K4,M4,O4,Q4,S4,U4,W4,Y4,AA4,AC4,AE4,AG4,AI4,AK4,AM4,AO4,AQ4,AS4,AU4,AW4,AY4,BA4,BC4,BE4,BG4,BI4)>0,MAX(C4,E4,G4,I4,K4,M4,O4,Q4,S4,U4,W4,Y4,AA4,AC4,AE4,AG4,AI4,AK4,AM4,AO4,AQ4,AS4,AU4,AW4,AY4,BA4,BC4,BE4,BG4,BI4),"") -> 29.323062 | BS4: =IF(SUM(B4,D4,F4,H4,J4,L4,N4,P4,R4,T4,V4,X4,Z4,AB4,AD4,AF4,AH4,AJ4,AL4,AN4,AP4,AR4,AT4,AV4,AX4,AZ4,BB4,BD4,BF4,BH4)>0,AVERAGE(B4,D4,F4,H4,J4,L4,N4,P4,R4,T4,V4,X4,Z4,AB4,AD4,AF4,AH4,AJ4,AL4,AN4,AP4,AR4,AT4,AV4,AX4,AZ4,BB4,BD4,BF4,BH4),"?") -> 14.338182 | BT4: =IF(SUM(C4,E4,G4,I4,K4,M4,O4,Q4,S4,U4,W4,Y4,AA4,AC4,AE4,AG4,AI4,AK4,AM4,AO4,AQ4,AS4,AU4,AW4,AY4,BA4,BC4,BE4,BG4,BI4)>0,AVERAGE(C4,E4,G4,I4,K4,M4,O4,Q4,S4,U4,W4,Y4,AA4,AC4,AE4,AG4,AI4,AK4,AM4,AO4,AQ4,AS4,AU4,AW4,AY4,BA4,BC4,BE4,BG4,BI4),"?") -> 23.214952 | BU4: =IF(COUNT(B4,D4,F4,H4,J4,L4,N4,P4,R4,T4,V4,X4,Z4,AB4,AD4,AF4,AH4,AJ4,AL4,AN4,AP4,AR4,AT4,AV4,AX4,AZ4,BB4,BD4,BF4,BH4)>1,STDEV(B4,D4,F4,H4,J4,L4,N4,P4,R4,T4,V4,X4,Z4,AB4,AD4,AF4,AH4,AJ4,AL4,AN4,AP4,AR4,AT4,AV4,AX4,AZ4,BB4,BD4,BF4,BH4),"?") -> 1.9206314 | BV4: =IF(COUNT(C4,E4,G4,I4,K4,M4,O4,Q4,S4,U4,W4,Y4,AA4,AC4,AE4,AG4,AI4,AK4,AM4,AO4,AQ4,AS4,AU4,AW4,AY4,BA4,BC4,BE4,BG4,BI4)>1,STDEV(C4,E4,G4,I4,K4,M4,O4,Q4,S4,U4,W4,Y4,AA4,AC4,AE4,AG4,AI4,AK4,AM4,AO4,AQ4,AS4,AU4,AW4,AY4,BA4,BC4,BE4,BG4,BI4),"?") -> 2.7982052 | BW4: =IF(COUNT(B4)>0,B4,"?") -> 15.97 | BX4: =IF(COUNT(C4)>0,C4,"?") -> 25.161494
A5: Lateral papillae length | B5: 12.52 | C5: =IF(AND((B5>0),(B$7>0)),(B5/B$7*100),"") -> 19.725855 | D5: 14.47 | E5: =IF(AND((D5>0),(D$7>0)),(D5/D$7*100),"") -> 22.000912 | F5: 12.28 | G5: =IF(AND((F5>0),(F$7>0)),(F5/F$7*100),"") -> 18.92725 | H5: 12.7 | I5: =IF(AND((H5>0),(H$7>0)),(H5/H$7*100),"") -> 21.287295 | J5: 11.31 | K5: =IF(AND((J5>0),(J$7>0)),(J5/J$7*100),"") -> 19.002016 | L5: 14.88 | M5: =IF(AND((L5>0),(L$7>0)),(L5/L$7*100),"") -> 21.205643 | N5: 11.59 | O5: =IF(AND((N5>0),(N$7>0)),(N5/N$7*100),"") -> 18.714678 | P5: 13.39 | Q5: =IF(AND((P5>0),(P$7>0)),(P5/P$7*100),"") -> 21.947222 | R5: 13.23 | S5: =IF(AND((R5>0),(R$7>0)),(R5/R$7*100),"") -> 21.777778 | T5: 15.09 | U5: =IF(AND((T5>0),(T$7>0)),(T5/T$7*100),"") -> 24.38985 | V5: 10.48 | W5: =IF(AND((V5>0),(V$7>0)),(V5/V$7*100),"") -> 15.623137 | X5: 12.21 | Y5: =IF(AND((X5>0),(X$7>0)),(X5/X$7*100),"") -> 19.195095 | Z5: 9.35 | AA5: =IF(AND((Z5>0),(Z$7>0)),(Z5/Z$7*100),"") -> 16.292037 | AB5: 11.36 | AC5: =IF(AND((AB5>0),(AB$7>0)),(AB5/AB$7*100),"") -> 19.933322 | AD5: 13.59 | AE5: =IF(AND((AD5>0),(AD$7>0)),(AD5/AD$7*100),"") -> 20.821204 | AF5: 14.33 | AG5: =IF(AND((AF5>0),(AF$7>0)),(AF5/AF$7*100),"") -> 21.924725 | AH5: 10.87 | AI5: =IF(AND((AH5>0),(AH$7>0)),(AH5/AH$7*100),"") -> 18.476968 | AJ5: 10.27 | AK5: =IF(AND((AJ5>0),(AJ$7>0)),(AJ5/AJ$7*100),"") -> 17.755878 | AL5: 15.06 | AM5: =IF(AND((AL5>0),(AL$7>0)),(AL5/AL$7*100),"") -> 23.840431 | AN5: 11.02 | AO5: =IF(AND((AN5>0),(AN$7>0)),(AN5/AN$7*100),"") -> 19.612031 | AP5: 11.04 | AQ5: =IF(AND((AP5>0),(AP$7>0)),(AP5/AP$7*100),"") -> 18.187809 | AR5: 10.64 | AS5: =IF(AND((AR5>0),(AR$7>0)),(AR5/AR$7*100),"") -> 18.650307 | AU5: =IF(AND((AT5>0),(AT$7>0)),(AT5/AT$7*100),"") | AW5: =IF(AND((AV5>0),(AV$7>0)),(AV5/AV$7*100),"") | AY5: =IF(AND((AX5>0),(AX$7>0)),(AX5/AX$7*100),"") | BA5: =IF(AND((AZ5>0),(AZ$7>0)),(AZ5/AZ$7*100),"") | BC5: =IF(AND((BB5>0),(BB$7>0)),(BB5/BB$7*100),"") | BE5: =IF(AND((BD5>0),(BD$7>0)),(BD5/BD$7*100),"") | BG5: =IF(AND((BF5>0),(BF$7>0)),(BF5/BF$7*100),"") | BI5: =IF(AND((BH5>0),(BH$7>0)),(BH5/BH$7*100),"") | BK5: =A5 -> Lateral papillae length | BL5: =COUNT(B5,D5,F5,H5,J5,L5,N5,P5,R5,T5,V5,X5,Z5,AB5,AD5,AF5,AH5,AJ5,AL5,AN5,AP5,AR5,AT5,AV5,AX5,AZ5,BB5,BD5,BF5,BH5) -> 22 | BM5: =IF(SUM(B5,D5,F5,H5,J5,L5,N5,P5,R5,T5,V5,X5,Z5,AB5,AD5,AF5,AH5,AJ5,AL5,AN5,AP5,AR5,AT5,AV5,AX5,AZ5,BB5,BD5,BF5,BH5)>0,MIN(B5,D5,F5,H5,J5,L5,N5,P5,R5,T5,V5,X5,Z5,AB5,AD5,AF5,AH5,AJ5,AL5,AN5,AP5,AR5,AT5,AV5,AX5,AZ5,BB5,BD5,BF5,BH5),"") -> 9.35 | BN5: =IF(COUNT(BM5)>0,"–","?") -> – | BO5: =IF(SUM(B5,D5,F5,H5,J5,L5,N5,P5,R5,T5,V5,X5,Z5,AB5,AD5,AF5,AH5,AJ5,AL5,AN5,AP5,AR5,AT5,AV5,AX5,AZ5,BB5,BD5,BF5,BH5)>0,MAX(B5,D5,F5,H5,J5,L5,N5,P5,R5,T5,V5,X5,Z5,AB5,AD5,AF5,AH5,AJ5,AL5,AN5,AP5,AR5,AT5,AV5,AX5,AZ5,BB5,BD5,BF5,BH5),"") -> 15.09 | BP5: =IF(SUM(C5,E5,G5,I5,K5,M5,O5,Q5,S5,U5,W5,Y5,AA5,AC5,AE5,AG5,AI5,AK5,AM5,AO5,AQ5,AS5,AU5,AW5,AY5,BA5,BC5,BE5,BG5,BI5)>0,MIN(C5,E5,G5,I5,K5,M5,O5,Q5,S5,U5,W5,Y5,AA5,AC5,AE5,AG5,AI5,AK5,AM5,AO5,AQ5,AS5,AU5,AW5,AY5,BA5,BC5,BE5,BG5,BI5),"") -> 15.623137 | BQ5: =IF(COUNT(BP5)>0,"–","?") -> – | BR5: =IF(SUM(C5,E5,G5,I5,K5,M5,O5,Q5,S5,U5,W5,Y5,AA5,AC5,AE5,AG5,AI5,AK5,AM5,AO5,AQ5,AS5,AU5,AW5,AY5,BA5,BC5,BE5,BG5,BI5)>0,MAX(C5,E5,G5,I5,K5,M5,O5,Q5,S5,U5,W5,Y5,AA5,AC5,AE5,AG5,AI5,AK5,AM5,AO5,AQ5,AS5,AU5,AW5,AY5,BA5,BC5,BE5,BG5,BI5),"") -> 24.38985 | BS5: =IF(SUM(B5,D5,F5,H5,J5,L5,N5,P5,R5,T5,V5,X5,Z5,AB5,AD5,AF5,AH5,AJ5,AL5,AN5,AP5,AR5,AT5,AV5,AX5,AZ5,BB5,BD5,BF5,BH5)>0,AVERAGE(B5,D5,F5,H5,J5,L5,N5,P5,R5,T5,V5,X5,Z5,AB5,AD5,AF5,AH5,AJ5,AL5,AN5,AP5,AR5,AT5,AV5,AX5,AZ5,BB5,BD5,BF5,BH5),"?") -> 12.349091 | BT5: =IF(SUM(C5,E5,G5,I5,K5,M5,O5,Q5,S5,U5,W5,Y5,AA5,AC5,AE5,AG5,AI5,AK5,AM5,AO5,AQ5,AS5,AU5,AW5,AY5,BA5,BC5,BE5,BG5,BI5)>0,AVERAGE(C5,E5,G5,I5,K5,M5,O5,Q5,S5,U5,W5,Y5,AA5,AC5,AE5,AG5,AI5,AK5,AM5,AO5,AQ5,AS5,AU5,AW5,AY5,BA5,BC5,BE5,BG5,BI5),"?") -> 19.967793 | BU5: =IF(COUNT(B5,D5,F5,H5,J5,L5,N5,P5,R5,T5,V5,X5,Z5,AB5,AD5,AF5,AH5,AJ5,AL5,AN5,AP5,AR5,AT5,AV5,AX5,AZ5,BB5,BD5,BF5,BH5)>1,STDEV(B5,D5,F5,H5,J5,L5,N5,P5,R5,T5,V5,X5,Z5,AB5,AD5,AF5,AH5,AJ5,AL5,AN5,AP5,AR5,AT5,AV5,AX5,AZ5,BB5,BD5,BF5,BH5),"?") -> 1.7085079 | BV5: =IF(COUNT(C5,E5,G5,I5,K5,M5,O5,Q5,S5,U5,W5,Y5,AA5,AC5,AE5,AG5,AI5,AK5,AM5,AO5,AQ5,AS5,AU5,AW5,AY5,BA5,BC5,BE5,BG5,BI5)>1,STDEV(C5,E5,G5,I5,K5,M5,O5,Q5,S5,U5,W5,Y5,AA5,AC5,AE5,AG5,AI5,AK5,AM5,AO5,AQ5,AS5,AU5,AW5,AY5,BA5,BC5,BE5,BG5,BI5),"?") -> 2.2091421 | BW5: =IF(COUNT(B5)>0,B5,"?") -> 12.52 | BX5: =IF(COUNT(C5)>0,C5,"?") -> 19.725855
A6: Buccal tube | BK6: =A6 -> Buccal tube
A7: Length | B7: 63.47 | C7: – | D7: 65.77 | E7: – | F7: 64.88 | G7: – | H7: 59.66 | I7: – | J7: 59.52 | K7: – | L7: 70.17 | M7: – | N7: 61.93 | O7: – | P7: 61.01 | Q7: – | R7: 60.75 | S7: – | T7: 61.87 | U7: – | V7: 67.08 | W7: – | X7: 63.61 | Y7: – | Z7: 57.39 | AA7: – | AB7: 56.99 | AC7: – | AD7: 65.27 | AE7: – | AF7: 65.36 | AG7: – | AH7: 58.83 | AI7: – | AJ7: 57.84 | AK7: – | AL7: 63.17 | AM7: – | AN7: 56.19 | AO7: – | AP7: 60.7 | AQ7: – | AR7: 57.05 | AS7: – | AU7: – | AW7: – | AY7: – | BA7: – | BC7: – | BE7: – | BG7: – | BI7: – | BK7: =A7 -> Length | BL7: =COUNT(B7,D7,F7,H7,J7,L7,N7,P7,R7,T7,V7,X7,Z7,AB7,AD7,AF7,AH7,AJ7,AL7,AN7,AP7,AR7,AT7,AV7,AX7,AZ7,BB7,BD7,BF7,BH7) -> 22 | BM7: =IF(SUM(B7,D7,F7,H7,J7,L7,N7,P7,R7,T7,V7,X7,Z7,AB7,AD7,AF7,AH7,AJ7,AL7,AN7,AP7,AR7,AT7,AV7,AX7,AZ7,BB7,BD7,BF7,BH7)>0,MIN(B7,D7,F7,H7,J7,L7,N7,P7,R7,T7,V7,X7,Z7,AB7,AD7,AF7,AH7,AJ7,AL7,AN7,AP7,AR7,AT7,AV7,AX7,AZ7,BB7,BD7,BF7,BH7),"") -> 56.19 | BN7: =IF(COUNT(BM7)>0,"–","?") -> – | BO7: =IF(SUM(B7,D7,F7,H7,J7,L7,N7,P7,R7,T7,V7,X7,Z7,AB7,AD7,AF7,AH7,AJ7,AL7,AN7,AP7,AR7,AT7,AV7,AX7,AZ7,BB7,BD7,BF7,BH7)>0,MAX(B7,D7,F7,H7,J7,L7,N7,P7,R7,T7,V7,X7,Z7,AB7,AD7,AF7,AH7,AJ7,AL7,AN7,AP7,AR7,AT7,AV7,AX7,AZ7,BB7,BD7,BF7,BH7),"") -> 70.17 | BP7: =IF(SUM(C7,E7,G7,I7,K7,M7,O7,Q7,S7,U7,W7,Y7,AA7,AC7,AE7,AG7,AI7,AK7,AM7,AO7,AQ7,AS7,AU7,AW7,AY7,BA7,BC7,BE7,BG7,BI7)>0,MIN(C7,E7,G7,I7,K7,M7,O7,Q7,S7,U7,W7,Y7,AA7,AC7,AE7,AG7,AI7,AK7,AM7,AO7,AQ7,AS7,AU7,AW7,AY7,BA7,BC7,BE7,BG7,BI7),"") | BQ7: – | BR7: =IF(SUM(C7,E7,G7,I7,K7,M7,O7,Q7,S7,U7,W7,Y7,AA7,AC7,AE7,AG7,AI7,AK7,AM7,AO7,AQ7,AS7,AU7,AW7,AY7,BA7,BC7,BE7,BG7,BI7)>0,MAX(C7,E7,G7,I7,K7,M7,O7,Q7,S7,U7,W7,Y7,AA7,AC7,AE7,AG7,AI7,AK7,AM7,AO7,AQ7,AS7,AU7,AW7,AY7,BA7,BC7,BE7,BG7,BI7),"") | BS7: =IF(SUM(B7,D7,F7,H7,J7,L7,N7,P7,R7,T7,V7,X7,Z7,AB7,AD7,AF7,AH7,AJ7,AL7,AN7,AP7,AR7,AT7,AV7,AX7,AZ7,BB7,BD7,BF7,BH7)>0,AVERAGE(B7,D7,F7,H7,J7,L7,N7,P7,R7,T7,V7,X7,Z7,AB7,AD7,AF7,AH7,AJ7,AL7,AN7,AP7,AR7,AT7,AV7,AX7,AZ7,BB7,BD7,BF7,BH7),"?") -> 61.750455 | BT7: – | BU7: =IF(COUNT(B7,D7,F7,H7,J7,L7,N7,P7,R7,T7,V7,X7,Z7,AB7,AD7,AF7,AH7,AJ7,AL7,AN7,AP7,AR7,AT7,AV7,AX7,AZ7,BB7,BD7,BF7,BH7)>1,STDEV(B7,D7,F7,H7,J7,L7,N7,P7,R7,T7,V7,X7,Z7,AB7,AD7,AF7,AH7,AJ7,AL7,AN7,AP7,AR7,AT7,AV7,AX7,AZ7,BB7,BD7,BF7,BH7),"?") -> 3.7138268 | BV7: – | BW7: =IF(COUNT(B7)>0,B7,"?") -> 63.47 | BX7: –
A8: Stylet support insertion point | B8: 41.77 | C8: =IF(AND((B8>0),(B$7>0)),(B8/B$7*100),"") -> 65.810619 | D8: 40.64 | E8: =IF(AND((D8>0),(D$7>0)),(D8/D$7*100),"") -> 61.79109 | F8: 39.89 | G8: =IF(AND((F8>0),(F$7>0)),(F8/F$7*100),"") -> 61.482737 | H8: 38.63 | I8: =IF(AND((H8>0),(H$7>0)),(H8/H$7*100),"") -> 64.750251 | J8: 37.37 | K8: =IF(AND((J8>0),(J$7>0)),(J8/J$7*100),"") -> 62.785618 | L8: 42.68 | M8: =IF(AND((L8>0),(L$7>0)),(L8/L$7*100),"") -> 60.823714 | N8: 39.09 | O8: =IF(AND((N8>0),(N$7>0)),(N8/N$7*100),"") -> 63.119651 | P8: 40.93 | Q8: =IF(AND((P8>0),(P$7>0)),(P8/P$7*100),"") -> 67.087363 | R8: 40.11 | S8: =IF(AND((R8>0),(R$7>0)),(R8/R$7*100),"") -> 66.024691 | T8: 37.94 | U8: =IF(AND((T8>0),(T$7>0)),(T8/T$7*100),"") -> 61.322127 | V8: 44.29 | W8: =IF(AND((V8>0),(V$7>0)),(V8/V$7*100),"") -> 66.025641 | X8: 40.89 | Y8: =IF(AND((X8>0),(X$7>0)),(X8/X$7*100),"") -> 64.282346 | Z8: 37.67 | AA8: =IF(AND((Z8>0),(Z$7>0)),(Z8/Z$7*100),"") -> 65.638613 | AB8: 39.26 | AC8: =IF(AND((AB8>0),(AB$7>0)),(AB8/AB$7*100),"") -> 68.889279 | AD8: 37.69 | AE8: =IF(AND((AD8>0),(AD$7>0)),(AD8/AD$7*100),"") -> 57.744753 | AF8: 39.6 | AG8: =IF(AND((AF8>0),(AF$7>0)),(AF8/AF$7*100),"") -> 60.587515 | AH8: 39.33 | AI8: =IF(AND((AH8>0),(AH$7>0)),(AH8/AH$7*100),"") -> 66.853646 | AJ8: 40.21 | AK8: =IF(AND((AJ8>0),(AJ$7>0)),(AJ8/AJ$7*100),"") -> 69.519364 | AL8: 39 | AM8: =IF(AND((AL8>0),(AL$7>0)),(AL8/AL$7*100),"") -> 61.738167 | AN8: 37.03 | AO8: =IF(AND((AN8>0),(AN$7>0)),(AN8/AN$7*100),"") -> 65.901406 | AP8: 42.32 | AQ8: =IF(AND((AP8>0),(AP$7>0)),(AP8/AP$7*100),"") -> 69.719934 | AR8: 35.3 | AS8: =IF(AND((AR8>0),(AR$7>0)),(AR8/AR$7*100),"") -> 61.875548 | AU8: =IF(AND((AT8>0),(AT$7>0)),(AT8/AT$7*100),"") | AW8: =IF(AND((AV8>0),(AV$7>0)),(AV8/AV$7*100),"") | AY8: =IF(AND((AX8>0),(AX$7>0)),(AX8/AX$7*100),"") | BA8: =IF(AND((AZ8>0),(AZ$7>0)),(AZ8/AZ$7*100),"") | BC8: =IF(AND((BB8>0),(BB$7>0)),(BB8/BB$7*100),"") | BE8: =IF(AND((BD8>0),(BD$7>0)),(BD8/BD$7*100),"") | BG8: =IF(AND((BF8>0),(BF$7>0)),(BF8/BF$7*100),"") | BI8: =IF(AND((BH8>0),(BH$7>0)),(BH8/BH$7*100),"") | BK8: =A8 -> Stylet support insertion point | BL8: =COUNT(B8,D8,F8,H8,J8,L8,N8,P8,R8,T8,V8,X8,Z8,AB8,AD8,AF8,AH8,AJ8,AL8,AN8,AP8,AR8,AT8,AV8,AX8,AZ8,BB8,BD8,BF8,BH8) -> 22 | BM8: =IF(SUM(B8,D8,F8,H8,J8,L8,N8,P8,R8,T8,V8,X8,Z8,AB8,AD8,AF8,AH8,AJ8,AL8,AN8,AP8,AR8,AT8,AV8,AX8,AZ8,BB8,BD8,BF8,BH8)>0,MIN(B8,D8,F8,H8,J8,L8,N8,P8,R8,T8,V8,X8,Z8,AB8,AD8,AF8,AH8,AJ8,AL8,AN8,AP8,AR8,AT8,AV8,AX8,AZ8,BB8,BD8,BF8,BH8),"") -> 35.3 | BN8: =IF(COUNT(BM8)>0,"–","?") -> – | BO8: =IF(SUM(B8,D8,F8,H8,J8,L8,N8,P8,R8,T8,V8,X8,Z8,AB8,AD8,AF8,AH8,AJ8,AL8,AN8,AP8,AR8,AT8,AV8,AX8,AZ8,BB8,BD8,BF8,BH8)>0,MAX(B8,D8,F8,H8,J8,L8,N8,P8,R8,T8,V8,X8,Z8,AB8,AD8,AF8,AH8,AJ8,AL8,AN8,AP8,AR8,AT8,AV8,AX8,AZ8,BB8,BD8,BF8,BH8),"") -> 44.29 | BP8: =IF(SUM(C8,E8,G8,I8,K8,M8,O8,Q8,S8,U8,W8,Y8,AA8,AC8,AE8,AG8,AI8,AK8,AM8,AO8,AQ8,AS8,AU8,AW8,AY8,BA8,BC8,BE8,BG8,BI8)>0,MIN(C8,E8,G8,I8,K8,M8,O8,Q8,S8,U8,W8,Y8,AA8,AC8,AE8,AG8,AI8,AK8,AM8,AO8,AQ8,AS8,AU8,AW8,AY8,BA8,BC8,BE8,BG8,BI8),"") -> 57.744753 | BQ8: =IF(COUNT(BP8)>0,"–","?") -> – | BR8: =IF(SUM(C8,E8,G8,I8,K8,M8,O8,Q8,S8,U8,W8,Y8,AA8,AC8,AE8,AG8,AI8,AK8,AM8,AO8,AQ8,AS8,AU8,AW8,AY8,BA8,BC8,BE8,BG8,BI8)>0,MAX(C8,E8,G8,I8,K8,M8,O8,Q8,S8,U8,W8,Y8,AA8,AC8,AE8,AG8,AI8,AK8,AM8,AO8,AQ8,AS8,AU8,AW8,AY8,BA8,BC8,BE8,BG8,BI8),"") -> 69.719934 | BS8: =IF(SUM(B8,D8,F8,H8,J8,L8,N8,P8,R8,T8,V8,X8,Z8,AB8,AD8,AF8,AH8,AJ8,AL8,AN8,AP8,AR8,AT8,AV8,AX8,AZ8,BB8,BD8,BF8,BH8)>0,AVERAGE(B8,D8,F8,H8,J8,L8,N8,P8,R8,T8,V8,X8,Z8,AB8,AD8,AF8,AH8,AJ8,AL8,AN8,AP8,AR8,AT8,AV8,AX8,AZ8,BB8,BD8,BF8,BH8),"?") -> 39.62 | BT8: =IF(SUM(C8,E8,G8,I8,K8,M8,O8,Q8,S8,U8,W8,Y8,AA8,AC8,AE8,AG8,AI8,AK8,AM8,AO8,AQ8,AS8,AU8,AW8,AY8,BA8,BC8,BE8,BG8,BI8)>0,AVERAGE(C8,E8,G8,I8,K8,M8,O8,Q8,S8,U8,W8,Y8,AA8,AC8,AE8,AG8,AI8,AK8,AM8,AO8,AQ8,AS8,AU8,AW8,AY8,BA8,BC8,BE8,BG8,BI8),"?") -> 64.262458 | BU8: =IF(COUNT(B8,D8,F8,H8,J8,L8,N8,P8,R8,T8,V8,X8,Z8,AB8,AD8,AF8,AH8,AJ8,AL8,AN8,AP8,AR8,AT8,AV8,AX8,AZ8,BB8,BD8,BF8,BH8)>1,STDEV(B8,D8,F8,H8,J8,L8,N8,P8,R8,T8,V8,X8,Z8,AB8,AD8,AF8,AH8,AJ8,AL8,AN8,AP8,AR8,AT8,AV8,AX8,AZ8,BB8,BD8,BF8,BH8),"?") -> 2.0788939 | BV8: =IF(COUNT(C8,E8,G8,I8,K8,M8,O8,Q8,S8,U8,W8,Y8,AA8,AC8,AE8,AG8,AI8,AK8,AM8,AO8,AQ8,AS8,AU8,AW8,AY8,BA8,BC8,BE8,BG8,BI8)>1,STDEV(C8,E8,G8,I8,K8,M8,O8,Q8,S8,U8,W8,Y8,AA8,AC8,AE8,AG8,AI8,AK8,AM8,AO8,AQ8,AS8,AU8,AW8,AY8,BA8,BC8,BE8,BG8,BI8),"?") -> 3.1832706 | BW8: =IF(COUNT(B8)>0,B8,"?") -> 41.77 | BX8: =IF(COUNT(C8)>0,C8,"?") -> 65.810619
A9: Anterior width | B9: 50.19 | C9: =IF(AND((B9>0),(B$7>0)),(B9/B$7*100),"") -> 79.076729 | D9: 40.93 | E9: =IF(AND((D9>0),(D$7>0)),(D9/D$7*100),"") -> 62.232021 | F9: 44.41 | G9: =IF(AND((F9>0),(F$7>0)),(F9/F$7*100),"") -> 68.449445 | H9: 41.3 | I9: =IF(AND((H9>0),(H$7>0)),(H9/H$7*100),"") -> 69.225612 | J9: 44.21 | K9: =IF(AND((J9>0),(J$7>0)),(J9/J$7*100),"") -> 74.277554 | L9: 42.15 | M9: =IF(AND((L9>0),(L$7>0)),(L9/L$7*100),"") -> 60.068405 | N9: 39.37 | O9: =IF(AND((N9>0),(N$7>0)),(N9/N$7*100),"") -> 63.571775 | P9: 41.34 | Q9: =IF(AND((P9>0),(P$7>0)),(P9/P$7*100),"") -> 67.759384 | R9: 46.76 | S9: =IF(AND((R9>0),(R$7>0)),(R9/R$7*100),"") -> 76.971193 | T9: 45.13 | U9: =IF(AND((T9>0),(T$7>0)),(T9/T$7*100),"") -> 72.943268 | V9: 43.19 | W9: =IF(AND((V9>0),(V$7>0)),(V9/V$7*100),"") -> 64.385808 | X9: 46.83 | Y9: =IF(AND((X9>0),(X$7>0)),(X9/X$7*100),"") -> 73.6205 | Z9: 31.24 | AA9: =IF(AND((Z9>0),(Z$7>0)),(Z9/Z$7*100),"") -> 54.43457 | AB9: 36.84 | AC9: =IF(AND((AB9>0),(AB$7>0)),(AB9/AB$7*100),"") -> 64.64292 | AD9: 39.76 | AE9: =IF(AND((AD9>0),(AD$7>0)),(AD9/AD$7*100),"") -> 60.916194 | AF9: 40.78 | AG9: =IF(AND((AF9>0),(AF$7>0)),(AF9/AF$7*100),"") -> 62.392901 | AH9: 31.74 | AI9: =IF(AND((AH9>0),(AH$7>0)),(AH9/AH$7*100),"") -> 53.952065 | AJ9: 34.17 | AK9: =IF(AND((AJ9>0),(AJ$7>0)),(AJ9/AJ$7*100),"") -> 59.076763 | AL9: 41.53 | AM9: =IF(AND((AL9>0),(AL$7>0)),(AL9/AL$7*100),"") -> 65.743233 | AN9: 25.9 | AO9: =IF(AND((AN9>0),(AN$7>0)),(AN9/AN$7*100),"") -> 46.093611 | AP9: 37.61 | AQ9: =IF(AND((AP9>0),(AP$7>0)),(AP9/AP$7*100),"") -> 61.960461 | AR9: 32.06 | AS9: =IF(AND((AR9>0),(AR$7>0)),(AR9/AR$7*100),"") -> 56.196319 | AU9: =IF(AND((AT9>0),(AT$7>0)),(AT9/AT$7*100),"") | AW9: =IF(AND((AV9>0),(AV$7>0)),(AV9/AV$7*100),"") | AY9: =IF(AND((AX9>0),(AX$7>0)),(AX9/AX$7*100),"") | BA9: =IF(AND((AZ9>0),(AZ$7>0)),(AZ9/AZ$7*100),"") | BC9: =IF(AND((BB9>0),(BB$7>0)),(BB9/BB$7*100),"") | BE9: =IF(AND((BD9>0),(BD$7>0)),(BD9/BD$7*100),"") | BG9: =IF(AND((BF9>0),(BF$7>0)),(BF9/BF$7*100),"") | BI9: =IF(AND((BH9>0),(BH$7>0)),(BH9/BH$7*100),"") | BK9: =A9 -> Anterior width | BL9: =COUNT(B9,D9,F9,H9,J9,L9,N9,P9,R9,T9,V9,X9,Z9,AB9,AD9,AF9,AH9,AJ9,AL9,AN9,AP9,AR9,AT9,AV9,AX9,AZ9,BB9,BD9,BF9,BH9) -> 22 | BM9: =IF(SUM(B9,D9,F9,H9,J9,L9,N9,P9,R9,T9,V9,X9,Z9,AB9,AD9,AF9,AH9,AJ9,AL9,AN9,AP9,AR9,AT9,AV9,AX9,AZ9,BB9,BD9,BF9,BH9)>0,MIN(B9,D9,F9,H9,J9,L9,N9,P9,R9,T9,V9,X9,Z9,AB9,AD9,AF9,AH9,AJ9,AL9,AN9,AP9,AR9,AT9,AV9,AX9,AZ9,BB9,BD9,BF9,BH9),"") -> 25.9 | BN9: =IF(COUNT(BM9)>0,"–","?") -> – | BO9: =IF(SUM(B9,D9,F9,H9,J9,L9,N9,P9,R9,T9,V9,X9,Z9,AB9,AD9,AF9,AH9,AJ9,AL9,AN9,AP9,AR9,AT9,AV9,AX9,AZ9,BB9,BD9,BF9,BH9)>0,MAX(B9,D9,F9,H9,J9,L9,N9,P9,R9,T9,V9,X9,Z9,AB9,AD9,AF9,AH9,AJ9,AL9,AN9,AP9,AR9,AT9,AV9,AX9,AZ9,BB9,BD9,BF9,BH9),"") -> 50.19 | BP9: =IF(SUM(C9,E9,G9,I9,K9,M9,O9,Q9,S9,U9,W9,Y9,AA9,AC9,AE9,AG9,AI9,AK9,AM9,AO9,AQ9,AS9,AU9,AW9,AY9,BA9,BC9,BE9,BG9,BI9)>0,MIN(C9,E9,G9,I9,K9,M9,O9,Q9,S9,U9,W9,Y9,AA9,AC9,AE9,AG9,AI9,AK9,AM9,AO9,AQ9,AS9,AU9,AW9,AY9,BA9,BC9,BE9,BG9,BI9),"") -> 46.093611 | BQ9: =IF(COUNT(BP9)>0,"–","?") -> – | BR9: =IF(SUM(C9,E9,G9,I9,K9,M9,O9,Q9,S9,U9,W9,Y9,AA9,AC9,AE9,AG9,AI9,AK9,AM9,AO9,AQ9,AS9,AU9,AW9,AY9,BA9,BC9,BE9,BG9,BI9)>0,MAX(C9,E9,G9,I9,K9,M9,O9,Q9,S9,U9,W9,Y9,AA9,AC9,AE9,AG9,AI9,AK9,AM9,AO9,AQ9,AS9,AU9,AW9,AY9,BA9,BC9,BE9,BG9,BI9),"") -> 79.076729 | BS9: =IF(SUM(B9,D9,F9,H9,J9,L9,N9,P9,R9,T9,V9,X9,Z9,AB9,AD9,AF9,AH9,AJ9,AL9,AN9,AP9,AR9,AT9,AV9,AX9,AZ9,BB9,BD9,BF9,BH9)>0,AVERAGE(B9,D9,F9,H9,J9,L9,N9,P9,R9,T9,V9,X9,Z9,AB9,AD9,AF9,AH9,AJ9,AL9,AN9,AP9,AR9,AT9,AV9,AX9,AZ9,BB9,BD9,BF9,BH9),"?") -> 39.883636 | BT9: =IF(SUM(C9,E9,G9,I9,K9,M9,O9,Q9,S9,U9,W9,Y9,AA9,AC9,AE9,AG9,AI9,AK9,AM9,AO9,AQ9,AS9,AU9,AW9,AY9,BA9,BC9,BE9,BG9,BI9)>0,AVERAGE(C9,E9,G9,I9,K9,M9,O9,Q9,S9,U9,W9,Y9,AA9,AC9,AE9,AG9,AI9,AK9,AM9,AO9,AQ9,AS9,AU9,AW9,AY9,BA9,BC9,BE9,BG9,BI9),"?") -> 64.454124 | BU9: =IF(COUNT(B9,D9,F9,H9,J9,L9,N9,P9,R9,T9,V9,X9,Z9,AB9,AD9,AF9,AH9,AJ9,AL9,AN9,AP9,AR9,AT9,AV9,AX9,AZ9,BB9,BD9,BF9,BH9)>1,STDEV(B9,D9,F9,H9,J9,L9,N9,P9,R9,T9,V9,X9,Z9,AB9,AD9,AF9,AH9,AJ9,AL9,AN9,AP9,AR9,AT9,AV9,AX9,AZ9,BB9,BD9,BF9,BH9),"?") -> 5.9298764 | BV9: =IF(COUNT(C9,E9,G9,I9,K9,M9,O9,Q9,S9,U9,W9,Y9,AA9,AC9,AE9,AG9,AI9,AK9,AM9,AO9,AQ9,AS9,AU9,AW9,AY9,BA9,BC9,BE9,BG9,BI9)>1,STDEV(C9,E9,G9,I9,K9,M9,O9,Q9,S9,U9,W9,Y9,AA9,AC9,AE9,AG9,AI9,AK9,AM9,AO9,AQ9,AS9,AU9,AW9,AY9,BA9,BC9,BE9,BG9,BI9),"?") -> 8.0689799 | BW9: =IF(COUNT(B9)>0,B9,"?") -> 50.19 | BX9: =IF(COUNT(C9)>0,C9,"?") -> 79.076729
A10: Standard width | B10: 44.25 | C10: =IF(AND((B10>0),(B$7>0)),(B10/B$7*100),"") -> 69.717977 | D10: 33.83 | E10: =IF(AND((D10>0),(D$7>0)),(D10/D$7*100),"") -> 51.436825 | F10: 40.69 | G10: =IF(AND((F10>0),(F$7>0)),(F10/F$7*100),"") -> 62.715783 | H10: 34.73 | I10: =IF(AND((H10>0),(H$7>0)),(H10/H$7*100),"") -> 58.213208 | J10: 39.46 | K10: =IF(AND((J10>0),(J$7>0)),(J10/J$7*100),"") -> 66.297043 | L10: 35.55 | M10: =IF(AND((L10>0),(L$7>0)),(L10/L$7*100),"") -> 50.662676 | N10: 34.39 | O10: =IF(AND((N10>0),(N$7>0)),(N10/N$7*100),"") -> 55.530438 | P10: 35.25 | Q10: =IF(AND((P10>0),(P$7>0)),(P10/P$7*100),"") -> 57.777414 | R10: 39.58 | S10: =IF(AND((R10>0),(R$7>0)),(R10/R$7*100),"") -> 65.152263 | T10: 38.36 | U10: =IF(AND((T10>0),(T$7>0)),(T10/T$7*100),"") -> 62.00097 | V10: 34.96 | W10: =IF(AND((V10>0),(V$7>0)),(V10/V$7*100),"") -> 52.116875 | X10: 40.14 | Y10: =IF(AND((X10>0),(X$7>0)),(X10/X$7*100),"") -> 63.103286 | Z10: 27.12 | AA10: =IF(AND((Z10>0),(Z$7>0)),(Z10/Z$7*100),"") -> 47.255619 | AB10: 32.71 | AC10: =IF(AND((AB10>0),(AB$7>0)),(AB10/AB$7*100),"") -> 57.396034 | AD10: 34.87 | AE10: =IF(AND((AD10>0),(AD$7>0)),(AD10/AD$7*100),"") -> 53.424238 | AF10: 34.81 | AG10: =IF(AND((AF10>0),(AF$7>0)),(AF10/AF$7*100),"") -> 53.258874 | AH10: 25.75 | AI10: =IF(AND((AH10>0),(AH$7>0)),(AH10/AH$7*100),"") -> 43.770185 | AJ10: 27.47 | AK10: =IF(AND((AJ10>0),(AJ$7>0)),(AJ10/AJ$7*100),"") -> 47.493084 | AL10: 35.37 | AM10: =IF(AND((AL10>0),(AL$7>0)),(AL10/AL$7*100),"") -> 55.991768 | AN10: 24.55 | AO10: =IF(AND((AN10>0),(AN$7>0)),(AN10/AN$7*100),"") -> 43.691048 | AP10: 31.8 | AQ10: =IF(AND((AP10>0),(AP$7>0)),(AP10/AP$7*100),"") -> 52.388797 | AR10: 29.74 | AS10: =IF(AND((AR10>0),(AR$7>0)),(AR10/AR$7*100),"") -> 52.129711 | AU10: =IF(AND((AT10>0),(AT$7>0)),(AT10/AT$7*100),"") | AW10: =IF(AND((AV10>0),(AV$7>0)),(AV10/AV$7*100),"") | AY10: =IF(AND((AX10>0),(AX$7>0)),(AX10/AX$7*100),"") | BA10: =IF(AND((AZ10>0),(AZ$7>0)),(AZ10/AZ$7*100),"") | BC10: =IF(AND((BB10>0),(BB$7>0)),(BB10/BB$7*100),"") | BE10: =IF(AND((BD10>0),(BD$7>0)),(BD10/BD$7*100),"") | BG10: =IF(AND((BF10>0),(BF$7>0)),(BF10/BF$7*100),"") | BI10: =IF(AND((BH10>0),(BH$7>0)),(BH10/BH$7*100),"") | BK10: =A10 -> Standard width | BL10: =COUNT(B10,D10,F10,H10,J10,L10,N10,P10,R10,T10,V10,X10,Z10,AB10,AD10,AF10,AH10,AJ10,AL10,AN10,AP10,AR10,AT10,AV10,AX10,AZ10,BB10,BD10,BF10,BH10) -> 22 | BM10: =IF(SUM(B10,D10,F10,H10,J10,L10,N10,P10,R10,T10,V10,X10,Z10,AB10,AD10,AF10,AH10,AJ10,AL10,AN10,AP10,AR10,AT10,AV10,AX10,AZ10,BB10,BD10,BF10,BH10)>0,MIN(B10,D10,F10,H10,J10,L10,N10,P10,R10,T10,V10,X10,Z10,AB10,AD10,AF10,AH10,AJ10,AL10,AN10,AP10,AR10,AT10,AV10,AX10,AZ10,BB10,BD10,BF10,BH10),"") -> 24.55 | BN10: =IF(COUNT(BM10)>0,"–","?") -> – | BO10: =IF(SUM(B10,D10,F10,H10,J10,L10,N10,P10,R10,T10,V10,X10,Z10,AB10,AD10,AF10,AH10,AJ10,AL10,AN10,AP10,AR10,AT10,AV10,AX10,AZ10,BB10,BD10,BF10,BH10)>0,MAX(B10,D10,F10,H10,J10,L10,N10,P10,R10,T10,V10,X10,Z10,AB10,AD10,AF10,AH10,AJ10,AL10,AN10,AP10,AR10,AT10,AV10,AX10,AZ10,BB10,BD10,BF10,BH10),"") -> 44.25 | BP10: =IF(SUM(C10,E10,G10,I10,K10,M10,O10,Q10,S10,U10,W10,Y10,AA10,AC10,AE10,AG10,AI10,AK10,AM10,AO10,AQ10,AS10,AU10,AW10,AY10,BA10,BC10,BE10,BG10,BI10)>0,MIN(C10,E10,G10,I10,K10,M10,O10,Q10,S10,U10,W10,Y10,AA10,AC10,AE10,AG10,AI10,AK10,AM10,AO10,AQ10,AS10,AU10,AW10,AY10,BA10,BC10,BE10,BG10,BI10),"") -> 43.691048 | BQ10: =IF(COUNT(BP10)>0,"–","?") -> – | BR10: =IF(SUM(C10,E10,G10,I10,K10,M10,O10,Q10,S10,U10,W10,Y10,AA10,AC10,AE10,AG10,AI10,AK10,AM10,AO10,AQ10,AS10,AU10,AW10,AY10,BA10,BC10,BE10,BG10,BI10)>0,MAX(C10,E10,G10,I10,K10,M10,O10,Q10,S10,U10,W10,Y10,AA10,AC10,AE10,AG10,AI10,AK10,AM10,AO10,AQ10,AS10,AU10,AW10,AY10,BA10,BC10,BE10,BG10,BI10),"") -> 69.717977 | BS10: =IF(SUM(B10,D10,F10,H10,J10,L10,N10,P10,R10,T10,V10,X10,Z10,AB10,AD10,AF10,AH10,AJ10,AL10,AN10,AP10,AR10,AT10,AV10,AX10,AZ10,BB10,BD10,BF10,BH10)>0,AVERAGE(B10,D10,F10,H10,J10,L10,N10,P10,R10,T10,V10,X10,Z10,AB10,AD10,AF10,AH10,AJ10,AL10,AN10,AP10,AR10,AT10,AV10,AX10,AZ10,BB10,BD10,BF10,BH10),"?") -> 34.335455 | BT10: =IF(SUM(C10,E10,G10,I10,K10,M10,O10,Q10,S10,U10,W10,Y10,AA10,AC10,AE10,AG10,AI10,AK10,AM10,AO10,AQ10,AS10,AU10,AW10,AY10,BA10,BC10,BE10,BG10,BI10)>0,AVERAGE(C10,E10,G10,I10,K10,M10,O10,Q10,S10,U10,W10,Y10,AA10,AC10,AE10,AG10,AI10,AK10,AM10,AO10,AQ10,AS10,AU10,AW10,AY10,BA10,BC10,BE10,BG10,BI10),"?") -> 55.523824 | BU10: =IF(COUNT(B10,D10,F10,H10,J10,L10,N10,P10,R10,T10,V10,X10,Z10,AB10,AD10,AF10,AH10,AJ10,AL10,AN10,AP10,AR10,AT10,AV10,AX10,AZ10,BB10,BD10,BF10,BH10)>1,STDEV(B10,D10,F10,H10,J10,L10,N10,P10,R10,T10,V10,X10,Z10,AB10,AD10,AF10,AH10,AJ10,AL10,AN10,AP10,AR10,AT10,AV10,AX10,AZ10,BB10,BD10,BF10,BH10),"?") -> 5.098471 | BV10: =IF(COUNT(C10,E10,G10,I10,K10,M10,O10,Q10,S10,U10,W10,Y10,AA10,AC10,AE10,AG10,AI10,AK10,AM10,AO10,AQ10,AS10,AU10,AW10,AY10,BA10,BC10,BE10,BG10,BI10)>1,STDEV(C10,E10,G10,I10,K10,M10,O10,Q10,S10,U10,W10,Y10,AA10,AC10,AE10,AG10,AI10,AK10,AM10,AO10,AQ10,AS10,AU10,AW10,AY10,BA10,BC10,BE10,BG10,BI10),"?") -> 7.1422669 | BW10: =IF(COUNT(B10)>0,B10,"?") -> 44.25 | BX10: =IF(COUNT(C10)>0,C10,"?") -> 69.717977
A11: Posterior width | B11: 35.58 | C11: =IF(AND((B11>0),(B$7>0)),(B11/B$7*100),"") -> 56.05798 | D11: 27.51 | E11: =IF(AND((D11>0),(D$7>0)),(D11/D$7*100),"") -> 41.827581 | F11: 32.37 | G11: =IF(AND((F11>0),(F$7>0)),(F11/F$7*100),"") -> 49.892109 | H11: 28.41 | I11: =IF(AND((H11>0),(H$7>0)),(H11/H$7*100),"") -> 47.619846 | J11: 30.21 | K11: =IF(AND((J11>0),(J$7>0)),(J11/J$7*100),"") -> 50.756048 | L11: 24.73 | M11: =IF(AND((L11>0),(L$7>0)),(L11/L$7*100),"") -> 35.242981 | N11: 27.16 | O11: =IF(AND((N11>0),(N$7>0)),(N11/N$7*100),"") -> 43.855966 | P11: 30.07 | Q11: =IF(AND((P11>0),(P$7>0)),(P11/P$7*100),"") -> 49.287002 | R11: 30.34 | S11: =IF(AND((R11>0),(R$7>0)),(R11/R$7*100),"") -> 49.942387 | T11: 27.81 | U11: =IF(AND((T11>0),(T$7>0)),(T11/T$7*100),"") -> 44.949087 | V11: 30.86 | W11: =IF(AND((V11>0),(V$7>0)),(V11/V$7*100),"") -> 46.00477 | X11: 31.54 | Y11: =IF(AND((X11>0),(X$7>0)),(X11/X$7*100),"") -> 49.583399 | Z11: 24.16 | AA11: =IF(AND((Z11>0),(Z$7>0)),(Z11/Z$7*100),"") -> 42.097926 | AB11: 28.45 | AC11: =IF(AND((AB11>0),(AB$7>0)),(AB11/AB$7*100),"") -> 49.921039 | AD11: 27.4 | AE11: =IF(AND((AD11>0),(AD$7>0)),(AD11/AD$7*100),"") -> 41.97947 | AF11: 26.02 | AG11: =IF(AND((AF11>0),(AF$7>0)),(AF11/AF$7*100),"") -> 39.810282 | AH11: 22.27 | AI11: =IF(AND((AH11>0),(AH$7>0)),(AH11/AH$7*100),"") -> 37.854836 | AJ11: 24.86 | AK11: =IF(AND((AJ11>0),(AJ$7>0)),(AJ11/AJ$7*100),"") -> 42.980636 | AL11: 30.25 | AM11: =IF(AND((AL11>0),(AL$7>0)),(AL11/AL$7*100),"") -> 47.886655 | AN11: 19.28 | AO11: =IF(AND((AN11>0),(AN$7>0)),(AN11/AN$7*100),"") -> 34.312155 | AP11: 25.56 | AQ11: =IF(AND((AP11>0),(AP$7>0)),(AP11/AP$7*100),"") -> 42.108731 | AR11: 25.42 | AS11: =IF(AND((AR11>0),(AR$7>0)),(AR11/AR$7*100),"") -> 44.557406 | AU11: =IF(AND((AT11>0),(AT$7>0)),(AT11/AT$7*100),"") | AW11: =IF(AND((AV11>0),(AV$7>0)),(AV11/AV$7*100),"") | AY11: =IF(AND((AX11>0),(AX$7>0)),(AX11/AX$7*100),"") | BA11: =IF(AND((AZ11>0),(AZ$7>0)),(AZ11/AZ$7*100),"") | BC11: =IF(AND((BB11>0),(BB$7>0)),(BB11/BB$7*100),"") | BE11: =IF(AND((BD11>0),(BD$7>0)),(BD11/BD$7*100),"") | BG11: =IF(AND((BF11>0),(BF$7>0)),(BF11/BF$7*100),"") | BI11: =IF(AND((BH11>0),(BH$7>0)),(BH11/BH$7*100),"") | BK11: =A11 -> Posterior width | BL11: =COUNT(B11,D11,F11,H11,J11,L11,N11,P11,R11,T11,V11,X11,Z11,AB11,AD11,AF11,AH11,AJ11,AL11,AN11,AP11,AR11,AT11,AV11,AX11,AZ11,BB11,BD11,BF11,BH11) -> 22 | BM11: =IF(SUM(B11,D11,F11,H11,J11,L11,N11,P11,R11,T11,V11,X11,Z11,AB11,AD11,AF11,AH11,AJ11,AL11,AN11,AP11,AR11,AT11,AV11,AX11,AZ11,BB11,BD11,BF11,BH11)>0,MIN(B11,D11,F11,H11,J11,L11,N11,P11,R11,T11,V11,X11,Z11,AB11,AD11,AF11,AH11,AJ11,AL11,AN11,AP11,AR11,AT11,AV11,AX11,AZ11,BB11,BD11,BF11,BH11),"") -> 19.28 | BN11: =IF(COUNT(BM11)>0,"–","?") -> – | BO11: =IF(SUM(B11,D11,F11,H11,J11,L11,N11,P11,R11,T11,V11,X11,Z11,AB11,AD11,AF11,AH11,AJ11,AL11,AN11,AP11,AR11,AT11,AV11,AX11,AZ11,BB11,BD11,BF11,BH11)>0,MAX(B11,D11,F11,H11,J11,L11,N11,P11,R11,T11,V11,X11,Z11,AB11,AD11,AF11,AH11,AJ11,AL11,AN11,AP11,AR11,AT11,AV11,AX11,AZ11,BB11,BD11,BF11,BH11),"") -> 35.58 | BP11: =IF(SUM(C11,E11,G11,I11,K11,M11,O11,Q11,S11,U11,W11,Y11,AA11,AC11,AE11,AG11,AI11,AK11,AM11,AO11,AQ11,AS11,AU11,AW11,AY11,BA11,BC11,BE11,BG11,BI11)>0,MIN(C11,E11,G11,I11,K11,M11,O11,Q11,S11,U11,W11,Y11,AA11,AC11,AE11,AG11,AI11,AK11,AM11,AO11,AQ11,AS11,AU11,AW11,AY11,BA11,BC11,BE11,BG11,BI11),"") -> 34.312155 | BQ11: =IF(COUNT(BP11)>0,"–","?") -> – | BR11: =IF(SUM(C11,E11,G11,I11,K11,M11,O11,Q11,S11,U11,W11,Y11,AA11,AC11,AE11,AG11,AI11,AK11,AM11,AO11,AQ11,AS11,AU11,AW11,AY11,BA11,BC11,BE11,BG11,BI11)>0,MAX(C11,E11,G11,I11,K11,M11,O11,Q11,S11,U11,W11,Y11,AA11,AC11,AE11,AG11,AI11,AK11,AM11,AO11,AQ11,AS11,AU11,AW11,AY11,BA11,BC11,BE11,BG11,BI11),"") -> 56.05798 | BS11: =IF(SUM(B11,D11,F11,H11,J11,L11,N11,P11,R11,T11,V11,X11,Z11,AB11,AD11,AF11,AH11,AJ11,AL11,AN11,AP11,AR11,AT11,AV11,AX11,AZ11,BB11,BD11,BF11,BH11)>0,AVERAGE(B11,D11,F11,H11,J11,L11,N11,P11,R11,T11,V11,X11,Z11,AB11,AD11,AF11,AH11,AJ11,AL11,AN11,AP11,AR11,AT11,AV11,AX11,AZ11,BB11,BD11,BF11,BH11),"?") -> 27.739091 | BT11: =IF(SUM(C11,E11,G11,I11,K11,M11,O11,Q11,S11,U11,W11,Y11,AA11,AC11,AE11,AG11,AI11,AK11,AM11,AO11,AQ11,AS11,AU11,AW11,AY11,BA11,BC11,BE11,BG11,BI11)>0,AVERAGE(C11,E11,G11,I11,K11,M11,O11,Q11,S11,U11,W11,Y11,AA11,AC11,AE11,AG11,AI11,AK11,AM11,AO11,AQ11,AS11,AU11,AW11,AY11,BA11,BC11,BE11,BG11,BI11),"?") -> 44.933104 | BU11: =IF(COUNT(B11,D11,F11,H11,J11,L11,N11,P11,R11,T11,V11,X11,Z11,AB11,AD11,AF11,AH11,AJ11,AL11,AN11,AP11,AR11,AT11,AV11,AX11,AZ11,BB11,BD11,BF11,BH11)>1,STDEV(B11,D11,F11,H11,J11,L11,N11,P11,R11,T11,V11,X11,Z11,AB11,AD11,AF11,AH11,AJ11,AL11,AN11,AP11,AR11,AT11,AV11,AX11,AZ11,BB11,BD11,BF11,BH11),"?") -> 3.6376744 | BV11: =IF(COUNT(C11,E11,G11,I11,K11,M11,O11,Q11,S11,U11,W11,Y11,AA11,AC11,AE11,AG11,AI11,AK11,AM11,AO11,AQ11,AS11,AU11,AW11,AY11,BA11,BC11,BE11,BG11,BI11)>1,STDEV(C11,E11,G11,I11,K11,M11,O11,Q11,S11,U11,W11,Y11,AA11,AC11,AE11,AG11,AI11,AK11,AM11,AO11,AQ11,AS11,AU11,AW11,AY11,BA11,BC11,BE11,BG11,BI11),"?") -> 5.4004029 | BW11: =IF(COUNT(B11)>0,B11,"?") -> 35.58 | BX11: =IF(COUNT(C11)>0,C11,"?") -> 56.05798
A12: Standard width/length ratio | B12: =IF(AND((B10>0),(B7>0)),(B10/B7),"") -> 0.69717977 | C12: – | D12: =IF(AND((D10>0),(D7>0)),(D10/D7),"") -> 0.51436825 | E12: – | F12: =IF(AND((F10>0),(F7>0)),(F10/F7),"") -> 0.62715783 | G12: – | H12: =IF(AND((H10>0),(H7>0)),(H10/H7),"") -> 0.58213208 | I12: – | J12: =IF(AND((J10>0),(J7>0)),(J10/J7),"") -> 0.66297043 | K12: – | L12: =IF(AND((L10>0),(L7>0)),(L10/L7),"") -> 0.50662676 | M12: – | N12: =IF(AND((N10>0),(N7>0)),(N10/N7),"") -> 0.55530438 | O12: – | P12: =IF(AND((P10>0),(P7>0)),(P10/P7),"") -> 0.57777414 | Q12: – | R12: =IF(AND((R10>0),(R7>0)),(R10/R7),"") -> 0.65152263 | S12: – | T12: =IF(AND((T10>0),(T7>0)),(T10/T7),"") -> 0.6200097 | U12: – | V12: =IF(AND((V10>0),(V7>0)),(V10/V7),"") -> 0.52116875 | W12: – | X12: =IF(AND((X10>0),(X7>0)),(X10/X7),"") -> 0.63103286 | Y12: – | Z12: =IF(AND((Z10>0),(Z7>0)),(Z10/Z7),"") -> 0.47255619 | AA12: – | AB12: =IF(AND((AB10>0),(AB7>0)),(AB10/AB7),"") -> 0.57396034 | AC12: – | AD12: =IF(AND((AD10>0),(AD7>0)),(AD10/AD7),"") -> 0.53424238 | AE12: – | AF12: =IF(AND((AF10>0),(AF7>0)),(AF10/AF7),"") -> 0.53258874 | AG12: – | AH12: =IF(AND((AH10>0),(AH7>0)),(AH10/AH7),"") -> 0.43770185 | AI12: – | AJ12: =IF(AND((AJ10>0),(AJ7>0)),(AJ10/AJ7),"") -> 0.47493084 | AK12: – | AL12: =IF(AND((AL10>0),(AL7>0)),(AL10/AL7),"") -> 0.55991768 | AM12: – | AN12: =IF(AND((AN10>0),(AN7>0)),(AN10/AN7),"") -> 0.43691048 | AO12: – | AP12: =IF(AND((AP10>0),(AP7>0)),(AP10/AP7),"") -> 0.52388797 | AQ12: – | AR12: =IF(AND((AR10>0),(AR7>0)),(AR10/AR7),"") -> 0.52129711 | AS12: – | AT12: =IF(AND((AT10>0),(AT7>0)),(AT10/AT7),"") | AU12: – | AV12: =IF(AND((AV10>0),(AV7>0)),(AV10/AV7),"") | AW12: – | AX12: =IF(AND((AX10>0),(AX7>0)),(AX10/AX7),"") | AY12: – | AZ12: =IF(AND((AZ10>0),(AZ7>0)),(AZ10/AZ7),"") | BA12: – | BB12: =IF(AND((BB10>0),(BB7>0)),(BB10/BB7),"") | BC12: – | BD12: =IF(AND((BD10>0),(BD7>0)),(BD10/BD7),"") | BE12: – | BF12: =IF(AND((BF10>0),(BF7>0)),(BF10/BF7),"") | BG12: – | BH12: =IF(AND((BH10>0),(BH7>0)),(BH10/BH7),"") | BI12: – | BK12: =A12 -> Standard width/length ratio | BL12: =COUNT(B12,D12,F12,H12,J12,L12,N12,P12,R12,T12,V12,X12,Z12,AB12,AD12,AF12,AH12,AJ12,AL12,AN12,AP12,AR12,AT12,AV12,AX12,AZ12,BB12,BD12,BF12,BH12) -> 22 | BM12: =IF(SUM(B12,D12,F12,H12,J12,L12,N12,P12,R12,T12,V12,X12,Z12,AB12,AD12,AF12,AH12,AJ12,AL12,AN12,AP12,AR12,AT12,AV12,AX12,AZ12,BB12,BD12,BF12,BH12)>0,MIN(B12,D12,F12,H12,J12,L12,N12,P12,R12,T12,V12,X12,Z12,AB12,AD12,AF12,AH12,AJ12,AL12,AN12,AP12,AR12,AT12,AV12,AX12,AZ12,BB12,BD12,BF12,BH12),"") -> 0.43691048 | BN12: =IF(COUNT(BM12)>0,"–","?") -> – | BO12: =IF(SUM(B12,D12,F12,H12,J12,L12,N12,P12,R12,T12,V12,X12,Z12,AB12,AD12,AF12,AH12,AJ12,AL12,AN12,AP12,AR12,AT12,AV12,AX12,AZ12,BB12,BD12,BF12,BH12)>0,MAX(B12,D12,F12,H12,J12,L12,N12,P12,R12,T12,V12,X12,Z12,AB12,AD12,AF12,AH12,AJ12,AL12,AN12,AP12,AR12,AT12,AV12,AX12,AZ12,BB12,BD12,BF12,BH12),"") -> 0.69717977 | BP12: =IF(SUM(C12,E12,G12,I12,K12,M12,O12,Q12,S12,U12,W12,Y12,AA12,AC12,AE12,AG12,AI12,AK12,AM12,AO12,AQ12,AS12,AU12,AW12,AY12,BA12,BC12,BE12,BG12,BI12)>0,MIN(C12,E12,G12,I12,K12,M12,O12,Q12,S12,U12,W12,Y12,AA12,AC12,AE12,AG12,AI12,AK12,AM12,AO12,AQ12,AS12,AU12,AW12,AY12,BA12,BC12,BE12,BG12,BI12),"") | BQ12: – | BR12: =IF(SUM(C12,E12,G12,I12,K12,M12,O12,Q12,S12,U12,W12,Y12,AA12,AC12,AE12,AG12,AI12,AK12,AM12,AO12,AQ12,AS12,AU12,AW12,AY12,BA12,BC12,BE12,BG12,BI12)>0,MAX(C12,E12,G12,I12,K12,M12,O12,Q12,S12,U12,W12,Y12,AA12,AC12,AE12,AG12,AI12,AK12,AM12,AO12,AQ12,AS12,AU12,AW12,AY12,BA12,BC12,BE12,BG12,BI12),"") | BS12: =IF(SUM(B12,D12,F12,H12,J12,L12,N12,P12,R12,T12,V12,X12,Z12,AB12,AD12,AF12,AH12,AJ12,AL12,AN12,AP12,AR12,AT12,AV12,AX12,AZ12,BB12,BD12,BF12,BH12)>0,AVERAGE(B12,D12,F12,H12,J12,L12,N12,P12,R12,T12,V12,X12,Z12,AB12,AD12,AF12,AH12,AJ12,AL12,AN12,AP12,AR12,AT12,AV12,AX12,AZ12,BB12,BD12,BF12,BH12),"?") -> 0.55523824 | BT12: – | BU12: =IF(COUNT(B12,D12,F12,H12,J12,L12,N12,P12,R12,T12,V12,X12,Z12,AB12,AD12,AF12,AH12,AJ12,AL12,AN12,AP12,AR12,AT12,AV12,AX12,AZ12,BB12,BD12,BF12,BH12)>1,STDEV(B12,D12,F12,H12,J12,L12,N12,P12,R12,T12,V12,X12,Z12,AB12,AD12,AF12,AH12,AJ12,AL12,AN12,AP12,AR12,AT12,AV12,AX12,AZ12,BB12,BD12,BF12,BH12),"?") -> 0.071422669 | BV12: – | BW12: =IF(COUNT(B12)>0,B12,"?") -> 0.69717977 | BX12: –
A13: Posterior/anterior width ratio | B13: =IF(AND((B11>0),(B9>0)),(B11/B9),"") -> 0.70890616 | C13: – | D13: =IF(AND((D11>0),(D9>0)),(D11/D9),"") -> 0.67212314 | E13: – | F13: =IF(AND((F11>0),(F9>0)),(F11/F9),"") -> 0.72888989 | G13: – | H13: =IF(AND((H11>0),(H9>0)),(H11/H9),"") -> 0.68789346 | I13: – | J13: =IF(AND((J11>0),(J9>0)),(J11/J9),"") -> 0.68332956 | K13: – | L13: =IF(AND((L11>0),(L9>0)),(L11/L9),"") -> 0.58671412 | M13: – | N13: =IF(AND((N11>0),(N9>0)),(N11/N9),"") -> 0.68986538 | O13: – | P13: =IF(AND((P11>0),(P9>0)),(P11/P9),"") -> 0.72738268 | Q13: – | R13: =IF(AND((R11>0),(R9>0)),(R11/R9),"") -> 0.64884517 | S13: – | T13: =IF(AND((T11>0),(T9>0)),(T11/T9),"") -> 0.61621981 | U13: – | V13: =IF(AND((V11>0),(V9>0)),(V11/V9),"") -> 0.71451725 | W13: – | X13: =IF(AND((X11>0),(X9>0)),(X11/X9),"") -> 0.67349989 | Y13: – | Z13: =IF(AND((Z11>0),(Z9>0)),(Z11/Z9),"") -> 0.77336748 | AA13: – | AB13: =IF(AND((AB11>0),(AB9>0)),(AB11/AB9),"") -> 0.77225841 | AC13: – | AD13: =IF(AND((AD11>0),(AD9>0)),(AD11/AD9),"") -> 0.68913481 | AE13: – | AF13: =IF(AND((AF11>0),(AF9>0)),(AF11/AF9),"") -> 0.63805787 | AG13: – | AH13: =IF(AND((AH11>0),(AH9>0)),(AH11/AH9),"") -> 0.70163831 | AI13: – | AJ13: =IF(AND((AJ11>0),(AJ9>0)),(AJ11/AJ9),"") -> 0.72753878 | AK13: – | AL13: =IF(AND((AL11>0),(AL9>0)),(AL11/AL9),"") -> 0.72838912 | AM13: – | AN13: =IF(AND((AN11>0),(AN9>0)),(AN11/AN9),"") -> 0.74440154 | AO13: – | AP13: =IF(AND((AP11>0),(AP9>0)),(AP11/AP9),"") -> 0.67960649 | AQ13: – | AR13: =IF(AND((AR11>0),(AR9>0)),(AR11/AR9),"") -> 0.79288833 | AS13: – | AT13: =IF(AND((AT11>0),(AT9>0)),(AT11/AT9),"") | AU13: – | AV13: =IF(AND((AV11>0),(AV9>0)),(AV11/AV9),"") | AW13: – | AX13: =IF(AND((AX11>0),(AX9>0)),(AX11/AX9),"") | AY13: – | AZ13: =IF(AND((AZ11>0),(AZ9>0)),(AZ11/AZ9),"") | BA13: – | BB13: =IF(AND((BB11>0),(BB9>0)),(BB11/BB9),"") | BC13: – | BD13: =IF(AND((BD11>0),(BD9>0)),(BD11/BD9),"") | BE13: – | BF13: =IF(AND((BF11>0),(BF9>0)),(BF11/BF9),"") | BG13: – | BH13: =IF(AND((BH11>0),(BH9>0)),(BH11/BH9),"") | BI13: – | BK13: =A13 -> Posterior/anterior width ratio | BL13: =COUNT(B13,D13,F13,H13,J13,L13,N13,P13,R13,T13,V13,X13,Z13,AB13,AD13,AF13,AH13,AJ13,AL13,AN13,AP13,AR13,AT13,AV13,AX13,AZ13,BB13,BD13,BF13,BH13) -> 22 | BM13: =IF(SUM(B13,D13,F13,H13,J13,L13,N13,P13,R13,T13,V13,X13,Z13,AB13,AD13,AF13,AH13,AJ13,AL13,AN13,AP13,AR13,AT13,AV13,AX13,AZ13,BB13,BD13,BF13,BH13)>0,MIN(B13,D13,F13,H13,J13,L13,N13,P13,R13,T13,V13,X13,Z13,AB13,AD13,AF13,AH13,AJ13,AL13,AN13,AP13,AR13,AT13,AV13,AX13,AZ13,BB13,BD13,BF13,BH13),"") -> 0.58671412 | BN13: =IF(COUNT(BM13)>0,"–","?") -> – | BO13: =IF(SUM(B13,D13,F13,H13,J13,L13,N13,P13,R13,T13,V13,X13,Z13,AB13,AD13,AF13,AH13,AJ13,AL13,AN13,AP13,AR13,AT13,AV13,AX13,AZ13,BB13,BD13,BF13,BH13)>0,MAX(B13,D13,F13,H13,J13,L13,N13,P13,R13,T13,V13,X13,Z13,AB13,AD13,AF13,AH13,AJ13,AL13,AN13,AP13,AR13,AT13,AV13,AX13,AZ13,BB13,BD13,BF13,BH13),"") -> 0.79288833 | BP13: =IF(SUM(C13,E13,G13,I13,K13,M13,O13,Q13,S13,U13,W13,Y13,AA13,AC13,AE13,AG13,AI13,AK13,AM13,AO13,AQ13,AS13,AU13,AW13,AY13,BA13,BC13,BE13,BG13,BI13)>0,MIN(C13,E13,G13,I13,K13,M13,O13,Q13,S13,U13,W13,Y13,AA13,AC13,AE13,AG13,AI13,AK13,AM13,AO13,AQ13,AS13,AU13,AW13,AY13,BA13,BC13,BE13,BG13,BI13),"") | BQ13: – | BR13: =IF(SUM(C13,E13,G13,I13,K13,M13,O13,Q13,S13,U13,W13,Y13,AA13,AC13,AE13,AG13,AI13,AK13,AM13,AO13,AQ13,AS13,AU13,AW13,AY13,BA13,BC13,BE13,BG13,BI13)>0,MAX(C13,E13,G13,I13,K13,M13,O13,Q13,S13,U13,W13,Y13,AA13,AC13,AE13,AG13,AI13,AK13,AM13,AO13,AQ13,AS13,AU13,AW13,AY13,BA13,BC13,BE13,BG13,BI13),"") | BS13: =IF(SUM(B13,D13,F13,H13,J13,L13,N13,P13,R13,T13,V13,X13,Z13,AB13,AD13,AF13,AH13,AJ13,AL13,AN13,AP13,AR13,AT13,AV13,AX13,AZ13,BB13,BD13,BF13,BH13)>0,AVERAGE(B13,D13,F13,H13,J13,L13,N13,P13,R13,T13,V13,X13,Z13,AB13,AD13,AF13,AH13,AJ13,AL13,AN13,AP13,AR13,AT13,AV13,AX13,AZ13,BB13,BD13,BF13,BH13),"?") -> 0.69933944 | BT13: – | BU13: =IF(COUNT(B13,D13,F13,H13,J13,L13,N13,P13,R13,T13,V13,X13,Z13,AB13,AD13,AF13,AH13,AJ13,AL13,AN13,AP13,AR13,AT13,AV13,AX13,AZ13,BB13,BD13,BF13,BH13)>1,STDEV(B13,D13,F13,H13,J13,L13,N13,P13,R13,T13,V13,X13,Z13,AB13,AD13,AF13,AH13,AJ13,AL13,AN13,AP13,AR13,AT13,AV13,AX13,AZ13,BB13,BD13,BF13,BH13),"?") -> 0.050465775 | BV13: – | BW13: =IF(COUNT(B13)>0,B13,"?") -> 0.70890616 | BX13: –
A14: Claw 1 lengths | BK14: =A14 -> Claw 1 lengths
A15: External primary branch | B15: 30.44 | C15: =IF(AND((B15>0),(B$7>0)),(B15/B$7*100),"") -> 47.959666 | D15: 31.54 | E15: =IF(AND((D15>0),(D$7>0)),(D15/D$7*100),"") -> 47.954995 | F15: 26.86 | G15: =IF(AND((F15>0),(F$7>0)),(F15/F$7*100),"") -> 41.399507 | H15: 30.08 | I15: =IF(AND((H15>0),(H$7>0)),(H15/H$7*100),"") -> 50.419041 | J15: 27.1 | K15: =IF(AND((J15>0),(J$7>0)),(J15/J$7*100),"") -> 45.530914 | L15: 27.81 | M15: =IF(AND((L15>0),(L$7>0)),(L15/L$7*100),"") -> 39.632322 | N15: 26.15 | O15: =IF(AND((N15>0),(N$7>0)),(N15/N$7*100),"") -> 42.225093 | P15: 29.22 | Q15: =IF(AND((P15>0),(P$7>0)),(P15/P$7*100),"") -> 47.893788 | R15: 26.16 | S15: =IF(AND((R15>0),(R$7>0)),(R15/R$7*100),"") -> 43.061728 | T15: 27.44 | U15: =IF(AND((T15>0),(T$7>0)),(T15/T$7*100),"") -> 44.351059 | V15: 26.51 | W15: =IF(AND((V15>0),(V$7>0)),(V15/V$7*100),"") -> 39.519976 | X15: 28.24 | Y15: =IF(AND((X15>0),(X$7>0)),(X15/X$7*100),"") -> 44.395535 | Z15: 25.73 | AA15: =IF(AND((Z15>0),(Z$7>0)),(Z15/Z$7*100),"") -> 44.833595 | AB15: 26.25 | AC15: =IF(AND((AB15>0),(AB$7>0)),(AB15/AB$7*100),"") -> 46.060712 | AD15: 26.06 | AE15: =IF(AND((AD15>0),(AD$7>0)),(AD15/AD$7*100),"") -> 39.926459 | AF15: 27.35 | AG15: =IF(AND((AF15>0),(AF$7>0)),(AF15/AF$7*100),"") -> 41.845165 | AH15: 21.19 | AI15: =IF(AND((AH15>0),(AH$7>0)),(AH15/AH$7*100),"") -> 36.019038 | AJ15: 22.6 | AK15: =IF(AND((AJ15>0),(AJ$7>0)),(AJ15/AJ$7*100),"") -> 39.073306 | AL15: 29.2 | AM15: =IF(AND((AL15>0),(AL$7>0)),(AL15/AL$7*100),"") -> 46.224474 | AN15: 21.65 | AO15: =IF(AND((AN15>0),(AN$7>0)),(AN15/AN$7*100),"") -> 38.529988 | AP15: 26.73 | AQ15: =IF(AND((AP15>0),(AP$7>0)),(AP15/AP$7*100),"") -> 44.036244 | AR15: 22.79 | AS15: =IF(AND((AR15>0),(AR$7>0)),(AR15/AR$7*100),"") -> 39.947415 | AU15: =IF(AND((AT15>0),(AT$7>0)),(AT15/AT$7*100),"") | AW15: =IF(AND((AV15>0),(AV$7>0)),(AV15/AV$7*100),"") | AY15: =IF(AND((AX15>0),(AX$7>0)),(AX15/AX$7*100),"") | BA15: =IF(AND((AZ15>0),(AZ$7>0)),(AZ15/AZ$7*100),"") | BC15: =IF(AND((BB15>0),(BB$7>0)),(BB15/BB$7*100),"") | BE15: =IF(AND((BD15>0),(BD$7>0)),(BD15/BD$7*100),"") | BG15: =IF(AND((BF15>0),(BF$7>0)),(BF15/BF$7*100),"") | BI15: =IF(AND((BH15>0),(BH$7>0)),(BH15/BH$7*100),"") | BK15: =A15 -> External primary branch | BL15: =COUNT(B15,D15,F15,H15,J15,L15,N15,P15,R15,T15,V15,X15,Z15,AB15,AD15,AF15,AH15,AJ15,AL15,AN15,AP15,AR15,AT15,AV15,AX15,AZ15,BB15,BD15,BF15,BH15) -> 22 | BM15: =IF(SUM(B15,D15,F15,H15,J15,L15,N15,P15,R15,T15,V15,X15,Z15,AB15,AD15,AF15,AH15,AJ15,AL15,AN15,AP15,AR15,AT15,AV15,AX15,AZ15,BB15,BD15,BF15,BH15)>0,MIN(B15,D15,F15,H15,J15,L15,N15,P15,R15,T15,V15,X15,Z15,AB15,AD15,AF15,AH15,AJ15,AL15,AN15,AP15,AR15,AT15,AV15,AX15,AZ15,BB15,BD15,BF15,BH15),"") -> 21.19 | BN15: =IF(COUNT(BM15)>0,"–","?") -> – | BO15: =IF(SUM(B15,D15,F15,H15,J15,L15,N15,P15,R15,T15,V15,X15,Z15,AB15,AD15,AF15,AH15,AJ15,AL15,AN15,AP15,AR15,AT15,AV15,AX15,AZ15,BB15,BD15,BF15,BH15)>0,MAX(B15,D15,F15,H15,J15,L15,N15,P15,R15,T15,V15,X15,Z15,AB15,AD15,AF15,AH15,AJ15,AL15,AN15,AP15,AR15,AT15,AV15,AX15,AZ15,BB15,BD15,BF15,BH15),"") -> 31.54 | BP15: =IF(SUM(C15,E15,G15,I15,K15,M15,O15,Q15,S15,U15,W15,Y15,AA15,AC15,AE15,AG15,AI15,AK15,AM15,AO15,AQ15,AS15,AU15,AW15,AY15,BA15,BC15,BE15,BG15,BI15)>0,MIN(C15,E15,G15,I15,K15,M15,O15,Q15,S15,U15,W15,Y15,AA15,AC15,AE15,AG15,AI15,AK15,AM15,AO15,AQ15,AS15,AU15,AW15,AY15,BA15,BC15,BE15,BG15,BI15),"") -> 36.019038 | BQ15: =IF(COUNT(BP15)>0,"–","?") -> – | BR15: =IF(SUM(C15,E15,G15,I15,K15,M15,O15,Q15,S15,U15,W15,Y15,AA15,AC15,AE15,AG15,AI15,AK15,AM15,AO15,AQ15,AS15,AU15,AW15,AY15,BA15,BC15,BE15,BG15,BI15)>0,MAX(C15,E15,G15,I15,K15,M15,O15,Q15,S15,U15,W15,Y15,AA15,AC15,AE15,AG15,AI15,AK15,AM15,AO15,AQ15,AS15,AU15,AW15,AY15,BA15,BC15,BE15,BG15,BI15),"") -> 50.419041 | BS15: =IF(SUM(B15,D15,F15,H15,J15,L15,N15,P15,R15,T15,V15,X15,Z15,AB15,AD15,AF15,AH15,AJ15,AL15,AN15,AP15,AR15,AT15,AV15,AX15,AZ15,BB15,BD15,BF15,BH15)>0,AVERAGE(B15,D15,F15,H15,J15,L15,N15,P15,R15,T15,V15,X15,Z15,AB15,AD15,AF15,AH15,AJ15,AL15,AN15,AP15,AR15,AT15,AV15,AX15,AZ15,BB15,BD15,BF15,BH15),"?") -> 26.686364 | BT15: =IF(SUM(C15,E15,G15,I15,K15,M15,O15,Q15,S15,U15,W15,Y15,AA15,AC15,AE15,AG15,AI15,AK15,AM15,AO15,AQ15,AS15,AU15,AW15,AY15,BA15,BC15,BE15,BG15,BI15)>0,AVERAGE(C15,E15,G15,I15,K15,M15,O15,Q15,S15,U15,W15,Y15,AA15,AC15,AE15,AG15,AI15,AK15,AM15,AO15,AQ15,AS15,AU15,AW15,AY15,BA15,BC15,BE15,BG15,BI15),"?") -> 43.220001 | BU15: =IF(COUNT(B15,D15,F15,H15,J15,L15,N15,P15,R15,T15,V15,X15,Z15,AB15,AD15,AF15,AH15,AJ15,AL15,AN15,AP15,AR15,AT15,AV15,AX15,AZ15,BB15,BD15,BF15,BH15)>1,STDEV(B15,D15,F15,H15,J15,L15,N15,P15,R15,T15,V15,X15,Z15,AB15,AD15,AF15,AH15,AJ15,AL15,AN15,AP15,AR15,AT15,AV15,AX15,AZ15,BB15,BD15,BF15,BH15),"?") -> 2.7284926 | BV15: =IF(COUNT(C15,E15,G15,I15,K15,M15,O15,Q15,S15,U15,W15,Y15,AA15,AC15,AE15,AG15,AI15,AK15,AM15,AO15,AQ15,AS15,AU15,AW15,AY15,BA15,BC15,BE15,BG15,BI15)>1,STDEV(C15,E15,G15,I15,K15,M15,O15,Q15,S15,U15,W15,Y15,AA15,AC15,AE15,AG15,AI15,AK15,AM15,AO15,AQ15,AS15,AU15,AW15,AY15,BA15,BC15,BE15,BG15,BI15),"?") -> 3.7308641 | BW15: =IF(COUNT(B15)>0,B15,"?") -> 30.44 | BX15: =IF(COUNT(C15)>0,C15,"?") -> 47.959666
A16: External base + secondary branch | B16: 21.95 | C16: =IF(AND((B16>0),(B$7>0)),(B16/B$7*100),"") -> 34.583268 | D16: 22.3 | E16: =IF(AND((D16>0),(D$7>0)),(D16/D$7*100),"") -> 33.906036 | F16: 21.01 | G16: =IF(AND((F16>0),(F$7>0)),(F16/F$7*100),"") -> 32.382861 | H16: 23.31 | I16: =IF(AND((H16>0),(H$7>0)),(H16/H$7*100),"") -> 39.071405 | J16: 21.88 | K16: =IF(AND((J16>0),(J$7>0)),(J16/J$7*100),"") -> 36.760753 | L16: 21.25 | M16: =IF(AND((L16>0),(L$7>0)),(L16/L$7*100),"") -> 30.283597 | N16: 20.46 | O16: =IF(AND((N16>0),(N$7>0)),(N16/N$7*100),"") -> 33.0373 | P16: 22.34 | Q16: =IF(AND((P16>0),(P$7>0)),(P16/P$7*100),"") -> 36.616948 | R16: 22.55 | S16: =IF(AND((R16>0),(R$7>0)),(R16/R$7*100),"") -> 37.119342 | T16: 18.45 | U16: =IF(AND((T16>0),(T$7>0)),(T16/T$7*100),"") -> 29.820592 | V16: 19.73 | W16: =IF(AND((V16>0),(V$7>0)),(V16/V$7*100),"") -> 29.412642 | X16: 22.07 | Y16: =IF(AND((X16>0),(X$7>0)),(X16/X$7*100),"") -> 34.695803 | Z16: 18.42 | AA16: =IF(AND((Z16>0),(Z$7>0)),(Z16/Z$7*100),"") -> 32.096184 | AB16: 20.26 | AC16: =IF(AND((AB16>0),(AB$7>0)),(AB16/AB$7*100),"") -> 35.550097 | AD16: 21.6 | AE16: =IF(AND((AD16>0),(AD$7>0)),(AD16/AD$7*100),"") -> 33.093305 | AF16: 20.74 | AG16: =IF(AND((AF16>0),(AF$7>0)),(AF16/AF$7*100),"") -> 31.731946 | AH16: 18.73 | AI16: =IF(AND((AH16>0),(AH$7>0)),(AH16/AH$7*100),"") -> 31.837498 | AJ16: 16.94 | AK16: =IF(AND((AJ16>0),(AJ$7>0)),(AJ16/AJ$7*100),"") -> 29.28769 | AL16: 22.78 | AM16: =IF(AND((AL16>0),(AL$7>0)),(AL16/AL$7*100),"") -> 36.061422 | AN16: 18.64 | AO16: =IF(AND((AN16>0),(AN$7>0)),(AN16/AN$7*100),"") -> 33.173162 | AP16: 19.05 | AQ16: =IF(AND((AP16>0),(AP$7>0)),(AP16/AP$7*100),"") -> 31.383855 | AR16: 18.86 | AS16: =IF(AND((AR16>0),(AR$7>0)),(AR16/AR$7*100),"") -> 33.05872 | AU16: =IF(AND((AT16>0),(AT$7>0)),(AT16/AT$7*100),"") | AW16: =IF(AND((AV16>0),(AV$7>0)),(AV16/AV$7*100),"") | AY16: =IF(AND((AX16>0),(AX$7>0)),(AX16/AX$7*100),"") | BA16: =IF(AND((AZ16>0),(AZ$7>0)),(AZ16/AZ$7*100),"") | BC16: =IF(AND((BB16>0),(BB$7>0)),(BB16/BB$7*100),"") | BE16: =IF(AND((BD16>0),(BD$7>0)),(BD16/BD$7*100),"") | BG16: =IF(AND((BF16>0),(BF$7>0)),(BF16/BF$7*100),"") | BI16: =IF(AND((BH16>0),(BH$7>0)),(BH16/BH$7*100),"") | BK16: =A16 -> External base + secondary branch | BL16: =COUNT(B16,D16,F16,H16,J16,L16,N16,P16,R16,T16,V16,X16,Z16,AB16,AD16,AF16,AH16,AJ16,AL16,AN16,AP16,AR16,AT16,AV16,AX16,AZ16,BB16,BD16,BF16,BH16) -> 22 | BM16: =IF(SUM(B16,D16,F16,H16,J16,L16,N16,P16,R16,T16,V16,X16,Z16,AB16,AD16,AF16,AH16,AJ16,AL16,AN16,AP16,AR16,AT16,AV16,AX16,AZ16,BB16,BD16,BF16,BH16)>0,MIN(B16,D16,F16,H16,J16,L16,N16,P16,R16,T16,V16,X16,Z16,AB16,AD16,AF16,AH16,AJ16,AL16,AN16,AP16,AR16,AT16,AV16,AX16,AZ16,BB16,BD16,BF16,BH16),"") -> 16.94 | BN16: =IF(COUNT(BM16)>0,"–","?") -> – | BO16: =IF(SUM(B16,D16,F16,H16,J16,L16,N16,P16,R16,T16,V16,X16,Z16,AB16,AD16,AF16,AH16,AJ16,AL16,AN16,AP16,AR16,AT16,AV16,AX16,AZ16,BB16,BD16,BF16,BH16)>0,MAX(B16,D16,F16,H16,J16,L16,N16,P16,R16,T16,V16,X16,Z16,AB16,AD16,AF16,AH16,AJ16,AL16,AN16,AP16,AR16,AT16,AV16,AX16,AZ16,BB16,BD16,BF16,BH16),"") -> 23.31 | BP16: =IF(SUM(C16,E16,G16,I16,K16,M16,O16,Q16,S16,U16,W16,Y16,AA16,AC16,AE16,AG16,AI16,AK16,AM16,AO16,AQ16,AS16,AU16,AW16,AY16,BA16,BC16,BE16,BG16,BI16)>0,MIN(C16,E16,G16,I16,K16,M16,O16,Q16,S16,U16,W16,Y16,AA16,AC16,AE16,AG16,AI16,AK16,AM16,AO16,AQ16,AS16,AU16,AW16,AY16,BA16,BC16,BE16,BG16,BI16),"") -> 29.28769 | BQ16: =IF(COUNT(BP16)>0,"–","?") -> – | BR16: =IF(SUM(C16,E16,G16,I16,K16,M16,O16,Q16,S16,U16,W16,Y16,AA16,AC16,AE16,AG16,AI16,AK16,AM16,AO16,AQ16,AS16,AU16,AW16,AY16,BA16,BC16,BE16,BG16,BI16)>0,MAX(C16,E16,G16,I16,K16,M16,O16,Q16,S16,U16,W16,Y16,AA16,AC16,AE16,AG16,AI16,AK16,AM16,AO16,AQ16,AS16,AU16,AW16,AY16,BA16,BC16,BE16,BG16,BI16),"") -> 39.071405 | BS16: =IF(SUM(B16,D16,F16,H16,J16,L16,N16,P16,R16,T16,V16,X16,Z16,AB16,AD16,AF16,AH16,AJ16,AL16,AN16,AP16,AR16,AT16,AV16,AX16,AZ16,BB16,BD16,BF16,BH16)>0,AVERAGE(B16,D16,F16,H16,J16,L16,N16,P16,R16,T16,V16,X16,Z16,AB16,AD16,AF16,AH16,AJ16,AL16,AN16,AP16,AR16,AT16,AV16,AX16,AZ16,BB16,BD16,BF16,BH16),"?") -> 20.605455 | BT16: =IF(SUM(C16,E16,G16,I16,K16,M16,O16,Q16,S16,U16,W16,Y16,AA16,AC16,AE16,AG16,AI16,AK16,AM16,AO16,AQ16,AS16,AU16,AW16,AY16,BA16,BC16,BE16,BG16,BI16)>0,AVERAGE(C16,E16,G16,I16,K16,M16,O16,Q16,S16,U16,W16,Y16,AA16,AC16,AE16,AG16,AI16,AK16,AM16,AO16,AQ16,AS16,AU16,AW16,AY16,BA16,BC16,BE16,BG16,BI16),"?") -> 33.407474 | BU16: =IF(COUNT(B16,D16,F16,H16,J16,L16,N16,P16,R16,T16,V16,X16,Z16,AB16,AD16,AF16,AH16,AJ16,AL16,AN16,AP16,AR16,AT16,AV16,AX16,AZ16,BB16,BD16,BF16,BH16)>1,STDEV(B16,D16,F16,H16,J16,L16,N16,P16,R16,T16,V16,X16,Z16,AB16,AD16,AF16,AH16,AJ16,AL16,AN16,AP16,AR16,AT16,AV16,AX16,AZ16,BB16,BD16,BF16,BH16),"?") -> 1.7658014 | BV16: =IF(COUNT(C16,E16,G16,I16,K16,M16,O16,Q16,S16,U16,W16,Y16,AA16,AC16,AE16,AG16,AI16,AK16,AM16,AO16,AQ16,AS16,AU16,AW16,AY16,BA16,BC16,BE16,BG16,BI16)>1,STDEV(C16,E16,G16,I16,K16,M16,O16,Q16,S16,U16,W16,Y16,AA16,AC16,AE16,AG16,AI16,AK16,AM16,AO16,AQ16,AS16,AU16,AW16,AY16,BA16,BC16,BE16,BG16,BI16),"?") -> 2.6764658 | BW16: =IF(COUNT(B16)>0,B16,"?") -> 21.95 | BX16: =IF(COUNT(C16)>0,C16,"?") -> 34.583268
