Workbook

Sheet instructions
B2: INSTRUCTIONS and TERMS OF USE
B3: 1 | C3: This is a morphometric template for species of the Tardigrada Order Apochela.
B4: 2 | C4: The template caluclates the pt ratio and other relative measures only if all measurements required to calculate a ratio are provided (otherwise the ratio cell remains empty, meaning lack of data). The only numbers you need to enter are absolute measurements in micrometres [μm] in sheets "females" and "males". If a structure is not measurable leave the cell empty (enetring zeros will mean that the trait has a value of 0).
B5: 3 | C5: Both "females" and "males" sheets automatically calculate basic statistics (number of measurements, range, mean and SD). The table with these statistics is placed after the last (30th) specimen. The summary table can be then copied and pasted directly to MS Word.
B6: 4 | C6: If measurements are done on the type series, please enter the holotype in the first column (this way holotype data are automatically copied to the summary table at end of the sheet). If measurements are not done on the type series, you may delete the last two columns in the summary table. You may change specimen/slide names as desired.
B7: 5 | C7: If a trait listed is not present in the species you are measuring, remove the entire row (highlight the row, right mouse click, choose "delete").
B8: 6 | C8: Data from sheets "females" and "males" are automatically copied to the four remaining "stats" sheets. Data in those sheets are arranged for statistical analyses in the majority of statistical software.
B9: 7 | C9: If you want to see the formulas behind this template, press Ctrl+` (usually just before "1" on the keyboard). To return to the value view, press Ctrl+` again.
B10: 8 | C10: This template can be freely used but each published use must be credited as Morphometric data were handled using the Apochela ver. 1.2 template available from the Tardigrada Register, www.tardigrada.net/register (Michalczyk & Kaczmarek 2013). The reference is: Michalczyk, Ł. & Kaczmarek, Ł. (2013) The Tardigrada Register: a comprehensive online data repository for tardigrade taxonomy. Journal of Limnology, 72(S1): 175-181. DOI:10.4081/jlimnol.2013.s1.e22
B11: 9 | C11: Copyright by Łukasz Michalczyk. Enquires and suggestions: LM@tardigrada.net

Sheet general info
B2: Species | D2: Genus species
B3: Population | D3: Country.sample
B4: Type series | D4: YES/NO
B6: Author | D6: Name Surname
B7: Date | D7: DD.MM.YYYY

Sheet females
A1: SPECIMEN | B1: 1 (Hol) | D1: 2 | F1: 3 | H1: 4 | J1: 5 | L1: 6 | N1: 7 | P1: 8 | R1: 9 (Pol) | T1: 10 (Pol) | V1: 11 | X1: 12 | Z1: 13 | AB1: 14 | AD1: 15 | AF1: 16 | AH1: 17 | AJ1: 18 | AL1: 19 | AN1: 20 | AP1: 21 | AR1: 22 | BK1: CHARACTER | BL1: N | BM1: RANGE | BS1: MEAN | BU1: SD | BW1: Holotype
A2: CHARACTER | B2: µm | C2: pt | D2: µm | E2: pt | F2: µm | G2: pt | H2: µm | I2: pt | J2: µm | K2: pt | L2: µm | M2: pt | N2: µm | O2: pt | P2: µm | Q2: pt | R2: µm | S2: pt | T2: µm | U2: pt | V2: µm | W2: pt | X2: µm | Y2: pt | Z2: µm | AA2: pt | AB2: µm | AC2: pt | AD2: µm | AE2: pt | AF2: µm | AG2: pt | AH2: µm | AI2: pt | AJ2: µm | AK2: pt | AL2: µm | AM2: pt | AN2: µm | AO2: pt | AP2: µm | AQ2: pt | AR2: µm | AS2: pt | AT2: µm | AU2: pt | AV2: µm | AW2: pt | AX2: µm | AY2: pt | AZ2: µm | BA2: pt | BB2: µm | BC2: pt | BD2: µm | BE2: pt | BF2: µm | BG2: pt | BH2: µm | BI2: pt | BM2: µm | BP2: pt | BS2: µm | BT2: pt | BU2: µm | BV2: pt | BW2: µm | BX2: pt
A3: Body length | B3: 858.94 | C3: =IF(AND((B3>0),(B$7>0)),(B3/B$7*100),"") -> 1353.3008 | D3: 809.68 | E3: =IF(AND((D3>0),(D$7>0)),(D3/D$7*100),"") -> 1231.078 | F3: 875.43 | G3: =IF(AND((F3>0),(F$7>0)),(F3/F$7*100),"") -> 1349.3064 | H3: 787.37 | I3: =IF(AND((H3>0),(H$7>0)),(H3/H$7*100),"") -> 1319.762 | J3: 752.92 | K3: =IF(AND((J3>0),(J$7>0)),(J3/J$7*100),"") -> 1264.9866 | L3: 762.87 | M3: =IF(AND((L3>0),(L$7>0)),(L3/L$7*100),"") -> 1087.174 | N3: 717.23 | O3: =IF(AND((N3>0),(N$7>0)),(N3/N$7*100),"") -> 1158.1301 | P3: 755.97 | Q3: =IF(AND((P3>0),(P$7>0)),(P3/P$7*100),"") -> 1239.092 | R3: 780.06 | S3: =IF(AND((R3>0),(R$7>0)),(R3/R$7*100),"") -> 1284.0494 | T3: 783.5 | U3: =IF(AND((T3>0),(T$7>0)),(T3/T$7*100),"") -> 1266.365 | V3: 734.63 | W3: =IF(AND((V3>0),(V$7>0)),(V3/V$7*100),"") -> 1095.155 | X3: 743.07 | Y3: =IF(AND((X3>0),(X$7>0)),(X3/X$7*100),"") -> 1168.1654 | Z3: 657.58 | AA3: =IF(AND((Z3>0),(Z$7>0)),(Z3/Z$7*100),"") -> 1145.8094 | AB3: 710.23 | AC3: =IF(AND((AB3>0),(AB$7>0)),(AB3/AB$7*100),"") -> 1246.2362 | AD3: 706.44 | AE3: =IF(AND((AD3>0),(AD$7>0)),(AD3/AD$7*100),"") -> 1082.3349 | AF3: 816.89 | AG3: =IF(AND((AF3>0),(AF$7>0)),(AF3/AF$7*100),"") -> 1249.8317 | AH3: 656.52 | AI3: =IF(AND((AH3>0),(AH$7>0)),(AH3/AH$7*100),"") -> 1115.9612 | AJ3: 719.83 | AK3: =IF(AND((AJ3>0),(AJ$7>0)),(AJ3/AJ$7*100),"") -> 1244.5194 | AL3: 807.59 | AM3: =IF(AND((AL3>0),(AL$7>0)),(AL3/AL$7*100),"") -> 1278.4391 | AN3: 678.22 | AO3: =IF(AND((AN3>0),(AN$7>0)),(AN3/AN$7*100),"") -> 1207.0119 | AP3: 741.79 | AQ3: =IF(AND((AP3>0),(AP$7>0)),(AP3/AP$7*100),"") -> 1222.0593 | AR3: 694.21 | AS3: =IF(AND((AR3>0),(AR$7>0)),(AR3/AR$7*100),"") -> 1216.8449 | AU3: =IF(AND((AT3>0),(AT$7>0)),(AT3/AT$7*100),"") | AW3: =IF(AND((AV3>0),(AV$7>0)),(AV3/AV$7*100),"") | AY3: =IF(AND((AX3>0),(AX$7>0)),(AX3/AX$7*100),"") | BA3: =IF(AND((AZ3>0),(AZ$7>0)),(AZ3/AZ$7*100),"") | BC3: =IF(AND((BB3>0),(BB$7>0)),(BB3/BB$7*100),"") | BE3: =IF(AND((BD3>0),(BD$7>0)),(BD3/BD$7*100),"") | BG3: =IF(AND((BF3>0),(BF$7>0)),(BF3/BF$7*100),"") | BI3: =IF(AND((BH3>0),(BH$7>0)),(BH3/BH$7*100),"") | BK3: =A3 -> Body length | BL3: =COUNT(B3,D3,F3,H3,J3,L3,N3,P3,R3,T3,V3,X3,Z3,AB3,AD3,AF3,AH3,AJ3,AL3,AN3,AP3,AR3,AT3,AV3,AX3,AZ3,BB3,BD3,BF3,BH3) -> 22 | BM3: =IF(SUM(B3,D3,F3,H3,J3,L3,N3,P3,R3,T3,V3,X3,Z3,AB3,AD3,AF3,AH3,AJ3,AL3,AN3,AP3,AR3,AT3,AV3,AX3,AZ3,BB3,BD3,BF3,BH3)>0,MIN(B3,D3,F3,H3,J3,L3,N3,P3,R3,T3,V3,X3,Z3,AB3,AD3,AF3,AH3,AJ3,AL3,AN3,AP3,AR3,AT3,AV3,AX3,AZ3,BB3,BD3,BF3,BH3),"") -> 656.52 | BN3: =IF(COUNT(BM3)>0,"–","?") -> – | BO3: =IF(SUM(B3,D3,F3,H3,J3,L3,N3,P3,R3,T3,V3,X3,Z3,AB3,AD3,AF3,AH3,AJ3,AL3,AN3,AP3,AR3,AT3,AV3,AX3,AZ3,BB3,BD3,BF3,BH3)>0,MAX(B3,D3,F3,H3,J3,L3,N3,P3,R3,T3,V3,X3,Z3,AB3,AD3,AF3,AH3,AJ3,AL3,AN3,AP3,AR3,AT3,AV3,AX3,AZ3,BB3,BD3,BF3,BH3),"") -> 875.43 | BP3: =IF(SUM(C3,E3,G3,I3,K3,M3,O3,Q3,S3,U3,W3,Y3,AA3,AC3,AE3,AG3,AI3,AK3,AM3,AO3,AQ3,AS3,AU3,AW3,AY3,BA3,BC3,BE3,BG3,BI3)>0,MIN(C3,E3,G3,I3,K3,M3,O3,Q3,S3,U3,W3,Y3,AA3,AC3,AE3,AG3,AI3,AK3,AM3,AO3,AQ3,AS3,AU3,AW3,AY3,BA3,BC3,BE3,BG3,BI3),"") -> 1082.3349 | BQ3: =IF(COUNT(BP3)>0,"–","?") -> – | BR3: =IF(SUM(C3,E3,G3,I3,K3,M3,O3,Q3,S3,U3,W3,Y3,AA3,AC3,AE3,AG3,AI3,AK3,AM3,AO3,AQ3,AS3,AU3,AW3,AY3,BA3,BC3,BE3,BG3,BI3)>0,MAX(C3,E3,G3,I3,K3,M3,O3,Q3,S3,U3,W3,Y3,AA3,AC3,AE3,AG3,AI3,AK3,AM3,AO3,AQ3,AS3,AU3,AW3,AY3,BA3,BC3,BE3,BG3,BI3),"") -> 1353.3008 | BS3: =IF(SUM(B3,D3,F3,H3,J3,L3,N3,P3,R3,T3,V3,X3,Z3,AB3,AD3,AF3,AH3,AJ3,AL3,AN3,AP3,AR3,AT3,AV3,AX3,AZ3,BB3,BD3,BF3,BH3)>0,AVERAGE(B3,D3,F3,H3,J3,L3,N3,P3,R3,T3,V3,X3,Z3,AB3,AD3,AF3,AH3,AJ3,AL3,AN3,AP3,AR3,AT3,AV3,AX3,AZ3,BB3,BD3,BF3,BH3),"?") -> 752.31682 | BT3: =IF(SUM(C3,E3,G3,I3,K3,M3,O3,Q3,S3,U3,W3,Y3,AA3,AC3,AE3,AG3,AI3,AK3,AM3,AO3,AQ3,AS3,AU3,AW3,AY3,BA3,BC3,BE3,BG3,BI3)>0,AVERAGE(C3,E3,G3,I3,K3,M3,O3,Q3,S3,U3,W3,Y3,AA3,AC3,AE3,AG3,AI3,AK3,AM3,AO3,AQ3,AS3,AU3,AW3,AY3,BA3,BC3,BE3,BG3,BI3),"?") -> 1219.346 | BU3: =IF(COUNT(B3,D3,F3,H3,J3,L3,N3,P3,R3,T3,V3,X3,Z3,AB3,AD3,AF3,AH3,AJ3,AL3,AN3,AP3,AR3,AT3,AV3,AX3,AZ3,BB3,BD3,BF3,BH3)>1,STDEV(B3,D3,F3,H3,J3,L3,N3,P3,R3,T3,V3,X3,Z3,AB3,AD3,AF3,AH3,AJ3,AL3,AN3,AP3,AR3,AT3,AV3,AX3,AZ3,BB3,BD3,BF3,BH3),"?") -> 59.292267 | BV3: =IF(COUNT(C3,E3,G3,I3,K3,M3,O3,Q3,S3,U3,W3,Y3,AA3,AC3,AE3,AG3,AI3,AK3,AM3,AO3,AQ3,AS3,AU3,AW3,AY3,BA3,BC3,BE3,BG3,BI3)>1,STDEV(C3,E3,G3,I3,K3,M3,O3,Q3,S3,U3,W3,Y3,AA3,AC3,AE3,AG3,AI3,AK3,AM3,AO3,AQ3,AS3,AU3,AW3,AY3,BA3,BC3,BE3,BG3,BI3),"?") -> 79.879827 | BW3: =IF(COUNT(B3)>0,B3,"?") -> 858.94 | BX3: =IF(COUNT(C3)>0,C3,"?") -> 1353.3008
A4: Peribuccal papillae length | B4: 15.97 | C4: =IF(AND((B4>0),(B$7>0)),(B4/B$7*100),"") -> 25.161494 | D4: 15.9 | E4: =IF(AND((D4>0),(D$7>0)),(D4/D$7*100),"") -> 24.175156 | F4: 14.61 | G4: =IF(AND((F4>0),(F$7>0)),(F4/F$7*100),"") -> 22.518496 | H4: 14.08 | I4: =IF(AND((H4>0),(H$7>0)),(H4/H$7*100),"") -> 23.600402 | J4: 15.08 | K4: =IF(AND((J4>0),(J$7>0)),(J4/J$7*100),"") -> 25.336022 | L4: 14.32 | M4: =IF(AND((L4>0),(L$7>0)),(L4/L$7*100),"") -> 20.407582 | N4: 15.41 | O4: =IF(AND((N4>0),(N$7>0)),(N4/N$7*100),"") -> 24.882932 | P4: 17.89 | Q4: =IF(AND((P4>0),(P$7>0)),(P4/P$7*100),"") -> 29.323062 | R4: 14.77 | S4: =IF(AND((R4>0),(R$7>0)),(R4/R$7*100),"") -> 24.312757 | T4: 16.7 | U4: =IF(AND((T4>0),(T$7>0)),(T4/T$7*100),"") -> 26.99208 | V4: 12.13 | W4: =IF(AND((V4>0),(V$7>0)),(V4/V$7*100),"") -> 18.082886 | X4: 14.52 | Y4: =IF(AND((X4>0),(X$7>0)),(X4/X$7*100),"") -> 22.8266 | Z4: 11.53 | AA4: =IF(AND((Z4>0),(Z$7>0)),(Z4/Z$7*100),"") -> 20.090608 | AB4: 13.88 | AC4: =IF(AND((AB4>0),(AB$7>0)),(AB4/AB$7*100),"") -> 24.35515 | AD4: 17.32 | AE4: =IF(AND((AD4>0),(AD$7>0)),(AD4/AD$7*100),"") -> 26.535928 | AF4: 14.52 | AG4: =IF(AND((AF4>0),(AF$7>0)),(AF4/AF$7*100),"") -> 22.215422 | AH4: 13.84 | AI4: =IF(AND((AH4>0),(AH$7>0)),(AH4/AH$7*100),"") -> 23.525412 | AJ4: 12.58 | AK4: =IF(AND((AJ4>0),(AJ$7>0)),(AJ4/AJ$7*100),"") -> 21.749654 | AL4: 14.53 | AM4: =IF(AND((AL4>0),(AL$7>0)),(AL4/AL$7*100),"") -> 23.001425 | AN4: 11.21 | AO4: =IF(AND((AN4>0),(AN$7>0)),(AN4/AN$7*100),"") -> 19.950169 | AP4: 14.44 | AQ4: =IF(AND((AP4>0),(AP$7>0)),(AP4/AP$7*100),"") -> 23.789127 | AR4: 10.21 | AS4: =IF(AND((AR4>0),(AR$7>0)),(AR4/AR$7*100),"") -> 17.896582 | AU4: =IF(AND((AT4>0),(AT$7>0)),(AT4/AT$7*100),"") | AW4: =IF(AND((AV4>0),(AV$7>0)),(AV4/AV$7*100),"") | AY4: =IF(AND((AX4>0),(AX$7>0)),(AX4/AX$7*100),"") | BA4: =IF(AND((AZ4>0),(AZ$7>0)),(AZ4/AZ$7*100),"") | BC4: =IF(AND((BB4>0),(BB$7>0)),(BB4/BB$7*100),"") | BE4: =IF(AND((BD4>0),(BD$7>0)),(BD4/BD$7*100),"") | BG4: =IF(AND((BF4>0),(BF$7>0)),(BF4/BF$7*100),"") | BI4: =IF(AND((BH4>0),(BH$7>0)),(BH4/BH$7*100),"") | BK4: =A4 -> Peribuccal papillae length | BL4: =COUNT(B4,D4,F4,H4,J4,L4,N4,P4,R4,T4,V4,X4,Z4,AB4,AD4,AF4,AH4,AJ4,AL4,AN4,AP4,AR4,AT4,AV4,AX4,AZ4,BB4,BD4,BF4,BH4) -> 22 | BM4: =IF(SUM(B4,D4,F4,H4,J4,L4,N4,P4,R4,T4,V4,X4,Z4,AB4,AD4,AF4,AH4,AJ4,AL4,AN4,AP4,AR4,AT4,AV4,AX4,AZ4,BB4,BD4,BF4,BH4)>0,MIN(B4,D4,F4,H4,J4,L4,N4,P4,R4,T4,V4,X4,Z4,AB4,AD4,AF4,AH4,AJ4,AL4,AN4,AP4,AR4,AT4,AV4,AX4,AZ4,BB4,BD4,BF4,BH4),"") -> 10.21 | BN4: =IF(COUNT(BM4)>0,"–","?") -> – | BO4: =IF(SUM(B4,D4,F4,H4,J4,L4,N4,P4,R4,T4,V4,X4,Z4,AB4,AD4,AF4,AH4,AJ4,AL4,AN4,AP4,AR4,AT4,AV4,AX4,AZ4,BB4,BD4,BF4,BH4)>0,MAX(B4,D4,F4,H4,J4,L4,N4,P4,R4,T4,V4,X4,Z4,AB4,AD4,AF4,AH4,AJ4,AL4,AN4,AP4,AR4,AT4,AV4,AX4,AZ4,BB4,BD4,BF4,BH4),"") -> 17.89 | BP4: =IF(SUM(C4,E4,G4,I4,K4,M4,O4,Q4,S4,U4,W4,Y4,AA4,AC4,AE4,AG4,AI4,AK4,AM4,AO4,AQ4,AS4,AU4,AW4,AY4,BA4,BC4,BE4,BG4,BI4)>0,MIN(C4,E4,G4,I4,K4,M4,O4,Q4,S4,U4,W4,Y4,AA4,AC4,AE4,AG4,AI4,AK4,AM4,AO4,AQ4,AS4,AU4,AW4,AY4,BA4,BC4,BE4,BG4,BI4),"") -> 17.896582 | BQ4: =IF(COUNT(BP4)>0,"–","?") -> – | BR4: =IF(SUM(C4,E4,G4,I4,K4,M4,O4,Q4,S4,U4,W4,Y4,AA4,AC4,AE4,AG4,AI4,AK4,AM4,AO4,AQ4,AS4,AU4,AW4,AY4,BA4,BC4,BE4,BG4,BI4)>0,MAX(C4,E4,G4,I4,K4,M4,O4,Q4,S4,U4,W4,Y4,AA4,AC4,AE4,AG4,AI4,AK4,AM4,AO4,AQ4,AS4,AU4,AW4,AY4,BA4,BC4,BE4,BG4,BI4),"") -> 29.323062 | BS4: =IF(SUM(B4,D4,F4,H4,J4,L4,N4,P4,R4,T4,V4,X4,Z4,AB4,AD4,AF4,AH4,AJ4,AL4,AN4,AP4,AR4,AT4,AV4,AX4,AZ4,BB4,BD4,BF4,BH4)>0,AVERAGE(B4,D4,F4,H4,J4,L4,N4,P4,R4,T4,V4,X4,Z4,AB4,AD4,AF4,AH4,AJ4,AL4,AN4,AP4,AR4,AT4,AV4,AX4,AZ4,BB4,BD4,BF4,BH4),"?") -> 14.338182 | BT4: =IF(SUM(C4,E4,G4,I4,K4,M4,O4,Q4,S4,U4,W4,Y4,AA4,AC4,AE4,AG4,AI4,AK4,AM4,AO4,AQ4,AS4,AU4,AW4,AY4,BA4,BC4,BE4,BG4,BI4)>0,AVERAGE(C4,E4,G4,I4,K4,M4,O4,Q4,S4,U4,W4,Y4,AA4,AC4,AE4,AG4,AI4,AK4,AM4,AO4,AQ4,AS4,AU4,AW4,AY4,BA4,BC4,BE4,BG4,BI4),"?") -> 23.214952 | BU4: =IF(COUNT(B4,D4,F4,H4,J4,L4,N4,P4,R4,T4,V4,X4,Z4,AB4,AD4,AF4,AH4,AJ4,AL4,AN4,AP4,AR4,AT4,AV4,AX4,AZ4,BB4,BD4,BF4,BH4)>1,STDEV(B4,D4,F4,H4,J4,L4,N4,P4,R4,T4,V4,X4,Z4,AB4,AD4,AF4,AH4,AJ4,AL4,AN4,AP4,AR4,AT4,AV4,AX4,AZ4,BB4,BD4,BF4,BH4),"?") -> 1.9206314 | BV4: =IF(COUNT(C4,E4,G4,I4,K4,M4,O4,Q4,S4,U4,W4,Y4,AA4,AC4,AE4,AG4,AI4,AK4,AM4,AO4,AQ4,AS4,AU4,AW4,AY4,BA4,BC4,BE4,BG4,BI4)>1,STDEV(C4,E4,G4,I4,K4,M4,O4,Q4,S4,U4,W4,Y4,AA4,AC4,AE4,AG4,AI4,AK4,AM4,AO4,AQ4,AS4,AU4,AW4,AY4,BA4,BC4,BE4,BG4,BI4),"?") -> 2.7982052 | BW4: =IF(COUNT(B4)>0,B4,"?") -> 15.97 | BX4: =IF(COUNT(C4)>0,C4,"?") -> 25.161494
A5: Lateral papillae length | B5: 12.52 | C5: =IF(AND((B5>0),(B$7>0)),(B5/B$7*100),"") -> 19.725855 | D5: 14.47 | E5: =IF(AND((D5>0),(D$7>0)),(D5/D$7*100),"") -> 22.000912 | F5: 12.28 | G5: =IF(AND((F5>0),(F$7>0)),(F5/F$7*100),"") -> 18.92725 | H5: 12.7 | I5: =IF(AND((H5>0),(H$7>0)),(H5/H$7*100),"") -> 21.287295 | J5: 11.31 | K5: =IF(AND((J5>0),(J$7>0)),(J5/J$7*100),"") -> 19.002016 | L5: 14.88 | M5: =IF(AND((L5>0),(L$7>0)),(L5/L$7*100),"") -> 21.205643 | N5: 11.59 | O5: =IF(AND((N5>0),(N$7>0)),(N5/N$7*100),"") -> 18.714678 | P5: 13.39 | Q5: =IF(AND((P5>0),(P$7>0)),(P5/P$7*100),"") -> 21.947222 | R5: 13.23 | S5: =IF(AND((R5>0),(R$7>0)),(R5/R$7*100),"") -> 21.777778 | T5: 15.09 | U5: =IF(AND((T5>0),(T$7>0)),(T5/T$7*100),"") -> 24.38985 | V5: 10.48 | W5: =IF(AND((V5>0),(V$7>0)),(V5/V$7*100),"") -> 15.623137 | X5: 12.21 | Y5: =IF(AND((X5>0),(X$7>0)),(X5/X$7*100),"") -> 19.195095 | Z5: 9.35 | AA5: =IF(AND((Z5>0),(Z$7>0)),(Z5/Z$7*100),"") -> 16.292037 | AB5: 11.36 | AC5: =IF(AND((AB5>0),(AB$7>0)),(AB5/AB$7*100),"") -> 19.933322 | AD5: 13.59 | AE5: =IF(AND((AD5>0),(AD$7>0)),(AD5/AD$7*100),"") -> 20.821204 | AF5: 14.33 | AG5: =IF(AND((AF5>0),(AF$7>0)),(AF5/AF$7*100),"") -> 21.924725 | AH5: 10.87 | AI5: =IF(AND((AH5>0),(AH$7>0)),(AH5/AH$7*100),"") -> 18.476968 | AJ5: 10.27 | AK5: =IF(AND((AJ5>0),(AJ$7>0)),(AJ5/AJ$7*100),"") -> 17.755878 | AL5: 15.06 | AM5: =IF(AND((AL5>0),(AL$7>0)),(AL5/AL$7*100),"") -> 23.840431 | AN5: 11.02 | AO5: =IF(AND((AN5>0),(AN$7>0)),(AN5/AN$7*100),"") -> 19.612031 | AP5: 11.04 | AQ5: =IF(AND((AP5>0),(AP$7>0)),(AP5/AP$7*100),"") -> 18.187809 | AR5: 10.64 | AS5: =IF(AND((AR5>0),(AR$7>0)),(AR5/AR$7*100),"") -> 18.650307 | AU5: =IF(AND((AT5>0),(AT$7>0)),(AT5/AT$7*100),"") | AW5: =IF(AND((AV5>0),(AV$7>0)),(AV5/AV$7*100),"") | AY5: =IF(AND((AX5>0),(AX$7>0)),(AX5/AX$7*100),"") | BA5: =IF(AND((AZ5>0),(AZ$7>0)),(AZ5/AZ$7*100),"") | BC5: =IF(AND((BB5>0),(BB$7>0)),(BB5/BB$7*100),"") | BE5: =IF(AND((BD5>0),(BD$7>0)),(BD5/BD$7*100),"") | BG5: =IF(AND((BF5>0),(BF$7>0)),(BF5/BF$7*100),"") | BI5: =IF(AND((BH5>0),(BH$7>0)),(BH5/BH$7*100),"") | BK5: =A5 -> Lateral papillae length | BL5: =COUNT(B5,D5,F5,H5,J5,L5,N5,P5,R5,T5,V5,X5,Z5,AB5,AD5,AF5,AH5,AJ5,AL5,AN5,AP5,AR5,AT5,AV5,AX5,AZ5,BB5,BD5,BF5,BH5) -> 22 | BM5: =IF(SUM(B5,D5,F5,H5,J5,L5,N5,P5,R5,T5,V5,X5,Z5,AB5,AD5,AF5,AH5,AJ5,AL5,AN5,AP5,AR5,AT5,AV5,AX5,AZ5,BB5,BD5,BF5,BH5)>0,MIN(B5,D5,F5,H5,J5,L5,N5,P5,R5,T5,V5,X5,Z5,AB5,AD5,AF5,AH5,AJ5,AL5,AN5,AP5,AR5,AT5,AV5,AX5,AZ5,BB5,BD5,BF5,BH5),"") -> 9.35 | BN5: =IF(COUNT(BM5)>0,"–","?") -> – | BO5: =IF(SUM(B5,D5,F5,H5,J5,L5,N5,P5,R5,T5,V5,X5,Z5,AB5,AD5,AF5,AH5,AJ5,AL5,AN5,AP5,AR5,AT5,AV5,AX5,AZ5,BB5,BD5,BF5,BH5)>0,MAX(B5,D5,F5,H5,J5,L5,N5,P5,R5,T5,V5,X5,Z5,AB5,AD5,AF5,AH5,AJ5,AL5,AN5,AP5,AR5,AT5,AV5,AX5,AZ5,BB5,BD5,BF5,BH5),"") -> 15.09 | BP5: =IF(SUM(C5,E5,G5,I5,K5,M5,O5,Q5,S5,U5,W5,Y5,AA5,AC5,AE5,AG5,AI5,AK5,AM5,AO5,AQ5,AS5,AU5,AW5,AY5,BA5,BC5,BE5,BG5,BI5)>0,MIN(C5,E5,G5,I5,K5,M5,O5,Q5,S5,U5,W5,Y5,AA5,AC5,AE5,AG5,AI5,AK5,AM5,AO5,AQ5,AS5,AU5,AW5,AY5,BA5,BC5,BE5,BG5,BI5),"") -> 15.623137 | BQ5: =IF(COUNT(BP5)>0,"–","?") -> – | BR5: =IF(SUM(C5,E5,G5,I5,K5,M5,O5,Q5,S5,U5,W5,Y5,AA5,AC5,AE5,AG5,AI5,AK5,AM5,AO5,AQ5,AS5,AU5,AW5,AY5,BA5,BC5,BE5,BG5,BI5)>0,MAX(C5,E5,G5,I5,K5,M5,O5,Q5,S5,U5,W5,Y5,AA5,AC5,AE5,AG5,AI5,AK5,AM5,AO5,AQ5,AS5,AU5,AW5,AY5,BA5,BC5,BE5,BG5,BI5),"") -> 24.38985 | BS5: =IF(SUM(B5,D5,F5,H5,J5,L5,N5,P5,R5,T5,V5,X5,Z5,AB5,AD5,AF5,AH5,AJ5,AL5,AN5,AP5,AR5,AT5,AV5,AX5,AZ5,BB5,BD5,BF5,BH5)>0,AVERAGE(B5,D5,F5,H5,J5,L5,N5,P5,R5,T5,V5,X5,Z5,AB5,AD5,AF5,AH5,AJ5,AL5,AN5,AP5,AR5,AT5,AV5,AX5,AZ5,BB5,BD5,BF5,BH5),"?") -> 12.349091 | BT5: =IF(SUM(C5,E5,G5,I5,K5,M5,O5,Q5,S5,U5,W5,Y5,AA5,AC5,AE5,AG5,AI5,AK5,AM5,AO5,AQ5,AS5,AU5,AW5,AY5,BA5,BC5,BE5,BG5,BI5)>0,AVERAGE(C5,E5,G5,I5,K5,M5,O5,Q5,S5,U5,W5,Y5,AA5,AC5,AE5,AG5,AI5,AK5,AM5,AO5,AQ5,AS5,AU5,AW5,AY5,BA5,BC5,BE5,BG5,BI5),"?") -> 19.967793 | BU5: =IF(COUNT(B5,D5,F5,H5,J5,L5,N5,P5,R5,T5,V5,X5,Z5,AB5,AD5,AF5,AH5,AJ5,AL5,AN5,AP5,AR5,AT5,AV5,AX5,AZ5,BB5,BD5,BF5,BH5)>1,STDEV(B5,D5,F5,H5,J5,L5,N5,P5,R5,T5,V5,X5,Z5,AB5,AD5,AF5,AH5,AJ5,AL5,AN5,AP5,AR5,AT5,AV5,AX5,AZ5,BB5,BD5,BF5,BH5),"?") -> 1.7085079 | BV5: =IF(COUNT(C5,E5,G5,I5,K5,M5,O5,Q5,S5,U5,W5,Y5,AA5,AC5,AE5,AG5,AI5,AK5,AM5,AO5,AQ5,AS5,AU5,AW5,AY5,BA5,BC5,BE5,BG5,BI5)>1,STDEV(C5,E5,G5,I5,K5,M5,O5,Q5,S5,U5,W5,Y5,AA5,AC5,AE5,AG5,AI5,AK5,AM5,AO5,AQ5,AS5,AU5,AW5,AY5,BA5,BC5,BE5,BG5,BI5),"?") -> 2.2091421 | BW5: =IF(COUNT(B5)>0,B5,"?") -> 12.52 | BX5: =IF(COUNT(C5)>0,C5,"?") -> 19.725855
A6: Buccal tube | BK6: =A6 -> Buccal tube
A7: Length | B7: 63.47 | C7: – | D7: 65.77 | E7: – | F7: 64.88 | G7: – | H7: 59.66 | I7: – | J7: 59.52 | K7: – | L7: 70.17 | M7: – | N7: 61.93 | O7: – | P7: 61.01 | Q7: – | R7: 60.75 | S7: – | T7: 61.87 | U7: – | V7: 67.08 | W7: – | X7: 63.61 | Y7: – | Z7: 57.39 | AA7: – | AB7: 56.99 | AC7: – | AD7: 65.27 | AE7: – | AF7: 65.36 | AG7: – | AH7: 58.83 | AI7: – | AJ7: 57.84 | AK7: – | AL7: 63.17 | AM7: – | AN7: 56.19 | AO7: – | AP7: 60.7 | AQ7: – | AR7: 57.05 | AS7: – | AU7: – | AW7: – | AY7: – | BA7: – | BC7: – | BE7: – | BG7: – | BI7: – | BK7: =A7 -> Length | BL7: =COUNT(B7,D7,F7,H7,J7,L7,N7,P7,R7,T7,V7,X7,Z7,AB7,AD7,AF7,AH7,AJ7,AL7,AN7,AP7,AR7,AT7,AV7,AX7,AZ7,BB7,BD7,BF7,BH7) -> 22 | BM7: =IF(SUM(B7,D7,F7,H7,J7,L7,N7,P7,R7,T7,V7,X7,Z7,AB7,AD7,AF7,AH7,AJ7,AL7,AN7,AP7,AR7,AT7,AV7,AX7,AZ7,BB7,BD7,BF7,BH7)>0,MIN(B7,D7,F7,H7,J7,L7,N7,P7,R7,T7,V7,X7,Z7,AB7,AD7,AF7,AH7,AJ7,AL7,AN7,AP7,AR7,AT7,AV7,AX7,AZ7,BB7,BD7,BF7,BH7),"") -> 56.19 | BN7: =IF(COUNT(BM7)>0,"–","?") -> – | BO7: =IF(SUM(B7,D7,F7,H7,J7,L7,N7,P7,R7,T7,V7,X7,Z7,AB7,AD7,AF7,AH7,AJ7,AL7,AN7,AP7,AR7,AT7,AV7,AX7,AZ7,BB7,BD7,BF7,BH7)>0,MAX(B7,D7,F7,H7,J7,L7,N7,P7,R7,T7,V7,X7,Z7,AB7,AD7,AF7,AH7,AJ7,AL7,AN7,AP7,AR7,AT7,AV7,AX7,AZ7,BB7,BD7,BF7,BH7),"") -> 70.17 | BP7: =IF(SUM(C7,E7,G7,I7,K7,M7,O7,Q7,S7,U7,W7,Y7,AA7,AC7,AE7,AG7,AI7,AK7,AM7,AO7,AQ7,AS7,AU7,AW7,AY7,BA7,BC7,BE7,BG7,BI7)>0,MIN(C7,E7,G7,I7,K7,M7,O7,Q7,S7,U7,W7,Y7,AA7,AC7,AE7,AG7,AI7,AK7,AM7,AO7,AQ7,AS7,AU7,AW7,AY7,BA7,BC7,BE7,BG7,BI7),"") | BQ7: – | BR7: =IF(SUM(C7,E7,G7,I7,K7,M7,O7,Q7,S7,U7,W7,Y7,AA7,AC7,AE7,AG7,AI7,AK7,AM7,AO7,AQ7,AS7,AU7,AW7,AY7,BA7,BC7,BE7,BG7,BI7)>0,MAX(C7,E7,G7,I7,K7,M7,O7,Q7,S7,U7,W7,Y7,AA7,AC7,AE7,AG7,AI7,AK7,AM7,AO7,AQ7,AS7,AU7,AW7,AY7,BA7,BC7,BE7,BG7,BI7),"") | BS7: =IF(SUM(B7,D7,F7,H7,J7,L7,N7,P7,R7,T7,V7,X7,Z7,AB7,AD7,AF7,AH7,AJ7,AL7,AN7,AP7,AR7,AT7,AV7,AX7,AZ7,BB7,BD7,BF7,BH7)>0,AVERAGE(B7,D7,F7,H7,J7,L7,N7,P7,R7,T7,V7,X7,Z7,AB7,AD7,AF7,AH7,AJ7,AL7,AN7,AP7,AR7,AT7,AV7,AX7,AZ7,BB7,BD7,BF7,BH7),"?") -> 61.750455 | BT7: – | BU7: =IF(COUNT(B7,D7,F7,H7,J7,L7,N7,P7,R7,T7,V7,X7,Z7,AB7,AD7,AF7,AH7,AJ7,AL7,AN7,AP7,AR7,AT7,AV7,AX7,AZ7,BB7,BD7,BF7,BH7)>1,STDEV(B7,D7,F7,H7,J7,L7,N7,P7,R7,T7,V7,X7,Z7,AB7,AD7,AF7,AH7,AJ7,AL7,AN7,AP7,AR7,AT7,AV7,AX7,AZ7,BB7,BD7,BF7,BH7),"?") -> 3.7138268 | BV7: – | BW7: =IF(COUNT(B7)>0,B7,"?") -> 63.47 | BX7: –
A8: Stylet support insertion point | B8: 41.77 | C8: =IF(AND((B8>0),(B$7>0)),(B8/B$7*100),"") -> 65.810619 | D8: 40.64 | E8: =IF(AND((D8>0),(D$7>0)),(D8/D$7*100),"") -> 61.79109 | F8: 39.89 | G8: =IF(AND((F8>0),(F$7>0)),(F8/F$7*100),"") -> 61.482737 | H8: 38.63 | I8: =IF(AND((H8>0),(H$7>0)),(H8/H$7*100),"") -> 64.750251 | J8: 37.37 | K8: =IF(AND((J8>0),(J$7>0)),(J8/J$7*100),"") -> 62.785618 | L8: 42.68 | M8: =IF(AND((L8>0),(L$7>0)),(L8/L$7*100),"") -> 60.823714 | N8: 39.09 | O8: =IF(AND((N8>0),(N$7>0)),(N8/N$7*100),"") -> 63.119651 | P8: 40.93 | Q8: =IF(AND((P8>0),(P$7>0)),(P8/P$7*100),"") -> 67.087363 | R8: 40.11 | S8: =IF(AND((R8>0),(R$7>0)),(R8/R$7*100),"") -> 66.024691 | T8: 37.94 | U8: =IF(AND((T8>0),(T$7>0)),(T8/T$7*100),"") -> 61.322127 | V8: 44.29 | W8: =IF(AND((V8>0),(V$7>0)),(V8/V$7*100),"") -> 66.025641 | X8: 40.89 | Y8: =IF(AND((X8>0),(X$7>0)),(X8/X$7*100),"") -> 64.282346 | Z8: 37.67 | AA8: =IF(AND((Z8>0),(Z$7>0)),(Z8/Z$7*100),"") -> 65.638613 | AB8: 39.26 | AC8: =IF(AND((AB8>0),(AB$7>0)),(AB8/AB$7*100),"") -> 68.889279 | AD8: 37.69 | AE8: =IF(AND((AD8>0),(AD$7>0)),(AD8/AD$7*100),"") -> 57.744753 | AF8: 39.6 | AG8: =IF(AND((AF8>0),(AF$7>0)),(AF8/AF$7*100),"") -> 60.587515 | AH8: 39.33 | AI8: =IF(AND((AH8>0),(AH$7>0)),(AH8/AH$7*100),"") -> 66.853646 | AJ8: 40.21 | AK8: =IF(AND((AJ8>0),(AJ$7>0)),(AJ8/AJ$7*100),"") -> 69.519364 | AL8: 39 | AM8: =IF(AND((AL8>0),(AL$7>0)),(AL8/AL$7*100),"") -> 61.738167 | AN8: 37.03 | AO8: =IF(AND((AN8>0),(AN$7>0)),(AN8/AN$7*100),"") -> 65.901406 | AP8: 42.32 | AQ8: =IF(AND((AP8>0),(AP$7>0)),(AP8/AP$7*100),"") -> 69.719934 | AR8: 35.3 | AS8: =IF(AND((AR8>0),(AR$7>0)),(AR8/AR$7*100),"") -> 61.875548 | AU8: =IF(AND((AT8>0),(AT$7>0)),(AT8/AT$7*100),"") | AW8: =IF(AND((AV8>0),(AV$7>0)),(AV8/AV$7*100),"") | AY8: =IF(AND((AX8>0),(AX$7>0)),(AX8/AX$7*100),"") | BA8: =IF(AND((AZ8>0),(AZ$7>0)),(AZ8/AZ$7*100),"") | BC8: =IF(AND((BB8>0),(BB$7>0)),(BB8/BB$7*100),"") | BE8: =IF(AND((BD8>0),(BD$7>0)),(BD8/BD$7*100),"") | BG8: =IF(AND((BF8>0),(BF$7>0)),(BF8/BF$7*100),"") | BI8: =IF(AND((BH8>0),(BH$7>0)),(BH8/BH$7*100),"") | BK8: =A8 -> Stylet support insertion point | BL8: =COUNT(B8,D8,F8,H8,J8,L8,N8,P8,R8,T8,V8,X8,Z8,AB8,AD8,AF8,AH8,AJ8,AL8,AN8,AP8,AR8,AT8,AV8,AX8,AZ8,BB8,BD8,BF8,BH8) -> 22 | BM8: =IF(SUM(B8,D8,F8,H8,J8,L8,N8,P8,R8,T8,V8,X8,Z8,AB8,AD8,AF8,AH8,AJ8,AL8,AN8,AP8,AR8,AT8,AV8,AX8,AZ8,BB8,BD8,BF8,BH8)>0,MIN(B8,D8,F8,H8,J8,L8,N8,P8,R8,T8,V8,X8,Z8,AB8,AD8,AF8,AH8,AJ8,AL8,AN8,AP8,AR8,AT8,AV8,AX8,AZ8,BB8,BD8,BF8,BH8),"") -> 35.3 | BN8: =IF(COUNT(BM8)>0,"–","?") -> – | BO8: =IF(SUM(B8,D8,F8,H8,J8,L8,N8,P8,R8,T8,V8,X8,Z8,AB8,AD8,AF8,AH8,AJ8,AL8,AN8,AP8,AR8,AT8,AV8,AX8,AZ8,BB8,BD8,BF8,BH8)>0,MAX(B8,D8,F8,H8,J8,L8,N8,P8,R8,T8,V8,X8,Z8,AB8,AD8,AF8,AH8,AJ8,AL8,AN8,AP8,AR8,AT8,AV8,AX8,AZ8,BB8,BD8,BF8,BH8),"") -> 44.29 | BP8: =IF(SUM(C8,E8,G8,I8,K8,M8,O8,Q8,S8,U8,W8,Y8,AA8,AC8,AE8,AG8,AI8,AK8,AM8,AO8,AQ8,AS8,AU8,AW8,AY8,BA8,BC8,BE8,BG8,BI8)>0,MIN(C8,E8,G8,I8,K8,M8,O8,Q8,S8,U8,W8,Y8,AA8,AC8,AE8,AG8,AI8,AK8,AM8,AO8,AQ8,AS8,AU8,AW8,AY8,BA8,BC8,BE8,BG8,BI8),"") -> 57.744753 | BQ8: =IF(COUNT(BP8)>0,"–","?") -> – | BR8: =IF(SUM(C8,E8,G8,I8,K8,M8,O8,Q8,S8,U8,W8,Y8,AA8,AC8,AE8,AG8,AI8,AK8,AM8,AO8,AQ8,AS8,AU8,AW8,AY8,BA8,BC8,BE8,BG8,BI8)>0,MAX(C8,E8,G8,I8,K8,M8,O8,Q8,S8,U8,W8,Y8,AA8,AC8,AE8,AG8,AI8,AK8,AM8,AO8,AQ8,AS8,AU8,AW8,AY8,BA8,BC8,BE8,BG8,BI8),"") -> 69.719934 | BS8: =IF(SUM(B8,D8,F8,H8,J8,L8,N8,P8,R8,T8,V8,X8,Z8,AB8,AD8,AF8,AH8,AJ8,AL8,AN8,AP8,AR8,AT8,AV8,AX8,AZ8,BB8,BD8,BF8,BH8)>0,AVERAGE(B8,D8,F8,H8,J8,L8,N8,P8,R8,T8,V8,X8,Z8,AB8,AD8,AF8,AH8,AJ8,AL8,AN8,AP8,AR8,AT8,AV8,AX8,AZ8,BB8,BD8,BF8,BH8),"?") -> 39.62 | BT8: =IF(SUM(C8,E8,G8,I8,K8,M8,O8,Q8,S8,U8,W8,Y8,AA8,AC8,AE8,AG8,AI8,AK8,AM8,AO8,AQ8,AS8,AU8,AW8,AY8,BA8,BC8,BE8,BG8,BI8)>0,AVERAGE(C8,E8,G8,I8,K8,M8,O8,Q8,S8,U8,W8,Y8,AA8,AC8,AE8,AG8,AI8,AK8,AM8,AO8,AQ8,AS8,AU8,AW8,AY8,BA8,BC8,BE8,BG8,BI8),"?") -> 64.262458 | BU8: =IF(COUNT(B8,D8,F8,H8,J8,L8,N8,P8,R8,T8,V8,X8,Z8,AB8,AD8,AF8,AH8,AJ8,AL8,AN8,AP8,AR8,AT8,AV8,AX8,AZ8,BB8,BD8,BF8,BH8)>1,STDEV(B8,D8,F8,H8,J8,L8,N8,P8,R8,T8,V8,X8,Z8,AB8,AD8,AF8,AH8,AJ8,AL8,AN8,AP8,AR8,AT8,AV8,AX8,AZ8,BB8,BD8,BF8,BH8),"?") -> 2.0788939 | BV8: =IF(COUNT(C8,E8,G8,I8,K8,M8,O8,Q8,S8,U8,W8,Y8,AA8,AC8,AE8,AG8,AI8,AK8,AM8,AO8,AQ8,AS8,AU8,AW8,AY8,BA8,BC8,BE8,BG8,BI8)>1,STDEV(C8,E8,G8,I8,K8,M8,O8,Q8,S8,U8,W8,Y8,AA8,AC8,AE8,AG8,AI8,AK8,AM8,AO8,AQ8,AS8,AU8,AW8,AY8,BA8,BC8,BE8,BG8,BI8),"?") -> 3.1832706 | BW8: =IF(COUNT(B8)>0,B8,"?") -> 41.77 | BX8: =IF(COUNT(C8)>0,C8,"?") -> 65.810619
A9: Anterior width | B9: 50.19 | C9: =IF(AND((B9>0),(B$7>0)),(B9/B$7*100),"") -> 79.076729 | D9: 40.93 | E9: =IF(AND((D9>0),(D$7>0)),(D9/D$7*100),"") -> 62.232021 | F9: 44.41 | G9: =IF(AND((F9>0),(F$7>0)),(F9/F$7*100),"") -> 68.449445 | H9: 41.3 | I9: =IF(AND((H9>0),(H$7>0)),(H9/H$7*100),"") -> 69.225612 | J9: 44.21 | K9: =IF(AND((J9>0),(J$7>0)),(J9/J$7*100),"") -> 74.277554 | L9: 42.15 | M9: =IF(AND((L9>0),(L$7>0)),(L9/L$7*100),"") -> 60.068405 | N9: 39.37 | O9: =IF(AND((N9>0),(N$7>0)),(N9/N$7*100),"") -> 63.571775 | P9: 41.34 | Q9: =IF(AND((P9>0),(P$7>0)),(P9/P$7*100),"") -> 67.759384 | R9: 46.76 | S9: =IF(AND((R9>0),(R$7>0)),(R9/R$7*100),"") -> 76.971193 | T9: 45.13 | U9: =IF(AND((T9>0),(T$7>0)),(T9/T$7*100),"") -> 72.943268 | V9: 43.19 | W9: =IF(AND((V9>0),(V$7>0)),(V9/V$7*100),"") -> 64.385808 | X9: 46.83 | Y9: =IF(AND((X9>0),(X$7>0)),(X9/X$7*100),"") -> 73.6205 | Z9: 31.24 | AA9: =IF(AND((Z9>0),(Z$7>0)),(Z9/Z$7*100),"") -> 54.43457 | AB9: 36.84 | AC9: =IF(AND((AB9>0),(AB$7>0)),(AB9/AB$7*100),"") -> 64.64292 | AD9: 39.76 | AE9: =IF(AND((AD9>0),(AD$7>0)),(AD9/AD$7*100),"") -> 60.916194 | AF9: 40.78 | AG9: =IF(AND((AF9>0),(AF$7>0)),(AF9/AF$7*100),"") -> 62.392901 | AH9: 31.74 | AI9: =IF(AND((AH9>0),(AH$7>0)),(AH9/AH$7*100),"") -> 53.952065 | AJ9: 34.17 | AK9: =IF(AND((AJ9>0),(AJ$7>0)),(AJ9/AJ$7*100),"") -> 59.076763 | AL9: 41.53 | AM9: =IF(AND((AL9>0),(AL$7>0)),(AL9/AL$7*100),"") -> 65.743233 | AN9: 25.9 | AO9: =IF(AND((AN9>0),(AN$7>0)),(AN9/AN$7*100),"") -> 46.093611 | AP9: 37.61 | AQ9: =IF(AND((AP9>0),(AP$7>0)),(AP9/AP$7*100),"") -> 61.960461 | AR9: 32.06 | AS9: =IF(AND((AR9>0),(AR$7>0)),(AR9/AR$7*100),"") -> 56.196319 | AU9: =IF(AND((AT9>0),(AT$7>0)),(AT9/AT$7*100),"") | AW9: =IF(AND((AV9>0),(AV$7>0)),(AV9/AV$7*100),"") | AY9: =IF(AND((AX9>0),(AX$7>0)),(AX9/AX$7*100),"") | BA9: =IF(AND((AZ9>0),(AZ$7>0)),(AZ9/AZ$7*100),"") | BC9: =IF(AND((BB9>0),(BB$7>0)),(BB9/BB$7*100),"") | BE9: =IF(AND((BD9>0),(BD$7>0)),(BD9/BD$7*100),"") | BG9: =IF(AND((BF9>0),(BF$7>0)),(BF9/BF$7*100),"") | BI9: =IF(AND((BH9>0),(BH$7>0)),(BH9/BH$7*100),"") | BK9: =A9 -> Anterior width | BL9: =COUNT(B9,D9,F9,H9,J9,L9,N9,P9,R9,T9,V9,X9,Z9,AB9,AD9,AF9,AH9,AJ9,AL9,AN9,AP9,AR9,AT9,AV9,AX9,AZ9,BB9,BD9,BF9,BH9) -> 22 | BM9: =IF(SUM(B9,D9,F9,H9,J9,L9,N9,P9,R9,T9,V9,X9,Z9,AB9,AD9,AF9,AH9,AJ9,AL9,AN9,AP9,AR9,AT9,AV9,AX9,AZ9,BB9,BD9,BF9,BH9)>0,MIN(B9,D9,F9,H9,J9,L9,N9,P9,R9,T9,V9,X9,Z9,AB9,AD9,AF9,AH9,AJ9,AL9,AN9,AP9,AR9,AT9,AV9,AX9,AZ9,BB9,BD9,BF9,BH9),"") -> 25.9 | BN9: =IF(COUNT(BM9)>0,"–","?") -> – | BO9: =IF(SUM(B9,D9,F9,H9,J9,L9,N9,P9,R9,T9,V9,X9,Z9,AB9,AD9,AF9,AH9,AJ9,AL9,AN9,AP9,AR9,AT9,AV9,AX9,AZ9,BB9,BD9,BF9,BH9)>0,MAX(B9,D9,F9,H9,J9,L9,N9,P9,R9,T9,V9,X9,Z9,AB9,AD9,AF9,AH9,AJ9,AL9,AN9,AP9,AR9,AT9,AV9,AX9,AZ9,BB9,BD9,BF9,BH9),"") -> 50.19 | BP9: =IF(SUM(C9,E9,G9,I9,K9,M9,O9,Q9,S9,U9,W9,Y9,AA9,AC9,AE9,AG9,AI9,AK9,AM9,AO9,AQ9,AS9,AU9,AW9,AY9,BA9,BC9,BE9,BG9,BI9)>0,MIN(C9,E9,G9,I9,K9,M9,O9,Q9,S9,U9,W9,Y9,AA9,AC9,AE9,AG9,AI9,AK9,AM9,AO9,AQ9,AS9,AU9,AW9,AY9,BA9,BC9,BE9,BG9,BI9),"") -> 46.093611 | BQ9: =IF(COUNT(BP9)>0,"–","?") -> – | BR9: =IF(SUM(C9,E9,G9,I9,K9,M9,O9,Q9,S9,U9,W9,Y9,AA9,AC9,AE9,AG9,AI9,AK9,AM9,AO9,AQ9,AS9,AU9,AW9,AY9,BA9,BC9,BE9,BG9,BI9)>0,MAX(C9,E9,G9,I9,K9,M9,O9,Q9,S9,U9,W9,Y9,AA9,AC9,AE9,AG9,AI9,AK9,AM9,AO9,AQ9,AS9,AU9,AW9,AY9,BA9,BC9,BE9,BG9,BI9),"") -> 79.076729 | BS9: =IF(SUM(B9,D9,F9,H9,J9,L9,N9,P9,R9,T9,V9,X9,Z9,AB9,AD9,AF9,AH9,AJ9,AL9,AN9,AP9,AR9,AT9,AV9,AX9,AZ9,BB9,BD9,BF9,BH9)>0,AVERAGE(B9,D9,F9,H9,J9,L9,N9,P9,R9,T9,V9,X9,Z9,AB9,AD9,AF9,AH9,AJ9,AL9,AN9,AP9,AR9,AT9,AV9,AX9,AZ9,BB9,BD9,BF9,BH9),"?") -> 39.883636 | BT9: =IF(SUM(C9,E9,G9,I9,K9,M9,O9,Q9,S9,U9,W9,Y9,AA9,AC9,AE9,AG9,AI9,AK9,AM9,AO9,AQ9,AS9,AU9,AW9,AY9,BA9,BC9,BE9,BG9,BI9)>0,AVERAGE(C9,E9,G9,I9,K9,M9,O9,Q9,S9,U9,W9,Y9,AA9,AC9,AE9,AG9,AI9,AK9,AM9,AO9,AQ9,AS9,AU9,AW9,AY9,BA9,BC9,BE9,BG9,BI9),"?") -> 64.454124 | BU9: =IF(COUNT(B9,D9,F9,H9,J9,L9,N9,P9,R9,T9,V9,X9,Z9,AB9,AD9,AF9,AH9,AJ9,AL9,AN9,AP9,AR9,AT9,AV9,AX9,AZ9,BB9,BD9,BF9,BH9)>1,STDEV(B9,D9,F9,H9,J9,L9,N9,P9,R9,T9,V9,X9,Z9,AB9,AD9,AF9,AH9,AJ9,AL9,AN9,AP9,AR9,AT9,AV9,AX9,AZ9,BB9,BD9,BF9,BH9),"?") -> 5.9298764 | BV9: =IF(COUNT(C9,E9,G9,I9,K9,M9,O9,Q9,S9,U9,W9,Y9,AA9,AC9,AE9,AG9,AI9,AK9,AM9,AO9,AQ9,AS9,AU9,AW9,AY9,BA9,BC9,BE9,BG9,BI9)>1,STDEV(C9,E9,G9,I9,K9,M9,O9,Q9,S9,U9,W9,Y9,AA9,AC9,AE9,AG9,AI9,AK9,AM9,AO9,AQ9,AS9,AU9,AW9,AY9,BA9,BC9,BE9,BG9,BI9),"?") -> 8.0689799 | BW9: =IF(COUNT(B9)>0,B9,"?") -> 50.19 | BX9: =IF(COUNT(C9)>0,C9,"?") -> 79.076729
A10: Standard width | B10: 44.25 | C10: =IF(AND((B10>0),(B$7>0)),(B10/B$7*100),"") -> 69.717977 | D10: 33.83 | E10: =IF(AND((D10>0),(D$7>0)),(D10/D$7*100),"") -> 51.436825 | F10: 40.69 | G10: =IF(AND((F10>0),(F$7>0)),(F10/F$7*100),"") -> 62.715783 | H10: 34.73 | I10: =IF(AND((H10>0),(H$7>0)),(H10/H$7*100),"") -> 58.213208 | J10: 39.46 | K10: =IF(AND((J10>0),(J$7>0)),(J10/J$7*100),"") -> 66.297043 | L10: 35.55 | M10: =IF(AND((L10>0),(L$7>0)),(L10/L$7*100),"") -> 50.662676 | N10: 34.39 | O10: =IF(AND((N10>0),(N$7>0)),(N10/N$7*100),"") -> 55.530438 | P10: 35.25 | Q10: =IF(AND((P10>0),(P$7>0)),(P10/P$7*100),"") -> 57.777414 | R10: 39.58 | S10: =IF(AND((R10>0),(R$7>0)),(R10/R$7*100),"") -> 65.152263 | T10: 38.36 | U10: =IF(AND((T10>0),(T$7>0)),(T10/T$7*100),"") -> 62.00097 | V10: 34.96 | W10: =IF(AND((V10>0),(V$7>0)),(V10/V$7*100),"") -> 52.116875 | X10: 40.14 | Y10: =IF(AND((X10>0),(X$7>0)),(X10/X$7*100),"") -> 63.103286 | Z10: 27.12 | AA10: =IF(AND((Z10>0),(Z$7>0)),(Z10/Z$7*100),"") -> 47.255619 | AB10: 32.71 | AC10: =IF(AND((AB10>0),(AB$7>0)),(AB10/AB$7*100),"") -> 57.396034 | AD10: 34.87 | AE10: =IF(AND((AD10>0),(AD$7>0)),(AD10/AD$7*100),"") -> 53.424238 | AF10: 34.81 | AG10: =IF(AND((AF10>0),(AF$7>0)),(AF10/AF$7*100),"") -> 53.258874 | AH10: 25.75 | AI10: =IF(AND((AH10>0),(AH$7>0)),(AH10/AH$7*100),"") -> 43.770185 | AJ10: 27.47 | AK10: =IF(AND((AJ10>0),(AJ$7>0)),(AJ10/AJ$7*100),"") -> 47.493084 | AL10: 35.37 | AM10: =IF(AND((AL10>0),(AL$7>0)),(AL10/AL$7*100),"") -> 55.991768 | AN10: 24.55 | AO10: =IF(AND((AN10>0),(AN$7>0)),(AN10/AN$7*100),"") -> 43.691048 | AP10: 31.8 | AQ10: =IF(AND((AP10>0),(AP$7>0)),(AP10/AP$7*100),"") -> 52.388797 | AR10: 29.74 | AS10: =IF(AND((AR10>0),(AR$7>0)),(AR10/AR$7*100),"") -> 52.129711 | AU10: =IF(AND((AT10>0),(AT$7>0)),(AT10/AT$7*100),"") | AW10: =IF(AND((AV10>0),(AV$7>0)),(AV10/AV$7*100),"") | AY10: =IF(AND((AX10>0),(AX$7>0)),(AX10/AX$7*100),"") | BA10: =IF(AND((AZ10>0),(AZ$7>0)),(AZ10/AZ$7*100),"") | BC10: =IF(AND((BB10>0),(BB$7>0)),(BB10/BB$7*100),"") | BE10: =IF(AND((BD10>0),(BD$7>0)),(BD10/BD$7*100),"") | BG10: =IF(AND((BF10>0),(BF$7>0)),(BF10/BF$7*100),"") | BI10: =IF(AND((BH10>0),(BH$7>0)),(BH10/BH$7*100),"") | BK10: =A10 -> Standard width | BL10: =COUNT(B10,D10,F10,H10,J10,L10,N10,P10,R10,T10,V10,X10,Z10,AB10,AD10,AF10,AH10,AJ10,AL10,AN10,AP10,AR10,AT10,AV10,AX10,AZ10,BB10,BD10,BF10,BH10) -> 22 | BM10: =IF(SUM(B10,D10,F10,H10,J10,L10,N10,P10,R10,T10,V10,X10,Z10,AB10,AD10,AF10,AH10,AJ10,AL10,AN10,AP10,AR10,AT10,AV10,AX10,AZ10,BB10,BD10,BF10,BH10)>0,MIN(B10,D10,F10,H10,J10,L10,N10,P10,R10,T10,V10,X10,Z10,AB10,AD10,AF10,AH10,AJ10,AL10,AN10,AP10,AR10,AT10,AV10,AX10,AZ10,BB10,BD10,BF10,BH10),"") -> 24.55 | BN10: =IF(COUNT(BM10)>0,"–","?") -> – | BO10: =IF(SUM(B10,D10,F10,H10,J10,L10,N10,P10,R10,T10,V10,X10,Z10,AB10,AD10,AF10,AH10,AJ10,AL10,AN10,AP10,AR10,AT10,AV10,AX10,AZ10,BB10,BD10,BF10,BH10)>0,MAX(B10,D10,F10,H10,J10,L10,N10,P10,R10,T10,V10,X10,Z10,AB10,AD10,AF10,AH10,AJ10,AL10,AN10,AP10,AR10,AT10,AV10,AX10,AZ10,BB10,BD10,BF10,BH10),"") -> 44.25 | BP10: =IF(SUM(C10,E10,G10,I10,K10,M10,O10,Q10,S10,U10,W10,Y10,AA10,AC10,AE10,AG10,AI10,AK10,AM10,AO10,AQ10,AS10,AU10,AW10,AY10,BA10,BC10,BE10,BG10,BI10)>0,MIN(C10,E10,G10,I10,K10,M10,O10,Q10,S10,U10,W10,Y10,AA10,AC10,AE10,AG10,AI10,AK10,AM10,AO10,AQ10,AS10,AU10,AW10,AY10,BA10,BC10,BE10,BG10,BI10),"") -> 43.691048 | BQ10: =IF(COUNT(BP10)>0,"–","?") -> – | BR10: =IF(SUM(C10,E10,G10,I10,K10,M10,O10,Q10,S10,U10,W10,Y10,AA10,AC10,AE10,AG10,AI10,AK10,AM10,AO10,AQ10,AS10,AU10,AW10,AY10,BA10,BC10,BE10,BG10,BI10)>0,MAX(C10,E10,G10,I10,K10,M10,O10,Q10,S10,U10,W10,Y10,AA10,AC10,AE10,AG10,AI10,AK10,AM10,AO10,AQ10,AS10,AU10,AW10,AY10,BA10,BC10,BE10,BG10,BI10),"") -> 69.717977 | BS10: =IF(SUM(B10,D10,F10,H10,J10,L10,N10,P10,R10,T10,V10,X10,Z10,AB10,AD10,AF10,AH10,AJ10,AL10,AN10,AP10,AR10,AT10,AV10,AX10,AZ10,BB10,BD10,BF10,BH10)>0,AVERAGE(B10,D10,F10,H10,J10,L10,N10,P10,R10,T10,V10,X10,Z10,AB10,AD10,AF10,AH10,AJ10,AL10,AN10,AP10,AR10,AT10,AV10,AX10,AZ10,BB10,BD10,BF10,BH10),"?") -> 34.335455 | BT10: =IF(SUM(C10,E10,G10,I10,K10,M10,O10,Q10,S10,U10,W10,Y10,AA10,AC10,AE10,AG10,AI10,AK10,AM10,AO10,AQ10,AS10,AU10,AW10,AY10,BA10,BC10,BE10,BG10,BI10)>0,AVERAGE(C10,E10,G10,I10,K10,M10,O10,Q10,S10,U10,W10,Y10,AA10,AC10,AE10,AG10,AI10,AK10,AM10,AO10,AQ10,AS10,AU10,AW10,AY10,BA10,BC10,BE10,BG10,BI10),"?") -> 55.523824 | BU10: =IF(COUNT(B10,D10,F10,H10,J10,L10,N10,P10,R10,T10,V10,X10,Z10,AB10,AD10,AF10,AH10,AJ10,AL10,AN10,AP10,AR10,AT10,AV10,AX10,AZ10,BB10,BD10,BF10,BH10)>1,STDEV(B10,D10,F10,H10,J10,L10,N10,P10,R10,T10,V10,X10,Z10,AB10,AD10,AF10,AH10,AJ10,AL10,AN10,AP10,AR10,AT10,AV10,AX10,AZ10,BB10,BD10,BF10,BH10),"?") -> 5.098471 | BV10: =IF(COUNT(C10,E10,G10,I10,K10,M10,O10,Q10,S10,U10,W10,Y10,AA10,AC10,AE10,AG10,AI10,AK10,AM10,AO10,AQ10,AS10,AU10,AW10,AY10,BA10,BC10,BE10,BG10,BI10)>1,STDEV(C10,E10,G10,I10,K10,M10,O10,Q10,S10,U10,W10,Y10,AA10,AC10,AE10,AG10,AI10,AK10,AM10,AO10,AQ10,AS10,AU10,AW10,AY10,BA10,BC10,BE10,BG10,BI10),"?") -> 7.1422669 | BW10: =IF(COUNT(B10)>0,B10,"?") -> 44.25 | BX10: =IF(COUNT(C10)>0,C10,"?") -> 69.717977
A11: Posterior width | B11: 35.58 | C11: =IF(AND((B11>0),(B$7>0)),(B11/B$7*100),"") -> 56.05798 | D11: 27.51 | E11: =IF(AND((D11>0),(D$7>0)),(D11/D$7*100),"") -> 41.827581 | F11: 32.37 | G11: =IF(AND((F11>0),(F$7>0)),(F11/F$7*100),"") -> 49.892109 | H11: 28.41 | I11: =IF(AND((H11>0),(H$7>0)),(H11/H$7*100),"") -> 47.619846 | J11: 30.21 | K11: =IF(AND((J11>0),(J$7>0)),(J11/J$7*100),"") -> 50.756048 | L11: 24.73 | M11: =IF(AND((L11>0),(L$7>0)),(L11/L$7*100),"") -> 35.242981 | N11: 27.16 | O11: =IF(AND((N11>0),(N$7>0)),(N11/N$7*100),"") -> 43.855966 | P11: 30.07 | Q11: =IF(AND((P11>0),(P$7>0)),(P11/P$7*100),"") -> 49.287002 | R11: 30.34 | S11: =IF(AND((R11>0),(R$7>0)),(R11/R$7*100),"") -> 49.942387 | T11: 27.81 | U11: =IF(AND((T11>0),(T$7>0)),(T11/T$7*100),"") -> 44.949087 | V11: 30.86 | W11: =IF(AND((V11>0),(V$7>0)),(V11/V$7*100),"") -> 46.00477 | X11: 31.54 | Y11: =IF(AND((X11>0),(X$7>0)),(X11/X$7*100),"") -> 49.583399 | Z11: 24.16 | AA11: =IF(AND((Z11>0),(Z$7>0)),(Z11/Z$7*100),"") -> 42.097926 | AB11: 28.45 | AC11: =IF(AND((AB11>0),(AB$7>0)),(AB11/AB$7*100),"") -> 49.921039 | AD11: 27.4 | AE11: =IF(AND((AD11>0),(AD$7>0)),(AD11/AD$7*100),"") -> 41.97947 | AF11: 26.02 | AG11: =IF(AND((AF11>0),(AF$7>0)),(AF11/AF$7*100),"") -> 39.810282 | AH11: 22.27 | AI11: =IF(AND((AH11>0),(AH$7>0)),(AH11/AH$7*100),"") -> 37.854836 | AJ11: 24.86 | AK11: =IF(AND((AJ11>0),(AJ$7>0)),(AJ11/AJ$7*100),"") -> 42.980636 | AL11: 30.25 | AM11: =IF(AND((AL11>0),(AL$7>0)),(AL11/AL$7*100),"") -> 47.886655 | AN11: 19.28 | AO11: =IF(AND((AN11>0),(AN$7>0)),(AN11/AN$7*100),"") -> 34.312155 | AP11: 25.56 | AQ11: =IF(AND((AP11>0),(AP$7>0)),(AP11/AP$7*100),"") -> 42.108731 | AR11: 25.42 | AS11: =IF(AND((AR11>0),(AR$7>0)),(AR11/AR$7*100),"") -> 44.557406 | AU11: =IF(AND((AT11>0),(AT$7>0)),(AT11/AT$7*100),"") | AW11: =IF(AND((AV11>0),(AV$7>0)),(AV11/AV$7*100),"") | AY11: =IF(AND((AX11>0),(AX$7>0)),(AX11/AX$7*100),"") | BA11: =IF(AND((AZ11>0),(AZ$7>0)),(AZ11/AZ$7*100),"") | BC11: =IF(AND((BB11>0),(BB$7>0)),(BB11/BB$7*100),"") | BE11: =IF(AND((BD11>0),(BD$7>0)),(BD11/BD$7*100),"") | BG11: =IF(AND((BF11>0),(BF$7>0)),(BF11/BF$7*100),"") | BI11: =IF(AND((BH11>0),(BH$7>0)),(BH11/BH$7*100),"") | BK11: =A11 -> Posterior width | BL11: =COUNT(B11,D11,F11,H11,J11,L11,N11,P11,R11,T11,V11,X11,Z11,AB11,AD11,AF11,AH11,AJ11,AL11,AN11,AP11,AR11,AT11,AV11,AX11,AZ11,BB11,BD11,BF11,BH11) -> 22 | BM11: =IF(SUM(B11,D11,F11,H11,J11,L11,N11,P11,R11,T11,V11,X11,Z11,AB11,AD11,AF11,AH11,AJ11,AL11,AN11,AP11,AR11,AT11,AV11,AX11,AZ11,BB11,BD11,BF11,BH11)>0,MIN(B11,D11,F11,H11,J11,L11,N11,P11,R11,T11,V11,X11,Z11,AB11,AD11,AF11,AH11,AJ11,AL11,AN11,AP11,AR11,AT11,AV11,AX11,AZ11,BB11,BD11,BF11,BH11),"") -> 19.28 | BN11: =IF(COUNT(BM11)>0,"–","?") -> – | BO11: =IF(SUM(B11,D11,F11,H11,J11,L11,N11,P11,R11,T11,V11,X11,Z11,AB11,AD11,AF11,AH11,AJ11,AL11,AN11,AP11,AR11,AT11,AV11,AX11,AZ11,BB11,BD11,BF11,BH11)>0,MAX(B11,D11,F11,H11,J11,L11,N11,P11,R11,T11,V11,X11,Z11,AB11,AD11,AF11,AH11,AJ11,AL11,AN11,AP11,AR11,AT11,AV11,AX11,AZ11,BB11,BD11,BF11,BH11),"") -> 35.58 | BP11: =IF(SUM(C11,E11,G11,I11,K11,M11,O11,Q11,S11,U11,W11,Y11,AA11,AC11,AE11,AG11,AI11,AK11,AM11,AO11,AQ11,AS11,AU11,AW11,AY11,BA11,BC11,BE11,BG11,BI11)>0,MIN(C11,E11,G11,I11,K11,M11,O11,Q11,S11,U11,W11,Y11,AA11,AC11,AE11,AG11,AI11,AK11,AM11,AO11,AQ11,AS11,AU11,AW11,AY11,BA11,BC11,BE11,BG11,BI11),"") -> 34.312155 | BQ11: =IF(COUNT(BP11)>0,"–","?") -> – | BR11: =IF(SUM(C11,E11,G11,I11,K11,M11,O11,Q11,S11,U11,W11,Y11,AA11,AC11,AE11,AG11,AI11,AK11,AM11,AO11,AQ11,AS11,AU11,AW11,AY11,BA11,BC11,BE11,BG11,BI11)>0,MAX(C11,E11,G11,I11,K11,M11,O11,Q11,S11,U11,W11,Y11,AA11,AC11,AE11,AG11,AI11,AK11,AM11,AO11,AQ11,AS11,AU11,AW11,AY11,BA11,BC11,BE11,BG11,BI11),"") -> 56.05798 | BS11: =IF(SUM(B11,D11,F11,H11,J11,L11,N11,P11,R11,T11,V11,X11,Z11,AB11,AD11,AF11,AH11,AJ11,AL11,AN11,AP11,AR11,AT11,AV11,AX11,AZ11,BB11,BD11,BF11,BH11)>0,AVERAGE(B11,D11,F11,H11,J11,L11,N11,P11,R11,T11,V11,X11,Z11,AB11,AD11,AF11,AH11,AJ11,AL11,AN11,AP11,AR11,AT11,AV11,AX11,AZ11,BB11,BD11,BF11,BH11),"?") -> 27.739091 | BT11: =IF(SUM(C11,E11,G11,I11,K11,M11,O11,Q11,S11,U11,W11,Y11,AA11,AC11,AE11,AG11,AI11,AK11,AM11,AO11,AQ11,AS11,AU11,AW11,AY11,BA11,BC11,BE11,BG11,BI11)>0,AVERAGE(C11,E11,G11,I11,K11,M11,O11,Q11,S11,U11,W11,Y11,AA11,AC11,AE11,AG11,AI11,AK11,AM11,AO11,AQ11,AS11,AU11,AW11,AY11,BA11,BC11,BE11,BG11,BI11),"?") -> 44.933104 | BU11: =IF(COUNT(B11,D11,F11,H11,J11,L11,N11,P11,R11,T11,V11,X11,Z11,AB11,AD11,AF11,AH11,AJ11,AL11,AN11,AP11,AR11,AT11,AV11,AX11,AZ11,BB11,BD11,BF11,BH11)>1,STDEV(B11,D11,F11,H11,J11,L11,N11,P11,R11,T11,V11,X11,Z11,AB11,AD11,AF11,AH11,AJ11,AL11,AN11,AP11,AR11,AT11,AV11,AX11,AZ11,BB11,BD11,BF11,BH11),"?") -> 3.6376744 | BV11: =IF(COUNT(C11,E11,G11,I11,K11,M11,O11,Q11,S11,U11,W11,Y11,AA11,AC11,AE11,AG11,AI11,AK11,AM11,AO11,AQ11,AS11,AU11,AW11,AY11,BA11,BC11,BE11,BG11,BI11)>1,STDEV(C11,E11,G11,I11,K11,M11,O11,Q11,S11,U11,W11,Y11,AA11,AC11,AE11,AG11,AI11,AK11,AM11,AO11,AQ11,AS11,AU11,AW11,AY11,BA11,BC11,BE11,BG11,BI11),"?") -> 5.4004029 | BW11: =IF(COUNT(B11)>0,B11,"?") -> 35.58 | BX11: =IF(COUNT(C11)>0,C11,"?") -> 56.05798
A12: Standard width/length ratio | B12: =IF(AND((B10>0),(B7>0)),(B10/B7),"") -> 0.69717977 | C12: – | D12: =IF(AND((D10>0),(D7>0)),(D10/D7),"") -> 0.51436825 | E12: – | F12: =IF(AND((F10>0),(F7>0)),(F10/F7),"") -> 0.62715783 | G12: – | H12: =IF(AND((H10>0),(H7>0)),(H10/H7),"") -> 0.58213208 | I12: – | J12: =IF(AND((J10>0),(J7>0)),(J10/J7),"") -> 0.66297043 | K12: – | L12: =IF(AND((L10>0),(L7>0)),(L10/L7),"") -> 0.50662676 | M12: – | N12: =IF(AND((N10>0),(N7>0)),(N10/N7),"") -> 0.55530438 | O12: – | P12: =IF(AND((P10>0),(P7>0)),(P10/P7),"") -> 0.57777414 | Q12: – | R12: =IF(AND((R10>0),(R7>0)),(R10/R7),"") -> 0.65152263 | S12: – | T12: =IF(AND((T10>0),(T7>0)),(T10/T7),"") -> 0.6200097 | U12: – | V12: =IF(AND((V10>0),(V7>0)),(V10/V7),"") -> 0.52116875 | W12: – | X12: =IF(AND((X10>0),(X7>0)),(X10/X7),"") -> 0.63103286 | Y12: – | Z12: =IF(AND((Z10>0),(Z7>0)),(Z10/Z7),"") -> 0.47255619 | AA12: – | AB12: =IF(AND((AB10>0),(AB7>0)),(AB10/AB7),"") -> 0.57396034 | AC12: – | AD12: =IF(AND((AD10>0),(AD7>0)),(AD10/AD7),"") -> 0.53424238 | AE12: – | AF12: =IF(AND((AF10>0),(AF7>0)),(AF10/AF7),"") -> 0.53258874 | AG12: – | AH12: =IF(AND((AH10>0),(AH7>0)),(AH10/AH7),"") -> 0.43770185 | AI12: – | AJ12: =IF(AND((AJ10>0),(AJ7>0)),(AJ10/AJ7),"") -> 0.47493084 | AK12: – | AL12: =IF(AND((AL10>0),(AL7>0)),(AL10/AL7),"") -> 0.55991768 | AM12: – | AN12: =IF(AND((AN10>0),(AN7>0)),(AN10/AN7),"") -> 0.43691048 | AO12: – | AP12: =IF(AND((AP10>0),(AP7>0)),(AP10/AP7),"") -> 0.52388797 | AQ12: – | AR12: =IF(AND((AR10>0),(AR7>0)),(AR10/AR7),"") -> 0.52129711 | AS12: – | AT12: =IF(AND((AT10>0),(AT7>0)),(AT10/AT7),"") | AU12: – | AV12: =IF(AND((AV10>0),(AV7>0)),(AV10/AV7),"") | AW12: – | AX12: =IF(AND((AX10>0),(AX7>0)),(AX10/AX7),"") | AY12: – | AZ12: =IF(AND((AZ10>0),(AZ7>0)),(AZ10/AZ7),"") | BA12: – | BB12: =IF(AND((BB10>0),(BB7>0)),(BB10/BB7),"") | BC12: – | BD12: =IF(AND((BD10>0),(BD7>0)),(BD10/BD7),"") | BE12: – | BF12: =IF(AND((BF10>0),(BF7>0)),(BF10/BF7),"") | BG12: – | BH12: =IF(AND((BH10>0),(BH7>0)),(BH10/BH7),"") | BI12: – | BK12: =A12 -> Standard width/length ratio | BL12: =COUNT(B12,D12,F12,H12,J12,L12,N12,P12,R12,T12,V12,X12,Z12,AB12,AD12,AF12,AH12,AJ12,AL12,AN12,AP12,AR12,AT12,AV12,AX12,AZ12,BB12,BD12,BF12,BH12) -> 22 | BM12: =IF(SUM(B12,D12,F12,H12,J12,L12,N12,P12,R12,T12,V12,X12,Z12,AB12,AD12,AF12,AH12,AJ12,AL12,AN12,AP12,AR12,AT12,AV12,AX12,AZ12,BB12,BD12,BF12,BH12)>0,MIN(B12,D12,F12,H12,J12,L12,N12,P12,R12,T12,V12,X12,Z12,AB12,AD12,AF12,AH12,AJ12,AL12,AN12,AP12,AR12,AT12,AV12,AX12,AZ12,BB12,BD12,BF12,BH12),"") -> 0.43691048 | BN12: =IF(COUNT(BM12)>0,"–","?") -> – | BO12: =IF(SUM(B12,D12,F12,H12,J12,L12,N12,P12,R12,T12,V12,X12,Z12,AB12,AD12,AF12,AH12,AJ12,AL12,AN12,AP12,AR12,AT12,AV12,AX12,AZ12,BB12,BD12,BF12,BH12)>0,MAX(B12,D12,F12,H12,J12,L12,N12,P12,R12,T12,V12,X12,Z12,AB12,AD12,AF12,AH12,AJ12,AL12,AN12,AP12,AR12,AT12,AV12,AX12,AZ12,BB12,BD12,BF12,BH12),"") -> 0.69717977 | BP12: =IF(SUM(C12,E12,G12,I12,K12,M12,O12,Q12,S12,U12,W12,Y12,AA12,AC12,AE12,AG12,AI12,AK12,AM12,AO12,AQ12,AS12,AU12,AW12,AY12,BA12,BC12,BE12,BG12,BI12)>0,MIN(C12,E12,G12,I12,K12,M12,O12,Q12,S12,U12,W12,Y12,AA12,AC12,AE12,AG12,AI12,AK12,AM12,AO12,AQ12,AS12,AU12,AW12,AY12,BA12,BC12,BE12,BG12,BI12),"") | BQ12: – | BR12: =IF(SUM(C12,E12,G12,I12,K12,M12,O12,Q12,S12,U12,W12,Y12,AA12,AC12,AE12,AG12,AI12,AK12,AM12,AO12,AQ12,AS12,AU12,AW12,AY12,BA12,BC12,BE12,BG12,BI12)>0,MAX(C12,E12,G12,I12,K12,M12,O12,Q12,S12,U12,W12,Y12,AA12,AC12,AE12,AG12,AI12,AK12,AM12,AO12,AQ12,AS12,AU12,AW12,AY12,BA12,BC12,BE12,BG12,BI12),"") | BS12: =IF(SUM(B12,D12,F12,H12,J12,L12,N12,P12,R12,T12,V12,X12,Z12,AB12,AD12,AF12,AH12,AJ12,AL12,AN12,AP12,AR12,AT12,AV12,AX12,AZ12,BB12,BD12,BF12,BH12)>0,AVERAGE(B12,D12,F12,H12,J12,L12,N12,P12,R12,T12,V12,X12,Z12,AB12,AD12,AF12,AH12,AJ12,AL12,AN12,AP12,AR12,AT12,AV12,AX12,AZ12,BB12,BD12,BF12,BH12),"?") -> 0.55523824 | BT12: – | BU12: =IF(COUNT(B12,D12,F12,H12,J12,L12,N12,P12,R12,T12,V12,X12,Z12,AB12,AD12,AF12,AH12,AJ12,AL12,AN12,AP12,AR12,AT12,AV12,AX12,AZ12,BB12,BD12,BF12,BH12)>1,STDEV(B12,D12,F12,H12,J12,L12,N12,P12,R12,T12,V12,X12,Z12,AB12,AD12,AF12,AH12,AJ12,AL12,AN12,AP12,AR12,AT12,AV12,AX12,AZ12,BB12,BD12,BF12,BH12),"?") -> 0.071422669 | BV12: – | BW12: =IF(COUNT(B12)>0,B12,"?") -> 0.69717977 | BX12: –
A13: Posterior/anterior width ratio | B13: =IF(AND((B11>0),(B9>0)),(B11/B9),"") -> 0.70890616 | C13: – | D13: =IF(AND((D11>0),(D9>0)),(D11/D9),"") -> 0.67212314 | E13: – | F13: =IF(AND((F11>0),(F9>0)),(F11/F9),"") -> 0.72888989 | G13: – | H13: =IF(AND((H11>0),(H9>0)),(H11/H9),"") -> 0.68789346 | I13: – | J13: =IF(AND((J11>0),(J9>0)),(J11/J9),"") -> 0.68332956 | K13: – | L13: =IF(AND((L11>0),(L9>0)),(L11/L9),"") -> 0.58671412 | M13: – | N13: =IF(AND((N11>0),(N9>0)),(N11/N9),"") -> 0.68986538 | O13: – | P13: =IF(AND((P11>0),(P9>0)),(P11/P9),"") -> 0.72738268 | Q13: – | R13: =IF(AND((R11>0),(R9>0)),(R11/R9),"") -> 0.64884517 | S13: – | T13: =IF(AND((T11>0),(T9>0)),(T11/T9),"") -> 0.61621981 | U13: – | V13: =IF(AND((V11>0),(V9>0)),(V11/V9),"") -> 0.71451725 | W13: – | X13: =IF(AND((X11>0),(X9>0)),(X11/X9),"") -> 0.67349989 | Y13: – | Z13: =IF(AND((Z11>0),(Z9>0)),(Z11/Z9),"") -> 0.77336748 | AA13: – | AB13: =IF(AND((AB11>0),(AB9>0)),(AB11/AB9),"") -> 0.77225841 | AC13: – | AD13: =IF(AND((AD11>0),(AD9>0)),(AD11/AD9),"") -> 0.68913481 | AE13: – | AF13: =IF(AND((AF11>0),(AF9>0)),(AF11/AF9),"") -> 0.63805787 | AG13: – | AH13: =IF(AND((AH11>0),(AH9>0)),(AH11/AH9),"") -> 0.70163831 | AI13: – | AJ13: =IF(AND((AJ11>0),(AJ9>0)),(AJ11/AJ9),"") -> 0.72753878 | AK13: – | AL13: =IF(AND((AL11>0),(AL9>0)),(AL11/AL9),"") -> 0.72838912 | AM13: – | AN13: =IF(AND((AN11>0),(AN9>0)),(AN11/AN9),"") -> 0.74440154 | AO13: – | AP13: =IF(AND((AP11>0),(AP9>0)),(AP11/AP9),"") -> 0.67960649 | AQ13: – | AR13: =IF(AND((AR11>0),(AR9>0)),(AR11/AR9),"") -> 0.79288833 | AS13: – | AT13: =IF(AND((AT11>0),(AT9>0)),(AT11/AT9),"") | AU13: – | AV13: =IF(AND((AV11>0),(AV9>0)),(AV11/AV9),"") | AW13: – | AX13: =IF(AND((AX11>0),(AX9>0)),(AX11/AX9),"") | AY13: – | AZ13: =IF(AND((AZ11>0),(AZ9>0)),(AZ11/AZ9),"") | BA13: – | BB13: =IF(AND((BB11>0),(BB9>0)),(BB11/BB9),"") | BC13: – | BD13: =IF(AND((BD11>0),(BD9>0)),(BD11/BD9),"") | BE13: – | BF13: =IF(AND((BF11>0),(BF9>0)),(BF11/BF9),"") | BG13: – | BH13: =IF(AND((BH11>0),(BH9>0)),(BH11/BH9),"") | BI13: – | BK13: =A13 -> Posterior/anterior width ratio | BL13: =COUNT(B13,D13,F13,H13,J13,L13,N13,P13,R13,T13,V13,X13,Z13,AB13,AD13,AF13,AH13,AJ13,AL13,AN13,AP13,AR13,AT13,AV13,AX13,AZ13,BB13,BD13,BF13,BH13) -> 22 | BM13: =IF(SUM(B13,D13,F13,H13,J13,L13,N13,P13,R13,T13,V13,X13,Z13,AB13,AD13,AF13,AH13,AJ13,AL13,AN13,AP13,AR13,AT13,AV13,AX13,AZ13,BB13,BD13,BF13,BH13)>0,MIN(B13,D13,F13,H13,J13,L13,N13,P13,R13,T13,V13,X13,Z13,AB13,AD13,AF13,AH13,AJ13,AL13,AN13,AP13,AR13,AT13,AV13,AX13,AZ13,BB13,BD13,BF13,BH13),"") -> 0.58671412 | BN13: =IF(COUNT(BM13)>0,"–","?") -> – | BO13: =IF(SUM(B13,D13,F13,H13,J13,L13,N13,P13,R13,T13,V13,X13,Z13,AB13,AD13,AF13,AH13,AJ13,AL13,AN13,AP13,AR13,AT13,AV13,AX13,AZ13,BB13,BD13,BF13,BH13)>0,MAX(B13,D13,F13,H13,J13,L13,N13,P13,R13,T13,V13,X13,Z13,AB13,AD13,AF13,AH13,AJ13,AL13,AN13,AP13,AR13,AT13,AV13,AX13,AZ13,BB13,BD13,BF13,BH13),"") -> 0.79288833 | BP13: =IF(SUM(C13,E13,G13,I13,K13,M13,O13,Q13,S13,U13,W13,Y13,AA13,AC13,AE13,AG13,AI13,AK13,AM13,AO13,AQ13,AS13,AU13,AW13,AY13,BA13,BC13,BE13,BG13,BI13)>0,MIN(C13,E13,G13,I13,K13,M13,O13,Q13,S13,U13,W13,Y13,AA13,AC13,AE13,AG13,AI13,AK13,AM13,AO13,AQ13,AS13,AU13,AW13,AY13,BA13,BC13,BE13,BG13,BI13),"") | BQ13: – | BR13: =IF(SUM(C13,E13,G13,I13,K13,M13,O13,Q13,S13,U13,W13,Y13,AA13,AC13,AE13,AG13,AI13,AK13,AM13,AO13,AQ13,AS13,AU13,AW13,AY13,BA13,BC13,BE13,BG13,BI13)>0,MAX(C13,E13,G13,I13,K13,M13,O13,Q13,S13,U13,W13,Y13,AA13,AC13,AE13,AG13,AI13,AK13,AM13,AO13,AQ13,AS13,AU13,AW13,AY13,BA13,BC13,BE13,BG13,BI13),"") | BS13: =IF(SUM(B13,D13,F13,H13,J13,L13,N13,P13,R13,T13,V13,X13,Z13,AB13,AD13,AF13,AH13,AJ13,AL13,AN13,AP13,AR13,AT13,AV13,AX13,AZ13,BB13,BD13,BF13,BH13)>0,AVERAGE(B13,D13,F13,H13,J13,L13,N13,P13,R13,T13,V13,X13,Z13,AB13,AD13,AF13,AH13,AJ13,AL13,AN13,AP13,AR13,AT13,AV13,AX13,AZ13,BB13,BD13,BF13,BH13),"?") -> 0.69933944 | BT13: – | BU13: =IF(COUNT(B13,D13,F13,H13,J13,L13,N13,P13,R13,T13,V13,X13,Z13,AB13,AD13,AF13,AH13,AJ13,AL13,AN13,AP13,AR13,AT13,AV13,AX13,AZ13,BB13,BD13,BF13,BH13)>1,STDEV(B13,D13,F13,H13,J13,L13,N13,P13,R13,T13,V13,X13,Z13,AB13,AD13,AF13,AH13,AJ13,AL13,AN13,AP13,AR13,AT13,AV13,AX13,AZ13,BB13,BD13,BF13,BH13),"?") -> 0.050465775 | BV13: – | BW13: =IF(COUNT(B13)>0,B13,"?") -> 0.70890616 | BX13: –
A14: Claw 1 lengths | BK14: =A14 -> Claw 1 lengths
A15: External primary branch | B15: 30.44 | C15: =IF(AND((B15>0),(B$7>0)),(B15/B$7*100),"") -> 47.959666 | D15: 31.54 | E15: =IF(AND((D15>0),(D$7>0)),(D15/D$7*100),"") -> 47.954995 | F15: 26.86 | G15: =IF(AND((F15>0),(F$7>0)),(F15/F$7*100),"") -> 41.399507 | H15: 30.08 | I15: =IF(AND((H15>0),(H$7>0)),(H15/H$7*100),"") -> 50.419041 | J15: 27.1 | K15: =IF(AND((J15>0),(J$7>0)),(J15/J$7*100),"") -> 45.530914 | L15: 27.81 | M15: =IF(AND((L15>0),(L$7>0)),(L15/L$7*100),"") -> 39.632322 | N15: 26.15 | O15: =IF(AND((N15>0),(N$7>0)),(N15/N$7*100),"") -> 42.225093 | P15: 29.22 | Q15: =IF(AND((P15>0),(P$7>0)),(P15/P$7*100),"") -> 47.893788 | R15: 26.16 | S15: =IF(AND((R15>0),(R$7>0)),(R15/R$7*100),"") -> 43.061728 | T15: 27.44 | U15: =IF(AND((T15>0),(T$7>0)),(T15/T$7*100),"") -> 44.351059 | V15: 26.51 | W15: =IF(AND((V15>0),(V$7>0)),(V15/V$7*100),"") -> 39.519976 | X15: 28.24 | Y15: =IF(AND((X15>0),(X$7>0)),(X15/X$7*100),"") -> 44.395535 | Z15: 25.73 | AA15: =IF(AND((Z15>0),(Z$7>0)),(Z15/Z$7*100),"") -> 44.833595 | AB15: 26.25 | AC15: =IF(AND((AB15>0),(AB$7>0)),(AB15/AB$7*100),"") -> 46.060712 | AD15: 26.06 | AE15: =IF(AND((AD15>0),(AD$7>0)),(AD15/AD$7*100),"") -> 39.926459 | AF15: 27.35 | AG15: =IF(AND((AF15>0),(AF$7>0)),(AF15/AF$7*100),"") -> 41.845165 | AH15: 21.19 | AI15: =IF(AND((AH15>0),(AH$7>0)),(AH15/AH$7*100),"") -> 36.019038 | AJ15: 22.6 | AK15: =IF(AND((AJ15>0),(AJ$7>0)),(AJ15/AJ$7*100),"") -> 39.073306 | AL15: 29.2 | AM15: =IF(AND((AL15>0),(AL$7>0)),(AL15/AL$7*100),"") -> 46.224474 | AN15: 21.65 | AO15: =IF(AND((AN15>0),(AN$7>0)),(AN15/AN$7*100),"") -> 38.529988 | AP15: 26.73 | AQ15: =IF(AND((AP15>0),(AP$7>0)),(AP15/AP$7*100),"") -> 44.036244 | AR15: 22.79 | AS15: =IF(AND((AR15>0),(AR$7>0)),(AR15/AR$7*100),"") -> 39.947415 | AU15: =IF(AND((AT15>0),(AT$7>0)),(AT15/AT$7*100),"") | AW15: =IF(AND((AV15>0),(AV$7>0)),(AV15/AV$7*100),"") | AY15: =IF(AND((AX15>0),(AX$7>0)),(AX15/AX$7*100),"") | BA15: =IF(AND((AZ15>0),(AZ$7>0)),(AZ15/AZ$7*100),"") | BC15: =IF(AND((BB15>0),(BB$7>0)),(BB15/BB$7*100),"") | BE15: =IF(AND((BD15>0),(BD$7>0)),(BD15/BD$7*100),"") | BG15: =IF(AND((BF15>0),(BF$7>0)),(BF15/BF$7*100),"") | BI15: =IF(AND((BH15>0),(BH$7>0)),(BH15/BH$7*100),"") | BK15: =A15 -> External primary branch | BL15: =COUNT(B15,D15,F15,H15,J15,L15,N15,P15,R15,T15,V15,X15,Z15,AB15,AD15,AF15,AH15,AJ15,AL15,AN15,AP15,AR15,AT15,AV15,AX15,AZ15,BB15,BD15,BF15,BH15) -> 22 | BM15: =IF(SUM(B15,D15,F15,H15,J15,L15,N15,P15,R15,T15,V15,X15,Z15,AB15,AD15,AF15,AH15,AJ15,AL15,AN15,AP15,AR15,AT15,AV15,AX15,AZ15,BB15,BD15,BF15,BH15)>0,MIN(B15,D15,F15,H15,J15,L15,N15,P15,R15,T15,V15,X15,Z15,AB15,AD15,AF15,AH15,AJ15,AL15,AN15,AP15,AR15,AT15,AV15,AX15,AZ15,BB15,BD15,BF15,BH15),"") -> 21.19 | BN15: =IF(COUNT(BM15)>0,"–","?") -> – | BO15: =IF(SUM(B15,D15,F15,H15,J15,L15,N15,P15,R15,T15,V15,X15,Z15,AB15,AD15,AF15,AH15,AJ15,AL15,AN15,AP15,AR15,AT15,AV15,AX15,AZ15,BB15,BD15,BF15,BH15)>0,MAX(B15,D15,F15,H15,J15,L15,N15,P15,R15,T15,V15,X15,Z15,AB15,AD15,AF15,AH15,AJ15,AL15,AN15,AP15,AR15,AT15,AV15,AX15,AZ15,BB15,BD15,BF15,BH15),"") -> 31.54 | BP15: =IF(SUM(C15,E15,G15,I15,K15,M15,O15,Q15,S15,U15,W15,Y15,AA15,AC15,AE15,AG15,AI15,AK15,AM15,AO15,AQ15,AS15,AU15,AW15,AY15,BA15,BC15,BE15,BG15,BI15)>0,MIN(C15,E15,G15,I15,K15,M15,O15,Q15,S15,U15,W15,Y15,AA15,AC15,AE15,AG15,AI15,AK15,AM15,AO15,AQ15,AS15,AU15,AW15,AY15,BA15,BC15,BE15,BG15,BI15),"") -> 36.019038 | BQ15: =IF(COUNT(BP15)>0,"–","?") -> – | BR15: =IF(SUM(C15,E15,G15,I15,K15,M15,O15,Q15,S15,U15,W15,Y15,AA15,AC15,AE15,AG15,AI15,AK15,AM15,AO15,AQ15,AS15,AU15,AW15,AY15,BA15,BC15,BE15,BG15,BI15)>0,MAX(C15,E15,G15,I15,K15,M15,O15,Q15,S15,U15,W15,Y15,AA15,AC15,AE15,AG15,AI15,AK15,AM15,AO15,AQ15,AS15,AU15,AW15,AY15,BA15,BC15,BE15,BG15,BI15),"") -> 50.419041 | BS15: =IF(SUM(B15,D15,F15,H15,J15,L15,N15,P15,R15,T15,V15,X15,Z15,AB15,AD15,AF15,AH15,AJ15,AL15,AN15,AP15,AR15,AT15,AV15,AX15,AZ15,BB15,BD15,BF15,BH15)>0,AVERAGE(B15,D15,F15,H15,J15,L15,N15,P15,R15,T15,V15,X15,Z15,AB15,AD15,AF15,AH15,AJ15,AL15,AN15,AP15,AR15,AT15,AV15,AX15,AZ15,BB15,BD15,BF15,BH15),"?") -> 26.686364 | BT15: =IF(SUM(C15,E15,G15,I15,K15,M15,O15,Q15,S15,U15,W15,Y15,AA15,AC15,AE15,AG15,AI15,AK15,AM15,AO15,AQ15,AS15,AU15,AW15,AY15,BA15,BC15,BE15,BG15,BI15)>0,AVERAGE(C15,E15,G15,I15,K15,M15,O15,Q15,S15,U15,W15,Y15,AA15,AC15,AE15,AG15,AI15,AK15,AM15,AO15,AQ15,AS15,AU15,AW15,AY15,BA15,BC15,BE15,BG15,BI15),"?") -> 43.220001 | BU15: =IF(COUNT(B15,D15,F15,H15,J15,L15,N15,P15,R15,T15,V15,X15,Z15,AB15,AD15,AF15,AH15,AJ15,AL15,AN15,AP15,AR15,AT15,AV15,AX15,AZ15,BB15,BD15,BF15,BH15)>1,STDEV(B15,D15,F15,H15,J15,L15,N15,P15,R15,T15,V15,X15,Z15,AB15,AD15,AF15,AH15,AJ15,AL15,AN15,AP15,AR15,AT15,AV15,AX15,AZ15,BB15,BD15,BF15,BH15),"?") -> 2.7284926 | BV15: =IF(COUNT(C15,E15,G15,I15,K15,M15,O15,Q15,S15,U15,W15,Y15,AA15,AC15,AE15,AG15,AI15,AK15,AM15,AO15,AQ15,AS15,AU15,AW15,AY15,BA15,BC15,BE15,BG15,BI15)>1,STDEV(C15,E15,G15,I15,K15,M15,O15,Q15,S15,U15,W15,Y15,AA15,AC15,AE15,AG15,AI15,AK15,AM15,AO15,AQ15,AS15,AU15,AW15,AY15,BA15,BC15,BE15,BG15,BI15),"?") -> 3.7308641 | BW15: =IF(COUNT(B15)>0,B15,"?") -> 30.44 | BX15: =IF(COUNT(C15)>0,C15,"?") -> 47.959666
A16: External base + secondary branch | B16: 21.95 | C16: =IF(AND((B16>0),(B$7>0)),(B16/B$7*100),"") -> 34.583268 | D16: 22.3 | E16: =IF(AND((D16>0),(D$7>0)),(D16/D$7*100),"") -> 33.906036 | F16: 21.01 | G16: =IF(AND((F16>0),(F$7>0)),(F16/F$7*100),"") -> 32.382861 | H16: 23.31 | I16: =IF(AND((H16>0),(H$7>0)),(H16/H$7*100),"") -> 39.071405 | J16: 21.88 | K16: =IF(AND((J16>0),(J$7>0)),(J16/J$7*100),"") -> 36.760753 | L16: 21.25 | M16: =IF(AND((L16>0),(L$7>0)),(L16/L$7*100),"") -> 30.283597 | N16: 20.46 | O16: =IF(AND((N16>0),(N$7>0)),(N16/N$7*100),"") -> 33.0373 | P16: 22.34 | Q16: =IF(AND((P16>0),(P$7>0)),(P16/P$7*100),"") -> 36.616948 | R16: 22.55 | S16: =IF(AND((R16>0),(R$7>0)),(R16/R$7*100),"") -> 37.119342 | T16: 18.45 | U16: =IF(AND((T16>0),(T$7>0)),(T16/T$7*100),"") -> 29.820592 | V16: 19.73 | W16: =IF(AND((V16>0),(V$7>0)),(V16/V$7*100),"") -> 29.412642 | X16: 22.07 | Y16: =IF(AND((X16>0),(X$7>0)),(X16/X$7*100),"") -> 34.695803 | Z16: 18.42 | AA16: =IF(AND((Z16>0),(Z$7>0)),(Z16/Z$7*100),"") -> 32.096184 | AB16: 20.26 | AC16: =IF(AND((AB16>0),(AB$7>0)),(AB16/AB$7*100),"") -> 35.550097 | AD16: 21.6 | AE16: =IF(AND((AD16>0),(AD$7>0)),(AD16/AD$7*100),"") -> 33.093305 | AF16: 20.74 | AG16: =IF(AND((AF16>0),(AF$7>0)),(AF16/AF$7*100),"") -> 31.731946 | AH16: 18.73 | AI16: =IF(AND((AH16>0),(AH$7>0)),(AH16/AH$7*100),"") -> 31.837498 | AJ16: 16.94 | AK16: =IF(AND((AJ16>0),(AJ$7>0)),(AJ16/AJ$7*100),"") -> 29.28769 | AL16: 22.78 | AM16: =IF(AND((AL16>0),(AL$7>0)),(AL16/AL$7*100),"") -> 36.061422 | AN16: 18.64 | AO16: =IF(AND((AN16>0),(AN$7>0)),(AN16/AN$7*100),"") -> 33.173162 | AP16: 19.05 | AQ16: =IF(AND((AP16>0),(AP$7>0)),(AP16/AP$7*100),"") -> 31.383855 | AR16: 18.86 | AS16: =IF(AND((AR16>0),(AR$7>0)),(AR16/AR$7*100),"") -> 33.05872 | AU16: =IF(AND((AT16>0),(AT$7>0)),(AT16/AT$7*100),"") | AW16: =IF(AND((AV16>0),(AV$7>0)),(AV16/AV$7*100),"") | AY16: =IF(AND((AX16>0),(AX$7>0)),(AX16/AX$7*100),"") | BA16: =IF(AND((AZ16>0),(AZ$7>0)),(AZ16/AZ$7*100),"") | BC16: =IF(AND((BB16>0),(BB$7>0)),(BB16/BB$7*100),"") | BE16: =IF(AND((BD16>0),(BD$7>0)),(BD16/BD$7*100),"") | BG16: =IF(AND((BF16>0),(BF$7>0)),(BF16/BF$7*100),"") | BI16: =IF(AND((BH16>0),(BH$7>0)),(BH16/BH$7*100),"") | BK16: =A16 -> External base + secondary branch | BL16: =COUNT(B16,D16,F16,H16,J16,L16,N16,P16,R16,T16,V16,X16,Z16,AB16,AD16,AF16,AH16,AJ16,AL16,AN16,AP16,AR16,AT16,AV16,AX16,AZ16,BB16,BD16,BF16,BH16) -> 22 | BM16: =IF(SUM(B16,D16,F16,H16,J16,L16,N16,P16,R16,T16,V16,X16,Z16,AB16,AD16,AF16,AH16,AJ16,AL16,AN16,AP16,AR16,AT16,AV16,AX16,AZ16,BB16,BD16,BF16,BH16)>0,MIN(B16,D16,F16,H16,J16,L16,N16,P16,R16,T16,V16,X16,Z16,AB16,AD16,AF16,AH16,AJ16,AL16,AN16,AP16,AR16,AT16,AV16,AX16,AZ16,BB16,BD16,BF16,BH16),"") -> 16.94 | BN16: =IF(COUNT(BM16)>0,"–","?") -> – | BO16: =IF(SUM(B16,D16,F16,H16,J16,L16,N16,P16,R16,T16,V16,X16,Z16,AB16,AD16,AF16,AH16,AJ16,AL16,AN16,AP16,AR16,AT16,AV16,AX16,AZ16,BB16,BD16,BF16,BH16)>0,MAX(B16,D16,F16,H16,J16,L16,N16,P16,R16,T16,V16,X16,Z16,AB16,AD16,AF16,AH16,AJ16,AL16,AN16,AP16,AR16,AT16,AV16,AX16,AZ16,BB16,BD16,BF16,BH16),"") -> 23.31 | BP16: =IF(SUM(C16,E16,G16,I16,K16,M16,O16,Q16,S16,U16,W16,Y16,AA16,AC16,AE16,AG16,AI16,AK16,AM16,AO16,AQ16,AS16,AU16,AW16,AY16,BA16,BC16,BE16,BG16,BI16)>0,MIN(C16,E16,G16,I16,K16,M16,O16,Q16,S16,U16,W16,Y16,AA16,AC16,AE16,AG16,AI16,AK16,AM16,AO16,AQ16,AS16,AU16,AW16,AY16,BA16,BC16,BE16,BG16,BI16),"") -> 29.28769 | BQ16: =IF(COUNT(BP16)>0,"–","?") -> – | BR16: =IF(SUM(C16,E16,G16,I16,K16,M16,O16,Q16,S16,U16,W16,Y16,AA16,AC16,AE16,AG16,AI16,AK16,AM16,AO16,AQ16,AS16,AU16,AW16,AY16,BA16,BC16,BE16,BG16,BI16)>0,MAX(C16,E16,G16,I16,K16,M16,O16,Q16,S16,U16,W16,Y16,AA16,AC16,AE16,AG16,AI16,AK16,AM16,AO16,AQ16,AS16,AU16,AW16,AY16,BA16,BC16,BE16,BG16,BI16),"") -> 39.071405 | BS16: =IF(SUM(B16,D16,F16,H16,J16,L16,N16,P16,R16,T16,V16,X16,Z16,AB16,AD16,AF16,AH16,AJ16,AL16,AN16,AP16,AR16,AT16,AV16,AX16,AZ16,BB16,BD16,BF16,BH16)>0,AVERAGE(B16,D16,F16,H16,J16,L16,N16,P16,R16,T16,V16,X16,Z16,AB16,AD16,AF16,AH16,AJ16,AL16,AN16,AP16,AR16,AT16,AV16,AX16,AZ16,BB16,BD16,BF16,BH16),"?") -> 20.605455 | BT16: =IF(SUM(C16,E16,G16,I16,K16,M16,O16,Q16,S16,U16,W16,Y16,AA16,AC16,AE16,AG16,AI16,AK16,AM16,AO16,AQ16,AS16,AU16,AW16,AY16,BA16,BC16,BE16,BG16,BI16)>0,AVERAGE(C16,E16,G16,I16,K16,M16,O16,Q16,S16,U16,W16,Y16,AA16,AC16,AE16,AG16,AI16,AK16,AM16,AO16,AQ16,AS16,AU16,AW16,AY16,BA16,BC16,BE16,BG16,BI16),"?") -> 33.407474 | BU16: =IF(COUNT(B16,D16,F16,H16,J16,L16,N16,P16,R16,T16,V16,X16,Z16,AB16,AD16,AF16,AH16,AJ16,AL16,AN16,AP16,AR16,AT16,AV16,AX16,AZ16,BB16,BD16,BF16,BH16)>1,STDEV(B16,D16,F16,H16,J16,L16,N16,P16,R16,T16,V16,X16,Z16,AB16,AD16,AF16,AH16,AJ16,AL16,AN16,AP16,AR16,AT16,AV16,AX16,AZ16,BB16,BD16,BF16,BH16),"?") -> 1.7658014 | BV16: =IF(COUNT(C16,E16,G16,I16,K16,M16,O16,Q16,S16,U16,W16,Y16,AA16,AC16,AE16,AG16,AI16,AK16,AM16,AO16,AQ16,AS16,AU16,AW16,AY16,BA16,BC16,BE16,BG16,BI16)>1,STDEV(C16,E16,G16,I16,K16,M16,O16,Q16,S16,U16,W16,Y16,AA16,AC16,AE16,AG16,AI16,AK16,AM16,AO16,AQ16,AS16,AU16,AW16,AY16,BA16,BC16,BE16,BG16,BI16),"?") -> 2.6764658 | BW16: =IF(COUNT(B16)>0,B16,"?") -> 21.95 | BX16: =IF(COUNT(C16)>0,C16,"?") -> 34.583268
A17: External spur | B17: 5.9 | C17: =IF(AND((B17>0),(B$7>0)),(B17/B$7*100),"") -> 9.2957303 | D17: 6.26 | E17: =IF(AND((D17>0),(D$7>0)),(D17/D$7*100),"") -> 9.5180173 | F17: 5.86 | G17: =IF(AND((F17>0),(F$7>0)),(F17/F$7*100),"") -> 9.0320592 | H17: 8.4 | I17: =IF(AND((H17>0),(H$7>0)),(H17/H$7*100),"") -> 14.079785 | J17: 6.22 | K17: =IF(AND((J17>0),(J$7>0)),(J17/J$7*100),"") -> 10.450269 | L17: 7.01 | M17: =IF(AND((L17>0),(L$7>0)),(L17/L$7*100),"") -> 9.9900242 | N17: 6.09 | O17: =IF(AND((N17>0),(N$7>0)),(N17/N$7*100),"") -> 9.8336832 | P17: 6.47 | Q17: =IF(AND((P17>0),(P$7>0)),(P17/P$7*100),"") -> 10.604819 | R17: 7.11 | S17: =IF(AND((R17>0),(R$7>0)),(R17/R$7*100),"") -> 11.703704 | T17: 5.82 | U17: =IF(AND((T17>0),(T$7>0)),(T17/T$7*100),"") -> 9.4068208 | V17: 6.09 | W17: =IF(AND((V17>0),(V$7>0)),(V17/V$7*100),"") -> 9.078712 | X17: 7.12 | Y17: =IF(AND((X17>0),(X$7>0)),(X17/X$7*100),"") -> 11.193209 | Z17: 6.04 | AA17: =IF(AND((Z17>0),(Z$7>0)),(Z17/Z$7*100),"") -> 10.524482 | AB17: 7.03 | AC17: =IF(AND((AB17>0),(AB$7>0)),(AB17/AB$7*100),"") -> 12.335497 | AD17: 8.09 | AE17: =IF(AND((AD17>0),(AD$7>0)),(AD17/AD$7*100),"") -> 12.394668 | AF17: 6.75 | AG17: =IF(AND((AF17>0),(AF$7>0)),(AF17/AF$7*100),"") -> 10.327417 | AH17: 6.97 | AI17: =IF(AND((AH17>0),(AH$7>0)),(AH17/AH$7*100),"") -> 11.847697 | AJ17: 6.53 | AK17: =IF(AND((AJ17>0),(AJ$7>0)),(AJ17/AJ$7*100),"") -> 11.289765 | AL17: 6.46 | AM17: =IF(AND((AL17>0),(AL$7>0)),(AL17/AL$7*100),"") -> 10.226373 | AN17: 5.94 | AO17: =IF(AND((AN17>0),(AN$7>0)),(AN17/AN$7*100),"") -> 10.571276 | AP17: 6.29 | AQ17: =IF(AND((AP17>0),(AP$7>0)),(AP17/AP$7*100),"") -> 10.362438 | AR17: 7.01 | AS17: =IF(AND((AR17>0),(AR$7>0)),(AR17/AR$7*100),"") -> 12.287467 | AU17: =IF(AND((AT17>0),(AT$7>0)),(AT17/AT$7*100),"") | AW17: =IF(AND((AV17>0),(AV$7>0)),(AV17/AV$7*100),"") | AY17: =IF(AND((AX17>0),(AX$7>0)),(AX17/AX$7*100),"") | BA17: =IF(AND((AZ17>0),(AZ$7>0)),(AZ17/AZ$7*100),"") | BC17: =IF(AND((BB17>0),(BB$7>0)),(BB17/BB$7*100),"") | BE17: =IF(AND((BD17>0),(BD$7>0)),(BD17/BD$7*100),"") | BG17: =IF(AND((BF17>0),(BF$7>0)),(BF17/BF$7*100),"") | BI17: =IF(AND((BH17>0),(BH$7>0)),(BH17/BH$7*100),"") | BK17: =A17 -> External spur | BL17: =COUNT(B17,D17,F17,H17,J17,L17,N17,P17,R17,T17,V17,X17,Z17,AB17,AD17,AF17,AH17,AJ17,AL17,AN17,AP17,AR17,AT17,AV17,AX17,AZ17,BB17,BD17,BF17,BH17) -> 22 | BM17: =IF(SUM(B17,D17,F17,H17,J17,L17,N17,P17,R17,T17,V17,X17,Z17,AB17,AD17,AF17,AH17,AJ17,AL17,AN17,AP17,AR17,AT17,AV17,AX17,AZ17,BB17,BD17,BF17,BH17)>0,MIN(B17,D17,F17,H17,J17,L17,N17,P17,R17,T17,V17,X17,Z17,AB17,AD17,AF17,AH17,AJ17,AL17,AN17,AP17,AR17,AT17,AV17,AX17,AZ17,BB17,BD17,BF17,BH17),"") -> 5.82 | BN17: =IF(COUNT(BM17)>0,"–","?") -> – | BO17: =IF(SUM(B17,D17,F17,H17,J17,L17,N17,P17,R17,T17,V17,X17,Z17,AB17,AD17,AF17,AH17,AJ17,AL17,AN17,AP17,AR17,AT17,AV17,AX17,AZ17,BB17,BD17,BF17,BH17)>0,MAX(B17,D17,F17,H17,J17,L17,N17,P17,R17,T17,V17,X17,Z17,AB17,AD17,AF17,AH17,AJ17,AL17,AN17,AP17,AR17,AT17,AV17,AX17,AZ17,BB17,BD17,BF17,BH17),"") -> 8.4 | BP17: =IF(SUM(C17,E17,G17,I17,K17,M17,O17,Q17,S17,U17,W17,Y17,AA17,AC17,AE17,AG17,AI17,AK17,AM17,AO17,AQ17,AS17,AU17,AW17,AY17,BA17,BC17,BE17,BG17,BI17)>0,MIN(C17,E17,G17,I17,K17,M17,O17,Q17,S17,U17,W17,Y17,AA17,AC17,AE17,AG17,AI17,AK17,AM17,AO17,AQ17,AS17,AU17,AW17,AY17,BA17,BC17,BE17,BG17,BI17),"") -> 9.0320592 | BQ17: =IF(COUNT(BP17)>0,"–","?") -> – | BR17: =IF(SUM(C17,E17,G17,I17,K17,M17,O17,Q17,S17,U17,W17,Y17,AA17,AC17,AE17,AG17,AI17,AK17,AM17,AO17,AQ17,AS17,AU17,AW17,AY17,BA17,BC17,BE17,BG17,BI17)>0,MAX(C17,E17,G17,I17,K17,M17,O17,Q17,S17,U17,W17,Y17,AA17,AC17,AE17,AG17,AI17,AK17,AM17,AO17,AQ17,AS17,AU17,AW17,AY17,BA17,BC17,BE17,BG17,BI17),"") -> 14.079785 | BS17: =IF(SUM(B17,D17,F17,H17,J17,L17,N17,P17,R17,T17,V17,X17,Z17,AB17,AD17,AF17,AH17,AJ17,AL17,AN17,AP17,AR17,AT17,AV17,AX17,AZ17,BB17,BD17,BF17,BH17)>0,AVERAGE(B17,D17,F17,H17,J17,L17,N17,P17,R17,T17,V17,X17,Z17,AB17,AD17,AF17,AH17,AJ17,AL17,AN17,AP17,AR17,AT17,AV17,AX17,AZ17,BB17,BD17,BF17,BH17),"?") -> 6.6118182 | BT17: =IF(SUM(C17,E17,G17,I17,K17,M17,O17,Q17,S17,U17,W17,Y17,AA17,AC17,AE17,AG17,AI17,AK17,AM17,AO17,AQ17,AS17,AU17,AW17,AY17,BA17,BC17,BE17,BG17,BI17)>0,AVERAGE(C17,E17,G17,I17,K17,M17,O17,Q17,S17,U17,W17,Y17,AA17,AC17,AE17,AG17,AI17,AK17,AM17,AO17,AQ17,AS17,AU17,AW17,AY17,BA17,BC17,BE17,BG17,BI17),"?") -> 10.74336 | BU17: =IF(COUNT(B17,D17,F17,H17,J17,L17,N17,P17,R17,T17,V17,X17,Z17,AB17,AD17,AF17,AH17,AJ17,AL17,AN17,AP17,AR17,AT17,AV17,AX17,AZ17,BB17,BD17,BF17,BH17)>1,STDEV(B17,D17,F17,H17,J17,L17,N17,P17,R17,T17,V17,X17,Z17,AB17,AD17,AF17,AH17,AJ17,AL17,AN17,AP17,AR17,AT17,AV17,AX17,AZ17,BB17,BD17,BF17,BH17),"?") -> 0.68940717 | BV17: =IF(COUNT(C17,E17,G17,I17,K17,M17,O17,Q17,S17,U17,W17,Y17,AA17,AC17,AE17,AG17,AI17,AK17,AM17,AO17,AQ17,AS17,AU17,AW17,AY17,BA17,BC17,BE17,BG17,BI17)>1,STDEV(C17,E17,G17,I17,K17,M17,O17,Q17,S17,U17,W17,Y17,AA17,AC17,AE17,AG17,AI17,AK17,AM17,AO17,AQ17,AS17,AU17,AW17,AY17,BA17,BC17,BE17,BG17,BI17),"?") -> 1.2848296 | BW17: =IF(COUNT(B17)>0,B17,"?") -> 5.9 | BX17: =IF(COUNT(C17)>0,C17,"?") -> 9.2957303
A18: External branches length ratio | B18: =IF(AND((B16>0),(B15>0)),(B16/B15),"") -> 0.72109067 | C18: – | D18: =IF(AND((D16>0),(D15>0)),(D16/D15),"") -> 0.70703868 | E18: – | F18: =IF(AND((F16>0),(F15>0)),(F16/F15),"") -> 0.78220402 | G18: – | H18: =IF(AND((H16>0),(H15>0)),(H16/H15),"") -> 0.77493351 | I18: – | J18: =IF(AND((J16>0),(J15>0)),(J16/J15),"") -> 0.80738007 | K18: – | L18: =IF(AND((L16>0),(L15>0)),(L16/L15),"") -> 0.76411363 | M18: – | N18: =IF(AND((N16>0),(N15>0)),(N16/N15),"") -> 0.78240918 | O18: – | P18: =IF(AND((P16>0),(P15>0)),(P16/P15),"") -> 0.76454483 | Q18: – | R18: =IF(AND((R16>0),(R15>0)),(R16/R15),"") -> 0.86200306 | S18: – | T18: =IF(AND((T16>0),(T15>0)),(T16/T15),"") -> 0.67237609 | U18: – | V18: =IF(AND((V16>0),(V15>0)),(V16/V15),"") -> 0.74424745 | W18: – | X18: =IF(AND((X16>0),(X15>0)),(X16/X15),"") -> 0.78151558 | Y18: – | Z18: =IF(AND((Z16>0),(Z15>0)),(Z16/Z15),"") -> 0.71589584 | AA18: – | AB18: =IF(AND((AB16>0),(AB15>0)),(AB16/AB15),"") -> 0.77180952 | AC18: – | AD18: =IF(AND((AD16>0),(AD15>0)),(AD16/AD15),"") -> 0.82885649 | AE18: – | AF18: =IF(AND((AF16>0),(AF15>0)),(AF16/AF15),"") -> 0.7583181 | AG18: – | AH18: =IF(AND((AH16>0),(AH15>0)),(AH16/AH15),"") -> 0.8839075 | AI18: – | AJ18: =IF(AND((AJ16>0),(AJ15>0)),(AJ16/AJ15),"") -> 0.74955752 | AK18: – | AL18: =IF(AND((AL16>0),(AL15>0)),(AL16/AL15),"") -> 0.78013699 | AM18: – | AN18: =IF(AND((AN16>0),(AN15>0)),(AN16/AN15),"") -> 0.86096998 | AO18: – | AP18: =IF(AND((AP16>0),(AP15>0)),(AP16/AP15),"") -> 0.71268238 | AQ18: – | AR18: =IF(AND((AR16>0),(AR15>0)),(AR16/AR15),"") -> 0.82755595 | AS18: – | AT18: =IF(AND((AT16>0),(AT15>0)),(AT16/AT15),"") | AU18: – | AV18: =IF(AND((AV16>0),(AV15>0)),(AV16/AV15),"") | AW18: – | AX18: =IF(AND((AX16>0),(AX15>0)),(AX16/AX15),"") | AY18: – | AZ18: =IF(AND((AZ16>0),(AZ15>0)),(AZ16/AZ15),"") | BA18: – | BB18: =IF(AND((BB16>0),(BB15>0)),(BB16/BB15),"") | BC18: – | BD18: =IF(AND((BD16>0),(BD15>0)),(BD16/BD15),"") | BE18: – | BF18: =IF(AND((BF16>0),(BF15>0)),(BF16/BF15),"") | BG18: – | BH18: =IF(AND((BH16>0),(BH15>0)),(BH16/BH15),"") | BI18: – | BK18: =A18 -> External branches length ratio | BL18: =COUNT(B18,D18,F18,H18,J18,L18,N18,P18,R18,T18,V18,X18,Z18,AB18,AD18,AF18,AH18,AJ18,AL18,AN18,AP18,AR18,AT18,AV18,AX18,AZ18,BB18,BD18,BF18,BH18) -> 22 | BM18: =IF(SUM(B18,D18,F18,H18,J18,L18,N18,P18,R18,T18,V18,X18,Z18,AB18,AD18,AF18,AH18,AJ18,AL18,AN18,AP18,AR18,AT18,AV18,AX18,AZ18,BB18,BD18,BF18,BH18)>0,MIN(B18,D18,F18,H18,J18,L18,N18,P18,R18,T18,V18,X18,Z18,AB18,AD18,AF18,AH18,AJ18,AL18,AN18,AP18,AR18,AT18,AV18,AX18,AZ18,BB18,BD18,BF18,BH18),"") -> 0.67237609 | BN18: =IF(COUNT(BM18)>0,"–","?") -> – | BO18: =IF(SUM(B18,D18,F18,H18,J18,L18,N18,P18,R18,T18,V18,X18,Z18,AB18,AD18,AF18,AH18,AJ18,AL18,AN18,AP18,AR18,AT18,AV18,AX18,AZ18,BB18,BD18,BF18,BH18)>0,MAX(B18,D18,F18,H18,J18,L18,N18,P18,R18,T18,V18,X18,Z18,AB18,AD18,AF18,AH18,AJ18,AL18,AN18,AP18,AR18,AT18,AV18,AX18,AZ18,BB18,BD18,BF18,BH18),"") -> 0.8839075 | BP18: =IF(SUM(C18,E18,G18,I18,K18,M18,O18,Q18,S18,U18,W18,Y18,AA18,AC18,AE18,AG18,AI18,AK18,AM18,AO18,AQ18,AS18,AU18,AW18,AY18,BA18,BC18,BE18,BG18,BI18)>0,MIN(C18,E18,G18,I18,K18,M18,O18,Q18,S18,U18,W18,Y18,AA18,AC18,AE18,AG18,AI18,AK18,AM18,AO18,AQ18,AS18,AU18,AW18,AY18,BA18,BC18,BE18,BG18,BI18),"") | BQ18: – | BR18: =IF(SUM(C18,E18,G18,I18,K18,M18,O18,Q18,S18,U18,W18,Y18,AA18,AC18,AE18,AG18,AI18,AK18,AM18,AO18,AQ18,AS18,AU18,AW18,AY18,BA18,BC18,BE18,BG18,BI18)>0,MAX(C18,E18,G18,I18,K18,M18,O18,Q18,S18,U18,W18,Y18,AA18,AC18,AE18,AG18,AI18,AK18,AM18,AO18,AQ18,AS18,AU18,AW18,AY18,BA18,BC18,BE18,BG18,BI18),"") | BS18: =IF(SUM(B18,D18,F18,H18,J18,L18,N18,P18,R18,T18,V18,X18,Z18,AB18,AD18,AF18,AH18,AJ18,AL18,AN18,AP18,AR18,AT18,AV18,AX18,AZ18,BB18,BD18,BF18,BH18)>0,AVERAGE(B18,D18,F18,H18,J18,L18,N18,P18,R18,T18,V18,X18,Z18,AB18,AD18,AF18,AH18,AJ18,AL18,AN18,AP18,AR18,AT18,AV18,AX18,AZ18,BB18,BD18,BF18,BH18),"?") -> 0.77516123 | BT18: – | BU18: =IF(COUNT(B18,D18,F18,H18,J18,L18,N18,P18,R18,T18,V18,X18,Z18,AB18,AD18,AF18,AH18,AJ18,AL18,AN18,AP18,AR18,AT18,AV18,AX18,AZ18,BB18,BD18,BF18,BH18)>1,STDEV(B18,D18,F18,H18,J18,L18,N18,P18,R18,T18,V18,X18,Z18,AB18,AD18,AF18,AH18,AJ18,AL18,AN18,AP18,AR18,AT18,AV18,AX18,AZ18,BB18,BD18,BF18,BH18),"?") -> 0.054006233 | BV18: – | BW18: =IF(COUNT(B18)>0,B18,"?") -> 0.72109067 | BX18: –
A19: Internal primary branch | B19: 29.52 | C19: =IF(AND((B19>0),(B$7>0)),(B19/B$7*100),"") -> 46.510162 | D19: 31.41 | E19: =IF(AND((D19>0),(D$7>0)),(D19/D$7*100),"") -> 47.757336 | F19: 25.57 | G19: =IF(AND((F19>0),(F$7>0)),(F19/F$7*100),"") -> 39.411221 | H19: 28.52 | I19: =IF(AND((H19>0),(H$7>0)),(H19/H$7*100),"") -> 47.804224 | J19: 26.51 | K19: =IF(AND((J19>0),(J$7>0)),(J19/J$7*100),"") -> 44.539651 | L19: 29.17 | M19: =IF(AND((L19>0),(L$7>0)),(L19/L$7*100),"") -> 41.570472 | N19: 26 | O19: =IF(AND((N19>0),(N$7>0)),(N19/N$7*100),"") -> 41.982884 | P19: 24.35 | Q19: =IF(AND((P19>0),(P$7>0)),(P19/P$7*100),"") -> 39.91149 | R19: 26.51 | S19: =IF(AND((R19>0),(R$7>0)),(R19/R$7*100),"") -> 43.63786 | T19: 24.59 | U19: =IF(AND((T19>0),(T$7>0)),(T19/T$7*100),"") -> 39.744626 | V19: 24.34 | W19: =IF(AND((V19>0),(V$7>0)),(V19/V$7*100),"") -> 36.285033 | X19: 26.7 | Y19: =IF(AND((X19>0),(X$7>0)),(X19/X$7*100),"") -> 41.974532 | Z19: 23.57 | AA19: =IF(AND((Z19>0),(Z$7>0)),(Z19/Z$7*100),"") -> 41.069873 | AB19: 25.23 | AC19: =IF(AND((AB19>0),(AB$7>0)),(AB19/AB$7*100),"") -> 44.270925 | AD19: 23.36 | AE19: =IF(AND((AD19>0),(AD$7>0)),(AD19/AD$7*100),"") -> 35.789796 | AF19: 25.37 | AG19: =IF(AND((AF19>0),(AF$7>0)),(AF19/AF$7*100),"") -> 38.815789 | AH19: 20.24 | AI19: =IF(AND((AH19>0),(AH$7>0)),(AH19/AH$7*100),"") -> 34.404216 | AJ19: 24.08 | AK19: =IF(AND((AJ19>0),(AJ$7>0)),(AJ19/AJ$7*100),"") -> 41.632089 | AL19: 28.51 | AM19: =IF(AND((AL19>0),(AL$7>0)),(AL19/AL$7*100),"") -> 45.132183 | AN19: 19.87 | AO19: =IF(AND((AN19>0),(AN$7>0)),(AN19/AN$7*100),"") -> 35.362164 | AP19: 25.77 | AQ19: =IF(AND((AP19>0),(AP$7>0)),(AP19/AP$7*100),"") -> 42.454695 | AR19: 23.84 | AS19: =IF(AND((AR19>0),(AR$7>0)),(AR19/AR$7*100),"") -> 41.787905 | AU19: =IF(AND((AT19>0),(AT$7>0)),(AT19/AT$7*100),"") | AW19: =IF(AND((AV19>0),(AV$7>0)),(AV19/AV$7*100),"") | AY19: =IF(AND((AX19>0),(AX$7>0)),(AX19/AX$7*100),"") | BA19: =IF(AND((AZ19>0),(AZ$7>0)),(AZ19/AZ$7*100),"") | BC19: =IF(AND((BB19>0),(BB$7>0)),(BB19/BB$7*100),"") | BE19: =IF(AND((BD19>0),(BD$7>0)),(BD19/BD$7*100),"") | BG19: =IF(AND((BF19>0),(BF$7>0)),(BF19/BF$7*100),"") | BI19: =IF(AND((BH19>0),(BH$7>0)),(BH19/BH$7*100),"") | BK19: =A19 -> Internal primary branch | BL19: =COUNT(B19,D19,F19,H19,J19,L19,N19,P19,R19,T19,V19,X19,Z19,AB19,AD19,AF19,AH19,AJ19,AL19,AN19,AP19,AR19,AT19,AV19,AX19,AZ19,BB19,BD19,BF19,BH19) -> 22 | BM19: =IF(SUM(B19,D19,F19,H19,J19,L19,N19,P19,R19,T19,V19,X19,Z19,AB19,AD19,AF19,AH19,AJ19,AL19,AN19,AP19,AR19,AT19,AV19,AX19,AZ19,BB19,BD19,BF19,BH19)>0,MIN(B19,D19,F19,H19,J19,L19,N19,P19,R19,T19,V19,X19,Z19,AB19,AD19,AF19,AH19,AJ19,AL19,AN19,AP19,AR19,AT19,AV19,AX19,AZ19,BB19,BD19,BF19,BH19),"") -> 19.87 | BN19: =IF(COUNT(BM19)>0,"–","?") -> – | BO19: =IF(SUM(B19,D19,F19,H19,J19,L19,N19,P19,R19,T19,V19,X19,Z19,AB19,AD19,AF19,AH19,AJ19,AL19,AN19,AP19,AR19,AT19,AV19,AX19,AZ19,BB19,BD19,BF19,BH19)>0,MAX(B19,D19,F19,H19,J19,L19,N19,P19,R19,T19,V19,X19,Z19,AB19,AD19,AF19,AH19,AJ19,AL19,AN19,AP19,AR19,AT19,AV19,AX19,AZ19,BB19,BD19,BF19,BH19),"") -> 31.41 | BP19: =IF(SUM(C19,E19,G19,I19,K19,M19,O19,Q19,S19,U19,W19,Y19,AA19,AC19,AE19,AG19,AI19,AK19,AM19,AO19,AQ19,AS19,AU19,AW19,AY19,BA19,BC19,BE19,BG19,BI19)>0,MIN(C19,E19,G19,I19,K19,M19,O19,Q19,S19,U19,W19,Y19,AA19,AC19,AE19,AG19,AI19,AK19,AM19,AO19,AQ19,AS19,AU19,AW19,AY19,BA19,BC19,BE19,BG19,BI19),"") -> 34.404216 | BQ19: =IF(COUNT(BP19)>0,"–","?") -> – | BR19: =IF(SUM(C19,E19,G19,I19,K19,M19,O19,Q19,S19,U19,W19,Y19,AA19,AC19,AE19,AG19,AI19,AK19,AM19,AO19,AQ19,AS19,AU19,AW19,AY19,BA19,BC19,BE19,BG19,BI19)>0,MAX(C19,E19,G19,I19,K19,M19,O19,Q19,S19,U19,W19,Y19,AA19,AC19,AE19,AG19,AI19,AK19,AM19,AO19,AQ19,AS19,AU19,AW19,AY19,BA19,BC19,BE19,BG19,BI19),"") -> 47.804224 | BS19: =IF(SUM(B19,D19,F19,H19,J19,L19,N19,P19,R19,T19,V19,X19,Z19,AB19,AD19,AF19,AH19,AJ19,AL19,AN19,AP19,AR19,AT19,AV19,AX19,AZ19,BB19,BD19,BF19,BH19)>0,AVERAGE(B19,D19,F19,H19,J19,L19,N19,P19,R19,T19,V19,X19,Z19,AB19,AD19,AF19,AH19,AJ19,AL19,AN19,AP19,AR19,AT19,AV19,AX19,AZ19,BB19,BD19,BF19,BH19),"?") -> 25.592273 | BT19: =IF(SUM(C19,E19,G19,I19,K19,M19,O19,Q19,S19,U19,W19,Y19,AA19,AC19,AE19,AG19,AI19,AK19,AM19,AO19,AQ19,AS19,AU19,AW19,AY19,BA19,BC19,BE19,BG19,BI19)>0,AVERAGE(C19,E19,G19,I19,K19,M19,O19,Q19,S19,U19,W19,Y19,AA19,AC19,AE19,AG19,AI19,AK19,AM19,AO19,AQ19,AS19,AU19,AW19,AY19,BA19,BC19,BE19,BG19,BI19),"?") -> 41.447688 | BU19: =IF(COUNT(B19,D19,F19,H19,J19,L19,N19,P19,R19,T19,V19,X19,Z19,AB19,AD19,AF19,AH19,AJ19,AL19,AN19,AP19,AR19,AT19,AV19,AX19,AZ19,BB19,BD19,BF19,BH19)>1,STDEV(B19,D19,F19,H19,J19,L19,N19,P19,R19,T19,V19,X19,Z19,AB19,AD19,AF19,AH19,AJ19,AL19,AN19,AP19,AR19,AT19,AV19,AX19,AZ19,BB19,BD19,BF19,BH19),"?") -> 2.7807637 | BV19: =IF(COUNT(C19,E19,G19,I19,K19,M19,O19,Q19,S19,U19,W19,Y19,AA19,AC19,AE19,AG19,AI19,AK19,AM19,AO19,AQ19,AS19,AU19,AW19,AY19,BA19,BC19,BE19,BG19,BI19)>1,STDEV(C19,E19,G19,I19,K19,M19,O19,Q19,S19,U19,W19,Y19,AA19,AC19,AE19,AG19,AI19,AK19,AM19,AO19,AQ19,AS19,AU19,AW19,AY19,BA19,BC19,BE19,BG19,BI19),"?") -> 3.8127481 | BW19: =IF(COUNT(B19)>0,B19,"?") -> 29.52 | BX19: =IF(COUNT(C19)>0,C19,"?") -> 46.510162
A20: Internal base + secondary branch | B20: 18.96 | C20: =IF(AND((B20>0),(B$7>0)),(B20/B$7*100),"") -> 29.872381 | D20: 20.03 | E20: =IF(AND((D20>0),(D$7>0)),(D20/D$7*100),"") -> 30.454615 | F20: 19.18 | G20: =IF(AND((F20>0),(F$7>0)),(F20/F$7*100),"") -> 29.562269 | H20: 21.69 | I20: =IF(AND((H20>0),(H$7>0)),(H20/H$7*100),"") -> 36.356017 | J20: 18.03 | K20: =IF(AND((J20>0),(J$7>0)),(J20/J$7*100),"") -> 30.292339 | L20: 18.76 | M20: =IF(AND((L20>0),(L$7>0)),(L20/L$7*100),"") -> 26.735072 | N20: 18.56 | O20: =IF(AND((N20>0),(N$7>0)),(N20/N$7*100),"") -> 29.96932 | P20: 20.72 | Q20: =IF(AND((P20>0),(P$7>0)),(P20/P$7*100),"") -> 33.961646 | R20: 19.91 | S20: =IF(AND((R20>0),(R$7>0)),(R20/R$7*100),"") -> 32.773663 | T20: 16.06 | U20: =IF(AND((T20>0),(T$7>0)),(T20/T$7*100),"") -> 25.957653 | V20: 19.84 | W20: =IF(AND((V20>0),(V$7>0)),(V20/V$7*100),"") -> 29.576625 | X20: 19.8 | Y20: =IF(AND((X20>0),(X$7>0)),(X20/X$7*100),"") -> 31.127181 | Z20: 17.35 | AA20: =IF(AND((Z20>0),(Z$7>0)),(Z20/Z$7*100),"") -> 30.231748 | AB20: 19.66 | AC20: =IF(AND((AB20>0),(AB$7>0)),(AB20/AB$7*100),"") -> 34.49728 | AD20: 20.33 | AE20: =IF(AND((AD20>0),(AD$7>0)),(AD20/AD$7*100),"") -> 31.147541 | AF20: 19.46 | AG20: =IF(AND((AF20>0),(AF$7>0)),(AF20/AF$7*100),"") -> 29.773562 | AH20: 16.7 | AI20: =IF(AND((AH20>0),(AH$7>0)),(AH20/AH$7*100),"") -> 28.386877 | AJ20: 18.5 | AK20: =IF(AND((AJ20>0),(AJ$7>0)),(AJ20/AJ$7*100),"") -> 31.984786 | AL20: 16.73 | AM20: =IF(AND((AL20>0),(AL$7>0)),(AL20/AL$7*100),"") -> 26.484091 | AN20: 16.23 | AO20: =IF(AND((AN20>0),(AN$7>0)),(AN20/AN$7*100),"") -> 28.884143 | AP20: 18.01 | AQ20: =IF(AND((AP20>0),(AP$7>0)),(AP20/AP$7*100),"") -> 29.670511 | AR20: 19.21 | AS20: =IF(AND((AR20>0),(AR$7>0)),(AR20/AR$7*100),"") -> 33.672217 | AU20: =IF(AND((AT20>0),(AT$7>0)),(AT20/AT$7*100),"") | AW20: =IF(AND((AV20>0),(AV$7>0)),(AV20/AV$7*100),"") | AY20: =IF(AND((AX20>0),(AX$7>0)),(AX20/AX$7*100),"") | BA20: =IF(AND((AZ20>0),(AZ$7>0)),(AZ20/AZ$7*100),"") | BC20: =IF(AND((BB20>0),(BB$7>0)),(BB20/BB$7*100),"") | BE20: =IF(AND((BD20>0),(BD$7>0)),(BD20/BD$7*100),"") | BG20: =IF(AND((BF20>0),(BF$7>0)),(BF20/BF$7*100),"") | BI20: =IF(AND((BH20>0),(BH$7>0)),(BH20/BH$7*100),"") | BK20: =A20 -> Internal base + secondary branch | BL20: =COUNT(B20,D20,F20,H20,J20,L20,N20,P20,R20,T20,V20,X20,Z20,AB20,AD20,AF20,AH20,AJ20,AL20,AN20,AP20,AR20,AT20,AV20,AX20,AZ20,BB20,BD20,BF20,BH20) -> 22 | BM20: =IF(SUM(B20,D20,F20,H20,J20,L20,N20,P20,R20,T20,V20,X20,Z20,AB20,AD20,AF20,AH20,AJ20,AL20,AN20,AP20,AR20,AT20,AV20,AX20,AZ20,BB20,BD20,BF20,BH20)>0,MIN(B20,D20,F20,H20,J20,L20,N20,P20,R20,T20,V20,X20,Z20,AB20,AD20,AF20,AH20,AJ20,AL20,AN20,AP20,AR20,AT20,AV20,AX20,AZ20,BB20,BD20,BF20,BH20),"") -> 16.06 | BN20: =IF(COUNT(BM20)>0,"–","?") -> – | BO20: =IF(SUM(B20,D20,F20,H20,J20,L20,N20,P20,R20,T20,V20,X20,Z20,AB20,AD20,AF20,AH20,AJ20,AL20,AN20,AP20,AR20,AT20,AV20,AX20,AZ20,BB20,BD20,BF20,BH20)>0,MAX(B20,D20,F20,H20,J20,L20,N20,P20,R20,T20,V20,X20,Z20,AB20,AD20,AF20,AH20,AJ20,AL20,AN20,AP20,AR20,AT20,AV20,AX20,AZ20,BB20,BD20,BF20,BH20),"") -> 21.69 | BP20: =IF(SUM(C20,E20,G20,I20,K20,M20,O20,Q20,S20,U20,W20,Y20,AA20,AC20,AE20,AG20,AI20,AK20,AM20,AO20,AQ20,AS20,AU20,AW20,AY20,BA20,BC20,BE20,BG20,BI20)>0,MIN(C20,E20,G20,I20,K20,M20,O20,Q20,S20,U20,W20,Y20,AA20,AC20,AE20,AG20,AI20,AK20,AM20,AO20,AQ20,AS20,AU20,AW20,AY20,BA20,BC20,BE20,BG20,BI20),"") -> 25.957653 | BQ20: =IF(COUNT(BP20)>0,"–","?") -> – | BR20: =IF(SUM(C20,E20,G20,I20,K20,M20,O20,Q20,S20,U20,W20,Y20,AA20,AC20,AE20,AG20,AI20,AK20,AM20,AO20,AQ20,AS20,AU20,AW20,AY20,BA20,BC20,BE20,BG20,BI20)>0,MAX(C20,E20,G20,I20,K20,M20,O20,Q20,S20,U20,W20,Y20,AA20,AC20,AE20,AG20,AI20,AK20,AM20,AO20,AQ20,AS20,AU20,AW20,AY20,BA20,BC20,BE20,BG20,BI20),"") -> 36.356017 | BS20: =IF(SUM(B20,D20,F20,H20,J20,L20,N20,P20,R20,T20,V20,X20,Z20,AB20,AD20,AF20,AH20,AJ20,AL20,AN20,AP20,AR20,AT20,AV20,AX20,AZ20,BB20,BD20,BF20,BH20)>0,AVERAGE(B20,D20,F20,H20,J20,L20,N20,P20,R20,T20,V20,X20,Z20,AB20,AD20,AF20,AH20,AJ20,AL20,AN20,AP20,AR20,AT20,AV20,AX20,AZ20,BB20,BD20,BF20,BH20),"?") -> 18.805455 | BT20: =IF(SUM(C20,E20,G20,I20,K20,M20,O20,Q20,S20,U20,W20,Y20,AA20,AC20,AE20,AG20,AI20,AK20,AM20,AO20,AQ20,AS20,AU20,AW20,AY20,BA20,BC20,BE20,BG20,BI20)>0,AVERAGE(C20,E20,G20,I20,K20,M20,O20,Q20,S20,U20,W20,Y20,AA20,AC20,AE20,AG20,AI20,AK20,AM20,AO20,AQ20,AS20,AU20,AW20,AY20,BA20,BC20,BE20,BG20,BI20),"?") -> 30.516888 | BU20: =IF(COUNT(B20,D20,F20,H20,J20,L20,N20,P20,R20,T20,V20,X20,Z20,AB20,AD20,AF20,AH20,AJ20,AL20,AN20,AP20,AR20,AT20,AV20,AX20,AZ20,BB20,BD20,BF20,BH20)>1,STDEV(B20,D20,F20,H20,J20,L20,N20,P20,R20,T20,V20,X20,Z20,AB20,AD20,AF20,AH20,AJ20,AL20,AN20,AP20,AR20,AT20,AV20,AX20,AZ20,BB20,BD20,BF20,BH20),"?") -> 1.4959429 | BV20: =IF(COUNT(C20,E20,G20,I20,K20,M20,O20,Q20,S20,U20,W20,Y20,AA20,AC20,AE20,AG20,AI20,AK20,AM20,AO20,AQ20,AS20,AU20,AW20,AY20,BA20,BC20,BE20,BG20,BI20)>1,STDEV(C20,E20,G20,I20,K20,M20,O20,Q20,S20,U20,W20,Y20,AA20,AC20,AE20,AG20,AI20,AK20,AM20,AO20,AQ20,AS20,AU20,AW20,AY20,BA20,BC20,BE20,BG20,BI20),"?") -> 2.6026494 | BW20: =IF(COUNT(B20)>0,B20,"?") -> 18.96 | BX20: =IF(COUNT(C20)>0,C20,"?") -> 29.872381
A21: Internal spur | B21: 6.12 | C21: =IF(AND((B21>0),(B$7>0)),(B21/B$7*100),"") -> 9.6423507 | D21: 6.15 | E21: =IF(AND((D21>0),(D$7>0)),(D21/D$7*100),"") -> 9.3507678 | F21: 6.12 | G21: =IF(AND((F21>0),(F$7>0)),(F21/F$7*100),"") -> 9.432799 | H21: 6.84 | I21: =IF(AND((H21>0),(H$7>0)),(H21/H$7*100),"") -> 11.464968 | J21: 6.75 | K21: =IF(AND((J21>0),(J$7>0)),(J21/J$7*100),"") -> 11.340726 | L21: 7.04 | M21: =IF(AND((L21>0),(L$7>0)),(L21/L$7*100),"") -> 10.032778 | N21: 6.73 | O21: =IF(AND((N21>0),(N$7>0)),(N21/N$7*100),"") -> 10.867108 | P21: 5.9 | Q21: =IF(AND((P21>0),(P$7>0)),(P21/P$7*100),"") -> 9.6705458 | R21: 6.23 | S21: =IF(AND((R21>0),(R$7>0)),(R21/R$7*100),"") -> 10.255144 | T21: 6.55 | U21: =IF(AND((T21>0),(T$7>0)),(T21/T$7*100),"") -> 10.586714 | V21: 6.63 | W21: =IF(AND((V21>0),(V$7>0)),(V21/V$7*100),"") -> 9.8837209 | X21: 7.33 | Y21: =IF(AND((X21>0),(X$7>0)),(X21/X$7*100),"") -> 11.523345 | Z21: 5.56 | AA21: =IF(AND((Z21>0),(Z$7>0)),(Z21/Z$7*100),"") -> 9.688099 | AB21: 8.05 | AC21: =IF(AND((AB21>0),(AB$7>0)),(AB21/AB$7*100),"") -> 14.125285 | AD21: 6.97 | AE21: =IF(AND((AD21>0),(AD$7>0)),(AD21/AD$7*100),"") -> 10.678719 | AF21: 7.72 | AG21: =IF(AND((AF21>0),(AF$7>0)),(AF21/AF$7*100),"") -> 11.811506 | AH21: 6.72 | AI21: =IF(AND((AH21>0),(AH$7>0)),(AH21/AH$7*100),"") -> 11.422743 | AJ21: 6.07 | AK21: =IF(AND((AJ21>0),(AJ$7>0)),(AJ21/AJ$7*100),"") -> 10.494467 | AL21: 8.06 | AM21: =IF(AND((AL21>0),(AL$7>0)),(AL21/AL$7*100),"") -> 12.759221 | AN21: 5.73 | AO21: =IF(AND((AN21>0),(AN$7>0)),(AN21/AN$7*100),"") -> 10.197544 | AP21: 6.86 | AQ21: =IF(AND((AP21>0),(AP$7>0)),(AP21/AP$7*100),"") -> 11.301483 | AR21: 7.33 | AS21: =IF(AND((AR21>0),(AR$7>0)),(AR21/AR$7*100),"") -> 12.848379 | AU21: =IF(AND((AT21>0),(AT$7>0)),(AT21/AT$7*100),"") | AW21: =IF(AND((AV21>0),(AV$7>0)),(AV21/AV$7*100),"") | AY21: =IF(AND((AX21>0),(AX$7>0)),(AX21/AX$7*100),"") | BA21: =IF(AND((AZ21>0),(AZ$7>0)),(AZ21/AZ$7*100),"") | BC21: =IF(AND((BB21>0),(BB$7>0)),(BB21/BB$7*100),"") | BE21: =IF(AND((BD21>0),(BD$7>0)),(BD21/BD$7*100),"") | BG21: =IF(AND((BF21>0),(BF$7>0)),(BF21/BF$7*100),"") | BI21: =IF(AND((BH21>0),(BH$7>0)),(BH21/BH$7*100),"") | BK21: =A21 -> Internal spur | BL21: =COUNT(B21,D21,F21,H21,J21,L21,N21,P21,R21,T21,V21,X21,Z21,AB21,AD21,AF21,AH21,AJ21,AL21,AN21,AP21,AR21,AT21,AV21,AX21,AZ21,BB21,BD21,BF21,BH21) -> 22 | BM21: =IF(SUM(B21,D21,F21,H21,J21,L21,N21,P21,R21,T21,V21,X21,Z21,AB21,AD21,AF21,AH21,AJ21,AL21,AN21,AP21,AR21,AT21,AV21,AX21,AZ21,BB21,BD21,BF21,BH21)>0,MIN(B21,D21,F21,H21,J21,L21,N21,P21,R21,T21,V21,X21,Z21,AB21,AD21,AF21,AH21,AJ21,AL21,AN21,AP21,AR21,AT21,AV21,AX21,AZ21,BB21,BD21,BF21,BH21),"") -> 5.56 | BN21: =IF(COUNT(BM21)>0,"–","?") -> – | BO21: =IF(SUM(B21,D21,F21,H21,J21,L21,N21,P21,R21,T21,V21,X21,Z21,AB21,AD21,AF21,AH21,AJ21,AL21,AN21,AP21,AR21,AT21,AV21,AX21,AZ21,BB21,BD21,BF21,BH21)>0,MAX(B21,D21,F21,H21,J21,L21,N21,P21,R21,T21,V21,X21,Z21,AB21,AD21,AF21,AH21,AJ21,AL21,AN21,AP21,AR21,AT21,AV21,AX21,AZ21,BB21,BD21,BF21,BH21),"") -> 8.06 | BP21: =IF(SUM(C21,E21,G21,I21,K21,M21,O21,Q21,S21,U21,W21,Y21,AA21,AC21,AE21,AG21,AI21,AK21,AM21,AO21,AQ21,AS21,AU21,AW21,AY21,BA21,BC21,BE21,BG21,BI21)>0,MIN(C21,E21,G21,I21,K21,M21,O21,Q21,S21,U21,W21,Y21,AA21,AC21,AE21,AG21,AI21,AK21,AM21,AO21,AQ21,AS21,AU21,AW21,AY21,BA21,BC21,BE21,BG21,BI21),"") -> 9.3507678 | BQ21: =IF(COUNT(BP21)>0,"–","?") -> – | BR21: =IF(SUM(C21,E21,G21,I21,K21,M21,O21,Q21,S21,U21,W21,Y21,AA21,AC21,AE21,AG21,AI21,AK21,AM21,AO21,AQ21,AS21,AU21,AW21,AY21,BA21,BC21,BE21,BG21,BI21)>0,MAX(C21,E21,G21,I21,K21,M21,O21,Q21,S21,U21,W21,Y21,AA21,AC21,AE21,AG21,AI21,AK21,AM21,AO21,AQ21,AS21,AU21,AW21,AY21,BA21,BC21,BE21,BG21,BI21),"") -> 14.125285 | BS21: =IF(SUM(B21,D21,F21,H21,J21,L21,N21,P21,R21,T21,V21,X21,Z21,AB21,AD21,AF21,AH21,AJ21,AL21,AN21,AP21,AR21,AT21,AV21,AX21,AZ21,BB21,BD21,BF21,BH21)>0,AVERAGE(B21,D21,F21,H21,J21,L21,N21,P21,R21,T21,V21,X21,Z21,AB21,AD21,AF21,AH21,AJ21,AL21,AN21,AP21,AR21,AT21,AV21,AX21,AZ21,BB21,BD21,BF21,BH21),"?") -> 6.7027273 | BT21: =IF(SUM(C21,E21,G21,I21,K21,M21,O21,Q21,S21,U21,W21,Y21,AA21,AC21,AE21,AG21,AI21,AK21,AM21,AO21,AQ21,AS21,AU21,AW21,AY21,BA21,BC21,BE21,BG21,BI21)>0,AVERAGE(C21,E21,G21,I21,K21,M21,O21,Q21,S21,U21,W21,Y21,AA21,AC21,AE21,AG21,AI21,AK21,AM21,AO21,AQ21,AS21,AU21,AW21,AY21,BA21,BC21,BE21,BG21,BI21),"?") -> 10.880837 | BU21: =IF(COUNT(B21,D21,F21,H21,J21,L21,N21,P21,R21,T21,V21,X21,Z21,AB21,AD21,AF21,AH21,AJ21,AL21,AN21,AP21,AR21,AT21,AV21,AX21,AZ21,BB21,BD21,BF21,BH21)>1,STDEV(B21,D21,F21,H21,J21,L21,N21,P21,R21,T21,V21,X21,Z21,AB21,AD21,AF21,AH21,AJ21,AL21,AN21,AP21,AR21,AT21,AV21,AX21,AZ21,BB21,BD21,BF21,BH21),"?") -> 0.69845531 | BV21: =IF(COUNT(C21,E21,G21,I21,K21,M21,O21,Q21,S21,U21,W21,Y21,AA21,AC21,AE21,AG21,AI21,AK21,AM21,AO21,AQ21,AS21,AU21,AW21,AY21,BA21,BC21,BE21,BG21,BI21)>1,STDEV(C21,E21,G21,I21,K21,M21,O21,Q21,S21,U21,W21,Y21,AA21,AC21,AE21,AG21,AI21,AK21,AM21,AO21,AQ21,AS21,AU21,AW21,AY21,BA21,BC21,BE21,BG21,BI21),"?") -> 1.2331941 | BW21: =IF(COUNT(B21)>0,B21,"?") -> 6.12 | BX21: =IF(COUNT(C21)>0,C21,"?") -> 9.6423507
A22: Internal branches length ratio | B22: =IF(AND((B20>0),(B19>0)),(B20/B19),"") -> 0.64227642 | C22: – | D22: =IF(AND((D20>0),(D19>0)),(D20/D19),"") -> 0.637695 | E22: – | F22: =IF(AND((F20>0),(F19>0)),(F20/F19),"") -> 0.75009777 | G22: – | H22: =IF(AND((H20>0),(H19>0)),(H20/H19),"") -> 0.76051893 | I22: – | J22: =IF(AND((J20>0),(J19>0)),(J20/J19),"") -> 0.68012071 | K22: – | L22: =IF(AND((L20>0),(L19>0)),(L20/L19),"") -> 0.6431265 | M22: – | N22: =IF(AND((N20>0),(N19>0)),(N20/N19),"") -> 0.71384615 | O22: – | P22: =IF(AND((P20>0),(P19>0)),(P20/P19),"") -> 0.85092402 | Q22: – | R22: =IF(AND((R20>0),(R19>0)),(R20/R19),"") -> 0.75103734 | S22: – | T22: =IF(AND((T20>0),(T19>0)),(T20/T19),"") -> 0.65311102 | U22: – | V22: =IF(AND((V20>0),(V19>0)),(V20/V19),"") -> 0.81511915 | W22: – | X22: =IF(AND((X20>0),(X19>0)),(X20/X19),"") -> 0.74157303 | Y22: – | Z22: =IF(AND((Z20>0),(Z19>0)),(Z20/Z19),"") -> 0.73610522 | AA22: – | AB22: =IF(AND((AB20>0),(AB19>0)),(AB20/AB19),"") -> 0.77923107 | AC22: – | AD22: =IF(AND((AD20>0),(AD19>0)),(AD20/AD19),"") -> 0.8702911 | AE22: – | AF22: =IF(AND((AF20>0),(AF19>0)),(AF20/AF19),"") -> 0.76704769 | AG22: – | AH22: =IF(AND((AH20>0),(AH19>0)),(AH20/AH19),"") -> 0.82509881 | AI22: – | AJ22: =IF(AND((AJ20>0),(AJ19>0)),(AJ20/AJ19),"") -> 0.76827243 | AK22: – | AL22: =IF(AND((AL20>0),(AL19>0)),(AL20/AL19),"") -> 0.58681165 | AM22: – | AN22: =IF(AND((AN20>0),(AN19>0)),(AN20/AN19),"") -> 0.81680926 | AO22: – | AP22: =IF(AND((AP20>0),(AP19>0)),(AP20/AP19),"") -> 0.69887466 | AQ22: – | AR22: =IF(AND((AR20>0),(AR19>0)),(AR20/AR19),"") -> 0.80578859 | AS22: – | AT22: =IF(AND((AT20>0),(AT19>0)),(AT20/AT19),"") | AU22: – | AV22: =IF(AND((AV20>0),(AV19>0)),(AV20/AV19),"") | AW22: – | AX22: =IF(AND((AX20>0),(AX19>0)),(AX20/AX19),"") | AY22: – | AZ22: =IF(AND((AZ20>0),(AZ19>0)),(AZ20/AZ19),"") | BA22: – | BB22: =IF(AND((BB20>0),(BB19>0)),(BB20/BB19),"") | BC22: – | BD22: =IF(AND((BD20>0),(BD19>0)),(BD20/BD19),"") | BE22: – | BF22: =IF(AND((BF20>0),(BF19>0)),(BF20/BF19),"") | BG22: – | BH22: =IF(AND((BH20>0),(BH19>0)),(BH20/BH19),"") | BI22: – | BK22: =A22 -> Internal branches length ratio | BL22: =COUNT(B22,D22,F22,H22,J22,L22,N22,P22,R22,T22,V22,X22,Z22,AB22,AD22,AF22,AH22,AJ22,AL22,AN22,AP22,AR22,AT22,AV22,AX22,AZ22,BB22,BD22,BF22,BH22) -> 22 | BM22: =IF(SUM(B22,D22,F22,H22,J22,L22,N22,P22,R22,T22,V22,X22,Z22,AB22,AD22,AF22,AH22,AJ22,AL22,AN22,AP22,AR22,AT22,AV22,AX22,AZ22,BB22,BD22,BF22,BH22)>0,MIN(B22,D22,F22,H22,J22,L22,N22,P22,R22,T22,V22,X22,Z22,AB22,AD22,AF22,AH22,AJ22,AL22,AN22,AP22,AR22,AT22,AV22,AX22,AZ22,BB22,BD22,BF22,BH22),"") -> 0.58681165 | BN22: =IF(COUNT(BM22)>0,"–","?") -> – | BO22: =IF(SUM(B22,D22,F22,H22,J22,L22,N22,P22,R22,T22,V22,X22,Z22,AB22,AD22,AF22,AH22,AJ22,AL22,AN22,AP22,AR22,AT22,AV22,AX22,AZ22,BB22,BD22,BF22,BH22)>0,MAX(B22,D22,F22,H22,J22,L22,N22,P22,R22,T22,V22,X22,Z22,AB22,AD22,AF22,AH22,AJ22,AL22,AN22,AP22,AR22,AT22,AV22,AX22,AZ22,BB22,BD22,BF22,BH22),"") -> 0.8702911 | BP22: =IF(SUM(C22,E22,G22,I22,K22,M22,O22,Q22,S22,U22,W22,Y22,AA22,AC22,AE22,AG22,AI22,AK22,AM22,AO22,AQ22,AS22,AU22,AW22,AY22,BA22,BC22,BE22,BG22,BI22)>0,MIN(C22,E22,G22,I22,K22,M22,O22,Q22,S22,U22,W22,Y22,AA22,AC22,AE22,AG22,AI22,AK22,AM22,AO22,AQ22,AS22,AU22,AW22,AY22,BA22,BC22,BE22,BG22,BI22),"") | BQ22: – | BR22: =IF(SUM(C22,E22,G22,I22,K22,M22,O22,Q22,S22,U22,W22,Y22,AA22,AC22,AE22,AG22,AI22,AK22,AM22,AO22,AQ22,AS22,AU22,AW22,AY22,BA22,BC22,BE22,BG22,BI22)>0,MAX(C22,E22,G22,I22,K22,M22,O22,Q22,S22,U22,W22,Y22,AA22,AC22,AE22,AG22,AI22,AK22,AM22,AO22,AQ22,AS22,AU22,AW22,AY22,BA22,BC22,BE22,BG22,BI22),"") | BS22: =IF(SUM(B22,D22,F22,H22,J22,L22,N22,P22,R22,T22,V22,X22,Z22,AB22,AD22,AF22,AH22,AJ22,AL22,AN22,AP22,AR22,AT22,AV22,AX22,AZ22,BB22,BD22,BF22,BH22)>0,AVERAGE(B22,D22,F22,H22,J22,L22,N22,P22,R22,T22,V22,X22,Z22,AB22,AD22,AF22,AH22,AJ22,AL22,AN22,AP22,AR22,AT22,AV22,AX22,AZ22,BB22,BD22,BF22,BH22),"?") -> 0.74062621 | BT22: – | BU22: =IF(COUNT(B22,D22,F22,H22,J22,L22,N22,P22,R22,T22,V22,X22,Z22,AB22,AD22,AF22,AH22,AJ22,AL22,AN22,AP22,AR22,AT22,AV22,AX22,AZ22,BB22,BD22,BF22,BH22)>1,STDEV(B22,D22,F22,H22,J22,L22,N22,P22,R22,T22,V22,X22,Z22,AB22,AD22,AF22,AH22,AJ22,AL22,AN22,AP22,AR22,AT22,AV22,AX22,AZ22,BB22,BD22,BF22,BH22),"?") -> 0.076374428 | BV22: – | BW22: =IF(COUNT(B22)>0,B22,"?") -> 0.64227642 | BX22: –
A23: Claw 2 lengths | BK23: =A23 -> Claw 2 lengths
A24: External primary branch | B24: 31.01 | C24: =IF(AND((B24>0),(B$7>0)),(B24/B$7*100),"") -> 48.857728 | D24: 28.26 | E24: =IF(AND((D24>0),(D$7>0)),(D24/D$7*100),"") -> 42.967919 | F24: 28.19 | G24: =IF(AND((F24>0),(F$7>0)),(F24/F$7*100),"") -> 43.449445 | H24: 30.98 | I24: =IF(AND((H24>0),(H$7>0)),(H24/H$7*100),"") -> 51.92759 | J24: 28.83 | K24: =IF(AND((J24>0),(J$7>0)),(J24/J$7*100),"") -> 48.4375 | L24: 29.68 | M24: =IF(AND((L24>0),(L$7>0)),(L24/L$7*100),"") -> 42.297278 | N24: 27.32 | O24: =IF(AND((N24>0),(N$7>0)),(N24/N$7*100),"") -> 44.114323 | P24: 27.79 | Q24: =IF(AND((P24>0),(P$7>0)),(P24/P$7*100),"") -> 45.54991 | R24: 28.7 | S24: =IF(AND((R24>0),(R$7>0)),(R24/R$7*100),"") -> 47.242798 | T24: 26.94 | U24: =IF(AND((T24>0),(T$7>0)),(T24/T$7*100),"") -> 43.542913 | V24: 28.74 | W24: =IF(AND((V24>0),(V$7>0)),(V24/V$7*100),"") -> 42.844365 | X24: 28.8 | Y24: =IF(AND((X24>0),(X$7>0)),(X24/X$7*100),"") -> 45.2759 | Z24: 26.91 | AA24: =IF(AND((Z24>0),(Z$7>0)),(Z24/Z$7*100),"") -> 46.889702 | AB24: 28.89 | AC24: =IF(AND((AB24>0),(AB$7>0)),(AB24/AB$7*100),"") -> 50.693104 | AD24: 29.07 | AE24: =IF(AND((AD24>0),(AD$7>0)),(AD24/AD$7*100),"") -> 44.538073 | AF24: 29.95 | AG24: =IF(AND((AF24>0),(AF$7>0)),(AF24/AF$7*100),"") -> 45.823133 | AH24: 24.91 | AI24: =IF(AND((AH24>0),(AH$7>0)),(AH24/AH$7*100),"") -> 42.342342 | AJ24: 23.84 | AK24: =IF(AND((AJ24>0),(AJ$7>0)),(AJ24/AJ$7*100),"") -> 41.217151 | AL24: 30.27 | AM24: =IF(AND((AL24>0),(AL$7>0)),(AL24/AL$7*100),"") -> 47.918316 | AN24: 22.44 | AO24: =IF(AND((AN24>0),(AN$7>0)),(AN24/AN$7*100),"") -> 39.935932 | AP24: 27.24 | AQ24: =IF(AND((AP24>0),(AP$7>0)),(AP24/AP$7*100),"") -> 44.876442 | AR24: 24.64 | AS24: =IF(AND((AR24>0),(AR$7>0)),(AR24/AR$7*100),"") -> 43.190184 | AU24: =IF(AND((AT24>0),(AT$7>0)),(AT24/AT$7*100),"") | AW24: =IF(AND((AV24>0),(AV$7>0)),(AV24/AV$7*100),"") | AY24: =IF(AND((AX24>0),(AX$7>0)),(AX24/AX$7*100),"") | BA24: =IF(AND((AZ24>0),(AZ$7>0)),(AZ24/AZ$7*100),"") | BC24: =IF(AND((BB24>0),(BB$7>0)),(BB24/BB$7*100),"") | BE24: =IF(AND((BD24>0),(BD$7>0)),(BD24/BD$7*100),"") | BG24: =IF(AND((BF24>0),(BF$7>0)),(BF24/BF$7*100),"") | BI24: =IF(AND((BH24>0),(BH$7>0)),(BH24/BH$7*100),"") | BK24: =A24 -> External primary branch | BL24: =COUNT(B24,D24,F24,H24,J24,L24,N24,P24,R24,T24,V24,X24,Z24,AB24,AD24,AF24,AH24,AJ24,AL24,AN24,AP24,AR24,AT24,AV24,AX24,AZ24,BB24,BD24,BF24,BH24) -> 22 | BM24: =IF(SUM(B24,D24,F24,H24,J24,L24,N24,P24,R24,T24,V24,X24,Z24,AB24,AD24,AF24,AH24,AJ24,AL24,AN24,AP24,AR24,AT24,AV24,AX24,AZ24,BB24,BD24,BF24,BH24)>0,MIN(B24,D24,F24,H24,J24,L24,N24,P24,R24,T24,V24,X24,Z24,AB24,AD24,AF24,AH24,AJ24,AL24,AN24,AP24,AR24,AT24,AV24,AX24,AZ24,BB24,BD24,BF24,BH24),"") -> 22.44 | BN24: =IF(COUNT(BM24)>0,"–","?") -> – | BO24: =IF(SUM(B24,D24,F24,H24,J24,L24,N24,P24,R24,T24,V24,X24,Z24,AB24,AD24,AF24,AH24,AJ24,AL24,AN24,AP24,AR24,AT24,AV24,AX24,AZ24,BB24,BD24,BF24,BH24)>0,MAX(B24,D24,F24,H24,J24,L24,N24,P24,R24,T24,V24,X24,Z24,AB24,AD24,AF24,AH24,AJ24,AL24,AN24,AP24,AR24,AT24,AV24,AX24,AZ24,BB24,BD24,BF24,BH24),"") -> 31.01 | BP24: =IF(SUM(C24,E24,G24,I24,K24,M24,O24,Q24,S24,U24,W24,Y24,AA24,AC24,AE24,AG24,AI24,AK24,AM24,AO24,AQ24,AS24,AU24,AW24,AY24,BA24,BC24,BE24,BG24,BI24)>0,MIN(C24,E24,G24,I24,K24,M24,O24,Q24,S24,U24,W24,Y24,AA24,AC24,AE24,AG24,AI24,AK24,AM24,AO24,AQ24,AS24,AU24,AW24,AY24,BA24,BC24,BE24,BG24,BI24),"") -> 39.935932 | BQ24: =IF(COUNT(BP24)>0,"–","?") -> – | BR24: =IF(SUM(C24,E24,G24,I24,K24,M24,O24,Q24,S24,U24,W24,Y24,AA24,AC24,AE24,AG24,AI24,AK24,AM24,AO24,AQ24,AS24,AU24,AW24,AY24,BA24,BC24,BE24,BG24,BI24)>0,MAX(C24,E24,G24,I24,K24,M24,O24,Q24,S24,U24,W24,Y24,AA24,AC24,AE24,AG24,AI24,AK24,AM24,AO24,AQ24,AS24,AU24,AW24,AY24,BA24,BC24,BE24,BG24,BI24),"") -> 51.92759 | BS24: =IF(SUM(B24,D24,F24,H24,J24,L24,N24,P24,R24,T24,V24,X24,Z24,AB24,AD24,AF24,AH24,AJ24,AL24,AN24,AP24,AR24,AT24,AV24,AX24,AZ24,BB24,BD24,BF24,BH24)>0,AVERAGE(B24,D24,F24,H24,J24,L24,N24,P24,R24,T24,V24,X24,Z24,AB24,AD24,AF24,AH24,AJ24,AL24,AN24,AP24,AR24,AT24,AV24,AX24,AZ24,BB24,BD24,BF24,BH24),"?") -> 27.881818 | BT24: =IF(SUM(C24,E24,G24,I24,K24,M24,O24,Q24,S24,U24,W24,Y24,AA24,AC24,AE24,AG24,AI24,AK24,AM24,AO24,AQ24,AS24,AU24,AW24,AY24,BA24,BC24,BE24,BG24,BI24)>0,AVERAGE(C24,E24,G24,I24,K24,M24,O24,Q24,S24,U24,W24,Y24,AA24,AC24,AE24,AG24,AI24,AK24,AM24,AO24,AQ24,AS24,AU24,AW24,AY24,BA24,BC24,BE24,BG24,BI24),"?") -> 45.178729 | BU24: =IF(COUNT(B24,D24,F24,H24,J24,L24,N24,P24,R24,T24,V24,X24,Z24,AB24,AD24,AF24,AH24,AJ24,AL24,AN24,AP24,AR24,AT24,AV24,AX24,AZ24,BB24,BD24,BF24,BH24)>1,STDEV(B24,D24,F24,H24,J24,L24,N24,P24,R24,T24,V24,X24,Z24,AB24,AD24,AF24,AH24,AJ24,AL24,AN24,AP24,AR24,AT24,AV24,AX24,AZ24,BB24,BD24,BF24,BH24),"?") -> 2.24956 | BV24: =IF(COUNT(C24,E24,G24,I24,K24,M24,O24,Q24,S24,U24,W24,Y24,AA24,AC24,AE24,AG24,AI24,AK24,AM24,AO24,AQ24,AS24,AU24,AW24,AY24,BA24,BC24,BE24,BG24,BI24)>1,STDEV(C24,E24,G24,I24,K24,M24,O24,Q24,S24,U24,W24,Y24,AA24,AC24,AE24,AG24,AI24,AK24,AM24,AO24,AQ24,AS24,AU24,AW24,AY24,BA24,BC24,BE24,BG24,BI24),"?") -> 3.0588429 | BW24: =IF(COUNT(B24)>0,B24,"?") -> 31.01 | BX24: =IF(COUNT(C24)>0,C24,"?") -> 48.857728
A25: External base + secondary branch | B25: 23.05 | C25: =IF(AND((B25>0),(B$7>0)),(B25/B$7*100),"") -> 36.31637 | D25: 23.29 | E25: =IF(AND((D25>0),(D$7>0)),(D25/D$7*100),"") -> 35.411282 | F25: 22.21 | G25: =IF(AND((F25>0),(F$7>0)),(F25/F$7*100),"") -> 34.232429 | H25: 23.61 | I25: =IF(AND((H25>0),(H$7>0)),(H25/H$7*100),"") -> 39.574254 | J25: 23.11 | K25: =IF(AND((J25>0),(J$7>0)),(J25/J$7*100),"") -> 38.827285 | L25: 21.95 | M25: =IF(AND((L25>0),(L$7>0)),(L25/L$7*100),"") -> 31.281174 | N25: 18.46 | O25: =IF(AND((N25>0),(N$7>0)),(N25/N$7*100),"") -> 29.807848 | P25: 21.05 | Q25: =IF(AND((P25>0),(P$7>0)),(P25/P$7*100),"") -> 34.502541 | R25: 19.74 | S25: =IF(AND((R25>0),(R$7>0)),(R25/R$7*100),"") -> 32.493827 | T25: 21.68 | U25: =IF(AND((T25>0),(T$7>0)),(T25/T$7*100),"") -> 35.041215 | V25: 21.6 | W25: =IF(AND((V25>0),(V$7>0)),(V25/V$7*100),"") -> 32.200358 | X25: 23.11 | Y25: =IF(AND((X25>0),(X$7>0)),(X25/X$7*100),"") -> 36.330766 | Z25: 18.76 | AA25: =IF(AND((Z25>0),(Z$7>0)),(Z25/Z$7*100),"") -> 32.688622 | AB25: 19.92 | AC25: =IF(AND((AB25>0),(AB$7>0)),(AB25/AB$7*100),"") -> 34.953501 | AD25: 17.4 | AE25: =IF(AND((AD25>0),(AD$7>0)),(AD25/AD$7*100),"") -> 26.658495 | AF25: 22.24 | AG25: =IF(AND((AF25>0),(AF$7>0)),(AF25/AF$7*100),"") -> 34.026928 | AH25: 19.76 | AI25: =IF(AND((AH25>0),(AH$7>0)),(AH25/AH$7*100),"") -> 33.588305 | AJ25: 15.94 | AK25: =IF(AND((AJ25>0),(AJ$7>0)),(AJ25/AJ$7*100),"") -> 27.558783 | AL25: 20.91 | AM25: =IF(AND((AL25>0),(AL$7>0)),(AL25/AL$7*100),"") -> 33.101156 | AN25: 17.59 | AO25: =IF(AND((AN25>0),(AN$7>0)),(AN25/AN$7*100),"") -> 31.304503 | AP25: 18.61 | AQ25: =IF(AND((AP25>0),(AP$7>0)),(AP25/AP$7*100),"") -> 30.658979 | AR25: 16.38 | AS25: =IF(AND((AR25>0),(AR$7>0)),(AR25/AR$7*100),"") -> 28.711656 | AU25: =IF(AND((AT25>0),(AT$7>0)),(AT25/AT$7*100),"") | AW25: =IF(AND((AV25>0),(AV$7>0)),(AV25/AV$7*100),"") | AY25: =IF(AND((AX25>0),(AX$7>0)),(AX25/AX$7*100),"") | BA25: =IF(AND((AZ25>0),(AZ$7>0)),(AZ25/AZ$7*100),"") | BC25: =IF(AND((BB25>0),(BB$7>0)),(BB25/BB$7*100),"") | BE25: =IF(AND((BD25>0),(BD$7>0)),(BD25/BD$7*100),"") | BG25: =IF(AND((BF25>0),(BF$7>0)),(BF25/BF$7*100),"") | BI25: =IF(AND((BH25>0),(BH$7>0)),(BH25/BH$7*100),"") | BK25: =A25 -> External base + secondary branch | BL25: =COUNT(B25,D25,F25,H25,J25,L25,N25,P25,R25,T25,V25,X25,Z25,AB25,AD25,AF25,AH25,AJ25,AL25,AN25,AP25,AR25,AT25,AV25,AX25,AZ25,BB25,BD25,BF25,BH25) -> 22 | BM25: =IF(SUM(B25,D25,F25,H25,J25,L25,N25,P25,R25,T25,V25,X25,Z25,AB25,AD25,AF25,AH25,AJ25,AL25,AN25,AP25,AR25,AT25,AV25,AX25,AZ25,BB25,BD25,BF25,BH25)>0,MIN(B25,D25,F25,H25,J25,L25,N25,P25,R25,T25,V25,X25,Z25,AB25,AD25,AF25,AH25,AJ25,AL25,AN25,AP25,AR25,AT25,AV25,AX25,AZ25,BB25,BD25,BF25,BH25),"") -> 15.94 | BN25: =IF(COUNT(BM25)>0,"–","?") -> – | BO25: =IF(SUM(B25,D25,F25,H25,J25,L25,N25,P25,R25,T25,V25,X25,Z25,AB25,AD25,AF25,AH25,AJ25,AL25,AN25,AP25,AR25,AT25,AV25,AX25,AZ25,BB25,BD25,BF25,BH25)>0,MAX(B25,D25,F25,H25,J25,L25,N25,P25,R25,T25,V25,X25,Z25,AB25,AD25,AF25,AH25,AJ25,AL25,AN25,AP25,AR25,AT25,AV25,AX25,AZ25,BB25,BD25,BF25,BH25),"") -> 23.61 | BP25: =IF(SUM(C25,E25,G25,I25,K25,M25,O25,Q25,S25,U25,W25,Y25,AA25,AC25,AE25,AG25,AI25,AK25,AM25,AO25,AQ25,AS25,AU25,AW25,AY25,BA25,BC25,BE25,BG25,BI25)>0,MIN(C25,E25,G25,I25,K25,M25,O25,Q25,S25,U25,W25,Y25,AA25,AC25,AE25,AG25,AI25,AK25,AM25,AO25,AQ25,AS25,AU25,AW25,AY25,BA25,BC25,BE25,BG25,BI25),"") -> 26.658495 | BQ25: =IF(COUNT(BP25)>0,"–","?") -> – | BR25: =IF(SUM(C25,E25,G25,I25,K25,M25,O25,Q25,S25,U25,W25,Y25,AA25,AC25,AE25,AG25,AI25,AK25,AM25,AO25,AQ25,AS25,AU25,AW25,AY25,BA25,BC25,BE25,BG25,BI25)>0,MAX(C25,E25,G25,I25,K25,M25,O25,Q25,S25,U25,W25,Y25,AA25,AC25,AE25,AG25,AI25,AK25,AM25,AO25,AQ25,AS25,AU25,AW25,AY25,BA25,BC25,BE25,BG25,BI25),"") -> 39.574254 | BS25: =IF(SUM(B25,D25,F25,H25,J25,L25,N25,P25,R25,T25,V25,X25,Z25,AB25,AD25,AF25,AH25,AJ25,AL25,AN25,AP25,AR25,AT25,AV25,AX25,AZ25,BB25,BD25,BF25,BH25)>0,AVERAGE(B25,D25,F25,H25,J25,L25,N25,P25,R25,T25,V25,X25,Z25,AB25,AD25,AF25,AH25,AJ25,AL25,AN25,AP25,AR25,AT25,AV25,AX25,AZ25,BB25,BD25,BF25,BH25),"?") -> 20.471364 | BT25: =IF(SUM(C25,E25,G25,I25,K25,M25,O25,Q25,S25,U25,W25,Y25,AA25,AC25,AE25,AG25,AI25,AK25,AM25,AO25,AQ25,AS25,AU25,AW25,AY25,BA25,BC25,BE25,BG25,BI25)>0,AVERAGE(C25,E25,G25,I25,K25,M25,O25,Q25,S25,U25,W25,Y25,AA25,AC25,AE25,AG25,AI25,AK25,AM25,AO25,AQ25,AS25,AU25,AW25,AY25,BA25,BC25,BE25,BG25,BI25),"?") -> 33.148649 | BU25: =IF(COUNT(B25,D25,F25,H25,J25,L25,N25,P25,R25,T25,V25,X25,Z25,AB25,AD25,AF25,AH25,AJ25,AL25,AN25,AP25,AR25,AT25,AV25,AX25,AZ25,BB25,BD25,BF25,BH25)>1,STDEV(B25,D25,F25,H25,J25,L25,N25,P25,R25,T25,V25,X25,Z25,AB25,AD25,AF25,AH25,AJ25,AL25,AN25,AP25,AR25,AT25,AV25,AX25,AZ25,BB25,BD25,BF25,BH25),"?") -> 2.3579759 | BV25: =IF(COUNT(C25,E25,G25,I25,K25,M25,O25,Q25,S25,U25,W25,Y25,AA25,AC25,AE25,AG25,AI25,AK25,AM25,AO25,AQ25,AS25,AU25,AW25,AY25,BA25,BC25,BE25,BG25,BI25)>1,STDEV(C25,E25,G25,I25,K25,M25,O25,Q25,S25,U25,W25,Y25,AA25,AC25,AE25,AG25,AI25,AK25,AM25,AO25,AQ25,AS25,AU25,AW25,AY25,BA25,BC25,BE25,BG25,BI25),"?") -> 3.2984266 | BW25: =IF(COUNT(B25)>0,B25,"?") -> 23.05 | BX25: =IF(COUNT(C25)>0,C25,"?") -> 36.31637
A26: External spur | B26: 7.29 | C26: =IF(AND((B26>0),(B$7>0)),(B26/B$7*100),"") -> 11.485741 | D26: 7.78 | E26: =IF(AND((D26>0),(D$7>0)),(D26/D$7*100),"") -> 11.829101 | F26: 9.19 | G26: =IF(AND((F26>0),(F$7>0)),(F26/F$7*100),"") -> 14.164612 | H26: 6.26 | I26: =IF(AND((H26>0),(H$7>0)),(H26/H$7*100),"") -> 10.492792 | J26: 7.04 | K26: =IF(AND((J26>0),(J$7>0)),(J26/J$7*100),"") -> 11.827957 | L26: 7.04 | M26: =IF(AND((L26>0),(L$7>0)),(L26/L$7*100),"") -> 10.032778 | N26: 8.48 | O26: =IF(AND((N26>0),(N$7>0)),(N26/N$7*100),"") -> 13.692879 | P26: 8.06 | Q26: =IF(AND((P26>0),(P$7>0)),(P26/P$7*100),"") -> 13.210949 | R26: 5.33 | S26: =IF(AND((R26>0),(R$7>0)),(R26/R$7*100),"") -> 8.7736626 | T26: 4.77 | U26: =IF(AND((T26>0),(T$7>0)),(T26/T$7*100),"") -> 7.7097139 | V26: 7.01 | W26: =IF(AND((V26>0),(V$7>0)),(V26/V$7*100),"") -> 10.450209 | X26: 7.67 | Y26: =IF(AND((X26>0),(X$7>0)),(X26/X$7*100),"") -> 12.057853 | Z26: 6.97 | AA26: =IF(AND((Z26>0),(Z$7>0)),(Z26/Z$7*100),"") -> 12.144973 | AB26: 6.75 | AC26: =IF(AND((AB26>0),(AB$7>0)),(AB26/AB$7*100),"") -> 11.844183 | AD26: 7.83 | AE26: =IF(AND((AD26>0),(AD$7>0)),(AD26/AD$7*100),"") -> 11.996323 | AF26: 7.41 | AG26: =IF(AND((AF26>0),(AF$7>0)),(AF26/AF$7*100),"") -> 11.337209 | AH26: 7.67 | AI26: =IF(AND((AH26>0),(AH$7>0)),(AH26/AH$7*100),"") -> 13.037566 | AJ26: 5.56 | AK26: =IF(AND((AJ26>0),(AJ$7>0)),(AJ26/AJ$7*100),"") -> 9.6127248 | AL26: 7.91 | AM26: =IF(AND((AL26>0),(AL$7>0)),(AL26/AL$7*100),"") -> 12.521767 | AN26: 5.13 | AO26: =IF(AND((AN26>0),(AN$7>0)),(AN26/AN$7*100),"") -> 9.1297384 | AP26: 6.65 | AQ26: =IF(AND((AP26>0),(AP$7>0)),(AP26/AP$7*100),"") -> 10.955519 | AR26: 7.07 | AS26: =IF(AND((AR26>0),(AR$7>0)),(AR26/AR$7*100),"") -> 12.392638 | AU26: =IF(AND((AT26>0),(AT$7>0)),(AT26/AT$7*100),"") | AW26: =IF(AND((AV26>0),(AV$7>0)),(AV26/AV$7*100),"") | AY26: =IF(AND((AX26>0),(AX$7>0)),(AX26/AX$7*100),"") | BA26: =IF(AND((AZ26>0),(AZ$7>0)),(AZ26/AZ$7*100),"") | BC26: =IF(AND((BB26>0),(BB$7>0)),(BB26/BB$7*100),"") | BE26: =IF(AND((BD26>0),(BD$7>0)),(BD26/BD$7*100),"") | BG26: =IF(AND((BF26>0),(BF$7>0)),(BF26/BF$7*100),"") | BI26: =IF(AND((BH26>0),(BH$7>0)),(BH26/BH$7*100),"") | BK26: =A26 -> External spur | BL26: =COUNT(B26,D26,F26,H26,J26,L26,N26,P26,R26,T26,V26,X26,Z26,AB26,AD26,AF26,AH26,AJ26,AL26,AN26,AP26,AR26,AT26,AV26,AX26,AZ26,BB26,BD26,BF26,BH26) -> 22 | BM26: =IF(SUM(B26,D26,F26,H26,J26,L26,N26,P26,R26,T26,V26,X26,Z26,AB26,AD26,AF26,AH26,AJ26,AL26,AN26,AP26,AR26,AT26,AV26,AX26,AZ26,BB26,BD26,BF26,BH26)>0,MIN(B26,D26,F26,H26,J26,L26,N26,P26,R26,T26,V26,X26,Z26,AB26,AD26,AF26,AH26,AJ26,AL26,AN26,AP26,AR26,AT26,AV26,AX26,AZ26,BB26,BD26,BF26,BH26),"") -> 4.77 | BN26: =IF(COUNT(BM26)>0,"–","?") -> – | BO26: =IF(SUM(B26,D26,F26,H26,J26,L26,N26,P26,R26,T26,V26,X26,Z26,AB26,AD26,AF26,AH26,AJ26,AL26,AN26,AP26,AR26,AT26,AV26,AX26,AZ26,BB26,BD26,BF26,BH26)>0,MAX(B26,D26,F26,H26,J26,L26,N26,P26,R26,T26,V26,X26,Z26,AB26,AD26,AF26,AH26,AJ26,AL26,AN26,AP26,AR26,AT26,AV26,AX26,AZ26,BB26,BD26,BF26,BH26),"") -> 9.19 | BP26: =IF(SUM(C26,E26,G26,I26,K26,M26,O26,Q26,S26,U26,W26,Y26,AA26,AC26,AE26,AG26,AI26,AK26,AM26,AO26,AQ26,AS26,AU26,AW26,AY26,BA26,BC26,BE26,BG26,BI26)>0,MIN(C26,E26,G26,I26,K26,M26,O26,Q26,S26,U26,W26,Y26,AA26,AC26,AE26,AG26,AI26,AK26,AM26,AO26,AQ26,AS26,AU26,AW26,AY26,BA26,BC26,BE26,BG26,BI26),"") -> 7.7097139 | BQ26: =IF(COUNT(BP26)>0,"–","?") -> – | BR26: =IF(SUM(C26,E26,G26,I26,K26,M26,O26,Q26,S26,U26,W26,Y26,AA26,AC26,AE26,AG26,AI26,AK26,AM26,AO26,AQ26,AS26,AU26,AW26,AY26,BA26,BC26,BE26,BG26,BI26)>0,MAX(C26,E26,G26,I26,K26,M26,O26,Q26,S26,U26,W26,Y26,AA26,AC26,AE26,AG26,AI26,AK26,AM26,AO26,AQ26,AS26,AU26,AW26,AY26,BA26,BC26,BE26,BG26,BI26),"") -> 14.164612 | BS26: =IF(SUM(B26,D26,F26,H26,J26,L26,N26,P26,R26,T26,V26,X26,Z26,AB26,AD26,AF26,AH26,AJ26,AL26,AN26,AP26,AR26,AT26,AV26,AX26,AZ26,BB26,BD26,BF26,BH26)>0,AVERAGE(B26,D26,F26,H26,J26,L26,N26,P26,R26,T26,V26,X26,Z26,AB26,AD26,AF26,AH26,AJ26,AL26,AN26,AP26,AR26,AT26,AV26,AX26,AZ26,BB26,BD26,BF26,BH26),"?") -> 7.0395455 | BT26: =IF(SUM(C26,E26,G26,I26,K26,M26,O26,Q26,S26,U26,W26,Y26,AA26,AC26,AE26,AG26,AI26,AK26,AM26,AO26,AQ26,AS26,AU26,AW26,AY26,BA26,BC26,BE26,BG26,BI26)>0,AVERAGE(C26,E26,G26,I26,K26,M26,O26,Q26,S26,U26,W26,Y26,AA26,AC26,AE26,AG26,AI26,AK26,AM26,AO26,AQ26,AS26,AU26,AW26,AY26,BA26,BC26,BE26,BG26,BI26),"?") -> 11.395495 | BU26: =IF(COUNT(B26,D26,F26,H26,J26,L26,N26,P26,R26,T26,V26,X26,Z26,AB26,AD26,AF26,AH26,AJ26,AL26,AN26,AP26,AR26,AT26,AV26,AX26,AZ26,BB26,BD26,BF26,BH26)>1,STDEV(B26,D26,F26,H26,J26,L26,N26,P26,R26,T26,V26,X26,Z26,AB26,AD26,AF26,AH26,AJ26,AL26,AN26,AP26,AR26,AT26,AV26,AX26,AZ26,BB26,BD26,BF26,BH26),"?") -> 1.1003267 | BV26: =IF(COUNT(C26,E26,G26,I26,K26,M26,O26,Q26,S26,U26,W26,Y26,AA26,AC26,AE26,AG26,AI26,AK26,AM26,AO26,AQ26,AS26,AU26,AW26,AY26,BA26,BC26,BE26,BG26,BI26)>1,STDEV(C26,E26,G26,I26,K26,M26,O26,Q26,S26,U26,W26,Y26,AA26,AC26,AE26,AG26,AI26,AK26,AM26,AO26,AQ26,AS26,AU26,AW26,AY26,BA26,BC26,BE26,BG26,BI26),"?") -> 1.628325 | BW26: =IF(COUNT(B26)>0,B26,"?") -> 7.29 | BX26: =IF(COUNT(C26)>0,C26,"?") -> 11.485741
A27: External branches length ratio | B27: =IF(AND((B25>0),(B24>0)),(B25/B24),"") -> 0.74330861 | C27: – | D27: =IF(AND((D25>0),(D24>0)),(D25/D24),"") -> 0.82413305 | E27: – | F27: =IF(AND((F25>0),(F24>0)),(F25/F24),"") -> 0.78786804 | G27: – | H27: =IF(AND((H25>0),(H24>0)),(H25/H24),"") -> 0.76210458 | I27: – | J27: =IF(AND((J25>0),(J24>0)),(J25/J24),"") -> 0.80159556 | K27: – | L27: =IF(AND((L25>0),(L24>0)),(L25/L24),"") -> 0.73955526 | M27: – | N27: =IF(AND((N25>0),(N24>0)),(N25/N24),"") -> 0.67569546 | O27: – | P27: =IF(AND((P25>0),(P24>0)),(P25/P24),"") -> 0.75746671 | Q27: – | R27: =IF(AND((R25>0),(R24>0)),(R25/R24),"") -> 0.68780488 | S27: – | T27: =IF(AND((T25>0),(T24>0)),(T25/T24),"") -> 0.8047513 | U27: – | V27: =IF(AND((V25>0),(V24>0)),(V25/V24),"") -> 0.75156576 | W27: – | X27: =IF(AND((X25>0),(X24>0)),(X25/X24),"") -> 0.80243056 | Y27: – | Z27: =IF(AND((Z25>0),(Z24>0)),(Z25/Z24),"") -> 0.69713861 | AA27: – | AB27: =IF(AND((AB25>0),(AB24>0)),(AB25/AB24),"") -> 0.68951194 | AC27: – | AD27: =IF(AND((AD25>0),(AD24>0)),(AD25/AD24),"") -> 0.59855521 | AE27: – | AF27: =IF(AND((AF25>0),(AF24>0)),(AF25/AF24),"") -> 0.74257095 | AG27: – | AH27: =IF(AND((AH25>0),(AH24>0)),(AH25/AH24),"") -> 0.79325572 | AI27: – | AJ27: =IF(AND((AJ25>0),(AJ24>0)),(AJ25/AJ24),"") -> 0.66862416 | AK27: – | AL27: =IF(AND((AL25>0),(AL24>0)),(AL25/AL24),"") -> 0.69078295 | AM27: – | AN27: =IF(AND((AN25>0),(AN24>0)),(AN25/AN24),"") -> 0.78386809 | AO27: – | AP27: =IF(AND((AP25>0),(AP24>0)),(AP25/AP24),"") -> 0.68318649 | AQ27: – | AR27: =IF(AND((AR25>0),(AR24>0)),(AR25/AR24),"") -> 0.66477273 | AS27: – | AT27: =IF(AND((AT25>0),(AT24>0)),(AT25/AT24),"") | AU27: – | AV27: =IF(AND((AV25>0),(AV24>0)),(AV25/AV24),"") | AW27: – | AX27: =IF(AND((AX25>0),(AX24>0)),(AX25/AX24),"") | AY27: – | AZ27: =IF(AND((AZ25>0),(AZ24>0)),(AZ25/AZ24),"") | BA27: – | BB27: =IF(AND((BB25>0),(BB24>0)),(BB25/BB24),"") | BC27: – | BD27: =IF(AND((BD25>0),(BD24>0)),(BD25/BD24),"") | BE27: – | BF27: =IF(AND((BF25>0),(BF24>0)),(BF25/BF24),"") | BG27: – | BH27: =IF(AND((BH25>0),(BH24>0)),(BH25/BH24),"") | BI27: – | BK27: =A27 -> External branches length ratio | BL27: =COUNT(B27,D27,F27,H27,J27,L27,N27,P27,R27,T27,V27,X27,Z27,AB27,AD27,AF27,AH27,AJ27,AL27,AN27,AP27,AR27,AT27,AV27,AX27,AZ27,BB27,BD27,BF27,BH27) -> 22 | BM27: =IF(SUM(B27,D27,F27,H27,J27,L27,N27,P27,R27,T27,V27,X27,Z27,AB27,AD27,AF27,AH27,AJ27,AL27,AN27,AP27,AR27,AT27,AV27,AX27,AZ27,BB27,BD27,BF27,BH27)>0,MIN(B27,D27,F27,H27,J27,L27,N27,P27,R27,T27,V27,X27,Z27,AB27,AD27,AF27,AH27,AJ27,AL27,AN27,AP27,AR27,AT27,AV27,AX27,AZ27,BB27,BD27,BF27,BH27),"") -> 0.59855521 | BN27: =IF(COUNT(BM27)>0,"–","?") -> – | BO27: =IF(SUM(B27,D27,F27,H27,J27,L27,N27,P27,R27,T27,V27,X27,Z27,AB27,AD27,AF27,AH27,AJ27,AL27,AN27,AP27,AR27,AT27,AV27,AX27,AZ27,BB27,BD27,BF27,BH27)>0,MAX(B27,D27,F27,H27,J27,L27,N27,P27,R27,T27,V27,X27,Z27,AB27,AD27,AF27,AH27,AJ27,AL27,AN27,AP27,AR27,AT27,AV27,AX27,AZ27,BB27,BD27,BF27,BH27),"") -> 0.82413305 | BP27: =IF(SUM(C27,E27,G27,I27,K27,M27,O27,Q27,S27,U27,W27,Y27,AA27,AC27,AE27,AG27,AI27,AK27,AM27,AO27,AQ27,AS27,AU27,AW27,AY27,BA27,BC27,BE27,BG27,BI27)>0,MIN(C27,E27,G27,I27,K27,M27,O27,Q27,S27,U27,W27,Y27,AA27,AC27,AE27,AG27,AI27,AK27,AM27,AO27,AQ27,AS27,AU27,AW27,AY27,BA27,BC27,BE27,BG27,BI27),"") | BQ27: – | BR27: =IF(SUM(C27,E27,G27,I27,K27,M27,O27,Q27,S27,U27,W27,Y27,AA27,AC27,AE27,AG27,AI27,AK27,AM27,AO27,AQ27,AS27,AU27,AW27,AY27,BA27,BC27,BE27,BG27,BI27)>0,MAX(C27,E27,G27,I27,K27,M27,O27,Q27,S27,U27,W27,Y27,AA27,AC27,AE27,AG27,AI27,AK27,AM27,AO27,AQ27,AS27,AU27,AW27,AY27,BA27,BC27,BE27,BG27,BI27),"") | BS27: =IF(SUM(B27,D27,F27,H27,J27,L27,N27,P27,R27,T27,V27,X27,Z27,AB27,AD27,AF27,AH27,AJ27,AL27,AN27,AP27,AR27,AT27,AV27,AX27,AZ27,BB27,BD27,BF27,BH27)>0,AVERAGE(B27,D27,F27,H27,J27,L27,N27,P27,R27,T27,V27,X27,Z27,AB27,AD27,AF27,AH27,AJ27,AL27,AN27,AP27,AR27,AT27,AV27,AX27,AZ27,BB27,BD27,BF27,BH27),"?") -> 0.73411576 | BT27: – | BU27: =IF(COUNT(B27,D27,F27,H27,J27,L27,N27,P27,R27,T27,V27,X27,Z27,AB27,AD27,AF27,AH27,AJ27,AL27,AN27,AP27,AR27,AT27,AV27,AX27,AZ27,BB27,BD27,BF27,BH27)>1,STDEV(B27,D27,F27,H27,J27,L27,N27,P27,R27,T27,V27,X27,Z27,AB27,AD27,AF27,AH27,AJ27,AL27,AN27,AP27,AR27,AT27,AV27,AX27,AZ27,BB27,BD27,BF27,BH27),"?") -> 0.059303105 | BV27: – | BW27: =IF(COUNT(B27)>0,B27,"?") -> 0.74330861 | BX27: –
A28: Internal primary branch | B28: 30.19 | C28: =IF(AND((B28>0),(B$7>0)),(B28/B$7*100),"") -> 47.565779 | D28: 30.04 | E28: =IF(AND((D28>0),(D$7>0)),(D28/D$7*100),"") -> 45.67432 | F28: 29.74 | G28: =IF(AND((F28>0),(F$7>0)),(F28/F$7*100),"") -> 45.838471 | H28: 27.5 | I28: =IF(AND((H28>0),(H$7>0)),(H28/H$7*100),"") -> 46.094536 | J28: 27.6 | K28: =IF(AND((J28>0),(J$7>0)),(J28/J$7*100),"") -> 46.370968 | L28: 26.16 | M28: =IF(AND((L28>0),(L$7>0)),(L28/L$7*100),"") -> 37.280889 | N28: 26.55 | O28: =IF(AND((N28>0),(N$7>0)),(N28/N$7*100),"") -> 42.870983 | P28: 29.71 | Q28: =IF(AND((P28>0),(P$7>0)),(P28/P$7*100),"") -> 48.696935 | R28: 29.77 | S28: =IF(AND((R28>0),(R$7>0)),(R28/R$7*100),"") -> 49.004115 | T28: 28.64 | U28: =IF(AND((T28>0),(T$7>0)),(T28/T$7*100),"") -> 46.290609 | V28: 26.15 | W28: =IF(AND((V28>0),(V$7>0)),(V28/V$7*100),"") -> 38.983304 | X28: 27.5 | Y28: =IF(AND((X28>0),(X$7>0)),(X28/X$7*100),"") -> 43.232196 | Z28: 24.66 | AA28: =IF(AND((Z28>0),(Z$7>0)),(Z28/Z$7*100),"") -> 42.969158 | AB28: 27.93 | AC28: =IF(AND((AB28>0),(AB$7>0)),(AB28/AB$7*100),"") -> 49.008598 | AD28: 27.73 | AE28: =IF(AND((AD28>0),(AD$7>0)),(AD28/AD$7*100),"") -> 42.485062 | AF28: 30.45 | AG28: =IF(AND((AF28>0),(AF$7>0)),(AF28/AF$7*100),"") -> 46.588127 | AH28: 24.91 | AI28: =IF(AND((AH28>0),(AH$7>0)),(AH28/AH$7*100),"") -> 42.342342 | AJ28: 23.42 | AK28: =IF(AND((AJ28>0),(AJ$7>0)),(AJ28/AJ$7*100),"") -> 40.49101 | AL28: 30.29 | AM28: =IF(AND((AL28>0),(AL$7>0)),(AL28/AL$7*100),"") -> 47.949976 | AN28: 22.77 | AO28: =IF(AND((AN28>0),(AN$7>0)),(AN28/AN$7*100),"") -> 40.523225 | AP28: 28.52 | AQ28: =IF(AND((AP28>0),(AP$7>0)),(AP28/AP$7*100),"") -> 46.985173 | AR28: 25.98 | AS28: =IF(AND((AR28>0),(AR$7>0)),(AR28/AR$7*100),"") -> 45.539001 | AU28: =IF(AND((AT28>0),(AT$7>0)),(AT28/AT$7*100),"") | AW28: =IF(AND((AV28>0),(AV$7>0)),(AV28/AV$7*100),"") | AY28: =IF(AND((AX28>0),(AX$7>0)),(AX28/AX$7*100),"") | BA28: =IF(AND((AZ28>0),(AZ$7>0)),(AZ28/AZ$7*100),"") | BC28: =IF(AND((BB28>0),(BB$7>0)),(BB28/BB$7*100),"") | BE28: =IF(AND((BD28>0),(BD$7>0)),(BD28/BD$7*100),"") | BG28: =IF(AND((BF28>0),(BF$7>0)),(BF28/BF$7*100),"") | BI28: =IF(AND((BH28>0),(BH$7>0)),(BH28/BH$7*100),"") | BK28: =A28 -> Internal primary branch | BL28: =COUNT(B28,D28,F28,H28,J28,L28,N28,P28,R28,T28,V28,X28,Z28,AB28,AD28,AF28,AH28,AJ28,AL28,AN28,AP28,AR28,AT28,AV28,AX28,AZ28,BB28,BD28,BF28,BH28) -> 22 | BM28: =IF(SUM(B28,D28,F28,H28,J28,L28,N28,P28,R28,T28,V28,X28,Z28,AB28,AD28,AF28,AH28,AJ28,AL28,AN28,AP28,AR28,AT28,AV28,AX28,AZ28,BB28,BD28,BF28,BH28)>0,MIN(B28,D28,F28,H28,J28,L28,N28,P28,R28,T28,V28,X28,Z28,AB28,AD28,AF28,AH28,AJ28,AL28,AN28,AP28,AR28,AT28,AV28,AX28,AZ28,BB28,BD28,BF28,BH28),"") -> 22.77 | BN28: =IF(COUNT(BM28)>0,"–","?") -> – | BO28: =IF(SUM(B28,D28,F28,H28,J28,L28,N28,P28,R28,T28,V28,X28,Z28,AB28,AD28,AF28,AH28,AJ28,AL28,AN28,AP28,AR28,AT28,AV28,AX28,AZ28,BB28,BD28,BF28,BH28)>0,MAX(B28,D28,F28,H28,J28,L28,N28,P28,R28,T28,V28,X28,Z28,AB28,AD28,AF28,AH28,AJ28,AL28,AN28,AP28,AR28,AT28,AV28,AX28,AZ28,BB28,BD28,BF28,BH28),"") -> 30.45 | BP28: =IF(SUM(C28,E28,G28,I28,K28,M28,O28,Q28,S28,U28,W28,Y28,AA28,AC28,AE28,AG28,AI28,AK28,AM28,AO28,AQ28,AS28,AU28,AW28,AY28,BA28,BC28,BE28,BG28,BI28)>0,MIN(C28,E28,G28,I28,K28,M28,O28,Q28,S28,U28,W28,Y28,AA28,AC28,AE28,AG28,AI28,AK28,AM28,AO28,AQ28,AS28,AU28,AW28,AY28,BA28,BC28,BE28,BG28,BI28),"") -> 37.280889 | BQ28: =IF(COUNT(BP28)>0,"–","?") -> – | BR28: =IF(SUM(C28,E28,G28,I28,K28,M28,O28,Q28,S28,U28,W28,Y28,AA28,AC28,AE28,AG28,AI28,AK28,AM28,AO28,AQ28,AS28,AU28,AW28,AY28,BA28,BC28,BE28,BG28,BI28)>0,MAX(C28,E28,G28,I28,K28,M28,O28,Q28,S28,U28,W28,Y28,AA28,AC28,AE28,AG28,AI28,AK28,AM28,AO28,AQ28,AS28,AU28,AW28,AY28,BA28,BC28,BE28,BG28,BI28),"") -> 49.008598 | BS28: =IF(SUM(B28,D28,F28,H28,J28,L28,N28,P28,R28,T28,V28,X28,Z28,AB28,AD28,AF28,AH28,AJ28,AL28,AN28,AP28,AR28,AT28,AV28,AX28,AZ28,BB28,BD28,BF28,BH28)>0,AVERAGE(B28,D28,F28,H28,J28,L28,N28,P28,R28,T28,V28,X28,Z28,AB28,AD28,AF28,AH28,AJ28,AL28,AN28,AP28,AR28,AT28,AV28,AX28,AZ28,BB28,BD28,BF28,BH28),"?") -> 27.555 | BT28: =IF(SUM(C28,E28,G28,I28,K28,M28,O28,Q28,S28,U28,W28,Y28,AA28,AC28,AE28,AG28,AI28,AK28,AM28,AO28,AQ28,AS28,AU28,AW28,AY28,BA28,BC28,BE28,BG28,BI28)>0,AVERAGE(C28,E28,G28,I28,K28,M28,O28,Q28,S28,U28,W28,Y28,AA28,AC28,AE28,AG28,AI28,AK28,AM28,AO28,AQ28,AS28,AU28,AW28,AY28,BA28,BC28,BE28,BG28,BI28),"?") -> 44.672035 | BU28: =IF(COUNT(B28,D28,F28,H28,J28,L28,N28,P28,R28,T28,V28,X28,Z28,AB28,AD28,AF28,AH28,AJ28,AL28,AN28,AP28,AR28,AT28,AV28,AX28,AZ28,BB28,BD28,BF28,BH28)>1,STDEV(B28,D28,F28,H28,J28,L28,N28,P28,R28,T28,V28,X28,Z28,AB28,AD28,AF28,AH28,AJ28,AL28,AN28,AP28,AR28,AT28,AV28,AX28,AZ28,BB28,BD28,BF28,BH28),"?") -> 2.2717116 | BV28: =IF(COUNT(C28,E28,G28,I28,K28,M28,O28,Q28,S28,U28,W28,Y28,AA28,AC28,AE28,AG28,AI28,AK28,AM28,AO28,AQ28,AS28,AU28,AW28,AY28,BA28,BC28,BE28,BG28,BI28)>1,STDEV(C28,E28,G28,I28,K28,M28,O28,Q28,S28,U28,W28,Y28,AA28,AC28,AE28,AG28,AI28,AK28,AM28,AO28,AQ28,AS28,AU28,AW28,AY28,BA28,BC28,BE28,BG28,BI28),"?") -> 3.3285987 | BW28: =IF(COUNT(B28)>0,B28,"?") -> 30.19 | BX28: =IF(COUNT(C28)>0,C28,"?") -> 47.565779
A29: Internal base + secondary branch | B29: 20.51 | C29: =IF(AND((B29>0),(B$7>0)),(B29/B$7*100),"") -> 32.314479 | D29: 19.66 | E29: =IF(AND((D29>0),(D$7>0)),(D29/D$7*100),"") -> 29.892048 | F29: 20.53 | G29: =IF(AND((F29>0),(F$7>0)),(F29/F$7*100),"") -> 31.643033 | H29: 21.16 | I29: =IF(AND((H29>0),(H$7>0)),(H29/H$7*100),"") -> 35.46765 | J29: 18.28 | K29: =IF(AND((J29>0),(J$7>0)),(J29/J$7*100),"") -> 30.712366 | L29: 18.03 | M29: =IF(AND((L29>0),(L$7>0)),(L29/L$7*100),"") -> 25.694741 | N29: 19.47 | O29: =IF(AND((N29>0),(N$7>0)),(N29/N$7*100),"") -> 31.438721 | P29: 17.18 | Q29: =IF(AND((P29>0),(P$7>0)),(P29/P$7*100),"") -> 28.159318 | R29: 21.16 | S29: =IF(AND((R29>0),(R$7>0)),(R29/R$7*100),"") -> 34.831276 | T29: 22.19 | U29: =IF(AND((T29>0),(T$7>0)),(T29/T$7*100),"") -> 35.865524 | V29: 18.4 | W29: =IF(AND((V29>0),(V$7>0)),(V29/V$7*100),"") -> 27.429934 | X29: 19.3 | Y29: =IF(AND((X29>0),(X$7>0)),(X29/X$7*100),"") -> 30.341141 | Z29: 17.05 | AA29: =IF(AND((Z29>0),(Z$7>0)),(Z29/Z$7*100),"") -> 29.709009 | AB29: 19.95 | AC29: =IF(AND((AB29>0),(AB$7>0)),(AB29/AB$7*100),"") -> 35.006141 | AD29: 17.39 | AE29: =IF(AND((AD29>0),(AD$7>0)),(AD29/AD$7*100),"") -> 26.643175 | AF29: 19.66 | AG29: =IF(AND((AF29>0),(AF$7>0)),(AF29/AF$7*100),"") -> 30.079559 | AH29: 21.76 | AI29: =IF(AND((AH29>0),(AH$7>0)),(AH29/AH$7*100),"") -> 36.987931 | AJ29: 16.59 | AK29: =IF(AND((AJ29>0),(AJ$7>0)),(AJ29/AJ$7*100),"") -> 28.682573 | AL29: 20.93 | AM29: =IF(AND((AL29>0),(AL$7>0)),(AL29/AL$7*100),"") -> 33.132816 | AN29: 16.08 | AO29: =IF(AND((AN29>0),(AN$7>0)),(AN29/AN$7*100),"") -> 28.617192 | AP29: 19.31 | AQ29: =IF(AND((AP29>0),(AP$7>0)),(AP29/AP$7*100),"") -> 31.812191 | AR29: 19.71 | AS29: =IF(AND((AR29>0),(AR$7>0)),(AR29/AR$7*100),"") -> 34.548642 | AU29: =IF(AND((AT29>0),(AT$7>0)),(AT29/AT$7*100),"") | AW29: =IF(AND((AV29>0),(AV$7>0)),(AV29/AV$7*100),"") | AY29: =IF(AND((AX29>0),(AX$7>0)),(AX29/AX$7*100),"") | BA29: =IF(AND((AZ29>0),(AZ$7>0)),(AZ29/AZ$7*100),"") | BC29: =IF(AND((BB29>0),(BB$7>0)),(BB29/BB$7*100),"") | BE29: =IF(AND((BD29>0),(BD$7>0)),(BD29/BD$7*100),"") | BG29: =IF(AND((BF29>0),(BF$7>0)),(BF29/BF$7*100),"") | BI29: =IF(AND((BH29>0),(BH$7>0)),(BH29/BH$7*100),"") | BK29: =A29 -> Internal base + secondary branch | BL29: =COUNT(B29,D29,F29,H29,J29,L29,N29,P29,R29,T29,V29,X29,Z29,AB29,AD29,AF29,AH29,AJ29,AL29,AN29,AP29,AR29,AT29,AV29,AX29,AZ29,BB29,BD29,BF29,BH29) -> 22 | BM29: =IF(SUM(B29,D29,F29,H29,J29,L29,N29,P29,R29,T29,V29,X29,Z29,AB29,AD29,AF29,AH29,AJ29,AL29,AN29,AP29,AR29,AT29,AV29,AX29,AZ29,BB29,BD29,BF29,BH29)>0,MIN(B29,D29,F29,H29,J29,L29,N29,P29,R29,T29,V29,X29,Z29,AB29,AD29,AF29,AH29,AJ29,AL29,AN29,AP29,AR29,AT29,AV29,AX29,AZ29,BB29,BD29,BF29,BH29),"") -> 16.08 | BN29: =IF(COUNT(BM29)>0,"–","?") -> – | BO29: =IF(SUM(B29,D29,F29,H29,J29,L29,N29,P29,R29,T29,V29,X29,Z29,AB29,AD29,AF29,AH29,AJ29,AL29,AN29,AP29,AR29,AT29,AV29,AX29,AZ29,BB29,BD29,BF29,BH29)>0,MAX(B29,D29,F29,H29,J29,L29,N29,P29,R29,T29,V29,X29,Z29,AB29,AD29,AF29,AH29,AJ29,AL29,AN29,AP29,AR29,AT29,AV29,AX29,AZ29,BB29,BD29,BF29,BH29),"") -> 22.19 | BP29: =IF(SUM(C29,E29,G29,I29,K29,M29,O29,Q29,S29,U29,W29,Y29,AA29,AC29,AE29,AG29,AI29,AK29,AM29,AO29,AQ29,AS29,AU29,AW29,AY29,BA29,BC29,BE29,BG29,BI29)>0,MIN(C29,E29,G29,I29,K29,M29,O29,Q29,S29,U29,W29,Y29,AA29,AC29,AE29,AG29,AI29,AK29,AM29,AO29,AQ29,AS29,AU29,AW29,AY29,BA29,BC29,BE29,BG29,BI29),"") -> 25.694741 | BQ29: =IF(COUNT(BP29)>0,"–","?") -> – | BR29: =IF(SUM(C29,E29,G29,I29,K29,M29,O29,Q29,S29,U29,W29,Y29,AA29,AC29,AE29,AG29,AI29,AK29,AM29,AO29,AQ29,AS29,AU29,AW29,AY29,BA29,BC29,BE29,BG29,BI29)>0,MAX(C29,E29,G29,I29,K29,M29,O29,Q29,S29,U29,W29,Y29,AA29,AC29,AE29,AG29,AI29,AK29,AM29,AO29,AQ29,AS29,AU29,AW29,AY29,BA29,BC29,BE29,BG29,BI29),"") -> 36.987931 | BS29: =IF(SUM(B29,D29,F29,H29,J29,L29,N29,P29,R29,T29,V29,X29,Z29,AB29,AD29,AF29,AH29,AJ29,AL29,AN29,AP29,AR29,AT29,AV29,AX29,AZ29,BB29,BD29,BF29,BH29)>0,AVERAGE(B29,D29,F29,H29,J29,L29,N29,P29,R29,T29,V29,X29,Z29,AB29,AD29,AF29,AH29,AJ29,AL29,AN29,AP29,AR29,AT29,AV29,AX29,AZ29,BB29,BD29,BF29,BH29),"?") -> 19.286364 | BT29: =IF(SUM(C29,E29,G29,I29,K29,M29,O29,Q29,S29,U29,W29,Y29,AA29,AC29,AE29,AG29,AI29,AK29,AM29,AO29,AQ29,AS29,AU29,AW29,AY29,BA29,BC29,BE29,BG29,BI29)>0,AVERAGE(C29,E29,G29,I29,K29,M29,O29,Q29,S29,U29,W29,Y29,AA29,AC29,AE29,AG29,AI29,AK29,AM29,AO29,AQ29,AS29,AU29,AW29,AY29,BA29,BC29,BE29,BG29,BI29),"?") -> 31.318612 | BU29: =IF(COUNT(B29,D29,F29,H29,J29,L29,N29,P29,R29,T29,V29,X29,Z29,AB29,AD29,AF29,AH29,AJ29,AL29,AN29,AP29,AR29,AT29,AV29,AX29,AZ29,BB29,BD29,BF29,BH29)>1,STDEV(B29,D29,F29,H29,J29,L29,N29,P29,R29,T29,V29,X29,Z29,AB29,AD29,AF29,AH29,AJ29,AL29,AN29,AP29,AR29,AT29,AV29,AX29,AZ29,BB29,BD29,BF29,BH29),"?") -> 1.7211888 | BV29: =IF(COUNT(C29,E29,G29,I29,K29,M29,O29,Q29,S29,U29,W29,Y29,AA29,AC29,AE29,AG29,AI29,AK29,AM29,AO29,AQ29,AS29,AU29,AW29,AY29,BA29,BC29,BE29,BG29,BI29)>1,STDEV(C29,E29,G29,I29,K29,M29,O29,Q29,S29,U29,W29,Y29,AA29,AC29,AE29,AG29,AI29,AK29,AM29,AO29,AQ29,AS29,AU29,AW29,AY29,BA29,BC29,BE29,BG29,BI29),"?") -> 3.1725562 | BW29: =IF(COUNT(B29)>0,B29,"?") -> 20.51 | BX29: =IF(COUNT(C29)>0,C29,"?") -> 32.314479
A30: Internal spur | B30: 7.7 | C30: =IF(AND((B30>0),(B$7>0)),(B30/B$7*100),"") -> 12.131716 | D30: 7.23 | E30: =IF(AND((D30>0),(D$7>0)),(D30/D$7*100),"") -> 10.992854 | F30: 9.84 | G30: =IF(AND((F30>0),(F$7>0)),(F30/F$7*100),"") -> 15.166461 | H30: 6.78 | I30: =IF(AND((H30>0),(H$7>0)),(H30/H$7*100),"") -> 11.364398 | J30: 7.07 | K30: =IF(AND((J30>0),(J$7>0)),(J30/J$7*100),"") -> 11.87836 | L30: 7.42 | M30: =IF(AND((L30>0),(L$7>0)),(L30/L$7*100),"") -> 10.57432 | N30: 7.67 | O30: =IF(AND((N30>0),(N$7>0)),(N30/N$7*100),"") -> 12.384951 | P30: 7.87 | Q30: =IF(AND((P30>0),(P$7>0)),(P30/P$7*100),"") -> 12.899525 | R30: 6.95 | S30: =IF(AND((R30>0),(R$7>0)),(R30/R$7*100),"") -> 11.440329 | T30: 7.51 | U30: =IF(AND((T30>0),(T$7>0)),(T30/T$7*100),"") -> 12.138355 | V30: 7.79 | W30: =IF(AND((V30>0),(V$7>0)),(V30/V$7*100),"") -> 11.612999 | X30: 8.24 | Y30: =IF(AND((X30>0),(X$7>0)),(X30/X$7*100),"") -> 12.953938 | Z30: 6.74 | AA30: =IF(AND((Z30>0),(Z$7>0)),(Z30/Z$7*100),"") -> 11.744206 | AB30: 7.87 | AC30: =IF(AND((AB30>0),(AB$7>0)),(AB30/AB$7*100),"") -> 13.80944 | AD30: 8.28 | AE30: =IF(AND((AD30>0),(AD$7>0)),(AD30/AD$7*100),"") -> 12.685767 | AF30: 8.19 | AG30: =IF(AND((AF30>0),(AF$7>0)),(AF30/AF$7*100),"") -> 12.5306 | AH30: 7.29 | AI30: =IF(AND((AH30>0),(AH$7>0)),(AH30/AH$7*100),"") -> 12.391637 | AJ30: 7.67 | AK30: =IF(AND((AJ30>0),(AJ$7>0)),(AJ30/AJ$7*100),"") -> 13.260719 | AL30: 7.21 | AM30: =IF(AND((AL30>0),(AL$7>0)),(AL30/AL$7*100),"") -> 11.413646 | AN30: 6.29 | AO30: =IF(AND((AN30>0),(AN$7>0)),(AN30/AN$7*100),"") -> 11.194163 | AP30: 7.35 | AQ30: =IF(AND((AP30>0),(AP$7>0)),(AP30/AP$7*100),"") -> 12.108731 | AR30: 5.62 | AS30: =IF(AND((AR30>0),(AR$7>0)),(AR30/AR$7*100),"") -> 9.8510079 | AU30: =IF(AND((AT30>0),(AT$7>0)),(AT30/AT$7*100),"") | AW30: =IF(AND((AV30>0),(AV$7>0)),(AV30/AV$7*100),"") | AY30: =IF(AND((AX30>0),(AX$7>0)),(AX30/AX$7*100),"") | BA30: =IF(AND((AZ30>0),(AZ$7>0)),(AZ30/AZ$7*100),"") | BC30: =IF(AND((BB30>0),(BB$7>0)),(BB30/BB$7*100),"") | BE30: =IF(AND((BD30>0),(BD$7>0)),(BD30/BD$7*100),"") | BG30: =IF(AND((BF30>0),(BF$7>0)),(BF30/BF$7*100),"") | BI30: =IF(AND((BH30>0),(BH$7>0)),(BH30/BH$7*100),"") | BK30: =A30 -> Internal spur | BL30: =COUNT(B30,D30,F30,H30,J30,L30,N30,P30,R30,T30,V30,X30,Z30,AB30,AD30,AF30,AH30,AJ30,AL30,AN30,AP30,AR30,AT30,AV30,AX30,AZ30,BB30,BD30,BF30,BH30) -> 22 | BM30: =IF(SUM(B30,D30,F30,H30,J30,L30,N30,P30,R30,T30,V30,X30,Z30,AB30,AD30,AF30,AH30,AJ30,AL30,AN30,AP30,AR30,AT30,AV30,AX30,AZ30,BB30,BD30,BF30,BH30)>0,MIN(B30,D30,F30,H30,J30,L30,N30,P30,R30,T30,V30,X30,Z30,AB30,AD30,AF30,AH30,AJ30,AL30,AN30,AP30,AR30,AT30,AV30,AX30,AZ30,BB30,BD30,BF30,BH30),"") -> 5.62 | BN30: =IF(COUNT(BM30)>0,"–","?") -> – | BO30: =IF(SUM(B30,D30,F30,H30,J30,L30,N30,P30,R30,T30,V30,X30,Z30,AB30,AD30,AF30,AH30,AJ30,AL30,AN30,AP30,AR30,AT30,AV30,AX30,AZ30,BB30,BD30,BF30,BH30)>0,MAX(B30,D30,F30,H30,J30,L30,N30,P30,R30,T30,V30,X30,Z30,AB30,AD30,AF30,AH30,AJ30,AL30,AN30,AP30,AR30,AT30,AV30,AX30,AZ30,BB30,BD30,BF30,BH30),"") -> 9.84 | BP30: =IF(SUM(C30,E30,G30,I30,K30,M30,O30,Q30,S30,U30,W30,Y30,AA30,AC30,AE30,AG30,AI30,AK30,AM30,AO30,AQ30,AS30,AU30,AW30,AY30,BA30,BC30,BE30,BG30,BI30)>0,MIN(C30,E30,G30,I30,K30,M30,O30,Q30,S30,U30,W30,Y30,AA30,AC30,AE30,AG30,AI30,AK30,AM30,AO30,AQ30,AS30,AU30,AW30,AY30,BA30,BC30,BE30,BG30,BI30),"") -> 9.8510079 | BQ30: =IF(COUNT(BP30)>0,"–","?") -> – | BR30: =IF(SUM(C30,E30,G30,I30,K30,M30,O30,Q30,S30,U30,W30,Y30,AA30,AC30,AE30,AG30,AI30,AK30,AM30,AO30,AQ30,AS30,AU30,AW30,AY30,BA30,BC30,BE30,BG30,BI30)>0,MAX(C30,E30,G30,I30,K30,M30,O30,Q30,S30,U30,W30,Y30,AA30,AC30,AE30,AG30,AI30,AK30,AM30,AO30,AQ30,AS30,AU30,AW30,AY30,BA30,BC30,BE30,BG30,BI30),"") -> 15.166461 | BS30: =IF(SUM(B30,D30,F30,H30,J30,L30,N30,P30,R30,T30,V30,X30,Z30,AB30,AD30,AF30,AH30,AJ30,AL30,AN30,AP30,AR30,AT30,AV30,AX30,AZ30,BB30,BD30,BF30,BH30)>0,AVERAGE(B30,D30,F30,H30,J30,L30,N30,P30,R30,T30,V30,X30,Z30,AB30,AD30,AF30,AH30,AJ30,AL30,AN30,AP30,AR30,AT30,AV30,AX30,AZ30,BB30,BD30,BF30,BH30),"?") -> 7.4809091 | BT30: =IF(SUM(C30,E30,G30,I30,K30,M30,O30,Q30,S30,U30,W30,Y30,AA30,AC30,AE30,AG30,AI30,AK30,AM30,AO30,AQ30,AS30,AU30,AW30,AY30,BA30,BC30,BE30,BG30,BI30)>0,AVERAGE(C30,E30,G30,I30,K30,M30,O30,Q30,S30,U30,W30,Y30,AA30,AC30,AE30,AG30,AI30,AK30,AM30,AO30,AQ30,AS30,AU30,AW30,AY30,BA30,BC30,BE30,BG30,BI30),"?") -> 12.114915 | BU30: =IF(COUNT(B30,D30,F30,H30,J30,L30,N30,P30,R30,T30,V30,X30,Z30,AB30,AD30,AF30,AH30,AJ30,AL30,AN30,AP30,AR30,AT30,AV30,AX30,AZ30,BB30,BD30,BF30,BH30)>1,STDEV(B30,D30,F30,H30,J30,L30,N30,P30,R30,T30,V30,X30,Z30,AB30,AD30,AF30,AH30,AJ30,AL30,AN30,AP30,AR30,AT30,AV30,AX30,AZ30,BB30,BD30,BF30,BH30),"?") -> 0.82714028 | BV30: =IF(COUNT(C30,E30,G30,I30,K30,M30,O30,Q30,S30,U30,W30,Y30,AA30,AC30,AE30,AG30,AI30,AK30,AM30,AO30,AQ30,AS30,AU30,AW30,AY30,BA30,BC30,BE30,BG30,BI30)>1,STDEV(C30,E30,G30,I30,K30,M30,O30,Q30,S30,U30,W30,Y30,AA30,AC30,AE30,AG30,AI30,AK30,AM30,AO30,AQ30,AS30,AU30,AW30,AY30,BA30,BC30,BE30,BG30,BI30),"?") -> 1.1344341 | BW30: =IF(COUNT(B30)>0,B30,"?") -> 7.7 | BX30: =IF(COUNT(C30)>0,C30,"?") -> 12.131716
A31: Internal branches length ratio | B31: =IF(AND((B29>0),(B28>0)),(B29/B28),"") -> 0.67936403 | C31: – | D31: =IF(AND((D29>0),(D28>0)),(D29/D28),"") -> 0.65446072 | E31: – | F31: =IF(AND((F29>0),(F28>0)),(F29/F28),"") -> 0.69031607 | G31: – | H31: =IF(AND((H29>0),(H28>0)),(H29/H28),"") -> 0.76945455 | I31: – | J31: =IF(AND((J29>0),(J28>0)),(J29/J28),"") -> 0.66231884 | K31: – | L31: =IF(AND((L29>0),(L28>0)),(L29/L28),"") -> 0.68922018 | M31: – | N31: =IF(AND((N29>0),(N28>0)),(N29/N28),"") -> 0.73333333 | O31: – | P31: =IF(AND((P29>0),(P28>0)),(P29/P28),"") -> 0.57825648 | Q31: – | R31: =IF(AND((R29>0),(R28>0)),(R29/R28),"") -> 0.71078267 | S31: – | T31: =IF(AND((T29>0),(T28>0)),(T29/T28),"") -> 0.7747905 | U31: – | V31: =IF(AND((V29>0),(V28>0)),(V29/V28),"") -> 0.70363289 | W31: – | X31: =IF(AND((X29>0),(X28>0)),(X29/X28),"") -> 0.70181818 | Y31: – | Z31: =IF(AND((Z29>0),(Z28>0)),(Z29/Z28),"") -> 0.69140308 | AA31: – | AB31: =IF(AND((AB29>0),(AB28>0)),(AB29/AB28),"") -> 0.71428571 | AC31: – | AD31: =IF(AND((AD29>0),(AD28>0)),(AD29/AD28),"") -> 0.62711864 | AE31: – | AF31: =IF(AND((AF29>0),(AF28>0)),(AF29/AF28),"") -> 0.6456486 | AG31: – | AH31: =IF(AND((AH29>0),(AH28>0)),(AH29/AH28),"") -> 0.87354476 | AI31: – | AJ31: =IF(AND((AJ29>0),(AJ28>0)),(AJ29/AJ28),"") -> 0.70836892 | AK31: – | AL31: =IF(AND((AL29>0),(AL28>0)),(AL29/AL28),"") -> 0.69098712 | AM31: – | AN31: =IF(AND((AN29>0),(AN28>0)),(AN29/AN28),"") -> 0.70619236 | AO31: – | AP31: =IF(AND((AP29>0),(AP28>0)),(AP29/AP28),"") -> 0.67706872 | AQ31: – | AR31: =IF(AND((AR29>0),(AR28>0)),(AR29/AR28),"") -> 0.75866051 | AS31: – | AT31: =IF(AND((AT29>0),(AT28>0)),(AT29/AT28),"") | AU31: – | AV31: =IF(AND((AV29>0),(AV28>0)),(AV29/AV28),"") | AW31: – | AX31: =IF(AND((AX29>0),(AX28>0)),(AX29/AX28),"") | AY31: – | AZ31: =IF(AND((AZ29>0),(AZ28>0)),(AZ29/AZ28),"") | BA31: – | BB31: =IF(AND((BB29>0),(BB28>0)),(BB29/BB28),"") | BC31: – | BD31: =IF(AND((BD29>0),(BD28>0)),(BD29/BD28),"") | BE31: – | BF31: =IF(AND((BF29>0),(BF28>0)),(BF29/BF28),"") | BG31: – | BH31: =IF(AND((BH29>0),(BH28>0)),(BH29/BH28),"") | BI31: – | BK31: =A31 -> Internal branches length ratio | BL31: =COUNT(B31,D31,F31,H31,J31,L31,N31,P31,R31,T31,V31,X31,Z31,AB31,AD31,AF31,AH31,AJ31,AL31,AN31,AP31,AR31,AT31,AV31,AX31,AZ31,BB31,BD31,BF31,BH31) -> 22 | BM31: =IF(SUM(B31,D31,F31,H31,J31,L31,N31,P31,R31,T31,V31,X31,Z31,AB31,AD31,AF31,AH31,AJ31,AL31,AN31,AP31,AR31,AT31,AV31,AX31,AZ31,BB31,BD31,BF31,BH31)>0,MIN(B31,D31,F31,H31,J31,L31,N31,P31,R31,T31,V31,X31,Z31,AB31,AD31,AF31,AH31,AJ31,AL31,AN31,AP31,AR31,AT31,AV31,AX31,AZ31,BB31,BD31,BF31,BH31),"") -> 0.57825648 | BN31: =IF(COUNT(BM31)>0,"–","?") -> – | BO31: =IF(SUM(B31,D31,F31,H31,J31,L31,N31,P31,R31,T31,V31,X31,Z31,AB31,AD31,AF31,AH31,AJ31,AL31,AN31,AP31,AR31,AT31,AV31,AX31,AZ31,BB31,BD31,BF31,BH31)>0,MAX(B31,D31,F31,H31,J31,L31,N31,P31,R31,T31,V31,X31,Z31,AB31,AD31,AF31,AH31,AJ31,AL31,AN31,AP31,AR31,AT31,AV31,AX31,AZ31,BB31,BD31,BF31,BH31),"") -> 0.87354476 | BP31: =IF(SUM(C31,E31,G31,I31,K31,M31,O31,Q31,S31,U31,W31,Y31,AA31,AC31,AE31,AG31,AI31,AK31,AM31,AO31,AQ31,AS31,AU31,AW31,AY31,BA31,BC31,BE31,BG31,BI31)>0,MIN(C31,E31,G31,I31,K31,M31,O31,Q31,S31,U31,W31,Y31,AA31,AC31,AE31,AG31,AI31,AK31,AM31,AO31,AQ31,AS31,AU31,AW31,AY31,BA31,BC31,BE31,BG31,BI31),"") | BQ31: – | BR31: =IF(SUM(C31,E31,G31,I31,K31,M31,O31,Q31,S31,U31,W31,Y31,AA31,AC31,AE31,AG31,AI31,AK31,AM31,AO31,AQ31,AS31,AU31,AW31,AY31,BA31,BC31,BE31,BG31,BI31)>0,MAX(C31,E31,G31,I31,K31,M31,O31,Q31,S31,U31,W31,Y31,AA31,AC31,AE31,AG31,AI31,AK31,AM31,AO31,AQ31,AS31,AU31,AW31,AY31,BA31,BC31,BE31,BG31,BI31),"") | BS31: =IF(SUM(B31,D31,F31,H31,J31,L31,N31,P31,R31,T31,V31,X31,Z31,AB31,AD31,AF31,AH31,AJ31,AL31,AN31,AP31,AR31,AT31,AV31,AX31,AZ31,BB31,BD31,BF31,BH31)>0,AVERAGE(B31,D31,F31,H31,J31,L31,N31,P31,R31,T31,V31,X31,Z31,AB31,AD31,AF31,AH31,AJ31,AL31,AN31,AP31,AR31,AT31,AV31,AX31,AZ31,BB31,BD31,BF31,BH31),"?") -> 0.70186486 | BT31: – | BU31: =IF(COUNT(B31,D31,F31,H31,J31,L31,N31,P31,R31,T31,V31,X31,Z31,AB31,AD31,AF31,AH31,AJ31,AL31,AN31,AP31,AR31,AT31,AV31,AX31,AZ31,BB31,BD31,BF31,BH31)>1,STDEV(B31,D31,F31,H31,J31,L31,N31,P31,R31,T31,V31,X31,Z31,AB31,AD31,AF31,AH31,AJ31,AL31,AN31,AP31,AR31,AT31,AV31,AX31,AZ31,BB31,BD31,BF31,BH31),"?") -> 0.059102004 | BV31: – | BW31: =IF(COUNT(B31)>0,B31,"?") -> 0.67936403 | BX31: –
A32: Claw 3 lengths | BK32: =A32 -> Claw 3 lengths
A33: External primary branch | B33: 30.86 | C33: =IF(AND((B33>0),(B$7>0)),(B33/B$7*100),"") -> 48.621396 | D33: 31.91 | E33: =IF(AND((D33>0),(D$7>0)),(D33/D$7*100),"") -> 48.517561 | F33: 29.79 | G33: =IF(AND((F33>0),(F$7>0)),(F33/F$7*100),"") -> 45.915536 | H33: 29.88 | I33: =IF(AND((H33>0),(H$7>0)),(H33/H$7*100),"") -> 50.083808 | J33: 27.56 | K33: =IF(AND((J33>0),(J$7>0)),(J33/J$7*100),"") -> 46.303763 | L33: 28.09 | M33: =IF(AND((L33>0),(L$7>0)),(L33/L$7*100),"") -> 40.031352 | N33: 28.09 | O33: =IF(AND((N33>0),(N$7>0)),(N33/N$7*100),"") -> 45.357662 | Q33: =IF(AND((P33>0),(P$7>0)),(P33/P$7*100),"") | R33: 29.84 | S33: =IF(AND((R33>0),(R$7>0)),(R33/R$7*100),"") -> 49.119342 | T33: 31.03 | U33: =IF(AND((T33>0),(T$7>0)),(T33/T$7*100),"") -> 50.153548 | V33: 30.03 | W33: =IF(AND((V33>0),(V$7>0)),(V33/V$7*100),"") -> 44.767442 | X33: 29.32 | Y33: =IF(AND((X33>0),(X$7>0)),(X33/X$7*100),"") -> 46.093382 | Z33: 29.39 | AA33: =IF(AND((Z33>0),(Z$7>0)),(Z33/Z$7*100),"") -> 51.211012 | AB33: 29.66 | AC33: =IF(AND((AB33>0),(AB$7>0)),(AB33/AB$7*100),"") -> 52.044218 | AD33: 27.96 | AE33: =IF(AND((AD33>0),(AD$7>0)),(AD33/AD$7*100),"") -> 42.837444 | AF33: 29.81 | AG33: =IF(AND((AF33>0),(AF$7>0)),(AF33/AF$7*100),"") -> 45.608935 | AH33: 26.68 | AI33: =IF(AND((AH33>0),(AH$7>0)),(AH33/AH$7*100),"") -> 45.351011 | AJ33: 24.47 | AK33: =IF(AND((AJ33>0),(AJ$7>0)),(AJ33/AJ$7*100),"") -> 42.306362 | AL33: 30.5 | AM33: =IF(AND((AL33>0),(AL$7>0)),(AL33/AL$7*100),"") -> 48.282413 | AN33: 23.18 | AO33: =IF(AND((AN33>0),(AN$7>0)),(AN33/AN$7*100),"") -> 41.252892 | AP33: 29.62 | AQ33: =IF(AND((AP33>0),(AP$7>0)),(AP33/AP$7*100),"") -> 48.797364 | AR33: 26.35 | AS33: =IF(AND((AR33>0),(AR$7>0)),(AR33/AR$7*100),"") -> 46.187555 | AU33: =IF(AND((AT33>0),(AT$7>0)),(AT33/AT$7*100),"") | AW33: =IF(AND((AV33>0),(AV$7>0)),(AV33/AV$7*100),"") | AY33: =IF(AND((AX33>0),(AX$7>0)),(AX33/AX$7*100),"") | BA33: =IF(AND((AZ33>0),(AZ$7>0)),(AZ33/AZ$7*100),"") | BC33: =IF(AND((BB33>0),(BB$7>0)),(BB33/BB$7*100),"") | BE33: =IF(AND((BD33>0),(BD$7>0)),(BD33/BD$7*100),"") | BG33: =IF(AND((BF33>0),(BF$7>0)),(BF33/BF$7*100),"") | BI33: =IF(AND((BH33>0),(BH$7>0)),(BH33/BH$7*100),"") | BK33: =A33 -> External primary branch | BL33: =COUNT(B33,D33,F33,H33,J33,L33,N33,P33,R33,T33,V33,X33,Z33,AB33,AD33,AF33,AH33,AJ33,AL33,AN33,AP33,AR33,AT33,AV33,AX33,AZ33,BB33,BD33,BF33,BH33) -> 21 | BM33: =IF(SUM(B33,D33,F33,H33,J33,L33,N33,P33,R33,T33,V33,X33,Z33,AB33,AD33,AF33,AH33,AJ33,AL33,AN33,AP33,AR33,AT33,AV33,AX33,AZ33,BB33,BD33,BF33,BH33)>0,MIN(B33,D33,F33,H33,J33,L33,N33,P33,R33,T33,V33,X33,Z33,AB33,AD33,AF33,AH33,AJ33,AL33,AN33,AP33,AR33,AT33,AV33,AX33,AZ33,BB33,BD33,BF33,BH33),"") -> 23.18 | BN33: =IF(COUNT(BM33)>0,"–","?") -> – | BO33: =IF(SUM(B33,D33,F33,H33,J33,L33,N33,P33,R33,T33,V33,X33,Z33,AB33,AD33,AF33,AH33,AJ33,AL33,AN33,AP33,AR33,AT33,AV33,AX33,AZ33,BB33,BD33,BF33,BH33)>0,MAX(B33,D33,F33,H33,J33,L33,N33,P33,R33,T33,V33,X33,Z33,AB33,AD33,AF33,AH33,AJ33,AL33,AN33,AP33,AR33,AT33,AV33,AX33,AZ33,BB33,BD33,BF33,BH33),"") -> 31.91 | BP33: =IF(SUM(C33,E33,G33,I33,K33,M33,O33,Q33,S33,U33,W33,Y33,AA33,AC33,AE33,AG33,AI33,AK33,AM33,AO33,AQ33,AS33,AU33,AW33,AY33,BA33,BC33,BE33,BG33,BI33)>0,MIN(C33,E33,G33,I33,K33,M33,O33,Q33,S33,U33,W33,Y33,AA33,AC33,AE33,AG33,AI33,AK33,AM33,AO33,AQ33,AS33,AU33,AW33,AY33,BA33,BC33,BE33,BG33,BI33),"") -> 40.031352 | BQ33: =IF(COUNT(BP33)>0,"–","?") -> – | BR33: =IF(SUM(C33,E33,G33,I33,K33,M33,O33,Q33,S33,U33,W33,Y33,AA33,AC33,AE33,AG33,AI33,AK33,AM33,AO33,AQ33,AS33,AU33,AW33,AY33,BA33,BC33,BE33,BG33,BI33)>0,MAX(C33,E33,G33,I33,K33,M33,O33,Q33,S33,U33,W33,Y33,AA33,AC33,AE33,AG33,AI33,AK33,AM33,AO33,AQ33,AS33,AU33,AW33,AY33,BA33,BC33,BE33,BG33,BI33),"") -> 52.044218 | BS33: =IF(SUM(B33,D33,F33,H33,J33,L33,N33,P33,R33,T33,V33,X33,Z33,AB33,AD33,AF33,AH33,AJ33,AL33,AN33,AP33,AR33,AT33,AV33,AX33,AZ33,BB33,BD33,BF33,BH33)>0,AVERAGE(B33,D33,F33,H33,J33,L33,N33,P33,R33,T33,V33,X33,Z33,AB33,AD33,AF33,AH33,AJ33,AL33,AN33,AP33,AR33,AT33,AV33,AX33,AZ33,BB33,BD33,BF33,BH33),"?") -> 28.762857 | BT33: =IF(SUM(C33,E33,G33,I33,K33,M33,O33,Q33,S33,U33,W33,Y33,AA33,AC33,AE33,AG33,AI33,AK33,AM33,AO33,AQ33,AS33,AU33,AW33,AY33,BA33,BC33,BE33,BG33,BI33)>0,AVERAGE(C33,E33,G33,I33,K33,M33,O33,Q33,S33,U33,W33,Y33,AA33,AC33,AE33,AG33,AI33,AK33,AM33,AO33,AQ33,AS33,AU33,AW33,AY33,BA33,BC33,BE33,BG33,BI33),"?") -> 46.611619 | BU33: =IF(COUNT(B33,D33,F33,H33,J33,L33,N33,P33,R33,T33,V33,X33,Z33,AB33,AD33,AF33,AH33,AJ33,AL33,AN33,AP33,AR33,AT33,AV33,AX33,AZ33,BB33,BD33,BF33,BH33)>1,STDEV(B33,D33,F33,H33,J33,L33,N33,P33,R33,T33,V33,X33,Z33,AB33,AD33,AF33,AH33,AJ33,AL33,AN33,AP33,AR33,AT33,AV33,AX33,AZ33,BB33,BD33,BF33,BH33),"?") -> 2.1635946 | BV33: =IF(COUNT(C33,E33,G33,I33,K33,M33,O33,Q33,S33,U33,W33,Y33,AA33,AC33,AE33,AG33,AI33,AK33,AM33,AO33,AQ33,AS33,AU33,AW33,AY33,BA33,BC33,BE33,BG33,BI33)>1,STDEV(C33,E33,G33,I33,K33,M33,O33,Q33,S33,U33,W33,Y33,AA33,AC33,AE33,AG33,AI33,AK33,AM33,AO33,AQ33,AS33,AU33,AW33,AY33,BA33,BC33,BE33,BG33,BI33),"?") -> 3.2418323 | BW33: =IF(COUNT(B33)>0,B33,"?") -> 30.86 | BX33: =IF(COUNT(C33)>0,C33,"?") -> 48.621396
A34: External base + secondary branch | B34: 22.41 | C34: =IF(AND((B34>0),(B$7>0)),(B34/B$7*100),"") -> 35.30802 | D34: 23.29 | E34: =IF(AND((D34>0),(D$7>0)),(D34/D$7*100),"") -> 35.411282 | F34: 22.63 | G34: =IF(AND((F34>0),(F$7>0)),(F34/F$7*100),"") -> 34.879778 | H34: 21.98 | I34: =IF(AND((H34>0),(H$7>0)),(H34/H$7*100),"") -> 36.842105 | J34: 24.07 | K34: =IF(AND((J34>0),(J$7>0)),(J34/J$7*100),"") -> 40.440188 | L34: 22.58 | M34: =IF(AND((L34>0),(L$7>0)),(L34/L$7*100),"") -> 32.178994 | N34: 19.76 | O34: =IF(AND((N34>0),(N$7>0)),(N34/N$7*100),"") -> 31.906992 | Q34: =IF(AND((P34>0),(P$7>0)),(P34/P$7*100),"") | R34: 18.86 | S34: =IF(AND((R34>0),(R$7>0)),(R34/R$7*100),"") -> 31.045267 | T34: 22.79 | U34: =IF(AND((T34>0),(T$7>0)),(T34/T$7*100),"") -> 36.8353 | V34: 20.06 | W34: =IF(AND((V34>0),(V$7>0)),(V34/V$7*100),"") -> 29.904592 | X34: 22.29 | Y34: =IF(AND((X34>0),(X$7>0)),(X34/X$7*100),"") -> 35.04166 | Z34: 17.55 | AA34: =IF(AND((Z34>0),(Z$7>0)),(Z34/Z$7*100),"") -> 30.58024 | AB34: 21.73 | AC34: =IF(AND((AB34>0),(AB$7>0)),(AB34/AB$7*100),"") -> 38.129496 | AD34: 21.25 | AE34: =IF(AND((AD34>0),(AD$7>0)),(AD34/AD$7*100),"") -> 32.557071 | AF34: 23.72 | AG34: =IF(AND((AF34>0),(AF$7>0)),(AF34/AF$7*100),"") -> 36.29131 | AH34: 21.76 | AI34: =IF(AND((AH34>0),(AH$7>0)),(AH34/AH$7*100),"") -> 36.987931 | AJ34: 18.48 | AK34: =IF(AND((AJ34>0),(AJ$7>0)),(AJ34/AJ$7*100),"") -> 31.950207 | AL34: 21.3 | AM34: =IF(AND((AL34>0),(AL$7>0)),(AL34/AL$7*100),"") -> 33.718537 | AN34: 17.22 | AO34: =IF(AND((AN34>0),(AN$7>0)),(AN34/AN$7*100),"") -> 30.646022 | AP34: 21.66 | AQ34: =IF(AND((AP34>0),(AP$7>0)),(AP34/AP$7*100),"") -> 35.68369 | AR34: 20.03 | AS34: =IF(AND((AR34>0),(AR$7>0)),(AR34/AR$7*100),"") -> 35.109553 | AU34: =IF(AND((AT34>0),(AT$7>0)),(AT34/AT$7*100),"") | AW34: =IF(AND((AV34>0),(AV$7>0)),(AV34/AV$7*100),"") | AY34: =IF(AND((AX34>0),(AX$7>0)),(AX34/AX$7*100),"") | BA34: =IF(AND((AZ34>0),(AZ$7>0)),(AZ34/AZ$7*100),"") | BC34: =IF(AND((BB34>0),(BB$7>0)),(BB34/BB$7*100),"") | BE34: =IF(AND((BD34>0),(BD$7>0)),(BD34/BD$7*100),"") | BG34: =IF(AND((BF34>0),(BF$7>0)),(BF34/BF$7*100),"") | BI34: =IF(AND((BH34>0),(BH$7>0)),(BH34/BH$7*100),"") | BK34: =A34 -> External base + secondary branch | BL34: =COUNT(B34,D34,F34,H34,J34,L34,N34,P34,R34,T34,V34,X34,Z34,AB34,AD34,AF34,AH34,AJ34,AL34,AN34,AP34,AR34,AT34,AV34,AX34,AZ34,BB34,BD34,BF34,BH34) -> 21 | BM34: =IF(SUM(B34,D34,F34,H34,J34,L34,N34,P34,R34,T34,V34,X34,Z34,AB34,AD34,AF34,AH34,AJ34,AL34,AN34,AP34,AR34,AT34,AV34,AX34,AZ34,BB34,BD34,BF34,BH34)>0,MIN(B34,D34,F34,H34,J34,L34,N34,P34,R34,T34,V34,X34,Z34,AB34,AD34,AF34,AH34,AJ34,AL34,AN34,AP34,AR34,AT34,AV34,AX34,AZ34,BB34,BD34,BF34,BH34),"") -> 17.22 | BN34: =IF(COUNT(BM34)>0,"–","?") -> – | BO34: =IF(SUM(B34,D34,F34,H34,J34,L34,N34,P34,R34,T34,V34,X34,Z34,AB34,AD34,AF34,AH34,AJ34,AL34,AN34,AP34,AR34,AT34,AV34,AX34,AZ34,BB34,BD34,BF34,BH34)>0,MAX(B34,D34,F34,H34,J34,L34,N34,P34,R34,T34,V34,X34,Z34,AB34,AD34,AF34,AH34,AJ34,AL34,AN34,AP34,AR34,AT34,AV34,AX34,AZ34,BB34,BD34,BF34,BH34),"") -> 24.07 | BP34: =IF(SUM(C34,E34,G34,I34,K34,M34,O34,Q34,S34,U34,W34,Y34,AA34,AC34,AE34,AG34,AI34,AK34,AM34,AO34,AQ34,AS34,AU34,AW34,AY34,BA34,BC34,BE34,BG34,BI34)>0,MIN(C34,E34,G34,I34,K34,M34,O34,Q34,S34,U34,W34,Y34,AA34,AC34,AE34,AG34,AI34,AK34,AM34,AO34,AQ34,AS34,AU34,AW34,AY34,BA34,BC34,BE34,BG34,BI34),"") -> 29.904592 | BQ34: =IF(COUNT(BP34)>0,"–","?") -> – | BR34: =IF(SUM(C34,E34,G34,I34,K34,M34,O34,Q34,S34,U34,W34,Y34,AA34,AC34,AE34,AG34,AI34,AK34,AM34,AO34,AQ34,AS34,AU34,AW34,AY34,BA34,BC34,BE34,BG34,BI34)>0,MAX(C34,E34,G34,I34,K34,M34,O34,Q34,S34,U34,W34,Y34,AA34,AC34,AE34,AG34,AI34,AK34,AM34,AO34,AQ34,AS34,AU34,AW34,AY34,BA34,BC34,BE34,BG34,BI34),"") -> 40.440188 | BS34: =IF(SUM(B34,D34,F34,H34,J34,L34,N34,P34,R34,T34,V34,X34,Z34,AB34,AD34,AF34,AH34,AJ34,AL34,AN34,AP34,AR34,AT34,AV34,AX34,AZ34,BB34,BD34,BF34,BH34)>0,AVERAGE(B34,D34,F34,H34,J34,L34,N34,P34,R34,T34,V34,X34,Z34,AB34,AD34,AF34,AH34,AJ34,AL34,AN34,AP34,AR34,AT34,AV34,AX34,AZ34,BB34,BD34,BF34,BH34),"?") -> 21.210476 | BT34: =IF(SUM(C34,E34,G34,I34,K34,M34,O34,Q34,S34,U34,W34,Y34,AA34,AC34,AE34,AG34,AI34,AK34,AM34,AO34,AQ34,AS34,AU34,AW34,AY34,BA34,BC34,BE34,BG34,BI34)>0,AVERAGE(C34,E34,G34,I34,K34,M34,O34,Q34,S34,U34,W34,Y34,AA34,AC34,AE34,AG34,AI34,AK34,AM34,AO34,AQ34,AS34,AU34,AW34,AY34,BA34,BC34,BE34,BG34,BI34),"?") -> 34.354678 | BU34: =IF(COUNT(B34,D34,F34,H34,J34,L34,N34,P34,R34,T34,V34,X34,Z34,AB34,AD34,AF34,AH34,AJ34,AL34,AN34,AP34,AR34,AT34,AV34,AX34,AZ34,BB34,BD34,BF34,BH34)>1,STDEV(B34,D34,F34,H34,J34,L34,N34,P34,R34,T34,V34,X34,Z34,AB34,AD34,AF34,AH34,AJ34,AL34,AN34,AP34,AR34,AT34,AV34,AX34,AZ34,BB34,BD34,BF34,BH34),"?") -> 1.9530578 | BV34: =IF(COUNT(C34,E34,G34,I34,K34,M34,O34,Q34,S34,U34,W34,Y34,AA34,AC34,AE34,AG34,AI34,AK34,AM34,AO34,AQ34,AS34,AU34,AW34,AY34,BA34,BC34,BE34,BG34,BI34)>1,STDEV(C34,E34,G34,I34,K34,M34,O34,Q34,S34,U34,W34,Y34,AA34,AC34,AE34,AG34,AI34,AK34,AM34,AO34,AQ34,AS34,AU34,AW34,AY34,BA34,BC34,BE34,BG34,BI34),"?") -> 2.8134976 | BW34: =IF(COUNT(B34)>0,B34,"?") -> 22.41 | BX34: =IF(COUNT(C34)>0,C34,"?") -> 35.30802
A35: External spur | B35: 6.22 | C35: =IF(AND((B35>0),(B$7>0)),(B35/B$7*100),"") -> 9.7999055 | D35: 7.01 | E35: =IF(AND((D35>0),(D$7>0)),(D35/D$7*100),"") -> 10.658355 | F35: 9.01 | G35: =IF(AND((F35>0),(F$7>0)),(F35/F$7*100),"") -> 13.887176 | H35: 6.97 | I35: =IF(AND((H35>0),(H$7>0)),(H35/H$7*100),"") -> 11.68287 | J35: 6.48 | K35: =IF(AND((J35>0),(J$7>0)),(J35/J$7*100),"") -> 10.887097 | L35: 7.76 | M35: =IF(AND((L35>0),(L$7>0)),(L35/L$7*100),"") -> 11.058857 | N35: 8.4 | O35: =IF(AND((N35>0),(N$7>0)),(N35/N$7*100),"") -> 13.563701 | Q35: =IF(AND((P35>0),(P$7>0)),(P35/P$7*100),"") | S35: =IF(AND((R35>0),(R$7>0)),(R35/R$7*100),"") | T35: 6.59 | U35: =IF(AND((T35>0),(T$7>0)),(T35/T$7*100),"") -> 10.651366 | V35: 8.38 | W35: =IF(AND((V35>0),(V$7>0)),(V35/V$7*100),"") -> 12.492546 | X35: 6.99 | Y35: =IF(AND((X35>0),(X$7>0)),(X35/X$7*100),"") -> 10.988838 | Z35: 6.15 | AA35: =IF(AND((Z35>0),(Z$7>0)),(Z35/Z$7*100),"") -> 10.716153 | AB35: 6.66 | AC35: =IF(AND((AB35>0),(AB$7>0)),(AB35/AB$7*100),"") -> 11.686261 | AD35: 6.99 | AE35: =IF(AND((AD35>0),(AD$7>0)),(AD35/AD$7*100),"") -> 10.709361 | AF35: 7.55 | AG35: =IF(AND((AF35>0),(AF$7>0)),(AF35/AF$7*100),"") -> 11.551408 | AH35: 6.43 | AI35: =IF(AND((AH35>0),(AH$7>0)),(AH35/AH$7*100),"") -> 10.929798 | AJ35: 7.36 | AK35: =IF(AND((AJ35>0),(AJ$7>0)),(AJ35/AJ$7*100),"") -> 12.724758 | AL35: 7.24 | AM35: =IF(AND((AL35>0),(AL$7>0)),(AL35/AL$7*100),"") -> 11.461137 | AN35: 5.33 | AO35: =IF(AND((AN35>0),(AN$7>0)),(AN35/AN$7*100),"") -> 9.4856736 | AP35: 7.78 | AQ35: =IF(AND((AP35>0),(AP$7>0)),(AP35/AP$7*100),"") -> 12.817133 | AR35: 6.74 | AS35: =IF(AND((AR35>0),(AR$7>0)),(AR35/AR$7*100),"") -> 11.814198 | AU35: =IF(AND((AT35>0),(AT$7>0)),(AT35/AT$7*100),"") | AW35: =IF(AND((AV35>0),(AV$7>0)),(AV35/AV$7*100),"") | AY35: =IF(AND((AX35>0),(AX$7>0)),(AX35/AX$7*100),"") | BA35: =IF(AND((AZ35>0),(AZ$7>0)),(AZ35/AZ$7*100),"") | BC35: =IF(AND((BB35>0),(BB$7>0)),(BB35/BB$7*100),"") | BE35: =IF(AND((BD35>0),(BD$7>0)),(BD35/BD$7*100),"") | BG35: =IF(AND((BF35>0),(BF$7>0)),(BF35/BF$7*100),"") | BI35: =IF(AND((BH35>0),(BH$7>0)),(BH35/BH$7*100),"") | BK35: =A35 -> External spur | BL35: =COUNT(B35,D35,F35,H35,J35,L35,N35,P35,R35,T35,V35,X35,Z35,AB35,AD35,AF35,AH35,AJ35,AL35,AN35,AP35,AR35,AT35,AV35,AX35,AZ35,BB35,BD35,BF35,BH35) -> 20 | BM35: =IF(SUM(B35,D35,F35,H35,J35,L35,N35,P35,R35,T35,V35,X35,Z35,AB35,AD35,AF35,AH35,AJ35,AL35,AN35,AP35,AR35,AT35,AV35,AX35,AZ35,BB35,BD35,BF35,BH35)>0,MIN(B35,D35,F35,H35,J35,L35,N35,P35,R35,T35,V35,X35,Z35,AB35,AD35,AF35,AH35,AJ35,AL35,AN35,AP35,AR35,AT35,AV35,AX35,AZ35,BB35,BD35,BF35,BH35),"") -> 5.33 | BN35: =IF(COUNT(BM35)>0,"–","?") -> – | BO35: =IF(SUM(B35,D35,F35,H35,J35,L35,N35,P35,R35,T35,V35,X35,Z35,AB35,AD35,AF35,AH35,AJ35,AL35,AN35,AP35,AR35,AT35,AV35,AX35,AZ35,BB35,BD35,BF35,BH35)>0,MAX(B35,D35,F35,H35,J35,L35,N35,P35,R35,T35,V35,X35,Z35,AB35,AD35,AF35,AH35,AJ35,AL35,AN35,AP35,AR35,AT35,AV35,AX35,AZ35,BB35,BD35,BF35,BH35),"") -> 9.01 | BP35: =IF(SUM(C35,E35,G35,I35,K35,M35,O35,Q35,S35,U35,W35,Y35,AA35,AC35,AE35,AG35,AI35,AK35,AM35,AO35,AQ35,AS35,AU35,AW35,AY35,BA35,BC35,BE35,BG35,BI35)>0,MIN(C35,E35,G35,I35,K35,M35,O35,Q35,S35,U35,W35,Y35,AA35,AC35,AE35,AG35,AI35,AK35,AM35,AO35,AQ35,AS35,AU35,AW35,AY35,BA35,BC35,BE35,BG35,BI35),"") -> 9.4856736 | BQ35: =IF(COUNT(BP35)>0,"–","?") -> – | BR35: =IF(SUM(C35,E35,G35,I35,K35,M35,O35,Q35,S35,U35,W35,Y35,AA35,AC35,AE35,AG35,AI35,AK35,AM35,AO35,AQ35,AS35,AU35,AW35,AY35,BA35,BC35,BE35,BG35,BI35)>0,MAX(C35,E35,G35,I35,K35,M35,O35,Q35,S35,U35,W35,Y35,AA35,AC35,AE35,AG35,AI35,AK35,AM35,AO35,AQ35,AS35,AU35,AW35,AY35,BA35,BC35,BE35,BG35,BI35),"") -> 13.887176 | BS35: =IF(SUM(B35,D35,F35,H35,J35,L35,N35,P35,R35,T35,V35,X35,Z35,AB35,AD35,AF35,AH35,AJ35,AL35,AN35,AP35,AR35,AT35,AV35,AX35,AZ35,BB35,BD35,BF35,BH35)>0,AVERAGE(B35,D35,F35,H35,J35,L35,N35,P35,R35,T35,V35,X35,Z35,AB35,AD35,AF35,AH35,AJ35,AL35,AN35,AP35,AR35,AT35,AV35,AX35,AZ35,BB35,BD35,BF35,BH35),"?") -> 7.102 | BT35: =IF(SUM(C35,E35,G35,I35,K35,M35,O35,Q35,S35,U35,W35,Y35,AA35,AC35,AE35,AG35,AI35,AK35,AM35,AO35,AQ35,AS35,AU35,AW35,AY35,BA35,BC35,BE35,BG35,BI35)>0,AVERAGE(C35,E35,G35,I35,K35,M35,O35,Q35,S35,U35,W35,Y35,AA35,AC35,AE35,AG35,AI35,AK35,AM35,AO35,AQ35,AS35,AU35,AW35,AY35,BA35,BC35,BE35,BG35,BI35),"?") -> 11.47833 | BU35: =IF(COUNT(B35,D35,F35,H35,J35,L35,N35,P35,R35,T35,V35,X35,Z35,AB35,AD35,AF35,AH35,AJ35,AL35,AN35,AP35,AR35,AT35,AV35,AX35,AZ35,BB35,BD35,BF35,BH35)>1,STDEV(B35,D35,F35,H35,J35,L35,N35,P35,R35,T35,V35,X35,Z35,AB35,AD35,AF35,AH35,AJ35,AL35,AN35,AP35,AR35,AT35,AV35,AX35,AZ35,BB35,BD35,BF35,BH35),"?") -> 0.87177134 | BV35: =IF(COUNT(C35,E35,G35,I35,K35,M35,O35,Q35,S35,U35,W35,Y35,AA35,AC35,AE35,AG35,AI35,AK35,AM35,AO35,AQ35,AS35,AU35,AW35,AY35,BA35,BC35,BE35,BG35,BI35)>1,STDEV(C35,E35,G35,I35,K35,M35,O35,Q35,S35,U35,W35,Y35,AA35,AC35,AE35,AG35,AI35,AK35,AM35,AO35,AQ35,AS35,AU35,AW35,AY35,BA35,BC35,BE35,BG35,BI35),"?") -> 1.1496381 | BW35: =IF(COUNT(B35)>0,B35,"?") -> 6.22 | BX35: =IF(COUNT(C35)>0,C35,"?") -> 9.7999055
A36: External branches length ratio | B36: =IF(AND((B34>0),(B33>0)),(B34/B33),"") -> 0.72618276 | C36: – | D36: =IF(AND((D34>0),(D33>0)),(D34/D33),"") -> 0.72986525 | E36: – | F36: =IF(AND((F34>0),(F33>0)),(F34/F33),"") -> 0.75965089 | G36: – | H36: =IF(AND((H34>0),(H33>0)),(H34/H33),"") -> 0.7356091 | I36: – | J36: =IF(AND((J34>0),(J33>0)),(J34/J33),"") -> 0.8733672 | K36: – | L36: =IF(AND((L34>0),(L33>0)),(L34/L33),"") -> 0.80384478 | M36: – | N36: =IF(AND((N34>0),(N33>0)),(N34/N33),"") -> 0.70345319 | O36: – | P36: =IF(AND((P34>0),(P33>0)),(P34/P33),"") | Q36: – | R36: =IF(AND((R34>0),(R33>0)),(R34/R33),"") -> 0.63203753 | S36: – | T36: =IF(AND((T34>0),(T33>0)),(T34/T33),"") -> 0.73445053 | U36: – | V36: =IF(AND((V34>0),(V33>0)),(V34/V33),"") -> 0.66799867 | W36: – | X36: =IF(AND((X34>0),(X33>0)),(X34/X33),"") -> 0.76023192 | Y36: – | Z36: =IF(AND((Z34>0),(Z33>0)),(Z34/Z33),"") -> 0.59714188 | AA36: – | AB36: =IF(AND((AB34>0),(AB33>0)),(AB34/AB33),"") -> 0.73263655 | AC36: – | AD36: =IF(AND((AD34>0),(AD33>0)),(AD34/AD33),"") -> 0.76001431 | AE36: – | AF36: =IF(AND((AF34>0),(AF33>0)),(AF34/AF33),"") -> 0.79570614 | AG36: – | AH36: =IF(AND((AH34>0),(AH33>0)),(AH34/AH33),"") -> 0.8155922 | AI36: – | AJ36: =IF(AND((AJ34>0),(AJ33>0)),(AJ34/AJ33),"") -> 0.75521046 | AK36: – | AL36: =IF(AND((AL34>0),(AL33>0)),(AL34/AL33),"") -> 0.69836066 | AM36: – | AN36: =IF(AND((AN34>0),(AN33>0)),(AN34/AN33),"") -> 0.74288179 | AO36: – | AP36: =IF(AND((AP34>0),(AP33>0)),(AP34/AP33),"") -> 0.73126266 | AQ36: – | AR36: =IF(AND((AR34>0),(AR33>0)),(AR34/AR33),"") -> 0.7601518 | AS36: – | AT36: =IF(AND((AT34>0),(AT33>0)),(AT34/AT33),"") | AU36: – | AV36: =IF(AND((AV34>0),(AV33>0)),(AV34/AV33),"") | AW36: – | AX36: =IF(AND((AX34>0),(AX33>0)),(AX34/AX33),"") | AY36: – | AZ36: =IF(AND((AZ34>0),(AZ33>0)),(AZ34/AZ33),"") | BA36: – | BB36: =IF(AND((BB34>0),(BB33>0)),(BB34/BB33),"") | BC36: – | BD36: =IF(AND((BD34>0),(BD33>0)),(BD34/BD33),"") | BE36: – | BF36: =IF(AND((BF34>0),(BF33>0)),(BF34/BF33),"") | BG36: – | BH36: =IF(AND((BH34>0),(BH33>0)),(BH34/BH33),"") | BI36: – | BK36: =A36 -> External branches length ratio | BL36: =COUNT(B36,D36,F36,H36,J36,L36,N36,P36,R36,T36,V36,X36,Z36,AB36,AD36,AF36,AH36,AJ36,AL36,AN36,AP36,AR36,AT36,AV36,AX36,AZ36,BB36,BD36,BF36,BH36) -> 21 | BM36: =IF(SUM(B36,D36,F36,H36,J36,L36,N36,P36,R36,T36,V36,X36,Z36,AB36,AD36,AF36,AH36,AJ36,AL36,AN36,AP36,AR36,AT36,AV36,AX36,AZ36,BB36,BD36,BF36,BH36)>0,MIN(B36,D36,F36,H36,J36,L36,N36,P36,R36,T36,V36,X36,Z36,AB36,AD36,AF36,AH36,AJ36,AL36,AN36,AP36,AR36,AT36,AV36,AX36,AZ36,BB36,BD36,BF36,BH36),"") -> 0.59714188 | BN36: =IF(COUNT(BM36)>0,"–","?") -> – | BO36: =IF(SUM(B36,D36,F36,H36,J36,L36,N36,P36,R36,T36,V36,X36,Z36,AB36,AD36,AF36,AH36,AJ36,AL36,AN36,AP36,AR36,AT36,AV36,AX36,AZ36,BB36,BD36,BF36,BH36)>0,MAX(B36,D36,F36,H36,J36,L36,N36,P36,R36,T36,V36,X36,Z36,AB36,AD36,AF36,AH36,AJ36,AL36,AN36,AP36,AR36,AT36,AV36,AX36,AZ36,BB36,BD36,BF36,BH36),"") -> 0.8733672 | BP36: =IF(SUM(C36,E36,G36,I36,K36,M36,O36,Q36,S36,U36,W36,Y36,AA36,AC36,AE36,AG36,AI36,AK36,AM36,AO36,AQ36,AS36,AU36,AW36,AY36,BA36,BC36,BE36,BG36,BI36)>0,MIN(C36,E36,G36,I36,K36,M36,O36,Q36,S36,U36,W36,Y36,AA36,AC36,AE36,AG36,AI36,AK36,AM36,AO36,AQ36,AS36,AU36,AW36,AY36,BA36,BC36,BE36,BG36,BI36),"") | BQ36: – | BR36: =IF(SUM(C36,E36,G36,I36,K36,M36,O36,Q36,S36,U36,W36,Y36,AA36,AC36,AE36,AG36,AI36,AK36,AM36,AO36,AQ36,AS36,AU36,AW36,AY36,BA36,BC36,BE36,BG36,BI36)>0,MAX(C36,E36,G36,I36,K36,M36,O36,Q36,S36,U36,W36,Y36,AA36,AC36,AE36,AG36,AI36,AK36,AM36,AO36,AQ36,AS36,AU36,AW36,AY36,BA36,BC36,BE36,BG36,BI36),"") | BS36: =IF(SUM(B36,D36,F36,H36,J36,L36,N36,P36,R36,T36,V36,X36,Z36,AB36,AD36,AF36,AH36,AJ36,AL36,AN36,AP36,AR36,AT36,AV36,AX36,AZ36,BB36,BD36,BF36,BH36)>0,AVERAGE(B36,D36,F36,H36,J36,L36,N36,P36,R36,T36,V36,X36,Z36,AB36,AD36,AF36,AH36,AJ36,AL36,AN36,AP36,AR36,AT36,AV36,AX36,AZ36,BB36,BD36,BF36,BH36),"?") -> 0.73884049 | BT36: – | BU36: =IF(COUNT(B36,D36,F36,H36,J36,L36,N36,P36,R36,T36,V36,X36,Z36,AB36,AD36,AF36,AH36,AJ36,AL36,AN36,AP36,AR36,AT36,AV36,AX36,AZ36,BB36,BD36,BF36,BH36)>1,STDEV(B36,D36,F36,H36,J36,L36,N36,P36,R36,T36,V36,X36,Z36,AB36,AD36,AF36,AH36,AJ36,AL36,AN36,AP36,AR36,AT36,AV36,AX36,AZ36,BB36,BD36,BF36,BH36),"?") -> 0.060533547 | BV36: – | BW36: =IF(COUNT(B36)>0,B36,"?") -> 0.72618276 | BX36: –
A37: Internal primary branch | B37: 32.27 | C37: =IF(AND((B37>0),(B$7>0)),(B37/B$7*100),"") -> 50.842918 | D37: 31.44 | E37: =IF(AND((D37>0),(D$7>0)),(D37/D$7*100),"") -> 47.80295 | F37: 30.15 | G37: =IF(AND((F37>0),(F$7>0)),(F37/F$7*100),"") -> 46.470407 | H37: 29.85 | I37: =IF(AND((H37>0),(H$7>0)),(H37/H$7*100),"") -> 50.033523 | J37: 29.65 | K37: =IF(AND((J37>0),(J$7>0)),(J37/J$7*100),"") -> 49.815188 | L37: 29.01 | M37: =IF(AND((L37>0),(L$7>0)),(L37/L$7*100),"") -> 41.342454 | N37: 26.89 | O37: =IF(AND((N37>0),(N$7>0)),(N37/N$7*100),"") -> 43.41999 | Q37: =IF(AND((P37>0),(P$7>0)),(P37/P$7*100),"") | R37: 29.03 | S37: =IF(AND((R37>0),(R$7>0)),(R37/R$7*100),"") -> 47.786008 | T37: 29.31 | U37: =IF(AND((T37>0),(T$7>0)),(T37/T$7*100),"") -> 47.373525 | V37: 29.41 | W37: =IF(AND((V37>0),(V$7>0)),(V37/V$7*100),"") -> 43.843172 | X37: 28.78 | Y37: =IF(AND((X37>0),(X$7>0)),(X37/X$7*100),"") -> 45.244458 | Z37: 26.95 | AA37: =IF(AND((Z37>0),(Z$7>0)),(Z37/Z$7*100),"") -> 46.959401 | AB37: 30.47 | AC37: =IF(AND((AB37>0),(AB$7>0)),(AB37/AB$7*100),"") -> 53.46552 | AD37: 29.2 | AE37: =IF(AND((AD37>0),(AD$7>0)),(AD37/AD$7*100),"") -> 44.737245 | AF37: 26.82 | AG37: =IF(AND((AF37>0),(AF$7>0)),(AF37/AF$7*100),"") -> 41.034272 | AH37: 25.64 | AI37: =IF(AND((AH37>0),(AH$7>0)),(AH37/AH$7*100),"") -> 43.583206 | AJ37: 25.39 | AK37: =IF(AND((AJ37>0),(AJ$7>0)),(AJ37/AJ$7*100),"") -> 43.896957 | AL37: 29.24 | AM37: =IF(AND((AL37>0),(AL$7>0)),(AL37/AL$7*100),"") -> 46.287795 | AN37: 21.9 | AO37: =IF(AND((AN37>0),(AN$7>0)),(AN37/AN$7*100),"") -> 38.974907 | AP37: 30.44 | AQ37: =IF(AND((AP37>0),(AP$7>0)),(AP37/AP$7*100),"") -> 50.14827 | AR37: 28.03 | AS37: =IF(AND((AR37>0),(AR$7>0)),(AR37/AR$7*100),"") -> 49.13234 | AU37: =IF(AND((AT37>0),(AT$7>0)),(AT37/AT$7*100),"") | AW37: =IF(AND((AV37>0),(AV$7>0)),(AV37/AV$7*100),"") | AY37: =IF(AND((AX37>0),(AX$7>0)),(AX37/AX$7*100),"") | BA37: =IF(AND((AZ37>0),(AZ$7>0)),(AZ37/AZ$7*100),"") | BC37: =IF(AND((BB37>0),(BB$7>0)),(BB37/BB$7*100),"") | BE37: =IF(AND((BD37>0),(BD$7>0)),(BD37/BD$7*100),"") | BG37: =IF(AND((BF37>0),(BF$7>0)),(BF37/BF$7*100),"") | BI37: =IF(AND((BH37>0),(BH$7>0)),(BH37/BH$7*100),"") | BK37: =A37 -> Internal primary branch | BL37: =COUNT(B37,D37,F37,H37,J37,L37,N37,P37,R37,T37,V37,X37,Z37,AB37,AD37,AF37,AH37,AJ37,AL37,AN37,AP37,AR37,AT37,AV37,AX37,AZ37,BB37,BD37,BF37,BH37) -> 21 | BM37: =IF(SUM(B37,D37,F37,H37,J37,L37,N37,P37,R37,T37,V37,X37,Z37,AB37,AD37,AF37,AH37,AJ37,AL37,AN37,AP37,AR37,AT37,AV37,AX37,AZ37,BB37,BD37,BF37,BH37)>0,MIN(B37,D37,F37,H37,J37,L37,N37,P37,R37,T37,V37,X37,Z37,AB37,AD37,AF37,AH37,AJ37,AL37,AN37,AP37,AR37,AT37,AV37,AX37,AZ37,BB37,BD37,BF37,BH37),"") -> 21.9 | BN37: =IF(COUNT(BM37)>0,"–","?") -> – | BO37: =IF(SUM(B37,D37,F37,H37,J37,L37,N37,P37,R37,T37,V37,X37,Z37,AB37,AD37,AF37,AH37,AJ37,AL37,AN37,AP37,AR37,AT37,AV37,AX37,AZ37,BB37,BD37,BF37,BH37)>0,MAX(B37,D37,F37,H37,J37,L37,N37,P37,R37,T37,V37,X37,Z37,AB37,AD37,AF37,AH37,AJ37,AL37,AN37,AP37,AR37,AT37,AV37,AX37,AZ37,BB37,BD37,BF37,BH37),"") -> 32.27 | BP37: =IF(SUM(C37,E37,G37,I37,K37,M37,O37,Q37,S37,U37,W37,Y37,AA37,AC37,AE37,AG37,AI37,AK37,AM37,AO37,AQ37,AS37,AU37,AW37,AY37,BA37,BC37,BE37,BG37,BI37)>0,MIN(C37,E37,G37,I37,K37,M37,O37,Q37,S37,U37,W37,Y37,AA37,AC37,AE37,AG37,AI37,AK37,AM37,AO37,AQ37,AS37,AU37,AW37,AY37,BA37,BC37,BE37,BG37,BI37),"") -> 38.974907 | BQ37: =IF(COUNT(BP37)>0,"–","?") -> – | BR37: =IF(SUM(C37,E37,G37,I37,K37,M37,O37,Q37,S37,U37,W37,Y37,AA37,AC37,AE37,AG37,AI37,AK37,AM37,AO37,AQ37,AS37,AU37,AW37,AY37,BA37,BC37,BE37,BG37,BI37)>0,MAX(C37,E37,G37,I37,K37,M37,O37,Q37,S37,U37,W37,Y37,AA37,AC37,AE37,AG37,AI37,AK37,AM37,AO37,AQ37,AS37,AU37,AW37,AY37,BA37,BC37,BE37,BG37,BI37),"") -> 53.46552 | BS37: =IF(SUM(B37,D37,F37,H37,J37,L37,N37,P37,R37,T37,V37,X37,Z37,AB37,AD37,AF37,AH37,AJ37,AL37,AN37,AP37,AR37,AT37,AV37,AX37,AZ37,BB37,BD37,BF37,BH37)>0,AVERAGE(B37,D37,F37,H37,J37,L37,N37,P37,R37,T37,V37,X37,Z37,AB37,AD37,AF37,AH37,AJ37,AL37,AN37,AP37,AR37,AT37,AV37,AX37,AZ37,BB37,BD37,BF37,BH37),"?") -> 28.565238 | BT37: =IF(SUM(C37,E37,G37,I37,K37,M37,O37,Q37,S37,U37,W37,Y37,AA37,AC37,AE37,AG37,AI37,AK37,AM37,AO37,AQ37,AS37,AU37,AW37,AY37,BA37,BC37,BE37,BG37,BI37)>0,AVERAGE(C37,E37,G37,I37,K37,M37,O37,Q37,S37,U37,W37,Y37,AA37,AC37,AE37,AG37,AI37,AK37,AM37,AO37,AQ37,AS37,AU37,AW37,AY37,BA37,BC37,BE37,BG37,BI37),"?") -> 46.294977 | BU37: =IF(COUNT(B37,D37,F37,H37,J37,L37,N37,P37,R37,T37,V37,X37,Z37,AB37,AD37,AF37,AH37,AJ37,AL37,AN37,AP37,AR37,AT37,AV37,AX37,AZ37,BB37,BD37,BF37,BH37)>1,STDEV(B37,D37,F37,H37,J37,L37,N37,P37,R37,T37,V37,X37,Z37,AB37,AD37,AF37,AH37,AJ37,AL37,AN37,AP37,AR37,AT37,AV37,AX37,AZ37,BB37,BD37,BF37,BH37),"?") -> 2.3331301 | BV37: =IF(COUNT(C37,E37,G37,I37,K37,M37,O37,Q37,S37,U37,W37,Y37,AA37,AC37,AE37,AG37,AI37,AK37,AM37,AO37,AQ37,AS37,AU37,AW37,AY37,BA37,BC37,BE37,BG37,BI37)>1,STDEV(C37,E37,G37,I37,K37,M37,O37,Q37,S37,U37,W37,Y37,AA37,AC37,AE37,AG37,AI37,AK37,AM37,AO37,AQ37,AS37,AU37,AW37,AY37,BA37,BC37,BE37,BG37,BI37),"?") -> 3.6345387 | BW37: =IF(COUNT(B37)>0,B37,"?") -> 32.27 | BX37: =IF(COUNT(C37)>0,C37,"?") -> 50.842918
A38: Internal base + secondary branch | B38: 22.16 | C38: =IF(AND((B38>0),(B$7>0)),(B38/B$7*100),"") -> 34.914133 | D38: 20.19 | E38: =IF(AND((D38>0),(D$7>0)),(D38/D$7*100),"") -> 30.697887 | F38: 20.98 | G38: =IF(AND((F38>0),(F$7>0)),(F38/F$7*100),"") -> 32.336621 | H38: 20.27 | I38: =IF(AND((H38>0),(H$7>0)),(H38/H$7*100),"") -> 33.975863 | J38: 23.56 | K38: =IF(AND((J38>0),(J$7>0)),(J38/J$7*100),"") -> 39.583333 | L38: 20.69 | M38: =IF(AND((L38>0),(L$7>0)),(L38/L$7*100),"") -> 29.485535 | N38: 19.81 | O38: =IF(AND((N38>0),(N$7>0)),(N38/N$7*100),"") -> 31.987728 | Q38: =IF(AND((P38>0),(P$7>0)),(P38/P$7*100),"") | R38: 19.53 | S38: =IF(AND((R38>0),(R$7>0)),(R38/R$7*100),"") -> 32.148148 | T38: 24.66 | U38: =IF(AND((T38>0),(T$7>0)),(T38/T$7*100),"") -> 39.857766 | V38: 21.3 | W38: =IF(AND((V38>0),(V$7>0)),(V38/V$7*100),"") -> 31.753131 | X38: 21.4 | Y38: =IF(AND((X38>0),(X$7>0)),(X38/X$7*100),"") -> 33.642509 | Z38: 18.53 | AA38: =IF(AND((Z38>0),(Z$7>0)),(Z38/Z$7*100),"") -> 32.287855 | AB38: 21.85 | AC38: =IF(AND((AB38>0),(AB$7>0)),(AB38/AB$7*100),"") -> 38.34006 | AD38: 20.78 | AE38: =IF(AND((AD38>0),(AD$7>0)),(AD38/AD$7*100),"") -> 31.836985 | AF38: 21.69 | AG38: =IF(AND((AF38>0),(AF$7>0)),(AF38/AF$7*100),"") -> 33.185435 | AH38: 21.07 | AI38: =IF(AND((AH38>0),(AH$7>0)),(AH38/AH$7*100),"") -> 35.81506 | AJ38: 19.2 | AK38: =IF(AND((AJ38>0),(AJ$7>0)),(AJ38/AJ$7*100),"") -> 33.195021 | AL38: 20.4 | AM38: =IF(AND((AL38>0),(AL$7>0)),(AL38/AL$7*100),"") -> 32.29381 | AN38: 16.73 | AO38: =IF(AND((AN38>0),(AN$7>0)),(AN38/AN$7*100),"") -> 29.773981 | AP38: 19.48 | AQ38: =IF(AND((AP38>0),(AP$7>0)),(AP38/AP$7*100),"") -> 32.092257 | AR38: 19.23 | AS38: =IF(AND((AR38>0),(AR$7>0)),(AR38/AR$7*100),"") -> 33.707274 | AU38: =IF(AND((AT38>0),(AT$7>0)),(AT38/AT$7*100),"") | AW38: =IF(AND((AV38>0),(AV$7>0)),(AV38/AV$7*100),"") | AY38: =IF(AND((AX38>0),(AX$7>0)),(AX38/AX$7*100),"") | BA38: =IF(AND((AZ38>0),(AZ$7>0)),(AZ38/AZ$7*100),"") | BC38: =IF(AND((BB38>0),(BB$7>0)),(BB38/BB$7*100),"") | BE38: =IF(AND((BD38>0),(BD$7>0)),(BD38/BD$7*100),"") | BG38: =IF(AND((BF38>0),(BF$7>0)),(BF38/BF$7*100),"") | BI38: =IF(AND((BH38>0),(BH$7>0)),(BH38/BH$7*100),"") | BK38: =A38 -> Internal base + secondary branch | BL38: =COUNT(B38,D38,F38,H38,J38,L38,N38,P38,R38,T38,V38,X38,Z38,AB38,AD38,AF38,AH38,AJ38,AL38,AN38,AP38,AR38,AT38,AV38,AX38,AZ38,BB38,BD38,BF38,BH38) -> 21 | BM38: =IF(SUM(B38,D38,F38,H38,J38,L38,N38,P38,R38,T38,V38,X38,Z38,AB38,AD38,AF38,AH38,AJ38,AL38,AN38,AP38,AR38,AT38,AV38,AX38,AZ38,BB38,BD38,BF38,BH38)>0,MIN(B38,D38,F38,H38,J38,L38,N38,P38,R38,T38,V38,X38,Z38,AB38,AD38,AF38,AH38,AJ38,AL38,AN38,AP38,AR38,AT38,AV38,AX38,AZ38,BB38,BD38,BF38,BH38),"") -> 16.73 | BN38: =IF(COUNT(BM38)>0,"–","?") -> – | BO38: =IF(SUM(B38,D38,F38,H38,J38,L38,N38,P38,R38,T38,V38,X38,Z38,AB38,AD38,AF38,AH38,AJ38,AL38,AN38,AP38,AR38,AT38,AV38,AX38,AZ38,BB38,BD38,BF38,BH38)>0,MAX(B38,D38,F38,H38,J38,L38,N38,P38,R38,T38,V38,X38,Z38,AB38,AD38,AF38,AH38,AJ38,AL38,AN38,AP38,AR38,AT38,AV38,AX38,AZ38,BB38,BD38,BF38,BH38),"") -> 24.66 | BP38: =IF(SUM(C38,E38,G38,I38,K38,M38,O38,Q38,S38,U38,W38,Y38,AA38,AC38,AE38,AG38,AI38,AK38,AM38,AO38,AQ38,AS38,AU38,AW38,AY38,BA38,BC38,BE38,BG38,BI38)>0,MIN(C38,E38,G38,I38,K38,M38,O38,Q38,S38,U38,W38,Y38,AA38,AC38,AE38,AG38,AI38,AK38,AM38,AO38,AQ38,AS38,AU38,AW38,AY38,BA38,BC38,BE38,BG38,BI38),"") -> 29.485535 | BQ38: =IF(COUNT(BP38)>0,"–","?") -> – | BR38: =IF(SUM(C38,E38,G38,I38,K38,M38,O38,Q38,S38,U38,W38,Y38,AA38,AC38,AE38,AG38,AI38,AK38,AM38,AO38,AQ38,AS38,AU38,AW38,AY38,BA38,BC38,BE38,BG38,BI38)>0,MAX(C38,E38,G38,I38,K38,M38,O38,Q38,S38,U38,W38,Y38,AA38,AC38,AE38,AG38,AI38,AK38,AM38,AO38,AQ38,AS38,AU38,AW38,AY38,BA38,BC38,BE38,BG38,BI38),"") -> 39.857766 | BS38: =IF(SUM(B38,D38,F38,H38,J38,L38,N38,P38,R38,T38,V38,X38,Z38,AB38,AD38,AF38,AH38,AJ38,AL38,AN38,AP38,AR38,AT38,AV38,AX38,AZ38,BB38,BD38,BF38,BH38)>0,AVERAGE(B38,D38,F38,H38,J38,L38,N38,P38,R38,T38,V38,X38,Z38,AB38,AD38,AF38,AH38,AJ38,AL38,AN38,AP38,AR38,AT38,AV38,AX38,AZ38,BB38,BD38,BF38,BH38),"?") -> 20.643333 | BT38: =IF(SUM(C38,E38,G38,I38,K38,M38,O38,Q38,S38,U38,W38,Y38,AA38,AC38,AE38,AG38,AI38,AK38,AM38,AO38,AQ38,AS38,AU38,AW38,AY38,BA38,BC38,BE38,BG38,BI38)>0,AVERAGE(C38,E38,G38,I38,K38,M38,O38,Q38,S38,U38,W38,Y38,AA38,AC38,AE38,AG38,AI38,AK38,AM38,AO38,AQ38,AS38,AU38,AW38,AY38,BA38,BC38,BE38,BG38,BI38),"?") -> 33.471923 | BU38: =IF(COUNT(B38,D38,F38,H38,J38,L38,N38,P38,R38,T38,V38,X38,Z38,AB38,AD38,AF38,AH38,AJ38,AL38,AN38,AP38,AR38,AT38,AV38,AX38,AZ38,BB38,BD38,BF38,BH38)>1,STDEV(B38,D38,F38,H38,J38,L38,N38,P38,R38,T38,V38,X38,Z38,AB38,AD38,AF38,AH38,AJ38,AL38,AN38,AP38,AR38,AT38,AV38,AX38,AZ38,BB38,BD38,BF38,BH38),"?") -> 1.7082867 | BV38: =IF(COUNT(C38,E38,G38,I38,K38,M38,O38,Q38,S38,U38,W38,Y38,AA38,AC38,AE38,AG38,AI38,AK38,AM38,AO38,AQ38,AS38,AU38,AW38,AY38,BA38,BC38,BE38,BG38,BI38)>1,STDEV(C38,E38,G38,I38,K38,M38,O38,Q38,S38,U38,W38,Y38,AA38,AC38,AE38,AG38,AI38,AK38,AM38,AO38,AQ38,AS38,AU38,AW38,AY38,BA38,BC38,BE38,BG38,BI38),"?") -> 2.8523738 | BW38: =IF(COUNT(B38)>0,B38,"?") -> 22.16 | BX38: =IF(COUNT(C38)>0,C38,"?") -> 34.914133
A39: Internal spur | B39: 7.07 | C39: =IF(AND((B39>0),(B$7>0)),(B39/B$7*100),"") -> 11.139121 | D39: 6.95 | E39: =IF(AND((D39>0),(D$7>0)),(D39/D$7*100),"") -> 10.567128 | F39: 7.25 | G39: =IF(AND((F39>0),(F$7>0)),(F39/F$7*100),"") -> 11.174476 | H39: 8.68 | I39: =IF(AND((H39>0),(H$7>0)),(H39/H$7*100),"") -> 14.549112 | J39: 8.27 | K39: =IF(AND((J39>0),(J$7>0)),(J39/J$7*100),"") -> 13.894489 | L39: 9.15 | M39: =IF(AND((L39>0),(L$7>0)),(L39/L$7*100),"") -> 13.039761 | N39: 7.01 | O39: =IF(AND((N39>0),(N$7>0)),(N39/N$7*100),"") -> 11.319231 | Q39: =IF(AND((P39>0),(P$7>0)),(P39/P$7*100),"") | S39: =IF(AND((R39>0),(R$7>0)),(R39/R$7*100),"") | T39: 6.8 | U39: =IF(AND((T39>0),(T$7>0)),(T39/T$7*100),"") -> 10.990787 | V39: 7.72 | W39: =IF(AND((V39>0),(V$7>0)),(V39/V$7*100),"") -> 11.508646 | X39: 7.53 | Y39: =IF(AND((X39>0),(X$7>0)),(X39/X$7*100),"") -> 11.837761 | Z39: 6.55 | AA39: =IF(AND((Z39>0),(Z$7>0)),(Z39/Z$7*100),"") -> 11.413138 | AB39: 8.54 | AC39: =IF(AND((AB39>0),(AB$7>0)),(AB39/AB$7*100),"") -> 14.985085 | AD39: 9.06 | AE39: =IF(AND((AD39>0),(AD$7>0)),(AD39/AD$7*100),"") -> 13.880803 | AF39: 9.09 | AG39: =IF(AND((AF39>0),(AF$7>0)),(AF39/AF$7*100),"") -> 13.907589 | AH39: 9.03 | AI39: =IF(AND((AH39>0),(AH$7>0)),(AH39/AH$7*100),"") -> 15.349312 | AJ39: 7.07 | AK39: =IF(AND((AJ39>0),(AJ$7>0)),(AJ39/AJ$7*100),"") -> 12.223375 | AL39: 7.31 | AM39: =IF(AND((AL39>0),(AL$7>0)),(AL39/AL$7*100),"") -> 11.571949 | AN39: 5.84 | AO39: =IF(AND((AN39>0),(AN$7>0)),(AN39/AN$7*100),"") -> 10.393308 | AP39: 8.06 | AQ39: =IF(AND((AP39>0),(AP$7>0)),(AP39/AP$7*100),"") -> 13.278418 | AR39: 6.94 | AS39: =IF(AND((AR39>0),(AR$7>0)),(AR39/AR$7*100),"") -> 12.164768 | AU39: =IF(AND((AT39>0),(AT$7>0)),(AT39/AT$7*100),"") | AW39: =IF(AND((AV39>0),(AV$7>0)),(AV39/AV$7*100),"") | AY39: =IF(AND((AX39>0),(AX$7>0)),(AX39/AX$7*100),"") | BA39: =IF(AND((AZ39>0),(AZ$7>0)),(AZ39/AZ$7*100),"") | BC39: =IF(AND((BB39>0),(BB$7>0)),(BB39/BB$7*100),"") | BE39: =IF(AND((BD39>0),(BD$7>0)),(BD39/BD$7*100),"") | BG39: =IF(AND((BF39>0),(BF$7>0)),(BF39/BF$7*100),"") | BI39: =IF(AND((BH39>0),(BH$7>0)),(BH39/BH$7*100),"") | BK39: =A39 -> Internal spur | BL39: =COUNT(B39,D39,F39,H39,J39,L39,N39,P39,R39,T39,V39,X39,Z39,AB39,AD39,AF39,AH39,AJ39,AL39,AN39,AP39,AR39,AT39,AV39,AX39,AZ39,BB39,BD39,BF39,BH39) -> 20 | BM39: =IF(SUM(B39,D39,F39,H39,J39,L39,N39,P39,R39,T39,V39,X39,Z39,AB39,AD39,AF39,AH39,AJ39,AL39,AN39,AP39,AR39,AT39,AV39,AX39,AZ39,BB39,BD39,BF39,BH39)>0,MIN(B39,D39,F39,H39,J39,L39,N39,P39,R39,T39,V39,X39,Z39,AB39,AD39,AF39,AH39,AJ39,AL39,AN39,AP39,AR39,AT39,AV39,AX39,AZ39,BB39,BD39,BF39,BH39),"") -> 5.84 | BN39: =IF(COUNT(BM39)>0,"–","?") -> – | BO39: =IF(SUM(B39,D39,F39,H39,J39,L39,N39,P39,R39,T39,V39,X39,Z39,AB39,AD39,AF39,AH39,AJ39,AL39,AN39,AP39,AR39,AT39,AV39,AX39,AZ39,BB39,BD39,BF39,BH39)>0,MAX(B39,D39,F39,H39,J39,L39,N39,P39,R39,T39,V39,X39,Z39,AB39,AD39,AF39,AH39,AJ39,AL39,AN39,AP39,AR39,AT39,AV39,AX39,AZ39,BB39,BD39,BF39,BH39),"") -> 9.15 | BP39: =IF(SUM(C39,E39,G39,I39,K39,M39,O39,Q39,S39,U39,W39,Y39,AA39,AC39,AE39,AG39,AI39,AK39,AM39,AO39,AQ39,AS39,AU39,AW39,AY39,BA39,BC39,BE39,BG39,BI39)>0,MIN(C39,E39,G39,I39,K39,M39,O39,Q39,S39,U39,W39,Y39,AA39,AC39,AE39,AG39,AI39,AK39,AM39,AO39,AQ39,AS39,AU39,AW39,AY39,BA39,BC39,BE39,BG39,BI39),"") -> 10.393308 | BQ39: =IF(COUNT(BP39)>0,"–","?") -> – | BR39: =IF(SUM(C39,E39,G39,I39,K39,M39,O39,Q39,S39,U39,W39,Y39,AA39,AC39,AE39,AG39,AI39,AK39,AM39,AO39,AQ39,AS39,AU39,AW39,AY39,BA39,BC39,BE39,BG39,BI39)>0,MAX(C39,E39,G39,I39,K39,M39,O39,Q39,S39,U39,W39,Y39,AA39,AC39,AE39,AG39,AI39,AK39,AM39,AO39,AQ39,AS39,AU39,AW39,AY39,BA39,BC39,BE39,BG39,BI39),"") -> 15.349312 | BS39: =IF(SUM(B39,D39,F39,H39,J39,L39,N39,P39,R39,T39,V39,X39,Z39,AB39,AD39,AF39,AH39,AJ39,AL39,AN39,AP39,AR39,AT39,AV39,AX39,AZ39,BB39,BD39,BF39,BH39)>0,AVERAGE(B39,D39,F39,H39,J39,L39,N39,P39,R39,T39,V39,X39,Z39,AB39,AD39,AF39,AH39,AJ39,AL39,AN39,AP39,AR39,AT39,AV39,AX39,AZ39,BB39,BD39,BF39,BH39),"?") -> 7.696 | BT39: =IF(SUM(C39,E39,G39,I39,K39,M39,O39,Q39,S39,U39,W39,Y39,AA39,AC39,AE39,AG39,AI39,AK39,AM39,AO39,AQ39,AS39,AU39,AW39,AY39,BA39,BC39,BE39,BG39,BI39)>0,AVERAGE(C39,E39,G39,I39,K39,M39,O39,Q39,S39,U39,W39,Y39,AA39,AC39,AE39,AG39,AI39,AK39,AM39,AO39,AQ39,AS39,AU39,AW39,AY39,BA39,BC39,BE39,BG39,BI39),"?") -> 12.459413 | BU39: =IF(COUNT(B39,D39,F39,H39,J39,L39,N39,P39,R39,T39,V39,X39,Z39,AB39,AD39,AF39,AH39,AJ39,AL39,AN39,AP39,AR39,AT39,AV39,AX39,AZ39,BB39,BD39,BF39,BH39)>1,STDEV(B39,D39,F39,H39,J39,L39,N39,P39,R39,T39,V39,X39,Z39,AB39,AD39,AF39,AH39,AJ39,AL39,AN39,AP39,AR39,AT39,AV39,AX39,AZ39,BB39,BD39,BF39,BH39),"?") -> 0.97762548 | BV39: =IF(COUNT(C39,E39,G39,I39,K39,M39,O39,Q39,S39,U39,W39,Y39,AA39,AC39,AE39,AG39,AI39,AK39,AM39,AO39,AQ39,AS39,AU39,AW39,AY39,BA39,BC39,BE39,BG39,BI39)>1,STDEV(C39,E39,G39,I39,K39,M39,O39,Q39,S39,U39,W39,Y39,AA39,AC39,AE39,AG39,AI39,AK39,AM39,AO39,AQ39,AS39,AU39,AW39,AY39,BA39,BC39,BE39,BG39,BI39),"?") -> 1.5269132 | BW39: =IF(COUNT(B39)>0,B39,"?") -> 7.07 | BX39: =IF(COUNT(C39)>0,C39,"?") -> 11.139121
A40: Internal branches length ratio | B40: =IF(AND((B38>0),(B37>0)),(B38/B37),"") -> 0.68670592 | C40: – | D40: =IF(AND((D38>0),(D37>0)),(D38/D37),"") -> 0.64217557 | E40: – | F40: =IF(AND((F38>0),(F37>0)),(F38/F37),"") -> 0.69585406 | G40: – | H40: =IF(AND((H38>0),(H37>0)),(H38/H37),"") -> 0.67906198 | I40: – | J40: =IF(AND((J38>0),(J37>0)),(J38/J37),"") -> 0.79460371 | K40: – | L40: =IF(AND((L38>0),(L37>0)),(L38/L37),"") -> 0.71320234 | M40: – | N40: =IF(AND((N38>0),(N37>0)),(N38/N37),"") -> 0.73670509 | O40: – | P40: =IF(AND((P38>0),(P37>0)),(P38/P37),"") | Q40: – | R40: =IF(AND((R38>0),(R37>0)),(R38/R37),"") -> 0.67275233 | S40: – | T40: =IF(AND((T38>0),(T37>0)),(T38/T37),"") -> 0.84135107 | U40: – | V40: =IF(AND((V38>0),(V37>0)),(V38/V37),"") -> 0.72424345 | W40: – | X40: =IF(AND((X38>0),(X37>0)),(X38/X37),"") -> 0.74357192 | Y40: – | Z40: =IF(AND((Z38>0),(Z37>0)),(Z38/Z37),"") -> 0.68756957 | AA40: – | AB40: =IF(AND((AB38>0),(AB37>0)),(AB38/AB37),"") -> 0.71709879 | AC40: – | AD40: =IF(AND((AD38>0),(AD37>0)),(AD38/AD37),"") -> 0.71164384 | AE40: – | AF40: =IF(AND((AF38>0),(AF37>0)),(AF38/AF37),"") -> 0.80872483 | AG40: – | AH40: =IF(AND((AH38>0),(AH37>0)),(AH38/AH37),"") -> 0.82176287 | AI40: – | AJ40: =IF(AND((AJ38>0),(AJ37>0)),(AJ38/AJ37),"") -> 0.75620323 | AK40: – | AL40: =IF(AND((AL38>0),(AL37>0)),(AL38/AL37),"") -> 0.69767442 | AM40: – | AN40: =IF(AND((AN38>0),(AN37>0)),(AN38/AN37),"") -> 0.76392694 | AO40: – | AP40: =IF(AND((AP38>0),(AP37>0)),(AP38/AP37),"") -> 0.63994744 | AQ40: – | AR40: =IF(AND((AR38>0),(AR37>0)),(AR38/AR37),"") -> 0.68605066 | AS40: – | AT40: =IF(AND((AT38>0),(AT37>0)),(AT38/AT37),"") | AU40: – | AV40: =IF(AND((AV38>0),(AV37>0)),(AV38/AV37),"") | AW40: – | AX40: =IF(AND((AX38>0),(AX37>0)),(AX38/AX37),"") | AY40: – | AZ40: =IF(AND((AZ38>0),(AZ37>0)),(AZ38/AZ37),"") | BA40: – | BB40: =IF(AND((BB38>0),(BB37>0)),(BB38/BB37),"") | BC40: – | BD40: =IF(AND((BD38>0),(BD37>0)),(BD38/BD37),"") | BE40: – | BF40: =IF(AND((BF38>0),(BF37>0)),(BF38/BF37),"") | BG40: – | BH40: =IF(AND((BH38>0),(BH37>0)),(BH38/BH37),"") | BI40: – | BK40: =A40 -> Internal branches length ratio | BL40: =COUNT(B40,D40,F40,H40,J40,L40,N40,P40,R40,T40,V40,X40,Z40,AB40,AD40,AF40,AH40,AJ40,AL40,AN40,AP40,AR40,AT40,AV40,AX40,AZ40,BB40,BD40,BF40,BH40) -> 21 | BM40: =IF(SUM(B40,D40,F40,H40,J40,L40,N40,P40,R40,T40,V40,X40,Z40,AB40,AD40,AF40,AH40,AJ40,AL40,AN40,AP40,AR40,AT40,AV40,AX40,AZ40,BB40,BD40,BF40,BH40)>0,MIN(B40,D40,F40,H40,J40,L40,N40,P40,R40,T40,V40,X40,Z40,AB40,AD40,AF40,AH40,AJ40,AL40,AN40,AP40,AR40,AT40,AV40,AX40,AZ40,BB40,BD40,BF40,BH40),"") -> 0.63994744 | BN40: =IF(COUNT(BM40)>0,"–","?") -> – | BO40: =IF(SUM(B40,D40,F40,H40,J40,L40,N40,P40,R40,T40,V40,X40,Z40,AB40,AD40,AF40,AH40,AJ40,AL40,AN40,AP40,AR40,AT40,AV40,AX40,AZ40,BB40,BD40,BF40,BH40)>0,MAX(B40,D40,F40,H40,J40,L40,N40,P40,R40,T40,V40,X40,Z40,AB40,AD40,AF40,AH40,AJ40,AL40,AN40,AP40,AR40,AT40,AV40,AX40,AZ40,BB40,BD40,BF40,BH40),"") -> 0.84135107 | BP40: =IF(SUM(C40,E40,G40,I40,K40,M40,O40,Q40,S40,U40,W40,Y40,AA40,AC40,AE40,AG40,AI40,AK40,AM40,AO40,AQ40,AS40,AU40,AW40,AY40,BA40,BC40,BE40,BG40,BI40)>0,MIN(C40,E40,G40,I40,K40,M40,O40,Q40,S40,U40,W40,Y40,AA40,AC40,AE40,AG40,AI40,AK40,AM40,AO40,AQ40,AS40,AU40,AW40,AY40,BA40,BC40,BE40,BG40,BI40),"") | BQ40: – | BR40: =IF(SUM(C40,E40,G40,I40,K40,M40,O40,Q40,S40,U40,W40,Y40,AA40,AC40,AE40,AG40,AI40,AK40,AM40,AO40,AQ40,AS40,AU40,AW40,AY40,BA40,BC40,BE40,BG40,BI40)>0,MAX(C40,E40,G40,I40,K40,M40,O40,Q40,S40,U40,W40,Y40,AA40,AC40,AE40,AG40,AI40,AK40,AM40,AO40,AQ40,AS40,AU40,AW40,AY40,BA40,BC40,BE40,BG40,BI40),"") | BS40: =IF(SUM(B40,D40,F40,H40,J40,L40,N40,P40,R40,T40,V40,X40,Z40,AB40,AD40,AF40,AH40,AJ40,AL40,AN40,AP40,AR40,AT40,AV40,AX40,AZ40,BB40,BD40,BF40,BH40)>0,AVERAGE(B40,D40,F40,H40,J40,L40,N40,P40,R40,T40,V40,X40,Z40,AB40,AD40,AF40,AH40,AJ40,AL40,AN40,AP40,AR40,AT40,AV40,AX40,AZ40,BB40,BD40,BF40,BH40),"?") -> 0.72480143 | BT40: – | BU40: =IF(COUNT(B40,D40,F40,H40,J40,L40,N40,P40,R40,T40,V40,X40,Z40,AB40,AD40,AF40,AH40,AJ40,AL40,AN40,AP40,AR40,AT40,AV40,AX40,AZ40,BB40,BD40,BF40,BH40)>1,STDEV(B40,D40,F40,H40,J40,L40,N40,P40,R40,T40,V40,X40,Z40,AB40,AD40,AF40,AH40,AJ40,AL40,AN40,AP40,AR40,AT40,AV40,AX40,AZ40,BB40,BD40,BF40,BH40),"?") -> 0.056133952 | BV40: – | BW40: =IF(COUNT(B40)>0,B40,"?") -> 0.68670592 | BX40: –
A41: Claw 4 lengths | BK41: =A41 -> Claw 4 lengths
A42: Anterior primary branch | B42: 36.82 | C42: =IF(AND((B42>0),(B$7>0)),(B42/B$7*100),"") -> 58.011659 | D42: 37.19 | E42: =IF(AND((D42>0),(D$7>0)),(D42/D$7*100),"") -> 56.545537 | F42: 35.43 | G42: =IF(AND((F42>0),(F$7>0)),(F42/F$7*100),"") -> 54.608508 | H42: 36.13 | I42: =IF(AND((H42>0),(H$7>0)),(H42/H$7*100),"") -> 60.559839 | J42: 34.95 | K42: =IF(AND((J42>0),(J$7>0)),(J42/J$7*100),"") -> 58.719758 | L42: 35.22 | M42: =IF(AND((L42>0),(L$7>0)),(L42/L$7*100),"") -> 50.19239 | N42: 36.93 | O42: =IF(AND((N42>0),(N$7>0)),(N42/N$7*100),"") -> 59.631842 | Q42: =IF(AND((P42>0),(P$7>0)),(P42/P$7*100),"") | R42: 34.12 | S42: =IF(AND((R42>0),(R$7>0)),(R42/R$7*100),"") -> 56.164609 | T42: 36.17 | U42: =IF(AND((T42>0),(T$7>0)),(T42/T$7*100),"") -> 58.46129 | V42: 31 | W42: =IF(AND((V42>0),(V$7>0)),(V42/V$7*100),"") -> 46.213476 | X42: 35.19 | Y42: =IF(AND((X42>0),(X$7>0)),(X42/X$7*100),"") -> 55.32149 | Z42: 30.44 | AA42: =IF(AND((Z42>0),(Z$7>0)),(Z42/Z$7*100),"") -> 53.040599 | AB42: 32.89 | AC42: =IF(AND((AB42>0),(AB$7>0)),(AB42/AB$7*100),"") -> 57.711879 | AD42: 33.59 | AE42: =IF(AND((AD42>0),(AD$7>0)),(AD42/AD$7*100),"") -> 51.463153 | AF42: 35.16 | AG42: =IF(AND((AF42>0),(AF$7>0)),(AF42/AF$7*100),"") -> 53.79437 | AI42: =IF(AND((AH42>0),(AH$7>0)),(AH42/AH$7*100),"") | AJ42: 31.01 | AK42: =IF(AND((AJ42>0),(AJ$7>0)),(AJ42/AJ$7*100),"") -> 53.613416 | AL42: 36.4 | AM42: =IF(AND((AL42>0),(AL$7>0)),(AL42/AL$7*100),"") -> 57.622289 | AN42: 25.15 | AO42: =IF(AND((AN42>0),(AN$7>0)),(AN42/AN$7*100),"") -> 44.758854 | AP42: 33.07 | AQ42: =IF(AND((AP42>0),(AP$7>0)),(AP42/AP$7*100),"") -> 54.481054 | AR42: 29.75 | AS42: =IF(AND((AR42>0),(AR$7>0)),(AR42/AR$7*100),"") -> 52.147239 | AU42: =IF(AND((AT42>0),(AT$7>0)),(AT42/AT$7*100),"") | AW42: =IF(AND((AV42>0),(AV$7>0)),(AV42/AV$7*100),"") | AY42: =IF(AND((AX42>0),(AX$7>0)),(AX42/AX$7*100),"") | BA42: =IF(AND((AZ42>0),(AZ$7>0)),(AZ42/AZ$7*100),"") | BC42: =IF(AND((BB42>0),(BB$7>0)),(BB42/BB$7*100),"") | BE42: =IF(AND((BD42>0),(BD$7>0)),(BD42/BD$7*100),"") | BG42: =IF(AND((BF42>0),(BF$7>0)),(BF42/BF$7*100),"") | BI42: =IF(AND((BH42>0),(BH$7>0)),(BH42/BH$7*100),"") | BK42: =A42 -> Anterior primary branch | BL42: =COUNT(B42,D42,F42,H42,J42,L42,N42,P42,R42,T42,V42,X42,Z42,AB42,AD42,AF42,AH42,AJ42,AL42,AN42,AP42,AR42,AT42,AV42,AX42,AZ42,BB42,BD42,BF42,BH42) -> 20 | BM42: =IF(SUM(B42,D42,F42,H42,J42,L42,N42,P42,R42,T42,V42,X42,Z42,AB42,AD42,AF42,AH42,AJ42,AL42,AN42,AP42,AR42,AT42,AV42,AX42,AZ42,BB42,BD42,BF42,BH42)>0,MIN(B42,D42,F42,H42,J42,L42,N42,P42,R42,T42,V42,X42,Z42,AB42,AD42,AF42,AH42,AJ42,AL42,AN42,AP42,AR42,AT42,AV42,AX42,AZ42,BB42,BD42,BF42,BH42),"") -> 25.15 | BN42: =IF(COUNT(BM42)>0,"–","?") -> – | BO42: =IF(SUM(B42,D42,F42,H42,J42,L42,N42,P42,R42,T42,V42,X42,Z42,AB42,AD42,AF42,AH42,AJ42,AL42,AN42,AP42,AR42,AT42,AV42,AX42,AZ42,BB42,BD42,BF42,BH42)>0,MAX(B42,D42,F42,H42,J42,L42,N42,P42,R42,T42,V42,X42,Z42,AB42,AD42,AF42,AH42,AJ42,AL42,AN42,AP42,AR42,AT42,AV42,AX42,AZ42,BB42,BD42,BF42,BH42),"") -> 37.19 | BP42: =IF(SUM(C42,E42,G42,I42,K42,M42,O42,Q42,S42,U42,W42,Y42,AA42,AC42,AE42,AG42,AI42,AK42,AM42,AO42,AQ42,AS42,AU42,AW42,AY42,BA42,BC42,BE42,BG42,BI42)>0,MIN(C42,E42,G42,I42,K42,M42,O42,Q42,S42,U42,W42,Y42,AA42,AC42,AE42,AG42,AI42,AK42,AM42,AO42,AQ42,AS42,AU42,AW42,AY42,BA42,BC42,BE42,BG42,BI42),"") -> 44.758854 | BQ42: =IF(COUNT(BP42)>0,"–","?") -> – | BR42: =IF(SUM(C42,E42,G42,I42,K42,M42,O42,Q42,S42,U42,W42,Y42,AA42,AC42,AE42,AG42,AI42,AK42,AM42,AO42,AQ42,AS42,AU42,AW42,AY42,BA42,BC42,BE42,BG42,BI42)>0,MAX(C42,E42,G42,I42,K42,M42,O42,Q42,S42,U42,W42,Y42,AA42,AC42,AE42,AG42,AI42,AK42,AM42,AO42,AQ42,AS42,AU42,AW42,AY42,BA42,BC42,BE42,BG42,BI42),"") -> 60.559839 | BS42: =IF(SUM(B42,D42,F42,H42,J42,L42,N42,P42,R42,T42,V42,X42,Z42,AB42,AD42,AF42,AH42,AJ42,AL42,AN42,AP42,AR42,AT42,AV42,AX42,AZ42,BB42,BD42,BF42,BH42)>0,AVERAGE(B42,D42,F42,H42,J42,L42,N42,P42,R42,T42,V42,X42,Z42,AB42,AD42,AF42,AH42,AJ42,AL42,AN42,AP42,AR42,AT42,AV42,AX42,AZ42,BB42,BD42,BF42,BH42),"?") -> 33.8305 | BT42: =IF(SUM(C42,E42,G42,I42,K42,M42,O42,Q42,S42,U42,W42,Y42,AA42,AC42,AE42,AG42,AI42,AK42,AM42,AO42,AQ42,AS42,AU42,AW42,AY42,BA42,BC42,BE42,BG42,BI42)>0,AVERAGE(C42,E42,G42,I42,K42,M42,O42,Q42,S42,U42,W42,Y42,AA42,AC42,AE42,AG42,AI42,AK42,AM42,AO42,AQ42,AS42,AU42,AW42,AY42,BA42,BC42,BE42,BG42,BI42),"?") -> 54.653163 | BU42: =IF(COUNT(B42,D42,F42,H42,J42,L42,N42,P42,R42,T42,V42,X42,Z42,AB42,AD42,AF42,AH42,AJ42,AL42,AN42,AP42,AR42,AT42,AV42,AX42,AZ42,BB42,BD42,BF42,BH42)>1,STDEV(B42,D42,F42,H42,J42,L42,N42,P42,R42,T42,V42,X42,Z42,AB42,AD42,AF42,AH42,AJ42,AL42,AN42,AP42,AR42,AT42,AV42,AX42,AZ42,BB42,BD42,BF42,BH42),"?") -> 3.0575213 | BV42: =IF(COUNT(C42,E42,G42,I42,K42,M42,O42,Q42,S42,U42,W42,Y42,AA42,AC42,AE42,AG42,AI42,AK42,AM42,AO42,AQ42,AS42,AU42,AW42,AY42,BA42,BC42,BE42,BG42,BI42)>1,STDEV(C42,E42,G42,I42,K42,M42,O42,Q42,S42,U42,W42,Y42,AA42,AC42,AE42,AG42,AI42,AK42,AM42,AO42,AQ42,AS42,AU42,AW42,AY42,BA42,BC42,BE42,BG42,BI42),"?") -> 4.2078173 | BW42: =IF(COUNT(B42)>0,B42,"?") -> 36.82 | BX42: =IF(COUNT(C42)>0,C42,"?") -> 58.011659
A43: Anterior base + secondary branch | B43: 23.66 | C43: =IF(AND((B43>0),(B$7>0)),(B43/B$7*100),"") -> 37.277454 | D43: 23.71 | E43: =IF(AND((D43>0),(D$7>0)),(D43/D$7*100),"") -> 36.049871 | F43: 26.88 | G43: =IF(AND((F43>0),(F$7>0)),(F43/F$7*100),"") -> 41.430333 | H43: 25.14 | I43: =IF(AND((H43>0),(H$7>0)),(H43/H$7*100),"") -> 42.138786 | J43: 23.46 | K43: =IF(AND((J43>0),(J$7>0)),(J43/J$7*100),"") -> 39.415323 | L43: 24.73 | M43: =IF(AND((L43>0),(L$7>0)),(L43/L$7*100),"") -> 35.242981 | N43: 21.63 | O43: =IF(AND((N43>0),(N$7>0)),(N43/N$7*100),"") -> 34.92653 | Q43: =IF(AND((P43>0),(P$7>0)),(P43/P$7*100),"") | R43: 21.78 | S43: =IF(AND((R43>0),(R$7>0)),(R43/R$7*100),"") -> 35.851852 | T43: 24.95 | U43: =IF(AND((T43>0),(T$7>0)),(T43/T$7*100),"") -> 40.326491 | V43: 25.06 | W43: =IF(AND((V43>0),(V$7>0)),(V43/V$7*100),"") -> 37.358378 | X43: 25.83 | Y43: =IF(AND((X43>0),(X$7>0)),(X43/X$7*100),"") -> 40.606823 | Z43: 20.56 | AA43: =IF(AND((Z43>0),(Z$7>0)),(Z43/Z$7*100),"") -> 35.825057 | AB43: 21.44 | AC43: =IF(AND((AB43>0),(AB$7>0)),(AB43/AB$7*100),"") -> 37.620635 | AD43: 21.25 | AE43: =IF(AND((AD43>0),(AD$7>0)),(AD43/AD$7*100),"") -> 32.557071 | AF43: 23.93 | AG43: =IF(AND((AF43>0),(AF$7>0)),(AF43/AF$7*100),"") -> 36.612607 | AI43: =IF(AND((AH43>0),(AH$7>0)),(AH43/AH$7*100),"") | AJ43: 21.21 | AK43: =IF(AND((AJ43>0),(AJ$7>0)),(AJ43/AJ$7*100),"") -> 36.670124 | AL43: 24.44 | AM43: =IF(AND((AL43>0),(AL$7>0)),(AL43/AL$7*100),"") -> 38.689251 | AN43: 18.58 | AO43: =IF(AND((AN43>0),(AN$7>0)),(AN43/AN$7*100),"") -> 33.066382 | AP43: 22.78 | AQ43: =IF(AND((AP43>0),(AP$7>0)),(AP43/AP$7*100),"") -> 37.52883 | AR43: 18.99 | AS43: =IF(AND((AR43>0),(AR$7>0)),(AR43/AR$7*100),"") -> 33.286591 | AU43: =IF(AND((AT43>0),(AT$7>0)),(AT43/AT$7*100),"") | AW43: =IF(AND((AV43>0),(AV$7>0)),(AV43/AV$7*100),"") | AY43: =IF(AND((AX43>0),(AX$7>0)),(AX43/AX$7*100),"") | BA43: =IF(AND((AZ43>0),(AZ$7>0)),(AZ43/AZ$7*100),"") | BC43: =IF(AND((BB43>0),(BB$7>0)),(BB43/BB$7*100),"") | BE43: =IF(AND((BD43>0),(BD$7>0)),(BD43/BD$7*100),"") | BG43: =IF(AND((BF43>0),(BF$7>0)),(BF43/BF$7*100),"") | BI43: =IF(AND((BH43>0),(BH$7>0)),(BH43/BH$7*100),"") | BK43: =A43 -> Anterior base + secondary branch | BL43: =COUNT(B43,D43,F43,H43,J43,L43,N43,P43,R43,T43,V43,X43,Z43,AB43,AD43,AF43,AH43,AJ43,AL43,AN43,AP43,AR43,AT43,AV43,AX43,AZ43,BB43,BD43,BF43,BH43) -> 20 | BM43: =IF(SUM(B43,D43,F43,H43,J43,L43,N43,P43,R43,T43,V43,X43,Z43,AB43,AD43,AF43,AH43,AJ43,AL43,AN43,AP43,AR43,AT43,AV43,AX43,AZ43,BB43,BD43,BF43,BH43)>0,MIN(B43,D43,F43,H43,J43,L43,N43,P43,R43,T43,V43,X43,Z43,AB43,AD43,AF43,AH43,AJ43,AL43,AN43,AP43,AR43,AT43,AV43,AX43,AZ43,BB43,BD43,BF43,BH43),"") -> 18.58 | BN43: =IF(COUNT(BM43)>0,"–","?") -> – | BO43: =IF(SUM(B43,D43,F43,H43,J43,L43,N43,P43,R43,T43,V43,X43,Z43,AB43,AD43,AF43,AH43,AJ43,AL43,AN43,AP43,AR43,AT43,AV43,AX43,AZ43,BB43,BD43,BF43,BH43)>0,MAX(B43,D43,F43,H43,J43,L43,N43,P43,R43,T43,V43,X43,Z43,AB43,AD43,AF43,AH43,AJ43,AL43,AN43,AP43,AR43,AT43,AV43,AX43,AZ43,BB43,BD43,BF43,BH43),"") -> 26.88 | BP43: =IF(SUM(C43,E43,G43,I43,K43,M43,O43,Q43,S43,U43,W43,Y43,AA43,AC43,AE43,AG43,AI43,AK43,AM43,AO43,AQ43,AS43,AU43,AW43,AY43,BA43,BC43,BE43,BG43,BI43)>0,MIN(C43,E43,G43,I43,K43,M43,O43,Q43,S43,U43,W43,Y43,AA43,AC43,AE43,AG43,AI43,AK43,AM43,AO43,AQ43,AS43,AU43,AW43,AY43,BA43,BC43,BE43,BG43,BI43),"") -> 32.557071 | BQ43: =IF(COUNT(BP43)>0,"–","?") -> – | BR43: =IF(SUM(C43,E43,G43,I43,K43,M43,O43,Q43,S43,U43,W43,Y43,AA43,AC43,AE43,AG43,AI43,AK43,AM43,AO43,AQ43,AS43,AU43,AW43,AY43,BA43,BC43,BE43,BG43,BI43)>0,MAX(C43,E43,G43,I43,K43,M43,O43,Q43,S43,U43,W43,Y43,AA43,AC43,AE43,AG43,AI43,AK43,AM43,AO43,AQ43,AS43,AU43,AW43,AY43,BA43,BC43,BE43,BG43,BI43),"") -> 42.138786 | BS43: =IF(SUM(B43,D43,F43,H43,J43,L43,N43,P43,R43,T43,V43,X43,Z43,AB43,AD43,AF43,AH43,AJ43,AL43,AN43,AP43,AR43,AT43,AV43,AX43,AZ43,BB43,BD43,BF43,BH43)>0,AVERAGE(B43,D43,F43,H43,J43,L43,N43,P43,R43,T43,V43,X43,Z43,AB43,AD43,AF43,AH43,AJ43,AL43,AN43,AP43,AR43,AT43,AV43,AX43,AZ43,BB43,BD43,BF43,BH43),"?") -> 23.0005 | BT43: =IF(SUM(C43,E43,G43,I43,K43,M43,O43,Q43,S43,U43,W43,Y43,AA43,AC43,AE43,AG43,AI43,AK43,AM43,AO43,AQ43,AS43,AU43,AW43,AY43,BA43,BC43,BE43,BG43,BI43)>0,AVERAGE(C43,E43,G43,I43,K43,M43,O43,Q43,S43,U43,W43,Y43,AA43,AC43,AE43,AG43,AI43,AK43,AM43,AO43,AQ43,AS43,AU43,AW43,AY43,BA43,BC43,BE43,BG43,BI43),"?") -> 37.124068 | BU43: =IF(COUNT(B43,D43,F43,H43,J43,L43,N43,P43,R43,T43,V43,X43,Z43,AB43,AD43,AF43,AH43,AJ43,AL43,AN43,AP43,AR43,AT43,AV43,AX43,AZ43,BB43,BD43,BF43,BH43)>1,STDEV(B43,D43,F43,H43,J43,L43,N43,P43,R43,T43,V43,X43,Z43,AB43,AD43,AF43,AH43,AJ43,AL43,AN43,AP43,AR43,AT43,AV43,AX43,AZ43,BB43,BD43,BF43,BH43),"?") -> 2.2531346 | BV43: =IF(COUNT(C43,E43,G43,I43,K43,M43,O43,Q43,S43,U43,W43,Y43,AA43,AC43,AE43,AG43,AI43,AK43,AM43,AO43,AQ43,AS43,AU43,AW43,AY43,BA43,BC43,BE43,BG43,BI43)>1,STDEV(C43,E43,G43,I43,K43,M43,O43,Q43,S43,U43,W43,Y43,AA43,AC43,AE43,AG43,AI43,AK43,AM43,AO43,AQ43,AS43,AU43,AW43,AY43,BA43,BC43,BE43,BG43,BI43),"?") -> 2.7106864 | BW43: =IF(COUNT(B43)>0,B43,"?") -> 23.66 | BX43: =IF(COUNT(C43)>0,C43,"?") -> 37.277454
A44: Anterior spur | B44: 7.53 | C44: =IF(AND((B44>0),(B$7>0)),(B44/B$7*100),"") -> 11.863873 | D44: 9.16 | E44: =IF(AND((D44>0),(D$7>0)),(D44/D$7*100),"") -> 13.927322 | F44: 10.34 | G44: =IF(AND((F44>0),(F$7>0)),(F44/F$7*100),"") -> 15.937115 | H44: 7.72 | I44: =IF(AND((H44>0),(H$7>0)),(H44/H$7*100),"") -> 12.939993 | J44: 10.31 | K44: =IF(AND((J44>0),(J$7>0)),(J44/J$7*100),"") -> 17.321909 | L44: 8.82 | M44: =IF(AND((L44>0),(L$7>0)),(L44/L$7*100),"") -> 12.569474 | N44: 9.96 | O44: =IF(AND((N44>0),(N$7>0)),(N44/N$7*100),"") -> 16.082674 | Q44: =IF(AND((P44>0),(P$7>0)),(P44/P$7*100),"") | R44: 6.02 | S44: =IF(AND((R44>0),(R$7>0)),(R44/R$7*100),"") -> 9.909465 | T44: 7.62 | U44: =IF(AND((T44>0),(T$7>0)),(T44/T$7*100),"") -> 12.316147 | V44: 7.04 | W44: =IF(AND((V44>0),(V$7>0)),(V44/V$7*100),"") -> 10.494931 | X44: 8.43 | Y44: =IF(AND((X44>0),(X$7>0)),(X44/X$7*100),"") -> 13.252633 | Z44: 7.65 | AA44: =IF(AND((Z44>0),(Z$7>0)),(Z44/Z$7*100),"") -> 13.329848 | AB44: 9.63 | AC44: =IF(AND((AB44>0),(AB$7>0)),(AB44/AB$7*100),"") -> 16.897701 | AD44: 8.19 | AE44: =IF(AND((AD44>0),(AD$7>0)),(AD44/AD$7*100),"") -> 12.547878 | AF44: 9.96 | AG44: =IF(AND((AF44>0),(AF$7>0)),(AF44/AF$7*100),"") -> 15.238678 | AI44: =IF(AND((AH44>0),(AH$7>0)),(AH44/AH$7*100),"") | AJ44: 7.97 | AK44: =IF(AND((AJ44>0),(AJ$7>0)),(AJ44/AJ$7*100),"") -> 13.779391 | AL44: 8.25 | AM44: =IF(AND((AL44>0),(AL$7>0)),(AL44/AL$7*100),"") -> 13.059997 | AN44: 6.09 | AO44: =IF(AND((AN44>0),(AN$7>0)),(AN44/AN$7*100),"") -> 10.838227 | AP44: 9.9 | AQ44: =IF(AND((AP44>0),(AP$7>0)),(AP44/AP$7*100),"") -> 16.30972 | AR44: 8.07 | AS44: =IF(AND((AR44>0),(AR$7>0)),(AR44/AR$7*100),"") -> 14.145486 | AU44: =IF(AND((AT44>0),(AT$7>0)),(AT44/AT$7*100),"") | AW44: =IF(AND((AV44>0),(AV$7>0)),(AV44/AV$7*100),"") | AY44: =IF(AND((AX44>0),(AX$7>0)),(AX44/AX$7*100),"") | BA44: =IF(AND((AZ44>0),(AZ$7>0)),(AZ44/AZ$7*100),"") | BC44: =IF(AND((BB44>0),(BB$7>0)),(BB44/BB$7*100),"") | BE44: =IF(AND((BD44>0),(BD$7>0)),(BD44/BD$7*100),"") | BG44: =IF(AND((BF44>0),(BF$7>0)),(BF44/BF$7*100),"") | BI44: =IF(AND((BH44>0),(BH$7>0)),(BH44/BH$7*100),"") | BK44: =A44 -> Anterior spur | BL44: =COUNT(B44,D44,F44,H44,J44,L44,N44,P44,R44,T44,V44,X44,Z44,AB44,AD44,AF44,AH44,AJ44,AL44,AN44,AP44,AR44,AT44,AV44,AX44,AZ44,BB44,BD44,BF44,BH44) -> 20 | BM44: =IF(SUM(B44,D44,F44,H44,J44,L44,N44,P44,R44,T44,V44,X44,Z44,AB44,AD44,AF44,AH44,AJ44,AL44,AN44,AP44,AR44,AT44,AV44,AX44,AZ44,BB44,BD44,BF44,BH44)>0,MIN(B44,D44,F44,H44,J44,L44,N44,P44,R44,T44,V44,X44,Z44,AB44,AD44,AF44,AH44,AJ44,AL44,AN44,AP44,AR44,AT44,AV44,AX44,AZ44,BB44,BD44,BF44,BH44),"") -> 6.02 | BN44: =IF(COUNT(BM44)>0,"–","?") -> – | BO44: =IF(SUM(B44,D44,F44,H44,J44,L44,N44,P44,R44,T44,V44,X44,Z44,AB44,AD44,AF44,AH44,AJ44,AL44,AN44,AP44,AR44,AT44,AV44,AX44,AZ44,BB44,BD44,BF44,BH44)>0,MAX(B44,D44,F44,H44,J44,L44,N44,P44,R44,T44,V44,X44,Z44,AB44,AD44,AF44,AH44,AJ44,AL44,AN44,AP44,AR44,AT44,AV44,AX44,AZ44,BB44,BD44,BF44,BH44),"") -> 10.34 | BP44: =IF(SUM(C44,E44,G44,I44,K44,M44,O44,Q44,S44,U44,W44,Y44,AA44,AC44,AE44,AG44,AI44,AK44,AM44,AO44,AQ44,AS44,AU44,AW44,AY44,BA44,BC44,BE44,BG44,BI44)>0,MIN(C44,E44,G44,I44,K44,M44,O44,Q44,S44,U44,W44,Y44,AA44,AC44,AE44,AG44,AI44,AK44,AM44,AO44,AQ44,AS44,AU44,AW44,AY44,BA44,BC44,BE44,BG44,BI44),"") -> 9.909465 | BQ44: =IF(COUNT(BP44)>0,"–","?") -> – | BR44: =IF(SUM(C44,E44,G44,I44,K44,M44,O44,Q44,S44,U44,W44,Y44,AA44,AC44,AE44,AG44,AI44,AK44,AM44,AO44,AQ44,AS44,AU44,AW44,AY44,BA44,BC44,BE44,BG44,BI44)>0,MAX(C44,E44,G44,I44,K44,M44,O44,Q44,S44,U44,W44,Y44,AA44,AC44,AE44,AG44,AI44,AK44,AM44,AO44,AQ44,AS44,AU44,AW44,AY44,BA44,BC44,BE44,BG44,BI44),"") -> 17.321909 | BS44: =IF(SUM(B44,D44,F44,H44,J44,L44,N44,P44,R44,T44,V44,X44,Z44,AB44,AD44,AF44,AH44,AJ44,AL44,AN44,AP44,AR44,AT44,AV44,AX44,AZ44,BB44,BD44,BF44,BH44)>0,AVERAGE(B44,D44,F44,H44,J44,L44,N44,P44,R44,T44,V44,X44,Z44,AB44,AD44,AF44,AH44,AJ44,AL44,AN44,AP44,AR44,AT44,AV44,AX44,AZ44,BB44,BD44,BF44,BH44),"?") -> 8.433 | BT44: =IF(SUM(C44,E44,G44,I44,K44,M44,O44,Q44,S44,U44,W44,Y44,AA44,AC44,AE44,AG44,AI44,AK44,AM44,AO44,AQ44,AS44,AU44,AW44,AY44,BA44,BC44,BE44,BG44,BI44)>0,AVERAGE(C44,E44,G44,I44,K44,M44,O44,Q44,S44,U44,W44,Y44,AA44,AC44,AE44,AG44,AI44,AK44,AM44,AO44,AQ44,AS44,AU44,AW44,AY44,BA44,BC44,BE44,BG44,BI44),"?") -> 13.638123 | BU44: =IF(COUNT(B44,D44,F44,H44,J44,L44,N44,P44,R44,T44,V44,X44,Z44,AB44,AD44,AF44,AH44,AJ44,AL44,AN44,AP44,AR44,AT44,AV44,AX44,AZ44,BB44,BD44,BF44,BH44)>1,STDEV(B44,D44,F44,H44,J44,L44,N44,P44,R44,T44,V44,X44,Z44,AB44,AD44,AF44,AH44,AJ44,AL44,AN44,AP44,AR44,AT44,AV44,AX44,AZ44,BB44,BD44,BF44,BH44),"?") -> 1.3053658 | BV44: =IF(COUNT(C44,E44,G44,I44,K44,M44,O44,Q44,S44,U44,W44,Y44,AA44,AC44,AE44,AG44,AI44,AK44,AM44,AO44,AQ44,AS44,AU44,AW44,AY44,BA44,BC44,BE44,BG44,BI44)>1,STDEV(C44,E44,G44,I44,K44,M44,O44,Q44,S44,U44,W44,Y44,AA44,AC44,AE44,AG44,AI44,AK44,AM44,AO44,AQ44,AS44,AU44,AW44,AY44,BA44,BC44,BE44,BG44,BI44),"?") -> 2.1204515 | BW44: =IF(COUNT(B44)>0,B44,"?") -> 7.53 | BX44: =IF(COUNT(C44)>0,C44,"?") -> 11.863873
A45: Anterior branches length ratio | B45: =IF(AND((B43>0),(B42>0)),(B43/B42),"") -> 0.64258555 | C45: – | D45: =IF(AND((D43>0),(D42>0)),(D43/D42),"") -> 0.63753697 | E45: – | F45: =IF(AND((F43>0),(F42>0)),(F43/F42),"") -> 0.75867909 | G45: – | H45: =IF(AND((H43>0),(H42>0)),(H43/H42),"") -> 0.69582065 | I45: – | J45: =IF(AND((J43>0),(J42>0)),(J43/J42),"") -> 0.67124464 | K45: – | L45: =IF(AND((L43>0),(L42>0)),(L43/L42),"") -> 0.70215786 | M45: – | N45: =IF(AND((N43>0),(N42>0)),(N43/N42),"") -> 0.58570268 | O45: – | P45: =IF(AND((P43>0),(P42>0)),(P43/P42),"") | Q45: – | R45: =IF(AND((R43>0),(R42>0)),(R43/R42),"") -> 0.63833529 | S45: – | T45: =IF(AND((T43>0),(T42>0)),(T43/T42),"") -> 0.68979818 | U45: – | V45: =IF(AND((V43>0),(V42>0)),(V43/V42),"") -> 0.8083871 | W45: – | X45: =IF(AND((X43>0),(X42>0)),(X43/X42),"") -> 0.73401535 | Y45: – | Z45: =IF(AND((Z43>0),(Z42>0)),(Z43/Z42),"") -> 0.67542707 | AA45: – | AB45: =IF(AND((AB43>0),(AB42>0)),(AB43/AB42),"") -> 0.65186987 | AC45: – | AD45: =IF(AND((AD43>0),(AD42>0)),(AD43/AD42),"") -> 0.63262876 | AE45: – | AF45: =IF(AND((AF43>0),(AF42>0)),(AF43/AF42),"") -> 0.68060296 | AG45: – | AH45: =IF(AND((AH43>0),(AH42>0)),(AH43/AH42),"") | AI45: – | AJ45: =IF(AND((AJ43>0),(AJ42>0)),(AJ43/AJ42),"") -> 0.68397291 | AK45: – | AL45: =IF(AND((AL43>0),(AL42>0)),(AL43/AL42),"") -> 0.67142857 | AM45: – | AN45: =IF(AND((AN43>0),(AN42>0)),(AN43/AN42),"") -> 0.7387674 | AO45: – | AP45: =IF(AND((AP43>0),(AP42>0)),(AP43/AP42),"") -> 0.68884185 | AQ45: – | AR45: =IF(AND((AR43>0),(AR42>0)),(AR43/AR42),"") -> 0.63831933 | AS45: – | AT45: =IF(AND((AT43>0),(AT42>0)),(AT43/AT42),"") | AU45: – | AV45: =IF(AND((AV43>0),(AV42>0)),(AV43/AV42),"") | AW45: – | AX45: =IF(AND((AX43>0),(AX42>0)),(AX43/AX42),"") | AY45: – | AZ45: =IF(AND((AZ43>0),(AZ42>0)),(AZ43/AZ42),"") | BA45: – | BB45: =IF(AND((BB43>0),(BB42>0)),(BB43/BB42),"") | BC45: – | BD45: =IF(AND((BD43>0),(BD42>0)),(BD43/BD42),"") | BE45: – | BF45: =IF(AND((BF43>0),(BF42>0)),(BF43/BF42),"") | BG45: – | BH45: =IF(AND((BH43>0),(BH42>0)),(BH43/BH42),"") | BI45: – | BK45: =A45 -> Anterior branches length ratio | BL45: =COUNT(B45,D45,F45,H45,J45,L45,N45,P45,R45,T45,V45,X45,Z45,AB45,AD45,AF45,AH45,AJ45,AL45,AN45,AP45,AR45,AT45,AV45,AX45,AZ45,BB45,BD45,BF45,BH45) -> 20 | BM45: =IF(SUM(B45,D45,F45,H45,J45,L45,N45,P45,R45,T45,V45,X45,Z45,AB45,AD45,AF45,AH45,AJ45,AL45,AN45,AP45,AR45,AT45,AV45,AX45,AZ45,BB45,BD45,BF45,BH45)>0,MIN(B45,D45,F45,H45,J45,L45,N45,P45,R45,T45,V45,X45,Z45,AB45,AD45,AF45,AH45,AJ45,AL45,AN45,AP45,AR45,AT45,AV45,AX45,AZ45,BB45,BD45,BF45,BH45),"") -> 0.58570268 | BN45: =IF(COUNT(BM45)>0,"–","?") -> – | BO45: =IF(SUM(B45,D45,F45,H45,J45,L45,N45,P45,R45,T45,V45,X45,Z45,AB45,AD45,AF45,AH45,AJ45,AL45,AN45,AP45,AR45,AT45,AV45,AX45,AZ45,BB45,BD45,BF45,BH45)>0,MAX(B45,D45,F45,H45,J45,L45,N45,P45,R45,T45,V45,X45,Z45,AB45,AD45,AF45,AH45,AJ45,AL45,AN45,AP45,AR45,AT45,AV45,AX45,AZ45,BB45,BD45,BF45,BH45),"") -> 0.8083871 | BP45: =IF(SUM(C45,E45,G45,I45,K45,M45,O45,Q45,S45,U45,W45,Y45,AA45,AC45,AE45,AG45,AI45,AK45,AM45,AO45,AQ45,AS45,AU45,AW45,AY45,BA45,BC45,BE45,BG45,BI45)>0,MIN(C45,E45,G45,I45,K45,M45,O45,Q45,S45,U45,W45,Y45,AA45,AC45,AE45,AG45,AI45,AK45,AM45,AO45,AQ45,AS45,AU45,AW45,AY45,BA45,BC45,BE45,BG45,BI45),"") | BQ45: – | BR45: =IF(SUM(C45,E45,G45,I45,K45,M45,O45,Q45,S45,U45,W45,Y45,AA45,AC45,AE45,AG45,AI45,AK45,AM45,AO45,AQ45,AS45,AU45,AW45,AY45,BA45,BC45,BE45,BG45,BI45)>0,MAX(C45,E45,G45,I45,K45,M45,O45,Q45,S45,U45,W45,Y45,AA45,AC45,AE45,AG45,AI45,AK45,AM45,AO45,AQ45,AS45,AU45,AW45,AY45,BA45,BC45,BE45,BG45,BI45),"") | BS45: =IF(SUM(B45,D45,F45,H45,J45,L45,N45,P45,R45,T45,V45,X45,Z45,AB45,AD45,AF45,AH45,AJ45,AL45,AN45,AP45,AR45,AT45,AV45,AX45,AZ45,BB45,BD45,BF45,BH45)>0,AVERAGE(B45,D45,F45,H45,J45,L45,N45,P45,R45,T45,V45,X45,Z45,AB45,AD45,AF45,AH45,AJ45,AL45,AN45,AP45,AR45,AT45,AV45,AX45,AZ45,BB45,BD45,BF45,BH45),"?") -> 0.6813061 | BT45: – | BU45: =IF(COUNT(B45,D45,F45,H45,J45,L45,N45,P45,R45,T45,V45,X45,Z45,AB45,AD45,AF45,AH45,AJ45,AL45,AN45,AP45,AR45,AT45,AV45,AX45,AZ45,BB45,BD45,BF45,BH45)>1,STDEV(B45,D45,F45,H45,J45,L45,N45,P45,R45,T45,V45,X45,Z45,AB45,AD45,AF45,AH45,AJ45,AL45,AN45,AP45,AR45,AT45,AV45,AX45,AZ45,BB45,BD45,BF45,BH45),"?") -> 0.050636435 | BV45: – | BW45: =IF(COUNT(B45)>0,B45,"?") -> 0.64258555 | BX45: –
A46: Posterior primary branch | B46: 37.84 | C46: =IF(AND((B46>0),(B$7>0)),(B46/B$7*100),"") -> 59.618718 | D46: 36.8 | E46: =IF(AND((D46>0),(D$7>0)),(D46/D$7*100),"") -> 55.952562 | F46: 35.65 | G46: =IF(AND((F46>0),(F$7>0)),(F46/F$7*100),"") -> 54.947596 | H46: 37.63 | I46: =IF(AND((H46>0),(H$7>0)),(H46/H$7*100),"") -> 63.074086 | J46: 35.69 | K46: =IF(AND((J46>0),(J$7>0)),(J46/J$7*100),"") -> 59.963038 | L46: 36.99 | M46: =IF(AND((L46>0),(L$7>0)),(L46/L$7*100),"") -> 52.714835 | N46: 34.22 | O46: =IF(AND((N46>0),(N$7>0)),(N46/N$7*100),"") -> 55.255934 | Q46: =IF(AND((P46>0),(P$7>0)),(P46/P$7*100),"") | R46: 33.42 | S46: =IF(AND((R46>0),(R$7>0)),(R46/R$7*100),"") -> 55.012346 | T46: 37.22 | U46: =IF(AND((T46>0),(T$7>0)),(T46/T$7*100),"") -> 60.158397 | V46: 32.62 | W46: =IF(AND((V46>0),(V$7>0)),(V46/V$7*100),"") -> 48.628503 | X46: 35.21 | Y46: =IF(AND((X46>0),(X$7>0)),(X46/X$7*100),"") -> 55.352932 | Z46: 31.98 | AA46: =IF(AND((Z46>0),(Z$7>0)),(Z46/Z$7*100),"") -> 55.723994 | AB46: 35.12 | AC46: =IF(AND((AB46>0),(AB$7>0)),(AB46/AB$7*100),"") -> 61.624846 | AD46: 36.3 | AE46: =IF(AND((AD46>0),(AD$7>0)),(AD46/AD$7*100),"") -> 55.615137 | AF46: 34.74 | AG46: =IF(AND((AF46>0),(AF$7>0)),(AF46/AF$7*100),"") -> 53.151775 | AI46: =IF(AND((AH46>0),(AH$7>0)),(AH46/AH$7*100),"") | AJ46: 32.14 | AK46: =IF(AND((AJ46>0),(AJ$7>0)),(AJ46/AJ$7*100),"") -> 55.567082 | AL46: 36.1 | AM46: =IF(AND((AL46>0),(AL$7>0)),(AL46/AL$7*100),"") -> 57.14738 | AN46: 26.09 | AO46: =IF(AND((AN46>0),(AN$7>0)),(AN46/AN$7*100),"") -> 46.431749 | AP46: 34.53 | AQ46: =IF(AND((AP46>0),(AP$7>0)),(AP46/AP$7*100),"") -> 56.886326 | AR46: 31.6 | AS46: =IF(AND((AR46>0),(AR$7>0)),(AR46/AR$7*100),"") -> 55.390009 | AU46: =IF(AND((AT46>0),(AT$7>0)),(AT46/AT$7*100),"") | AW46: =IF(AND((AV46>0),(AV$7>0)),(AV46/AV$7*100),"") | AY46: =IF(AND((AX46>0),(AX$7>0)),(AX46/AX$7*100),"") | BA46: =IF(AND((AZ46>0),(AZ$7>0)),(AZ46/AZ$7*100),"") | BC46: =IF(AND((BB46>0),(BB$7>0)),(BB46/BB$7*100),"") | BE46: =IF(AND((BD46>0),(BD$7>0)),(BD46/BD$7*100),"") | BG46: =IF(AND((BF46>0),(BF$7>0)),(BF46/BF$7*100),"") | BI46: =IF(AND((BH46>0),(BH$7>0)),(BH46/BH$7*100),"") | BK46: =A46 -> Posterior primary branch | BL46: =COUNT(B46,D46,F46,H46,J46,L46,N46,P46,R46,T46,V46,X46,Z46,AB46,AD46,AF46,AH46,AJ46,AL46,AN46,AP46,AR46,AT46,AV46,AX46,AZ46,BB46,BD46,BF46,BH46) -> 20 | BM46: =IF(SUM(B46,D46,F46,H46,J46,L46,N46,P46,R46,T46,V46,X46,Z46,AB46,AD46,AF46,AH46,AJ46,AL46,AN46,AP46,AR46,AT46,AV46,AX46,AZ46,BB46,BD46,BF46,BH46)>0,MIN(B46,D46,F46,H46,J46,L46,N46,P46,R46,T46,V46,X46,Z46,AB46,AD46,AF46,AH46,AJ46,AL46,AN46,AP46,AR46,AT46,AV46,AX46,AZ46,BB46,BD46,BF46,BH46),"") -> 26.09 | BN46: =IF(COUNT(BM46)>0,"–","?") -> – | BO46: =IF(SUM(B46,D46,F46,H46,J46,L46,N46,P46,R46,T46,V46,X46,Z46,AB46,AD46,AF46,AH46,AJ46,AL46,AN46,AP46,AR46,AT46,AV46,AX46,AZ46,BB46,BD46,BF46,BH46)>0,MAX(B46,D46,F46,H46,J46,L46,N46,P46,R46,T46,V46,X46,Z46,AB46,AD46,AF46,AH46,AJ46,AL46,AN46,AP46,AR46,AT46,AV46,AX46,AZ46,BB46,BD46,BF46,BH46),"") -> 37.84 | BP46: =IF(SUM(C46,E46,G46,I46,K46,M46,O46,Q46,S46,U46,W46,Y46,AA46,AC46,AE46,AG46,AI46,AK46,AM46,AO46,AQ46,AS46,AU46,AW46,AY46,BA46,BC46,BE46,BG46,BI46)>0,MIN(C46,E46,G46,I46,K46,M46,O46,Q46,S46,U46,W46,Y46,AA46,AC46,AE46,AG46,AI46,AK46,AM46,AO46,AQ46,AS46,AU46,AW46,AY46,BA46,BC46,BE46,BG46,BI46),"") -> 46.431749 | BQ46: =IF(COUNT(BP46)>0,"–","?") -> – | BR46: =IF(SUM(C46,E46,G46,I46,K46,M46,O46,Q46,S46,U46,W46,Y46,AA46,AC46,AE46,AG46,AI46,AK46,AM46,AO46,AQ46,AS46,AU46,AW46,AY46,BA46,BC46,BE46,BG46,BI46)>0,MAX(C46,E46,G46,I46,K46,M46,O46,Q46,S46,U46,W46,Y46,AA46,AC46,AE46,AG46,AI46,AK46,AM46,AO46,AQ46,AS46,AU46,AW46,AY46,BA46,BC46,BE46,BG46,BI46),"") -> 63.074086 | BS46: =IF(SUM(B46,D46,F46,H46,J46,L46,N46,P46,R46,T46,V46,X46,Z46,AB46,AD46,AF46,AH46,AJ46,AL46,AN46,AP46,AR46,AT46,AV46,AX46,AZ46,BB46,BD46,BF46,BH46)>0,AVERAGE(B46,D46,F46,H46,J46,L46,N46,P46,R46,T46,V46,X46,Z46,AB46,AD46,AF46,AH46,AJ46,AL46,AN46,AP46,AR46,AT46,AV46,AX46,AZ46,BB46,BD46,BF46,BH46),"?") -> 34.5945 | BT46: =IF(SUM(C46,E46,G46,I46,K46,M46,O46,Q46,S46,U46,W46,Y46,AA46,AC46,AE46,AG46,AI46,AK46,AM46,AO46,AQ46,AS46,AU46,AW46,AY46,BA46,BC46,BE46,BG46,BI46)>0,AVERAGE(C46,E46,G46,I46,K46,M46,O46,Q46,S46,U46,W46,Y46,AA46,AC46,AE46,AG46,AI46,AK46,AM46,AO46,AQ46,AS46,AU46,AW46,AY46,BA46,BC46,BE46,BG46,BI46),"?") -> 55.910862 | BU46: =IF(COUNT(B46,D46,F46,H46,J46,L46,N46,P46,R46,T46,V46,X46,Z46,AB46,AD46,AF46,AH46,AJ46,AL46,AN46,AP46,AR46,AT46,AV46,AX46,AZ46,BB46,BD46,BF46,BH46)>1,STDEV(B46,D46,F46,H46,J46,L46,N46,P46,R46,T46,V46,X46,Z46,AB46,AD46,AF46,AH46,AJ46,AL46,AN46,AP46,AR46,AT46,AV46,AX46,AZ46,BB46,BD46,BF46,BH46),"?") -> 2.7623912 | BV46: =IF(COUNT(C46,E46,G46,I46,K46,M46,O46,Q46,S46,U46,W46,Y46,AA46,AC46,AE46,AG46,AI46,AK46,AM46,AO46,AQ46,AS46,AU46,AW46,AY46,BA46,BC46,BE46,BG46,BI46)>1,STDEV(C46,E46,G46,I46,K46,M46,O46,Q46,S46,U46,W46,Y46,AA46,AC46,AE46,AG46,AI46,AK46,AM46,AO46,AQ46,AS46,AU46,AW46,AY46,BA46,BC46,BE46,BG46,BI46),"?") -> 3.962683 | BW46: =IF(COUNT(B46)>0,B46,"?") -> 37.84 | BX46: =IF(COUNT(C46)>0,C46,"?") -> 59.618718
A47: Posterior base + secondary branch | B47: 25.46 | C47: =IF(AND((B47>0),(B$7>0)),(B47/B$7*100),"") -> 40.113439 | D47: 23.92 | E47: =IF(AND((D47>0),(D$7>0)),(D47/D$7*100),"") -> 36.369165 | F47: 27.72 | G47: =IF(AND((F47>0),(F$7>0)),(F47/F$7*100),"") -> 42.725031 | H47: 27.45 | I47: =IF(AND((H47>0),(H$7>0)),(H47/H$7*100),"") -> 46.010727 | J47: 24.27 | K47: =IF(AND((J47>0),(J$7>0)),(J47/J$7*100),"") -> 40.77621 | L47: 26.56 | M47: =IF(AND((L47>0),(L$7>0)),(L47/L$7*100),"") -> 37.850933 | N47: 24.01 | O47: =IF(AND((N47>0),(N$7>0)),(N47/N$7*100),"") -> 38.769579 | Q47: =IF(AND((P47>0),(P$7>0)),(P47/P$7*100),"") | R47: 26.46 | S47: =IF(AND((R47>0),(R$7>0)),(R47/R$7*100),"") -> 43.555556 | T47: 26.15 | U47: =IF(AND((T47>0),(T$7>0)),(T47/T$7*100),"") -> 42.266042 | V47: 22.81 | W47: =IF(AND((V47>0),(V$7>0)),(V47/V$7*100),"") -> 34.004174 | X47: 25.1 | Y47: =IF(AND((X47>0),(X$7>0)),(X47/X$7*100),"") -> 39.459205 | Z47: 21.96 | AA47: =IF(AND((Z47>0),(Z$7>0)),(Z47/Z$7*100),"") -> 38.264506 | AB47: 22.52 | AC47: =IF(AND((AB47>0),(AB$7>0)),(AB47/AB$7*100),"") -> 39.515705 | AD47: 22.61 | AE47: =IF(AND((AD47>0),(AD$7>0)),(AD47/AD$7*100),"") -> 34.640723 | AF47: 24.68 | AG47: =IF(AND((AF47>0),(AF$7>0)),(AF47/AF$7*100),"") -> 37.760098 | AI47: =IF(AND((AH47>0),(AH$7>0)),(AH47/AH$7*100),"") | AJ47: 22.28 | AK47: =IF(AND((AJ47>0),(AJ$7>0)),(AJ47/AJ$7*100),"") -> 38.520055 | AL47: 25.57 | AM47: =IF(AND((AL47>0),(AL$7>0)),(AL47/AL$7*100),"") -> 40.478075 | AN47: 19.6 | AO47: =IF(AND((AN47>0),(AN$7>0)),(AN47/AN$7*100),"") -> 34.881652 | AP47: 23.42 | AQ47: =IF(AND((AP47>0),(AP$7>0)),(AP47/AP$7*100),"") -> 38.583196 | AR47: 22.78 | AS47: =IF(AND((AR47>0),(AR$7>0)),(AR47/AR$7*100),"") -> 39.929886 | AU47: =IF(AND((AT47>0),(AT$7>0)),(AT47/AT$7*100),"") | AW47: =IF(AND((AV47>0),(AV$7>0)),(AV47/AV$7*100),"") | AY47: =IF(AND((AX47>0),(AX$7>0)),(AX47/AX$7*100),"") | BA47: =IF(AND((AZ47>0),(AZ$7>0)),(AZ47/AZ$7*100),"") | BC47: =IF(AND((BB47>0),(BB$7>0)),(BB47/BB$7*100),"") | BE47: =IF(AND((BD47>0),(BD$7>0)),(BD47/BD$7*100),"") | BG47: =IF(AND((BF47>0),(BF$7>0)),(BF47/BF$7*100),"") | BI47: =IF(AND((BH47>0),(BH$7>0)),(BH47/BH$7*100),"") | BK47: =A47 -> Posterior base + secondary branch | BL47: =COUNT(B47,D47,F47,H47,J47,L47,N47,P47,R47,T47,V47,X47,Z47,AB47,AD47,AF47,AH47,AJ47,AL47,AN47,AP47,AR47,AT47,AV47,AX47,AZ47,BB47,BD47,BF47,BH47) -> 20 | BM47: =IF(SUM(B47,D47,F47,H47,J47,L47,N47,P47,R47,T47,V47,X47,Z47,AB47,AD47,AF47,AH47,AJ47,AL47,AN47,AP47,AR47,AT47,AV47,AX47,AZ47,BB47,BD47,BF47,BH47)>0,MIN(B47,D47,F47,H47,J47,L47,N47,P47,R47,T47,V47,X47,Z47,AB47,AD47,AF47,AH47,AJ47,AL47,AN47,AP47,AR47,AT47,AV47,AX47,AZ47,BB47,BD47,BF47,BH47),"") -> 19.6 | BN47: =IF(COUNT(BM47)>0,"–","?") -> – | BO47: =IF(SUM(B47,D47,F47,H47,J47,L47,N47,P47,R47,T47,V47,X47,Z47,AB47,AD47,AF47,AH47,AJ47,AL47,AN47,AP47,AR47,AT47,AV47,AX47,AZ47,BB47,BD47,BF47,BH47)>0,MAX(B47,D47,F47,H47,J47,L47,N47,P47,R47,T47,V47,X47,Z47,AB47,AD47,AF47,AH47,AJ47,AL47,AN47,AP47,AR47,AT47,AV47,AX47,AZ47,BB47,BD47,BF47,BH47),"") -> 27.72 | BP47: =IF(SUM(C47,E47,G47,I47,K47,M47,O47,Q47,S47,U47,W47,Y47,AA47,AC47,AE47,AG47,AI47,AK47,AM47,AO47,AQ47,AS47,AU47,AW47,AY47,BA47,BC47,BE47,BG47,BI47)>0,MIN(C47,E47,G47,I47,K47,M47,O47,Q47,S47,U47,W47,Y47,AA47,AC47,AE47,AG47,AI47,AK47,AM47,AO47,AQ47,AS47,AU47,AW47,AY47,BA47,BC47,BE47,BG47,BI47),"") -> 34.004174 | BQ47: =IF(COUNT(BP47)>0,"–","?") -> – | BR47: =IF(SUM(C47,E47,G47,I47,K47,M47,O47,Q47,S47,U47,W47,Y47,AA47,AC47,AE47,AG47,AI47,AK47,AM47,AO47,AQ47,AS47,AU47,AW47,AY47,BA47,BC47,BE47,BG47,BI47)>0,MAX(C47,E47,G47,I47,K47,M47,O47,Q47,S47,U47,W47,Y47,AA47,AC47,AE47,AG47,AI47,AK47,AM47,AO47,AQ47,AS47,AU47,AW47,AY47,BA47,BC47,BE47,BG47,BI47),"") -> 46.010727 | BS47: =IF(SUM(B47,D47,F47,H47,J47,L47,N47,P47,R47,T47,V47,X47,Z47,AB47,AD47,AF47,AH47,AJ47,AL47,AN47,AP47,AR47,AT47,AV47,AX47,AZ47,BB47,BD47,BF47,BH47)>0,AVERAGE(B47,D47,F47,H47,J47,L47,N47,P47,R47,T47,V47,X47,Z47,AB47,AD47,AF47,AH47,AJ47,AL47,AN47,AP47,AR47,AT47,AV47,AX47,AZ47,BB47,BD47,BF47,BH47),"?") -> 24.2665 | BT47: =IF(SUM(C47,E47,G47,I47,K47,M47,O47,Q47,S47,U47,W47,Y47,AA47,AC47,AE47,AG47,AI47,AK47,AM47,AO47,AQ47,AS47,AU47,AW47,AY47,BA47,BC47,BE47,BG47,BI47)>0,AVERAGE(C47,E47,G47,I47,K47,M47,O47,Q47,S47,U47,W47,Y47,AA47,AC47,AE47,AG47,AI47,AK47,AM47,AO47,AQ47,AS47,AU47,AW47,AY47,BA47,BC47,BE47,BG47,BI47),"?") -> 39.223698 | BU47: =IF(COUNT(B47,D47,F47,H47,J47,L47,N47,P47,R47,T47,V47,X47,Z47,AB47,AD47,AF47,AH47,AJ47,AL47,AN47,AP47,AR47,AT47,AV47,AX47,AZ47,BB47,BD47,BF47,BH47)>1,STDEV(B47,D47,F47,H47,J47,L47,N47,P47,R47,T47,V47,X47,Z47,AB47,AD47,AF47,AH47,AJ47,AL47,AN47,AP47,AR47,AT47,AV47,AX47,AZ47,BB47,BD47,BF47,BH47),"?") -> 2.0741499 | BV47: =IF(COUNT(C47,E47,G47,I47,K47,M47,O47,Q47,S47,U47,W47,Y47,AA47,AC47,AE47,AG47,AI47,AK47,AM47,AO47,AQ47,AS47,AU47,AW47,AY47,BA47,BC47,BE47,BG47,BI47)>1,STDEV(C47,E47,G47,I47,K47,M47,O47,Q47,S47,U47,W47,Y47,AA47,AC47,AE47,AG47,AI47,AK47,AM47,AO47,AQ47,AS47,AU47,AW47,AY47,BA47,BC47,BE47,BG47,BI47),"?") -> 3.0180668 | BW47: =IF(COUNT(B47)>0,B47,"?") -> 25.46 | BX47: =IF(COUNT(C47)>0,C47,"?") -> 40.113439
A48: Posterior spur | B48: 7.11 | C48: =IF(AND((B48>0),(B$7>0)),(B48/B$7*100),"") -> 11.202143 | D48: 8.06 | E48: =IF(AND((D48>0),(D$7>0)),(D48/D$7*100),"") -> 12.254827 | F48: 9.32 | G48: =IF(AND((F48>0),(F$7>0)),(F48/F$7*100),"") -> 14.364982 | H48: 7.89 | I48: =IF(AND((H48>0),(H$7>0)),(H48/H$7*100),"") -> 13.224941 | J48: 6.55 | K48: =IF(AND((J48>0),(J$7>0)),(J48/J$7*100),"") -> 11.004704 | L48: 8.26 | M48: =IF(AND((L48>0),(L$7>0)),(L48/L$7*100),"") -> 11.771412 | N48: 8.38 | O48: =IF(AND((N48>0),(N$7>0)),(N48/N$7*100),"") -> 13.531406 | Q48: =IF(AND((P48>0),(P$7>0)),(P48/P$7*100),"") | R48: 8.73 | S48: =IF(AND((R48>0),(R$7>0)),(R48/R$7*100),"") -> 14.37037 | T48: 6.88 | U48: =IF(AND((T48>0),(T$7>0)),(T48/T$7*100),"") -> 11.120091 | V48: 7.12 | W48: =IF(AND((V48>0),(V$7>0)),(V48/V$7*100),"") -> 10.614192 | X48: 7.03 | Y48: =IF(AND((X48>0),(X$7>0)),(X48/X$7*100),"") -> 11.051721 | Z48: 7.31 | AA48: =IF(AND((Z48>0),(Z$7>0)),(Z48/Z$7*100),"") -> 12.737411 | AB48: 6.72 | AC48: =IF(AND((AB48>0),(AB$7>0)),(AB48/AB$7*100),"") -> 11.791542 | AD48: 8.73 | AE48: =IF(AND((AD48>0),(AD$7>0)),(AD48/AD$7*100),"") -> 13.375211 | AF48: 8.45 | AG48: =IF(AND((AF48>0),(AF$7>0)),(AF48/AF$7*100),"") -> 12.928397 | AI48: =IF(AND((AH48>0),(AH$7>0)),(AH48/AH$7*100),"") | AJ48: 7.67 | AK48: =IF(AND((AJ48>0),(AJ$7>0)),(AJ48/AJ$7*100),"") -> 13.260719 | AL48: 7.42 | AM48: =IF(AND((AL48>0),(AL$7>0)),(AL48/AL$7*100),"") -> 11.746082 | AN48: 5.81 | AO48: =IF(AND((AN48>0),(AN$7>0)),(AN48/AN$7*100),"") -> 10.339918 | AP48: 8.2 | AQ48: =IF(AND((AP48>0),(AP$7>0)),(AP48/AP$7*100),"") -> 13.509061 | AR48: 8.04 | AS48: =IF(AND((AR48>0),(AR$7>0)),(AR48/AR$7*100),"") -> 14.092901 | AU48: =IF(AND((AT48>0),(AT$7>0)),(AT48/AT$7*100),"") | AW48: =IF(AND((AV48>0),(AV$7>0)),(AV48/AV$7*100),"") | AY48: =IF(AND((AX48>0),(AX$7>0)),(AX48/AX$7*100),"") | BA48: =IF(AND((AZ48>0),(AZ$7>0)),(AZ48/AZ$7*100),"") | BC48: =IF(AND((BB48>0),(BB$7>0)),(BB48/BB$7*100),"") | BE48: =IF(AND((BD48>0),(BD$7>0)),(BD48/BD$7*100),"") | BG48: =IF(AND((BF48>0),(BF$7>0)),(BF48/BF$7*100),"") | BI48: =IF(AND((BH48>0),(BH$7>0)),(BH48/BH$7*100),"") | BK48: =A48 -> Posterior spur | BL48: =COUNT(B48,D48,F48,H48,J48,L48,N48,P48,R48,T48,V48,X48,Z48,AB48,AD48,AF48,AH48,AJ48,AL48,AN48,AP48,AR48,AT48,AV48,AX48,AZ48,BB48,BD48,BF48,BH48) -> 20 | BM48: =IF(SUM(B48,D48,F48,H48,J48,L48,N48,P48,R48,T48,V48,X48,Z48,AB48,AD48,AF48,AH48,AJ48,AL48,AN48,AP48,AR48,AT48,AV48,AX48,AZ48,BB48,BD48,BF48,BH48)>0,MIN(B48,D48,F48,H48,J48,L48,N48,P48,R48,T48,V48,X48,Z48,AB48,AD48,AF48,AH48,AJ48,AL48,AN48,AP48,AR48,AT48,AV48,AX48,AZ48,BB48,BD48,BF48,BH48),"") -> 5.81 | BN48: =IF(COUNT(BM48)>0,"–","?") -> – | BO48: =IF(SUM(B48,D48,F48,H48,J48,L48,N48,P48,R48,T48,V48,X48,Z48,AB48,AD48,AF48,AH48,AJ48,AL48,AN48,AP48,AR48,AT48,AV48,AX48,AZ48,BB48,BD48,BF48,BH48)>0,MAX(B48,D48,F48,H48,J48,L48,N48,P48,R48,T48,V48,X48,Z48,AB48,AD48,AF48,AH48,AJ48,AL48,AN48,AP48,AR48,AT48,AV48,AX48,AZ48,BB48,BD48,BF48,BH48),"") -> 9.32 | BP48: =IF(SUM(C48,E48,G48,I48,K48,M48,O48,Q48,S48,U48,W48,Y48,AA48,AC48,AE48,AG48,AI48,AK48,AM48,AO48,AQ48,AS48,AU48,AW48,AY48,BA48,BC48,BE48,BG48,BI48)>0,MIN(C48,E48,G48,I48,K48,M48,O48,Q48,S48,U48,W48,Y48,AA48,AC48,AE48,AG48,AI48,AK48,AM48,AO48,AQ48,AS48,AU48,AW48,AY48,BA48,BC48,BE48,BG48,BI48),"") -> 10.339918 | BQ48: =IF(COUNT(BP48)>0,"–","?") -> – | BR48: =IF(SUM(C48,E48,G48,I48,K48,M48,O48,Q48,S48,U48,W48,Y48,AA48,AC48,AE48,AG48,AI48,AK48,AM48,AO48,AQ48,AS48,AU48,AW48,AY48,BA48,BC48,BE48,BG48,BI48)>0,MAX(C48,E48,G48,I48,K48,M48,O48,Q48,S48,U48,W48,Y48,AA48,AC48,AE48,AG48,AI48,AK48,AM48,AO48,AQ48,AS48,AU48,AW48,AY48,BA48,BC48,BE48,BG48,BI48),"") -> 14.37037 | BS48: =IF(SUM(B48,D48,F48,H48,J48,L48,N48,P48,R48,T48,V48,X48,Z48,AB48,AD48,AF48,AH48,AJ48,AL48,AN48,AP48,AR48,AT48,AV48,AX48,AZ48,BB48,BD48,BF48,BH48)>0,AVERAGE(B48,D48,F48,H48,J48,L48,N48,P48,R48,T48,V48,X48,Z48,AB48,AD48,AF48,AH48,AJ48,AL48,AN48,AP48,AR48,AT48,AV48,AX48,AZ48,BB48,BD48,BF48,BH48),"?") -> 7.684 | BT48: =IF(SUM(C48,E48,G48,I48,K48,M48,O48,Q48,S48,U48,W48,Y48,AA48,AC48,AE48,AG48,AI48,AK48,AM48,AO48,AQ48,AS48,AU48,AW48,AY48,BA48,BC48,BE48,BG48,BI48)>0,AVERAGE(C48,E48,G48,I48,K48,M48,O48,Q48,S48,U48,W48,Y48,AA48,AC48,AE48,AG48,AI48,AK48,AM48,AO48,AQ48,AS48,AU48,AW48,AY48,BA48,BC48,BE48,BG48,BI48),"?") -> 12.414602 | BU48: =IF(COUNT(B48,D48,F48,H48,J48,L48,N48,P48,R48,T48,V48,X48,Z48,AB48,AD48,AF48,AH48,AJ48,AL48,AN48,AP48,AR48,AT48,AV48,AX48,AZ48,BB48,BD48,BF48,BH48)>1,STDEV(B48,D48,F48,H48,J48,L48,N48,P48,R48,T48,V48,X48,Z48,AB48,AD48,AF48,AH48,AJ48,AL48,AN48,AP48,AR48,AT48,AV48,AX48,AZ48,BB48,BD48,BF48,BH48),"?") -> 0.87368186 | BV48: =IF(COUNT(C48,E48,G48,I48,K48,M48,O48,Q48,S48,U48,W48,Y48,AA48,AC48,AE48,AG48,AI48,AK48,AM48,AO48,AQ48,AS48,AU48,AW48,AY48,BA48,BC48,BE48,BG48,BI48)>1,STDEV(C48,E48,G48,I48,K48,M48,O48,Q48,S48,U48,W48,Y48,AA48,AC48,AE48,AG48,AI48,AK48,AM48,AO48,AQ48,AS48,AU48,AW48,AY48,BA48,BC48,BE48,BG48,BI48),"?") -> 1.2848411 | BW48: =IF(COUNT(B48)>0,B48,"?") -> 7.11 | BX48: =IF(COUNT(C48)>0,C48,"?") -> 11.202143
