Workbook

Sheet Abundances
E1: Dystroglycan–Complex Related Proteins found in our MS Analysis
A2: Accession | B2: Description | C2: Abundances C1 - 1 | D2: Abundances C1 - 2 | E2: Abundances C2 - 1 | F2: Abundances C2 - 2 | G2: Abundances C3 - 1 | H2: Abundances C3 - 2 | I2: CG Mean | J2: Abundances DMD1 - 1 | K2: Abundances DMD1 - 2 | L2: Abundances DMD2 - 1 | M2: Abundances DMD2 - 2 | N2: Abundances DMD3 - 1 | O2: Abundances DMD3 - 2 | P2: Abundances DMD4 - 1 | Q2: Abundances DMD4 - 2 | R2: DG mean | S2: Abundances BMD1 - 1 | T2: Abundances BMD1 - 2 | U2: Abundances BMD2 - 1 | V2: Abundances BMD2 - 2 | W2: Abundances BMD3 - 1 | X2: Abundances BMD3 - 2 | Y2: BG mean
A3: P11532 | B3: Dystrophin | C3: 3402340.2 | D3: 1775213.1 | E3: 28924785 | F3: 23524421 | G3: 38480693 | H3: 21087500 | I3: =(C3+D3+E3+F3+G3+H3)/6 -> 19532492 | J3: 1113278.2 | K3: 1410244 | L3: 1069194.7 | M3: 633278.02 | N3: 941061.14 | O3: 1275807.5 | P3: 1218898.4 | Q3: 1324699.3 | R3: =(J3+K3+L3+M3+N3+O3+P3+Q3)/8 -> 1123307.7 | S3: 1035644.1 | T3: 1278610.8 | U3: 1449839.6 | V3: 550329.72 | W3: 79634.587 | X3: 76261.33 | Y3: =(S3+T3+U3+V3+W3+X3)/6 -> 745053.35
A4: Q16585 | B4: Beta-sarcoglycan | C4: 533816.05 | D4: 279647.08 | E4: 951457.62 | F4: 992944.44 | G4: 2967785.5 | H4: 1479111 | I4: =(C4+D4+E4+F4+G4+H4)/6 -> 1200793.6 | J4: 38042.013 | K4: 48659.043 | L4: 10545.129 | M4: 9131.2908 | N4: 58377.353 | O4: 56968.084 | P4: 63170.055 | Q4: 53277.059 | R4: =(J4+K4+L4+M4+N4+O4+P4+Q4)/8 -> 42271.253 | S4: 30887.384 | T4: 44222.875 | U4: 164465.44 | V4: 34485.908 | W4: 1438.3942 | X4: 3078.9543 | Y4: =(S4+T4+U4+V4+W4+X4)/6 -> 46429.826
A5: Q13326 | B5: Gamma-sarcoglycan | C5: 136280.8 | D5: 49749.88 | E5: 693491.69 | F5: 45588.797 | G5: 1355563.9 | H5: 806135.1 | I5: =(C5+D5+E5+F5+G5+H5)/6 -> 514468.35 | J5: 46898.754 | K5: 86568.55 | N5: 19846.765 | O5: 30186.733 | R5: =(J5+K5+N5+O5)/4 -> 45875.201 | S5: 23597.064 | T5: 28918.177 | U5: 112298.66 | V5: 42742.979 | W5: 4873.6362 | X5: 1897.7958 | Y5: =(S5+T5+U5+V5+W5+X5)/6 -> 35721.386
A6: Q92629 | B6: Delta-sarcoglycan | C6: 336912.98 | D6: 117498.73 | E6: 196474.81 | F6: 2154745.5 | G6: 3008101.6 | H6: 2467904.9 | I6: =(C6+D6+E6+F6+G6+H6)/6 -> 1380273.1 | J6: 54850.723 | K6: 204783.45 | L6: 35217.786 | M6: 29325.776 | N6: 46128.171 | O6: 88286.722 | P6: 38393.407 | Q6: 57967.392 | R6: =(J6+K6+L6+M6+N6+O6+P6+Q6)/8 -> 69369.179 | S6: 61524.686 | T6: 78585.831 | U6: 137358.08 | V6: 67914.398 | W6: 949.73547 | X6: 717.12524 | Y6: =(S6+T6+U6+V6+W6+X6)/6 -> 57841.642
A7: Q16586 | B7: Alpha-sarcoglycan | C7: 80412.887 | D7: 39642.477 | F7: 802068.91 | G7: 1010222 | H7: 46689.557 | I7: =(C7+D7+F7+G7+H7)/5 -> 395807.17 | J7: 20423.582 | K7: 89220.491 | L7: 22960.226 | M7: 17176.743 | N7: 10070.884 | O7: 9189.6238 | P7: 1426568.3 | Q7: 19323.564 | R7: =(J7+K7+L7+M7+N7+O7+P7+Q7)/8 -> 201866.68 | S7: 10358.33 | T7: 2228.7573 | U7: 50807.551 | V7: 12651.223 | W7: 825.36151 | Y7: =(S7+T7+U7+V7+W7)/5 -> 15374.244
A8: Q14118 | B8: Dystroglycan 1 | C8: 263475.39 | D8: 108194.56 | E8: 109209.41 | F8: 974556.93 | G8: 2490659.5 | H8: 1507229.7 | I8: =(C8+D8+E8+F8+G8+H8)/6 -> 908887.57 | J8: 157530.87 | K8: 239058.38 | L8: 6067.2429 | M8: 13684.74 | N8: 172333.64 | O8: 213229.41 | P8: 12420.911 | Q8: 40870.566 | R8: =(J8+K8+L8+M8+N8+O8+P8+Q8)/8 -> 106899.47 | S8: 140505.72 | T8: 153752.37 | U8: 89472.97 | V8: 19051.823 | Y8: =(S8+T8+U8+V8)/4 -> 100695.72

Sheet Mean Abundances
A1: Accession | B1: Description | C1: CG Mean | D1: DG mean | E1: BG mean
A2: P11532 | B2: Dystrophin | C2: 19532492 | D2: 1123307.7 | E2: 745053.35
A3: Q16585 | B3: Beta-sarcoglycan | C3: 1200793.6 | D3: 42271.253 | E3: 46429.826
A4: Q13326 | B4: Gamma-sarcoglycan | C4: 514468.35 | D4: 45875.201 | E4: 35721.386
A5: Q92629 | B5: Delta-sarcoglycan | C5: 1380273.1 | D5: 69369.179 | E5: 57841.642
A6: Q16586 | B6: Alpha-sarcoglycan | C6: 395807.17 | D6: 201866.68 | E6: 15374.244
A7: Q14118 | B7: Dystroglycan 1 | C7: 908887.57 | D7: 106899.47 | E7: 100695.72

Sheet Abundances Ratios
A1: Accession | B1: Description | C1: (DG mean/CG mean) % Ratio | D1: (BG mean/CG mean) % Ratio
A2: P11532 | B2: Dystrophin | C2: =('Mean Abundances'!D2/'Mean Abundances'!C2)*100 -> 5.7509695 | D2: =('Mean Abundances'!E2/'Mean Abundances'!C2)*100 -> 3.8144306
A3: Q16585 | B3: Beta-sarcoglycan | C3: =('Mean Abundances'!D3/'Mean Abundances'!C3)*100 -> 3.5202763 | D3: =('Mean Abundances'!E3/'Mean Abundances'!C3)*100 -> 3.866595
A4: Q13326 | B4: Gamma-sarcoglycan | C4: =('Mean Abundances'!D4/'Mean Abundances'!C4)*100 -> 8.9170112 | D4: =('Mean Abundances'!E4/'Mean Abundances'!C4)*100 -> 6.9433592
A5: Q92629 | B5: Delta-sarcoglycan | C5: =('Mean Abundances'!D5/'Mean Abundances'!C5)*100 -> 5.0257575 | D5: =('Mean Abundances'!E5/'Mean Abundances'!C5)*100 -> 4.190594
A6: Q16586 | B6: Alpha-sarcoglycan | C6: =('Mean Abundances'!D6/'Mean Abundances'!C6)*100 -> 51.001268 | D6: =('Mean Abundances'!E6/'Mean Abundances'!C6)*100 -> 3.8842763
A7: Q14118 | B7: Dystroglycan 1 | C7: =('Mean Abundances'!D7/'Mean Abundances'!C7)*100 -> 11.761572 | D7: =('Mean Abundances'!E7/'Mean Abundances'!C7)*100 -> 11.079007
