Workbook

Sheet S1
E2: 9 Characteristics | I2: 5 Characteristics
E3: 50 | F3: 100 | G3: 150 | H3: 200 | I3: 50 | J3: 100 | K3: 150 | L3: 200
D4: XGB | E4: 79.995127 | F4: 86.265432 | G4: 91.111111 | H4: 94.091581 | I4: 79.605263 | J4: 87.062757 | K4: 91.888889 | L4: 93.94387
D5: RF | E5: 81.310916 | F5: 87.782922 | G5: 92.444444 | H5: 95.007386 | I5: 80.190058 | J5: 88.966049 | K5: 93.083333 | L5: 95.036928
D6: DT | E6: 71.125731 | F6: 78.960905 | G6: 85.111111 | H6: 89.483013 | I6: 71.19883 | J6: 81.867284 | K6: 86.277778 | L6: 90.694239
D7: NN | E7: 74.658869 | F7: 80.015432 | G7: 81.222222 | H7: 86.499261 | I7: 32.894737 | J7: 32.664609 | K7: 73.888889 | L7: 32.584934
D8: Supplementary Table S1: Accuracy using a three-class output model for participant S1
E10: Model 2
E11: 9 Characteristics | I11: 5 Characteristics
E12: XGB | F12: RF | G12: DT | H12: NN | I12: XGB | J12: RF | K12: DT | L12: NN
B13: Model 1 | C13: 50 | D13: XGB | E13: 66.063596 | F13: 67.086988 | G13: 65.880848 | H13: 44.828216 | I13: 78.533138 | J13: 79.897661 | K13: 78.947368 | L13: 49.488304
D14: RF | E14: 82.52924 | F14: 83.004386 | G14: 82.218567 | H14: 63.377193 | I14: 91.325536 | J14: 92.616959 | K14: 91.764133 | L14: 63.230994
D15: DT | E15: 74.579678 | F15: 75.237573 | G15: 74.378655 | H15: 55.500731 | I15: 89.887914 | J15: 91.203704 | K15: 90.326511 | L15: 61.793372
D16: NN | E16: 33 | F16: 33 | G16: 33 | H16: 33 | I16: 33 | J16: 33 | K16: 33 | L16: 33
C17: 100 | D17: XGB | E17: 79.74537 | F17: 80.073302 | G17: 79.436728 | H17: 73.939043 | I17: 88.065844 | J17: 88.657407 | K17: 88.014403 | L17: 56.738683
D18: RF | E18: 89.313272 | F18: 89.641204 | G18: 89.158951 | H18: 85.300926 | I18: 95.396091 | J18: 95.910494 | K18: 95.421811 | L18: 65.226337
D19: DT | E19: 83.641975 | F19: 83.969907 | G19: 83.468364 | H19: 79.417438 | I19: 94.753086 | J19: 95.29321 | K19: 94.675926 | L19: 64.300412
D20: NN | E20: 33 | F20: 33 | G20: 33 | H20: 33 | I20: 33 | J20: 33 | K20: 33 | L20: 33
C21: 150 | D21: XGB | E21: 86.708333 | F21: 86.8125 | G21: 86.416667 | H21: 62.666667 | I21: 93.222222 | J21: 93.333333 | K21: 93 | L21: 61.527778
D22: RF | E22: 93.229167 | F22: 93.3125 | G22: 92.9375 | H22: 70.270833 | I22: 97.166667 | J22: 97.277778 | K22: 96.916667 | L22: 65.833333
D23: DT | E23: 88.208333 | F23: 88.270833 | G23: 87.958333 | H23: 65.479167 | I23: 96.111111 | J23: 96.194444 | K23: 95.833333 | L23: 64.777778
D24: NN | E24: 49.4375 | F24: 49.520833 | G24: 49.166667 | H24: 24.6875 | I24: 75.722222 | J24: 75.75 | K24: 75.527778 | L24: 49.472222
C25: 200 | D25: XGB | E25: 91.710993 | F25: 91.710993 | G25: 91.223404 | H25: 67.75266 | I25: 95.509601 | J25: 95.568685 | K25: 95.302806 | L25: 91.373708
D26: RF | E26: 95.257092 | F26: 95.234929 | G26: 94.791667 | H26: 72.052305 | I26: 98.257016 | J26: 98.286558 | K26: 98.020679 | L26: 94.268833
D27: DT | E27: 90.868794 | F27: 90.846631 | G27: 90.447695 | H27: 67.75266 | I27: 97.548006 | J27: 97.60709 | K27: 97.341211 | L27: 93.559823
D28: NN | E28: 49.379433 | F28: 49.423759 | G28: 48.93617 | H28: 24.778369 | I28: 83.751846 | J28: 83.722304 | K28: 83.574594 | L28: 81.624815
D29: Supplementary Table S2: Accuracy using a Stack Model for participant S1

Sheet S2
E2: 9 Characteristics | I2: 5 Characteristics
E3: 50 | F3: 100 | G3: 150 | H3: 200 | I3: 50 | J3: 100 | K3: 150 | L3: 200
D4: XGB | E4: 76.608187 | F4: 85.416667 | G4: 90.388889 | H4: 93.471196 | I4: 77.241715 | J4: 85.442387 | K4: 89.861111 | L4: 93.530281
D5: RF | E5: 78.557505 | F5: 86.316872 | G5: 91.805556 | H5: 94.50517 | I5: 78.338207 | J5: 87.217078 | K5: 92.527778 | L5: 94.948301
D6: DT | E6: 70.930799 | F6: 80.401235 | G6: 87.277778 | H6: 90.98966 | I6: 72.295322 | J6: 79.501029 | K6: 86.444444 | L6: 90.901034
D7: NN | E7: 74.244639 | F7: 81.404321 | G7: 84.527778 | H7: 90.310192 | I7: 32.894737 | J7: 32.664609 | K7: 33.444444 | L7: 85.849335
D8: Supplementary Table S3: Accuracy using a three-class output model for participant S2
E10: Model 2
E11: 9 Characteristics | I11: 5 Characteristics
E12: XGB | F12: RF | G12: DT | H12: NN | I12: XGB | J12: RF | K12: DT | L12: NN
B13: Model 1 | C13: 50 | D13: XGB | E13: 61.604532 | F13: 62.280702 | G13: 61.476608 | H13: 39.565058 | I13: 75.901559 | J13: 76.754386 | K13: 76.24269 | L13: 45.614035
D14: RF | E14: 83.516082 | F14: 83.845029 | G14: 83.442982 | H14: 66.374269 | I14: 92.519493 | J14: 93.226121 | K14: 92.860624 | L14: 64.376218
D15: DT | E15: 74.872076 | F15: 75.201023 | G15: 74.725877 | H15: 56.725146 | I15: 91.837232 | J15: 92.54386 | K15: 92.178363 | L15: 63.109162
D16: NN | E16: 33 | F16: 33 | G16: 33 | H16: 33 | I16: 33 | J16: 33 | K16: 33 | L16: 33
C17: 100 | D17: XGB | E17: 72.145062 | F17: 72.241512 | G17: 71.778549 | H17: 48.958333 | I17: 84.696502 | J17: 84.722222 | K17: 84.207819 | L17: 53.034979
D18: RF | E18: 88.387346 | F18: 88.445216 | G18: 88.213735 | H18: 68.595679 | I18: 95.550412 | J18: 95.576132 | K18: 95.216049 | L18: 65.252058
D19: DT | E19: 83.294753 | F19: 83.371914 | G19: 83.179012 | H19: 62.384259 | I19: 94.290123 | J19: 94.315844 | K19: 93.981481 | L19: 63.657407
D20: NN | E20: 33 | F20: 33 | G20: 33 | H20: 33 | I20: 33 | J20: 33 | K20: 33 | L20: 33
C21: 150 | D21: XGB | E21: 84.229167 | F21: 84.458333 | G21: 83.791667 | H21: 60.541667 | I21: 91.25 | J21: 91.388889 | K21: 90.722222 | L21: 59.527778
D22: RF | E22: 92.541667 | F22: 92.666667 | G22: 92.25 | H22: 71.125 | I22: 97.361111 | J22: 97.472222 | K22: 96.916667 | L22: 66.305556
D23: DT | E23: 88.291667 | F23: 88.5 | G23: 88.0625 | H23: 66.354167 | I23: 96.611111 | J23: 96.777778 | K23: 96.138889 | L23: 65.444444
D24: NN | E24: 85.520833 | F24: 85.5625 | G24: 85.5 | H24: 68.166667 | I24: 66.361111 | J24: 66.555556 | K24: 65.833333 | L24: 34.277778
C25: 200 | D25: XGB | E25: 91.134752 | F25: 91.289894 | G25: 91.068262 | H25: 89.162234 | I25: 95.568685 | J25: 95.598227 | K25: 95.480059 | L25: 91.225997
D26: RF | E26: 95.589539 | F26: 95.678191 | G26: 95.545213 | H26: 94.304078 | I26: 98.197932 | J26: 98.227474 | K26: 98.16839 | L26: 94.239291
D27: DT | E27: 92.176418 | F27: 92.287234 | G27: 92.132092 | H27: 90.625 | I27: 97.695716 | J27: 97.725258 | K27: 97.695716 | L27: 93.589365
D28: NN | E28: 49.468085 | F28: 49.623227 | G28: 49.312943 | H28: 46.875 | I28: 66.676514 | J28: 66.706056 | K28: 66.587888 | L28: 61.949778
D29: Supplementary Table S4: Accuracy using a Stack Model for participant S2

Sheet S3
E2: 9 Characteristics | I2: 5 Characteristics
E3: 50 | F3: 100 | G3: 150 | H3: 200 | I3: 50 | J3: 100 | K3: 150 | L3: 200
D4: XGB | E4: 82.52924 | F4: 86.213992 | G4: 91.055556 | H4: 92.909897 | I4: 81.384016 | J4: 85.87963 | K4: 91.111111 | L4: 93.707533
D5: RF | E5: 82.626706 | F5: 87.602881 | G5: 91.611111 | H5: 93.737075 | I5: 82.431774 | J5: 87.834362 | K5: 92.444444 | L5: 94.357459
D6: DT | E6: 74.634503 | F6: 80.889918 | G6: 87.083333 | H6: 90.221566 | I6: 74.342105 | J6: 81.22428 | K6: 87.361111 | L6: 90.044313
D7: NN | E7: 81.432749 | F7: 83.693416 | G7: 88.111111 | H7: 90.221566 | I7: 32.894737 | J7: 73.945473 | K7: 33.444444 | L7: 83.161004
D8: Supplementary Table S5: Accuracy using a three-class output model for participant S3
E10: Model 2
E11: 9 Characteristics | I11: 5 Characteristics
E12: XGB | F12: RF | G12: DT | H12: NN | I12: XGB | J12: RF | K12: DT | L12: NN
B13: Model 1 | C13: 50 | D13: XGB | E13: 67.489035 | F13: 67.616959 | G13: 67.068713 | H13: 44.206871 | I13: 81.067251 | J13: 81.408382 | K13: 80.896686 | L13: 49.098441
D14: RF | E14: 85.836988 | F14: 85.910088 | G14: 85.58114 | H14: 65.533626 | I14: 94.273879 | J14: 94.61501 | K14: 94.12768 | L14: 63.620858
D15: DT | E15: 77.796053 | F15: 77.960526 | G15: 77.649854 | H15: 57.346491 | I15: 92.665692 | J15: 92.95809 | K15: 92.519493 | L15: 61.890838
D16: NN | E16: 33 | F16: 33 | G16: 33 | H16: 33 | I16: 33 | J16: 33 | K16: 33 | L16: 33
C17: 100 | D17: XGB | E17: 78.954475 | F17: 79.128086 | G17: 78.626543 | H17: 55.883488 | I17: 87.397119 | J17: 87.47428 | K17: 86.959877 | L17: 55.684156
D18: RF | E18: 88.445216 | F18: 88.599537 | G18: 88.175154 | H18: 68.962191 | I18: 96.013374 | J18: 96.090535 | K18: 95.627572 | L18: 65.715021
D19: DT | E19: 83.564815 | F19: 83.719136 | G19: 83.275463 | H19: 63.194444 | I19: 94.727366 | J19: 94.830247 | K19: 94.367284 | L19: 64.248971
D20: NN | E20: 33 | F20: 33 | G20: 33 | H20: 33 | I20: 33 | J20: 33 | K20: 33 | L20: 33
C21: 150 | D21: XGB | E21: 87.625 | F21: 87.604167 | G21: 87.375 | H21: 63.854167 | I21: 93.055556 | J21: 93.166667 | K21: 93.027778 | L21: 61.333333
D22: RF | E22: 92.770833 | F22: 92.770833 | G22: 92.520833 | H22: 71.604167 | I22: 97.25 | J22: 97.333333 | K22: 97.222222 | L22: 66.333333
D23: DT | E23: 88.208333 | F23: 88.1875 | G23: 88 | H23: 66.770833 | I23: 95.972222 | J23: 96.055556 | K23: 95.944444 | L23: 65.083333
D24: NN | E24: 49.520833 | F24: 49.520833 | G24: 49.291667 | H24: 24.6875 | I24: 66.333333 | J24: 66.472222 | K24: 66.305556 | L24: 34.277778
C25: 200 | D25: XGB | E25: 92.309397 | F25: 92.33156 | G25: 91.954787 | H25: 68.528369 | I25: 95.657312 | J25: 95.745938 | K25: 95.568685 | L25: 62.304284
D26: RF | E26: 95.057624 | F26: 95.057624 | G26: 94.703014 | H26: 72.717199 | I26: 97.843427 | J26: 97.932053 | K26: 97.784343 | L26: 64.579025
D27: DT | E27: 91.533688 | F27: 91.555851 | G27: 91.245567 | H27: 69.038121 | I27: 97.548006 | J27: 97.636632 | K27: 97.488922 | L27: 64.401773
D28: NN | E28: 90.492021 | F28: 90.469858 | G28: 90.181738 | H28: 70.057624 | I28: 87.769572 | J28: 87.828656 | K28: 87.769572 | L28: 58.759232
D29: Supplementary Table S6: Accuracy using a Stack Model for participant S3

Sheet S4
E2: 9 Characteristics | I2: 5 Characteristics
E3: 50 | F3: 100 | G3: 150 | H3: 200 | I3: 50 | J3: 100 | K3: 150 | L3: 200
D4: XGB | E4: 83.942495 | F4: 89.248971 | G4: 92.194444 | H4: 94.711965 | I4: 84.405458 | J4: 88.786008 | K4: 92.194444 | L4: 94.977843
D5: RF | E5: 84.576023 | F5: 90.6893 | G5: 94.166667 | H5: 95.273264 | I5: 85.501949 | J5: 91.203704 | K5: 94.055556 | L5: 95.361891
D6: DT | E6: 77.022417 | F6: 84.33642 | G6: 87.75 | H6: 91.196455 | I6: 76.973684 | J6: 84.799383 | K6: 89.25 | L6: 90.782866
D7: NN | E7: 77.412281 | F7: 79.75823 | G7: 84.777778 | H7: 88.921713 | I7: 32.894737 | J7: 32.664609 | K7: 33.444444 | L7: 32.584934
D8: Supplementary Table S7: Accuracy using a three-class output model for participant S4
E10: Model 2
E11: 9 Characteristics | I11: 5 Characteristics
E12: XGB | F12: RF | G12: DT | H12: NN | I12: XGB | J12: RF | K12: DT | L12: NN
B13: Model 1 | C13: 50 | D13: XGB | E13: 78.983918 | F13: 80.847953 | G13: 79.915936 | H13: 57.913012 | I13: 85.916179 | J13: 88.74269 | K13: 88.109162 | L13: 58.308967
D14: RF | E14: 87.225877 | F14: 89.071637 | G14: 88.194444 | H14: 67.781433 | I14: 92.616959 | J14: 95.419103 | K14: 94.761209 | L14: 65.789474
D15: DT | E15: 81.323099 | F15: 83.13231 | G15: 82.291667 | H15: 62.390351 | I15: 91.325536 | J15: 94.078947 | K15: 93.421053 | L15: 64.595517
D16: NN | E16: 33 | F16: 33 | G16: 33 | H16: 33 | I16: 33 | J16: 33 | K16: 33 | L16: 33
C17: 100 | D17: XGB | E17: 88.097994 | F17: 88.869599 | G17: 88.329475 | H17: 66.049383 | I17: 91.563786 | J17: 92.824074 | K17: 91.975309 | L17: 61.959877
D18: RF | E18: 91.859568 | F18: 92.631173 | G18: 92.11034 | H18: 71.373457 | I18: 94.753086 | J18: 96.013374 | K18: 95.164609 | L18: 65.817901
D19: DT | E19: 88.348765 | F19: 89.08179 | G19: 88.599537 | H19: 68.016975 | I19: 94.212963 | J19: 95.421811 | K19: 94.573045 | L19: 65.149177
D20: NN | E20: 33 | F20: 33 | G20: 33 | H20: 33 | I20: 33 | J20: 33 | K20: 33 | L20: 33
C21: 150 | D21: XGB | E21: 92.1875 | F21: 92.770833 | G21: 92.3125 | H21: 69.083333 | I21: 95.305556 | J21: 96.194444 | K21: 95.638889 | L21: 64.722222
D22: RF | E22: 94.9375 | F22: 95.520833 | G22: 95.0625 | H22: 72.75 | I22: 97.138889 | J22: 98.027778 | K22: 97.472222 | L22: 66.888889
D23: DT | E23: 92.083333 | F23: 92.666667 | G23: 92.229167 | H23: 70.604167 | I23: 96.361111 | J23: 97.25 | K23: 96.694444 | L23: 66.277778
D24: NN | E24: 48.5 | F24: 49.083333 | G24: 48.604167 | H24: 24.6875 | I24: 65.138889 | J24: 66.027778 | K24: 65.472222 | L24: 34.277778
C25: 200 | D25: XGB | E25: 95.52305 | F25: 95.966312 | G25: 95.257092 | H25: 86.613475 | I25: 97.104874 | J25: 97.813885 | K25: 97.193501 | L25: 65.701625
D26: RF | E26: 96.875 | F26: 97.273936 | G26: 96.564716 | H26: 88.054078 | I26: 97.813885 | J26: 98.493353 | K26: 97.872969 | L26: 66.646972
D27: DT | E27: 94.680851 | F27: 95.079787 | G27: 94.370567 | H27: 85.992908 | I27: 97.04579 | J27: 97.754801 | K27: 97.134417 | L27: 66.115214
D28: NN | E28: 48.847518 | F28: 49.335106 | G28: 48.625887 | H28: 39.871454 | I28: 65.49483 | J28: 66.20384 | K28: 65.583456 | L28: 33.914328
D29: Supplementary Table S8: Accuracy using a Stack Model for participant S4

Sheet S5
E2: 9 Characteristics | I2: 5 Characteristics
E3: 50 | F3: 100 | G3: 150 | H3: 200 | I3: 50 | J3: 100 | K3: 150 | L3: 200
D4: XGB | E4: 83.089669 | F4: 88.374486 | G4: 93.138889 | H4: 95.332349 | I4: 83.796296 | J4: 88.348765 | K4: 93.027778 | L4: 94.977843
D5: RF | E5: 83.528265 | F5: 88.914609 | G5: 93.638889 | H5: 95.450517 | I5: 83.77193 | J5: 89.01749 | K5: 93.861111 | L5: 95.805022
D6: DT | E6: 76.023392 | F6: 84.233539 | G6: 88.611111 | H6: 92.319055 | I6: 76.510721 | J6: 84.41358 | K6: 90.055556 | L6: 92.880355
D7: NN | E7: 82.94347 | F7: 87.602881 | G7: 90.722222 | H7: 93.323486 | I7: 32.894737 | J7: 82.227366 | K7: 33.444444 | L7: 91.314623
D8: Supplementary Table S9: Accuracy using a three-class output model for participant S5
E10: Model 2
E11: 9 Characteristics | I11: 5 Characteristics
E12: XGB | F12: RF | G12: DT | H12: NN | I12: XGB | J12: RF | K12: DT | L12: NN
B13: Model 1 | C13: 50 | D13: XGB | E13: 73.282164 | F13: 74.031433 | G13: 73.611111 | H13: 51.297515 | I13: 83.601365 | J13: 84.673489 | K13: 84.405458 | L13: 54.385965
D14: RF | E14: 87.481725 | F14: 88.084795 | G14: 87.774123 | H14: 67.836257 | I14: 93.615984 | J14: 94.639376 | K14: 94.468811 | L14: 65.302144
D15: DT | E15: 81.176901 | F15: 81.81652 | G15: 81.652047 | H15: 61.531433 | I15: 92.324561 | J15: 93.396686 | K15: 93.177388 | L15: 63.840156
D16: NN | E16: 86.385234 | F16: 86.951754 | G16: 86.641082 | H16: 66.794591 | I16: 33 | J16: 33 | K16: 33 | L16: 33
C17: 100 | D17: XGB | E17: 84.876543 | F17: 85.223765 | G17: 84.702932 | H17: 62.403549 | I17: 91.177984 | J17: 91.923868 | K17: 91.383745 | L17: 60.519547
D18: RF | E18: 91.628086 | F18: 91.840278 | G18: 91.473765 | H18: 70.563272 | I18: 96.141975 | J18: 96.784979 | K18: 96.296296 | L18: 65.972222
D19: DT | E19: 86.940586 | F19: 87.172068 | G19: 86.747685 | H19: 65.316358 | I19: 94.753086 | J19: 95.447531 | K19: 94.984568 | L19: 64.686214
D20: NN | E20: 33 | F20: 33 | G20: 33 | H20: 33 | I20: 33 | J20: 33 | K20: 33 | L20: 33
C21: 150 | D21: XGB | E21: 91.5 | F21: 91.541667 | G21: 91.333333 | H21: 88.9375 | I21: 96.416667 | J21: 96.472222 | K21: 96.111111 | L21: 64.833333
D22: RF | E22: 94.375 | F22: 94.395833 | G22: 94.1875 | H22: 92.395833 | I22: 98 | J22: 98.055556 | K22: 97.694444 | L22: 66.722222
D23: DT | E23: 91.145833 | F23: 91.166667 | G23: 90.958333 | H23: 89 | I23: 97.138889 | J23: 97.25 | K23: 96.888889 | L23: 65.916667
D24: NN | E24: 92.145833 | F24: 92.166667 | G24: 92.0625 | H24: 90.625 | I24: 91.555556 | J24: 91.555556 | K24: 91.222222 | L24: 62.972222
C25: 200 | D25: XGB | E25: 95.390071 | F25: 95.434397 | G25: 95.16844 | H25: 93.218085 | I25: 97.961595 | J25: 98.050222 | K25: 97.813885 | L25: 95.155096
D26: RF | E26: 96.187943 | F26: 96.16578 | G26: 95.921986 | H26: 94.45922 | I26: 98.522895 | J26: 98.581979 | K26: 98.345643 | L26: 95.745938
D27: DT | E27: 94.370567 | F27: 94.370567 | G27: 94.082447 | H27: 92.420213 | I27: 98.197932 | J27: 98.257016 | K27: 98.020679 | L27: 95.391433
D28: NN | E28: 94.082447 | F28: 94.060284 | G28: 93.838652 | H28: 92.841312 | I28: 66.410635 | J28: 66.499261 | K28: 66.233383 | L28: 63.485968
D29: Supplementary Table S10: Accuracy using a Stack Model for participant S5

Sheet S6
E2: 9 Characteristics | I2: 5 Characteristics
E3: 50 | F3: 100 | G3: 150 | H3: 200 | I3: 50 | J3: 100 | K3: 150 | L3: 200
D4: XGB | E4: 69.371345 | F4: 76.646091 | G4: 83.805556 | H4: 89.039882 | I4: 69.078947 | J4: 76.671811 | K4: 83.861111 | L4: 88.035451
D5: RF | E5: 68.421053 | F5: 78.909465 | G5: 85.5 | H5: 90.605613 | I5: 70.126706 | J5: 79.038066 | K5: 87 | L5: 90.84195
D6: DT | E6: 63.255361 | F6: 71.553498 | G6: 78.305556 | H6: 84.874446 | I6: 63.767057 | J6: 72.608025 | K6: 78.972222 | L6: 84.756278
D7: NN | E7: 66.22807 | F7: 72.402263 | G7: 78.777778 | H7: 83.131462 | I7: 32.894737 | J7: 32.664609 | K7: 33.444444 | L7: 32.584934
D8: Supplementary Table S11: Accuracy using a three-class output model for participant S6
E10: Model 2
E11: 9 Characteristics | I11: 5 Characteristics
E12: XGB | F12: RF | G12: DT | H12: NN | I12: XGB | J12: RF | K12: DT | L12: NN
B13: Model 1 | C13: 50 | D13: XGB | E13: 51.041667 | F13: 51.91886 | G13: 51.151316 | H13: 28.490497 | I13: 67.178363 | J13: 68.884016 | K13: 68.37232 | L13: 36.939571
D14: RF | E14: 75.292398 | F14: 75.438596 | G14: 75.164474 | H14: 60.709064 | I14: 89.010721 | J14: 90.302144 | K14: 89.863548 | L14: 61.915205
D15: DT | E15: 67.306287 | F15: 67.744883 | G15: 67.123538 | H15: 50.804094 | I15: 87.451267 | J15: 88.913255 | K15: 88.474659 | L15: 59.990253
D16: NN | E16: 33 | F16: 33 | G16: 33 | H16: 33 | I16: 33 | J16: 33 | K16: 33 | L16: 33
C17: 100 | D17: XGB | E17: 59.259259 | F17: 59.41358 | G17: 58.950617 | H17: 36.593364 | I17: 74.717078 | J17: 75.360082 | K17: 74.94856 | L17: 43.904321
D18: RF | E18: 81.21142 | F18: 81.26929 | G18: 81.095679 | H18: 64.969136 | I18: 92.20679 | J18: 92.721193 | K18: 92.541152 | L18: 63.708848
D19: DT | E19: 73.611111 | F19: 73.726852 | G19: 73.51466 | H19: 55.825617 | I19: 91.126543 | J19: 91.640947 | K19: 91.332305 | L19: 61.985597
D20: NN | E20: 33 | F20: 33 | G20: 33 | H20: 33 | I20: 33 | J20: 33 | K20: 33 | L20: 33
C21: 150 | D21: XGB | E21: 71.145833 | F21: 71.270833 | G21: 70.916667 | H21: 48.0625 | I21: 83.5 | J21: 83.555556 | K21: 83.333333 | L21: 52.083333
D22: RF | E22: 86.645833 | F22: 86.729167 | G22: 86.458333 | H22: 68.291667 | I22: 94.944444 | J22: 95 | K22: 94.805556 | L22: 65.666667
D23: DT | E23: 79.645833 | F23: 79.6875 | G23: 79.395833 | H23: 59.875 | I23: 94.194444 | J23: 94.25 | K23: 94.055556 | L23: 64
D24: NN | E24: 49.4375 | F24: 49.5625 | G24: 49.145833 | H24: 24.6875 | I24: 66.25 | J24: 66.333333 | K24: 66.083333 | L24: 34.277778
C25: 200 | D25: XGB | E25: 80.718085 | F25: 80.784574 | G25: 80.452128 | H25: 77.570922 | I25: 89.305761 | J25: 89.453471 | K25: 89.187592 | L25: 57.163959
D26: RF | E26: 91.001773 | F26: 91.046099 | G26: 90.890957 | H26: 89.671986 | I26: 96.425406 | J26: 96.573117 | K26: 96.307238 | L26: 65.140325
D27: DT | E27: 86.170213 | F27: 86.170213 | G27: 85.948582 | H27: 84.064716 | I27: 96.159527 | J27: 96.307238 | K27: 96.041359 | L27: 64.638109
D28: NN | E28: 49.534574 | F28: 49.578901 | G28: 49.246454 | H28: 45.855496 | I28: 66.558346 | J28: 66.706056 | K28: 66.381093 | L28: 33.914328
D29: Supplementary Table S12: Accuracy using a Stack Model for participant S6

Sheet S7
E2: 9 Characteristics | I2: 5 Characteristics
E3: 50 | F3: 100 | G3: 150 | H3: 200 | I3: 50 | J3: 100 | K3: 150 | L3: 200
D4: XGB | E4: 87.110136 | F4: 91.049383 | G4: 93.888889 | H4: 96.189069 | I4: 87.231969 | J4: 90.895062 | K4: 93.5 | L4: 96.189069
D5: RF | E5: 87.573099 | F5: 91.769547 | G5: 94.833333 | H5: 96.425406 | I5: 87.061404 | J5: 91.795267 | K5: 94.944444 | L5: 96.809453
D6: DT | E6: 82.090643 | F6: 87.268519 | G6: 92.166667 | H6: 94.032496 | I6: 81.62768 | J6: 87.885802 | K6: 92.111111 | L6: 93.914328
D7: NN | E7: 86.866472 | F7: 89.429012 | G7: 93.138889 | H7: 95.096012 | I7: 81.676413 | J7: 32.664609 | K7: 90.638889 | L7: 32.584934
D8: Supplementary Table S13: Accuracy using a three-class output model for participant S7
E10: Model 2
E11: 9 Characteristics | I11: 5 Characteristics
E12: XGB | F12: RF | G12: DT | H12: NN | I12: XGB | J12: RF | K12: DT | L12: NN
B13: Model 1 | C13: 50 | D13: XGB | E13: 80.244883 | F13: 80.171784 | G13: 79.952485 | H13: 77.686404 | I13: 88.32846 | J13: 88.425926 | K13: 88.450292 | L13: 57.017544
D14: RF | E14: 89.565058 | F14: 89.491959 | G14: 89.34576 | H14: 88.760965 | I14: 95.8577 | J14: 95.955166 | K14: 95.930799 | L14: 65.545809
D15: DT | E15: 83.442982 | F15: 83.369883 | G15: 83.241959 | H15: 81.980994 | I15: 94.907407 | J15: 95.004873 | K15: 94.95614 | L15: 64.230019
D16: NN | E16: 88.029971 | F16: 87.956871 | G16: 87.847222 | H16: 87.481725 | I16: 33 | J16: 33 | K16: 33 | L16: 33
C17: 100 | D17: XGB | E17: 87.924383 | F17: 87.924383 | G17: 87.808642 | H17: 87.384259 | I17: 93.595679 | J17: 93.544239 | K17: 93.467078 | L17: 91.975309
D18: RF | E18: 92.785494 | F18: 92.804784 | G18: 92.708333 | H18: 92.418981 | I18: 97.505144 | J18: 97.453704 | K18: 97.376543 | L18: 96.013374
D19: DT | E19: 88.560957 | F19: 88.580247 | G19: 88.503086 | H19: 88.252315 | I19: 96.784979 | J19: 96.733539 | K19: 96.656379 | L19: 95.216049
D20: NN | E20: 33 | F20: 33 | G20: 33 | H20: 33 | I20: 33 | J20: 33 | K20: 33 | L20: 33
C21: 150 | D21: XGB | E21: 93.083333 | F21: 93.083333 | G21: 93.041667 | H21: 69.333333 | I21: 97.055556 | J21: 97.055556 | K21: 97.027778 | L21: 95.166667
D22: RF | E22: 95.270833 | F22: 95.291667 | G22: 95.25 | H22: 72.8125 | I22: 98.25 | J22: 98.25 | K22: 98.222222 | L22: 96.666667
D23: DT | E23: 92.208333 | F23: 92.229167 | G23: 92.166667 | H23: 69.645833 | I23: 97.638889 | J23: 97.638889 | K23: 97.611111 | L23: 96
D24: NN | E24: 33 | F24: 33 | G24: 33 | H24: 33 | I24: 91.583333 | J24: 91.583333 | K24: 91.611111 | L24: 91.5
C25: 200 | D25: XGB | E25: 96.187943 | F25: 96.254433 | G25: 96.210106 | H25: 96.099291 | I25: 98.493353 | J25: 98.552437 | K25: 98.434269 | L25: 98.16839
D26: RF | E26: 97.451241 | F26: 97.451241 | G26: 97.429078 | H26: 97.340426 | I26: 99.054653 | J26: 99.113737 | K26: 98.995569 | L26: 98.759232
D27: DT | E27: 94.370567 | F27: 94.370567 | G27: 94.348404 | H27: 94.281915 | I27: 98.286558 | J27: 98.345643 | K27: 98.227474 | L27: 97.991137
D28: NN | E28: 33 | F28: 33 | G28: 33 | H28: 33 | I28: 92.880355 | J28: 92.880355 | K28: 92.850812 | L28: 92.762186
D29: Supplementary Table S14: Accuracy using a Stack Model for participant S7

Sheet S8
E2: 9 Characteristics | I2: 5 Characteristics
E3: 50 | F3: 100 | G3: 150 | H3: 200 | I3: 50 | J3: 100 | K3: 150 | L3: 200
D4: XGB | E4: 72.782651 | F4: 80.709877 | G4: 87 | H4: 89.601182 | I4: 72.490253 | J4: 80.169753 | K4: 86.722222 | L4: 89.246677
D5: RF | E5: 73.269981 | F5: 82.150206 | G5: 89.083333 | H5: 91.580502 | I5: 74.000975 | J5: 83.127572 | K5: 88.916667 | L5: 92.466765
D6: DT | E6: 65.765107 | F6: 75.668724 | G6: 80.833333 | H6: 85.317578 | I6: 65.448343 | J6: 75.617284 | K6: 81.861111 | L6: 86.026588
D7: NN | E7: 71.393762 | F7: 76.903292 | G7: 81.277778 | H7: 84.608567 | I7: 32.894737 | J7: 32.664609 | K7: 33.444444 | L7: 80.413589
D8: Supplementary Table S15: Accuracy using a three-class output model for participant S8
E10: Model 2
E11: 9 Characteristics | I11: 5 Characteristics
E12: XGB | F12: RF | G12: DT | H12: NN | I12: XGB | J12: RF | K12: DT | L12: NN
B13: Model 1 | C13: 50 | D13: XGB | E13: 56.414474 | F13: 58.424708 | G13: 57.711988 | H13: 36.586257 | I13: 71.101365 | J13: 73.830409 | K13: 73.075049 | L13: 44.030214
D14: RF | E14: 79.586988 | F14: 80.829678 | G14: 80.299708 | H14: 65.113304 | I14: 88.913255 | J14: 91.374269 | K14: 90.740741 | L14: 63.913255
D15: DT | E15: 71.125731 | F15: 72.47807 | G15: 71.856725 | H15: 55.68348 | I15: 87.012671 | J15: 89.498051 | K15: 88.840156 | L15: 61.67154
D16: NN | E16: 76.864035 | F16: 77.704678 | G16: 77.266082 | H16: 64.766082 | I16: 69.834308 | J16: 70.687135 | K16: 70.248538 | L16: 53.874269
C17: 100 | D17: XGB | E17: 68.865741 | F17: 69.714506 | G17: 69.039352 | H17: 47.337963 | I17: 81.352881 | J17: 82.407407 | K17: 81.815844 | L17: 51.671811
D18: RF | E18: 84.780093 | F18: 85.397377 | G18: 84.837963 | H18: 67.766204 | I18: 93.081276 | J18: 94.007202 | K18: 93.364198 | L18: 64.891975
D19: DT | E19: 78.337191 | F19: 79.031636 | G19: 78.530093 | H19: 60.802469 | I19: 91.306584 | J19: 92.23251 | K19: 91.589506 | L19: 62.885802
D20: NN | E20: 33 | F20: 33 | G20: 33 | H20: 33 | I20: 33 | J20: 33 | K20: 33 | L20: 33
C21: 150 | D21: XGB | E21: 79.25 | F21: 79.229167 | G21: 79.020833 | H21: 56.125 | I21: 87.083333 | J21: 87.555556 | K21: 87.222222 | L21: 77.972222
D22: RF | E22: 89.520833 | F22: 89.520833 | G22: 89.375 | H22: 70.020833 | I22: 95.611111 | J22: 96.055556 | K22: 95.666667 | L22: 87.333333
D23: DT | E23: 84.6875 | F23: 84.625 | G23: 84.479167 | H23: 64.270833 | I23: 94.055556 | J23: 94.527778 | K23: 94.138889 | L23: 85.666667
D24: NN | E24: 33 | F24: 33 | G24: 33 | H24: 33 | I24: 65.527778 | J24: 66.027778 | K24: 65.666667 | L24: 55.916667
C25: 200 | D25: XGB | E25: 86.325355 | F25: 86.369681 | G25: 86.103723 | H25: 81.89273 | I25: 92.11226 | J25: 92.407681 | K25: 92.023634 | L25: 83.929099
D26: RF | E26: 92.796986 | F26: 92.796986 | G26: 92.553191 | H26: 89.450355 | I26: 96.809453 | J26: 97.075332 | K26: 96.661743 | L26: 89.187592
D27: DT | E27: 88.453014 | F27: 88.453014 | G27: 88.231383 | H27: 84.773936 | I27: 95.77548 | J27: 96.070901 | K27: 95.745938 | L27: 88.064993
D28: NN | E28: 87.034574 | F28: 87.012411 | G28: 86.945922 | H28: 84.640957 | I28: 85.081241 | J28: 85.34712 | K28: 85.051699 | L28: 82.156573
D29: Supplementary Table S16: Accuracy using a Stack Model for participant S8

Sheet S9
E2: 9 Characteristics | I2: 5 Characteristics
E3: 50 | F3: 100 | G3: 150 | H3: 200 | I3: 50 | J3: 100 | K3: 150 | L3: 200
D4: XGB | E4: 77.461014 | F4: 83.256173 | G4: 89.305556 | H4: 93.146233 | I4: 76.973684 | J4: 83.359053 | K4: 89.055556 | L4: 92.496307
D5: RF | E5: 77.436647 | F5: 84.593621 | G5: 90.527778 | H5: 93.79616 | I5: 77.339181 | J5: 84.567901 | K5: 90.888889 | L5: 93.825702
D6: DT | E6: 70.7846 | F6: 77.700617 | G6: 84.444444 | H6: 88.774003 | I6: 69.834308 | J6: 78.1893 | K6: 86.138889 | L6: 88.626292
D7: NN | E7: 75.584795 | F7: 79.166667 | G7: 84.861111 | H7: 88.419498 | I7: 32.894737 | J7: 32.664609 | K7: 33.444444 | L7: 82.481536
D8: Supplementary Table S17: Accuracy using a three-class output model for participant S9
E10: Model 2
E11: 9 Characteristics | I11: 5 Characteristics
E12: XGB | F12: RF | G12: DT | H12: NN | I12: XGB | J12: RF | K12: DT | L12: NN
B13: Model 1 | C13: 50 | D13: XGB | E13: 62.353801 | F13: 63.304094 | G13: 62.682749 | H13: 40.66155 | I13: 77.192982 | J13: 78.776803 | K13: 77.97271 | L13: 46.783626
D14: RF | E14: 82.236842 | F14: 82.766813 | G14: 82.419591 | H14: 66.282895 | I14: 92.178363 | J14: 93.591618 | K14: 92.860624 | L14: 63.182261
D15: DT | E15: 74.305556 | F15: 74.981725 | G15: 74.524854 | H15: 57.127193 | I15: 91.106238 | J15: 92.592593 | K15: 91.812865 | L15: 62.183236
D16: NN | E16: 33 | F16: 33 | G16: 33 | H16: 33 | I16: 33 | J16: 33 | K16: 33 | L16: 33
C17: 100 | D17: XGB | E17: 73.707562 | F17: 73.958333 | G17: 73.533951 | H17: 51.157407 | I17: 84.490741 | J17: 85.288066 | K17: 84.773663 | L17: 53.960905
D18: RF | E18: 87.403549 | F18: 87.635031 | G18: 87.249228 | H18: 68.653549 | I18: 94.701646 | J18: 95.447531 | K18: 95.010288 | L18: 65.5607
D19: DT | E19: 81.423611 | F19: 81.693673 | G19: 81.32716 | H19: 61.516204 | I19: 93.80144 | J19: 94.521605 | K19: 94.084362 | L19: 64.583333
D20: NN | E20: 33 | F20: 33 | G20: 33 | H20: 33 | I20: 33 | J20: 33 | K20: 33 | L20: 33
C21: 150 | D21: XGB | E21: 85.583333 | F21: 85.666667 | G21: 85.270833 | H21: 62.5625 | I21: 91.611111 | J21: 92.083333 | K21: 91.583333 | L21: 60.805556
D22: RF | E22: 91.5625 | F22: 91.625 | G22: 91.3125 | H22: 70.791667 | I22: 96.138889 | J22: 96.611111 | K22: 96.166667 | L22: 66.333333
D23: DT | E23: 87.208333 | F23: 87.3125 | G23: 86.979167 | H23: 66.145833 | I23: 95.416667 | J23: 95.888889 | K23: 95.472222 | L23: 65.305556
D24: NN | E24: 33 | F24: 33 | G24: 33 | H24: 33 | I24: 65.833333 | J24: 66.305556 | K24: 65.777778 | L24: 34.277778
C25: 200 | D25: XGB | E25: 91.422872 | F25: 91.555851 | G25: 91.156915 | H25: 67.75266 | I25: 95.745938 | J25: 96.100443 | K25: 95.657312 | L25: 90.073855
D26: RF | E26: 94.74734 | F26: 94.902482 | G26: 94.503546 | H26: 72.473404 | I26: 97.695716 | J26: 98.050222 | K26: 97.636632 | L26: 92.25997
D27: DT | E27: 91.97695 | F27: 92.176418 | G27: 91.777482 | H27: 69.237589 | I27: 97.163959 | J27: 97.518464 | K27: 97.075332 | L27: 91.669129
D28: NN | E28: 33 | F28: 33 | G28: 33 | H28: 33 | I28: 85.051699 | J28: 85.258493 | K28: 85.081241 | L28: 82.245199
D29: Supplementary Table S18: Accuracy using a Stack Model for participant S9

Sheet S10
E2: 9 Characteristics | I2: 5 Characteristics
E3: 50 | F3: 100 | G3: 150 | H3: 200 | I3: 50 | J3: 100 | K3: 150 | L3: 200
D4: XGB | E4: 76.388889 | F4: 82.510288 | G4: 88.916667 | H4: 91.905465 | I4: 75.999025 | J4: 81.764403 | K4: 89.027778 | L4: 91.905465
D5: RF | E5: 77.948343 | F5: 83.770576 | G5: 90.194444 | H5: 93.146233 | I5: 77.777778 | J5: 84.002058 | K5: 91.055556 | L5: 93.353028
D6: DT | E6: 70.419103 | F6: 78.935185 | G6: 84.972222 | H6: 88.714919 | I6: 70.151072 | J6: 78.034979 | K6: 85.444444 | L6: 88.005908
D7: NN | E7: 73.172515 | F7: 77.083333 | G7: 84.111111 | H7: 86.853767 | I7: 32.894737 | J7: 75.565844 | K7: 33.444444 | L7: 32.584934
D8: Supplementary Table S19: Accuracy using a three-class output model for participant S10
E10: Model 2
E11: 9 Characteristics | I11: 5 Characteristics
E12: XGB | F12: RF | G12: DT | H12: NN | I12: XGB | J12: RF | K12: DT | L12: NN
B13: Model 1 | C13: 50 | D13: XGB | E13: 60.471491 | F13: 61.147661 | G13: 60.58114 | H13: 55.57383 | I13: 75.073099 | J13: 75.804094 | K13: 75.292398 | L13: 66.179337
D14: RF | E14: 81.834795 | F14: 82.090643 | G14: 81.761696 | H14: 80.738304 | I14: 93.031189 | J14: 93.640351 | K14: 93.177388 | L14: 85.477583
D15: DT | E15: 73.976608 | F15: 74.39693 | G15: 74.013158 | H15: 71.710526 | I15: 91.276803 | J15: 91.861598 | K15: 91.398635 | L15: 83.333333
D16: NN | E16: 33 | F16: 33 | G16: 33 | H16: 33 | I16: 33 | J16: 33 | K16: 33 | L16: 33
C17: 100 | D17: XGB | E17: 71.643519 | F17: 71.739969 | G17: 71.315586 | H17: 67.631173 | I17: 85.185185 | J17: 85.133745 | K17: 85.030864 | L17: 77.803498
D18: RF | E18: 87.133488 | F18: 87.210648 | G18: 86.979167 | H18: 86.033951 | I18: 94.624486 | J18: 94.598765 | K18: 94.444444 | L18: 88.503086
D19: DT | E19: 80.574846 | F19: 80.671296 | G19: 80.459105 | H19: 78.317901 | I19: 93.569959 | J19: 93.569959 | K19: 93.441358 | L19: 87.088477
D20: NN | E20: 33 | F20: 33 | G20: 33 | H20: 33 | I20: 33 | J20: 33 | K20: 33 | L20: 33
C21: 150 | D21: XGB | E21: 83 | F21: 83.083333 | G21: 82.833333 | H21: 78.583333 | I21: 91.305556 | J21: 91.444444 | K21: 91.194444 | L21: 86.333333
D22: RF | E22: 91.520833 | F22: 91.625 | G22: 91.395833 | H22: 89.125 | I22: 96.722222 | J22: 96.888889 | K22: 96.638889 | L22: 92.75
D23: DT | E23: 86.9375 | F23: 87.041667 | G23: 86.833333 | H23: 83.979167 | I23: 95.611111 | J23: 95.805556 | K23: 95.527778 | L23: 91.222222
D24: NN | E24: 33 | F24: 33 | G24: 33 | H24: 33 | I24: 66.277778 | J24: 66.444444 | K24: 66.166667 | L24: 61.083333
C25: 200 | D25: XGB | E25: 89.20656 | F25: 89.361702 | G25: 88.91844 | H25: 87.411348 | I25: 94.65288 | J25: 94.771049 | K25: 94.416544 | L25: 91.314623
D26: RF | E26: 93.993794 | F26: 94.148936 | G26: 93.75 | H26: 92.796986 | I26: 98.050222 | J26: 98.138848 | K26: 97.784343 | L26: 95.007386
D27: DT | E27: 89.494681 | F27: 89.605496 | G27: 89.295213 | H27: 87.788121 | I27: 96.779911 | J27: 96.868538 | K27: 96.514032 | L27: 93.855244
D28: NN | E28: 33 | F28: 33 | G28: 33 | H28: 33 | I28: 66.587888 | J28: 66.706056 | K28: 66.351551 | L28: 63.131462
D29: Supplementary Table S20: Accuracy using a Stack Model for participant S10

Sheet S11
E2: 9 Characteristics | I2: 5 Characteristics
E3: 50 | F3: 100 | G3: 150 | H3: 200 | I3: 50 | J3: 100 | K3: 150 | L3: 200
D4: XGB | E4: 70.308968 | F4: 77.791461 | G4: 83.108108 | H4: 88.159255 | I4: 70.497362 | J4: 77.339901 | K4: 83.423423 | L4: 87.849018
D5: RF | E5: 71.853806 | F5: 80.623974 | G5: 86.396396 | H5: 89.91727 | I5: 71.853806 | J5: 81.075534 | K5: 86.081081 | L5: 89.968976
D6: DT | E6: 65.938206 | F6: 72.167488 | G6: 80.405405 | H6: 83.919338 | I6: 65.636775 | J6: 74.507389 | K6: 79.90991 | L6: 83.764219
D7: NN | E7: 68.349661 | F7: 72.988506 | G7: 78.018018 | H7: 32.21303 | I7: 32.743029 | J7: 66.789819 | K7: 32.837838 | L7: 32.21303
D8: Supplementary Table S21: Accuracy using a three-class output model for participant S11
E10: Model 2
E11: 9 Characteristics | I11: 5 Characteristics
E12: XGB | F12: RF | G12: DT | H12: NN | I12: XGB | J12: RF | K12: DT | L12: NN
B13: Model 1 | C13: 50 | D13: XGB | E13: 57.970605 | F13: 58.30978 | G13: 57.716224 | H13: 34.284907 | I13: 75.425331 | J13: 76.10586 | K13: 75.387524 | L13: 43.364839
D14: RF | E14: 75.522894 | F14: 75.692482 | G14: 75.551159 | H14: 59.440362 | I14: 90.699433 | J14: 91.228733 | K14: 90.623819 | L14: 61.47448
D15: DT | E15: 69.163369 | F15: 69.219898 | G15: 68.908988 | H15: 50.791408 | I15: 89.716446 | J15: 90.245747 | K15: 89.603025 | L15: 60.453686
D16: NN | E16: 33 | F16: 33 | G16: 33 | H16: 33 | I16: 33 | J16: 33 | K16: 33 | L16: 33
C17: 100 | D17: XGB | E17: 65.116995 | F17: 65.055419 | G17: 64.562808 | H17: 42.456897 | I17: 81.589786 | J17: 81.630972 | K17: 81.01318 | L17: 48.599671
D18: RF | E18: 82.481527 | F18: 82.481527 | G18: 82.112069 | H18: 65.240148 | I18: 93.039539 | J18: 93.080725 | K18: 92.504119 | L18: 62.273476
D19: DT | E19: 74.599754 | F19: 74.630542 | G19: 74.199507 | H19: 56.003695 | I19: 92.792422 | J19: 92.833608 | K19: 92.174629 | L19: 61.16145
D20: NN | E20: 33 | F20: 33 | G20: 33 | H20: 33 | I20: 67.092257 | J20: 67.092257 | K20: 66.474465 | L20: 32.907743
C21: 150 | D21: XGB | E21: 74.527027 | F21: 74.594595 | G21: 74.02027 | H21: 70.304054 | I21: 86.386251 | J21: 86.386251 | K21: 86.11488 | L21: 53.55043
D22: RF | E22: 86.722973 | F22: 86.858108 | G22: 86.283784 | H22: 84.222973 | I22: 95.160561 | J22: 95.115332 | K22: 94.753505 | L22: 63.681592
D23: DT | E23: 79.391892 | F23: 79.459459 | G23: 78.986486 | H23: 76.925676 | I23: 93.75848 | J23: 93.803709 | K23: 93.396653 | L23: 62.008141
D24: NN | E24: 33 | F24: 33 | G24: 33 | H24: 33 | I24: 66.123926 | J24: 66.078697 | K24: 65.852555 | L24: 32.383537
C25: 200 | D25: XGB | E25: 82.505818 | F25: 82.738557 | G25: 82.467029 | H25: 60.007758 | I25: 92.051948 | J25: 92.207792 | K25: 91.844156 | L25: 58.857143
D26: RF | E26: 90.884407 | F26: 91.000776 | G26: 90.845617 | H26: 70.94647 | I26: 97.090909 | J26: 97.246753 | K26: 96.935065 | L26: 64.623377
D27: DT | E27: 83.630721 | F27: 83.708301 | G27: 83.630721 | H27: 63.110939 | I27: 95.376623 | J27: 95.532468 | K27: 95.168831 | L27: 63.116883
D28: NN | E28: 83.475562 | F28: 83.475562 | G28: 83.475562 | H28: 66.446858 | I28: 65.922078 | J28: 66.025974 | K28: 65.662338 | L28: 32.467532
D29: Supplementary Table S22: Accuracy using a Stack Model for participant S11

Sheet S12
E2: 9 Characteristics | I2: 5 Characteristics
E3: 50 | F3: 100 | G3: 150 | H3: 200 | I3: 50 | J3: 100 | K3: 150 | L3: 200
D4: XGB | E4: 71.536715 | F4: 80.214345 | G4: 84.841629 | H4: 88.969823 | I4: 70.968963 | J4: 79.266282 | K4: 85.429864 | L4: 90.634755
D5: RF | E5: 73.845572 | F5: 81.327288 | G5: 87.647059 | H5: 91.623309 | I5: 71.877366 | J5: 80.214345 | K5: 89.411765 | L5: 92.976067
D6: DT | E6: 66.65405 | F6: 74.402308 | G6: 79.502262 | H6: 84.547347 | I6: 66.881151 | J6: 73.948887 | K6: 79.411765 | L6: 85.952133
D7: NN | E7: 65.707797 | F7: 70.816158 | G7: 76.0181 | H7: 82.258065 | I7: 32.361847 | J7: 32.522671 | K7: 32.352941 | L7: 56.555671
D8: Supplementary Table S23: Accuracy using a three-class output model for participant S12
E10: Model 2
E11: 9 Characteristics | I11: 5 Characteristics
E12: XGB | F12: RF | G12: DT | H12: NN | I12: XGB | J12: RF | K12: DT | L12: NN
B13: Model 1 | C13: 50 | D13: XGB | E13: 61.726292 | F13: 62.407723 | G13: 61.499148 | H13: 38.444066 | I13: 75.719697 | J13: 76.25 | K13: 75.984848 | L13: 43.674242
D14: RF | E14: 77.058489 | F14: 77.597956 | G14: 76.831346 | H14: 61.186826 | I14: 91.325758 | J14: 91.818182 | K14: 91.666667 | L14: 62.19697
D15: DT | E15: 68.824532 | F15: 69.392391 | G15: 68.654174 | H15: 51.760363 | I15: 90.643939 | J15: 91.098485 | K15: 90.94697 | L15: 60.94697
D16: NN | E16: 33 | F16: 33 | G16: 33 | H16: 33 | I16: 33 | J16: 33 | K16: 33 | L16: 33
C17: 100 | D17: XGB | E17: 67.326121 | F17: 67.542504 | G17: 67.264297 | H17: 44.358578 | I17: 81.683168 | J17: 82.054455 | K17: 81.394389 | L17: 49.752475
D18: RF | E18: 82.627512 | F18: 82.812983 | G18: 82.565688 | H18: 64.204019 | I18: 93.770627 | J18: 94.141914 | K18: 93.481848 | L18: 63.407591
D19: DT | E19: 75.950541 | F19: 76.166924 | G19: 75.888717 | H19: 57.310665 | I19: 92.986799 | J19: 93.358086 | K19: 92.69802 | L19: 62.376238
D20: NN | E20: 33 | F20: 33 | G20: 33 | H20: 33 | I20: 67.244224 | J20: 67.615512 | K20: 66.955446 | L20: 34.777228
C21: 150 | D21: XGB | E21: 78.750849 | F21: 79.022403 | G21: 78.581127 | H21: 55.09165 | I21: 87.54529 | J21: 87.771739 | K21: 86.956522 | L21: 54.800725
D22: RF | E22: 89.680923 | F22: 89.918534 | G22: 89.57909 | H22: 68.80516 | I22: 95.561594 | J22: 95.788043 | K22: 94.972826 | L22: 63.994565
D23: DT | E23: 83.435166 | F23: 83.706721 | G23: 83.299389 | H23: 63.102512 | I23: 94.338768 | J23: 94.565217 | K23: 93.75 | L23: 63.088768
D24: NN | E24: 33 | F24: 33 | G24: 33 | H24: 33 | I24: 33 | J24: 33 | K24: 33 | L24: 33
C25: 200 | D25: XGB | E25: 86.807182 | F25: 86.76815 | G25: 86.612022 | H25: 62.997658 | I25: 93.385417 | J25: 93.333333 | K25: 93.125 | L25: 59.166667
D26: RF | E26: 93.013271 | F26: 93.013271 | G26: 92.818111 | H26: 70.608899 | I26: 97.708333 | J26: 97.65625 | K26: 97.447917 | L26: 64.114583
D27: DT | E27: 88.173302 | F27: 88.173302 | G27: 87.978142 | H27: 66.276347 | I27: 96.614583 | J27: 96.5625 | K27: 96.40625 | L27: 63.541667
D28: NN | E28: 33 | F28: 33 | G28: 33 | H28: 33 | I28: 66.979167 | J28: 66.927083 | K28: 66.71875 | L28: 32.552083
D29: Supplementary Table S24: Accuracy using a Stack Model for participant S12

Sheet S13
E2: 9 Characteristics | I2: 5 Characteristics
E3: 50 | F3: 100 | G3: 150 | H3: 200 | I3: 50 | J3: 100 | K3: 150 | L3: 200
D4: XGB | E4: 77.214232 | F4: 83.216495 | G4: 88.043478 | H4: 90.94693 | I4: 75.965178 | J4: 82.350515 | K4: 89.402174 | L4: 91.57128
D5: RF | E5: 80.16654 | F5: 86.43299 | G5: 90.76087 | H5: 92.247659 | I5: 79.220288 | J5: 86.762887 | K5: 91.032609 | L5: 94.016649
D6: DT | E6: 70.628312 | F6: 79.298969 | G6: 83.695652 | H6: 86.576483 | I6: 70.817562 | J6: 78.391753 | K6: 84.646739 | L6: 87.096774
D7: NN | E7: 73.42922 | F7: 72 | G7: 80.887681 | H7: 85.119667 | I7: 32.323997 | J7: 32.453608 | K7: 32.201087 | L7: 79.448491
D8: Supplementary Table S25: Accuracy using a three-class output model for participant S13
E10: Model 2
E11: 9 Characteristics | I11: 5 Characteristics
E12: XGB | F12: RF | G12: DT | H12: NN | I12: XGB | J12: RF | K12: DT | L12: NN
B13: Model 1 | C13: 50 | D13: XGB | E13: 67.830778 | F13: 67.859171 | G13: 67.092561 | H13: 61.584327 | I13: 80.098747 | J13: 80.212685 | K13: 79.605013 | L13: 47.246487
D14: RF | E14: 80.636002 | F14: 80.721181 | G14: 80.011357 | H14: 77.370812 | I14: 93.543487 | J14: 93.657425 | K14: 93.049753 | L14: 62.248386
D15: DT | E15: 71.465077 | F15: 71.578648 | G15: 70.954003 | H15: 68.001136 | I15: 90.429168 | J15: 90.543107 | K15: 89.973414 | L15: 59.969616
D16: NN | E16: 33 | F16: 33 | G16: 33 | H16: 33 | I16: 33 | J16: 33 | K16: 33 | L16: 33
C17: 100 | D17: XGB | E17: 74.079802 | F17: 74.141664 | G17: 73.70863 | H17: 49.706155 | I17: 85.507246 | J17: 85.507246 | K17: 85.05176 | L17: 53.00207
D18: RF | E18: 86.575936 | F18: 86.637798 | G18: 86.235694 | H18: 65.511908 | I18: 95.486542 | J18: 95.486542 | K18: 95.031056 | L18: 64.637681
D19: DT | E19: 79.338076 | F19: 79.399938 | G19: 79.15249 | H19: 59.016393 | I19: 93.126294 | J19: 93.126294 | K19: 92.712215 | L19: 62.691511
D20: NN | E20: 33 | F20: 33 | G20: 33 | H20: 33 | I20: 33 | J20: 33 | K20: 33 | L20: 33
C21: 150 | D21: XGB | E21: 81.120543 | F21: 81.154499 | G21: 80.645161 | H21: 56.63837 | I21: 89.21747 | J21: 89.21747 | K21: 88.853503 | L21: 54.959054
D22: RF | E22: 92.325976 | F22: 92.359932 | G22: 91.918506 | H22: 68.692699 | I22: 97.361237 | J22: 97.361237 | K22: 97.042766 | L22: 63.466788
D23: DT | E23: 86.078098 | F23: 86.112054 | G23: 85.806452 | H23: 64.210526 | I23: 95.22293 | J23: 95.22293 | K23: 94.949955 | L23: 62.738854
D24: NN | E24: 33 | F24: 33 | G24: 33 | H24: 33 | I24: 33 | J24: 33 | K24: 33 | L24: 33
C25: 200 | D25: XGB | E25: 86.104606 | F25: 86.143638 | G25: 85.870414 | H25: 62.138954 | I25: 92.681652 | J25: 92.838474 | K25: 92.420282 | L25: 90.642969
D26: RF | E26: 92.310695 | F26: 92.349727 | G26: 92.115535 | H26: 69.125683 | I26: 98.327235 | J26: 98.484056 | K26: 98.065865 | L26: 96.3931
D27: DT | E27: 86.18267 | F27: 86.221702 | G27: 85.98751 | H27: 65.37861 | I27: 96.915839 | J27: 97.020387 | K27: 96.602196 | L27: 95.033978
D28: NN | E28: 33 | F28: 33 | G28: 33 | H28: 33 | I28: 66.126503 | J28: 66.283325 | K28: 65.865133 | L28: 63.983272
D29: Supplementary Table S26: Accuracy using a Stack Model for participant S13

Sheet S14
E2: 9 Characteristics | I2: 5 Characteristics
E3: 50 | F3: 100 | G3: 150 | H3: 200 | I3: 50 | J3: 100 | K3: 150 | L3: 200
D4: XGB | E4: 74.638783 | F4: 80.729383 | G4: 86.47541 | H4: 88.848168 | I4: 74.448669 | J4: 79.320348 | K4: 86.111111 | L4: 89.267016
D5: RF | E5: 75.81749 | F5: 83.257356 | G5: 89.480874 | H5: 92.146597 | I5: 75.209125 | J5: 82.677165 | K5: 90.118397 | L5: 92.356021
D6: DT | E6: 69.923954 | F6: 76.004973 | G6: 83.060109 | H6: 86.858639 | I6: 69.619772 | J6: 75.466225 | K6: 83.743169 | L6: 85.13089
D7: NN | E7: 61.825095 | F7: 65.602984 | G7: 70.173042 | H7: 75.811518 | I7: 33.422053 | J7: 33.651057 | K7: 32.422587 | L7: 33.507853
D8: Supplementary Table S27: Accuracy using a three-class output model for participant S14
E10: Model 2
E11: 9 Characteristics | I11: 5 Characteristics
E12: XGB | F12: RF | G12: DT | H12: NN | I12: XGB | J12: RF | K12: DT | L12: NN
B13: Model 1 | C13: 50 | D13: XGB | E13: 60.125499 | F13: 60.211067 | G13: 59.754706 | H13: 36.537365 | I13: 75.428571 | J13: 75.657143 | K13: 75.2 | L13: 67.695238
D14: RF | E14: 77.153451 | F14: 77.239019 | G14: 76.782658 | H14: 58.841985 | I14: 92.571429 | J14: 92.8 | K14: 92.380952 | L14: 85.104762
D15: DT | E15: 69.338277 | F15: 69.452367 | G15: 68.996007 | H15: 51.91101 | I15: 90.209524 | J15: 90.438095 | K15: 89.980952 | L15: 83.047619
D16: NN | E16: 33 | F16: 33 | G16: 33 | H16: 33 | I16: 33 | J16: 33 | K16: 33 | L16: 33
C17: 100 | D17: XGB | E17: 68.489745 | F17: 68.551896 | G17: 68.241144 | H17: 44.282163 | I17: 82.30897 | J17: 82.30897 | K17: 82.059801 | L17: 49.792359
D18: RF | E18: 83.561218 | F18: 83.623369 | G18: 83.312617 | H18: 62.740833 | I18: 94.601329 | J18: 94.601329 | K18: 94.352159 | L18: 63.496678
D19: DT | E19: 76.600373 | F19: 76.662523 | G19: 76.382846 | H19: 56.587943 | I19: 93.106312 | J19: 93.106312 | K19: 92.857143 | L19: 62.333887
D20: NN | E20: 33 | F20: 33 | G20: 33 | H20: 33 | I20: 33 | J20: 33 | K20: 33 | L20: 33
C21: 150 | D21: XGB | E21: 77.629781 | F21: 77.73224 | G21: 77.663934 | H21: 53.415301 | I21: 87.448654 | J21: 87.448654 | K21: 87.31173 | L21: 52.943861
D22: RF | E22: 90.607923 | F22: 90.710383 | G22: 90.642077 | H22: 68.818306 | I22: 96.987677 | J22: 96.987677 | K22: 96.850753 | L22: 63.532634
D23: DT | E23: 85.006831 | F23: 85.10929 | G23: 85.040984 | H23: 63.592896 | I23: 95.162026 | J23: 95.162026 | K23: 95.025103 | L23: 62.072113
D24: NN | E24: 33 | F24: 33 | G24: 33 | H24: 33 | I24: 67.275217 | J24: 67.275217 | K24: 67.138293 | L24: 32.496577
C25: 200 | D25: XGB | E25: 82.12883 | F25: 82.207384 | G25: 82.168107 | H25: 78.515318 | I25: 90.708661 | J25: 90.708661 | K25: 90.656168 | L25: 57.375328
D26: RF | E26: 90.769835 | F26: 90.84839 | G26: 90.809112 | H26: 87.549097 | I26: 97.375328 | J26: 97.375328 | K26: 97.322835 | L26: 64.671916
D27: DT | E27: 85.545954 | F27: 85.624509 | G27: 85.585232 | H27: 82.285939 | I27: 95.380577 | J27: 95.380577 | K27: 95.328084 | L27: 63.254593
D28: NN | E28: 33 | F28: 33 | G28: 33 | H28: 33 | I28: 66.71916 | J28: 66.71916 | K28: 66.666667 | L28: 32.860892
D29: Supplementary Table S28: Accuracy using a Stack Model for participant S14

Sheet S15
E2: 9 Characteristics | I2: 5 Characteristics
E3: 50 | F3: 100 | G3: 150 | H3: 200 | I3: 50 | J3: 100 | K3: 150 | L3: 200
D4: XGB | E4: 67.79083 | F4: 73.812474 | G4: 80.362812 | H4: 83.48098 | I4: 68.093975 | J4: 74.142916 | K4: 79.818594 | L4: 84.731631
D5: RF | E5: 68.39712 | F5: 76.042957 | G5: 83.537415 | H5: 87.701928 | I5: 68.927624 | J5: 76.084263 | K5: 84.671202 | L5: 86.972381
D6: DT | E6: 64.645699 | F6: 70.260223 | G6: 77.23356 | H6: 78.738927 | I6: 64.607806 | J6: 68.649318 | K6: 75.646259 | L6: 77.957269
D7: NN | E7: 66.388784 | F7: 67.492772 | G7: 69.52381 | H7: 74.77853 | I7: 32.663888 | J7: 32.589839 | K7: 59.183673 | L7: 67.118291
D8: Supplementary Table S29: Accuracy using a three-class output model for participant S15
E10: Model 2
E11: 9 Characteristics | I11: 5 Characteristics
E12: XGB | F12: RF | G12: DT | H12: NN | I12: XGB | J12: RF | K12: DT | L12: NN
B13: Model 1 | C13: 50 | D13: XGB | E13: 53.183627 | F13: 53.439454 | G13: 53.041501 | H13: 28.681069 | I13: 71.645186 | J13: 71.796816 | K13: 71.455648 | L13: 38.627748
D14: RF | E14: 70.920978 | F14: 71.034679 | G14: 70.807277 | H14: 56.281978 | I14: 90.295679 | J14: 90.485216 | K14: 90.106141 | L14: 60.993177
D15: DT | E15: 64.809551 | F15: 64.951677 | G15: 64.7527 | H15: 47.100625 | I15: 89.120546 | J15: 89.310083 | K15: 88.931008 | L15: 58.946171
D16: NN | E16: 33 | F16: 33 | G16: 33 | H16: 33 | I16: 33 | J16: 33 | K16: 33 | L16: 33
C17: 100 | D17: XGB | E17: 58.470115 | F17: 58.655931 | G17: 58.284299 | H17: 34.406937 | I17: 76.249484 | J17: 76.208178 | K17: 75.5886 | L17: 63.816605
D18: RF | E18: 78.073707 | F18: 78.197584 | G18: 77.980799 | H18: 61.907711 | I18: 92.482445 | J18: 92.44114 | K18: 91.945477 | L18: 82.527881
D19: DT | E19: 71.043667 | F19: 71.167544 | G19: 70.826881 | H19: 53.793744 | I19: 91.821561 | J19: 91.780256 | K19: 91.284593 | L19: 81.371334
D20: NN | E20: 33 | F20: 33 | G20: 33 | H20: 33 | I20: 33 | J20: 33 | K20: 33 | L20: 33
C21: 150 | D21: XGB | E21: 67.67608 | F21: 67.710105 | G21: 67.403879 | H21: 43.688329 | I21: 81.125227 | J21: 81.215971 | K21: 80.852995 | L21: 75.635209
D22: RF | E22: 86.526029 | F22: 86.560054 | G22: 86.355903 | H22: 66.315073 | I22: 94.46461 | J22: 94.555354 | K22: 94.192377 | L22: 89.882033
D23: DT | E23: 78.836339 | F23: 78.870364 | G23: 78.700238 | H23: 58.455257 | I23: 93.557169 | J23: 93.647913 | K23: 93.284936 | L23: 88.92922
D24: NN | E24: 33 | F24: 33 | G24: 33 | H24: 33 | I24: 66.651543 | J24: 66.742287 | K24: 66.333938 | L24: 61.025408
C25: 200 | D25: XGB | E25: 74.433151 | F25: 74.433151 | G25: 74.081314 | H25: 50.156372 | I25: 86.652763 | J25: 86.652763 | K25: 86.444213 | L25: 79.249218
D26: RF | E26: 87.294762 | F26: 87.294762 | G26: 87.02111 | H26: 66.888194 | I26: 95.933264 | J26: 95.933264 | K26: 95.724713 | L26: 89.83316
D27: DT | E27: 80.883503 | F27: 80.883503 | G27: 80.648944 | H27: 60.203284 | I27: 94.264859 | J27: 94.264859 | K27: 94.056309 | L27: 87.799791
D28: NN | E28: 33 | F28: 33 | G28: 33 | H28: 33 | I28: 33 | J28: 33 | K28: 33 | L28: 33
D29: Supplementary Table S30: Accuracy using a Stack Model for participant S15

Sheet S16
E2: 9 Characteristics | I2: 5 Characteristics
E3: 50 | F3: 100 | G3: 150 | H3: 200 | I3: 50 | J3: 100 | K3: 150 | L3: 200
D4: XGB | E4: 76.800607 | F4: 81.998348 | G4: 87.341198 | H4: 91.449426 | I4: 76.724792 | J4: 82.824112 | K4: 88.021779 | L4: 90.719499
D5: RF | E5: 78.051554 | F5: 83.030553 | G5: 90.335753 | H5: 91.710115 | I5: 78.506444 | J5: 84.47564 | K5: 91.833031 | L5: 92.70073
D6: DT | E6: 71.645186 | F6: 78.07597 | G6: 82.395644 | H6: 86.913452 | I6: 71.114481 | J6: 78.282411 | K6: 84.165154 | L6: 86.600626
D7: NN | E7: 70.015163 | F7: 76.300578 | G7: 82.53176 | H7: 86.339937 | I7: 32.562547 | J7: 73.28654 | K7: 32.3049 | L7: 33.472367
D8: Supplementary Table S31: Accuracy using a three-class output model for participant S16
E10: Model 2
E11: 9 Characteristics | I11: 5 Characteristics
E12: XGB | F12: RF | G12: DT | H12: NN | I12: XGB | J12: RF | K12: DT | L12: NN
B13: Model 1 | C13: 50 | D13: XGB | E13: 65.510378 | F13: 65.680978 | G13: 65.083878 | H13: 56.297981 | I13: 79.603507 | J13: 79.794129 | K13: 79.18414 | L13: 67.17499
D14: RF | E14: 80.892806 | F14: 80.949673 | G14: 80.466307 | H14: 77.196474 | I14: 92.222646 | J14: 92.413267 | K14: 91.841403 | L14: 81.776592
D15: DT | E15: 74.239409 | F15: 74.296275 | G15: 73.699175 | H15: 68.78021 | I15: 91.231414 | J15: 91.383912 | K15: 90.850172 | L15: 79.870377
D16: NN | E16: 33 | F16: 33 | G16: 33 | H16: 33 | I16: 33 | J16: 33 | K16: 33 | L16: 33
C17: 100 | D17: XGB | E17: 73.892846 | F17: 73.985754 | G17: 73.490245 | H17: 50.387117 | I17: 86.08226 | J17: 86.08226 | K17: 85.874533 | L17: 53.759867
D18: RF | E18: 86.590276 | F18: 86.683184 | G18: 86.311552 | H18: 65.964695 | I18: 96.011633 | J18: 96.011633 | K18: 95.886996 | L18: 64.52015
D19: DT | E19: 79.869929 | F19: 79.931867 | G19: 79.591205 | H19: 59.244348 | I19: 94.349813 | J19: 94.391359 | K19: 94.225177 | L19: 63.273785
D20: NN | E20: 33 | F20: 33 | G20: 33 | H20: 33 | I20: 77.60698 | J20: 77.565434 | K20: 77.482343 | L20: 52.845866
C21: 150 | D21: XGB | E21: 82.477033 | F21: 82.613134 | G21: 82.443008 | H21: 58.387207 | I21: 91.137506 | J21: 91.365921 | K21: 91.000457 | L21: 82.549109
D22: RF | E22: 90.847227 | F22: 90.983328 | G22: 90.847227 | H22: 69.139163 | I22: 96.162631 | J22: 96.345363 | K22: 95.979899 | L22: 88.305162
D23: DT | E23: 85.403198 | F23: 85.573324 | G23: 85.437224 | H23: 64.069411 | I23: 94.472362 | J23: 94.655094 | K23: 94.28963 | L23: 86.706259
D24: NN | E24: 33 | F24: 33 | G24: 33 | H24: 33 | I24: 78.848789 | J24: 78.985838 | K24: 78.711741 | L24: 77.295569
C25: 200 | D25: XGB | E25: 88.541259 | F25: 88.580368 | G25: 88.463043 | H25: 84.708643 | I25: 93.58907 | J25: 93.851813 | K25: 93.694167 | L25: 60.483447
D26: RF | E26: 92.217442 | F26: 92.256551 | G26: 92.178334 | H26: 89.206101 | I26: 97.214924 | J26: 97.477667 | K26: 97.320021 | L26: 64.687336
D27: DT | E27: 87.524443 | F27: 87.563551 | G27: 87.524443 | H27: 84.708643 | I27: 96.426695 | J27: 96.689438 | K27: 96.531792 | L27: 64.004204
D28: NN | E28: 33 | F28: 33 | G28: 33 | H28: 33 | I28: 82.711508 | J28: 82.869154 | K28: 82.816605 | L28: 57.856017
D29: Supplementary Table S32: Accuracy using a Stack Model for participant S16

Sheet S17
E2: 9 Characteristics | I2: 5 Characteristics
E3: 50 | F3: 100 | G3: 150 | H3: 200 | I3: 50 | J3: 100 | K3: 150 | L3: 200
D4: XGB | E4: 69.726859 | F4: 78.22314 | G4: 83.605813 | H4: 86.377871 | I4: 70.864947 | J4: 77.520661 | K4: 82.742961 | L4: 85.803758
D5: RF | E5: 70.409712 | F5: 80.909091 | G5: 87.011807 | H5: 88.830898 | I5: 71.965099 | J5: 79.752066 | K5: 87.556767 | L5: 90.031315
D6: DT | E6: 62.367223 | F6: 72.85124 | G6: 78.564941 | H6: 79.123173 | I6: 64.112291 | J6: 72.190083 | K6: 77.565849 | L6: 82.306889
D7: NN | E7: 66.881639 | F7: 71.115702 | G7: 74.069028 | H7: 76.409186 | I7: 32.776935 | J7: 31.942149 | K7: 66.530427 | L7: 72.546973
D8: Supplementary Table S33: Accuracy using a three-class output model for participant S17
E10: Model 2
E11: 9 Characteristics | I11: 5 Characteristics
E12: XGB | F12: RF | G12: DT | H12: NN | I12: XGB | J12: RF | K12: DT | L12: NN
B13: Model 1 | C13: 50 | D13: XGB | E13: 58.463727 | F13: 59.231863 | G13: 58.662873 | H13: 36.529161 | I13: 73.860182 | J13: 75.113982 | K13: 74.506079 | L13: 44.072948
D14: RF | E14: 72.375533 | F14: 72.745377 | G14: 72.603129 | H14: 57.041252 | I14: 89.589666 | J14: 90.577508 | K14: 89.969605 | L14: 62.158055
D15: DT | E15: 64.182077 | F15: 64.438122 | G15: 64.096728 | H15: 48.620199 | I15: 88.221884 | J15: 89.323708 | K15: 88.753799 | L15: 60.56231
D16: NN | E16: 33 | F16: 33 | G16: 33 | H16: 33 | I16: 33 | J16: 33 | K16: 33 | L16: 33
C17: 100 | D17: XGB | E17: 68.629882 | F17: 68.970862 | G17: 68.226906 | H17: 45.009299 | I17: 81.36646 | J17: 81.987578 | K17: 80.869565 | L17: 50.186335
D18: RF | E18: 81.773094 | F18: 81.959082 | G18: 81.401116 | H18: 62.213267 | I18: 92.380952 | J18: 92.919255 | K18: 91.925466 | L18: 63.271222
D19: DT | E19: 74.023559 | F19: 74.302542 | G19: 73.713577 | H19: 55.362678 | I19: 91.594203 | J19: 92.132505 | K19: 91.097308 | L19: 62.360248
D20: NN | E20: 33 | F20: 33 | G20: 33 | H20: 33 | I20: 33 | J20: 33 | K20: 33 | L20: 33
C21: 150 | D21: XGB | E21: 76.839237 | F21: 77.316076 | G21: 76.771117 | H21: 53.167575 | I21: 86.754665 | J21: 86.982249 | K21: 86.663632 | L21: 78.880291
D22: RF | E22: 87.53406 | F22: 87.908719 | G22: 87.56812 | H22: 67.132153 | I22: 95.721438 | J22: 95.903505 | K22: 95.539372 | L22: 88.71188
D23: DT | E23: 79.564033 | F23: 79.938692 | G23: 79.666213 | H23: 59.604905 | I23: 93.809741 | J23: 94.037324 | K23: 93.764224 | L23: 86.572599
D24: NN | E24: 73.978202 | F24: 74.182561 | G24: 73.773842 | H24: 58.106267 | I24: 33 | J24: 33 | K24: 33 | L24: 33
C25: 200 | D25: XGB | E25: 83.32681 | F25: 83.483366 | G25: 83.052838 | H25: 79.412916 | I25: 90.219665 | J25: 90.376569 | K25: 90.062762 | L25: 57.008368
D26: RF | E26: 91.8591 | F26: 91.937378 | G26: 91.506849 | H26: 88.845401 | I26: 96.338912 | J26: 96.495816 | K26: 96.23431 | L26: 64.016736
D27: DT | E27: 84.579256 | F27: 84.774951 | G27: 84.344423 | H27: 81.48728 | I27: 94.299163 | J27: 94.456067 | K27: 94.142259 | L27: 62.290795
D28: NN | E28: 33 | F28: 33 | G28: 33 | H28: 33 | I28: 66.736402 | J28: 66.945607 | K28: 66.527197 | L28: 33.002092
D29: Supplementary Table S34: Accuracy using a Stack Model for participant S17

Sheet S18
E2: 9 Characteristics | I2: 5 Characteristics
E3: 50 | F3: 100 | G3: 150 | H3: 200 | I3: 50 | J3: 100 | K3: 150 | L3: 200
D4: XGB | E4: 68.695652 | F4: 75.504323 | G4: 79.611212 | H4: 81.974026 | I4: 68.695652 | J4: 75.174969 | K4: 78.481013 | L4: 82.493506
D5: RF | E5: 69.905482 | F5: 79.415397 | G5: 84.719711 | H5: 86.857143 | I5: 71.266541 | J5: 79.950597 | K5: 84.403255 | L5: 88.675325
D6: DT | E6: 63.289225 | F6: 67.682174 | G6: 72.55877 | H6: 79.376623 | I6: 62.230624 | J6: 70.358172 | K6: 75.542495 | L6: 80.103896
D7: NN | E7: 63.100189 | F7: 67.188143 | G7: 67.902351 | H7: 70.12987 | I7: 32.89225 | J7: 33.552902 | K7: 63.065099 | L7: 63.792208
D8: Supplementary Table S35: Accuracy using a three-class output model for participant S18
E10: Model 2
E11: 9 Characteristics | I11: 5 Characteristics
E12: XGB | F12: RF | G12: DT | H12: NN | I12: XGB | J12: RF | K12: DT | L12: NN
B13: Model 1 | C13: 50 | D13: XGB | E13: 56.308477 | F13: 56.620357 | G13: 55.684718 | H13: 32.322087 | I13: 74.165402 | J13: 74.39302 | K13: 73.596358 | L13: 40.895296
D14: RF | E14: 69.237312 | F14: 69.407428 | G14: 69.095549 | H14: 56.393536 | I14: 88.01214 | J14: 88.277693 | K14: 87.784522 | L14: 59.711684
D15: DT | E15: 62.319251 | F15: 62.631131 | G15: 62.120783 | H15: 47.802665 | I15: 87.708649 | J15: 87.898331 | K15: 87.329287 | L15: 58.118361
D16: NN | E16: 33 | F16: 33 | G16: 33 | H16: 33 | I16: 33 | J16: 33 | K16: 33 | L16: 33
C17: 100 | D17: XGB | E17: 61.581223 | F17: 61.581223 | G17: 61.056208 | H17: 37.955528 | I17: 77.768595 | J17: 78.264463 | K17: 77.644628 | L17: 68.512397
D18: RF | E18: 79.431748 | F18: 79.462631 | G18: 79.061149 | H18: 62.600371 | I18: 92.727273 | J18: 93.22314 | K18: 92.68595 | L18: 85.165289
D19: DT | E19: 70.599135 | F19: 70.630019 | G19: 70.259419 | H19: 53.736875 | I19: 90.413223 | J19: 90.826446 | K19: 90.330579 | L19: 82.644628
D20: NN | E20: 33 | F20: 33 | G20: 33 | H20: 33 | I20: 33 | J20: 33 | K20: 33 | L20: 33
C21: 150 | D21: XGB | E21: 66.937945 | F21: 67.175314 | G21: 66.734486 | H21: 43.404544 | I21: 81.343622 | J21: 81.661371 | K21: 81.207444 | L21: 48.388561
D22: RF | E22: 85.147508 | F22: 85.283147 | G22: 84.977959 | H22: 66.225839 | I22: 94.870631 | J22: 95.142987 | K22: 94.734453 | L22: 63.822061
D23: DT | E23: 74.53374 | F23: 74.703289 | G23: 74.432011 | H23: 56.663276 | I23: 92.691784 | J23: 92.96414 | K23: 92.555606 | L23: 61.733999
D24: NN | E24: 33 | F24: 33 | G24: 33 | H24: 33 | I24: 65.637767 | J24: 65.955515 | K24: 65.501589 | L24: 32.455742
C25: 200 | D25: XGB | E25: 72.808726 | F25: 72.925594 | G25: 72.613946 | H25: 67.393845 | I25: 85.59499 | J25: 85.647182 | K25: 85.281837 | L25: 52.087683
D26: RF | E26: 89.05337 | F26: 89.209194 | G26: 88.897546 | H26: 84.768212 | I26: 96.033403 | J26: 96.137787 | K26: 95.720251 | L26: 64.039666
D27: DT | E27: 78.301519 | F27: 78.418387 | G27: 78.223607 | H27: 74.289053 | I27: 92.484342 | J27: 92.588727 | K27: 92.223382 | L27: 62.004175
D28: NN | E28: 33 | F28: 33 | G28: 33 | H28: 33 | I28: 66.962422 | J28: 67.014614 | K28: 66.649269 | L28: 32.985386
D29: Supplementary Table S36: Accuracy using a Stack Model for participant S18

Sheet S19
E2: 9 Characteristics | I2: 5 Characteristics
E3: 50 | F3: 100 | G3: 150 | H3: 200 | I3: 50 | J3: 100 | K3: 150 | L3: 200
D4: XGB | E4: 76.251897 | F4: 83.38843 | G4: 87.47163 | H4: 88.778706 | I4: 76.289833 | J4: 81.528926 | K4: 86.926918 | L4: 89.770355
D5: RF | E5: 77.389985 | F5: 85.165289 | G5: 91.42079 | H5: 92.536534 | I5: 78.186646 | J5: 85.661157 | K5: 91.556968 | L5: 92.014614
D6: DT | E6: 72.420334 | F6: 77.438017 | G6: 82.932365 | H6: 86.064718 | I6: 70.713202 | J6: 80.165289 | K6: 83.340899 | L6: 86.534447
D7: NN | E7: 70.030349 | F7: 74.958678 | G7: 75.079437 | H7: 81.05428 | I7: 32.587253 | J7: 32.520661 | K7: 32.546527 | L7: 72.442589
D8: Supplementary Table S37: Accuracy using a three-class output model for participant S19
E10: Model 2
E11: 9 Characteristics | I11: 5 Characteristics
E12: XGB | F12: RF | G12: DT | H12: NN | I12: XGB | J12: RF | K12: DT | L12: NN
B13: Model 1 | C13: 50 | D13: XGB | E13: 62.8734 | F13: 62.901849 | G13: 62.788051 | H13: 39.345661 | I13: 77.600607 | J13: 77.638573 | K13: 77.448747 | L13: 45.330296
D14: RF | E14: 78.577525 | F14: 78.577525 | G14: 78.463727 | H14: 60.711238 | I14: 92.976462 | J14: 93.014427 | K14: 92.862566 | L14: 62.680334
D15: DT | E15: 71.920341 | F15: 71.920341 | G15: 71.778094 | H15: 53.172119 | I15: 91.268033 | J15: 91.305998 | K15: 91.154138 | L15: 60.933941
D16: NN | E16: 33 | F16: 33 | G16: 33 | H16: 33 | I16: 33 | J16: 33 | K16: 33 | L16: 33
C17: 100 | D17: XGB | E17: 71.397583 | F17: 71.397583 | G17: 71.304617 | H17: 47.133561 | I17: 82.754342 | J17: 82.795699 | K17: 82.671629 | L17: 50.330852
D18: RF | E18: 86.024171 | F18: 86.024171 | G18: 85.962194 | H18: 64.920979 | I18: 94.995864 | J18: 95.037221 | K18: 94.913151 | L18: 63.895782
D19: DT | E19: 77.905175 | F19: 77.905175 | G19: 77.905175 | H19: 57.173846 | I19: 93.879239 | J19: 93.920596 | K19: 93.796526 | L19: 62.696443
D20: NN | E20: 33 | F20: 33 | G20: 33 | H20: 33 | I20: 64.019851 | J20: 64.019851 | K20: 64.019851 | L20: 45.905707
C21: 150 | D21: XGB | E21: 76.744978 | F21: 76.779026 | G21: 76.608784 | H21: 76.336398 | I21: 87.05134 | J21: 87.096774 | K21: 86.960473 | L21: 85.324852
D22: RF | E22: 91.487913 | F22: 91.521961 | G22: 91.385768 | H22: 91.147429 | I22: 97.183099 | J22: 97.228532 | K22: 97.092231 | L22: 95.68378
D23: DT | E23: 83.282261 | F23: 83.316309 | G23: 83.180116 | H23: 82.907729 | I23: 95.68378 | J23: 95.729214 | K23: 95.592912 | L23: 94.04816
D24: NN | E24: 49.812734 | F24: 49.846782 | G24: 49.642492 | H24: 49.267961 | I24: 66.833258 | J24: 66.878692 | K24: 66.74239 | L24: 65.10677
C25: 200 | D25: XGB | E25: 84.81409 | F25: 84.81409 | G25: 84.81409 | H25: 61.056751 | I25: 91.745037 | J25: 91.745037 | K25: 91.69279 | L25: 58.934169
D26: RF | E26: 93.150685 | F26: 93.150685 | G26: 93.150685 | H26: 70.958904 | I26: 96.969697 | J26: 96.969697 | K26: 96.91745 | L26: 65.099269
D27: DT | E27: 86.888454 | F27: 86.888454 | G27: 86.888454 | H27: 66.340509 | I27: 95.663532 | J27: 95.663532 | K27: 95.611285 | L27: 63.740857
D28: NN | E28: 75.068493 | F28: 75.068493 | G28: 75.068493 | H28: 63.170254 | I28: 66.091954 | J28: 66.091954 | K28: 66.039707 | L28: 32.863114
D29: Supplementary Table S38: Accuracy using a Stack Model for participant S19

Sheet S20
E2: 9 Characteristics | I2: 5 Characteristics
E3: 50 | F3: 100 | G3: 150 | H3: 200 | I3: 50 | J3: 100 | K3: 150 | L3: 200
D4: XGB | E4: 65.454545 | F4: 73.875361 | G4: 80.68903 | H4: 86.927083 | I4: 64.962121 | J4: 73.421378 | K4: 80.643699 | L4: 85.364583
D5: RF | E5: 67.916667 | F5: 78.49773 | G5: 84.723481 | H5: 90.052083 | I5: 68.371212 | J5: 77.919934 | K5: 86.12874 | L5: 89.21875
D6: DT | E6: 58.901515 | F6: 67.973586 | G6: 75.883953 | H6: 80.989583 | I6: 58.901515 | J6: 70.119686 | K6: 75.657298 | L6: 82.03125
D7: NN | E7: 62.234848 | F7: 63.516302 | G7: 69.900272 | H7: 78.697917 | I7: 32.19697 | J7: 49.773009 | K7: 55.43971 | L7: 32.1875
D8: Supplementary Table S39: Accuracy using a three-class output model for participant S20
E10: Model 2
E11: 9 Characteristics | I11: 5 Characteristics
E12: XGB | F12: RF | G12: DT | H12: NN | I12: XGB | J12: RF | K12: DT | L12: NN
B13: Model 1 | C13: 50 | D13: XGB | E13: 69.738339 | F13: 74.478574 | G13: 73.075465 | H13: 43.117179 | I13: 68.562761 | J13: 72.961699 | K13: 71.97573 | L13: 41.714069
D14: RF | E14: 84.717482 | F14: 89.040576 | G14: 87.789154 | H14: 61.205916 | I14: 85.47592 | J14: 89.571483 | K14: 88.737201 | L14: 61.471369
D15: DT | E15: 84.489951 | F15: 88.775123 | G15: 87.637467 | H15: 60.295791 | I15: 83.883201 | J15: 88.016686 | K15: 87.258248 | L15: 60.182025
D16: NN | E16: 33 | F16: 33 | G16: 33 | H16: 33 | I16: 33 | J16: 33 | K16: 33 | L16: 33
C17: 100 | D17: XGB | E17: 77.860388 | F17: 80.999587 | G17: 79.76043 | H17: 49.52499 | I17: 77.406031 | J17: 80.380008 | K17: 79.306072 | L17: 49.194548
D18: RF | E18: 89.549773 | F18: 92.606361 | G18: 91.449814 | H18: 63.320942 | I18: 90.375878 | J18: 93.349855 | K18: 92.275919 | L18: 63.816605
D19: DT | E19: 87.980173 | F19: 90.995456 | G19: 89.83891 | H19: 61.586121 | I19: 88.558447 | J19: 91.491119 | K19: 90.458488 | L19: 61.916563
D20: NN | E20: 33 | F20: 33 | G20: 33 | H20: 33 | I20: 33 | J20: 33 | K20: 33 | L20: 33
C21: 150 | D21: XGB | E21: 85.53288 | F21: 86.666667 | G21: 85.986395 | H21: 54.331066 | I21: 85.759637 | J21: 87.029478 | K21: 86.122449 | L21: 54.648526
D22: RF | E22: 94.240363 | F22: 95.37415 | G22: 94.693878 | H22: 64.081633 | I22: 93.650794 | J22: 94.920635 | K22: 94.013605 | L22: 63.945578
D23: DT | E23: 92.335601 | F23: 93.469388 | G23: 92.834467 | H23: 62.721088 | I23: 92.653061 | J23: 93.877551 | K23: 92.970522 | L23: 62.811791
D24: NN | E24: 74.693878 | F24: 75.600907 | G24: 75.192744 | H24: 54.058957 | I24: 64.081633 | J24: 65.351474 | K24: 64.444444 | L24: 32.426304
C25: 200 | D25: XGB | E25: 92.227439 | F25: 92.853417 | G25: 91.601461 | H25: 60.77204 | I25: 92.175274 | J25: 93.114241 | K25: 91.81012 | L25: 76.838811
D26: RF | E26: 96.504956 | F26: 97.130934 | G26: 95.826813 | H26: 65.571205 | I26: 96.035472 | J26: 96.922274 | K26: 95.722483 | L26: 81.220657
D27: DT | E27: 95.618153 | F27: 96.191967 | G27: 94.94001 | H27: 64.840897 | I27: 94.783516 | J27: 95.826813 | K27: 94.574857 | L27: 79.968701
D28: NN | E28: 65.049557 | F28: 65.675535 | G28: 64.371414 | H28: 33.437663 | I28: 64.788732 | J28: 65.884194 | K28: 64.527908 | L28: 49.13928
D29: Supplementary Table S40: Accuracy using a Stack Model for participant S20

Sheet Mean (SD)
E2: 9 Characteristics | I2: 5 Characteristics | Q2: 9 Characteristics | U2: 5 Characteristics
E3: 50 | F3: 100 | G3: 150 | H3: 200 | I3: 50 | J3: 100 | K3: 150 | L3: 200 | Q3: 50 | R3: 100 | S3: 150 | T3: 200 | U3: 50 | V3: 100 | W3: 150 | X3: 200
D4: XGB | E4: =AVERAGE('S1'!E4,'S2'!E4,'S3'!E4,'S4'!E4,'S5'!E4,'S6'!E4,'S7'!E4,'S8'!E4,'S9'!E4,'S10'!E4,'S11'!E4,'S12'!E4,'S13'!E4,'S14'!E4,'S15'!E4,'S16'!E4,'S17'!E4,'S18'!E4,'S19'!E4,'S20'!E4) -> 75.384892 | F4: =AVERAGE('S1'!F4,'S2'!F4,'S3'!F4,'S4'!F4,'S5'!F4,'S6'!F4,'S7'!F4,'S8'!F4,'S9'!F4,'S10'!F4,'S11'!F4,'S12'!F4,'S13'!F4,'S14'!F4,'S15'!F4,'S16'!F4,'S17'!F4,'S18'!F4,'S19'!F4,'S20'!F4) -> 81.922256 | G4: =AVERAGE('S1'!G4,'S2'!G4,'S3'!G4,'S4'!G4,'S5'!G4,'S6'!G4,'S7'!G4,'S8'!G4,'S9'!G4,'S10'!G4,'S11'!G4,'S12'!G4,'S13'!G4,'S14'!G4,'S15'!G4,'S16'!G4,'S17'!G4,'S18'!G4,'S19'!G4,'S20'!G4) -> 87.117794 | H4: =AVERAGE('S1'!H4,'S2'!H4,'S3'!H4,'S4'!H4,'S5'!H4,'S6'!H4,'S7'!H4,'S8'!H4,'S9'!H4,'S10'!H4,'S11'!H4,'S12'!H4,'S13'!H4,'S14'!H4,'S15'!H4,'S16'!H4,'S17'!H4,'S18'!H4,'S19'!H4,'S20'!H4) -> 90.315554 | I4: =AVERAGE('S1'!I4,'S2'!I4,'S3'!I4,'S4'!I4,'S5'!I4,'S6'!I4,'S7'!I4,'S8'!I4,'S9'!I4,'S10'!I4,'S11'!I4,'S12'!I4,'S13'!I4,'S14'!I4,'S15'!I4,'S16'!I4,'S17'!I4,'S18'!I4,'S19'!I4,'S20'!I4) -> 75.285906 | J4: =AVERAGE('S1'!J4,'S2'!J4,'S3'!J4,'S4'!J4,'S5'!J4,'S6'!J4,'S7'!J4,'S8'!J4,'S9'!J4,'S10'!J4,'S11'!J4,'S12'!J4,'S13'!J4,'S14'!J4,'S15'!J4,'S16'!J4,'S17'!J4,'S18'!J4,'S19'!J4,'S20'!J4) -> 81.563482 | K4: =AVERAGE('S1'!K4,'S2'!K4,'S3'!K4,'S4'!K4,'S5'!K4,'S6'!K4,'S7'!K4,'S8'!K4,'S9'!K4,'S10'!K4,'S11'!K4,'S12'!K4,'S13'!K4,'S14'!K4,'S15'!K4,'S16'!K4,'S17'!K4,'S18'!K4,'S19'!K4,'S20'!K4) -> 87.062577 | L4: =AVERAGE('S1'!L4,'S2'!L4,'S3'!L4,'S4'!L4,'S5'!L4,'S6'!L4,'S7'!L4,'S8'!L4,'S9'!L4,'S10'!L4,'S11'!L4,'S12'!L4,'S13'!L4,'S14'!L4,'S15'!L4,'S16'!L4,'S17'!L4,'S18'!L4,'S19'!L4,'S20'!L4) -> 90.360787 | P4: XGB | Q4: =_xlfn.STDEV.S('S1'!E4,'S2'!E4,'S3'!E4,'S4'!E4,'S5'!E4,'S6'!E4,'S7'!E4,'S8'!E4,'S9'!E4,'S10'!E4,'S11'!E4,'S12'!E4,'S13'!E4,'S14'!E4,'S15'!E4,'S16'!E4,'S17'!E4,'S18'!E4,'S19'!E4,'S20'!E4) -> 5.9488877 | R4: =_xlfn.STDEV.S('S1'!F4,'S2'!F4,'S3'!F4,'S4'!F4,'S5'!F4,'S6'!F4,'S7'!F4,'S8'!F4,'S9'!F4,'S10'!F4,'S11'!F4,'S12'!F4,'S13'!F4,'S14'!F4,'S15'!F4,'S16'!F4,'S17'!F4,'S18'!F4,'S19'!F4,'S20'!F4) -> 4.9745179 | S4: =_xlfn.STDEV.S('S1'!G4,'S2'!G4,'S3'!G4,'S4'!G4,'S5'!G4,'S6'!G4,'S7'!G4,'S8'!G4,'S9'!G4,'S10'!G4,'S11'!G4,'S12'!G4,'S13'!G4,'S14'!G4,'S15'!G4,'S16'!G4,'S17'!G4,'S18'!G4,'S19'!G4,'S20'!G4) -> 4.2758692 | T4: =_xlfn.STDEV.S('S1'!H4,'S2'!H4,'S3'!H4,'S4'!H4,'S5'!H4,'S6'!H4,'S7'!H4,'S8'!H4,'S9'!H4,'S10'!H4,'S11'!H4,'S12'!H4,'S13'!H4,'S14'!H4,'S15'!H4,'S16'!H4,'S17'!H4,'S18'!H4,'S19'!H4,'S20'!H4) -> 3.8289738 | U4: =_xlfn.STDEV.S('S1'!I4,'S2'!I4,'S3'!I4,'S4'!I4,'S5'!I4,'S6'!I4,'S7'!I4,'S8'!I4,'S9'!I4,'S10'!I4,'S11'!I4,'S12'!I4,'S13'!I4,'S14'!I4,'S15'!I4,'S16'!I4,'S17'!I4,'S18'!I4,'S19'!I4,'S20'!I4) -> 5.9593227 | V4: =_xlfn.STDEV.S('S1'!J4,'S2'!J4,'S3'!J4,'S4'!J4,'S5'!J4,'S6'!J4,'S7'!J4,'S8'!J4,'S9'!J4,'S10'!J4,'S11'!J4,'S12'!J4,'S13'!J4,'S14'!J4,'S15'!J4,'S16'!J4,'S17'!J4,'S18'!J4,'S19'!J4,'S20'!J4) -> 5.0638509 | W4: =_xlfn.STDEV.S('S1'!K4,'S2'!K4,'S3'!K4,'S4'!K4,'S5'!K4,'S6'!K4,'S7'!K4,'S8'!K4,'S9'!K4,'S10'!K4,'S11'!K4,'S12'!K4,'S13'!K4,'S14'!K4,'S15'!K4,'S16'!K4,'S17'!K4,'S18'!K4,'S19'!K4,'S20'!K4) -> 4.4620109 | X4: =_xlfn.STDEV.S('S1'!L4,'S2'!L4,'S3'!L4,'S4'!L4,'S5'!L4,'S6'!L4,'S7'!L4,'S8'!L4,'S9'!L4,'S10'!L4,'S11'!L4,'S12'!L4,'S13'!L4,'S14'!L4,'S15'!L4,'S16'!L4,'S17'!L4,'S18'!L4,'S19'!L4,'S20'!L4) -> 3.791376
D5: RF | E5: =AVERAGE('S1'!E5,'S2'!E5,'S3'!E5,'S4'!E5,'S5'!E5,'S6'!E5,'S7'!E5,'S8'!E5,'S9'!E5,'S10'!E5,'S11'!E5,'S12'!E5,'S13'!E5,'S14'!E5,'S15'!E5,'S16'!E5,'S17'!E5,'S18'!E5,'S19'!E5,'S20'!E5) -> 76.450123 | F5: =AVERAGE('S1'!F5,'S2'!F5,'S3'!F5,'S4'!F5,'S5'!F5,'S6'!F5,'S7'!F5,'S8'!F5,'S9'!F5,'S10'!F5,'S11'!F5,'S12'!F5,'S13'!F5,'S14'!F5,'S15'!F5,'S16'!F5,'S17'!F5,'S18'!F5,'S19'!F5,'S20'!F5) -> 83.860131 | G5: =AVERAGE('S1'!G5,'S2'!G5,'S3'!G5,'S4'!G5,'S5'!G5,'S6'!G5,'S7'!G5,'S8'!G5,'S9'!G5,'S10'!G5,'S11'!G5,'S12'!G5,'S13'!G5,'S14'!G5,'S15'!G5,'S16'!G5,'S17'!G5,'S18'!G5,'S19'!G5,'S20'!G5) -> 89.491986 | H5: =AVERAGE('S1'!H5,'S2'!H5,'S3'!H5,'S4'!H5,'S5'!H5,'S6'!H5,'S7'!H5,'S8'!H5,'S9'!H5,'S10'!H5,'S11'!H5,'S12'!H5,'S13'!H5,'S14'!H5,'S15'!H5,'S16'!H5,'S17'!H5,'S18'!H5,'S19'!H5,'S20'!H5) -> 92.157543 | I5: =AVERAGE('S1'!I5,'S2'!I5,'S3'!I5,'S4'!I5,'S5'!I5,'S6'!I5,'S7'!I5,'S8'!I5,'S9'!I5,'S10'!I5,'S11'!I5,'S12'!I5,'S13'!I5,'S14'!I5,'S15'!I5,'S16'!I5,'S17'!I5,'S18'!I5,'S19'!I5,'S20'!I5) -> 76.596206 | J5: =AVERAGE('S1'!J5,'S2'!J5,'S3'!J5,'S4'!J5,'S5'!J5,'S6'!J5,'S7'!J5,'S8'!J5,'S9'!J5,'S10'!J5,'S11'!J5,'S12'!J5,'S13'!J5,'S14'!J5,'S15'!J5,'S16'!J5,'S17'!J5,'S18'!J5,'S19'!J5,'S20'!J5) -> 84.067157 | K5: =AVERAGE('S1'!K5,'S2'!K5,'S3'!K5,'S4'!K5,'S5'!K5,'S6'!K5,'S7'!K5,'S8'!K5,'S9'!K5,'S10'!K5,'S11'!K5,'S12'!K5,'S13'!K5,'S14'!K5,'S15'!K5,'S16'!K5,'S17'!K5,'S18'!K5,'S19'!K5,'S20'!K5) -> 90.07858 | L5: =AVERAGE('S1'!L5,'S2'!L5,'S3'!L5,'S4'!L5,'S5'!L5,'S6'!L5,'S7'!L5,'S8'!L5,'S9'!L5,'S10'!L5,'S11'!L5,'S12'!L5,'S13'!L5,'S14'!L5,'S15'!L5,'S16'!L5,'S17'!L5,'S18'!L5,'S19'!L5,'S20'!L5) -> 92.586866 | P5: RF | Q5: =_xlfn.STDEV.S('S1'!E5,'S2'!E5,'S3'!E5,'S4'!E5,'S5'!E5,'S6'!E5,'S7'!E5,'S8'!E5,'S9'!E5,'S10'!E5,'S11'!E5,'S12'!E5,'S13'!E5,'S14'!E5,'S15'!E5,'S16'!E5,'S17'!E5,'S18'!E5,'S19'!E5,'S20'!E5) -> 5.8328743 | R5: =_xlfn.STDEV.S('S1'!F5,'S2'!F5,'S3'!F5,'S4'!F5,'S5'!F5,'S6'!F5,'S7'!F5,'S8'!F5,'S9'!F5,'S10'!F5,'S11'!F5,'S12'!F5,'S13'!F5,'S14'!F5,'S15'!F5,'S16'!F5,'S17'!F5,'S18'!F5,'S19'!F5,'S20'!F5) -> 4.2472629 | S5: =_xlfn.STDEV.S('S1'!G5,'S2'!G5,'S3'!G5,'S4'!G5,'S5'!G5,'S6'!G5,'S7'!G5,'S8'!G5,'S9'!G5,'S10'!G5,'S11'!G5,'S12'!G5,'S13'!G5,'S14'!G5,'S15'!G5,'S16'!G5,'S17'!G5,'S18'!G5,'S19'!G5,'S20'!G5) -> 3.3242276 | T5: =_xlfn.STDEV.S('S1'!H5,'S2'!H5,'S3'!H5,'S4'!H5,'S5'!H5,'S6'!H5,'S7'!H5,'S8'!H5,'S9'!H5,'S10'!H5,'S11'!H5,'S12'!H5,'S13'!H5,'S14'!H5,'S15'!H5,'S16'!H5,'S17'!H5,'S18'!H5,'S19'!H5,'S20'!H5) -> 2.6197684 | U5: =_xlfn.STDEV.S('S1'!I5,'S2'!I5,'S3'!I5,'S4'!I5,'S5'!I5,'S6'!I5,'S7'!I5,'S8'!I5,'S9'!I5,'S10'!I5,'S11'!I5,'S12'!I5,'S13'!I5,'S14'!I5,'S15'!I5,'S16'!I5,'S17'!I5,'S18'!I5,'S19'!I5,'S20'!I5) -> 5.5103821 | V5: =_xlfn.STDEV.S('S1'!J5,'S2'!J5,'S3'!J5,'S4'!J5,'S5'!J5,'S6'!J5,'S7'!J5,'S8'!J5,'S9'!J5,'S10'!J5,'S11'!J5,'S12'!J5,'S13'!J5,'S14'!J5,'S15'!J5,'S16'!J5,'S17'!J5,'S18'!J5,'S19'!J5,'S20'!J5) -> 4.4867293 | W5: =_xlfn.STDEV.S('S1'!K5,'S2'!K5,'S3'!K5,'S4'!K5,'S5'!K5,'S6'!K5,'S7'!K5,'S8'!K5,'S9'!K5,'S10'!K5,'S11'!K5,'S12'!K5,'S13'!K5,'S14'!K5,'S15'!K5,'S16'!K5,'S17'!K5,'S18'!K5,'S19'!K5,'S20'!K5) -> 3.186102 | X5: =_xlfn.STDEV.S('S1'!L5,'S2'!L5,'S3'!L5,'S4'!L5,'S5'!L5,'S6'!L5,'S7'!L5,'S8'!L5,'S9'!L5,'S10'!L5,'S11'!L5,'S12'!L5,'S13'!L5,'S14'!L5,'S15'!L5,'S16'!L5,'S17'!L5,'S18'!L5,'S19'!L5,'S20'!L5) -> 2.6149676
D6: DT | E6: =AVERAGE('S1'!E6,'S2'!E6,'S3'!E6,'S4'!E6,'S5'!E6,'S6'!E6,'S7'!E6,'S8'!E6,'S9'!E6,'S10'!E6,'S11'!E6,'S12'!E6,'S13'!E6,'S14'!E6,'S15'!E6,'S16'!E6,'S17'!E6,'S18'!E6,'S19'!E6,'S20'!E6) -> 69.423268 | F6: =AVERAGE('S1'!F6,'S2'!F6,'S3'!F6,'S4'!F6,'S5'!F6,'S6'!F6,'S7'!F6,'S8'!F6,'S9'!F6,'S10'!F6,'S11'!F6,'S12'!F6,'S13'!F6,'S14'!F6,'S15'!F6,'S16'!F6,'S17'!F6,'S18'!F6,'S19'!F6,'S20'!F6) -> 76.805175 | G6: =AVERAGE('S1'!G6,'S2'!G6,'S3'!G6,'S4'!G6,'S5'!G6,'S6'!G6,'S7'!G6,'S8'!G6,'S9'!G6,'S10'!G6,'S11'!G6,'S12'!G6,'S13'!G6,'S14'!G6,'S15'!G6,'S16'!G6,'S17'!G6,'S18'!G6,'S19'!G6,'S20'!G6) -> 82.639411 | H6: =AVERAGE('S1'!H6,'S2'!H6,'S3'!H6,'S4'!H6,'S5'!H6,'S6'!H6,'S7'!H6,'S8'!H6,'S9'!H6,'S10'!H6,'S11'!H6,'S12'!H6,'S13'!H6,'S14'!H6,'S15'!H6,'S16'!H6,'S17'!H6,'S18'!H6,'S19'!H6,'S20'!H6) -> 86.451574 | I6: =AVERAGE('S1'!I6,'S2'!I6,'S3'!I6,'S4'!I6,'S5'!I6,'S6'!I6,'S7'!I6,'S8'!I6,'S9'!I6,'S10'!I6,'S11'!I6,'S12'!I6,'S13'!I6,'S14'!I6,'S15'!I6,'S16'!I6,'S17'!I6,'S18'!I6,'S19'!I6,'S20'!I6) -> 69.339215 | J6: =AVERAGE('S1'!J6,'S2'!J6,'S3'!J6,'S4'!J6,'S5'!J6,'S6'!J6,'S7'!J6,'S8'!J6,'S9'!J6,'S10'!J6,'S11'!J6,'S12'!J6,'S13'!J6,'S14'!J6,'S15'!J6,'S16'!J6,'S17'!J6,'S18'!J6,'S19'!J6,'S20'!J6) -> 77.311008 | K6: =AVERAGE('S1'!K6,'S2'!K6,'S3'!K6,'S4'!K6,'S5'!K6,'S6'!K6,'S7'!K6,'S8'!K6,'S9'!K6,'S10'!K6,'S11'!K6,'S12'!K6,'S13'!K6,'S14'!K6,'S15'!K6,'S16'!K6,'S17'!K6,'S18'!K6,'S19'!K6,'S20'!K6) -> 83.17731 | L6: =AVERAGE('S1'!L6,'S2'!L6,'S3'!L6,'S4'!L6,'S5'!L6,'S6'!L6,'S7'!L6,'S8'!L6,'S9'!L6,'S10'!L6,'S11'!L6,'S12'!L6,'S13'!L6,'S14'!L6,'S15'!L6,'S16'!L6,'S17'!L6,'S18'!L6,'S19'!L6,'S20'!L6) -> 86.70553 | P6: DT | Q6: =_xlfn.STDEV.S('S1'!E6,'S2'!E6,'S3'!E6,'S4'!E6,'S5'!E6,'S6'!E6,'S7'!E6,'S8'!E6,'S9'!E6,'S10'!E6,'S11'!E6,'S12'!E6,'S13'!E6,'S14'!E6,'S15'!E6,'S16'!E6,'S17'!E6,'S18'!E6,'S19'!E6,'S20'!E6) -> 5.6417256 | R6: =_xlfn.STDEV.S('S1'!F6,'S2'!F6,'S3'!F6,'S4'!F6,'S5'!F6,'S6'!F6,'S7'!F6,'S8'!F6,'S9'!F6,'S10'!F6,'S11'!F6,'S12'!F6,'S13'!F6,'S14'!F6,'S15'!F6,'S16'!F6,'S17'!F6,'S18'!F6,'S19'!F6,'S20'!F6) -> 5.3592463 | S6: =_xlfn.STDEV.S('S1'!G6,'S2'!G6,'S3'!G6,'S4'!G6,'S5'!G6,'S6'!G6,'S7'!G6,'S8'!G6,'S9'!G6,'S10'!G6,'S11'!G6,'S12'!G6,'S13'!G6,'S14'!G6,'S15'!G6,'S16'!G6,'S17'!G6,'S18'!G6,'S19'!G6,'S20'!G6) -> 4.8123466 | T6: =_xlfn.STDEV.S('S1'!H6,'S2'!H6,'S3'!H6,'S4'!H6,'S5'!H6,'S6'!H6,'S7'!H6,'S8'!H6,'S9'!H6,'S10'!H6,'S11'!H6,'S12'!H6,'S13'!H6,'S14'!H6,'S15'!H6,'S16'!H6,'S17'!H6,'S18'!H6,'S19'!H6,'S20'!H6) -> 4.4506607 | U6: =_xlfn.STDEV.S('S1'!I6,'S2'!I6,'S3'!I6,'S4'!I6,'S5'!I6,'S6'!I6,'S7'!I6,'S8'!I6,'S9'!I6,'S10'!I6,'S11'!I6,'S12'!I6,'S13'!I6,'S14'!I6,'S15'!I6,'S16'!I6,'S17'!I6,'S18'!I6,'S19'!I6,'S20'!I6) -> 5.5311467 | V6: =_xlfn.STDEV.S('S1'!J6,'S2'!J6,'S3'!J6,'S4'!J6,'S5'!J6,'S6'!J6,'S7'!J6,'S8'!J6,'S9'!J6,'S10'!J6,'S11'!J6,'S12'!J6,'S13'!J6,'S14'!J6,'S15'!J6,'S16'!J6,'S17'!J6,'S18'!J6,'S19'!J6,'S20'!J6) -> 5.2296326 | W6: =_xlfn.STDEV.S('S1'!K6,'S2'!K6,'S3'!K6,'S4'!K6,'S5'!K6,'S6'!K6,'S7'!K6,'S8'!K6,'S9'!K6,'S10'!K6,'S11'!K6,'S12'!K6,'S13'!K6,'S14'!K6,'S15'!K6,'S16'!K6,'S17'!K6,'S18'!K6,'S19'!K6,'S20'!K6) -> 4.9550683 | X6: =_xlfn.STDEV.S('S1'!L6,'S2'!L6,'S3'!L6,'S4'!L6,'S5'!L6,'S6'!L6,'S7'!L6,'S8'!L6,'S9'!L6,'S10'!L6,'S11'!L6,'S12'!L6,'S13'!L6,'S14'!L6,'S15'!L6,'S16'!L6,'S17'!L6,'S18'!L6,'S19'!L6,'S20'!L6) -> 4.1941224
D7: NN | E7: =AVERAGE('S1'!E7,'S2'!E7,'S3'!E7,'S4'!E7,'S5'!E7,'S6'!E7,'S7'!E7,'S8'!E7,'S9'!E7,'S10'!E7,'S11'!E7,'S12'!E7,'S13'!E7,'S14'!E7,'S15'!E7,'S16'!E7,'S17'!E7,'S18'!E7,'S19'!E7,'S20'!E7) -> 71.595018 | F7: =AVERAGE('S1'!F7,'S2'!F7,'S3'!F7,'S4'!F7,'S5'!F7,'S6'!F7,'S7'!F7,'S8'!F7,'S9'!F7,'S10'!F7,'S11'!F7,'S12'!F7,'S13'!F7,'S14'!F7,'S15'!F7,'S16'!F7,'S17'!F7,'S18'!F7,'S19'!F7,'S20'!F7) -> 75.471934 | G7: =AVERAGE('S1'!G7,'S2'!G7,'S3'!G7,'S4'!G7,'S5'!G7,'S6'!G7,'S7'!G7,'S8'!G7,'S9'!G7,'S10'!G7,'S11'!G7,'S12'!G7,'S13'!G7,'S14'!G7,'S15'!G7,'S16'!G7,'S17'!G7,'S18'!G7,'S19'!G7,'S20'!G7) -> 79.781564 | H7: =AVERAGE('S1'!H7,'S2'!H7,'S3'!H7,'S4'!H7,'S5'!H7,'S6'!H7,'S7'!H7,'S8'!H7,'S9'!H7,'S10'!H7,'S11'!H7,'S12'!H7,'S13'!H7,'S14'!H7,'S15'!H7,'S16'!H7,'S17'!H7,'S18'!H7,'S19'!H7,'S20'!H7) -> 81.509876 | I7: =AVERAGE('S1'!I7,'S2'!I7,'S3'!I7,'S4'!I7,'S5'!I7,'S6'!I7,'S7'!I7,'S8'!I7,'S9'!I7,'S10'!I7,'S11'!I7,'S12'!I7,'S13'!I7,'S14'!I7,'S15'!I7,'S16'!I7,'S17'!I7,'S18'!I7,'S19'!I7,'S20'!I7) -> 35.212991 | J7: =AVERAGE('S1'!J7,'S2'!J7,'S3'!J7,'S4'!J7,'S5'!J7,'S6'!J7,'S7'!J7,'S8'!J7,'S9'!J7,'S10'!J7,'S11'!J7,'S12'!J7,'S13'!J7,'S14'!J7,'S15'!J7,'S16'!J7,'S17'!J7,'S18'!J7,'S19'!J7,'S20'!J7) -> 43.97366 | K7: =AVERAGE('S1'!K7,'S2'!K7,'S3'!K7,'S4'!K7,'S5'!K7,'S6'!K7,'S7'!K7,'S8'!K7,'S9'!K7,'S10'!K7,'S11'!K7,'S12'!K7,'S13'!K7,'S14'!K7,'S15'!K7,'S16'!K7,'S17'!K7,'S18'!K7,'S19'!K7,'S20'!K7) -> 43.548406 | L7: =AVERAGE('S1'!L7,'S2'!L7,'S3'!L7,'S4'!L7,'S5'!L7,'S6'!L7,'S7'!L7,'S8'!L7,'S9'!L7,'S10'!L7,'S11'!L7,'S12'!L7,'S13'!L7,'S14'!L7,'S15'!L7,'S16'!L7,'S17'!L7,'S18'!L7,'S19'!L7,'S20'!L7) -> 56.471486 | P7: NN | Q7: =_xlfn.STDEV.S('S1'!E7,'S2'!E7,'S3'!E7,'S4'!E7,'S5'!E7,'S6'!E7,'S7'!E7,'S8'!E7,'S9'!E7,'S10'!E7,'S11'!E7,'S12'!E7,'S13'!E7,'S14'!E7,'S15'!E7,'S16'!E7,'S17'!E7,'S18'!E7,'S19'!E7,'S20'!E7) -> 6.9370573 | R7: =_xlfn.STDEV.S('S1'!F7,'S2'!F7,'S3'!F7,'S4'!F7,'S5'!F7,'S6'!F7,'S7'!F7,'S8'!F7,'S9'!F7,'S10'!F7,'S11'!F7,'S12'!F7,'S13'!F7,'S14'!F7,'S15'!F7,'S16'!F7,'S17'!F7,'S18'!F7,'S19'!F7,'S20'!F7) -> 7.0484312 | S7: =_xlfn.STDEV.S('S1'!G7,'S2'!G7,'S3'!G7,'S4'!G7,'S5'!G7,'S6'!G7,'S7'!G7,'S8'!G7,'S9'!G7,'S10'!G7,'S11'!G7,'S12'!G7,'S13'!G7,'S14'!G7,'S15'!G7,'S16'!G7,'S17'!G7,'S18'!G7,'S19'!G7,'S20'!G7) -> 7.1890247 | T7: =_xlfn.STDEV.S('S1'!H7,'S2'!H7,'S3'!H7,'S4'!H7,'S5'!H7,'S6'!H7,'S7'!H7,'S8'!H7,'S9'!H7,'S10'!H7,'S11'!H7,'S12'!H7,'S13'!H7,'S14'!H7,'S15'!H7,'S16'!H7,'S17'!H7,'S18'!H7,'S19'!H7,'S20'!H7) -> 13.287037 | U7: =_xlfn.STDEV.S('S1'!I7,'S2'!I7,'S3'!I7,'S4'!I7,'S5'!I7,'S6'!I7,'S7'!I7,'S8'!I7,'S9'!I7,'S10'!I7,'S11'!I7,'S12'!I7,'S13'!I7,'S14'!I7,'S15'!I7,'S16'!I7,'S17'!I7,'S18'!I7,'S19'!I7,'S20'!I7) -> 10.939633 | V7: =_xlfn.STDEV.S('S1'!J7,'S2'!J7,'S3'!J7,'S4'!J7,'S5'!J7,'S6'!J7,'S7'!J7,'S8'!J7,'S9'!J7,'S10'!J7,'S11'!J7,'S12'!J7,'S13'!J7,'S14'!J7,'S15'!J7,'S16'!J7,'S17'!J7,'S18'!J7,'S19'!J7,'S20'!J7) -> 18.571262 | W7: =_xlfn.STDEV.S('S1'!K7,'S2'!K7,'S3'!K7,'S4'!K7,'S5'!K7,'S6'!K7,'S7'!K7,'S8'!K7,'S9'!K7,'S10'!K7,'S11'!K7,'S12'!K7,'S13'!K7,'S14'!K7,'S15'!K7,'S16'!K7,'S17'!K7,'S18'!K7,'S19'!K7,'S20'!K7) -> 17.75532 | X7: =_xlfn.STDEV.S('S1'!L7,'S2'!L7,'S3'!L7,'S4'!L7,'S5'!L7,'S6'!L7,'S7'!L7,'S8'!L7,'S9'!L7,'S10'!L7,'S11'!L7,'S12'!L7,'S13'!L7,'S14'!L7,'S15'!L7,'S16'!L7,'S17'!L7,'S18'!L7,'S19'!L7,'S20'!L7) -> 23.322548
D8: Supplementary Table S41: Mean accuracy using a three-class output model | P8: Supplementary Table S42: Standard Deviation using a three-class output model
E10: Model 2 | Q10: Model 2
E11: 9 Characteristics | I11: 5 Characteristics | Q11: 9 Characteristics | U11: 5 Characteristics
E12: XGB | F12: RF | G12: DT | H12: NN | I12: XGB | J12: RF | K12: DT | L12: NN | Q12: XGB | R12: RF | S12: DT | T12: NN | U12: XGB | V12: RF | W12: DT | X12: NN
B13: Model 1 | C13: 50 | D13: XGB | E13: =AVERAGE('S1'!E13,'S2'!E13,'S3'!E13,'S4'!E13,'S5'!E13,'S6'!E13,'S7'!E13,'S8'!E13,'S9'!E13,'S10'!E13,'S11'!E13,'S12'!E13,'S13'!E13,'S14'!E13,'S15'!E13,'S16'!E13,'S17'!E13,'S18'!E13,'S19'!E13,'S20'!E13) -> 63.584034 | F13: =AVERAGE('S1'!F13,'S2'!F13,'S3'!F13,'S4'!F13,'S5'!F13,'S6'!F13,'S7'!F13,'S8'!F13,'S9'!F13,'S10'!F13,'S11'!F13,'S12'!F13,'S13'!F13,'S14'!F13,'S15'!F13,'S16'!F13,'S17'!F13,'S18'!F13,'S19'!F13,'S20'!F13) -> 64.398598 | G13: =AVERAGE('S1'!G13,'S2'!G13,'S3'!G13,'S4'!G13,'S5'!G13,'S6'!G13,'S7'!G13,'S8'!G13,'S9'!G13,'S10'!G13,'S11'!G13,'S12'!G13,'S13'!G13,'S14'!G13,'S15'!G13,'S16'!G13,'S17'!G13,'S18'!G13,'S19'!G13,'S20'!G13) -> 63.721601 | H13: =AVERAGE('S1'!H13,'S2'!H13,'S3'!H13,'S4'!H13,'S5'!H13,'S6'!H13,'S7'!H13,'S8'!H13,'S9'!H13,'S10'!H13,'S11'!H13,'S12'!H13,'S13'!H13,'S14'!H13,'S15'!H13,'S16'!H13,'S17'!H13,'S18'!H13,'S19'!H13,'S20'!H13) -> 44.197651 | I13: =AVERAGE('S1'!I13,'S2'!I13,'S3'!I13,'S4'!I13,'S5'!I13,'S6'!I13,'S7'!I13,'S8'!I13,'S9'!I13,'S10'!I13,'S11'!I13,'S12'!I13,'S13'!I13,'S14'!I13,'S15'!I13,'S16'!I13,'S17'!I13,'S18'!I13,'S19'!I13,'S20'!I13) -> 76.800188 | J13: =AVERAGE('S1'!J13,'S2'!J13,'S3'!J13,'S4'!J13,'S5'!J13,'S6'!J13,'S7'!J13,'S8'!J13,'S9'!J13,'S10'!J13,'S11'!J13,'S12'!J13,'S13'!J13,'S14'!J13,'S15'!J13,'S16'!J13,'S17'!J13,'S18'!J13,'S19'!J13,'S20'!J13) -> 77.856088 | K13: =AVERAGE('S1'!K13,'S2'!K13,'S3'!K13,'S4'!K13,'S5'!K13,'S6'!K13,'S7'!K13,'S8'!K13,'S9'!K13,'S10'!K13,'S11'!K13,'S12'!K13,'S13'!K13,'S14'!K13,'S15'!K13,'S16'!K13,'S17'!K13,'S18'!K13,'S19'!K13,'S20'!K13) -> 77.305411 | L13: =AVERAGE('S1'!L13,'S2'!L13,'S3'!L13,'S4'!L13,'S5'!L13,'S6'!L13,'S7'!L13,'S8'!L13,'S9'!L13,'S10'!L13,'S11'!L13,'S12'!L13,'S13'!L13,'S14'!L13,'S15'!L13,'S16'!L13,'S17'!L13,'S18'!L13,'S19'!L13,'S20'!L13) -> 49.382108 | N13: Model 1 | O13: 50 | P13: XGB | Q13: =_xlfn.STDEV.S('S1'!E13,'S2'!E13,'S3'!E13,'S4'!E13,'S5'!E13,'S6'!E13,'S7'!E13,'S8'!E13,'S9'!E13,'S10'!E13,'S11'!E13,'S12'!E13,'S13'!E13,'S14'!E13,'S15'!E13,'S16'!E13,'S17'!E13,'S18'!E13,'S19'!E13,'S20'!E13) -> 7.7744311 | R13: =_xlfn.STDEV.S('S1'!F13,'S2'!F13,'S3'!F13,'S4'!F13,'S5'!F13,'S6'!F13,'S7'!F13,'S8'!F13,'S9'!F13,'S10'!F13,'S11'!F13,'S12'!F13,'S13'!F13,'S14'!F13,'S15'!F13,'S16'!F13,'S17'!F13,'S18'!F13,'S19'!F13,'S20'!F13) -> 8.0156842 | S13: =_xlfn.STDEV.S('S1'!G13,'S2'!G13,'S3'!G13,'S4'!G13,'S5'!G13,'S6'!G13,'S7'!G13,'S8'!G13,'S9'!G13,'S10'!G13,'S11'!G13,'S12'!G13,'S13'!G13,'S14'!G13,'S15'!G13,'S16'!G13,'S17'!G13,'S18'!G13,'S19'!G13,'S20'!G13) -> 7.9869879 | T13: =_xlfn.STDEV.S('S1'!H13,'S2'!H13,'S3'!H13,'S4'!H13,'S5'!H13,'S6'!H13,'S7'!H13,'S8'!H13,'S9'!H13,'S10'!H13,'S11'!H13,'S12'!H13,'S13'!H13,'S14'!H13,'S15'!H13,'S16'!H13,'S17'!H13,'S18'!H13,'S19'!H13,'S20'!H13) -> 12.423477 | U13: =_xlfn.STDEV.S('S1'!I13,'S2'!I13,'S3'!I13,'S4'!I13,'S5'!I13,'S6'!I13,'S7'!I13,'S8'!I13,'S9'!I13,'S10'!I13,'S11'!I13,'S12'!I13,'S13'!I13,'S14'!I13,'S15'!I13,'S16'!I13,'S17'!I13,'S18'!I13,'S19'!I13,'S20'!I13) -> 5.3646202 | V13: =_xlfn.STDEV.S('S1'!J13,'S2'!J13,'S3'!J13,'S4'!J13,'S5'!J13,'S6'!J13,'S7'!J13,'S8'!J13,'S9'!J13,'S10'!J13,'S11'!J13,'S12'!J13,'S13'!J13,'S14'!J13,'S15'!J13,'S16'!J13,'S17'!J13,'S18'!J13,'S19'!J13,'S20'!J13) -> 5.1118877 | W13: =_xlfn.STDEV.S('S1'!K13,'S2'!K13,'S3'!K13,'S4'!K13,'S5'!K13,'S6'!K13,'S7'!K13,'S8'!K13,'S9'!K13,'S10'!K13,'S11'!K13,'S12'!K13,'S13'!K13,'S14'!K13,'S15'!K13,'S16'!K13,'S17'!K13,'S18'!K13,'S19'!K13,'S20'!K13) -> 5.197004 | X13: =_xlfn.STDEV.S('S1'!L13,'S2'!L13,'S3'!L13,'S4'!L13,'S5'!L13,'S6'!L13,'S7'!L13,'S8'!L13,'S9'!L13,'S10'!L13,'S11'!L13,'S12'!L13,'S13'!L13,'S14'!L13,'S15'!L13,'S16'!L13,'S17'!L13,'S18'!L13,'S19'!L13,'S20'!L13) -> 9.3641726
D14: RF | E14: =AVERAGE('S1'!E14,'S2'!E14,'S3'!E14,'S4'!E14,'S5'!E14,'S6'!E14,'S7'!E14,'S8'!E14,'S9'!E14,'S10'!E14,'S11'!E14,'S12'!E14,'S13'!E14,'S14'!E14,'S15'!E14,'S16'!E14,'S17'!E14,'S18'!E14,'S19'!E14,'S20'!E14) -> 80.109923 | F14: =AVERAGE('S1'!F14,'S2'!F14,'S3'!F14,'S4'!F14,'S5'!F14,'S6'!F14,'S7'!F14,'S8'!F14,'S9'!F14,'S10'!F14,'S11'!F14,'S12'!F14,'S13'!F14,'S14'!F14,'S15'!F14,'S16'!F14,'S17'!F14,'S18'!F14,'S19'!F14,'S20'!F14) -> 80.676976 | G14: =AVERAGE('S1'!G14,'S2'!G14,'S3'!G14,'S4'!G14,'S5'!G14,'S6'!G14,'S7'!G14,'S8'!G14,'S9'!G14,'S10'!G14,'S11'!G14,'S12'!G14,'S13'!G14,'S14'!G14,'S15'!G14,'S16'!G14,'S17'!G14,'S18'!G14,'S19'!G14,'S20'!G14) -> 80.230207 | H14: =AVERAGE('S1'!H14,'S2'!H14,'S3'!H14,'S4'!H14,'S5'!H14,'S6'!H14,'S7'!H14,'S8'!H14,'S9'!H14,'S10'!H14,'S11'!H14,'S12'!H14,'S13'!H14,'S14'!H14,'S15'!H14,'S16'!H14,'S17'!H14,'S18'!H14,'S19'!H14,'S20'!H14) -> 65.908884 | I14: =AVERAGE('S1'!I14,'S2'!I14,'S3'!I14,'S4'!I14,'S5'!I14,'S6'!I14,'S7'!I14,'S8'!I14,'S9'!I14,'S10'!I14,'S11'!I14,'S12'!I14,'S13'!I14,'S14'!I14,'S15'!I14,'S16'!I14,'S17'!I14,'S18'!I14,'S19'!I14,'S20'!I14) -> 91.502785 | J14: =AVERAGE('S1'!J14,'S2'!J14,'S3'!J14,'S4'!J14,'S5'!J14,'S6'!J14,'S7'!J14,'S8'!J14,'S9'!J14,'S10'!J14,'S11'!J14,'S12'!J14,'S13'!J14,'S14'!J14,'S15'!J14,'S16'!J14,'S17'!J14,'S18'!J14,'S19'!J14,'S20'!J14) -> 92.461203 | K14: =AVERAGE('S1'!K14,'S2'!K14,'S3'!K14,'S4'!K14,'S5'!K14,'S6'!K14,'S7'!K14,'S8'!K14,'S9'!K14,'S10'!K14,'S11'!K14,'S12'!K14,'S13'!K14,'S14'!K14,'S15'!K14,'S16'!K14,'S17'!K14,'S18'!K14,'S19'!K14,'S20'!K14) -> 91.978909 | L14: =AVERAGE('S1'!L14,'S2'!L14,'S3'!L14,'S4'!L14,'S5'!L14,'S6'!L14,'S7'!L14,'S8'!L14,'S9'!L14,'S10'!L14,'S11'!L14,'S12'!L14,'S13'!L14,'S14'!L14,'S15'!L14,'S16'!L14,'S17'!L14,'S18'!L14,'S19'!L14,'S20'!L14) -> 66.10848 | P14: RF | Q14: =_xlfn.STDEV.S('S1'!E14,'S2'!E14,'S3'!E14,'S4'!E14,'S5'!E14,'S6'!E14,'S7'!E14,'S8'!E14,'S9'!E14,'S10'!E14,'S11'!E14,'S12'!E14,'S13'!E14,'S14'!E14,'S15'!E14,'S16'!E14,'S17'!E14,'S18'!E14,'S19'!E14,'S20'!E14) -> 5.6272205 | R14: =_xlfn.STDEV.S('S1'!F14,'S2'!F14,'S3'!F14,'S4'!F14,'S5'!F14,'S6'!F14,'S7'!F14,'S8'!F14,'S9'!F14,'S10'!F14,'S11'!F14,'S12'!F14,'S13'!F14,'S14'!F14,'S15'!F14,'S16'!F14,'S17'!F14,'S18'!F14,'S19'!F14,'S20'!F14) -> 5.9964222 | S14: =_xlfn.STDEV.S('S1'!G14,'S2'!G14,'S3'!G14,'S4'!G14,'S5'!G14,'S6'!G14,'S7'!G14,'S8'!G14,'S9'!G14,'S10'!G14,'S11'!G14,'S12'!G14,'S13'!G14,'S14'!G14,'S15'!G14,'S16'!G14,'S17'!G14,'S18'!G14,'S19'!G14,'S20'!G14) -> 5.8749425 | T14: =_xlfn.STDEV.S('S1'!H14,'S2'!H14,'S3'!H14,'S4'!H14,'S5'!H14,'S6'!H14,'S7'!H14,'S8'!H14,'S9'!H14,'S10'!H14,'S11'!H14,'S12'!H14,'S13'!H14,'S14'!H14,'S15'!H14,'S16'!H14,'S17'!H14,'S18'!H14,'S19'!H14,'S20'!H14) -> 8.7892937 | U14: =_xlfn.STDEV.S('S1'!I14,'S2'!I14,'S3'!I14,'S4'!I14,'S5'!I14,'S6'!I14,'S7'!I14,'S8'!I14,'S9'!I14,'S10'!I14,'S11'!I14,'S12'!I14,'S13'!I14,'S14'!I14,'S15'!I14,'S16'!I14,'S17'!I14,'S18'!I14,'S19'!I14,'S20'!I14) -> 2.4216432 | V14: =_xlfn.STDEV.S('S1'!J14,'S2'!J14,'S3'!J14,'S4'!J14,'S5'!J14,'S6'!J14,'S7'!J14,'S8'!J14,'S9'!J14,'S10'!J14,'S11'!J14,'S12'!J14,'S13'!J14,'S14'!J14,'S15'!J14,'S16'!J14,'S17'!J14,'S18'!J14,'S19'!J14,'S20'!J14) -> 2.0072556 | W14: =_xlfn.STDEV.S('S1'!K14,'S2'!K14,'S3'!K14,'S4'!K14,'S5'!K14,'S6'!K14,'S7'!K14,'S8'!K14,'S9'!K14,'S10'!K14,'S11'!K14,'S12'!K14,'S13'!K14,'S14'!K14,'S15'!K14,'S16'!K14,'S17'!K14,'S18'!K14,'S19'!K14,'S20'!K14) -> 2.0889254 | X14: =_xlfn.STDEV.S('S1'!L14,'S2'!L14,'S3'!L14,'S4'!L14,'S5'!L14,'S6'!L14,'S7'!L14,'S8'!L14,'S9'!L14,'S10'!L14,'S11'!L14,'S12'!L14,'S13'!L14,'S14'!L14,'S15'!L14,'S16'!L14,'S17'!L14,'S18'!L14,'S19'!L14,'S20'!L14) -> 7.9426687
D15: DT | E15: =AVERAGE('S1'!E15,'S2'!E15,'S3'!E15,'S4'!E15,'S5'!E15,'S6'!E15,'S7'!E15,'S8'!E15,'S9'!E15,'S10'!E15,'S11'!E15,'S12'!E15,'S13'!E15,'S14'!E15,'S15'!E15,'S16'!E15,'S17'!E15,'S18'!E15,'S19'!E15,'S20'!E15) -> 73.03284 | F15: =AVERAGE('S1'!F15,'S2'!F15,'S3'!F15,'S4'!F15,'S5'!F15,'S6'!F15,'S7'!F15,'S8'!F15,'S9'!F15,'S10'!F15,'S11'!F15,'S12'!F15,'S13'!F15,'S14'!F15,'S15'!F15,'S16'!F15,'S17'!F15,'S18'!F15,'S19'!F15,'S20'!F15) -> 73.648771 | G15: =AVERAGE('S1'!G15,'S2'!G15,'S3'!G15,'S4'!G15,'S5'!G15,'S6'!G15,'S7'!G15,'S8'!G15,'S9'!G15,'S10'!G15,'S11'!G15,'S12'!G15,'S13'!G15,'S14'!G15,'S15'!G15,'S16'!G15,'S17'!G15,'S18'!G15,'S19'!G15,'S20'!G15) -> 73.152823 | H15: =AVERAGE('S1'!H15,'S2'!H15,'S3'!H15,'S4'!H15,'S5'!H15,'S6'!H15,'S7'!H15,'S8'!H15,'S9'!H15,'S10'!H15,'S11'!H15,'S12'!H15,'S13'!H15,'S14'!H15,'S15'!H15,'S16'!H15,'S17'!H15,'S18'!H15,'S19'!H15,'S20'!H15) -> 57.951798 | I15: =AVERAGE('S1'!I15,'S2'!I15,'S3'!I15,'S4'!I15,'S5'!I15,'S6'!I15,'S7'!I15,'S8'!I15,'S9'!I15,'S10'!I15,'S11'!I15,'S12'!I15,'S13'!I15,'S14'!I15,'S15'!I15,'S16'!I15,'S17'!I15,'S18'!I15,'S19'!I15,'S20'!I15) -> 90.111406 | J15: =AVERAGE('S1'!J15,'S2'!J15,'S3'!J15,'S4'!J15,'S5'!J15,'S6'!J15,'S7'!J15,'S8'!J15,'S9'!J15,'S10'!J15,'S11'!J15,'S12'!J15,'S13'!J15,'S14'!J15,'S15'!J15,'S16'!J15,'S17'!J15,'S18'!J15,'S19'!J15,'S20'!J15) -> 91.08079 | K15: =AVERAGE('S1'!K15,'S2'!K15,'S3'!K15,'S4'!K15,'S5'!K15,'S6'!K15,'S7'!K15,'S8'!K15,'S9'!K15,'S10'!K15,'S11'!K15,'S12'!K15,'S13'!K15,'S14'!K15,'S15'!K15,'S16'!K15,'S17'!K15,'S18'!K15,'S19'!K15,'S20'!K15) -> 90.594314 | L15: =AVERAGE('S1'!L15,'S2'!L15,'S3'!L15,'S4'!L15,'S5'!L15,'S6'!L15,'S7'!L15,'S8'!L15,'S9'!L15,'S10'!L15,'S11'!L15,'S12'!L15,'S13'!L15,'S14'!L15,'S15'!L15,'S16'!L15,'S17'!L15,'S18'!L15,'S19'!L15,'S20'!L15) -> 64.483425 | P15: DT | Q15: =_xlfn.STDEV.S('S1'!E15,'S2'!E15,'S3'!E15,'S4'!E15,'S5'!E15,'S6'!E15,'S7'!E15,'S8'!E15,'S9'!E15,'S10'!E15,'S11'!E15,'S12'!E15,'S13'!E15,'S14'!E15,'S15'!E15,'S16'!E15,'S17'!E15,'S18'!E15,'S19'!E15,'S20'!E15) -> 6.300871 | R15: =_xlfn.STDEV.S('S1'!F15,'S2'!F15,'S3'!F15,'S4'!F15,'S5'!F15,'S6'!F15,'S7'!F15,'S8'!F15,'S9'!F15,'S10'!F15,'S11'!F15,'S12'!F15,'S13'!F15,'S14'!F15,'S15'!F15,'S16'!F15,'S17'!F15,'S18'!F15,'S19'!F15,'S20'!F15) -> 6.8323597 | S15: =_xlfn.STDEV.S('S1'!G15,'S2'!G15,'S3'!G15,'S4'!G15,'S5'!G15,'S6'!G15,'S7'!G15,'S8'!G15,'S9'!G15,'S10'!G15,'S11'!G15,'S12'!G15,'S13'!G15,'S14'!G15,'S15'!G15,'S16'!G15,'S17'!G15,'S18'!G15,'S19'!G15,'S20'!G15) -> 6.7630466 | T15: =_xlfn.STDEV.S('S1'!H15,'S2'!H15,'S3'!H15,'S4'!H15,'S5'!H15,'S6'!H15,'S7'!H15,'S8'!H15,'S9'!H15,'S10'!H15,'S11'!H15,'S12'!H15,'S13'!H15,'S14'!H15,'S15'!H15,'S16'!H15,'S17'!H15,'S18'!H15,'S19'!H15,'S20'!H15) -> 9.0161382 | U15: =_xlfn.STDEV.S('S1'!I15,'S2'!I15,'S3'!I15,'S4'!I15,'S5'!I15,'S6'!I15,'S7'!I15,'S8'!I15,'S9'!I15,'S10'!I15,'S11'!I15,'S12'!I15,'S13'!I15,'S14'!I15,'S15'!I15,'S16'!I15,'S17'!I15,'S18'!I15,'S19'!I15,'S20'!I15) -> 2.4084414 | V15: =_xlfn.STDEV.S('S1'!J15,'S2'!J15,'S3'!J15,'S4'!J15,'S5'!J15,'S6'!J15,'S7'!J15,'S8'!J15,'S9'!J15,'S10'!J15,'S11'!J15,'S12'!J15,'S13'!J15,'S14'!J15,'S15'!J15,'S16'!J15,'S17'!J15,'S18'!J15,'S19'!J15,'S20'!J15) -> 1.9575906 | W15: =_xlfn.STDEV.S('S1'!K15,'S2'!K15,'S3'!K15,'S4'!K15,'S5'!K15,'S6'!K15,'S7'!K15,'S8'!K15,'S9'!K15,'S10'!K15,'S11'!K15,'S12'!K15,'S13'!K15,'S14'!K15,'S15'!K15,'S16'!K15,'S17'!K15,'S18'!K15,'S19'!K15,'S20'!K15) -> 2.0502726 | X15: =_xlfn.STDEV.S('S1'!L15,'S2'!L15,'S3'!L15,'S4'!L15,'S5'!L15,'S6'!L15,'S7'!L15,'S8'!L15,'S9'!L15,'S10'!L15,'S11'!L15,'S12'!L15,'S13'!L15,'S14'!L15,'S15'!L15,'S16'!L15,'S17'!L15,'S18'!L15,'S19'!L15,'S20'!L15) -> 7.7906857
D16: NN | E16: =AVERAGE('S1'!E16,'S2'!E16,'S3'!E16,'S4'!E16,'S5'!E16,'S6'!E16,'S7'!E16,'S8'!E16,'S9'!E16,'S10'!E16,'S11'!E16,'S12'!E16,'S13'!E16,'S14'!E16,'S15'!E16,'S16'!E16,'S17'!E16,'S18'!E16,'S19'!E16,'S20'!E16) -> 40.613962 | F16: =AVERAGE('S1'!F16,'S2'!F16,'S3'!F16,'S4'!F16,'S5'!F16,'S6'!F16,'S7'!F16,'S8'!F16,'S9'!F16,'S10'!F16,'S11'!F16,'S12'!F16,'S13'!F16,'S14'!F16,'S15'!F16,'S16'!F16,'S17'!F16,'S18'!F16,'S19'!F16,'S20'!F16) -> 40.680665 | G16: =AVERAGE('S1'!G16,'S2'!G16,'S3'!G16,'S4'!G16,'S5'!G16,'S6'!G16,'S7'!G16,'S8'!G16,'S9'!G16,'S10'!G16,'S11'!G16,'S12'!G16,'S13'!G16,'S14'!G16,'S15'!G16,'S16'!G16,'S17'!G16,'S18'!G16,'S19'!G16,'S20'!G16) -> 40.637719 | H16: =AVERAGE('S1'!H16,'S2'!H16,'S3'!H16,'S4'!H16,'S5'!H16,'S6'!H16,'S7'!H16,'S8'!H16,'S9'!H16,'S10'!H16,'S11'!H16,'S12'!H16,'S13'!H16,'S14'!H16,'S15'!H16,'S16'!H16,'S17'!H16,'S18'!H16,'S19'!H16,'S20'!H16) -> 39.00212 | I16: =AVERAGE('S1'!I16,'S2'!I16,'S3'!I16,'S4'!I16,'S5'!I16,'S6'!I16,'S7'!I16,'S8'!I16,'S9'!I16,'S10'!I16,'S11'!I16,'S12'!I16,'S13'!I16,'S14'!I16,'S15'!I16,'S16'!I16,'S17'!I16,'S18'!I16,'S19'!I16,'S20'!I16) -> 34.841715 | J16: =AVERAGE('S1'!J16,'S2'!J16,'S3'!J16,'S4'!J16,'S5'!J16,'S6'!J16,'S7'!J16,'S8'!J16,'S9'!J16,'S10'!J16,'S11'!J16,'S12'!J16,'S13'!J16,'S14'!J16,'S15'!J16,'S16'!J16,'S17'!J16,'S18'!J16,'S19'!J16,'S20'!J16) -> 34.884357 | K16: =AVERAGE('S1'!K16,'S2'!K16,'S3'!K16,'S4'!K16,'S5'!K16,'S6'!K16,'S7'!K16,'S8'!K16,'S9'!K16,'S10'!K16,'S11'!K16,'S12'!K16,'S13'!K16,'S14'!K16,'S15'!K16,'S16'!K16,'S17'!K16,'S18'!K16,'S19'!K16,'S20'!K16) -> 34.862427 | L16: =AVERAGE('S1'!L16,'S2'!L16,'S3'!L16,'S4'!L16,'S5'!L16,'S6'!L16,'S7'!L16,'S8'!L16,'S9'!L16,'S10'!L16,'S11'!L16,'S12'!L16,'S13'!L16,'S14'!L16,'S15'!L16,'S16'!L16,'S17'!L16,'S18'!L16,'S19'!L16,'S20'!L16) -> 34.043713 | P16: NN | Q16: =_xlfn.STDEV.S('S1'!E16,'S2'!E16,'S3'!E16,'S4'!E16,'S5'!E16,'S6'!E16,'S7'!E16,'S8'!E16,'S9'!E16,'S10'!E16,'S11'!E16,'S12'!E16,'S13'!E16,'S14'!E16,'S15'!E16,'S16'!E16,'S17'!E16,'S18'!E16,'S19'!E16,'S20'!E16) -> 18.698278 | R16: =_xlfn.STDEV.S('S1'!F16,'S2'!F16,'S3'!F16,'S4'!F16,'S5'!F16,'S6'!F16,'S7'!F16,'S8'!F16,'S9'!F16,'S10'!F16,'S11'!F16,'S12'!F16,'S13'!F16,'S14'!F16,'S15'!F16,'S16'!F16,'S17'!F16,'S18'!F16,'S19'!F16,'S20'!F16) -> 18.848015 | S16: =_xlfn.STDEV.S('S1'!G16,'S2'!G16,'S3'!G16,'S4'!G16,'S5'!G16,'S6'!G16,'S7'!G16,'S8'!G16,'S9'!G16,'S10'!G16,'S11'!G16,'S12'!G16,'S13'!G16,'S14'!G16,'S15'!G16,'S16'!G16,'S17'!G16,'S18'!G16,'S19'!G16,'S20'!G16) -> 18.748157 | T16: =_xlfn.STDEV.S('S1'!H16,'S2'!H16,'S3'!H16,'S4'!H16,'S5'!H16,'S6'!H16,'S7'!H16,'S8'!H16,'S9'!H16,'S10'!H16,'S11'!H16,'S12'!H16,'S13'!H16,'S14'!H16,'S15'!H16,'S16'!H16,'S17'!H16,'S18'!H16,'S19'!H16,'S20'!H16) -> 15.215829 | U16: =_xlfn.STDEV.S('S1'!I16,'S2'!I16,'S3'!I16,'S4'!I16,'S5'!I16,'S6'!I16,'S7'!I16,'S8'!I16,'S9'!I16,'S10'!I16,'S11'!I16,'S12'!I16,'S13'!I16,'S14'!I16,'S15'!I16,'S16'!I16,'S17'!I16,'S18'!I16,'S19'!I16,'S20'!I16) -> 8.2364017 | V16: =_xlfn.STDEV.S('S1'!J16,'S2'!J16,'S3'!J16,'S4'!J16,'S5'!J16,'S6'!J16,'S7'!J16,'S8'!J16,'S9'!J16,'S10'!J16,'S11'!J16,'S12'!J16,'S13'!J16,'S14'!J16,'S15'!J16,'S16'!J16,'S17'!J16,'S18'!J16,'S19'!J16,'S20'!J16) -> 8.4270995 | W16: =_xlfn.STDEV.S('S1'!K16,'S2'!K16,'S3'!K16,'S4'!K16,'S5'!K16,'S6'!K16,'S7'!K16,'S8'!K16,'S9'!K16,'S10'!K16,'S11'!K16,'S12'!K16,'S13'!K16,'S14'!K16,'S15'!K16,'S16'!K16,'S17'!K16,'S18'!K16,'S19'!K16,'S20'!K16) -> 8.3290263 | X16: =_xlfn.STDEV.S('S1'!L16,'S2'!L16,'S3'!L16,'S4'!L16,'S5'!L16,'S6'!L16,'S7'!L16,'S8'!L16,'S9'!L16,'S10'!L16,'S11'!L16,'S12'!L16,'S13'!L16,'S14'!L16,'S15'!L16,'S16'!L16,'S17'!L16,'S18'!L16,'S19'!L16,'S20'!L16) -> 4.6676284
C17: 100 | D17: XGB | E17: =AVERAGE('S1'!E17,'S2'!E17,'S3'!E17,'S4'!E17,'S5'!E17,'S6'!E17,'S7'!E17,'S8'!E17,'S9'!E17,'S10'!E17,'S11'!E17,'S12'!E17,'S13'!E17,'S14'!E17,'S15'!E17,'S16'!E17,'S17'!E17,'S18'!E17,'S19'!E17,'S20'!E17) -> 72.60323 | F17: =AVERAGE('S1'!F17,'S2'!F17,'S3'!F17,'S4'!F17,'S5'!F17,'S6'!F17,'S7'!F17,'S8'!F17,'S9'!F17,'S10'!F17,'S11'!F17,'S12'!F17,'S13'!F17,'S14'!F17,'S15'!F17,'S16'!F17,'S17'!F17,'S18'!F17,'S19'!F17,'S20'!F17) -> 72.958473 | G17: =AVERAGE('S1'!G17,'S2'!G17,'S3'!G17,'S4'!G17,'S5'!G17,'S6'!G17,'S7'!G17,'S8'!G17,'S9'!G17,'S10'!G17,'S11'!G17,'S12'!G17,'S13'!G17,'S14'!G17,'S15'!G17,'S16'!G17,'S17'!G17,'S18'!G17,'S19'!G17,'S20'!G17) -> 72.471098 | H17: =AVERAGE('S1'!H17,'S2'!H17,'S3'!H17,'S4'!H17,'S5'!H17,'S6'!H17,'S7'!H17,'S8'!H17,'S9'!H17,'S10'!H17,'S11'!H17,'S12'!H17,'S13'!H17,'S14'!H17,'S15'!H17,'S16'!H17,'S17'!H17,'S18'!H17,'S19'!H17,'S20'!H17) -> 52.127959 | I17: =AVERAGE('S1'!I17,'S2'!I17,'S3'!I17,'S4'!I17,'S5'!I17,'S6'!I17,'S7'!I17,'S8'!I17,'S9'!I17,'S10'!I17,'S11'!I17,'S12'!I17,'S13'!I17,'S14'!I17,'S15'!I17,'S16'!I17,'S17'!I17,'S18'!I17,'S19'!I17,'S20'!I17) -> 83.747957 | J17: =AVERAGE('S1'!J17,'S2'!J17,'S3'!J17,'S4'!J17,'S5'!J17,'S6'!J17,'S7'!J17,'S8'!J17,'S9'!J17,'S10'!J17,'S11'!J17,'S12'!J17,'S13'!J17,'S14'!J17,'S15'!J17,'S16'!J17,'S17'!J17,'S18'!J17,'S19'!J17,'S20'!J17) -> 84.227761 | K17: =AVERAGE('S1'!K17,'S2'!K17,'S3'!K17,'S4'!K17,'S5'!K17,'S6'!K17,'S7'!K17,'S8'!K17,'S9'!K17,'S10'!K17,'S11'!K17,'S12'!K17,'S13'!K17,'S14'!K17,'S15'!K17,'S16'!K17,'S17'!K17,'S18'!K17,'S19'!K17,'S20'!K17) -> 83.702566 | L17: =AVERAGE('S1'!L17,'S2'!L17,'S3'!L17,'S4'!L17,'S5'!L17,'S6'!L17,'S7'!L17,'S8'!L17,'S9'!L17,'S10'!L17,'S11'!L17,'S12'!L17,'S13'!L17,'S14'!L17,'S15'!L17,'S16'!L17,'S17'!L17,'S18'!L17,'S19'!L17,'S20'!L17) -> 57.210013 | O17: 100 | P17: XGB | Q17: =_xlfn.STDEV.S('S1'!E17,'S2'!E17,'S3'!E17,'S4'!E17,'S5'!E17,'S6'!E17,'S7'!E17,'S8'!E17,'S9'!E17,'S10'!E17,'S11'!E17,'S12'!E17,'S13'!E17,'S14'!E17,'S15'!E17,'S16'!E17,'S17'!E17,'S18'!E17,'S19'!E17,'S20'!E17) -> 8.5284451 | R17: =_xlfn.STDEV.S('S1'!F17,'S2'!F17,'S3'!F17,'S4'!F17,'S5'!F17,'S6'!F17,'S7'!F17,'S8'!F17,'S9'!F17,'S10'!F17,'S11'!F17,'S12'!F17,'S13'!F17,'S14'!F17,'S15'!F17,'S16'!F17,'S17'!F17,'S18'!F17,'S19'!F17,'S20'!F17) -> 8.7175452 | S17: =_xlfn.STDEV.S('S1'!G17,'S2'!G17,'S3'!G17,'S4'!G17,'S5'!G17,'S6'!G17,'S7'!G17,'S8'!G17,'S9'!G17,'S10'!G17,'S11'!G17,'S12'!G17,'S13'!G17,'S14'!G17,'S15'!G17,'S16'!G17,'S17'!G17,'S18'!G17,'S19'!G17,'S20'!G17) -> 8.688977 | T17: =_xlfn.STDEV.S('S1'!H17,'S2'!H17,'S3'!H17,'S4'!H17,'S5'!H17,'S6'!H17,'S7'!H17,'S8'!H17,'S9'!H17,'S10'!H17,'S11'!H17,'S12'!H17,'S13'!H17,'S14'!H17,'S15'!H17,'S16'!H17,'S17'!H17,'S18'!H17,'S19'!H17,'S20'!H17) -> 13.316918 | U17: =_xlfn.STDEV.S('S1'!I17,'S2'!I17,'S3'!I17,'S4'!I17,'S5'!I17,'S6'!I17,'S7'!I17,'S8'!I17,'S9'!I17,'S10'!I17,'S11'!I17,'S12'!I17,'S13'!I17,'S14'!I17,'S15'!I17,'S16'!I17,'S17'!I17,'S18'!I17,'S19'!I17,'S20'!I17) -> 5.1012661 | V17: =_xlfn.STDEV.S('S1'!J17,'S2'!J17,'S3'!J17,'S4'!J17,'S5'!J17,'S6'!J17,'S7'!J17,'S8'!J17,'S9'!J17,'S10'!J17,'S11'!J17,'S12'!J17,'S13'!J17,'S14'!J17,'S15'!J17,'S16'!J17,'S17'!J17,'S18'!J17,'S19'!J17,'S20'!J17) -> 5.0062995 | W17: =_xlfn.STDEV.S('S1'!K17,'S2'!K17,'S3'!K17,'S4'!K17,'S5'!K17,'S6'!K17,'S7'!K17,'S8'!K17,'S9'!K17,'S10'!K17,'S11'!K17,'S12'!K17,'S13'!K17,'S14'!K17,'S15'!K17,'S16'!K17,'S17'!K17,'S18'!K17,'S19'!K17,'S20'!K17) -> 5.0684556 | X17: =_xlfn.STDEV.S('S1'!L17,'S2'!L17,'S3'!L17,'S4'!L17,'S5'!L17,'S6'!L17,'S7'!L17,'S8'!L17,'S9'!L17,'S10'!L17,'S11'!L17,'S12'!L17,'S13'!L17,'S14'!L17,'S15'!L17,'S16'!L17,'S17'!L17,'S18'!L17,'S19'!L17,'S20'!L17) -> 11.35819
D18: RF | E18: =AVERAGE('S1'!E18,'S2'!E18,'S3'!E18,'S4'!E18,'S5'!E18,'S6'!E18,'S7'!E18,'S8'!E18,'S9'!E18,'S10'!E18,'S11'!E18,'S12'!E18,'S13'!E18,'S14'!E18,'S15'!E18,'S16'!E18,'S17'!E18,'S18'!E18,'S19'!E18,'S20'!E18) -> 85.981825 | F18: =AVERAGE('S1'!F18,'S2'!F18,'S3'!F18,'S4'!F18,'S5'!F18,'S6'!F18,'S7'!F18,'S8'!F18,'S9'!F18,'S10'!F18,'S11'!F18,'S12'!F18,'S13'!F18,'S14'!F18,'S15'!F18,'S16'!F18,'S17'!F18,'S18'!F18,'S19'!F18,'S20'!F18) -> 86.298161 | G18: =AVERAGE('S1'!G18,'S2'!G18,'S3'!G18,'S4'!G18,'S5'!G18,'S6'!G18,'S7'!G18,'S8'!G18,'S9'!G18,'S10'!G18,'S11'!G18,'S12'!G18,'S13'!G18,'S14'!G18,'S15'!G18,'S16'!G18,'S17'!G18,'S18'!G18,'S19'!G18,'S20'!G18) -> 85.91975 | H18: =AVERAGE('S1'!H18,'S2'!H18,'S3'!H18,'S4'!H18,'S5'!H18,'S6'!H18,'S7'!H18,'S8'!H18,'S9'!H18,'S10'!H18,'S11'!H18,'S12'!H18,'S13'!H18,'S14'!H18,'S15'!H18,'S16'!H18,'S17'!H18,'S18'!H18,'S19'!H18,'S20'!H18) -> 69.163111 | I18: =AVERAGE('S1'!I18,'S2'!I18,'S3'!I18,'S4'!I18,'S5'!I18,'S6'!I18,'S7'!I18,'S8'!I18,'S9'!I18,'S10'!I18,'S11'!I18,'S12'!I18,'S13'!I18,'S14'!I18,'S15'!I18,'S16'!I18,'S17'!I18,'S18'!I18,'S19'!I18,'S20'!I18) -> 94.292318 | J18: =AVERAGE('S1'!J18,'S2'!J18,'S3'!J18,'S4'!J18,'S5'!J18,'S6'!J18,'S7'!J18,'S8'!J18,'S9'!J18,'S10'!J18,'S11'!J18,'S12'!J18,'S13'!J18,'S14'!J18,'S15'!J18,'S16'!J18,'S17'!J18,'S18'!J18,'S19'!J18,'S20'!J18) -> 94.744833 | K18: =AVERAGE('S1'!K18,'S2'!K18,'S3'!K18,'S4'!K18,'S5'!K18,'S6'!K18,'S7'!K18,'S8'!K18,'S9'!K18,'S10'!K18,'S11'!K18,'S12'!K18,'S13'!K18,'S14'!K18,'S15'!K18,'S16'!K18,'S17'!K18,'S18'!K18,'S19'!K18,'S20'!K18) -> 94.273255 | L18: =AVERAGE('S1'!L18,'S2'!L18,'S3'!L18,'S4'!L18,'S5'!L18,'S6'!L18,'S7'!L18,'S8'!L18,'S9'!L18,'S10'!L18,'S11'!L18,'S12'!L18,'S13'!L18,'S14'!L18,'S15'!L18,'S16'!L18,'S17'!L18,'S18'!L18,'S19'!L18,'S20'!L18) -> 69.183694 | P18: RF | Q18: =_xlfn.STDEV.S('S1'!E18,'S2'!E18,'S3'!E18,'S4'!E18,'S5'!E18,'S6'!E18,'S7'!E18,'S8'!E18,'S9'!E18,'S10'!E18,'S11'!E18,'S12'!E18,'S13'!E18,'S14'!E18,'S15'!E18,'S16'!E18,'S17'!E18,'S18'!E18,'S19'!E18,'S20'!E18) -> 4.1624466 | R18: =_xlfn.STDEV.S('S1'!F18,'S2'!F18,'S3'!F18,'S4'!F18,'S5'!F18,'S6'!F18,'S7'!F18,'S8'!F18,'S9'!F18,'S10'!F18,'S11'!F18,'S12'!F18,'S13'!F18,'S14'!F18,'S15'!F18,'S16'!F18,'S17'!F18,'S18'!F18,'S19'!F18,'S20'!F18) -> 4.4017479 | S18: =_xlfn.STDEV.S('S1'!G18,'S2'!G18,'S3'!G18,'S4'!G18,'S5'!G18,'S6'!G18,'S7'!G18,'S8'!G18,'S9'!G18,'S10'!G18,'S11'!G18,'S12'!G18,'S13'!G18,'S14'!G18,'S15'!G18,'S16'!G18,'S17'!G18,'S18'!G18,'S19'!G18,'S20'!G18) -> 4.3364808 | T18: =_xlfn.STDEV.S('S1'!H18,'S2'!H18,'S3'!H18,'S4'!H18,'S5'!H18,'S6'!H18,'S7'!H18,'S8'!H18,'S9'!H18,'S10'!H18,'S11'!H18,'S12'!H18,'S13'!H18,'S14'!H18,'S15'!H18,'S16'!H18,'S17'!H18,'S18'!H18,'S19'!H18,'S20'!H18) -> 8.62623 | U18: =_xlfn.STDEV.S('S1'!I18,'S2'!I18,'S3'!I18,'S4'!I18,'S5'!I18,'S6'!I18,'S7'!I18,'S8'!I18,'S9'!I18,'S10'!I18,'S11'!I18,'S12'!I18,'S13'!I18,'S14'!I18,'S15'!I18,'S16'!I18,'S17'!I18,'S18'!I18,'S19'!I18,'S20'!I18) -> 1.7372695 | V18: =_xlfn.STDEV.S('S1'!J18,'S2'!J18,'S3'!J18,'S4'!J18,'S5'!J18,'S6'!J18,'S7'!J18,'S8'!J18,'S9'!J18,'S10'!J18,'S11'!J18,'S12'!J18,'S13'!J18,'S14'!J18,'S15'!J18,'S16'!J18,'S17'!J18,'S18'!J18,'S19'!J18,'S20'!J18) -> 1.4585404 | W18: =_xlfn.STDEV.S('S1'!K18,'S2'!K18,'S3'!K18,'S4'!K18,'S5'!K18,'S6'!K18,'S7'!K18,'S8'!K18,'S9'!K18,'S10'!K18,'S11'!K18,'S12'!K18,'S13'!K18,'S14'!K18,'S15'!K18,'S16'!K18,'S17'!K18,'S18'!K18,'S19'!K18,'S20'!K18) -> 1.5852734 | X18: =_xlfn.STDEV.S('S1'!L18,'S2'!L18,'S3'!L18,'S4'!L18,'S5'!L18,'S6'!L18,'S7'!L18,'S8'!L18,'S9'!L18,'S10'!L18,'S11'!L18,'S12'!L18,'S13'!L18,'S14'!L18,'S15'!L18,'S16'!L18,'S17'!L18,'S18'!L18,'S19'!L18,'S20'!L18) -> 10.001203
D19: DT | E19: =AVERAGE('S1'!E19,'S2'!E19,'S3'!E19,'S4'!E19,'S5'!E19,'S6'!E19,'S7'!E19,'S8'!E19,'S9'!E19,'S10'!E19,'S11'!E19,'S12'!E19,'S13'!E19,'S14'!E19,'S15'!E19,'S16'!E19,'S17'!E19,'S18'!E19,'S19'!E19,'S20'!E19) -> 79.81045 | F19: =AVERAGE('S1'!F19,'S2'!F19,'S3'!F19,'S4'!F19,'S5'!F19,'S6'!F19,'S7'!F19,'S8'!F19,'S9'!F19,'S10'!F19,'S11'!F19,'S12'!F19,'S13'!F19,'S14'!F19,'S15'!F19,'S16'!F19,'S17'!F19,'S18'!F19,'S19'!F19,'S20'!F19) -> 80.140552 | G19: =AVERAGE('S1'!G19,'S2'!G19,'S3'!G19,'S4'!G19,'S5'!G19,'S6'!G19,'S7'!G19,'S8'!G19,'S9'!G19,'S10'!G19,'S11'!G19,'S12'!G19,'S13'!G19,'S14'!G19,'S15'!G19,'S16'!G19,'S17'!G19,'S18'!G19,'S19'!G19,'S20'!G19) -> 79.768145 | H19: =AVERAGE('S1'!H19,'S2'!H19,'S3'!H19,'S4'!H19,'S5'!H19,'S6'!H19,'S7'!H19,'S8'!H19,'S9'!H19,'S10'!H19,'S11'!H19,'S12'!H19,'S13'!H19,'S14'!H19,'S15'!H19,'S16'!H19,'S17'!H19,'S18'!H19,'S19'!H19,'S20'!H19) -> 62.643014 | I19: =AVERAGE('S1'!I19,'S2'!I19,'S3'!I19,'S4'!I19,'S5'!I19,'S6'!I19,'S7'!I19,'S8'!I19,'S9'!I19,'S10'!I19,'S11'!I19,'S12'!I19,'S13'!I19,'S14'!I19,'S15'!I19,'S16'!I19,'S17'!I19,'S18'!I19,'S19'!I19,'S20'!I19) -> 93.097722 | J19: =AVERAGE('S1'!J19,'S2'!J19,'S3'!J19,'S4'!J19,'S5'!J19,'S6'!J19,'S7'!J19,'S8'!J19,'S9'!J19,'S10'!J19,'S11'!J19,'S12'!J19,'S13'!J19,'S14'!J19,'S15'!J19,'S16'!J19,'S17'!J19,'S18'!J19,'S19'!J19,'S20'!J19) -> 93.548689 | K19: =AVERAGE('S1'!K19,'S2'!K19,'S3'!K19,'S4'!K19,'S5'!K19,'S6'!K19,'S7'!K19,'S8'!K19,'S9'!K19,'S10'!K19,'S11'!K19,'S12'!K19,'S13'!K19,'S14'!K19,'S15'!K19,'S16'!K19,'S17'!K19,'S18'!K19,'S19'!K19,'S20'!K19) -> 93.066045 | L19: =AVERAGE('S1'!L19,'S2'!L19,'S3'!L19,'S4'!L19,'S5'!L19,'S6'!L19,'S7'!L19,'S8'!L19,'S9'!L19,'S10'!L19,'S11'!L19,'S12'!L19,'S13'!L19,'S14'!L19,'S15'!L19,'S16'!L19,'S17'!L19,'S18'!L19,'S19'!L19,'S20'!L19) -> 67.831376 | P19: DT | Q19: =_xlfn.STDEV.S('S1'!E19,'S2'!E19,'S3'!E19,'S4'!E19,'S5'!E19,'S6'!E19,'S7'!E19,'S8'!E19,'S9'!E19,'S10'!E19,'S11'!E19,'S12'!E19,'S13'!E19,'S14'!E19,'S15'!E19,'S16'!E19,'S17'!E19,'S18'!E19,'S19'!E19,'S20'!E19) -> 5.6343263 | R19: =_xlfn.STDEV.S('S1'!F19,'S2'!F19,'S3'!F19,'S4'!F19,'S5'!F19,'S6'!F19,'S7'!F19,'S8'!F19,'S9'!F19,'S10'!F19,'S11'!F19,'S12'!F19,'S13'!F19,'S14'!F19,'S15'!F19,'S16'!F19,'S17'!F19,'S18'!F19,'S19'!F19,'S20'!F19) -> 5.9396059 | S19: =_xlfn.STDEV.S('S1'!G19,'S2'!G19,'S3'!G19,'S4'!G19,'S5'!G19,'S6'!G19,'S7'!G19,'S8'!G19,'S9'!G19,'S10'!G19,'S11'!G19,'S12'!G19,'S13'!G19,'S14'!G19,'S15'!G19,'S16'!G19,'S17'!G19,'S18'!G19,'S19'!G19,'S20'!G19) -> 5.867042 | T19: =_xlfn.STDEV.S('S1'!H19,'S2'!H19,'S3'!H19,'S4'!H19,'S5'!H19,'S6'!H19,'S7'!H19,'S8'!H19,'S9'!H19,'S10'!H19,'S11'!H19,'S12'!H19,'S13'!H19,'S14'!H19,'S15'!H19,'S16'!H19,'S17'!H19,'S18'!H19,'S19'!H19,'S20'!H19) -> 9.3075913 | U19: =_xlfn.STDEV.S('S1'!I19,'S2'!I19,'S3'!I19,'S4'!I19,'S5'!I19,'S6'!I19,'S7'!I19,'S8'!I19,'S9'!I19,'S10'!I19,'S11'!I19,'S12'!I19,'S13'!I19,'S14'!I19,'S15'!I19,'S16'!I19,'S17'!I19,'S18'!I19,'S19'!I19,'S20'!I19) -> 1.8665365 | V19: =_xlfn.STDEV.S('S1'!J19,'S2'!J19,'S3'!J19,'S4'!J19,'S5'!J19,'S6'!J19,'S7'!J19,'S8'!J19,'S9'!J19,'S10'!J19,'S11'!J19,'S12'!J19,'S13'!J19,'S14'!J19,'S15'!J19,'S16'!J19,'S17'!J19,'S18'!J19,'S19'!J19,'S20'!J19) -> 1.5794382 | W19: =_xlfn.STDEV.S('S1'!K19,'S2'!K19,'S3'!K19,'S4'!K19,'S5'!K19,'S6'!K19,'S7'!K19,'S8'!K19,'S9'!K19,'S10'!K19,'S11'!K19,'S12'!K19,'S13'!K19,'S14'!K19,'S15'!K19,'S16'!K19,'S17'!K19,'S18'!K19,'S19'!K19,'S20'!K19) -> 1.6957657 | X19: =_xlfn.STDEV.S('S1'!L19,'S2'!L19,'S3'!L19,'S4'!L19,'S5'!L19,'S6'!L19,'S7'!L19,'S8'!L19,'S9'!L19,'S10'!L19,'S11'!L19,'S12'!L19,'S13'!L19,'S14'!L19,'S15'!L19,'S16'!L19,'S17'!L19,'S18'!L19,'S19'!L19,'S20'!L19) -> 9.9880319
D20: NN | E20: =AVERAGE('S1'!E20,'S2'!E20,'S3'!E20,'S4'!E20,'S5'!E20,'S6'!E20,'S7'!E20,'S8'!E20,'S9'!E20,'S10'!E20,'S11'!E20,'S12'!E20,'S13'!E20,'S14'!E20,'S15'!E20,'S16'!E20,'S17'!E20,'S18'!E20,'S19'!E20,'S20'!E20) -> 33 | F20: =AVERAGE('S1'!F20,'S2'!F20,'S3'!F20,'S4'!F20,'S5'!F20,'S6'!F20,'S7'!F20,'S8'!F20,'S9'!F20,'S10'!F20,'S11'!F20,'S12'!F20,'S13'!F20,'S14'!F20,'S15'!F20,'S16'!F20,'S17'!F20,'S18'!F20,'S19'!F20,'S20'!F20) -> 33 | G20: =AVERAGE('S1'!G20,'S2'!G20,'S3'!G20,'S4'!G20,'S5'!G20,'S6'!G20,'S7'!G20,'S8'!G20,'S9'!G20,'S10'!G20,'S11'!G20,'S12'!G20,'S13'!G20,'S14'!G20,'S15'!G20,'S16'!G20,'S17'!G20,'S18'!G20,'S19'!G20,'S20'!G20) -> 33 | H20: =AVERAGE('S1'!H20,'S2'!H20,'S3'!H20,'S4'!H20,'S5'!H20,'S6'!H20,'S7'!H20,'S8'!H20,'S9'!H20,'S10'!H20,'S11'!H20,'S12'!H20,'S13'!H20,'S14'!H20,'S15'!H20,'S16'!H20,'S17'!H20,'S18'!H20,'S19'!H20,'S20'!H20) -> 33 | I20: =AVERAGE('S1'!I20,'S2'!I20,'S3'!I20,'S4'!I20,'S5'!I20,'S6'!I20,'S7'!I20,'S8'!I20,'S9'!I20,'S10'!I20,'S11'!I20,'S12'!I20,'S13'!I20,'S14'!I20,'S15'!I20,'S16'!I20,'S17'!I20,'S18'!I20,'S19'!I20,'S20'!I20) -> 40.198166 | J20: =AVERAGE('S1'!J20,'S2'!J20,'S3'!J20,'S4'!J20,'S5'!J20,'S6'!J20,'S7'!J20,'S8'!J20,'S9'!J20,'S10'!J20,'S11'!J20,'S12'!J20,'S13'!J20,'S14'!J20,'S15'!J20,'S16'!J20,'S17'!J20,'S18'!J20,'S19'!J20,'S20'!J20) -> 40.214653 | K20: =AVERAGE('S1'!K20,'S2'!K20,'S3'!K20,'S4'!K20,'S5'!K20,'S6'!K20,'S7'!K20,'S8'!K20,'S9'!K20,'S10'!K20,'S11'!K20,'S12'!K20,'S13'!K20,'S14'!K20,'S15'!K20,'S16'!K20,'S17'!K20,'S18'!K20,'S19'!K20,'S20'!K20) -> 40.146605 | L20: =AVERAGE('S1'!L20,'S2'!L20,'S3'!L20,'S4'!L20,'S5'!L20,'S6'!L20,'S7'!L20,'S8'!L20,'S9'!L20,'S10'!L20,'S11'!L20,'S12'!L20,'S13'!L20,'S14'!L20,'S15'!L20,'S16'!L20,'S17'!L20,'S18'!L20,'S19'!L20,'S20'!L20) -> 34.721827 | P20: NN | Q20: =_xlfn.STDEV.S('S1'!E20,'S2'!E20,'S3'!E20,'S4'!E20,'S5'!E20,'S6'!E20,'S7'!E20,'S8'!E20,'S9'!E20,'S10'!E20,'S11'!E20,'S12'!E20,'S13'!E20,'S14'!E20,'S15'!E20,'S16'!E20,'S17'!E20,'S18'!E20,'S19'!E20,'S20'!E20) -> 0 | R20: =_xlfn.STDEV.S('S1'!F20,'S2'!F20,'S3'!F20,'S4'!F20,'S5'!F20,'S6'!F20,'S7'!F20,'S8'!F20,'S9'!F20,'S10'!F20,'S11'!F20,'S12'!F20,'S13'!F20,'S14'!F20,'S15'!F20,'S16'!F20,'S17'!F20,'S18'!F20,'S19'!F20,'S20'!F20) -> 0 | S20: =_xlfn.STDEV.S('S1'!G20,'S2'!G20,'S3'!G20,'S4'!G20,'S5'!G20,'S6'!G20,'S7'!G20,'S8'!G20,'S9'!G20,'S10'!G20,'S11'!G20,'S12'!G20,'S13'!G20,'S14'!G20,'S15'!G20,'S16'!G20,'S17'!G20,'S18'!G20,'S19'!G20,'S20'!G20) -> 0 | T20: =_xlfn.STDEV.S('S1'!H20,'S2'!H20,'S3'!H20,'S4'!H20,'S5'!H20,'S6'!H20,'S7'!H20,'S8'!H20,'S9'!H20,'S10'!H20,'S11'!H20,'S12'!H20,'S13'!H20,'S14'!H20,'S15'!H20,'S16'!H20,'S17'!H20,'S18'!H20,'S19'!H20,'S20'!H20) -> 0 | U20: =_xlfn.STDEV.S('S1'!I20,'S2'!I20,'S3'!I20,'S4'!I20,'S5'!I20,'S6'!I20,'S7'!I20,'S8'!I20,'S9'!I20,'S10'!I20,'S11'!I20,'S12'!I20,'S13'!I20,'S14'!I20,'S15'!I20,'S16'!I20,'S17'!I20,'S18'!I20,'S19'!I20,'S20'!I20) -> 14.957292 | V20: =_xlfn.STDEV.S('S1'!J20,'S2'!J20,'S3'!J20,'S4'!J20,'S5'!J20,'S6'!J20,'S7'!J20,'S8'!J20,'S9'!J20,'S10'!J20,'S11'!J20,'S12'!J20,'S13'!J20,'S14'!J20,'S15'!J20,'S16'!J20,'S17'!J20,'S18'!J20,'S19'!J20,'S20'!J20) -> 14.987364 | W20: =_xlfn.STDEV.S('S1'!K20,'S2'!K20,'S3'!K20,'S4'!K20,'S5'!K20,'S6'!K20,'S7'!K20,'S8'!K20,'S9'!K20,'S10'!K20,'S11'!K20,'S12'!K20,'S13'!K20,'S14'!K20,'S15'!K20,'S16'!K20,'S17'!K20,'S18'!K20,'S19'!K20,'S20'!K20) -> 14.855342 | X20: =_xlfn.STDEV.S('S1'!L20,'S2'!L20,'S3'!L20,'S4'!L20,'S5'!L20,'S6'!L20,'S7'!L20,'S8'!L20,'S9'!L20,'S10'!L20,'S11'!L20,'S12'!L20,'S13'!L20,'S14'!L20,'S15'!L20,'S16'!L20,'S17'!L20,'S18'!L20,'S19'!L20,'S20'!L20) -> 5.1518467
C21: 150 | D21: XGB | E21: =AVERAGE('S1'!E21,'S2'!E21,'S3'!E21,'S4'!E21,'S5'!E21,'S6'!E21,'S7'!E21,'S8'!E21,'S9'!E21,'S10'!E21,'S11'!E21,'S12'!E21,'S13'!E21,'S14'!E21,'S15'!E21,'S16'!E21,'S17'!E21,'S18'!E21,'S19'!E21,'S20'!E21) -> 81.127443 | F21: =AVERAGE('S1'!F21,'S2'!F21,'S3'!F21,'S4'!F21,'S5'!F21,'S6'!F21,'S7'!F21,'S8'!F21,'S9'!F21,'S10'!F21,'S11'!F21,'S12'!F21,'S13'!F21,'S14'!F21,'S15'!F21,'S16'!F21,'S17'!F21,'S18'!F21,'S19'!F21,'S20'!F21) -> 81.314245 | G21: =AVERAGE('S1'!G21,'S2'!G21,'S3'!G21,'S4'!G21,'S5'!G21,'S6'!G21,'S7'!G21,'S8'!G21,'S9'!G21,'S10'!G21,'S11'!G21,'S12'!G21,'S13'!G21,'S14'!G21,'S15'!G21,'S16'!G21,'S17'!G21,'S18'!G21,'S19'!G21,'S20'!G21) -> 80.958533 | H21: =AVERAGE('S1'!H21,'S2'!H21,'S3'!H21,'S4'!H21,'S5'!H21,'S6'!H21,'S7'!H21,'S8'!H21,'S9'!H21,'S10'!H21,'S11'!H21,'S12'!H21,'S13'!H21,'S14'!H21,'S15'!H21,'S16'!H21,'S17'!H21,'S18'!H21,'S19'!H21,'S20'!H21) -> 61.225725 | I21: =AVERAGE('S1'!I21,'S2'!I21,'S3'!I21,'S4'!I21,'S5'!I21,'S6'!I21,'S7'!I21,'S8'!I21,'S9'!I21,'S10'!I21,'S11'!I21,'S12'!I21,'S13'!I21,'S14'!I21,'S15'!I21,'S16'!I21,'S17'!I21,'S18'!I21,'S19'!I21,'S20'!I21) -> 89.178761 | J21: =AVERAGE('S1'!J21,'S2'!J21,'S3'!J21,'S4'!J21,'S5'!J21,'S6'!J21,'S7'!J21,'S8'!J21,'S9'!J21,'S10'!J21,'S11'!J21,'S12'!J21,'S13'!J21,'S14'!J21,'S15'!J21,'S16'!J21,'S17'!J21,'S18'!J21,'S19'!J21,'S20'!J21) -> 89.421294 | K21: =AVERAGE('S1'!K21,'S2'!K21,'S3'!K21,'S4'!K21,'S5'!K21,'S6'!K21,'S7'!K21,'S8'!K21,'S9'!K21,'S10'!K21,'S11'!K21,'S12'!K21,'S13'!K21,'S14'!K21,'S15'!K21,'S16'!K21,'S17'!K21,'S18'!K21,'S19'!K21,'S20'!K21) -> 89.04526 | L21: =AVERAGE('S1'!L21,'S2'!L21,'S3'!L21,'S4'!L21,'S5'!L21,'S6'!L21,'S7'!L21,'S8'!L21,'S9'!L21,'S10'!L21,'S11'!L21,'S12'!L21,'S13'!L21,'S14'!L21,'S15'!L21,'S16'!L21,'S17'!L21,'S18'!L21,'S19'!L21,'S20'!L21) -> 66.299309 | O21: 150 | P21: XGB | Q21: =_xlfn.STDEV.S('S1'!E21,'S2'!E21,'S3'!E21,'S4'!E21,'S5'!E21,'S6'!E21,'S7'!E21,'S8'!E21,'S9'!E21,'S10'!E21,'S11'!E21,'S12'!E21,'S13'!E21,'S14'!E21,'S15'!E21,'S16'!E21,'S17'!E21,'S18'!E21,'S19'!E21,'S20'!E21) -> 7.5565047 | R21: =_xlfn.STDEV.S('S1'!F21,'S2'!F21,'S3'!F21,'S4'!F21,'S5'!F21,'S6'!F21,'S7'!F21,'S8'!F21,'S9'!F21,'S10'!F21,'S11'!F21,'S12'!F21,'S13'!F21,'S14'!F21,'S15'!F21,'S16'!F21,'S17'!F21,'S18'!F21,'S19'!F21,'S20'!F21) -> 7.5966362 | S21: =_xlfn.STDEV.S('S1'!G21,'S2'!G21,'S3'!G21,'S4'!G21,'S5'!G21,'S6'!G21,'S7'!G21,'S8'!G21,'S9'!G21,'S10'!G21,'S11'!G21,'S12'!G21,'S13'!G21,'S14'!G21,'S15'!G21,'S16'!G21,'S17'!G21,'S18'!G21,'S19'!G21,'S20'!G21) -> 7.6191544 | T21: =_xlfn.STDEV.S('S1'!H21,'S2'!H21,'S3'!H21,'S4'!H21,'S5'!H21,'S6'!H21,'S7'!H21,'S8'!H21,'S9'!H21,'S10'!H21,'S11'!H21,'S12'!H21,'S13'!H21,'S14'!H21,'S15'!H21,'S16'!H21,'S17'!H21,'S18'!H21,'S19'!H21,'S20'!H21) -> 11.660406 | U21: =_xlfn.STDEV.S('S1'!I21,'S2'!I21,'S3'!I21,'S4'!I21,'S5'!I21,'S6'!I21,'S7'!I21,'S8'!I21,'S9'!I21,'S10'!I21,'S11'!I21,'S12'!I21,'S13'!I21,'S14'!I21,'S15'!I21,'S16'!I21,'S17'!I21,'S18'!I21,'S19'!I21,'S20'!I21) -> 4.590355 | V21: =_xlfn.STDEV.S('S1'!J21,'S2'!J21,'S3'!J21,'S4'!J21,'S5'!J21,'S6'!J21,'S7'!J21,'S8'!J21,'S9'!J21,'S10'!J21,'S11'!J21,'S12'!J21,'S13'!J21,'S14'!J21,'S15'!J21,'S16'!J21,'S17'!J21,'S18'!J21,'S19'!J21,'S20'!J21) -> 4.5906522 | W21: =_xlfn.STDEV.S('S1'!K21,'S2'!K21,'S3'!K21,'S4'!K21,'S5'!K21,'S6'!K21,'S7'!K21,'S8'!K21,'S9'!K21,'S10'!K21,'S11'!K21,'S12'!K21,'S13'!K21,'S14'!K21,'S15'!K21,'S16'!K21,'S17'!K21,'S18'!K21,'S19'!K21,'S20'!K21) -> 4.61899 | X21: =_xlfn.STDEV.S('S1'!L21,'S2'!L21,'S3'!L21,'S4'!L21,'S5'!L21,'S6'!L21,'S7'!L21,'S8'!L21,'S9'!L21,'S10'!L21,'S11'!L21,'S12'!L21,'S13'!L21,'S14'!L21,'S15'!L21,'S16'!L21,'S17'!L21,'S18'!L21,'S19'!L21,'S20'!L21) -> 13.823818
D22: RF | E22: =AVERAGE('S1'!E22,'S2'!E22,'S3'!E22,'S4'!E22,'S5'!E22,'S6'!E22,'S7'!E22,'S8'!E22,'S9'!E22,'S10'!E22,'S11'!E22,'S12'!E22,'S13'!E22,'S14'!E22,'S15'!E22,'S16'!E22,'S17'!E22,'S18'!E22,'S19'!E22,'S20'!E22) -> 90.874795 | F22: =AVERAGE('S1'!F22,'S2'!F22,'S3'!F22,'S4'!F22,'S5'!F22,'S6'!F22,'S7'!F22,'S8'!F22,'S9'!F22,'S10'!F22,'S11'!F22,'S12'!F22,'S13'!F22,'S14'!F22,'S15'!F22,'S16'!F22,'S17'!F22,'S18'!F22,'S19'!F22,'S20'!F22) -> 91.046832 | G22: =AVERAGE('S1'!G22,'S2'!G22,'S3'!G22,'S4'!G22,'S5'!G22,'S6'!G22,'S7'!G22,'S8'!G22,'S9'!G22,'S10'!G22,'S11'!G22,'S12'!G22,'S13'!G22,'S14'!G22,'S15'!G22,'S16'!G22,'S17'!G22,'S18'!G22,'S19'!G22,'S20'!G22) -> 90.750116 | H22: =AVERAGE('S1'!H22,'S2'!H22,'S3'!H22,'S4'!H22,'S5'!H22,'S6'!H22,'S7'!H22,'S8'!H22,'S9'!H22,'S10'!H22,'S11'!H22,'S12'!H22,'S13'!H22,'S14'!H22,'S15'!H22,'S16'!H22,'S17'!H22,'S18'!H22,'S19'!H22,'S20'!H22) -> 73.188396 | I22: =AVERAGE('S1'!I22,'S2'!I22,'S3'!I22,'S4'!I22,'S5'!I22,'S6'!I22,'S7'!I22,'S8'!I22,'S9'!I22,'S10'!I22,'S11'!I22,'S12'!I22,'S13'!I22,'S14'!I22,'S15'!I22,'S16'!I22,'S17'!I22,'S18'!I22,'S19'!I22,'S20'!I22) -> 96.28538 | J22: =AVERAGE('S1'!J22,'S2'!J22,'S3'!J22,'S4'!J22,'S5'!J22,'S6'!J22,'S7'!J22,'S8'!J22,'S9'!J22,'S10'!J22,'S11'!J22,'S12'!J22,'S13'!J22,'S14'!J22,'S15'!J22,'S16'!J22,'S17'!J22,'S18'!J22,'S19'!J22,'S20'!J22) -> 96.516044 | K22: =AVERAGE('S1'!K22,'S2'!K22,'S3'!K22,'S4'!K22,'S5'!K22,'S6'!K22,'S7'!K22,'S8'!K22,'S9'!K22,'S10'!K22,'S11'!K22,'S12'!K22,'S13'!K22,'S14'!K22,'S15'!K22,'S16'!K22,'S17'!K22,'S18'!K22,'S19'!K22,'S20'!K22) -> 96.144701 | L22: =AVERAGE('S1'!L22,'S2'!L22,'S3'!L22,'S4'!L22,'S5'!L22,'S6'!L22,'S7'!L22,'S8'!L22,'S9'!L22,'S10'!L22,'S11'!L22,'S12'!L22,'S13'!L22,'S14'!L22,'S15'!L22,'S16'!L22,'S17'!L22,'S18'!L22,'S19'!L22,'S20'!L22) -> 74.29297 | P22: RF | Q22: =_xlfn.STDEV.S('S1'!E22,'S2'!E22,'S3'!E22,'S4'!E22,'S5'!E22,'S6'!E22,'S7'!E22,'S8'!E22,'S9'!E22,'S10'!E22,'S11'!E22,'S12'!E22,'S13'!E22,'S14'!E22,'S15'!E22,'S16'!E22,'S17'!E22,'S18'!E22,'S19'!E22,'S20'!E22) -> 3.0437529 | R22: =_xlfn.STDEV.S('S1'!F22,'S2'!F22,'S3'!F22,'S4'!F22,'S5'!F22,'S6'!F22,'S7'!F22,'S8'!F22,'S9'!F22,'S10'!F22,'S11'!F22,'S12'!F22,'S13'!F22,'S14'!F22,'S15'!F22,'S16'!F22,'S17'!F22,'S18'!F22,'S19'!F22,'S20'!F22) -> 3.1155824 | S22: =_xlfn.STDEV.S('S1'!G22,'S2'!G22,'S3'!G22,'S4'!G22,'S5'!G22,'S6'!G22,'S7'!G22,'S8'!G22,'S9'!G22,'S10'!G22,'S11'!G22,'S12'!G22,'S13'!G22,'S14'!G22,'S15'!G22,'S16'!G22,'S17'!G22,'S18'!G22,'S19'!G22,'S20'!G22) -> 3.1059324 | T22: =_xlfn.STDEV.S('S1'!H22,'S2'!H22,'S3'!H22,'S4'!H22,'S5'!H22,'S6'!H22,'S7'!H22,'S8'!H22,'S9'!H22,'S10'!H22,'S11'!H22,'S12'!H22,'S13'!H22,'S14'!H22,'S15'!H22,'S16'!H22,'S17'!H22,'S18'!H22,'S19'!H22,'S20'!H22) -> 8.6231254 | U22: =_xlfn.STDEV.S('S1'!I22,'S2'!I22,'S3'!I22,'S4'!I22,'S5'!I22,'S6'!I22,'S7'!I22,'S8'!I22,'S9'!I22,'S10'!I22,'S11'!I22,'S12'!I22,'S13'!I22,'S14'!I22,'S15'!I22,'S16'!I22,'S17'!I22,'S18'!I22,'S19'!I22,'S20'!I22) -> 1.2501381 | V22: =_xlfn.STDEV.S('S1'!J22,'S2'!J22,'S3'!J22,'S4'!J22,'S5'!J22,'S6'!J22,'S7'!J22,'S8'!J22,'S9'!J22,'S10'!J22,'S11'!J22,'S12'!J22,'S13'!J22,'S14'!J22,'S15'!J22,'S16'!J22,'S17'!J22,'S18'!J22,'S19'!J22,'S20'!J22) -> 1.1493401 | W22: =_xlfn.STDEV.S('S1'!K22,'S2'!K22,'S3'!K22,'S4'!K22,'S5'!K22,'S6'!K22,'S7'!K22,'S8'!K22,'S9'!K22,'S10'!K22,'S11'!K22,'S12'!K22,'S13'!K22,'S14'!K22,'S15'!K22,'S16'!K22,'S17'!K22,'S18'!K22,'S19'!K22,'S20'!K22) -> 1.2428032 | X22: =_xlfn.STDEV.S('S1'!L22,'S2'!L22,'S3'!L22,'S4'!L22,'S5'!L22,'S6'!L22,'S7'!L22,'S8'!L22,'S9'!L22,'S10'!L22,'S11'!L22,'S12'!L22,'S13'!L22,'S14'!L22,'S15'!L22,'S16'!L22,'S17'!L22,'S18'!L22,'S19'!L22,'S20'!L22) -> 13.044682
D23: DT | E23: =AVERAGE('S1'!E23,'S2'!E23,'S3'!E23,'S4'!E23,'S5'!E23,'S6'!E23,'S7'!E23,'S8'!E23,'S9'!E23,'S10'!E23,'S11'!E23,'S12'!E23,'S13'!E23,'S14'!E23,'S15'!E23,'S16'!E23,'S17'!E23,'S18'!E23,'S19'!E23,'S20'!E23) -> 85.324608 | F23: =AVERAGE('S1'!F23,'S2'!F23,'S3'!F23,'S4'!F23,'S5'!F23,'S6'!F23,'S7'!F23,'S8'!F23,'S9'!F23,'S10'!F23,'S11'!F23,'S12'!F23,'S13'!F23,'S14'!F23,'S15'!F23,'S16'!F23,'S17'!F23,'S18'!F23,'S19'!F23,'S20'!F23) -> 85.49732 | G23: =AVERAGE('S1'!G23,'S2'!G23,'S3'!G23,'S4'!G23,'S5'!G23,'S6'!G23,'S7'!G23,'S8'!G23,'S9'!G23,'S10'!G23,'S11'!G23,'S12'!G23,'S13'!G23,'S14'!G23,'S15'!G23,'S16'!G23,'S17'!G23,'S18'!G23,'S19'!G23,'S20'!G23) -> 85.222304 | H23: =AVERAGE('S1'!H23,'S2'!H23,'S3'!H23,'S4'!H23,'S5'!H23,'S6'!H23,'S7'!H23,'S8'!H23,'S9'!H23,'S10'!H23,'S11'!H23,'S12'!H23,'S13'!H23,'S14'!H23,'S15'!H23,'S16'!H23,'S17'!H23,'S18'!H23,'S19'!H23,'S20'!H23) -> 67.718914 | I23: =AVERAGE('S1'!I23,'S2'!I23,'S3'!I23,'S4'!I23,'S5'!I23,'S6'!I23,'S7'!I23,'S8'!I23,'S9'!I23,'S10'!I23,'S11'!I23,'S12'!I23,'S13'!I23,'S14'!I23,'S15'!I23,'S16'!I23,'S17'!I23,'S18'!I23,'S19'!I23,'S20'!I23) -> 95.023061 | J23: =AVERAGE('S1'!J23,'S2'!J23,'S3'!J23,'S4'!J23,'S5'!J23,'S6'!J23,'S7'!J23,'S8'!J23,'S9'!J23,'S10'!J23,'S11'!J23,'S12'!J23,'S13'!J23,'S14'!J23,'S15'!J23,'S16'!J23,'S17'!J23,'S18'!J23,'S19'!J23,'S20'!J23) -> 95.2652 | K23: =AVERAGE('S1'!K23,'S2'!K23,'S3'!K23,'S4'!K23,'S5'!K23,'S6'!K23,'S7'!K23,'S8'!K23,'S9'!K23,'S10'!K23,'S11'!K23,'S12'!K23,'S13'!K23,'S14'!K23,'S15'!K23,'S16'!K23,'S17'!K23,'S18'!K23,'S19'!K23,'S20'!K23) -> 94.894255 | L23: =AVERAGE('S1'!L23,'S2'!L23,'S3'!L23,'S4'!L23,'S5'!L23,'S6'!L23,'S7'!L23,'S8'!L23,'S9'!L23,'S10'!L23,'S11'!L23,'S12'!L23,'S13'!L23,'S14'!L23,'S15'!L23,'S16'!L23,'S17'!L23,'S18'!L23,'S19'!L23,'S20'!L23) -> 73.020217 | P23: DT | Q23: =_xlfn.STDEV.S('S1'!E23,'S2'!E23,'S3'!E23,'S4'!E23,'S5'!E23,'S6'!E23,'S7'!E23,'S8'!E23,'S9'!E23,'S10'!E23,'S11'!E23,'S12'!E23,'S13'!E23,'S14'!E23,'S15'!E23,'S16'!E23,'S17'!E23,'S18'!E23,'S19'!E23,'S20'!E23) -> 5.0035989 | R23: =_xlfn.STDEV.S('S1'!F23,'S2'!F23,'S3'!F23,'S4'!F23,'S5'!F23,'S6'!F23,'S7'!F23,'S8'!F23,'S9'!F23,'S10'!F23,'S11'!F23,'S12'!F23,'S13'!F23,'S14'!F23,'S15'!F23,'S16'!F23,'S17'!F23,'S18'!F23,'S19'!F23,'S20'!F23) -> 5.0929883 | S23: =_xlfn.STDEV.S('S1'!G23,'S2'!G23,'S3'!G23,'S4'!G23,'S5'!G23,'S6'!G23,'S7'!G23,'S8'!G23,'S9'!G23,'S10'!G23,'S11'!G23,'S12'!G23,'S13'!G23,'S14'!G23,'S15'!G23,'S16'!G23,'S17'!G23,'S18'!G23,'S19'!G23,'S20'!G23) -> 5.0712258 | T23: =_xlfn.STDEV.S('S1'!H23,'S2'!H23,'S3'!H23,'S4'!H23,'S5'!H23,'S6'!H23,'S7'!H23,'S8'!H23,'S9'!H23,'S10'!H23,'S11'!H23,'S12'!H23,'S13'!H23,'S14'!H23,'S15'!H23,'S16'!H23,'S17'!H23,'S18'!H23,'S19'!H23,'S20'!H23) -> 8.8593457 | U23: =_xlfn.STDEV.S('S1'!I23,'S2'!I23,'S3'!I23,'S4'!I23,'S5'!I23,'S6'!I23,'S7'!I23,'S8'!I23,'S9'!I23,'S10'!I23,'S11'!I23,'S12'!I23,'S13'!I23,'S14'!I23,'S15'!I23,'S16'!I23,'S17'!I23,'S18'!I23,'S19'!I23,'S20'!I23) -> 1.4026096 | V23: =_xlfn.STDEV.S('S1'!J23,'S2'!J23,'S3'!J23,'S4'!J23,'S5'!J23,'S6'!J23,'S7'!J23,'S8'!J23,'S9'!J23,'S10'!J23,'S11'!J23,'S12'!J23,'S13'!J23,'S14'!J23,'S15'!J23,'S16'!J23,'S17'!J23,'S18'!J23,'S19'!J23,'S20'!J23) -> 1.3399598 | W23: =_xlfn.STDEV.S('S1'!K23,'S2'!K23,'S3'!K23,'S4'!K23,'S5'!K23,'S6'!K23,'S7'!K23,'S8'!K23,'S9'!K23,'S10'!K23,'S11'!K23,'S12'!K23,'S13'!K23,'S14'!K23,'S15'!K23,'S16'!K23,'S17'!K23,'S18'!K23,'S19'!K23,'S20'!K23) -> 1.4068774 | X23: =_xlfn.STDEV.S('S1'!L23,'S2'!L23,'S3'!L23,'S4'!L23,'S5'!L23,'S6'!L23,'S7'!L23,'S8'!L23,'S9'!L23,'S10'!L23,'S11'!L23,'S12'!L23,'S13'!L23,'S14'!L23,'S15'!L23,'S16'!L23,'S17'!L23,'S18'!L23,'S19'!L23,'S20'!L23) -> 12.952839
D24: NN | E24: =AVERAGE('S1'!E24,'S2'!E24,'S3'!E24,'S4'!E24,'S5'!E24,'S6'!E24,'S7'!E24,'S8'!E24,'S9'!E24,'S10'!E24,'S11'!E24,'S12'!E24,'S13'!E24,'S14'!E24,'S15'!E24,'S16'!E24,'S17'!E24,'S18'!E24,'S19'!E24,'S20'!E24) -> 46.802366 | F24: =AVERAGE('S1'!F24,'S2'!F24,'S3'!F24,'S4'!F24,'S5'!F24,'S6'!F24,'S7'!F24,'S8'!F24,'S9'!F24,'S10'!F24,'S11'!F24,'S12'!F24,'S13'!F24,'S14'!F24,'S15'!F24,'S16'!F24,'S17'!F24,'S18'!F24,'S19'!F24,'S20'!F24) -> 46.902346 | G24: =AVERAGE('S1'!G24,'S2'!G24,'S3'!G24,'S4'!G24,'S5'!G24,'S6'!G24,'S7'!G24,'S8'!G24,'S9'!G24,'S10'!G24,'S11'!G24,'S12'!G24,'S13'!G24,'S14'!G24,'S15'!G24,'S16'!G24,'S17'!G24,'S18'!G24,'S19'!G24,'S20'!G24) -> 46.768996 | H24: =AVERAGE('S1'!H24,'S2'!H24,'S3'!H24,'S4'!H24,'S5'!H24,'S6'!H24,'S7'!H24,'S8'!H24,'S9'!H24,'S10'!H24,'S11'!H24,'S12'!H24,'S13'!H24,'S14'!H24,'S15'!H24,'S16'!H24,'S17'!H24,'S18'!H24,'S19'!H24,'S20'!H24) -> 39.098743 | I24: =AVERAGE('S1'!I24,'S2'!I24,'S3'!I24,'S4'!I24,'S5'!I24,'S6'!I24,'S7'!I24,'S8'!I24,'S9'!I24,'S10'!I24,'S11'!I24,'S12'!I24,'S13'!I24,'S14'!I24,'S15'!I24,'S16'!I24,'S17'!I24,'S18'!I24,'S19'!I24,'S20'!I24) -> 64.751773 | J24: =AVERAGE('S1'!J24,'S2'!J24,'S3'!J24,'S4'!J24,'S5'!J24,'S6'!J24,'S7'!J24,'S8'!J24,'S9'!J24,'S10'!J24,'S11'!J24,'S12'!J24,'S13'!J24,'S14'!J24,'S15'!J24,'S16'!J24,'S17'!J24,'S18'!J24,'S19'!J24,'S20'!J24) -> 64.966164 | K24: =AVERAGE('S1'!K24,'S2'!K24,'S3'!K24,'S4'!K24,'S5'!K24,'S6'!K24,'S7'!K24,'S8'!K24,'S9'!K24,'S10'!K24,'S11'!K24,'S12'!K24,'S13'!K24,'S14'!K24,'S15'!K24,'S16'!K24,'S17'!K24,'S18'!K24,'S19'!K24,'S20'!K24) -> 64.669581 | L24: =AVERAGE('S1'!L24,'S2'!L24,'S3'!L24,'S4'!L24,'S5'!L24,'S6'!L24,'S7'!L24,'S8'!L24,'S9'!L24,'S10'!L24,'S11'!L24,'S12'!L24,'S13'!L24,'S14'!L24,'S15'!L24,'S16'!L24,'S17'!L24,'S18'!L24,'S19'!L24,'S20'!L24) -> 46.226162 | P24: NN | Q24: =_xlfn.STDEV.S('S1'!E24,'S2'!E24,'S3'!E24,'S4'!E24,'S5'!E24,'S6'!E24,'S7'!E24,'S8'!E24,'S9'!E24,'S10'!E24,'S11'!E24,'S12'!E24,'S13'!E24,'S14'!E24,'S15'!E24,'S16'!E24,'S17'!E24,'S18'!E24,'S19'!E24,'S20'!E24) -> 19.467102 | R24: =_xlfn.STDEV.S('S1'!F24,'S2'!F24,'S3'!F24,'S4'!F24,'S5'!F24,'S6'!F24,'S7'!F24,'S8'!F24,'S9'!F24,'S10'!F24,'S11'!F24,'S12'!F24,'S13'!F24,'S14'!F24,'S15'!F24,'S16'!F24,'S17'!F24,'S18'!F24,'S19'!F24,'S20'!F24) -> 19.563025 | S24: =_xlfn.STDEV.S('S1'!G24,'S2'!G24,'S3'!G24,'S4'!G24,'S5'!G24,'S6'!G24,'S7'!G24,'S8'!G24,'S9'!G24,'S10'!G24,'S11'!G24,'S12'!G24,'S13'!G24,'S14'!G24,'S15'!G24,'S16'!G24,'S17'!G24,'S18'!G24,'S19'!G24,'S20'!G24) -> 19.47142 | T24: =_xlfn.STDEV.S('S1'!H24,'S2'!H24,'S3'!H24,'S4'!H24,'S5'!H24,'S6'!H24,'S7'!H24,'S8'!H24,'S9'!H24,'S10'!H24,'S11'!H24,'S12'!H24,'S13'!H24,'S14'!H24,'S15'!H24,'S16'!H24,'S17'!H24,'S18'!H24,'S19'!H24,'S20'!H24) -> 16.902637 | U24: =_xlfn.STDEV.S('S1'!I24,'S2'!I24,'S3'!I24,'S4'!I24,'S5'!I24,'S6'!I24,'S7'!I24,'S8'!I24,'S9'!I24,'S10'!I24,'S11'!I24,'S12'!I24,'S13'!I24,'S14'!I24,'S15'!I24,'S16'!I24,'S17'!I24,'S18'!I24,'S19'!I24,'S20'!I24) -> 15.912574 | V24: =_xlfn.STDEV.S('S1'!J24,'S2'!J24,'S3'!J24,'S4'!J24,'S5'!J24,'S6'!J24,'S7'!J24,'S8'!J24,'S9'!J24,'S10'!J24,'S11'!J24,'S12'!J24,'S13'!J24,'S14'!J24,'S15'!J24,'S16'!J24,'S17'!J24,'S18'!J24,'S19'!J24,'S20'!J24) -> 15.929491 | W24: =_xlfn.STDEV.S('S1'!K24,'S2'!K24,'S3'!K24,'S4'!K24,'S5'!K24,'S6'!K24,'S7'!K24,'S8'!K24,'S9'!K24,'S10'!K24,'S11'!K24,'S12'!K24,'S13'!K24,'S14'!K24,'S15'!K24,'S16'!K24,'S17'!K24,'S18'!K24,'S19'!K24,'S20'!K24) -> 15.863396 | X24: =_xlfn.STDEV.S('S1'!L24,'S2'!L24,'S3'!L24,'S4'!L24,'S5'!L24,'S6'!L24,'S7'!L24,'S8'!L24,'S9'!L24,'S10'!L24,'S11'!L24,'S12'!L24,'S13'!L24,'S14'!L24,'S15'!L24,'S16'!L24,'S17'!L24,'S18'!L24,'S19'!L24,'S20'!L24) -> 18.05682
C25: 200 | D25: XGB | E25: =AVERAGE('S1'!E25,'S2'!E25,'S3'!E25,'S4'!E25,'S5'!E25,'S6'!E25,'S7'!E25,'S8'!E25,'S9'!E25,'S10'!E25,'S11'!E25,'S12'!E25,'S13'!E25,'S14'!E25,'S15'!E25,'S16'!E25,'S17'!E25,'S18'!E25,'S19'!E25,'S20'!E25) -> 87.181349 | F25: =AVERAGE('S1'!F25,'S2'!F25,'S3'!F25,'S4'!F25,'S5'!F25,'S6'!F25,'S7'!F25,'S8'!F25,'S9'!F25,'S10'!F25,'S11'!F25,'S12'!F25,'S13'!F25,'S14'!F25,'S15'!F25,'S16'!F25,'S17'!F25,'S18'!F25,'S19'!F25,'S20'!F25) -> 87.300356 | G25: =AVERAGE('S1'!G25,'S2'!G25,'S3'!G25,'S4'!G25,'S5'!G25,'S6'!G25,'S7'!G25,'S8'!G25,'S9'!G25,'S10'!G25,'S11'!G25,'S12'!G25,'S13'!G25,'S14'!G25,'S15'!G25,'S16'!G25,'S17'!G25,'S18'!G25,'S19'!G25,'S20'!G25) -> 86.962878 | H25: =AVERAGE('S1'!H25,'S2'!H25,'S3'!H25,'S4'!H25,'S5'!H25,'S6'!H25,'S7'!H25,'S8'!H25,'S9'!H25,'S10'!H25,'S11'!H25,'S12'!H25,'S13'!H25,'S14'!H25,'S15'!H25,'S16'!H25,'S17'!H25,'S18'!H25,'S19'!H25,'S20'!H25) -> 74.158101 | I25: =AVERAGE('S1'!I25,'S2'!I25,'S3'!I25,'S4'!I25,'S5'!I25,'S6'!I25,'S7'!I25,'S8'!I25,'S9'!I25,'S10'!I25,'S11'!I25,'S12'!I25,'S13'!I25,'S14'!I25,'S15'!I25,'S16'!I25,'S17'!I25,'S18'!I25,'S19'!I25,'S20'!I25) -> 93.045837 | J25: =AVERAGE('S1'!J25,'S2'!J25,'S3'!J25,'S4'!J25,'S5'!J25,'S6'!J25,'S7'!J25,'S8'!J25,'S9'!J25,'S10'!J25,'S11'!J25,'S12'!J25,'S13'!J25,'S14'!J25,'S15'!J25,'S16'!J25,'S17'!J25,'S18'!J25,'S19'!J25,'S20'!J25) -> 93.226895 | K25: =AVERAGE('S1'!K25,'S2'!K25,'S3'!K25,'S4'!K25,'S5'!K25,'S6'!K25,'S7'!K25,'S8'!K25,'S9'!K25,'S10'!K25,'S11'!K25,'S12'!K25,'S13'!K25,'S14'!K25,'S15'!K25,'S16'!K25,'S17'!K25,'S18'!K25,'S19'!K25,'S20'!K25) -> 92.905489 | L25: =AVERAGE('S1'!L25,'S2'!L25,'S3'!L25,'S4'!L25,'S5'!L25,'S6'!L25,'S7'!L25,'S8'!L25,'S9'!L25,'S10'!L25,'S11'!L25,'S12'!L25,'S13'!L25,'S14'!L25,'S15'!L25,'S16'!L25,'S17'!L25,'S18'!L25,'S19'!L25,'S20'!L25) -> 73.852722 | O25: 200 | P25: XGB | Q25: =_xlfn.STDEV.S('S1'!E25,'S2'!E25,'S3'!E25,'S4'!E25,'S5'!E25,'S6'!E25,'S7'!E25,'S8'!E25,'S9'!E25,'S10'!E25,'S11'!E25,'S12'!E25,'S13'!E25,'S14'!E25,'S15'!E25,'S16'!E25,'S17'!E25,'S18'!E25,'S19'!E25,'S20'!E25) -> 6.5320215 | R25: =_xlfn.STDEV.S('S1'!F25,'S2'!F25,'S3'!F25,'S4'!F25,'S5'!F25,'S6'!F25,'S7'!F25,'S8'!F25,'S9'!F25,'S10'!F25,'S11'!F25,'S12'!F25,'S13'!F25,'S14'!F25,'S15'!F25,'S16'!F25,'S17'!F25,'S18'!F25,'S19'!F25,'S20'!F25) -> 6.5758498 | S25: =_xlfn.STDEV.S('S1'!G25,'S2'!G25,'S3'!G25,'S4'!G25,'S5'!G25,'S6'!G25,'S7'!G25,'S8'!G25,'S9'!G25,'S10'!G25,'S11'!G25,'S12'!G25,'S13'!G25,'S14'!G25,'S15'!G25,'S16'!G25,'S17'!G25,'S18'!G25,'S19'!G25,'S20'!G25) -> 6.5136389 | T25: =_xlfn.STDEV.S('S1'!H25,'S2'!H25,'S3'!H25,'S4'!H25,'S5'!H25,'S6'!H25,'S7'!H25,'S8'!H25,'S9'!H25,'S10'!H25,'S11'!H25,'S12'!H25,'S13'!H25,'S14'!H25,'S15'!H25,'S16'!H25,'S17'!H25,'S18'!H25,'S19'!H25,'S20'!H25) -> 12.948609 | U25: =_xlfn.STDEV.S('S1'!I25,'S2'!I25,'S3'!I25,'S4'!I25,'S5'!I25,'S6'!I25,'S7'!I25,'S8'!I25,'S9'!I25,'S10'!I25,'S11'!I25,'S12'!I25,'S13'!I25,'S14'!I25,'S15'!I25,'S16'!I25,'S17'!I25,'S18'!I25,'S19'!I25,'S20'!I25) -> 3.4650165 | V25: =_xlfn.STDEV.S('S1'!J25,'S2'!J25,'S3'!J25,'S4'!J25,'S5'!J25,'S6'!J25,'S7'!J25,'S8'!J25,'S9'!J25,'S10'!J25,'S11'!J25,'S12'!J25,'S13'!J25,'S14'!J25,'S15'!J25,'S16'!J25,'S17'!J25,'S18'!J25,'S19'!J25,'S20'!J25) -> 3.5139397 | W25: =_xlfn.STDEV.S('S1'!K25,'S2'!K25,'S3'!K25,'S4'!K25,'S5'!K25,'S6'!K25,'S7'!K25,'S8'!K25,'S9'!K25,'S10'!K25,'S11'!K25,'S12'!K25,'S13'!K25,'S14'!K25,'S15'!K25,'S16'!K25,'S17'!K25,'S18'!K25,'S19'!K25,'S20'!K25) -> 3.5144995 | X25: =_xlfn.STDEV.S('S1'!L25,'S2'!L25,'S3'!L25,'S4'!L25,'S5'!L25,'S6'!L25,'S7'!L25,'S8'!L25,'S9'!L25,'S10'!L25,'S11'!L25,'S12'!L25,'S13'!L25,'S14'!L25,'S15'!L25,'S16'!L25,'S17'!L25,'S18'!L25,'S19'!L25,'S20'!L25) -> 16.209987
D26: RF | E26: =AVERAGE('S1'!E26,'S2'!E26,'S3'!E26,'S4'!E26,'S5'!E26,'S6'!E26,'S7'!E26,'S8'!E26,'S9'!E26,'S10'!E26,'S11'!E26,'S12'!E26,'S13'!E26,'S14'!E26,'S15'!E26,'S16'!E26,'S17'!E26,'S18'!E26,'S19'!E26,'S20'!E26) -> 93.300843 | F26: =AVERAGE('S1'!F26,'S2'!F26,'S3'!F26,'S4'!F26,'S5'!F26,'S6'!F26,'S7'!F26,'S8'!F26,'S9'!F26,'S10'!F26,'S11'!F26,'S12'!F26,'S13'!F26,'S14'!F26,'S15'!F26,'S16'!F26,'S17'!F26,'S18'!F26,'S19'!F26,'S20'!F26) -> 93.397394 | G26: =AVERAGE('S1'!G26,'S2'!G26,'S3'!G26,'S4'!G26,'S5'!G26,'S6'!G26,'S7'!G26,'S8'!G26,'S9'!G26,'S10'!G26,'S11'!G26,'S12'!G26,'S13'!G26,'S14'!G26,'S15'!G26,'S16'!G26,'S17'!G26,'S18'!G26,'S19'!G26,'S20'!G26) -> 93.091154 | H26: =AVERAGE('S1'!H26,'S2'!H26,'S3'!H26,'S4'!H26,'S5'!H26,'S6'!H26,'S7'!H26,'S8'!H26,'S9'!H26,'S10'!H26,'S11'!H26,'S12'!H26,'S13'!H26,'S14'!H26,'S15'!H26,'S16'!H26,'S17'!H26,'S18'!H26,'S19'!H26,'S20'!H26) -> 81.38941 | I26: =AVERAGE('S1'!I26,'S2'!I26,'S3'!I26,'S4'!I26,'S5'!I26,'S6'!I26,'S7'!I26,'S8'!I26,'S9'!I26,'S10'!I26,'S11'!I26,'S12'!I26,'S13'!I26,'S14'!I26,'S15'!I26,'S16'!I26,'S17'!I26,'S18'!I26,'S19'!I26,'S20'!I26) -> 97.384904 | J26: =AVERAGE('S1'!J26,'S2'!J26,'S3'!J26,'S4'!J26,'S5'!J26,'S6'!J26,'S7'!J26,'S8'!J26,'S9'!J26,'S10'!J26,'S11'!J26,'S12'!J26,'S13'!J26,'S14'!J26,'S15'!J26,'S16'!J26,'S17'!J26,'S18'!J26,'S19'!J26,'S20'!J26) -> 97.558578 | K26: =AVERAGE('S1'!K26,'S2'!K26,'S3'!K26,'S4'!K26,'S5'!K26,'S6'!K26,'S7'!K26,'S8'!K26,'S9'!K26,'S10'!K26,'S11'!K26,'S12'!K26,'S13'!K26,'S14'!K26,'S15'!K26,'S16'!K26,'S17'!K26,'S18'!K26,'S19'!K26,'S20'!K26) -> 97.249423 | L26: =AVERAGE('S1'!L26,'S2'!L26,'S3'!L26,'S4'!L26,'S5'!L26,'S6'!L26,'S7'!L26,'S8'!L26,'S9'!L26,'S10'!L26,'S11'!L26,'S12'!L26,'S13'!L26,'S14'!L26,'S15'!L26,'S16'!L26,'S17'!L26,'S18'!L26,'S19'!L26,'S20'!L26) -> 78.726718 | P26: RF | Q26: =_xlfn.STDEV.S('S1'!E26,'S2'!E26,'S3'!E26,'S4'!E26,'S5'!E26,'S6'!E26,'S7'!E26,'S8'!E26,'S9'!E26,'S10'!E26,'S11'!E26,'S12'!E26,'S13'!E26,'S14'!E26,'S15'!E26,'S16'!E26,'S17'!E26,'S18'!E26,'S19'!E26,'S20'!E26) -> 2.7102415 | R26: =_xlfn.STDEV.S('S1'!F26,'S2'!F26,'S3'!F26,'S4'!F26,'S5'!F26,'S6'!F26,'S7'!F26,'S8'!F26,'S9'!F26,'S10'!F26,'S11'!F26,'S12'!F26,'S13'!F26,'S14'!F26,'S15'!F26,'S16'!F26,'S17'!F26,'S18'!F26,'S19'!F26,'S20'!F26) -> 2.7614088 | S26: =_xlfn.STDEV.S('S1'!G26,'S2'!G26,'S3'!G26,'S4'!G26,'S5'!G26,'S6'!G26,'S7'!G26,'S8'!G26,'S9'!G26,'S10'!G26,'S11'!G26,'S12'!G26,'S13'!G26,'S14'!G26,'S15'!G26,'S16'!G26,'S17'!G26,'S18'!G26,'S19'!G26,'S20'!G26) -> 2.6607005 | T26: =_xlfn.STDEV.S('S1'!H26,'S2'!H26,'S3'!H26,'S4'!H26,'S5'!H26,'S6'!H26,'S7'!H26,'S8'!H26,'S9'!H26,'S10'!H26,'S11'!H26,'S12'!H26,'S13'!H26,'S14'!H26,'S15'!H26,'S16'!H26,'S17'!H26,'S18'!H26,'S19'!H26,'S20'!H26) -> 10.889585 | U26: =_xlfn.STDEV.S('S1'!I26,'S2'!I26,'S3'!I26,'S4'!I26,'S5'!I26,'S6'!I26,'S7'!I26,'S8'!I26,'S9'!I26,'S10'!I26,'S11'!I26,'S12'!I26,'S13'!I26,'S14'!I26,'S15'!I26,'S16'!I26,'S17'!I26,'S18'!I26,'S19'!I26,'S20'!I26) -> 0.91246534 | V26: =_xlfn.STDEV.S('S1'!J26,'S2'!J26,'S3'!J26,'S4'!J26,'S5'!J26,'S6'!J26,'S7'!J26,'S8'!J26,'S9'!J26,'S10'!J26,'S11'!J26,'S12'!J26,'S13'!J26,'S14'!J26,'S15'!J26,'S16'!J26,'S17'!J26,'S18'!J26,'S19'!J26,'S20'!J26) -> 0.88211629 | W26: =_xlfn.STDEV.S('S1'!K26,'S2'!K26,'S3'!K26,'S4'!K26,'S5'!K26,'S6'!K26,'S7'!K26,'S8'!K26,'S9'!K26,'S10'!K26,'S11'!K26,'S12'!K26,'S13'!K26,'S14'!K26,'S15'!K26,'S16'!K26,'S17'!K26,'S18'!K26,'S19'!K26,'S20'!K26) -> 0.94547802 | X26: =_xlfn.STDEV.S('S1'!L26,'S2'!L26,'S3'!L26,'S4'!L26,'S5'!L26,'S6'!L26,'S7'!L26,'S8'!L26,'S9'!L26,'S10'!L26,'S11'!L26,'S12'!L26,'S13'!L26,'S14'!L26,'S15'!L26,'S16'!L26,'S17'!L26,'S18'!L26,'S19'!L26,'S20'!L26) -> 14.739838
D27: DT | E27: =AVERAGE('S1'!E27,'S2'!E27,'S3'!E27,'S4'!E27,'S5'!E27,'S6'!E27,'S7'!E27,'S8'!E27,'S9'!E27,'S10'!E27,'S11'!E27,'S12'!E27,'S13'!E27,'S14'!E27,'S15'!E27,'S16'!E27,'S17'!E27,'S18'!E27,'S19'!E27,'S20'!E27) -> 88.571186 | F27: =AVERAGE('S1'!F27,'S2'!F27,'S3'!F27,'S4'!F27,'S5'!F27,'S6'!F27,'S7'!F27,'S8'!F27,'S9'!F27,'S10'!F27,'S11'!F27,'S12'!F27,'S13'!F27,'S14'!F27,'S15'!F27,'S16'!F27,'S17'!F27,'S18'!F27,'S19'!F27,'S20'!F27) -> 88.66822 | G27: =AVERAGE('S1'!G27,'S2'!G27,'S3'!G27,'S4'!G27,'S5'!G27,'S6'!G27,'S7'!G27,'S8'!G27,'S9'!G27,'S10'!G27,'S11'!G27,'S12'!G27,'S13'!G27,'S14'!G27,'S15'!G27,'S16'!G27,'S17'!G27,'S18'!G27,'S19'!G27,'S20'!G27) -> 88.381546 | H27: =AVERAGE('S1'!H27,'S2'!H27,'S3'!H27,'S4'!H27,'S5'!H27,'S6'!H27,'S7'!H27,'S8'!H27,'S9'!H27,'S10'!H27,'S11'!H27,'S12'!H27,'S13'!H27,'S14'!H27,'S15'!H27,'S16'!H27,'S17'!H27,'S18'!H27,'S19'!H27,'S20'!H27) -> 76.744834 | I27: =AVERAGE('S1'!I27,'S2'!I27,'S3'!I27,'S4'!I27,'S5'!I27,'S6'!I27,'S7'!I27,'S8'!I27,'S9'!I27,'S10'!I27,'S11'!I27,'S12'!I27,'S13'!I27,'S14'!I27,'S15'!I27,'S16'!I27,'S17'!I27,'S18'!I27,'S19'!I27,'S20'!I27) -> 96.220531 | J27: =AVERAGE('S1'!J27,'S2'!J27,'S3'!J27,'S4'!J27,'S5'!J27,'S6'!J27,'S7'!J27,'S8'!J27,'S9'!J27,'S10'!J27,'S11'!J27,'S12'!J27,'S13'!J27,'S14'!J27,'S15'!J27,'S16'!J27,'S17'!J27,'S18'!J27,'S19'!J27,'S20'!J27) -> 96.403847 | K27: =AVERAGE('S1'!K27,'S2'!K27,'S3'!K27,'S4'!K27,'S5'!K27,'S6'!K27,'S7'!K27,'S8'!K27,'S9'!K27,'S10'!K27,'S11'!K27,'S12'!K27,'S13'!K27,'S14'!K27,'S15'!K27,'S16'!K27,'S17'!K27,'S18'!K27,'S19'!K27,'S20'!K27) -> 96.096516 | L27: =AVERAGE('S1'!L27,'S2'!L27,'S3'!L27,'S4'!L27,'S5'!L27,'S6'!L27,'S7'!L27,'S8'!L27,'S9'!L27,'S10'!L27,'S11'!L27,'S12'!L27,'S13'!L27,'S14'!L27,'S15'!L27,'S16'!L27,'S17'!L27,'S18'!L27,'S19'!L27,'S20'!L27) -> 77.701593 | P27: DT | Q27: =_xlfn.STDEV.S('S1'!E27,'S2'!E27,'S3'!E27,'S4'!E27,'S5'!E27,'S6'!E27,'S7'!E27,'S8'!E27,'S9'!E27,'S10'!E27,'S11'!E27,'S12'!E27,'S13'!E27,'S14'!E27,'S15'!E27,'S16'!E27,'S17'!E27,'S18'!E27,'S19'!E27,'S20'!E27) -> 4.7205601 | R27: =_xlfn.STDEV.S('S1'!F27,'S2'!F27,'S3'!F27,'S4'!F27,'S5'!F27,'S6'!F27,'S7'!F27,'S8'!F27,'S9'!F27,'S10'!F27,'S11'!F27,'S12'!F27,'S13'!F27,'S14'!F27,'S15'!F27,'S16'!F27,'S17'!F27,'S18'!F27,'S19'!F27,'S20'!F27) -> 4.7777092 | S27: =_xlfn.STDEV.S('S1'!G27,'S2'!G27,'S3'!G27,'S4'!G27,'S5'!G27,'S6'!G27,'S7'!G27,'S8'!G27,'S9'!G27,'S10'!G27,'S11'!G27,'S12'!G27,'S13'!G27,'S14'!G27,'S15'!G27,'S16'!G27,'S17'!G27,'S18'!G27,'S19'!G27,'S20'!G27) -> 4.6473294 | T27: =_xlfn.STDEV.S('S1'!H27,'S2'!H27,'S3'!H27,'S4'!H27,'S5'!H27,'S6'!H27,'S7'!H27,'S8'!H27,'S9'!H27,'S10'!H27,'S11'!H27,'S12'!H27,'S13'!H27,'S14'!H27,'S15'!H27,'S16'!H27,'S17'!H27,'S18'!H27,'S19'!H27,'S20'!H27) -> 11.09517 | U27: =_xlfn.STDEV.S('S1'!I27,'S2'!I27,'S3'!I27,'S4'!I27,'S5'!I27,'S6'!I27,'S7'!I27,'S8'!I27,'S9'!I27,'S10'!I27,'S11'!I27,'S12'!I27,'S13'!I27,'S14'!I27,'S15'!I27,'S16'!I27,'S17'!I27,'S18'!I27,'S19'!I27,'S20'!I27) -> 1.4852707 | V27: =_xlfn.STDEV.S('S1'!J27,'S2'!J27,'S3'!J27,'S4'!J27,'S5'!J27,'S6'!J27,'S7'!J27,'S8'!J27,'S9'!J27,'S10'!J27,'S11'!J27,'S12'!J27,'S13'!J27,'S14'!J27,'S15'!J27,'S16'!J27,'S17'!J27,'S18'!J27,'S19'!J27,'S20'!J27) -> 1.4764928 | W27: =_xlfn.STDEV.S('S1'!K27,'S2'!K27,'S3'!K27,'S4'!K27,'S5'!K27,'S6'!K27,'S7'!K27,'S8'!K27,'S9'!K27,'S10'!K27,'S11'!K27,'S12'!K27,'S13'!K27,'S14'!K27,'S15'!K27,'S16'!K27,'S17'!K27,'S18'!K27,'S19'!K27,'S20'!K27) -> 1.5243688 | X27: =_xlfn.STDEV.S('S1'!L27,'S2'!L27,'S3'!L27,'S4'!L27,'S5'!L27,'S6'!L27,'S7'!L27,'S8'!L27,'S9'!L27,'S10'!L27,'S11'!L27,'S12'!L27,'S13'!L27,'S14'!L27,'S15'!L27,'S16'!L27,'S17'!L27,'S18'!L27,'S19'!L27,'S20'!L27) -> 14.813929
D28: NN | E28: =AVERAGE('S1'!E28,'S2'!E28,'S3'!E28,'S4'!E28,'S5'!E28,'S6'!E28,'S7'!E28,'S8'!E28,'S9'!E28,'S10'!E28,'S11'!E28,'S12'!E28,'S13'!E28,'S14'!E28,'S15'!E28,'S16'!E28,'S17'!E28,'S18'!E28,'S19'!E28,'S20'!E28) -> 51.121613 | F28: =AVERAGE('S1'!F28,'S2'!F28,'S3'!F28,'S4'!F28,'S5'!F28,'S6'!F28,'S7'!F28,'S8'!F28,'S9'!F28,'S10'!F28,'S11'!F28,'S12'!F28,'S13'!F28,'S14'!F28,'S15'!F28,'S16'!F28,'S17'!F28,'S18'!F28,'S19'!F28,'S20'!F28) -> 51.186157 | G28: =AVERAGE('S1'!G28,'S2'!G28,'S3'!G28,'S4'!G28,'S5'!G28,'S6'!G28,'S7'!G28,'S8'!G28,'S9'!G28,'S10'!G28,'S11'!G28,'S12'!G28,'S13'!G28,'S14'!G28,'S15'!G28,'S16'!G28,'S17'!G28,'S18'!G28,'S19'!G28,'S20'!G28) -> 51.000162 | H28: =AVERAGE('S1'!H28,'S2'!H28,'S3'!H28,'S4'!H28,'S5'!H28,'S6'!H28,'S7'!H28,'S8'!H28,'S9'!H28,'S10'!H28,'S11'!H28,'S12'!H28,'S13'!H28,'S14'!H28,'S15'!H28,'S16'!H28,'S17'!H28,'S18'!H28,'S19'!H28,'S20'!H28) -> 44.898749 | I28: =AVERAGE('S1'!I28,'S2'!I28,'S3'!I28,'S4'!I28,'S5'!I28,'S6'!I28,'S7'!I28,'S8'!I28,'S9'!I28,'S10'!I28,'S11'!I28,'S12'!I28,'S13'!I28,'S14'!I28,'S15'!I28,'S16'!I28,'S17'!I28,'S18'!I28,'S19'!I28,'S20'!I28) -> 70.615043 | J28: =AVERAGE('S1'!J28,'S2'!J28,'S3'!J28,'S4'!J28,'S5'!J28,'S6'!J28,'S7'!J28,'S8'!J28,'S9'!J28,'S10'!J28,'S11'!J28,'S12'!J28,'S13'!J28,'S14'!J28,'S15'!J28,'S16'!J28,'S17'!J28,'S18'!J28,'S19'!J28,'S20'!J28) -> 70.780963 | K28: =AVERAGE('S1'!K28,'S2'!K28,'S3'!K28,'S4'!K28,'S5'!K28,'S6'!K28,'S7'!K28,'S8'!K28,'S9'!K28,'S10'!K28,'S11'!K28,'S12'!K28,'S13'!K28,'S14'!K28,'S15'!K28,'S16'!K28,'S17'!K28,'S18'!K28,'S19'!K28,'S20'!K28) -> 70.496943 | L28: =AVERAGE('S1'!L28,'S2'!L28,'S3'!L28,'S4'!L28,'S5'!L28,'S6'!L28,'S7'!L28,'S8'!L28,'S9'!L28,'S10'!L28,'S11'!L28,'S12'!L28,'S13'!L28,'S14'!L28,'S15'!L28,'S16'!L28,'S17'!L28,'S18'!L28,'S19'!L28,'S20'!L28) -> 52.732677 | P28: NN | Q28: =_xlfn.STDEV.S('S1'!E28,'S2'!E28,'S3'!E28,'S4'!E28,'S5'!E28,'S6'!E28,'S7'!E28,'S8'!E28,'S9'!E28,'S10'!E28,'S11'!E28,'S12'!E28,'S13'!E28,'S14'!E28,'S15'!E28,'S16'!E28,'S17'!E28,'S18'!E28,'S19'!E28,'S20'!E28) -> 22.707534 | R28: =_xlfn.STDEV.S('S1'!F28,'S2'!F28,'S3'!F28,'S4'!F28,'S5'!F28,'S6'!F28,'S7'!F28,'S8'!F28,'S9'!F28,'S10'!F28,'S11'!F28,'S12'!F28,'S13'!F28,'S14'!F28,'S15'!F28,'S16'!F28,'S17'!F28,'S18'!F28,'S19'!F28,'S20'!F28) -> 22.718826 | S28: =_xlfn.STDEV.S('S1'!G28,'S2'!G28,'S3'!G28,'S4'!G28,'S5'!G28,'S6'!G28,'S7'!G28,'S8'!G28,'S9'!G28,'S10'!G28,'S11'!G28,'S12'!G28,'S13'!G28,'S14'!G28,'S15'!G28,'S16'!G28,'S17'!G28,'S18'!G28,'S19'!G28,'S20'!G28) -> 22.630945 | T28: =_xlfn.STDEV.S('S1'!H28,'S2'!H28,'S3'!H28,'S4'!H28,'S5'!H28,'S6'!H28,'S7'!H28,'S8'!H28,'S9'!H28,'S10'!H28,'S11'!H28,'S12'!H28,'S13'!H28,'S14'!H28,'S15'!H28,'S16'!H28,'S17'!H28,'S18'!H28,'S19'!H28,'S20'!H28) -> 19.589408 | U28: =_xlfn.STDEV.S('S1'!I28,'S2'!I28,'S3'!I28,'S4'!I28,'S5'!I28,'S6'!I28,'S7'!I28,'S8'!I28,'S9'!I28,'S10'!I28,'S11'!I28,'S12'!I28,'S13'!I28,'S14'!I28,'S15'!I28,'S16'!I28,'S17'!I28,'S18'!I28,'S19'!I28,'S20'!I28) -> 12.951204 | V28: =_xlfn.STDEV.S('S1'!J28,'S2'!J28,'S3'!J28,'S4'!J28,'S5'!J28,'S6'!J28,'S7'!J28,'S8'!J28,'S9'!J28,'S10'!J28,'S11'!J28,'S12'!J28,'S13'!J28,'S14'!J28,'S15'!J28,'S16'!J28,'S17'!J28,'S18'!J28,'S19'!J28,'S20'!J28) -> 12.936952 | W28: =_xlfn.STDEV.S('S1'!K28,'S2'!K28,'S3'!K28,'S4'!K28,'S5'!K28,'S6'!K28,'S7'!K28,'S8'!K28,'S9'!K28,'S10'!K28,'S11'!K28,'S12'!K28,'S13'!K28,'S14'!K28,'S15'!K28,'S16'!K28,'S17'!K28,'S18'!K28,'S19'!K28,'S20'!K28) -> 12.983714 | X28: =_xlfn.STDEV.S('S1'!L28,'S2'!L28,'S3'!L28,'S4'!L28,'S5'!L28,'S6'!L28,'S7'!L28,'S8'!L28,'S9'!L28,'S10'!L28,'S11'!L28,'S12'!L28,'S13'!L28,'S14'!L28,'S15'!L28,'S16'!L28,'S17'!L28,'S18'!L28,'S19'!L28,'S20'!L28) -> 20.735377
D29: Supplementary Table S43: Mean accuracy using a Stack Model | P29: Supplementary Table S44: Standard Deviation using a Stack Model
