Workbook

Sheet Saída do Equipamento
B2: RESULTADOS CORRIDAS PCR - RIO PRETO
B5: Sample Name | C5: Target Name | D5: Task | E5: RQ | F5: RQ Min | G5: RQ Max | H5: Cт Mean | I5: ΔCт Mean | J5: ΔCт SE | K5: ΔΔCт | L5: Grupo Experimental
B6: 1A | C6: GAPDH | D6: UNKNOWN | H6: 28.917839 | L6: GCN-AA-T1
B7: 1A | C7: BSP | D7: UNKNOWN | E7: 1 | H7: 36.233444 | I7: 7.3156052 | K7: 0 | L7: GCN-AA-T1
B8: 1A | C8: OP | D8: UNKNOWN | E8: 1 | H8: 39.17128 | I8: 10.253441 | K8: 0 | L8: GCN-AA-T1
B9: 1A | C9: OC | D9: UNKNOWN | E9: 1 | H9: 28.698803 | I9: -0.2190361 | K9: 0 | L9: GCN-AA-T1
B10: 1A | C10: TRAP | D10: UNKNOWN | E10: 1 | H10: 34.076714 | I10: 5.1588745 | K10: 0 | L10: GCN-AA-T1
B11: 1A | C11: CTSK | D11: UNKNOWN | E11: 1 | H11: 34.560417 | I11: 5.6425781 | K11: 0 | L11: GCN-AA-T1
B12: 1A | C12: RANKL | D12: UNKNOWN | E12: 1 | H12: 29.723434 | I12: 0.8055954 | K12: 0 | L12: GCN-AA-T1
B13: 1A | C13: OPG | D13: UNKNOWN | E13: 1 | H13: 34.389603 | I13: 5.4717636 | K13: 0 | L13: GCN-AA-T1
B14: 1A | C14: DDK | D14: UNKNOWN | E14: 1 | H14: 31.926201 | I14: 3.0083618 | K14: 0 | L14: GCN-AA-T1
B15: 1A | C15: SCLER | D15: UNKNOWN | E15: 1 | H15: 32.014057 | I15: 3.0962181 | K15: 0 | L15: GCN-AA-T1
B16: 1B | C16: GAPDH | D16: UNKNOWN | H16: 28.935968 | L16: GCN-BB-T1
B17: 1B | C17: BSP | D17: UNKNOWN | L17: GCN-BB-T1
B18: 1B | C18: OP | D18: UNKNOWN | E18: 4.6693287 | H18: 36.966194 | I18: 8.0302258 | K18: -2.2232151 | L18: GCN-BB-T1
B19: 1B | C19: OC | D19: UNKNOWN | E19: 0.057967417 | H19: 32.825546 | I19: 3.8895779 | K19: 4.108614 | L19: GCN-BB-T1
B20: 1B | C20: TRAP | D20: UNKNOWN | E20: 0.12489973 | H20: 37.096001 | I20: 8.1600323 | K20: 3.0011578 | L20: GCN-BB-T1
B21: 1B | C21: CTSK | D21: UNKNOWN | E21: 0.078291878 | H21: 38.25354 | I21: 9.3175716 | K21: 3.6749935 | L21: GCN-BB-T1
B22: 1B | C22: RANKL | D22: UNKNOWN | E22: 0.043536946 | H22: 34.26318 | I22: 5.3272114 | K22: 4.521616 | L22: GCN-BB-T1
B23: 1B | C23: OPG | D23: UNKNOWN | L23: GCN-BB-T1
B24: 1B | C24: DDK | D24: UNKNOWN | E24: 0.16875258 | H24: 34.511349 | I24: 5.5753803 | K24: 2.5670185 | L24: GCN-BB-T1
B25: 1B | C25: SCLER | D25: UNKNOWN | E25: 0.45467073 | H25: 33.169292 | I25: 4.2333241 | K25: 1.1371059 | L25: GCN-BB-T1
B26: 1C | C26: GAPDH | D26: UNKNOWN | H26: 29.358866 | L26: GCN-CC-T1
B27: 1C | C27: BSP | D27: UNKNOWN | L27: GCN-CC-T1
B28: 1C | C28: OP | D28: UNKNOWN | L28: GCN-CC-T1
B29: 1C | C29: OC | D29: UNKNOWN | E29: 0.0084850714 | H29: 36.020687 | I29: 6.6618214 | K29: 6.8808575 | L29: GCN-CC-T1
B30: 1C | C30: TRAP | D30: UNKNOWN | L30: GCN-CC-T1
B31: 1C | C31: CTSK | D31: UNKNOWN | E31: 0.65973806 | H31: 35.601479 | I31: 6.2426128 | K31: 0.60003471 | L31: GCN-CC-T1
B32: 1C | C32: RANKL | D32: UNKNOWN | L32: GCN-CC-T1
B33: 1C | C33: OPG | D33: UNKNOWN | E33: 0.20500402 | H33: 37.116905 | I33: 7.7580395 | K33: 2.2862759 | L33: GCN-CC-T1
B34: 1C | C34: DDK | D34: UNKNOWN | E34: 0.074011564 | H34: 36.123333 | I34: 6.7644672 | K34: 3.7561054 | L34: GCN-CC-T1
B35: 1C | C35: SCLER | D35: UNKNOWN | L35: GCN-CC-T1
B36: 1D | C36: GAPDH | D36: UNKNOWN | H36: 29.268734 | L36: GCN-DD-T1
B37: 1D | C37: BSP | D37: UNKNOWN | L37: GCN-DD-T1
B38: 1D | C38: OP | D38: UNKNOWN | L38: GCN-DD-T1
B39: 1D | C39: OC | D39: UNKNOWN | E39: 0.01137618 | H39: 35.507538 | I39: 6.2388039 | K39: 6.45784 | L39: GCN-DD-T1
B40: 1D | C40: TRAP | D40: UNKNOWN | L40: GCN-DD-T1
B41: 1D | C41: CTSK | D41: UNKNOWN | E41: 0.041199245 | H41: 39.51255 | I41: 10.243816 | K41: 4.6012383 | L41: GCN-DD-T1
B42: 1D | C42: RANKL | D42: UNKNOWN | E42: 0.018762007 | H42: 35.810371 | I42: 6.5416374 | K42: 5.736042 | L42: GCN-DD-T1
B43: 1D | C43: OPG | D43: UNKNOWN | L43: GCN-DD-T1
...

Sheet Valores de Ct (T1)
A2: RESULTADOS CORRIDAS PCR - Ct's
A5: Animal | B5: Grupo | C5: GAPDH | D5: BSP | E5: OP | F5: OC | G5: TRAP | H5: CTSK | I5: RANKL | J5: OPG | K5: DDK | L5: SCLER
A6: 1A | B6: NCG - 1 | C6: 28.917839 | D6: 36.233444 | E6: 39.17128 | F6: 28.698803 | G6: 34.076714 | H6: 34.560417 | I6: 29.723434 | J6: 34.389603 | K6: 31.926201 | L6: 32.014057
A7: 2A | B7: NCG - 1 | C7: 28.935968 | D7: 40 | E7: 36.966194 | F7: 32.825546 | G7: 37.096001 | H7: 38.25354 | I7: 34.26318 | J7: 40 | K7: 34.511349 | L7: 33.169292
A8: 3A | B8: NCG - 1 | C8: 29.358866 | D8: 40 | E8: 40 | F8: 36.020687 | G8: 40 | H8: 35.601479 | I8: 40 | J8: 37.116905 | K8: 36.123333 | L8: 40
A9: 4A | B9: NCG - 1 | C9: 29.268734 | D9: 40 | E9: 40 | F9: 35.507538 | G9: 40 | H9: 39.51255 | I9: 35.810371 | J9: 40 | K9: 36.916924 | L9: 33.017231
A10: 5A | B10: NCG - 1 | C10: 29.488237 | D10: 40 | E10: 40 | F10: 37.088326 | G10: 40 | H10: 37.108028 | I10: 40 | J10: 40 | K10: 36.336258 | L10: 36.643967
A11: 2B | B11: PCG - 1 | C11: 30.516308 | D11: 40 | E11: 36.410961 | F11: 34.61459 | G11: 40 | H11: 34.20393 | I11: 37.09874 | J11: 40 | K11: 36.942577 | L11: 40
A12: 2D | B12: PCG - 1 | C12: 30.86537 | D12: 40 | E12: 40 | F12: 37.107952 | G12: 40 | H12: 40 | I12: 40 | J12: 40 | K12: 34.302189 | L12: 40
A13: 2E | B13: PCG - 1 | C13: 30.76424 | D13: 40 | E13: 40 | F13: 34.576786 | G13: 40 | H13: 40 | I13: 40 | J13: 40 | K13: 37.255268 | L13: 40
A14: 3B | B14: POCG - 1 | C14: 30.108068 | D14: 40 | E14: 40 | F14: 35.50124 | G14: 40 | H14: 40 | I14: 40 | J14: 40 | K14: 34.505016 | L14: 33.505379
A15: 3C | B15: POCG - 1 | C15: 29.919436 | D15: 40 | E15: 40 | F15: 35.479664 | G15: 40 | H15: 39.073196 | I15: 40 | J15: 40 | K15: 33.877041 | L15: 40
A16: 3D | B16: POCG - 1 | C16: 28.055479 | D16: 40 | E16: 37.280666 | F16: 31.259396 | G16: 40 | H16: 40 | I16: 40 | J16: 36.159409 | K16: 30.865295 | L16: 35.706665
A17: 3F | B17: POCG - 1 | C17: 31.793684 | D17: 40 | E17: 40 | F17: 39.093292 | G17: 40 | H17: 35.138252 | I17: 40 | J17: 40 | K17: 37.397415 | L17: 40
... A38: 7E | B38: CG - 1 | C38: 29.7813 | D38: 40 | E38: 40 | F38: 37.177193 | G38: 40 | H38: 36.577583 | I38: 36.695312 | J38: 40 | K38: 34.928513 | L38: 40

Sheet Valores Delta Ct (T1)
A2: RESULTADOS CORRIDAS PCR - Ct's
A5: Animal | B5: Grupo | C5: GAPDH | D5: BSP | E5: OP | F5: OC | G5: TRAP | H5: CTSK | I5: RANKL | J5: OPG | K5: DDK | L5: SCLER
A6: 1A | B6: NCG - 1 | C6: ='Valores de Ct (T1)'!C6-'Valores de Ct (T1)'!C6 -> 0 | D6: ='Valores de Ct (T1)'!D6-'Valores de Ct (T1)'!$C6 -> 7.3156052 | E6: ='Valores de Ct (T1)'!E6-'Valores de Ct (T1)'!$C6 -> 10.253441 | F6: ='Valores de Ct (T1)'!F6-'Valores de Ct (T1)'!$C6 -> -0.2190361 | G6: ='Valores de Ct (T1)'!G6-'Valores de Ct (T1)'!$C6 -> 5.1588745 | H6: ='Valores de Ct (T1)'!H6-'Valores de Ct (T1)'!$C6 -> 5.6425781 | I6: ='Valores de Ct (T1)'!I6-'Valores de Ct (T1)'!$C6 -> 0.8055954 | J6: ='Valores de Ct (T1)'!J6-'Valores de Ct (T1)'!$C6 -> 5.4717636 | K6: ='Valores de Ct (T1)'!K6-'Valores de Ct (T1)'!$C6 -> 3.0083618 | L6: ='Valores de Ct (T1)'!L6-'Valores de Ct (T1)'!$C6 -> 3.0962181
A7: 2A | B7: NCG - 1 | C7: ='Valores de Ct (T1)'!C7-'Valores de Ct (T1)'!C7 -> 0 | D7: ='Valores de Ct (T1)'!D7-'Valores de Ct (T1)'!$C7 -> 11.064032 | E7: ='Valores de Ct (T1)'!E7-'Valores de Ct (T1)'!$C7 -> 8.0302258 | F7: ='Valores de Ct (T1)'!F7-'Valores de Ct (T1)'!$C7 -> 3.8895779 | G7: ='Valores de Ct (T1)'!G7-'Valores de Ct (T1)'!$C7 -> 8.1600323 | H7: ='Valores de Ct (T1)'!H7-'Valores de Ct (T1)'!$C7 -> 9.3175716 | I7: ='Valores de Ct (T1)'!I7-'Valores de Ct (T1)'!$C7 -> 5.3272114 | J7: ='Valores de Ct (T1)'!J7-'Valores de Ct (T1)'!$C7 -> 11.064032 | K7: ='Valores de Ct (T1)'!K7-'Valores de Ct (T1)'!$C7 -> 5.5753803 | L7: ='Valores de Ct (T1)'!L7-'Valores de Ct (T1)'!$C7 -> 4.2333241
A8: 3A | B8: NCG - 1 | C8: ='Valores de Ct (T1)'!C8-'Valores de Ct (T1)'!C8 -> 0 | D8: ='Valores de Ct (T1)'!D8-'Valores de Ct (T1)'!$C8 -> 10.641134 | E8: ='Valores de Ct (T1)'!E8-'Valores de Ct (T1)'!$C8 -> 10.641134 | F8: ='Valores de Ct (T1)'!F8-'Valores de Ct (T1)'!$C8 -> 6.6618214 | G8: ='Valores de Ct (T1)'!G8-'Valores de Ct (T1)'!$C8 -> 10.641134 | H8: ='Valores de Ct (T1)'!H8-'Valores de Ct (T1)'!$C8 -> 6.2426128 | I8: ='Valores de Ct (T1)'!I8-'Valores de Ct (T1)'!$C8 -> 10.641134 | J8: ='Valores de Ct (T1)'!J8-'Valores de Ct (T1)'!$C8 -> 7.7580395 | K8: ='Valores de Ct (T1)'!K8-'Valores de Ct (T1)'!$C8 -> 6.7644672 | L8: ='Valores de Ct (T1)'!L8-'Valores de Ct (T1)'!$C8 -> 10.641134
A9: 4A | B9: NCG - 1 | C9: ='Valores de Ct (T1)'!C9-'Valores de Ct (T1)'!C9 -> 0 | D9: ='Valores de Ct (T1)'!D9-'Valores de Ct (T1)'!$C9 -> 10.731266 | E9: ='Valores de Ct (T1)'!E9-'Valores de Ct (T1)'!$C9 -> 10.731266 | F9: ='Valores de Ct (T1)'!F9-'Valores de Ct (T1)'!$C9 -> 6.2388039 | G9: ='Valores de Ct (T1)'!G9-'Valores de Ct (T1)'!$C9 -> 10.731266 | H9: ='Valores de Ct (T1)'!H9-'Valores de Ct (T1)'!$C9 -> 10.243816 | I9: ='Valores de Ct (T1)'!I9-'Valores de Ct (T1)'!$C9 -> 6.5416374 | J9: ='Valores de Ct (T1)'!J9-'Valores de Ct (T1)'!$C9 -> 10.731266 | K9: ='Valores de Ct (T1)'!K9-'Valores de Ct (T1)'!$C9 -> 7.6481895 | L9: ='Valores de Ct (T1)'!L9-'Valores de Ct (T1)'!$C9 -> 3.748497
A10: 5A | B10: NCG - 1 | C10: ='Valores de Ct (T1)'!C10-'Valores de Ct (T1)'!C10 -> 0 | D10: ='Valores de Ct (T1)'!D10-'Valores de Ct (T1)'!$C10 -> 10.511763 | E10: ='Valores de Ct (T1)'!E10-'Valores de Ct (T1)'!$C10 -> 10.511763 | F10: ='Valores de Ct (T1)'!F10-'Valores de Ct (T1)'!$C10 -> 7.6000881 | G10: ='Valores de Ct (T1)'!G10-'Valores de Ct (T1)'!$C10 -> 10.511763 | H10: ='Valores de Ct (T1)'!H10-'Valores de Ct (T1)'!$C10 -> 7.619791 | I10: ='Valores de Ct (T1)'!I10-'Valores de Ct (T1)'!$C10 -> 10.511763 | J10: ='Valores de Ct (T1)'!J10-'Valores de Ct (T1)'!$C10 -> 10.511763 | K10: ='Valores de Ct (T1)'!K10-'Valores de Ct (T1)'!$C10 -> 6.8480206 | L10: ='Valores de Ct (T1)'!L10-'Valores de Ct (T1)'!$C10 -> 7.1557293
A11: 2B | B11: PCG - 1 | C11: ='Valores de Ct (T1)'!C11-'Valores de Ct (T1)'!C11 -> 0 | D11: ='Valores de Ct (T1)'!D11-'Valores de Ct (T1)'!$C11 -> 9.4836922 | E11: ='Valores de Ct (T1)'!E11-'Valores de Ct (T1)'!$C11 -> 5.8946533 | F11: ='Valores de Ct (T1)'!F11-'Valores de Ct (T1)'!$C11 -> 4.0982819 | G11: ='Valores de Ct (T1)'!G11-'Valores de Ct (T1)'!$C11 -> 9.4836922 | H11: ='Valores de Ct (T1)'!H11-'Valores de Ct (T1)'!$C11 -> 3.6876221 | I11: ='Valores de Ct (T1)'!I11-'Valores de Ct (T1)'!$C11 -> 6.5824318 | J11: ='Valores de Ct (T1)'!J11-'Valores de Ct (T1)'!$C11 -> 9.4836922 | K11: ='Valores de Ct (T1)'!K11-'Valores de Ct (T1)'!$C11 -> 6.4262695 | L11: ='Valores de Ct (T1)'!L11-'Valores de Ct (T1)'!$C11 -> 9.4836922
A12: 2D | B12: PCG - 1 | C12: ='Valores de Ct (T1)'!C12-'Valores de Ct (T1)'!C12 -> 0 | D12: ='Valores de Ct (T1)'!D12-'Valores de Ct (T1)'!$C12 -> 9.1346302 | E12: ='Valores de Ct (T1)'!E12-'Valores de Ct (T1)'!$C12 -> 9.1346302 | F12: ='Valores de Ct (T1)'!F12-'Valores de Ct (T1)'!$C12 -> 6.2425823 | G12: ='Valores de Ct (T1)'!G12-'Valores de Ct (T1)'!$C12 -> 9.1346302 | H12: ='Valores de Ct (T1)'!H12-'Valores de Ct (T1)'!$C12 -> 9.1346302 | I12: ='Valores de Ct (T1)'!I12-'Valores de Ct (T1)'!$C12 -> 9.1346302 | J12: ='Valores de Ct (T1)'!J12-'Valores de Ct (T1)'!$C12 -> 9.1346302 | K12: ='Valores de Ct (T1)'!K12-'Valores de Ct (T1)'!$C12 -> 3.4368191 | L12: ='Valores de Ct (T1)'!L12-'Valores de Ct (T1)'!$C12 -> 9.1346302
A13: 2E | B13: PCG - 1 | C13: ='Valores de Ct (T1)'!C13-'Valores de Ct (T1)'!C13 -> 0 | D13: ='Valores de Ct (T1)'!D13-'Valores de Ct (T1)'!$C13 -> 9.2357597 | E13: ='Valores de Ct (T1)'!E13-'Valores de Ct (T1)'!$C13 -> 9.2357597 | F13: ='Valores de Ct (T1)'!F13-'Valores de Ct (T1)'!$C13 -> 3.8125458 | G13: ='Valores de Ct (T1)'!G13-'Valores de Ct (T1)'!$C13 -> 9.2357597 | H13: ='Valores de Ct (T1)'!H13-'Valores de Ct (T1)'!$C13 -> 9.2357597 | I13: ='Valores de Ct (T1)'!I13-'Valores de Ct (T1)'!$C13 -> 9.2357597 | J13: ='Valores de Ct (T1)'!J13-'Valores de Ct (T1)'!$C13 -> 9.2357597 | K13: ='Valores de Ct (T1)'!K13-'Valores de Ct (T1)'!$C13 -> 6.4910278 | L13: ='Valores de Ct (T1)'!L13-'Valores de Ct (T1)'!$C13 -> 9.2357597
A14: 3B | B14: POCG - 1 | C14: ='Valores de Ct (T1)'!C14-'Valores de Ct (T1)'!C14 -> 0 | D14: ='Valores de Ct (T1)'!D14-'Valores de Ct (T1)'!$C14 -> 9.8919315 | E14: ='Valores de Ct (T1)'!E14-'Valores de Ct (T1)'!$C14 -> 9.8919315 | F14: ='Valores de Ct (T1)'!F14-'Valores de Ct (T1)'!$C14 -> 5.3931713 | G14: ='Valores de Ct (T1)'!G14-'Valores de Ct (T1)'!$C14 -> 9.8919315 | H14: ='Valores de Ct (T1)'!H14-'Valores de Ct (T1)'!$C14 -> 9.8919315 | I14: ='Valores de Ct (T1)'!I14-'Valores de Ct (T1)'!$C14 -> 9.8919315 | J14: ='Valores de Ct (T1)'!J14-'Valores de Ct (T1)'!$C14 -> 9.8919315 | K14: ='Valores de Ct (T1)'!K14-'Valores de Ct (T1)'!$C14 -> 4.3969479 | L14: ='Valores de Ct (T1)'!L14-'Valores de Ct (T1)'!$C14 -> 3.3973103
A15: 3C | B15: POCG - 1 | C15: ='Valores de Ct (T1)'!C15-'Valores de Ct (T1)'!C15 -> 0 | D15: ='Valores de Ct (T1)'!D15-'Valores de Ct (T1)'!$C15 -> 10.080564 | E15: ='Valores de Ct (T1)'!E15-'Valores de Ct (T1)'!$C15 -> 10.080564 | F15: ='Valores de Ct (T1)'!F15-'Valores de Ct (T1)'!$C15 -> 5.5602283 | G15: ='Valores de Ct (T1)'!G15-'Valores de Ct (T1)'!$C15 -> 10.080564 | H15: ='Valores de Ct (T1)'!H15-'Valores de Ct (T1)'!$C15 -> 9.1537609 | I15: ='Valores de Ct (T1)'!I15-'Valores de Ct (T1)'!$C15 -> 10.080564 | J15: ='Valores de Ct (T1)'!J15-'Valores de Ct (T1)'!$C15 -> 10.080564 | K15: ='Valores de Ct (T1)'!K15-'Valores de Ct (T1)'!$C15 -> 3.9576054 | L15: ='Valores de Ct (T1)'!L15-'Valores de Ct (T1)'!$C15 -> 10.080564
A16: 3D | B16: POCG - 1 | C16: ='Valores de Ct (T1)'!C16-'Valores de Ct (T1)'!C16 -> 0 | D16: ='Valores de Ct (T1)'!D16-'Valores de Ct (T1)'!$C16 -> 11.944521 | E16: ='Valores de Ct (T1)'!E16-'Valores de Ct (T1)'!$C16 -> 9.2251873 | F16: ='Valores de Ct (T1)'!F16-'Valores de Ct (T1)'!$C16 -> 3.2039165 | G16: ='Valores de Ct (T1)'!G16-'Valores de Ct (T1)'!$C16 -> 11.944521 | H16: ='Valores de Ct (T1)'!H16-'Valores de Ct (T1)'!$C16 -> 11.944521 | I16: ='Valores de Ct (T1)'!I16-'Valores de Ct (T1)'!$C16 -> 11.944521 | J16: ='Valores de Ct (T1)'!J16-'Valores de Ct (T1)'!$C16 -> 8.1039295 | K16: ='Valores de Ct (T1)'!K16-'Valores de Ct (T1)'!$C16 -> 2.8098164 | L16: ='Valores de Ct (T1)'!L16-'Valores de Ct (T1)'!$C16 -> 7.651186
A17: 3F | B17: POCG - 1 | C17: ='Valores de Ct (T1)'!C17-'Valores de Ct (T1)'!C17 -> 0 | D17: ='Valores de Ct (T1)'!D17-'Valores de Ct (T1)'!$C17 -> 8.206316 | E17: ='Valores de Ct (T1)'!E17-'Valores de Ct (T1)'!$C17 -> 8.206316 | F17: ='Valores de Ct (T1)'!F17-'Valores de Ct (T1)'!$C17 -> 7.2996082 | G17: ='Valores de Ct (T1)'!G17-'Valores de Ct (T1)'!$C17 -> 8.206316 | H17: ='Valores de Ct (T1)'!H17-'Valores de Ct (T1)'!$C17 -> 3.3445683 | I17: ='Valores de Ct (T1)'!I17-'Valores de Ct (T1)'!$C17 -> 8.206316 | J17: ='Valores de Ct (T1)'!J17-'Valores de Ct (T1)'!$C17 -> 8.206316 | K17: ='Valores de Ct (T1)'!K17-'Valores de Ct (T1)'!$C17 -> 5.6037312 | L17: ='Valores de Ct (T1)'!L17-'Valores de Ct (T1)'!$C17 -> 8.206316
... A38: 7E | B38: CG - 1 | C38: ='Valores de Ct (T1)'!C38-'Valores de Ct (T1)'!C38 -> 0 | D38: ='Valores de Ct (T1)'!D38-'Valores de Ct (T1)'!$C38 -> 10.2187 | E38: ='Valores de Ct (T1)'!E38-'Valores de Ct (T1)'!$C38 -> 10.2187 | F38: ='Valores de Ct (T1)'!F38-'Valores de Ct (T1)'!$C38 -> 7.3958931 | G38: ='Valores de Ct (T1)'!G38-'Valores de Ct (T1)'!$C38 -> 10.2187 | H38: ='Valores de Ct (T1)'!H38-'Valores de Ct (T1)'!$C38 -> 6.7962837 | I38: ='Valores de Ct (T1)'!I38-'Valores de Ct (T1)'!$C38 -> 6.9140129 | J38: ='Valores de Ct (T1)'!J38-'Valores de Ct (T1)'!$C38 -> 10.2187 | K38: ='Valores de Ct (T1)'!K38-'Valores de Ct (T1)'!$C38 -> 5.147213 | L38: ='Valores de Ct (T1)'!L38-'Valores de Ct (T1)'!$C38 -> 10.2187
C39: ='Valores de Ct (T1)'!C39-'Valores de Ct (T1)'!C39 -> 0 | D39: ='Valores de Ct (T1)'!D39-'Valores de Ct (T1)'!$C39 -> 0 | E39: ='Valores de Ct (T1)'!E39-'Valores de Ct (T1)'!$C39 -> 0 | F39: ='Valores de Ct (T1)'!F39-'Valores de Ct (T1)'!$C39 -> 0 | G39: ='Valores de Ct (T1)'!G39-'Valores de Ct (T1)'!$C39 -> 0 | H39: ='Valores de Ct (T1)'!H39-'Valores de Ct (T1)'!$C39 -> 0 | I39: ='Valores de Ct (T1)'!I39-'Valores de Ct (T1)'!$C39 -> 0 | J39: ='Valores de Ct (T1)'!J39-'Valores de Ct (T1)'!$C39 -> 0 | K39: ='Valores de Ct (T1)'!K39-'Valores de Ct (T1)'!$C39 -> 0 | L39: ='Valores de Ct (T1)'!L39-'Valores de Ct (T1)'!$C39 -> 0
C40: ='Valores de Ct (T1)'!C40-'Valores de Ct (T1)'!C40 -> 0 | D40: ='Valores de Ct (T1)'!D40-'Valores de Ct (T1)'!$C40 -> 0 | E40: ='Valores de Ct (T1)'!E40-'Valores de Ct (T1)'!$C40 -> 0 | F40: ='Valores de Ct (T1)'!F40-'Valores de Ct (T1)'!$C40 -> 0 | G40: ='Valores de Ct (T1)'!G40-'Valores de Ct (T1)'!$C40 -> 0 | H40: ='Valores de Ct (T1)'!H40-'Valores de Ct (T1)'!$C40 -> 0 | I40: ='Valores de Ct (T1)'!I40-'Valores de Ct (T1)'!$C40 -> 0 | J40: ='Valores de Ct (T1)'!J40-'Valores de Ct (T1)'!$C40 -> 0 | K40: ='Valores de Ct (T1)'!K40-'Valores de Ct (T1)'!$C40 -> 0 | L40: ='Valores de Ct (T1)'!L40-'Valores de Ct (T1)'!$C40 -> 0
C41: ='Valores de Ct (T1)'!C41-'Valores de Ct (T1)'!C41 -> 0 | D41: ='Valores de Ct (T1)'!D41-'Valores de Ct (T1)'!$C41 -> 0 | E41: ='Valores de Ct (T1)'!E41-'Valores de Ct (T1)'!$C41 -> 0 | F41: ='Valores de Ct (T1)'!F41-'Valores de Ct (T1)'!$C41 -> 0 | G41: ='Valores de Ct (T1)'!G41-'Valores de Ct (T1)'!$C41 -> 0 | H41: ='Valores de Ct (T1)'!H41-'Valores de Ct (T1)'!$C41 -> 0 | I41: ='Valores de Ct (T1)'!I41-'Valores de Ct (T1)'!$C41 -> 0 | J41: ='Valores de Ct (T1)'!J41-'Valores de Ct (T1)'!$C41 -> 0 | K41: ='Valores de Ct (T1)'!K41-'Valores de Ct (T1)'!$C41 -> 0 | L41: ='Valores de Ct (T1)'!L41-'Valores de Ct (T1)'!$C41 -> 0
C42: ='Valores de Ct (T1)'!C42-'Valores de Ct (T1)'!C42 -> 0 | D42: ='Valores de Ct (T1)'!D42-'Valores de Ct (T1)'!$C42 -> 0 | E42: ='Valores de Ct (T1)'!E42-'Valores de Ct (T1)'!$C42 -> 0 | F42: ='Valores de Ct (T1)'!F42-'Valores de Ct (T1)'!$C42 -> 0 | G42: ='Valores de Ct (T1)'!G42-'Valores de Ct (T1)'!$C42 -> 0 | H42: ='Valores de Ct (T1)'!H42-'Valores de Ct (T1)'!$C42 -> 0 | I42: ='Valores de Ct (T1)'!I42-'Valores de Ct (T1)'!$C42 -> 0 | J42: ='Valores de Ct (T1)'!J42-'Valores de Ct (T1)'!$C42 -> 0 | K42: ='Valores de Ct (T1)'!K42-'Valores de Ct (T1)'!$C42 -> 0 | L42: ='Valores de Ct (T1)'!L42-'Valores de Ct (T1)'!$C42 -> 0
C43: ='Valores de Ct (T1)'!C43-'Valores de Ct (T1)'!C43 -> 0 | D43: ='Valores de Ct (T1)'!D43-'Valores de Ct (T1)'!$C43 -> 0 | E43: ='Valores de Ct (T1)'!E43-'Valores de Ct (T1)'!$C43 -> 0 | F43: ='Valores de Ct (T1)'!F43-'Valores de Ct (T1)'!$C43 -> 0 | G43: ='Valores de Ct (T1)'!G43-'Valores de Ct (T1)'!$C43 -> 0 | H43: ='Valores de Ct (T1)'!H43-'Valores de Ct (T1)'!$C43 -> 0 | I43: ='Valores de Ct (T1)'!I43-'Valores de Ct (T1)'!$C43 -> 0 | J43: ='Valores de Ct (T1)'!J43-'Valores de Ct (T1)'!$C43 -> 0 | K43: ='Valores de Ct (T1)'!K43-'Valores de Ct (T1)'!$C43 -> 0 | L43: ='Valores de Ct (T1)'!L43-'Valores de Ct (T1)'!$C43 -> 0
C44: ='Valores de Ct (T1)'!C44-'Valores de Ct (T1)'!C44 -> 0 | D44: ='Valores de Ct (T1)'!D44-'Valores de Ct (T1)'!$C44 -> 0 | E44: ='Valores de Ct (T1)'!E44-'Valores de Ct (T1)'!$C44 -> 0 | F44: ='Valores de Ct (T1)'!F44-'Valores de Ct (T1)'!$C44 -> 0 | G44: ='Valores de Ct (T1)'!G44-'Valores de Ct (T1)'!$C44 -> 0 | H44: ='Valores de Ct (T1)'!H44-'Valores de Ct (T1)'!$C44 -> 0 | I44: ='Valores de Ct (T1)'!I44-'Valores de Ct (T1)'!$C44 -> 0 | J44: ='Valores de Ct (T1)'!J44-'Valores de Ct (T1)'!$C44 -> 0 | K44: ='Valores de Ct (T1)'!K44-'Valores de Ct (T1)'!$C44 -> 0 | L44: ='Valores de Ct (T1)'!L44-'Valores de Ct (T1)'!$C44 -> 0
C45: ='Valores de Ct (T1)'!C45-'Valores de Ct (T1)'!C45 -> 0 | D45: ='Valores de Ct (T1)'!D45-'Valores de Ct (T1)'!$C45 -> 0 | E45: ='Valores de Ct (T1)'!E45-'Valores de Ct (T1)'!$C45 -> 0 | F45: ='Valores de Ct (T1)'!F45-'Valores de Ct (T1)'!$C45 -> 0 | G45: ='Valores de Ct (T1)'!G45-'Valores de Ct (T1)'!$C45 -> 0 | H45: ='Valores de Ct (T1)'!H45-'Valores de Ct (T1)'!$C45 -> 0 | I45: ='Valores de Ct (T1)'!I45-'Valores de Ct (T1)'!$C45 -> 0 | J45: ='Valores de Ct (T1)'!J45-'Valores de Ct (T1)'!$C45 -> 0 | K45: ='Valores de Ct (T1)'!K45-'Valores de Ct (T1)'!$C45 -> 0 | L45: ='Valores de Ct (T1)'!L45-'Valores de Ct (T1)'!$C45 -> 0
C46: ='Valores de Ct (T1)'!C46-'Valores de Ct (T1)'!C46 -> 0 | D46: ='Valores de Ct (T1)'!D46-'Valores de Ct (T1)'!$C46 -> 0 | E46: ='Valores de Ct (T1)'!E46-'Valores de Ct (T1)'!$C46 -> 0 | F46: ='Valores de Ct (T1)'!F46-'Valores de Ct (T1)'!$C46 -> 0 | G46: ='Valores de Ct (T1)'!G46-'Valores de Ct (T1)'!$C46 -> 0 | H46: ='Valores de Ct (T1)'!H46-'Valores de Ct (T1)'!$C46 -> 0 | I46: ='Valores de Ct (T1)'!I46-'Valores de Ct (T1)'!$C46 -> 0 | J46: ='Valores de Ct (T1)'!J46-'Valores de Ct (T1)'!$C46 -> 0 | K46: ='Valores de Ct (T1)'!K46-'Valores de Ct (T1)'!$C46 -> 0 | L46: ='Valores de Ct (T1)'!L46-'Valores de Ct (T1)'!$C46 -> 0
C47: ='Valores de Ct (T1)'!C47-'Valores de Ct (T1)'!C47 -> 0 | D47: ='Valores de Ct (T1)'!D47-'Valores de Ct (T1)'!$C47 -> 0 | E47: ='Valores de Ct (T1)'!E47-'Valores de Ct (T1)'!$C47 -> 0 | F47: ='Valores de Ct (T1)'!F47-'Valores de Ct (T1)'!$C47 -> 0 | G47: ='Valores de Ct (T1)'!G47-'Valores de Ct (T1)'!$C47 -> 0 | H47: ='Valores de Ct (T1)'!H47-'Valores de Ct (T1)'!$C47 -> 0 | I47: ='Valores de Ct (T1)'!I47-'Valores de Ct (T1)'!$C47 -> 0 | J47: ='Valores de Ct (T1)'!J47-'Valores de Ct (T1)'!$C47 -> 0 | K47: ='Valores de Ct (T1)'!K47-'Valores de Ct (T1)'!$C47 -> 0 | L47: ='Valores de Ct (T1)'!L47-'Valores de Ct (T1)'!$C47 -> 0
C48: ='Valores de Ct (T1)'!C48-'Valores de Ct (T1)'!C48 -> 0 | D48: ='Valores de Ct (T1)'!D48-'Valores de Ct (T1)'!$C48 -> 0 | E48: ='Valores de Ct (T1)'!E48-'Valores de Ct (T1)'!$C48 -> 0 | F48: ='Valores de Ct (T1)'!F48-'Valores de Ct (T1)'!$C48 -> 0 | G48: ='Valores de Ct (T1)'!G48-'Valores de Ct (T1)'!$C48 -> 0 | H48: ='Valores de Ct (T1)'!H48-'Valores de Ct (T1)'!$C48 -> 0 | I48: ='Valores de Ct (T1)'!I48-'Valores de Ct (T1)'!$C48 -> 0 | J48: ='Valores de Ct (T1)'!J48-'Valores de Ct (T1)'!$C48 -> 0 | K48: ='Valores de Ct (T1)'!K48-'Valores de Ct (T1)'!$C48 -> 0 | L48: ='Valores de Ct (T1)'!L48-'Valores de Ct (T1)'!$C48 -> 0
C49: ='Valores de Ct (T1)'!C49-'Valores de Ct (T1)'!C49 -> 0 | D49: ='Valores de Ct (T1)'!D49-'Valores de Ct (T1)'!$C49 -> 0 | E49: ='Valores de Ct (T1)'!E49-'Valores de Ct (T1)'!$C49 -> 0 | F49: ='Valores de Ct (T1)'!F49-'Valores de Ct (T1)'!$C49 -> 0 | G49: ='Valores de Ct (T1)'!G49-'Valores de Ct (T1)'!$C49 -> 0 | H49: ='Valores de Ct (T1)'!H49-'Valores de Ct (T1)'!$C49 -> 0 | I49: ='Valores de Ct (T1)'!I49-'Valores de Ct (T1)'!$C49 -> 0 | J49: ='Valores de Ct (T1)'!J49-'Valores de Ct (T1)'!$C49 -> 0 | K49: ='Valores de Ct (T1)'!K49-'Valores de Ct (T1)'!$C49 -> 0 | L49: ='Valores de Ct (T1)'!L49-'Valores de Ct (T1)'!$C49 -> 0
C50: ='Valores de Ct (T1)'!C50-'Valores de Ct (T1)'!C50 -> 0 | D50: ='Valores de Ct (T1)'!D50-'Valores de Ct (T1)'!$C50 -> 0 | E50: ='Valores de Ct (T1)'!E50-'Valores de Ct (T1)'!$C50 -> 0 | F50: ='Valores de Ct (T1)'!F50-'Valores de Ct (T1)'!$C50 -> 0 | G50: ='Valores de Ct (T1)'!G50-'Valores de Ct (T1)'!$C50 -> 0 | H50: ='Valores de Ct (T1)'!H50-'Valores de Ct (T1)'!$C50 -> 0 | I50: ='Valores de Ct (T1)'!I50-'Valores de Ct (T1)'!$C50 -> 0 | J50: ='Valores de Ct (T1)'!J50-'Valores de Ct (T1)'!$C50 -> 0 | K50: ='Valores de Ct (T1)'!K50-'Valores de Ct (T1)'!$C50 -> 0 | L50: ='Valores de Ct (T1)'!L50-'Valores de Ct (T1)'!$C50 -> 0
... C75: ='Valores de Ct (T1)'!C75-'Valores de Ct (T1)'!C75 -> 0 | D75: ='Valores de Ct (T1)'!D75-'Valores de Ct (T1)'!$C75 -> 0 | E75: ='Valores de Ct (T1)'!E75-'Valores de Ct (T1)'!$C75 -> 0 | F75: ='Valores de Ct (T1)'!F75-'Valores de Ct (T1)'!$C75 -> 0 | G75: ='Valores de Ct (T1)'!G75-'Valores de Ct (T1)'!$C75 -> 0 | H75: ='Valores de Ct (T1)'!H75-'Valores de Ct (T1)'!$C75 -> 0 | I75: ='Valores de Ct (T1)'!I75-'Valores de Ct (T1)'!$C75 -> 0 | J75: ='Valores de Ct (T1)'!J75-'Valores de Ct (T1)'!$C75 -> 0 | K75: ='Valores de Ct (T1)'!K75-'Valores de Ct (T1)'!$C75 -> 0 | L75: ='Valores de Ct (T1)'!L75-'Valores de Ct (T1)'!$C75 -> 0

Sheet Fold Change (T1)
A2: Média Delta Ct (Grupo Controle) | D2: Cálculo Delta Delta Ct | Q2: Cálculo de Fold Change
A5: GAPDH | B5: 0 | D5: Animal | E5: Grupo | F5: GAPDH | G5: BSP | H5: OP | I5: OC | J5: TRAP | K5: CTSK | L5: RANKL | M5: OPG | N5: DDK | O5: SCLER | Q5: Animal | R5: Grupo | S5: GAPDH | T5: BSP | U5: OP | V5: OC | W5: TRAP | X5: CTSK | Y5: RANKL | Z5: OPG | AA5: DDK | AB5: SCLER
A6: BSP | B6: 10.22 | D6: 1A | E6: NCG - 1 | F6: ='Valores Delta Ct (T1)'!C6 -'Fold Change (T1)'!B$5 -> 0 | G6: ='Valores Delta Ct (T1)'!D6-'Fold Change (T1)'!B$6 -> -2.9043948 | H6: ='Valores Delta Ct (T1)'!E6-'Fold Change (T1)'!B$7 -> 0.37344086 | I6: ='Valores Delta Ct (T1)'!F6-'Fold Change (T1)'!B$8 -> -3.5790361 | J6: ='Valores Delta Ct (T1)'!G6-'Fold Change (T1)'!B$9 -> -5.1011255 | K6: ='Valores Delta Ct (T1)'!H6-'Fold Change (T1)'!B$10 -> -0.66742187 | L6: ='Valores Delta Ct (T1)'!I6-'Fold Change (T1)'!B$11 -> -4.4044046 | M6: ='Valores Delta Ct (T1)'!J6-'Fold Change (T1)'!B$12 -> -4.7782364 | N6: ='Valores Delta Ct (T1)'!K6-'Fold Change (T1)'!B$13 -> -2.0716382 | O6: ='Valores Delta Ct (T1)'!L6-'Fold Change (T1)'!B$14 -> -4.5737819 | Q6: 1A | R6: NCG - 1 | S6: =2^-F6 -> 1 | T6: =2^-G6 -> 7.4870368 | U6: =2^-H6 -> 0.77193921 | V6: =2^-I6 -> 11.950807 | W6: =2^-J6 -> 34.323517 | X6: =2^-K6 -> 1.5882322 | Y6: =2^-L6 -> 21.176681 | Z6: =2^-M6 -> 27.440529 | ... AB6: =2^-O6 -> 23.814723
A7: OP | B7: 9.88 | D7: 2A | E7: NCG - 1 | F7: ='Valores Delta Ct (T1)'!C7-'Fold Change (T1)'!B$5 -> 0 | G7: ='Valores Delta Ct (T1)'!D7-'Fold Change (T1)'!B$6 -> 0.8440316 | H7: ='Valores Delta Ct (T1)'!E7-'Fold Change (T1)'!B$7 -> -1.8497742 | I7: ='Valores Delta Ct (T1)'!F7-'Fold Change (T1)'!B$8 -> 0.52957787 | J7: ='Valores Delta Ct (T1)'!G7-'Fold Change (T1)'!B$9 -> -2.0999677 | K7: ='Valores Delta Ct (T1)'!H7-'Fold Change (T1)'!B$10 -> 3.0075716 | L7: ='Valores Delta Ct (T1)'!I7-'Fold Change (T1)'!B$11 -> 0.11721138 | M7: ='Valores Delta Ct (T1)'!J7-'Fold Change (T1)'!B$12 -> 0.8140316 | N7: ='Valores Delta Ct (T1)'!K7-'Fold Change (T1)'!B$13 -> 0.49538033 | O7: ='Valores Delta Ct (T1)'!L7-'Fold Change (T1)'!B$14 -> -3.4366759 | Q7: 2A | R7: NCG - 1 | S7: =2^-F7 -> 1 | T7: =2^-G7 -> 0.55708462 | U7: =2^-H7 -> 3.6044378 | V7: =2^-I7 -> 0.69275741 | W7: =2^-J7 -> 4.286998 | X7: =2^-K7 -> 0.12434569 | Y7: =2^-L7 -> 0.92196802 | Z7: =2^-M7 -> 0.56879015 | ... AB7: =2^-O7 -> 10.827858
A8: OC | B8: 3.36 | D8: 3A | E8: NCG - 1 | F8: ='Valores Delta Ct (T1)'!C8-'Fold Change (T1)'!B$5 -> 0 | G8: ='Valores Delta Ct (T1)'!D8-'Fold Change (T1)'!B$6 -> 0.42113426 | H8: ='Valores Delta Ct (T1)'!E8-'Fold Change (T1)'!B$7 -> 0.76113426 | I8: ='Valores Delta Ct (T1)'!F8-'Fold Change (T1)'!B$8 -> 3.3018214 | J8: ='Valores Delta Ct (T1)'!G8-'Fold Change (T1)'!B$9 -> 0.38113426 | K8: ='Valores Delta Ct (T1)'!H8-'Fold Change (T1)'!B$10 -> -0.067387161 | L8: ='Valores Delta Ct (T1)'!I8-'Fold Change (T1)'!B$11 -> 5.4311343 | M8: ='Valores Delta Ct (T1)'!J8-'Fold Change (T1)'!B$12 -> -2.4919605 | N8: ='Valores Delta Ct (T1)'!K8-'Fold Change (T1)'!B$13 -> 1.6844672 | O8: ='Valores Delta Ct (T1)'!L8-'Fold Change (T1)'!B$14 -> 2.9711343 | Q8: 3A | R8: NCG - 1 | S8: =2^-F8 -> 1 | T8: =2^-G8 -> 0.74683722 | U8: =2^-H8 -> 0.59003226 | V8: =2^-I8 -> 0.10140345 | W8: =2^-J8 -> 0.76783367 | X8: =2^-K8 -> 1.0478173 | Y8: =2^-L8 -> 0.023177451 | Z8: =2^-M8 -> 5.6254189 | ... AB8: =2^-O8 -> 0.12752621
A9: TRAP | B9: 10.26 | D9: 4A | E9: NCG - 1 | F9: ='Valores Delta Ct (T1)'!C9-'Fold Change (T1)'!B$5 -> 0 | G9: ='Valores Delta Ct (T1)'!D9-'Fold Change (T1)'!B$6 -> 0.51126602 | H9: ='Valores Delta Ct (T1)'!E9-'Fold Change (T1)'!B$7 -> 0.85126602 | I9: ='Valores Delta Ct (T1)'!F9-'Fold Change (T1)'!B$8 -> 2.8788039 | J9: ='Valores Delta Ct (T1)'!G9-'Fold Change (T1)'!B$9 -> 0.47126602 | K9: ='Valores Delta Ct (T1)'!H9-'Fold Change (T1)'!B$10 -> 3.9338164 | L9: ='Valores Delta Ct (T1)'!I9-'Fold Change (T1)'!B$11 -> 1.3316374 | M9: ='Valores Delta Ct (T1)'!J9-'Fold Change (T1)'!B$12 -> 0.48126602 | N9: ='Valores Delta Ct (T1)'!K9-'Fold Change (T1)'!B$13 -> 2.5681895 | O9: ='Valores Delta Ct (T1)'!L9-'Fold Change (T1)'!B$14 -> -3.921503 | Q9: 4A | R9: NCG - 1 | S9: =2^-F9 -> 1 | T9: =2^-G9 -> 0.70160648 | U9: =2^-H9 -> 0.5542981 | V9: =2^-I9 -> 0.13595453 | W9: =2^-J9 -> 0.72133132 | X9: =2^-K9 -> 0.06543397 | Y9: =2^-L9 -> 0.39731704 | Z9: =2^-M9 -> 0.71634872 | ... AB9: =2^-O9 -> 15.1527
A10: CTSK | B10: 6.31 | D10: 5A | E10: NCG - 1 | F10: ='Valores Delta Ct (T1)'!C10-'Fold Change (T1)'!B$5 -> 0 | G10: ='Valores Delta Ct (T1)'!D10-'Fold Change (T1)'!B$6 -> 0.29176262 | H10: ='Valores Delta Ct (T1)'!E10-'Fold Change (T1)'!B$7 -> 0.63176262 | I10: ='Valores Delta Ct (T1)'!F10-'Fold Change (T1)'!B$8 -> 4.2400881 | J10: ='Valores Delta Ct (T1)'!G10-'Fold Change (T1)'!B$9 -> 0.25176262 | K10: ='Valores Delta Ct (T1)'!H10-'Fold Change (T1)'!B$10 -> 1.309791 | L10: ='Valores Delta Ct (T1)'!I10-'Fold Change (T1)'!B$11 -> 5.3017626 | M10: ='Valores Delta Ct (T1)'!J10-'Fold Change (T1)'!B$12 -> 0.26176262 | N10: ='Valores Delta Ct (T1)'!K10-'Fold Change (T1)'!B$13 -> 1.7680206 | O10: ='Valores Delta Ct (T1)'!L10-'Fold Change (T1)'!B$14 -> -0.51427071 | Q10: 5A | R10: NCG - 1 | S10: =2^-F10 -> 1 | T10: =2^-G10 -> 0.81690339 | U10: =2^-H10 -> 0.64538743 | V10: =2^-I10 -> 0.05291835 | W10: =2^-J10 -> 0.83986967 | X10: =2^-K10 -> 0.4033793 | Y10: =2^-L10 -> 0.025351895 | Z10: =2^-M10 -> 0.83406827 | ... AB10: =2^-O10 -> 1.428272
A11: RANKL | B11: 5.21 | D11: 2B | E11: PCG - 1 | F11: ='Valores Delta Ct (T1)'!C11-'Fold Change (T1)'!B$5 -> 0 | G11: ='Valores Delta Ct (T1)'!D11-'Fold Change (T1)'!B$6 -> -0.73630783 | H11: ='Valores Delta Ct (T1)'!E11-'Fold Change (T1)'!B$7 -> -3.9853467 | I11: ='Valores Delta Ct (T1)'!F11-'Fold Change (T1)'!B$8 -> 0.73828186 | J11: ='Valores Delta Ct (T1)'!G11-'Fold Change (T1)'!B$9 -> -0.77630783 | K11: ='Valores Delta Ct (T1)'!H11-'Fold Change (T1)'!B$10 -> -2.6223779 | L11: ='Valores Delta Ct (T1)'!I11-'Fold Change (T1)'!B$11 -> 1.3724318 | M11: ='Valores Delta Ct (T1)'!J11-'Fold Change (T1)'!B$12 -> -0.76630783 | N11: ='Valores Delta Ct (T1)'!K11-'Fold Change (T1)'!B$13 -> 1.3462695 | O11: ='Valores Delta Ct (T1)'!L11-'Fold Change (T1)'!B$14 -> 1.8136922 | Q11: 2B | R11: PCG - 1 | S11: =2^-F11 -> 1 | T11: =2^-G11 -> 1.665907 | U11: =2^-H11 -> 15.838312 | V11: =2^-I11 -> 0.59945283 | W11: =2^-J11 -> 1.712742 | X11: =2^-K11 -> 6.1576417 | Y11: =2^-L11 -> 0.38623966 | Z11: =2^-M11 -> 1.7009112 | ... AB11: =2^-O11 -> 0.284462
A12: OPG | B12: 10.25 | D12: 2D | E12: PCG - 1 | F12: ='Valores Delta Ct (T1)'!C12-'Fold Change (T1)'!B$5 -> 0 | G12: ='Valores Delta Ct (T1)'!D12-'Fold Change (T1)'!B$6 -> -1.0853698 | H12: ='Valores Delta Ct (T1)'!E12-'Fold Change (T1)'!B$7 -> -0.7453698 | I12: ='Valores Delta Ct (T1)'!F12-'Fold Change (T1)'!B$8 -> 2.8825823 | J12: ='Valores Delta Ct (T1)'!G12-'Fold Change (T1)'!B$9 -> -1.1253698 | K12: ='Valores Delta Ct (T1)'!H12-'Fold Change (T1)'!B$10 -> 2.8246302 | L12: ='Valores Delta Ct (T1)'!I12-'Fold Change (T1)'!B$11 -> 3.9246302 | M12: ='Valores Delta Ct (T1)'!J12-'Fold Change (T1)'!B$12 -> -1.1153698 | N12: ='Valores Delta Ct (T1)'!K12-'Fold Change (T1)'!B$13 -> -1.6431809 | O12: ='Valores Delta Ct (T1)'!L12-'Fold Change (T1)'!B$14 -> 1.4646302 | Q12: 2D | R12: PCG - 1 | S12: =2^-F12 -> 1 | T12: =2^-G12 -> 2.1219193 | U12: =2^-H12 -> 1.6764039 | V12: =2^-I12 -> 0.13559893 | W12: =2^-J12 -> 2.1815746 | X12: =2^-K12 -> 0.14115673 | Y12: =2^-L12 -> 0.065851942 | Z12: =2^-M12 -> 2.1665053 | ... AB12: =2^-O12 -> 0.3623284
A13: DDK | B13: 5.08 | D13: 2E | E13: PCG - 1 | F13: ='Valores Delta Ct (T1)'!C13-'Fold Change (T1)'!B$5 -> 0 | G13: ='Valores Delta Ct (T1)'!D13-'Fold Change (T1)'!B$6 -> -0.98424026 | H13: ='Valores Delta Ct (T1)'!E13-'Fold Change (T1)'!B$7 -> -0.64424026 | I13: ='Valores Delta Ct (T1)'!F13-'Fold Change (T1)'!B$8 -> 0.45254578 | J13: ='Valores Delta Ct (T1)'!G13-'Fold Change (T1)'!B$9 -> -1.0242403 | K13: ='Valores Delta Ct (T1)'!H13-'Fold Change (T1)'!B$10 -> 2.9257597 | L13: ='Valores Delta Ct (T1)'!I13-'Fold Change (T1)'!B$11 -> 4.0257597 | M13: ='Valores Delta Ct (T1)'!J13-'Fold Change (T1)'!B$12 -> -1.0142403 | N13: ='Valores Delta Ct (T1)'!K13-'Fold Change (T1)'!B$13 -> 1.4110278 | O13: ='Valores Delta Ct (T1)'!L13-'Fold Change (T1)'!B$14 -> 1.5657597 | Q13: 2E | R13: PCG - 1 | S13: =2^-F13 -> 1 | T13: =2^-G13 -> 1.9782713 | U13: =2^-H13 -> 1.562916 | V13: =2^-I13 -> 0.73075223 | W13: =2^-J13 -> 2.033888 | X13: =2^-K13 -> 0.13160081 | Y13: =2^-L13 -> 0.061393948 | Z13: =2^-M13 -> 2.0198389 | ... AB13: =2^-O13 -> 0.33779977
A14: SCLER | B14: 7.67 | D14: 3B | E14: POCG - 1 | F14: ='Valores Delta Ct (T1)'!C14-'Fold Change (T1)'!B$5 -> 0 | G14: ='Valores Delta Ct (T1)'!D14-'Fold Change (T1)'!B$6 -> -0.32806847 | H14: ='Valores Delta Ct (T1)'!E14-'Fold Change (T1)'!B$7 -> 0.011931534 | I14: ='Valores Delta Ct (T1)'!F14-'Fold Change (T1)'!B$8 -> 2.0331713 | J14: ='Valores Delta Ct (T1)'!G14-'Fold Change (T1)'!B$9 -> -0.36806847 | K14: ='Valores Delta Ct (T1)'!H14-'Fold Change (T1)'!B$10 -> 3.5819315 | L14: ='Valores Delta Ct (T1)'!I14-'Fold Change (T1)'!B$11 -> 4.6819315 | M14: ='Valores Delta Ct (T1)'!J14-'Fold Change (T1)'!B$12 -> -0.35806847 | N14: ='Valores Delta Ct (T1)'!K14-'Fold Change (T1)'!B$13 -> -0.68305214 | O14: ='Valores Delta Ct (T1)'!L14-'Fold Change (T1)'!B$14 -> -4.2726897 | Q14: 3B | R14: POCG - 1 | S14: =2^-F14 -> 1 | T14: =2^-G14 -> 1.2553316 | U14: =2^-H14 -> 0.9917638 | V14: =2^-I14 -> 0.24431743 | W14: =2^-J14 -> 1.2906237 | X14: =2^-K14 -> 0.083508593 | Y14: =2^-L14 -> 0.038958136 | Z14: =2^-M14 -> 1.2817087 | ... AB14: =2^-O14 -> 19.328928
D15: 3C | E15: POCG - 1 | F15: ='Valores Delta Ct (T1)'!C15-'Fold Change (T1)'!B$5 -> 0 | G15: ='Valores Delta Ct (T1)'!D15-'Fold Change (T1)'!B$6 -> -0.1394355 | H15: ='Valores Delta Ct (T1)'!E15-'Fold Change (T1)'!B$7 -> 0.2005645 | I15: ='Valores Delta Ct (T1)'!F15-'Fold Change (T1)'!B$8 -> 2.2002283 | J15: ='Valores Delta Ct (T1)'!G15-'Fold Change (T1)'!B$9 -> -0.1794355 | K15: ='Valores Delta Ct (T1)'!H15-'Fold Change (T1)'!B$10 -> 2.8437609 | L15: ='Valores Delta Ct (T1)'!I15-'Fold Change (T1)'!B$11 -> 4.8705645 | M15: ='Valores Delta Ct (T1)'!J15-'Fold Change (T1)'!B$12 -> -0.1694355 | N15: ='Valores Delta Ct (T1)'!K15-'Fold Change (T1)'!B$13 -> -1.1223946 | O15: ='Valores Delta Ct (T1)'!L15-'Fold Change (T1)'!B$14 -> 2.4105645 | Q15: 3C | R15: POCG - 1 | S15: =2^-F15 -> 1 | T15: =2^-G15 -> 1.101474 | U15: =2^-H15 -> 0.87021 | V15: =2^-I15 -> 0.2176032 | W15: =2^-J15 -> 1.1324407 | X15: =2^-K15 -> 0.13929729 | Y15: =2^-L15 -> 0.0341833 | Z15: =2^-M15 -> 1.1246184 | ... AB15: =2^-O15 -> 0.18808224
D16: 3D | E16: POCG - 1 | F16: ='Valores Delta Ct (T1)'!C16-'Fold Change (T1)'!B$5 -> 0 | G16: ='Valores Delta Ct (T1)'!D16-'Fold Change (T1)'!B$6 -> 1.724521 | H16: ='Valores Delta Ct (T1)'!E16-'Fold Change (T1)'!B$7 -> -0.6548127 | I16: ='Valores Delta Ct (T1)'!F16-'Fold Change (T1)'!B$8 -> -0.15608345 | J16: ='Valores Delta Ct (T1)'!G16-'Fold Change (T1)'!B$9 -> 1.684521 | K16: ='Valores Delta Ct (T1)'!H16-'Fold Change (T1)'!B$10 -> 5.634521 | L16: ='Valores Delta Ct (T1)'!I16-'Fold Change (T1)'!B$11 -> 6.734521 | M16: ='Valores Delta Ct (T1)'!J16-'Fold Change (T1)'!B$12 -> -2.1460705 | N16: ='Valores Delta Ct (T1)'!K16-'Fold Change (T1)'!B$13 -> -2.2701836 | O16: ='Valores Delta Ct (T1)'!L16-'Fold Change (T1)'!B$14 -> -0.018814011 | Q16: 3D | R16: POCG - 1 | S16: =2^-F16 -> 1 | T16: =2^-G16 -> 0.30259898 | U16: =2^-H16 -> 1.5744115 | V16: =2^-I16 -> 1.1142581 | W16: =2^-J16 -> 0.3111062 | X16: =2^-K16 -> 0.020129834 | Y16: =2^-L16 -> 0.0093908994 | Z16: =2^-M16 -> 4.4262056 | ... AB16: =2^-O16 -> 1.0131263
D17: 3F | E17: POCG - 1 | F17: ='Valores Delta Ct (T1)'!C17-'Fold Change (T1)'!B$5 -> 0 | G17: ='Valores Delta Ct (T1)'!D17-'Fold Change (T1)'!B$6 -> -2.013684 | H17: ='Valores Delta Ct (T1)'!E17-'Fold Change (T1)'!B$7 -> -1.673684 | I17: ='Valores Delta Ct (T1)'!F17-'Fold Change (T1)'!B$8 -> 3.9396082 | J17: ='Valores Delta Ct (T1)'!G17-'Fold Change (T1)'!B$9 -> -2.053684 | K17: ='Valores Delta Ct (T1)'!H17-'Fold Change (T1)'!B$10 -> -2.9654317 | L17: ='Valores Delta Ct (T1)'!I17-'Fold Change (T1)'!B$11 -> 2.996316 | M17: ='Valores Delta Ct (T1)'!J17-'Fold Change (T1)'!B$12 -> -2.043684 | N17: ='Valores Delta Ct (T1)'!K17-'Fold Change (T1)'!B$13 -> 0.52373116 | O17: ='Valores Delta Ct (T1)'!L17-'Fold Change (T1)'!B$14 -> 0.53631599 | Q17: 3F | R17: POCG - 1 | S17: =2^-F17 -> 1 | T17: =2^-G17 -> 4.0381206 | U17: =2^-H17 -> 3.1902821 | V17: =2^-I17 -> 0.065171805 | W17: =2^-J17 -> 4.1516476 | X17: =2^-K17 -> 7.8105912 | Y17: =2^-L17 -> 0.1253196 | Z17: =2^-M17 -> 4.1229701 | ... AB17: =2^-O17 -> 0.68952942
D18: 4B | E18: POCMG - 1 | F18: ='Valores Delta Ct (T1)'!C18-'Fold Change (T1)'!B$5 -> 0 | G18: ='Valores Delta Ct (T1)'!D18-'Fold Change (T1)'!B$6 -> 0.52927139 | H18: ='Valores Delta Ct (T1)'!E18-'Fold Change (T1)'!B$7 -> 0.86927139 | I18: ='Valores Delta Ct (T1)'!F18-'Fold Change (T1)'!B$8 -> -0.15499435 | J18: ='Valores Delta Ct (T1)'!G18-'Fold Change (T1)'!B$9 -> 0.48927139 | K18: ='Valores Delta Ct (T1)'!H18-'Fold Change (T1)'!B$10 -> 1.5782751 | L18: ='Valores Delta Ct (T1)'!I18-'Fold Change (T1)'!B$11 -> 2.6170988 | M18: ='Valores Delta Ct (T1)'!J18-'Fold Change (T1)'!B$12 -> 0.49927139 | N18: ='Valores Delta Ct (T1)'!K18-'Fold Change (T1)'!B$13 -> -2.3353654 | O18: ='Valores Delta Ct (T1)'!L18-'Fold Change (T1)'!B$14 -> -3.6694736 | Q18: 4B | R18: POCMG - 1 | S18: =2^-F18 -> 1 | T18: =2^-G18 -> 0.69290458 | U18: =2^-H18 -> 0.54742325 | V18: =2^-I18 -> 1.1134173 | W18: =2^-J18 -> 0.71238478 | X18: =2^-K18 -> 0.33488203 | Y18: =2^-L18 -> 0.16299517 | Z18: =2^-M18 -> 0.70746398 | ... AB18: =2^-O18 -> 12.72394
D19: 4C | E19: POCMG - 1 | F19: ='Valores Delta Ct (T1)'!C19-'Fold Change (T1)'!B$5 -> 0 | G19: ='Valores Delta Ct (T1)'!D19-'Fold Change (T1)'!B$6 -> -2.7484767 | H19: ='Valores Delta Ct (T1)'!E19-'Fold Change (T1)'!B$7 -> 0.43487656 | I19: ='Valores Delta Ct (T1)'!F19-'Fold Change (T1)'!B$8 -> -2.4112123 | J19: ='Valores Delta Ct (T1)'!G19-'Fold Change (T1)'!B$9 -> 0.054876556 | K19: ='Valores Delta Ct (T1)'!H19-'Fold Change (T1)'!B$10 -> 4.0048766 | L19: ='Valores Delta Ct (T1)'!I19-'Fold Change (T1)'!B$11 -> -2.0262498 | M19: ='Valores Delta Ct (T1)'!J19-'Fold Change (T1)'!B$12 -> 0.064876556 | N19: ='Valores Delta Ct (T1)'!K19-'Fold Change (T1)'!B$13 -> -5.2189332 | O19: ='Valores Delta Ct (T1)'!L19-'Fold Change (T1)'!B$14 -> -0.15374557 | Q19: 4C | R19: POCMG - 1 | S19: =2^-F19 -> 1 | T19: =2^-G19 -> 6.7200721 | U19: =2^-H19 -> 0.73975705 | V19: =2^-I19 -> 5.3192112 | W19: =2^-J19 -> 0.96267681 | X19: =2^-K19 -> 0.062289096 | Y19: =2^-L19 -> 4.0734462 | Z19: =2^-M19 -> 0.95602712 | ... AB19: =2^-O19 -> 1.1124539
D20: 4E | E20: POCMG - 1 | F20: ='Valores Delta Ct (T1)'!C20-'Fold Change (T1)'!B$5 -> 0 | G20: ='Valores Delta Ct (T1)'!D20-'Fold Change (T1)'!B$6 -> 0.033297806 | H20: ='Valores Delta Ct (T1)'!E20-'Fold Change (T1)'!B$7 -> -4.8258141 | I20: ='Valores Delta Ct (T1)'!F20-'Fold Change (T1)'!B$8 -> -1.6195482 | J20: ='Valores Delta Ct (T1)'!G20-'Fold Change (T1)'!B$9 -> -0.0067021942 | K20: ='Valores Delta Ct (T1)'!H20-'Fold Change (T1)'!B$10 -> 3.9432978 | L20: ='Valores Delta Ct (T1)'!I20-'Fold Change (T1)'!B$11 -> -1.6793851 | M20: ='Valores Delta Ct (T1)'!J20-'Fold Change (T1)'!B$12 -> -4.2614574 | N20: ='Valores Delta Ct (T1)'!K20-'Fold Change (T1)'!B$13 -> 0.29249947 | O20: ='Valores Delta Ct (T1)'!L20-'Fold Change (T1)'!B$14 -> -0.30990593 | Q20: 4E | R20: POCMG - 1 | S20: =2^-F20 -> 1 | T20: =2^-G20 -> 0.97718403 | U20: =2^-H20 -> 28.36056 | V20: =2^-I20 -> 3.0727879 | W20: =2^-J20 -> 1.0046564 | X20: =2^-K20 -> 0.065005347 | Y20: =2^-L20 -> 3.2029142 | Z20: =2^-M20 -> 19.179025 | ... AB20: =2^-O20 -> 1.2396269
D21: 4F | E21: POCMG - 1 | F21: ='Valores Delta Ct (T1)'!C21-'Fold Change (T1)'!B$5 -> 0 | G21: ='Valores Delta Ct (T1)'!D21-'Fold Change (T1)'!B$6 -> 0.86644485 | H21: ='Valores Delta Ct (T1)'!E21-'Fold Change (T1)'!B$7 -> 1.2064449 | I21: ='Valores Delta Ct (T1)'!F21-'Fold Change (T1)'!B$8 -> 7.7264449 | J21: ='Valores Delta Ct (T1)'!G21-'Fold Change (T1)'!B$9 -> 0.82644485 | K21: ='Valores Delta Ct (T1)'!H21-'Fold Change (T1)'!B$10 -> -0.45829636 | L21: ='Valores Delta Ct (T1)'!I21-'Fold Change (T1)'!B$11 -> 5.8764449 | M21: ='Valores Delta Ct (T1)'!J21-'Fold Change (T1)'!B$12 -> 0.83644485 | N21: ='Valores Delta Ct (T1)'!K21-'Fold Change (T1)'!B$13 -> 1.1890582 | O21: ='Valores Delta Ct (T1)'!L21-'Fold Change (T1)'!B$14 -> 3.4164449 | Q21: 4F | R21: POCMG - 1 | S21: =2^-F21 -> 1 | T21: =2^-G21 -> 0.54849681 | U21: =2^-H21 -> 0.43333514 | V21: =2^-I21 -> 0.0047218082 | W21: =2^-J21 -> 0.56391716 | X21: =2^-K21 -> 1.3739184 | Y21: =2^-L21 -> 0.017022127 | Z21: =2^-M21 -> 0.5600219 | ... AB21: =2^-O21 -> 0.093658591
D22: 5A | E22: PCMG - 1 | F22: ='Valores Delta Ct (T1)'!C22-'Fold Change (T1)'!B$5 -> 0 | G22: ='Valores Delta Ct (T1)'!D22-'Fold Change (T1)'!B$6 -> -5.0021274 | H22: ='Valores Delta Ct (T1)'!E22-'Fold Change (T1)'!B$7 -> -4.2928876 | I22: ='Valores Delta Ct (T1)'!F22-'Fold Change (T1)'!B$8 -> -0.75482117 | J22: ='Valores Delta Ct (T1)'!G22-'Fold Change (T1)'!B$9 -> -3.2882135 | K22: ='Valores Delta Ct (T1)'!H22-'Fold Change (T1)'!B$10 -> 2.4674124 | L22: ='Valores Delta Ct (T1)'!I22-'Fold Change (T1)'!B$11 -> -0.43360992 | M22: ='Valores Delta Ct (T1)'!J22-'Fold Change (T1)'!B$12 -> -3.5713005 | N22: ='Valores Delta Ct (T1)'!K22-'Fold Change (T1)'!B$13 -> 0.29012482 | O22: ='Valores Delta Ct (T1)'!L22-'Fold Change (T1)'!B$14 -> -6.6647529 | Q22: 5A | R22: PCMG - 1 | S22: =2^-F22 -> 1 | T22: =2^-G22 -> 32.047222 | U22: =2^-H22 -> 19.601438 | V22: =2^-I22 -> 1.6874224 | W22: =2^-J22 -> 9.7690177 | X22: =2^-K22 -> 0.18081516 | Y22: =2^-L22 -> 1.3506089 | Z22: =2^-M22 -> 11.886899 | ... AB22: =2^-O22 -> 101.45899
D23: 5B | E23: PCMG - 1 | F23: ='Valores Delta Ct (T1)'!C23-'Fold Change (T1)'!B$5 -> 0 | G23: ='Valores Delta Ct (T1)'!D23-'Fold Change (T1)'!B$6 -> -5.705445 | H23: ='Valores Delta Ct (T1)'!E23-'Fold Change (T1)'!B$7 -> 1.0884315 | I23: ='Valores Delta Ct (T1)'!F23-'Fold Change (T1)'!B$8 -> 2.1829745 | J23: ='Valores Delta Ct (T1)'!G23-'Fold Change (T1)'!B$9 -> -2.0993002 | K23: ='Valores Delta Ct (T1)'!H23-'Fold Change (T1)'!B$10 -> -1.1210523 | L23: ='Valores Delta Ct (T1)'!I23-'Fold Change (T1)'!B$11 -> 2.8559618 | M23: ='Valores Delta Ct (T1)'!J23-'Fold Change (T1)'!B$12 -> 0.71843147 | N23: ='Valores Delta Ct (T1)'!K23-'Fold Change (T1)'!B$13 -> 1.1736449 | O23: ='Valores Delta Ct (T1)'!L23-'Fold Change (T1)'!B$14 -> -2.2711295 | Q23: 5B | R23: PCMG - 1 | S23: =2^-F23 -> 1 | T23: =2^-G23 -> 52.180723 | U23: =2^-H23 -> 0.47027239 | V23: =2^-I23 -> 0.22022124 | W23: =2^-J23 -> 4.2850147 | X23: =2^-K23 -> 2.1750557 | Y23: =2^-L23 -> 0.13812421 | Z23: =2^-M23 -> 0.60775785 | ... AB23: =2^-O23 -> 4.8270091
D24: 5C | E24: PCMG - 1 | F24: ='Valores Delta Ct (T1)'!C24-'Fold Change (T1)'!B$5 -> 0 | G24: ='Valores Delta Ct (T1)'!D24-'Fold Change (T1)'!B$6 -> -2.2647807 | H24: ='Valores Delta Ct (T1)'!E24-'Fold Change (T1)'!B$7 -> -2.8710927 | I24: ='Valores Delta Ct (T1)'!F24-'Fold Change (T1)'!B$8 -> -1.88174 | J24: ='Valores Delta Ct (T1)'!G24-'Fold Change (T1)'!B$9 -> 0.32596039 | K24: ='Valores Delta Ct (T1)'!H24-'Fold Change (T1)'!B$10 -> 4.2759604 | L24: ='Valores Delta Ct (T1)'!I24-'Fold Change (T1)'!B$11 -> -2.7737226 | M24: ='Valores Delta Ct (T1)'!J24-'Fold Change (T1)'!B$12 -> -2.1503525 | N24: ='Valores Delta Ct (T1)'!K24-'Fold Change (T1)'!B$13 -> 0.41618149 | O24: ='Valores Delta Ct (T1)'!L24-'Fold Change (T1)'!B$14 -> -1.5943011 | Q24: 5C | R24: PCMG - 1 | S24: =2^-F24 -> 1 | T24: =2^-G24 -> 4.8058137 | U24: =2^-H24 -> 7.3161907 | V24: =2^-I24 -> 3.6851924 | W24: =2^-J24 -> 0.79776714 | X24: =2^-K24 -> 0.051618771 | Y24: =2^-L24 -> 6.8387024 | Z24: =2^-M24 -> 4.4393624 | ... AB24: =2^-O24 -> 3.0194822
D25: 5D | E25: PCMG - 1 | F25: ='Valores Delta Ct (T1)'!C25-'Fold Change (T1)'!B$5 -> 0 | G25: ='Valores Delta Ct (T1)'!D25-'Fold Change (T1)'!B$6 -> 0.79419258 | H25: ='Valores Delta Ct (T1)'!E25-'Fold Change (T1)'!B$7 -> -1.7632531 | I25: ='Valores Delta Ct (T1)'!F25-'Fold Change (T1)'!B$8 -> -0.57129417 | J25: ='Valores Delta Ct (T1)'!G25-'Fold Change (T1)'!B$9 -> 0.75419258 | K25: ='Valores Delta Ct (T1)'!H25-'Fold Change (T1)'!B$10 -> 0.42663902 | L25: ='Valores Delta Ct (T1)'!I25-'Fold Change (T1)'!B$11 -> 0.76798347 | M25: ='Valores Delta Ct (T1)'!J25-'Fold Change (T1)'!B$12 -> -4.8463078 | N25: ='Valores Delta Ct (T1)'!K25-'Fold Change (T1)'!B$13 -> 1.4090118 | O25: ='Valores Delta Ct (T1)'!L25-'Fold Change (T1)'!B$14 -> -0.67721931 | Q25: 5D | R25: PCMG - 1 | S25: =2^-F25 -> 1 | T25: =2^-G25 -> 0.57666582 | U25: =2^-H25 -> 3.3946271 | V25: =2^-I25 -> 1.4858559 | W25: =2^-J25 -> 0.5928781 | X25: =2^-K25 -> 0.74399301 | Y25: =2^-L25 -> 0.58723771 | Z25: =2^-M25 -> 28.7663 | ... AB25: =2^-O25 -> 1.5990547
D26: 5E | E26: PCMG - 1 | F26: ='Valores Delta Ct (T1)'!C26-'Fold Change (T1)'!B$5 -> 0 | G26: ='Valores Delta Ct (T1)'!D26-'Fold Change (T1)'!B$6 -> -1.1393649 | H26: ='Valores Delta Ct (T1)'!E26-'Fold Change (T1)'!B$7 -> -0.79936493 | I26: ='Valores Delta Ct (T1)'!F26-'Fold Change (T1)'!B$8 -> 0.15595688 | J26: ='Valores Delta Ct (T1)'!G26-'Fold Change (T1)'!B$9 -> -1.1793649 | K26: ='Valores Delta Ct (T1)'!H26-'Fold Change (T1)'!B$10 -> 2.7706351 | L26: ='Valores Delta Ct (T1)'!I26-'Fold Change (T1)'!B$11 -> 3.8706351 | M26: ='Valores Delta Ct (T1)'!J26-'Fold Change (T1)'!B$12 -> -3.8655815 | N26: ='Valores Delta Ct (T1)'!K26-'Fold Change (T1)'!B$13 -> -0.6725827 | O26: ='Valores Delta Ct (T1)'!L26-'Fold Change (T1)'!B$14 -> 1.4106351 | Q26: 5E | R26: PCMG - 1 | S26: =2^-F26 -> 1 | T26: =2^-G26 -> 2.2028403 | U26: =2^-H26 -> 1.7403349 | V26: =2^-I26 -> 0.89753688 | W26: =2^-J26 -> 2.2647706 | X26: =2^-K26 -> 0.14653985 | Y26: =2^-L26 -> 0.068363256 | Z26: =2^-M26 -> 14.576592 | ... AB26: =2^-O26 -> 0.37614607
... D38: 7E | E38: CG - 1 | F38: ='Valores Delta Ct (T1)'!C38-'Fold Change (T1)'!B$5 -> 0 | G38: ='Valores Delta Ct (T1)'!D38-'Fold Change (T1)'!B$6 -> -0.0012995911 | H38: ='Valores Delta Ct (T1)'!E38-'Fold Change (T1)'!B$7 -> 0.33870041 | I38: ='Valores Delta Ct (T1)'!F38-'Fold Change (T1)'!B$8 -> 4.0358931 | J38: ='Valores Delta Ct (T1)'!G38-'Fold Change (T1)'!B$9 -> -0.041299591 | K38: ='Valores Delta Ct (T1)'!H38-'Fold Change (T1)'!B$10 -> 0.48628372 | L38: ='Valores Delta Ct (T1)'!I38-'Fold Change (T1)'!B$11 -> 1.7040129 | M38: ='Valores Delta Ct (T1)'!J38-'Fold Change (T1)'!B$12 -> -0.031299591 | N38: ='Valores Delta Ct (T1)'!K38-'Fold Change (T1)'!B$13 -> 0.067212982 | O38: ='Valores Delta Ct (T1)'!L38-'Fold Change (T1)'!B$14 -> 2.5487004 | Q38: 7E | R38: CG - 1 | S38: =2^-F38 -> 1 | T38: =2^-G38 -> 1.0009012 | U38: =2^-H38 -> 0.79075331 | V38: =2^-I38 -> 0.060964234 | W38: =2^-J38 -> 1.0290404 | X38: =2^-K38 -> 0.71386159 | Y38: =2^-L38 -> 0.30693117 | Z38: =2^-M38 -> 1.0219323 | ... AB38: =2^-O38 -> 0.17090892
F39: ='Valores Delta Ct (T1)'!C39-'Fold Change (T1)'!B$5 -> 0 | G39: ='Valores Delta Ct (T1)'!D39-'Fold Change (T1)'!B$6 -> -10.22 | H39: ='Valores Delta Ct (T1)'!E39-'Fold Change (T1)'!B$7 -> -9.88 | I39: ='Valores Delta Ct (T1)'!F39-'Fold Change (T1)'!B$8 -> -3.36 | J39: ='Valores Delta Ct (T1)'!G39-'Fold Change (T1)'!B$9 -> -10.26 | K39: ='Valores Delta Ct (T1)'!H39-'Fold Change (T1)'!B$10 -> -6.31 | L39: ='Valores Delta Ct (T1)'!I39-'Fold Change (T1)'!B$11 -> -5.21 | M39: ='Valores Delta Ct (T1)'!J39-'Fold Change (T1)'!B$12 -> -10.25 | N39: ='Valores Delta Ct (T1)'!K39-'Fold Change (T1)'!B$13 -> -5.08 | O39: ='Valores Delta Ct (T1)'!L39-'Fold Change (T1)'!B$14 -> -7.67 | S39: =2^-F39 -> 1 | T39: =2^-G39 -> 1192.6872 | U39: =2^-H39 -> 942.27215 | V39: =2^-I39 -> 10.267407 | W39: =2^-J39 -> 1226.2182 | X39: =2^-K39 -> 79.341293 | Y39: =2^-L39 -> 37.014022 | Z39: =2^-M39 -> 1217.7481 | ... AB39: =2^-O39 -> 203.65734
F40: ='Valores Delta Ct (T1)'!C40-'Fold Change (T1)'!B$5 -> 0 | G40: ='Valores Delta Ct (T1)'!D40-'Fold Change (T1)'!B$6 -> -10.22 | H40: ='Valores Delta Ct (T1)'!E40-'Fold Change (T1)'!B$7 -> -9.88 | I40: ='Valores Delta Ct (T1)'!F40-'Fold Change (T1)'!B$8 -> -3.36 | J40: ='Valores Delta Ct (T1)'!G40-'Fold Change (T1)'!B$9 -> -10.26 | K40: ='Valores Delta Ct (T1)'!H40-'Fold Change (T1)'!B$10 -> -6.31 | L40: ='Valores Delta Ct (T1)'!I40-'Fold Change (T1)'!B$11 -> -5.21 | M40: ='Valores Delta Ct (T1)'!J40-'Fold Change (T1)'!B$12 -> -10.25 | N40: ='Valores Delta Ct (T1)'!K40-'Fold Change (T1)'!B$13 -> -5.08 | O40: ='Valores Delta Ct (T1)'!L40-'Fold Change (T1)'!B$14 -> -7.67 | S40: =2^-F40 -> 1 | T40: =2^-G40 -> 1192.6872 | U40: =2^-H40 -> 942.27215 | V40: =2^-I40 -> 10.267407 | W40: =2^-J40 -> 1226.2182 | X40: =2^-K40 -> 79.341293 | Y40: =2^-L40 -> 37.014022 | Z40: =2^-M40 -> 1217.7481 | ... AB40: =2^-O40 -> 203.65734
F41: ='Valores Delta Ct (T1)'!C41-'Fold Change (T1)'!B$5 -> 0 | G41: ='Valores Delta Ct (T1)'!D41-'Fold Change (T1)'!B$6 -> -10.22 | H41: ='Valores Delta Ct (T1)'!E41-'Fold Change (T1)'!B$7 -> -9.88 | I41: ='Valores Delta Ct (T1)'!F41-'Fold Change (T1)'!B$8 -> -3.36 | J41: ='Valores Delta Ct (T1)'!G41-'Fold Change (T1)'!B$9 -> -10.26 | K41: ='Valores Delta Ct (T1)'!H41-'Fold Change (T1)'!B$10 -> -6.31 | L41: ='Valores Delta Ct (T1)'!I41-'Fold Change (T1)'!B$11 -> -5.21 | M41: ='Valores Delta Ct (T1)'!J41-'Fold Change (T1)'!B$12 -> -10.25 | N41: ='Valores Delta Ct (T1)'!K41-'Fold Change (T1)'!B$13 -> -5.08 | O41: ='Valores Delta Ct (T1)'!L41-'Fold Change (T1)'!B$14 -> -7.67 | S41: =2^-F41 -> 1 | T41: =2^-G41 -> 1192.6872 | U41: =2^-H41 -> 942.27215 | V41: =2^-I41 -> 10.267407 | W41: =2^-J41 -> 1226.2182 | X41: =2^-K41 -> 79.341293 | Y41: =2^-L41 -> 37.014022 | Z41: =2^-M41 -> 1217.7481 | ... AB41: =2^-O41 -> 203.65734
F42: ='Valores Delta Ct (T1)'!C42-'Fold Change (T1)'!B$5 -> 0 | G42: ='Valores Delta Ct (T1)'!D42-'Fold Change (T1)'!B$6 -> -10.22 | H42: ='Valores Delta Ct (T1)'!E42-'Fold Change (T1)'!B$7 -> -9.88 | I42: ='Valores Delta Ct (T1)'!F42-'Fold Change (T1)'!B$8 -> -3.36 | J42: ='Valores Delta Ct (T1)'!G42-'Fold Change (T1)'!B$9 -> -10.26 | K42: ='Valores Delta Ct (T1)'!H42-'Fold Change (T1)'!B$10 -> -6.31 | L42: ='Valores Delta Ct (T1)'!I42-'Fold Change (T1)'!B$11 -> -5.21 | M42: ='Valores Delta Ct (T1)'!J42-'Fold Change (T1)'!B$12 -> -10.25 | N42: ='Valores Delta Ct (T1)'!K42-'Fold Change (T1)'!B$13 -> -5.08 | O42: ='Valores Delta Ct (T1)'!L42-'Fold Change (T1)'!B$14 -> -7.67 | S42: =2^-F42 -> 1 | T42: =2^-G42 -> 1192.6872 | U42: =2^-H42 -> 942.27215 | V42: =2^-I42 -> 10.267407 | W42: =2^-J42 -> 1226.2182 | X42: =2^-K42 -> 79.341293 | Y42: =2^-L42 -> 37.014022 | Z42: =2^-M42 -> 1217.7481 | ... AB42: =2^-O42 -> 203.65734
F43: ='Valores Delta Ct (T1)'!C43-'Fold Change (T1)'!B$5 -> 0 | G43: ='Valores Delta Ct (T1)'!D43-'Fold Change (T1)'!B$6 -> -10.22 | H43: ='Valores Delta Ct (T1)'!E43-'Fold Change (T1)'!B$7 -> -9.88 | I43: ='Valores Delta Ct (T1)'!F43-'Fold Change (T1)'!B$8 -> -3.36 | J43: ='Valores Delta Ct (T1)'!G43-'Fold Change (T1)'!B$9 -> -10.26 | K43: ='Valores Delta Ct (T1)'!H43-'Fold Change (T1)'!B$10 -> -6.31 | L43: ='Valores Delta Ct (T1)'!I43-'Fold Change (T1)'!B$11 -> -5.21 | M43: ='Valores Delta Ct (T1)'!J43-'Fold Change (T1)'!B$12 -> -10.25 | N43: ='Valores Delta Ct (T1)'!K43-'Fold Change (T1)'!B$13 -> -5.08 | O43: ='Valores Delta Ct (T1)'!L43-'Fold Change (T1)'!B$14 -> -7.67 | S43: =2^-F43 -> 1 | T43: =2^-G43 -> 1192.6872 | U43: =2^-H43 -> 942.27215 | V43: =2^-I43 -> 10.267407 | W43: =2^-J43 -> 1226.2182 | X43: =2^-K43 -> 79.341293 | Y43: =2^-L43 -> 37.014022 | Z43: =2^-M43 -> 1217.7481 | ... AB43: =2^-O43 -> 203.65734
F44: ='Valores Delta Ct (T1)'!C44-'Fold Change (T1)'!B$5 -> 0 | G44: ='Valores Delta Ct (T1)'!D44-'Fold Change (T1)'!B$6 -> -10.22 | H44: ='Valores Delta Ct (T1)'!E44-'Fold Change (T1)'!B$7 -> -9.88 | I44: ='Valores Delta Ct (T1)'!F44-'Fold Change (T1)'!B$8 -> -3.36 | J44: ='Valores Delta Ct (T1)'!G44-'Fold Change (T1)'!B$9 -> -10.26 | K44: ='Valores Delta Ct (T1)'!H44-'Fold Change (T1)'!B$10 -> -6.31 | L44: ='Valores Delta Ct (T1)'!I44-'Fold Change (T1)'!B$11 -> -5.21 | M44: ='Valores Delta Ct (T1)'!J44-'Fold Change (T1)'!B$12 -> -10.25 | N44: ='Valores Delta Ct (T1)'!K44-'Fold Change (T1)'!B$13 -> -5.08 | O44: ='Valores Delta Ct (T1)'!L44-'Fold Change (T1)'!B$14 -> -7.67 | S44: =2^-F44 -> 1 | T44: =2^-G44 -> 1192.6872 | U44: =2^-H44 -> 942.27215 | V44: =2^-I44 -> 10.267407 | W44: =2^-J44 -> 1226.2182 | X44: =2^-K44 -> 79.341293 | Y44: =2^-L44 -> 37.014022 | Z44: =2^-M44 -> 1217.7481 | ... AB44: =2^-O44 -> 203.65734
F45: ='Valores Delta Ct (T1)'!C45-'Fold Change (T1)'!B$5 -> 0 | G45: ='Valores Delta Ct (T1)'!D45-'Fold Change (T1)'!B$6 -> -10.22 | H45: ='Valores Delta Ct (T1)'!E45-'Fold Change (T1)'!B$7 -> -9.88 | I45: ='Valores Delta Ct (T1)'!F45-'Fold Change (T1)'!B$8 -> -3.36 | J45: ='Valores Delta Ct (T1)'!G45-'Fold Change (T1)'!B$9 -> -10.26 | K45: ='Valores Delta Ct (T1)'!H45-'Fold Change (T1)'!B$10 -> -6.31 | L45: ='Valores Delta Ct (T1)'!I45-'Fold Change (T1)'!B$11 -> -5.21 | M45: ='Valores Delta Ct (T1)'!J45-'Fold Change (T1)'!B$12 -> -10.25 | N45: ='Valores Delta Ct (T1)'!K45-'Fold Change (T1)'!B$13 -> -5.08 | O45: ='Valores Delta Ct (T1)'!L45-'Fold Change (T1)'!B$14 -> -7.67 | S45: =2^-F45 -> 1 | T45: =2^-G45 -> 1192.6872 | U45: =2^-H45 -> 942.27215 | V45: =2^-I45 -> 10.267407 | W45: =2^-J45 -> 1226.2182 | X45: =2^-K45 -> 79.341293 | Y45: =2^-L45 -> 37.014022 | Z45: =2^-M45 -> 1217.7481 | ... AB45: =2^-O45 -> 203.65734
F46: ='Valores Delta Ct (T1)'!C46-'Fold Change (T1)'!B$5 -> 0 | G46: ='Valores Delta Ct (T1)'!D46-'Fold Change (T1)'!B$6 -> -10.22 | H46: ='Valores Delta Ct (T1)'!E46-'Fold Change (T1)'!B$7 -> -9.88 | I46: ='Valores Delta Ct (T1)'!F46-'Fold Change (T1)'!B$8 -> -3.36 | J46: ='Valores Delta Ct (T1)'!G46-'Fold Change (T1)'!B$9 -> -10.26 | K46: ='Valores Delta Ct (T1)'!H46-'Fold Change (T1)'!B$10 -> -6.31 | L46: ='Valores Delta Ct (T1)'!I46-'Fold Change (T1)'!B$11 -> -5.21 | M46: ='Valores Delta Ct (T1)'!J46-'Fold Change (T1)'!B$12 -> -10.25 | N46: ='Valores Delta Ct (T1)'!K46-'Fold Change (T1)'!B$13 -> -5.08 | O46: ='Valores Delta Ct (T1)'!L46-'Fold Change (T1)'!B$14 -> -7.67 | S46: =2^-F46 -> 1 | T46: =2^-G46 -> 1192.6872 | U46: =2^-H46 -> 942.27215 | V46: =2^-I46 -> 10.267407 | W46: =2^-J46 -> 1226.2182 | X46: =2^-K46 -> 79.341293 | Y46: =2^-L46 -> 37.014022 | Z46: =2^-M46 -> 1217.7481 | ... AB46: =2^-O46 -> 203.65734
F47: ='Valores Delta Ct (T1)'!C47-'Fold Change (T1)'!B$5 -> 0 | G47: ='Valores Delta Ct (T1)'!D47-'Fold Change (T1)'!B$6 -> -10.22 | H47: ='Valores Delta Ct (T1)'!E47-'Fold Change (T1)'!B$7 -> -9.88 | I47: ='Valores Delta Ct (T1)'!F47-'Fold Change (T1)'!B$8 -> -3.36 | J47: ='Valores Delta Ct (T1)'!G47-'Fold Change (T1)'!B$9 -> -10.26 | K47: ='Valores Delta Ct (T1)'!H47-'Fold Change (T1)'!B$10 -> -6.31 | L47: ='Valores Delta Ct (T1)'!I47-'Fold Change (T1)'!B$11 -> -5.21 | M47: ='Valores Delta Ct (T1)'!J47-'Fold Change (T1)'!B$12 -> -10.25 | N47: ='Valores Delta Ct (T1)'!K47-'Fold Change (T1)'!B$13 -> -5.08 | O47: ='Valores Delta Ct (T1)'!L47-'Fold Change (T1)'!B$14 -> -7.67 | S47: =2^-F47 -> 1 | T47: =2^-G47 -> 1192.6872 | U47: =2^-H47 -> 942.27215 | V47: =2^-I47 -> 10.267407 | W47: =2^-J47 -> 1226.2182 | X47: =2^-K47 -> 79.341293 | Y47: =2^-L47 -> 37.014022 | Z47: =2^-M47 -> 1217.7481 | ... AB47: =2^-O47 -> 203.65734
F48: ='Valores Delta Ct (T1)'!C48-'Fold Change (T1)'!B$5 -> 0 | G48: ='Valores Delta Ct (T1)'!D48-'Fold Change (T1)'!B$6 -> -10.22 | H48: ='Valores Delta Ct (T1)'!E48-'Fold Change (T1)'!B$7 -> -9.88 | I48: ='Valores Delta Ct (T1)'!F48-'Fold Change (T1)'!B$8 -> -3.36 | J48: ='Valores Delta Ct (T1)'!G48-'Fold Change (T1)'!B$9 -> -10.26 | K48: ='Valores Delta Ct (T1)'!H48-'Fold Change (T1)'!B$10 -> -6.31 | L48: ='Valores Delta Ct (T1)'!I48-'Fold Change (T1)'!B$11 -> -5.21 | M48: ='Valores Delta Ct (T1)'!J48-'Fold Change (T1)'!B$12 -> -10.25 | N48: ='Valores Delta Ct (T1)'!K48-'Fold Change (T1)'!B$13 -> -5.08 | O48: ='Valores Delta Ct (T1)'!L48-'Fold Change (T1)'!B$14 -> -7.67 | S48: =2^-F48 -> 1 | T48: =2^-G48 -> 1192.6872 | U48: =2^-H48 -> 942.27215 | V48: =2^-I48 -> 10.267407 | W48: =2^-J48 -> 1226.2182 | X48: =2^-K48 -> 79.341293 | Y48: =2^-L48 -> 37.014022 | Z48: =2^-M48 -> 1217.7481 | ... AB48: =2^-O48 -> 203.65734
F49: ='Valores Delta Ct (T1)'!C49-'Fold Change (T1)'!B$5 -> 0 | G49: ='Valores Delta Ct (T1)'!D49-'Fold Change (T1)'!B$6 -> -10.22 | H49: ='Valores Delta Ct (T1)'!E49-'Fold Change (T1)'!B$7 -> -9.88 | I49: ='Valores Delta Ct (T1)'!F49-'Fold Change (T1)'!B$8 -> -3.36 | J49: ='Valores Delta Ct (T1)'!G49-'Fold Change (T1)'!B$9 -> -10.26 | K49: ='Valores Delta Ct (T1)'!H49-'Fold Change (T1)'!B$10 -> -6.31 | L49: ='Valores Delta Ct (T1)'!I49-'Fold Change (T1)'!B$11 -> -5.21 | M49: ='Valores Delta Ct (T1)'!J49-'Fold Change (T1)'!B$12 -> -10.25 | N49: ='Valores Delta Ct (T1)'!K49-'Fold Change (T1)'!B$13 -> -5.08 | O49: ='Valores Delta Ct (T1)'!L49-'Fold Change (T1)'!B$14 -> -7.67 | S49: =2^-F49 -> 1 | T49: =2^-G49 -> 1192.6872 | U49: =2^-H49 -> 942.27215 | V49: =2^-I49 -> 10.267407 | W49: =2^-J49 -> 1226.2182 | X49: =2^-K49 -> 79.341293 | Y49: =2^-L49 -> 37.014022 | Z49: =2^-M49 -> 1217.7481 | ... AB49: =2^-O49 -> 203.65734
F50: ='Valores Delta Ct (T1)'!C50-'Fold Change (T1)'!B$5 -> 0 | G50: ='Valores Delta Ct (T1)'!D50-'Fold Change (T1)'!B$6 -> -10.22 | H50: ='Valores Delta Ct (T1)'!E50-'Fold Change (T1)'!B$7 -> -9.88 | I50: ='Valores Delta Ct (T1)'!F50-'Fold Change (T1)'!B$8 -> -3.36 | J50: ='Valores Delta Ct (T1)'!G50-'Fold Change (T1)'!B$9 -> -10.26 | K50: ='Valores Delta Ct (T1)'!H50-'Fold Change (T1)'!B$10 -> -6.31 | L50: ='Valores Delta Ct (T1)'!I50-'Fold Change (T1)'!B$11 -> -5.21 | M50: ='Valores Delta Ct (T1)'!J50-'Fold Change (T1)'!B$12 -> -10.25 | N50: ='Valores Delta Ct (T1)'!K50-'Fold Change (T1)'!B$13 -> -5.08 | O50: ='Valores Delta Ct (T1)'!L50-'Fold Change (T1)'!B$14 -> -7.67 | S50: =2^-F50 -> 1 | T50: =2^-G50 -> 1192.6872 | U50: =2^-H50 -> 942.27215 | V50: =2^-I50 -> 10.267407 | W50: =2^-J50 -> 1226.2182 | X50: =2^-K50 -> 79.341293 | Y50: =2^-L50 -> 37.014022 | Z50: =2^-M50 -> 1217.7481 | ... AB50: =2^-O50 -> 203.65734
... F75: ='Valores Delta Ct (T1)'!C75-'Fold Change (T1)'!B$5 -> 0 | G75: ='Valores Delta Ct (T1)'!D75-'Fold Change (T1)'!B$6 -> -10.22 | H75: ='Valores Delta Ct (T1)'!E75-'Fold Change (T1)'!B$7 -> -9.88 | I75: ='Valores Delta Ct (T1)'!F75-'Fold Change (T1)'!B$8 -> -3.36 | J75: ='Valores Delta Ct (T1)'!G75-'Fold Change (T1)'!B$9 -> -10.26 | K75: ='Valores Delta Ct (T1)'!H75-'Fold Change (T1)'!B$10 -> -6.31 | L75: ='Valores Delta Ct (T1)'!I75-'Fold Change (T1)'!B$11 -> -5.21 | M75: ='Valores Delta Ct (T1)'!J75-'Fold Change (T1)'!B$12 -> -10.25 | N75: ='Valores Delta Ct (T1)'!K75-'Fold Change (T1)'!B$13 -> -5.08 | O75: ='Valores Delta Ct (T1)'!L75-'Fold Change (T1)'!B$14 -> -7.67 | S75: =2^-F75 -> 1 | T75: =2^-G75 -> 1192.6872 | U75: =2^-H75 -> 942.27215 | V75: =2^-I75 -> 10.267407 | W75: =2^-J75 -> 1226.2182 | X75: =2^-K75 -> 79.341293 | Y75: =2^-L75 -> 37.014022 | Z75: =2^-M75 -> 1217.7481 | ... AB75: =2^-O75 -> 203.65734

Sheet Valores de Ct (T2)
A2: RESULTADOS CORRIDAS PCR - Ct's
A5: Animal | B5: Grupo | C5: GAPDH | D5: BSP | E5: OP | F5: OC | G5: TRAP | H5: CTSK | I5: RANKL | J5: OPG | K5: DDK | L5: SCLER
A6: 10A | B6: NCG - 2 | C6: 29.270197 | D6: 40 | E6: 39.039558 | F6: 35.768562 | G6: 40 | H6: 34.289001 | I6: 38.260895 | J6: 40 | K6: 35.910595 | L6: 35.939213
A7: 10C | B7: NCG - 2 | C7: 29.038233 | D7: 40 | E7: 40 | F7: 32.870876 | G7: 40 | H7: 40 | I7: 37.137196 | J7: 40 | K7: 34.539829 | L7: 40
A8: 10D | B8: NCG - 2 | C8: 29.918461 | D8: 40 | E8: 36.25771 | F8: 28.543823 | G8: 40 | H8: 33.533379 | I8: 30.144524 | J8: 38.575924 | K8: 34.674969 | L8: 35.54895
A9: 10E | B9: NCG - 2 | C9: 29.521631 | D9: 40 | E9: 37.185635 | F9: 32.272869 | G9: 40 | H9: 40 | I9: 33.200562 | J9: 40 | K9: 35.318439 | L9: 40
A10: 10F | B10: NCG - 2 | C10: 29.061983 | D10: 40 | E10: 40 | F10: 37.702316 | G10: 40 | H10: 37.554516 | I10: 40 | J10: 40 | K10: 35.008781 | L10: 36.845905
