Workbook

Sheet Saída do Equipamento
B2: RESULTADOS CORRIDAS PCR - RIO PRETO
B5: Sample Name | C5: Target Name | D5: Task | E5: RQ | F5: RQ Min | G5: RQ Max | H5: Cт Mean | I5: ΔCт Mean | J5: ΔCт SE | K5: ΔΔCт | L5: Grupo Experimental
B6: 1A | C6: GAPDH | D6: UNKNOWN | H6: 28.917839 | L6: GCN-AA-T1
B7: 1A | C7: BSP | D7: UNKNOWN | E7: 1 | H7: 36.233444 | I7: 7.3156052 | K7: 0 | L7: GCN-AA-T1
B8: 1A | C8: OP | D8: UNKNOWN | E8: 1 | H8: 39.17128 | I8: 10.253441 | K8: 0 | L8: GCN-AA-T1
B9: 1A | C9: OC | D9: UNKNOWN | E9: 1 | H9: 28.698803 | I9: -0.2190361 | K9: 0 | L9: GCN-AA-T1
B10: 1A | C10: TRAP | D10: UNKNOWN | E10: 1 | H10: 34.076714 | I10: 5.1588745 | K10: 0 | L10: GCN-AA-T1
B11: 1A | C11: CTSK | D11: UNKNOWN | E11: 1 | H11: 34.560417 | I11: 5.6425781 | K11: 0 | L11: GCN-AA-T1
B12: 1A | C12: RANKL | D12: UNKNOWN | E12: 1 | H12: 29.723434 | I12: 0.8055954 | K12: 0 | L12: GCN-AA-T1
B13: 1A | C13: OPG | D13: UNKNOWN | E13: 1 | H13: 34.389603 | I13: 5.4717636 | K13: 0 | L13: GCN-AA-T1
B14: 1A | C14: DDK | D14: UNKNOWN | E14: 1 | H14: 31.926201 | I14: 3.0083618 | K14: 0 | L14: GCN-AA-T1
B15: 1A | C15: SCLER | D15: UNKNOWN | E15: 1 | H15: 32.014057 | I15: 3.0962181 | K15: 0 | L15: GCN-AA-T1
B16: 1B | C16: GAPDH | D16: UNKNOWN | H16: 28.935968 | L16: GCN-BB-T1
B17: 1B | C17: BSP | D17: UNKNOWN | L17: GCN-BB-T1
B18: 1B | C18: OP | D18: UNKNOWN | E18: 4.6693287 | H18: 36.966194 | I18: 8.0302258 | K18: -2.2232151 | L18: GCN-BB-T1
B19: 1B | C19: OC | D19: UNKNOWN | E19: 0.057967417 | H19: 32.825546 | I19: 3.8895779 | K19: 4.108614 | L19: GCN-BB-T1
B20: 1B | C20: TRAP | D20: UNKNOWN | E20: 0.12489973 | H20: 37.096001 | I20: 8.1600323 | K20: 3.0011578 | L20: GCN-BB-T1
B21: 1B | C21: CTSK | D21: UNKNOWN | E21: 0.078291878 | H21: 38.25354 | I21: 9.3175716 | K21: 3.6749935 | L21: GCN-BB-T1
B22: 1B | C22: RANKL | D22: UNKNOWN | E22: 0.043536946 | H22: 34.26318 | I22: 5.3272114 | K22: 4.521616 | L22: GCN-BB-T1
B23: 1B | C23: OPG | D23: UNKNOWN | L23: GCN-BB-T1
B24: 1B | C24: DDK | D24: UNKNOWN | E24: 0.16875258 | H24: 34.511349 | I24: 5.5753803 | K24: 2.5670185 | L24: GCN-BB-T1
B25: 1B | C25: SCLER | D25: UNKNOWN | E25: 0.45467073 | H25: 33.169292 | I25: 4.2333241 | K25: 1.1371059 | L25: GCN-BB-T1
B26: 1C | C26: GAPDH | D26: UNKNOWN | H26: 29.358866 | L26: GCN-CC-T1
B27: 1C | C27: BSP | D27: UNKNOWN | L27: GCN-CC-T1
B28: 1C | C28: OP | D28: UNKNOWN | L28: GCN-CC-T1
B29: 1C | C29: OC | D29: UNKNOWN | E29: 0.0084850714 | H29: 36.020687 | I29: 6.6618214 | K29: 6.8808575 | L29: GCN-CC-T1
B30: 1C | C30: TRAP | D30: UNKNOWN | L30: GCN-CC-T1
B31: 1C | C31: CTSK | D31: UNKNOWN | E31: 0.65973806 | H31: 35.601479 | I31: 6.2426128 | K31: 0.60003471 | L31: GCN-CC-T1
B32: 1C | C32: RANKL | D32: UNKNOWN | L32: GCN-CC-T1
B33: 1C | C33: OPG | D33: UNKNOWN | E33: 0.20500402 | H33: 37.116905 | I33: 7.7580395 | K33: 2.2862759 | L33: GCN-CC-T1
B34: 1C | C34: DDK | D34: UNKNOWN | E34: 0.074011564 | H34: 36.123333 | I34: 6.7644672 | K34: 3.7561054 | L34: GCN-CC-T1
B35: 1C | C35: SCLER | D35: UNKNOWN | L35: GCN-CC-T1
B36: 1D | C36: GAPDH | D36: UNKNOWN | H36: 29.268734 | L36: GCN-DD-T1
B37: 1D | C37: BSP | D37: UNKNOWN | L37: GCN-DD-T1
B38: 1D | C38: OP | D38: UNKNOWN | L38: GCN-DD-T1
B39: 1D | C39: OC | D39: UNKNOWN | E39: 0.01137618 | H39: 35.507538 | I39: 6.2388039 | K39: 6.45784 | L39: GCN-DD-T1
B40: 1D | C40: TRAP | D40: UNKNOWN | L40: GCN-DD-T1
B41: 1D | C41: CTSK | D41: UNKNOWN | E41: 0.041199245 | H41: 39.51255 | I41: 10.243816 | K41: 4.6012383 | L41: GCN-DD-T1
B42: 1D | C42: RANKL | D42: UNKNOWN | E42: 0.018762007 | H42: 35.810371 | I42: 6.5416374 | K42: 5.736042 | L42: GCN-DD-T1
B43: 1D | C43: OPG | D43: UNKNOWN | L43: GCN-DD-T1
B44: 1D | C44: DDK | D44: UNKNOWN | E44: 0.040111847 | H44: 36.916924 | I44: 7.6481895 | K44: 4.6398277 | L44: GCN-DD-T1
B45: 1D | C45: SCLER | D45: UNKNOWN | E45: 0.63627446 | H45: 33.017231 | I45: 3.748497 | K45: 0.6522789 | L45: GCN-DD-T1
B46: 1E | C46: GAPDH | D46: UNKNOWN | H46: 29.488237 | L46: GCN-EE-T1
B47: 1E | C47: BSP | D47: UNKNOWN | L47: GCN-EE-T1
B48: 1E | C48: OP | D48: UNKNOWN | L48: GCN-EE-T1
B49: 1E | C49: OC | D49: UNKNOWN | E49: 0.0044280146 | H49: 37.088326 | I49: 7.6000881 | K49: 7.8191242 | L49: GCN-EE-T1
B50: 1E | C50: TRAP | D50: UNKNOWN | L50: GCN-EE-T1
B51: 1E | C51: CTSK | D51: UNKNOWN | E51: 0.25398004 | H51: 37.108028 | I51: 7.619791 | K51: 1.9772129 | L51: GCN-EE-T1
B52: 1E | C52: RANKL | D52: UNKNOWN | L52: GCN-EE-T1
B53: 1E | C53: OPG | D53: UNKNOWN | L53: GCN-EE-T1
B54: 1E | C54: DDK | D54: UNKNOWN | E54: 0.069846965 | H54: 36.336258 | I54: 6.8480206 | K54: 3.8396587 | L54: GCN-EE-T1
B55: 1E | C55: SCLER | D55: UNKNOWN | E55: 0.059974324 | H55: 36.643967 | I55: 7.1557293 | K55: 4.0595112 | L55: GCN-EE-T1
B56: 2B | C56: GAPDH | D56: UNKNOWN | H56: 30.516308 | L56: PCG-B-T1
B57: 2B | C57: BSP | D57: UNKNOWN | L57: PCG-B-T1
B58: 2B | C58: OP | D58: UNKNOWN | E58: 20.517565 | H58: 36.410961 | I58: 5.8946533 | K58: -4.3587875 | L58: PCG-B-T1
B59: 2B | C59: OC | D59: UNKNOWN | E59: 0.050160032 | H59: 34.61459 | I59: 4.0982819 | K59: 4.317318 | L59: PCG-B-T1
B60: 2B | C60: TRAP | D60: UNKNOWN | L60: PCG-B-T1
B61: 2B | C61: CTSK | D61: UNKNOWN | E61: 3.8770411 | H61: 34.20393 | I61: 3.6876221 | K61: -1.9549561 | L61: PCG-B-T1
B62: 2B | C62: RANKL | D62: UNKNOWN | E62: 0.018238913 | H62: 37.09874 | I62: 6.5824318 | K62: 5.7768364 | L62: PCG-B-T1
B63: 2B | C63: OPG | D63: UNKNOWN | L63: PCG-B-T1
B64: 2B | C64: DDK | D64: UNKNOWN | E64: 0.093563668 | H64: 36.942577 | I64: 6.4262695 | K64: 3.4179077 | L64: PCG-B-T1
B65: 2B | C65: SCLER | D65: UNKNOWN | L65: PCG-B-T1
B66: 2D | C66: GAPDH | D66: UNKNOWN | H66: 30.86537 | L66: PCG-D-T1
B67: 2D | C67: BSP | D67: UNKNOWN | L67: PCG-D-T1
B68: 2D | C68: OP | D68: UNKNOWN | L68: PCG-D-T1
B69: 2D | C69: OC | D69: UNKNOWN | E69: 1 | H69: 37.107952 | I69: 6.2425823 | K69: 0 | L69: PCG-D-T1
B70: 2D | C70: TRAP | D70: UNKNOWN | L70: PCG-D-T1
B71: 2D | C71: CTSK | D71: UNKNOWN | L71: PCG-D-T1
B72: 2D | C72: RANKL | D72: UNKNOWN | L72: PCG-D-T1
B73: 2D | C73: OPG | D73: UNKNOWN | L73: PCG-D-T1
B74: 2D | C74: DDK | D74: UNKNOWN | E74: 1 | H74: 34.302189 | I74: 3.4368191 | K74: 0 | L74: PCG-D-T1
B75: 2D | C75: SCLER | D75: UNKNOWN | L75: PCG-D-T1
B76: 2E | C76: GAPDH | D76: UNKNOWN | H76: 30.76424 | L76: PCG-E-T1
B77: 2E | C77: BSP | D77: UNKNOWN | L77: PCG-E-T1
B78: 2E | C78: OP | D78: UNKNOWN | L78: PCG-E-T1
B79: 2E | C79: OC | D79: UNKNOWN | E79: 5.389071 | H79: 34.576786 | I79: 3.8125458 | K79: -2.4300365 | L79: PCG-E-T1
B80: 2E | C80: TRAP | D80: UNKNOWN | L80: PCG-E-T1
B81: 2E | C81: CTSK | D81: UNKNOWN | L81: PCG-E-T1
B82: 2E | C82: RANKL | D82: UNKNOWN | L82: PCG-E-T1
B83: 2E | C83: OPG | D83: UNKNOWN | L83: PCG-E-T1
B84: 2E | C84: DDK | D84: UNKNOWN | E84: 0.12039032 | H84: 37.255268 | I84: 6.4910278 | K84: 3.0542088 | L84: PCG-E-T1
B85: 2E | C85: SCLER | D85: UNKNOWN | L85: PCG-E-T1
B86: 3B | C86: GAPDH | D86: UNKNOWN | H86: 30.108068 | L86: POCG-B-T1
B87: 3B | C87: BSP | D87: UNKNOWN | L87: POCG-B-T1
B88: 3B | C88: OP | D88: UNKNOWN | L88: POCG-B-T1
B89: 3B | C89: OC | D89: UNKNOWN | E89: 1.8017652 | H89: 35.50124 | I89: 5.3931713 | K89: -0.84941101 | L89: POCG-B-T1
B90: 3B | C90: TRAP | D90: UNKNOWN | L90: POCG-B-T1
B91: 3B | C91: CTSK | D91: UNKNOWN | L91: POCG-B-T1
B92: 3B | C92: RANKL | D92: UNKNOWN | L92: POCG-B-T1
B93: 3B | C93: OPG | D93: UNKNOWN | L93: POCG-B-T1
B94: 3B | C94: DDK | D94: UNKNOWN | E94: 0.51401103 | H94: 34.505016 | I94: 4.3969479 | K94: 0.96012878 | L94: POCG-B-T1
B95: 3B | C95: SCLER | D95: UNKNOWN | H95: 33.505379 | I95: 3.3973103 | L95: POCG-B-T1
B96: 3C | C96: GAPDH | D96: UNKNOWN | H96: 29.919436 | L96: POCG-C-T1
B97: 3C | C97: BSP | D97: UNKNOWN | L97: POCG-C-T1
B98: 3C | C98: OP | D98: UNKNOWN | L98: POCG-C-T1
B99: 3C | C99: OC | D99: UNKNOWN | E99: 1.604756 | H99: 35.479664 | I99: 5.5602283 | K99: -0.68235397 | L99: POCG-C-T1
B100: 3C | C100: TRAP | D100: UNKNOWN | L100: POCG-C-T1
B101: 3C | C101: CTSK | D101: UNKNOWN | H101: 39.073196 | I101: 9.1537609 | L101: POCG-C-T1
B102: 3C | C102: RANKL | D102: UNKNOWN | L102: POCG-C-T1
B103: 3C | C103: OPG | D103: UNKNOWN | L103: POCG-C-T1
...

Sheet Valores de Ct (T1)
A2: RESULTADOS CORRIDAS PCR - Ct's
A5: Animal | B5: Grupo | C5: GAPDH | D5: BSP | E5: OP | F5: OC | G5: TRAP | H5: CTSK | I5: RANKL | J5: OPG | K5: DDK | L5: SCLER
A6: 1A | B6: NCG - 1 | C6: 28.917839 | D6: 36.233444 | E6: 39.17128 | F6: 28.698803 | G6: 34.076714 | H6: 34.560417 | I6: 29.723434 | J6: 34.389603 | K6: 31.926201 | L6: 32.014057
A7: 2A | B7: NCG - 1 | C7: 28.935968 | D7: 40 | E7: 36.966194 | F7: 32.825546 | G7: 37.096001 | H7: 38.25354 | I7: 34.26318 | J7: 40 | K7: 34.511349 | L7: 33.169292
A8: 3A | B8: NCG - 1 | C8: 29.358866 | D8: 40 | E8: 40 | F8: 36.020687 | G8: 40 | H8: 35.601479 | I8: 40 | J8: 37.116905 | K8: 36.123333 | L8: 40
A9: 4A | B9: NCG - 1 | C9: 29.268734 | D9: 40 | E9: 40 | F9: 35.507538 | G9: 40 | H9: 39.51255 | I9: 35.810371 | J9: 40 | K9: 36.916924 | L9: 33.017231
A10: 5A | B10: NCG - 1 | C10: 29.488237 | D10: 40 | E10: 40 | F10: 37.088326 | G10: 40 | H10: 37.108028 | I10: 40 | J10: 40 | K10: 36.336258 | L10: 36.643967
A11: 2B | B11: PCG - 1 | C11: 30.516308 | D11: 40 | E11: 36.410961 | F11: 34.61459 | G11: 40 | H11: 34.20393 | I11: 37.09874 | J11: 40 | K11: 36.942577 | L11: 40
A12: 2D | B12: PCG - 1 | C12: 30.86537 | D12: 40 | E12: 40 | F12: 37.107952 | G12: 40 | H12: 40 | I12: 40 | J12: 40 | K12: 34.302189 | L12: 40
A13: 2E | B13: PCG - 1 | C13: 30.76424 | D13: 40 | E13: 40 | F13: 34.576786 | G13: 40 | H13: 40 | I13: 40 | J13: 40 | K13: 37.255268 | L13: 40
A14: 3B | B14: POCG - 1 | C14: 30.108068 | D14: 40 | E14: 40 | F14: 35.50124 | G14: 40 | H14: 40 | I14: 40 | J14: 40 | K14: 34.505016 | L14: 33.505379
A15: 3C | B15: POCG - 1 | C15: 29.919436 | D15: 40 | E15: 40 | F15: 35.479664 | G15: 40 | H15: 39.073196 | I15: 40 | J15: 40 | K15: 33.877041 | L15: 40
A16: 3D | B16: POCG - 1 | C16: 28.055479 | D16: 40 | E16: 37.280666 | F16: 31.259396 | G16: 40 | H16: 40 | I16: 40 | J16: 36.159409 | K16: 30.865295 | L16: 35.706665
A17: 3F | B17: POCG - 1 | C17: 31.793684 | D17: 40 | E17: 40 | F17: 39.093292 | G17: 40 | H17: 35.138252 | I17: 40 | J17: 40 | K17: 37.397415 | L17: 40
... A38: 7E | B38: CG - 1 | C38: 29.7813 | D38: 40 | E38: 40 | F38: 37.177193 | G38: 40 | H38: 36.577583 | I38: 36.695312 | J38: 40 | K38: 34.928513 | L38: 40

Sheet Valores Delta Ct (T1)
A2: RESULTADOS CORRIDAS PCR - Ct's
A5: Animal | B5: Grupo | C5: GAPDH | D5: BSP | E5: OP | F5: OC | G5: TRAP | H5: CTSK | I5: RANKL | J5: OPG | K5: DDK | L5: SCLER
A6: 1A | B6: NCG - 1 | C6: ='Valores de Ct (T1)'!C6-'Valores de Ct (T1)'!C6 -> 0 | D6: ='Valores de Ct (T1)'!D6-'Valores de Ct (T1)'!$C6 -> 7.3156052 | E6: ='Valores de Ct (T1)'!E6-'Valores de Ct (T1)'!$C6 -> 10.253441 | F6: ='Valores de Ct (T1)'!F6-'Valores de Ct (T1)'!$C6 -> -0.2190361 | G6: ='Valores de Ct (T1)'!G6-'Valores de Ct (T1)'!$C6 -> 5.1588745 | H6: ='Valores de Ct (T1)'!H6-'Valores de Ct (T1)'!$C6 -> 5.6425781 | I6: ='Valores de Ct (T1)'!I6-'Valores de Ct (T1)'!$C6 -> 0.8055954 | J6: ='Valores de Ct (T1)'!J6-'Valores de Ct (T1)'!$C6 -> 5.4717636 | K6: ='Valores de Ct (T1)'!K6-'Valores de Ct (T1)'!$C6 -> 3.0083618 | L6: ='Valores de Ct (T1)'!L6-'Valores de Ct (T1)'!$C6 -> 3.0962181
A7: 2A | B7: NCG - 1 | C7: ='Valores de Ct (T1)'!C7-'Valores de Ct (T1)'!C7 -> 0 | D7: ='Valores de Ct (T1)'!D7-'Valores de Ct (T1)'!$C7 -> 11.064032 | E7: ='Valores de Ct (T1)'!E7-'Valores de Ct (T1)'!$C7 -> 8.0302258 | F7: ='Valores de Ct (T1)'!F7-'Valores de Ct (T1)'!$C7 -> 3.8895779 | G7: ='Valores de Ct (T1)'!G7-'Valores de Ct (T1)'!$C7 -> 8.1600323 | H7: ='Valores de Ct (T1)'!H7-'Valores de Ct (T1)'!$C7 -> 9.3175716 | I7: ='Valores de Ct (T1)'!I7-'Valores de Ct (T1)'!$C7 -> 5.3272114 | J7: ='Valores de Ct (T1)'!J7-'Valores de Ct (T1)'!$C7 -> 11.064032 | K7: ='Valores de Ct (T1)'!K7-'Valores de Ct (T1)'!$C7 -> 5.5753803 | L7: ='Valores de Ct (T1)'!L7-'Valores de Ct (T1)'!$C7 -> 4.2333241
A8: 3A | B8: NCG - 1 | C8: ='Valores de Ct (T1)'!C8-'Valores de Ct (T1)'!C8 -> 0 | D8: ='Valores de Ct (T1)'!D8-'Valores de Ct (T1)'!$C8 -> 10.641134 | E8: ='Valores de Ct (T1)'!E8-'Valores de Ct (T1)'!$C8 -> 10.641134 | F8: ='Valores de Ct (T1)'!F8-'Valores de Ct (T1)'!$C8 -> 6.6618214 | G8: ='Valores de Ct (T1)'!G8-'Valores de Ct (T1)'!$C8 -> 10.641134 | H8: ='Valores de Ct (T1)'!H8-'Valores de Ct (T1)'!$C8 -> 6.2426128 | I8: ='Valores de Ct (T1)'!I8-'Valores de Ct (T1)'!$C8 -> 10.641134 | J8: ='Valores de Ct (T1)'!J8-'Valores de Ct (T1)'!$C8 -> 7.7580395 | K8: ='Valores de Ct (T1)'!K8-'Valores de Ct (T1)'!$C8 -> 6.7644672 | L8: ='Valores de Ct (T1)'!L8-'Valores de Ct (T1)'!$C8 -> 10.641134
A9: 4A | B9: NCG - 1 | C9: ='Valores de Ct (T1)'!C9-'Valores de Ct (T1)'!C9 -> 0 | D9: ='Valores de Ct (T1)'!D9-'Valores de Ct (T1)'!$C9 -> 10.731266 | E9: ='Valores de Ct (T1)'!E9-'Valores de Ct (T1)'!$C9 -> 10.731266 | F9: ='Valores de Ct (T1)'!F9-'Valores de Ct (T1)'!$C9 -> 6.2388039 | G9: ='Valores de Ct (T1)'!G9-'Valores de Ct (T1)'!$C9 -> 10.731266 | H9: ='Valores de Ct (T1)'!H9-'Valores de Ct (T1)'!$C9 -> 10.243816 | I9: ='Valores de Ct (T1)'!I9-'Valores de Ct (T1)'!$C9 -> 6.5416374 | J9: ='Valores de Ct (T1)'!J9-'Valores de Ct (T1)'!$C9 -> 10.731266 | K9: ='Valores de Ct (T1)'!K9-'Valores de Ct (T1)'!$C9 -> 7.6481895 | L9: ='Valores de Ct (T1)'!L9-'Valores de Ct (T1)'!$C9 -> 3.748497
A10: 5A | B10: NCG - 1 | C10: ='Valores de Ct (T1)'!C10-'Valores de Ct (T1)'!C10 -> 0 | D10: ='Valores de Ct (T1)'!D10-'Valores de Ct (T1)'!$C10 -> 10.511763 | E10: ='Valores de Ct (T1)'!E10-'Valores de Ct (T1)'!$C10 -> 10.511763 | F10: ='Valores de Ct (T1)'!F10-'Valores de Ct (T1)'!$C10 -> 7.6000881 | G10: ='Valores de Ct (T1)'!G10-'Valores de Ct (T1)'!$C10 -> 10.511763 | H10: ='Valores de Ct (T1)'!H10-'Valores de Ct (T1)'!$C10 -> 7.619791 | I10: ='Valores de Ct (T1)'!I10-'Valores de Ct (T1)'!$C10 -> 10.511763 | J10: ='Valores de Ct (T1)'!J10-'Valores de Ct (T1)'!$C10 -> 10.511763 | K10: ='Valores de Ct (T1)'!K10-'Valores de Ct (T1)'!$C10 -> 6.8480206 | L10: ='Valores de Ct (T1)'!L10-'Valores de Ct (T1)'!$C10 -> 7.1557293
A11: 2B | B11: PCG - 1 | C11: ='Valores de Ct (T1)'!C11-'Valores de Ct (T1)'!C11 -> 0 | D11: ='Valores de Ct (T1)'!D11-'Valores de Ct (T1)'!$C11 -> 9.4836922 | E11: ='Valores de Ct (T1)'!E11-'Valores de Ct (T1)'!$C11 -> 5.8946533 | F11: ='Valores de Ct (T1)'!F11-'Valores de Ct (T1)'!$C11 -> 4.0982819 | G11: ='Valores de Ct (T1)'!G11-'Valores de Ct (T1)'!$C11 -> 9.4836922 | H11: ='Valores de Ct (T1)'!H11-'Valores de Ct (T1)'!$C11 -> 3.6876221 | I11: ='Valores de Ct (T1)'!I11-'Valores de Ct (T1)'!$C11 -> 6.5824318 | J11: ='Valores de Ct (T1)'!J11-'Valores de Ct (T1)'!$C11 -> 9.4836922 | K11: ='Valores de Ct (T1)'!K11-'Valores de Ct (T1)'!$C11 -> 6.4262695 | L11: ='Valores de Ct (T1)'!L11-'Valores de Ct (T1)'!$C11 -> 9.4836922
A12: 2D | B12: PCG - 1 | C12: ='Valores de Ct (T1)'!C12-'Valores de Ct (T1)'!C12 -> 0 | D12: ='Valores de Ct (T1)'!D12-'Valores de Ct (T1)'!$C12 -> 9.1346302 | E12: ='Valores de Ct (T1)'!E12-'Valores de Ct (T1)'!$C12 -> 9.1346302 | F12: ='Valores de Ct (T1)'!F12-'Valores de Ct (T1)'!$C12 -> 6.2425823 | G12: ='Valores de Ct (T1)'!G12-'Valores de Ct (T1)'!$C12 -> 9.1346302 | H12: ='Valores de Ct (T1)'!H12-'Valores de Ct (T1)'!$C12 -> 9.1346302 | I12: ='Valores de Ct (T1)'!I12-'Valores de Ct (T1)'!$C12 -> 9.1346302 | J12: ='Valores de Ct (T1)'!J12-'Valores de Ct (T1)'!$C12 -> 9.1346302 | K12: ='Valores de Ct (T1)'!K12-'Valores de Ct (T1)'!$C12 -> 3.4368191 | L12: ='Valores de Ct (T1)'!L12-'Valores de Ct (T1)'!$C12 -> 9.1346302
A13: 2E | B13: PCG - 1 | C13: ='Valores de Ct (T1)'!C13-'Valores de Ct (T1)'!C13 -> 0 | D13: ='Valores de Ct (T1)'!D13-'Valores de Ct (T1)'!$C13 -> 9.2357597 | E13: ='Valores de Ct (T1)'!E13-'Valores de Ct (T1)'!$C13 -> 9.2357597 | F13: ='Valores de Ct (T1)'!F13-'Valores de Ct (T1)'!$C13 -> 3.8125458 | G13: ='Valores de Ct (T1)'!G13-'Valores de Ct (T1)'!$C13 -> 9.2357597 | H13: ='Valores de Ct (T1)'!H13-'Valores de Ct (T1)'!$C13 -> 9.2357597 | I13: ='Valores de Ct (T1)'!I13-'Valores de Ct (T1)'!$C13 -> 9.2357597 | J13: ='Valores de Ct (T1)'!J13-'Valores de Ct (T1)'!$C13 -> 9.2357597 | K13: ='Valores de Ct (T1)'!K13-'Valores de Ct (T1)'!$C13 -> 6.4910278 | L13: ='Valores de Ct (T1)'!L13-'Valores de Ct (T1)'!$C13 -> 9.2357597
A14: 3B | B14: POCG - 1 | C14: ='Valores de Ct (T1)'!C14-'Valores de Ct (T1)'!C14 -> 0 | D14: ='Valores de Ct (T1)'!D14-'Valores de Ct (T1)'!$C14 -> 9.8919315 | E14: ='Valores de Ct (T1)'!E14-'Valores de Ct (T1)'!$C14 -> 9.8919315 | F14: ='Valores de Ct (T1)'!F14-'Valores de Ct (T1)'!$C14 -> 5.3931713 | G14: ='Valores de Ct (T1)'!G14-'Valores de Ct (T1)'!$C14 -> 9.8919315 | H14: ='Valores de Ct (T1)'!H14-'Valores de Ct (T1)'!$C14 -> 9.8919315 | I14: ='Valores de Ct (T1)'!I14-'Valores de Ct (T1)'!$C14 -> 9.8919315 | J14: ='Valores de Ct (T1)'!J14-'Valores de Ct (T1)'!$C14 -> 9.8919315 | K14: ='Valores de Ct (T1)'!K14-'Valores de Ct (T1)'!$C14 -> 4.3969479 | L14: ='Valores de Ct (T1)'!L14-'Valores de Ct (T1)'!$C14 -> 3.3973103
A15: 3C | B15: POCG - 1 | C15: ='Valores de Ct (T1)'!C15-'Valores de Ct (T1)'!C15 -> 0 | D15: ='Valores de Ct (T1)'!D15-'Valores de Ct (T1)'!$C15 -> 10.080564 | E15: ='Valores de Ct (T1)'!E15-'Valores de Ct (T1)'!$C15 -> 10.080564 | F15: ='Valores de Ct (T1)'!F15-'Valores de Ct (T1)'!$C15 -> 5.5602283 | G15: ='Valores de Ct (T1)'!G15-'Valores de Ct (T1)'!$C15 -> 10.080564 | H15: ='Valores de Ct (T1)'!H15-'Valores de Ct (T1)'!$C15 -> 9.1537609 | I15: ='Valores de Ct (T1)'!I15-'Valores de Ct (T1)'!$C15 -> 10.080564 | J15: ='Valores de Ct (T1)'!J15-'Valores de Ct (T1)'!$C15 -> 10.080564 | K15: ='Valores de Ct (T1)'!K15-'Valores de Ct (T1)'!$C15 -> 3.9576054 | L15: ='Valores de Ct (T1)'!L15-'Valores de Ct (T1)'!$C15 -> 10.080564
A16: 3D | B16: POCG - 1 | C16: ='Valores de Ct (T1)'!C16-'Valores de Ct (T1)'!C16 -> 0 | D16: ='Valores de Ct (T1)'!D16-'Valores de Ct (T1)'!$C16 -> 11.944521 | E16: ='Valores de Ct (T1)'!E16-'Valores de Ct (T1)'!$C16 -> 9.2251873 | F16: ='Valores de Ct (T1)'!F16-'Valores de Ct (T1)'!$C16 -> 3.2039165 | G16: ='Valores de Ct (T1)'!G16-'Valores de Ct (T1)'!$C16 -> 11.944521 | H16: ='Valores de Ct (T1)'!H16-'Valores de Ct (T1)'!$C16 -> 11.944521 | I16: ='Valores de Ct (T1)'!I16-'Valores de Ct (T1)'!$C16 -> 11.944521 | J16: ='Valores de Ct (T1)'!J16-'Valores de Ct (T1)'!$C16 -> 8.1039295 | K16: ='Valores de Ct (T1)'!K16-'Valores de Ct (T1)'!$C16 -> 2.8098164 | L16: ='Valores de Ct (T1)'!L16-'Valores de Ct (T1)'!$C16 -> 7.651186
A17: 3F | B17: POCG - 1 | C17: ='Valores de Ct (T1)'!C17-'Valores de Ct (T1)'!C17 -> 0 | D17: ='Valores de Ct (T1)'!D17-'Valores de Ct (T1)'!$C17 -> 8.206316 | E17: ='Valores de Ct (T1)'!E17-'Valores de Ct (T1)'!$C17 -> 8.206316 | F17: ='Valores de Ct (T1)'!F17-'Valores de Ct (T1)'!$C17 -> 7.2996082 | G17: ='Valores de Ct (T1)'!G17-'Valores de Ct (T1)'!$C17 -> 8.206316 | H17: ='Valores de Ct (T1)'!H17-'Valores de Ct (T1)'!$C17 -> 3.3445683 | I17: ='Valores de Ct (T1)'!I17-'Valores de Ct (T1)'!$C17 -> 8.206316 | J17: ='Valores de Ct (T1)'!J17-'Valores de Ct (T1)'!$C17 -> 8.206316 | K17: ='Valores de Ct (T1)'!K17-'Valores de Ct (T1)'!$C17 -> 5.6037312 | L17: ='Valores de Ct (T1)'!L17-'Valores de Ct (T1)'!$C17 -> 8.206316
... A38: 7E | B38: CG - 1 | C38: ='Valores de Ct (T1)'!C38-'Valores de Ct (T1)'!C38 -> 0 | D38: ='Valores de Ct (T1)'!D38-'Valores de Ct (T1)'!$C38 -> 10.2187 | E38: ='Valores de Ct (T1)'!E38-'Valores de Ct (T1)'!$C38 -> 10.2187 | F38: ='Valores de Ct (T1)'!F38-'Valores de Ct (T1)'!$C38 -> 7.3958931 | G38: ='Valores de Ct (T1)'!G38-'Valores de Ct (T1)'!$C38 -> 10.2187 | H38: ='Valores de Ct (T1)'!H38-'Valores de Ct (T1)'!$C38 -> 6.7962837 | I38: ='Valores de Ct (T1)'!I38-'Valores de Ct (T1)'!$C38 -> 6.9140129 | J38: ='Valores de Ct (T1)'!J38-'Valores de Ct (T1)'!$C38 -> 10.2187 | K38: ='Valores de Ct (T1)'!K38-'Valores de Ct (T1)'!$C38 -> 5.147213 | L38: ='Valores de Ct (T1)'!L38-'Valores de Ct (T1)'!$C38 -> 10.2187
C39: ='Valores de Ct (T1)'!C39-'Valores de Ct (T1)'!C39 -> 0 | D39: ='Valores de Ct (T1)'!D39-'Valores de Ct (T1)'!$C39 -> 0 | E39: ='Valores de Ct (T1)'!E39-'Valores de Ct (T1)'!$C39 -> 0 | F39: ='Valores de Ct (T1)'!F39-'Valores de Ct (T1)'!$C39 -> 0 | G39: ='Valores de Ct (T1)'!G39-'Valores de Ct (T1)'!$C39 -> 0 | H39: ='Valores de Ct (T1)'!H39-'Valores de Ct (T1)'!$C39 -> 0 | I39: ='Valores de Ct (T1)'!I39-'Valores de Ct (T1)'!$C39 -> 0 | J39: ='Valores de Ct (T1)'!J39-'Valores de Ct (T1)'!$C39 -> 0 | K39: ='Valores de Ct (T1)'!K39-'Valores de Ct (T1)'!$C39 -> 0 | L39: ='Valores de Ct (T1)'!L39-'Valores de Ct (T1)'!$C39 -> 0
C40: ='Valores de Ct (T1)'!C40-'Valores de Ct (T1)'!C40 -> 0 | D40: ='Valores de Ct (T1)'!D40-'Valores de Ct (T1)'!$C40 -> 0 | E40: ='Valores de Ct (T1)'!E40-'Valores de Ct (T1)'!$C40 -> 0 | F40: ='Valores de Ct (T1)'!F40-'Valores de Ct (T1)'!$C40 -> 0 | G40: ='Valores de Ct (T1)'!G40-'Valores de Ct (T1)'!$C40 -> 0 | H40: ='Valores de Ct (T1)'!H40-'Valores de Ct (T1)'!$C40 -> 0 | I40: ='Valores de Ct (T1)'!I40-'Valores de Ct (T1)'!$C40 -> 0 | J40: ='Valores de Ct (T1)'!J40-'Valores de Ct (T1)'!$C40 -> 0 | K40: ='Valores de Ct (T1)'!K40-'Valores de Ct (T1)'!$C40 -> 0 | L40: ='Valores de Ct (T1)'!L40-'Valores de Ct (T1)'!$C40 -> 0
C41: ='Valores de Ct (T1)'!C41-'Valores de Ct (T1)'!C41 -> 0 | D41: ='Valores de Ct (T1)'!D41-'Valores de Ct (T1)'!$C41 -> 0 | E41: ='Valores de Ct (T1)'!E41-'Valores de Ct (T1)'!$C41 -> 0 | F41: ='Valores de Ct (T1)'!F41-'Valores de Ct (T1)'!$C41 -> 0 | G41: ='Valores de Ct (T1)'!G41-'Valores de Ct (T1)'!$C41 -> 0 | H41: ='Valores de Ct (T1)'!H41-'Valores de Ct (T1)'!$C41 -> 0 | I41: ='Valores de Ct (T1)'!I41-'Valores de Ct (T1)'!$C41 -> 0 | J41: ='Valores de Ct (T1)'!J41-'Valores de Ct (T1)'!$C41 -> 0 | K41: ='Valores de Ct (T1)'!K41-'Valores de Ct (T1)'!$C41 -> 0 | L41: ='Valores de Ct (T1)'!L41-'Valores de Ct (T1)'!$C41 -> 0
C42: ='Valores de Ct (T1)'!C42-'Valores de Ct (T1)'!C42 -> 0 | D42: ='Valores de Ct (T1)'!D42-'Valores de Ct (T1)'!$C42 -> 0 | E42: ='Valores de Ct (T1)'!E42-'Valores de Ct (T1)'!$C42 -> 0 | F42: ='Valores de Ct (T1)'!F42-'Valores de Ct (T1)'!$C42 -> 0 | G42: ='Valores de Ct (T1)'!G42-'Valores de Ct (T1)'!$C42 -> 0 | H42: ='Valores de Ct (T1)'!H42-'Valores de Ct (T1)'!$C42 -> 0 | I42: ='Valores de Ct (T1)'!I42-'Valores de Ct (T1)'!$C42 -> 0 | J42: ='Valores de Ct (T1)'!J42-'Valores de Ct (T1)'!$C42 -> 0 | K42: ='Valores de Ct (T1)'!K42-'Valores de Ct (T1)'!$C42 -> 0 | L42: ='Valores de Ct (T1)'!L42-'Valores de Ct (T1)'!$C42 -> 0
C43: ='Valores de Ct (T1)'!C43-'Valores de Ct (T1)'!C43 -> 0 | D43: ='Valores de Ct (T1)'!D43-'Valores de Ct (T1)'!$C43 -> 0 | E43: ='Valores de Ct (T1)'!E43-'Valores de Ct (T1)'!$C43 -> 0 | F43: ='Valores de Ct (T1)'!F43-'Valores de Ct (T1)'!$C43 -> 0 | G43: ='Valores de Ct (T1)'!G43-'Valores de Ct (T1)'!$C43 -> 0 | H43: ='Valores de Ct (T1)'!H43-'Valores de Ct (T1)'!$C43 -> 0 | I43: ='Valores de Ct (T1)'!I43-'Valores de Ct (T1)'!$C43 -> 0 | J43: ='Valores de Ct (T1)'!J43-'Valores de Ct (T1)'!$C43 -> 0 | K43: ='Valores de Ct (T1)'!K43-'Valores de Ct (T1)'!$C43 -> 0 | L43: ='Valores de Ct (T1)'!L43-'Valores de Ct (T1)'!$C43 -> 0
C44: ='Valores de Ct (T1)'!C44-'Valores de Ct (T1)'!C44 -> 0 | D44: ='Valores de Ct (T1)'!D44-'Valores de Ct (T1)'!$C44 -> 0 | E44: ='Valores de Ct (T1)'!E44-'Valores de Ct (T1)'!$C44 -> 0 | F44: ='Valores de Ct (T1)'!F44-'Valores de Ct (T1)'!$C44 -> 0 | G44: ='Valores de Ct (T1)'!G44-'Valores de Ct (T1)'!$C44 -> 0 | H44: ='Valores de Ct (T1)'!H44-'Valores de Ct (T1)'!$C44 -> 0 | I44: ='Valores de Ct (T1)'!I44-'Valores de Ct (T1)'!$C44 -> 0 | J44: ='Valores de Ct (T1)'!J44-'Valores de Ct (T1)'!$C44 -> 0 | K44: ='Valores de Ct (T1)'!K44-'Valores de Ct (T1)'!$C44 -> 0 | L44: ='Valores de Ct (T1)'!L44-'Valores de Ct (T1)'!$C44 -> 0
C45: ='Valores de Ct (T1)'!C45-'Valores de Ct (T1)'!C45 -> 0 | D45: ='Valores de Ct (T1)'!D45-'Valores de Ct (T1)'!$C45 -> 0 | E45: ='Valores de Ct (T1)'!E45-'Valores de Ct (T1)'!$C45 -> 0 | F45: ='Valores de Ct (T1)'!F45-'Valores de Ct (T1)'!$C45 -> 0 | G45: ='Valores de Ct (T1)'!G45-'Valores de Ct (T1)'!$C45 -> 0 | H45: ='Valores de Ct (T1)'!H45-'Valores de Ct (T1)'!$C45 -> 0 | I45: ='Valores de Ct (T1)'!I45-'Valores de Ct (T1)'!$C45 -> 0 | J45: ='Valores de Ct (T1)'!J45-'Valores de Ct (T1)'!$C45 -> 0 | K45: ='Valores de Ct (T1)'!K45-'Valores de Ct (T1)'!$C45 -> 0 | L45: ='Valores de Ct (T1)'!L45-'Valores de Ct (T1)'!$C45 -> 0
C46: ='Valores de Ct (T1)'!C46-'Valores de Ct (T1)'!C46 -> 0 | D46: ='Valores de Ct (T1)'!D46-'Valores de Ct (T1)'!$C46 -> 0 | E46: ='Valores de Ct (T1)'!E46-'Valores de Ct (T1)'!$C46 -> 0 | F46: ='Valores de Ct (T1)'!F46-'Valores de Ct (T1)'!$C46 -> 0 | G46: ='Valores de Ct (T1)'!G46-'Valores de Ct (T1)'!$C46 -> 0 | H46: ='Valores de Ct (T1)'!H46-'Valores de Ct (T1)'!$C46 -> 0 | I46: ='Valores de Ct (T1)'!I46-'Valores de Ct (T1)'!$C46 -> 0 | J46: ='Valores de Ct (T1)'!J46-'Valores de Ct (T1)'!$C46 -> 0 | K46: ='Valores de Ct (T1)'!K46-'Valores de Ct (T1)'!$C46 -> 0 | L46: ='Valores de Ct (T1)'!L46-'Valores de Ct (T1)'!$C46 -> 0
C47: ='Valores de Ct (T1)'!C47-'Valores de Ct (T1)'!C47 -> 0 | D47: ='Valores de Ct (T1)'!D47-'Valores de Ct (T1)'!$C47 -> 0 | E47: ='Valores de Ct (T1)'!E47-'Valores de Ct (T1)'!$C47 -> 0 | F47: ='Valores de Ct (T1)'!F47-'Valores de Ct (T1)'!$C47 -> 0 | G47: ='Valores de Ct (T1)'!G47-'Valores de Ct (T1)'!$C47 -> 0 | H47: ='Valores de Ct (T1)'!H47-'Valores de Ct (T1)'!$C47 -> 0 | I47: ='Valores de Ct (T1)'!I47-'Valores de Ct (T1)'!$C47 -> 0 | J47: ='Valores de Ct (T1)'!J47-'Valores de Ct (T1)'!$C47 -> 0 | K47: ='Valores de Ct (T1)'!K47-'Valores de Ct (T1)'!$C47 -> 0 | L47: ='Valores de Ct (T1)'!L47-'Valores de Ct (T1)'!$C47 -> 0
C48: ='Valores de Ct (T1)'!C48-'Valores de Ct (T1)'!C48 -> 0 | D48: ='Valores de Ct (T1)'!D48-'Valores de Ct (T1)'!$C48 -> 0 | E48: ='Valores de Ct (T1)'!E48-'Valores de Ct (T1)'!$C48 -> 0 | F48: ='Valores de Ct (T1)'!F48-'Valores de Ct (T1)'!$C48 -> 0 | G48: ='Valores de Ct (T1)'!G48-'Valores de Ct (T1)'!$C48 -> 0 | H48: ='Valores de Ct (T1)'!H48-'Valores de Ct (T1)'!$C48 -> 0 | I48: ='Valores de Ct (T1)'!I48-'Valores de Ct (T1)'!$C48 -> 0 | J48: ='Valores de Ct (T1)'!J48-'Valores de Ct (T1)'!$C48 -> 0 | K48: ='Valores de Ct (T1)'!K48-'Valores de Ct (T1)'!$C48 -> 0 | L48: ='Valores de Ct (T1)'!L48-'Valores de Ct (T1)'!$C48 -> 0
C49: ='Valores de Ct (T1)'!C49-'Valores de Ct (T1)'!C49 -> 0 | D49: ='Valores de Ct (T1)'!D49-'Valores de Ct (T1)'!$C49 -> 0 | E49: ='Valores de Ct (T1)'!E49-'Valores de Ct (T1)'!$C49 -> 0 | F49: ='Valores de Ct (T1)'!F49-'Valores de Ct (T1)'!$C49 -> 0 | G49: ='Valores de Ct (T1)'!G49-'Valores de Ct (T1)'!$C49 -> 0 | H49: ='Valores de Ct (T1)'!H49-'Valores de Ct (T1)'!$C49 -> 0 | I49: ='Valores de Ct (T1)'!I49-'Valores de Ct (T1)'!$C49 -> 0 | J49: ='Valores de Ct (T1)'!J49-'Valores de Ct (T1)'!$C49 -> 0 | K49: ='Valores de Ct (T1)'!K49-'Valores de Ct (T1)'!$C49 -> 0 | L49: ='Valores de Ct (T1)'!L49-'Valores de Ct (T1)'!$C49 -> 0
C50: ='Valores de Ct (T1)'!C50-'Valores de Ct (T1)'!C50 -> 0 | D50: ='Valores de Ct (T1)'!D50-'Valores de Ct (T1)'!$C50 -> 0 | E50: ='Valores de Ct (T1)'!E50-'Valores de Ct (T1)'!$C50 -> 0 | F50: ='Valores de Ct (T1)'!F50-'Valores de Ct (T1)'!$C50 -> 0 | G50: ='Valores de Ct (T1)'!G50-'Valores de Ct (T1)'!$C50 -> 0 | H50: ='Valores de Ct (T1)'!H50-'Valores de Ct (T1)'!$C50 -> 0 | I50: ='Valores de Ct (T1)'!I50-'Valores de Ct (T1)'!$C50 -> 0 | J50: ='Valores de Ct (T1)'!J50-'Valores de Ct (T1)'!$C50 -> 0 | K50: ='Valores de Ct (T1)'!K50-'Valores de Ct (T1)'!$C50 -> 0 | L50: ='Valores de Ct (T1)'!L50-'Valores de Ct (T1)'!$C50 -> 0
... C75: ='Valores de Ct (T1)'!C75-'Valores de Ct (T1)'!C75 -> 0 | D75: ='Valores de Ct (T1)'!D75-'Valores de Ct (T1)'!$C75 -> 0 | E75: ='Valores de Ct (T1)'!E75-'Valores de Ct (T1)'!$C75 -> 0 | F75: ='Valores de Ct (T1)'!F75-'Valores de Ct (T1)'!$C75 -> 0 | G75: ='Valores de Ct (T1)'!G75-'Valores de Ct (T1)'!$C75 -> 0 | H75: ='Valores de Ct (T1)'!H75-'Valores de Ct (T1)'!$C75 -> 0 | I75: ='Valores de Ct (T1)'!I75-'Valores de Ct (T1)'!$C75 -> 0 | J75: ='Valores de Ct (T1)'!J75-'Valores de Ct (T1)'!$C75 -> 0 | K75: ='Valores de Ct (T1)'!K75-'Valores de Ct (T1)'!$C75 -> 0 | L75: ='Valores de Ct (T1)'!L75-'Valores de Ct (T1)'!$C75 -> 0

Sheet Fold Change (T1)
A2: Média Delta Ct (Grupo Controle) | D2: Cálculo Delta Delta Ct | Q2: Cálculo de Fold Change
A5: GAPDH | B5: 0 | D5: Animal | E5: Grupo | F5: GAPDH | G5: BSP | H5: OP | I5: OC | J5: TRAP | K5: CTSK | L5: RANKL | M5: OPG | N5: DDK | O5: SCLER | Q5: Animal | R5: Grupo | S5: GAPDH | T5: BSP | U5: OP | V5: OC | W5: TRAP | X5: CTSK | Y5: RANKL | Z5: OPG | AA5: DDK | AB5: SCLER
A6: BSP | B6: 10.22 | D6: 1A | E6: NCG - 1 | F6: ='Valores Delta Ct (T1)'!C6 -'Fold Change (T1)'!B$5 -> 0 | G6: ='Valores Delta Ct (T1)'!D6-'Fold Change (T1)'!B$6 -> -2.9043948 | H6: ='Valores Delta Ct (T1)'!E6-'Fold Change (T1)'!B$7 -> 0.37344086 | I6: ='Valores Delta Ct (T1)'!F6-'Fold Change (T1)'!B$8 -> -3.5790361 | J6: ='Valores Delta Ct (T1)'!G6-'Fold Change (T1)'!B$9 -> -5.1011255 | K6: ='Valores Delta Ct (T1)'!H6-'Fold Change (T1)'!B$10 -> -0.66742187 | L6: ='Valores Delta Ct (T1)'!I6-'Fold Change (T1)'!B$11 -> -4.4044046 | M6: ='Valores Delta Ct (T1)'!J6-'Fold Change (T1)'!B$12 -> -4.7782364 | N6: ='Valores Delta Ct (T1)'!K6-'Fold Change (T1)'!B$13 -> -2.0716382 | O6: ='Valores Delta Ct (T1)'!L6-'Fold Change (T1)'!B$14 -> -4.5737819 | Q6: 1A | R6: NCG - 1 | S6: =2^-F6 -> 1 | T6: =2^-G6 -> 7.4870368 | U6: =2^-H6 -> 0.77193921 | V6: =2^-I6 -> 11.950807 | W6: =2^-J6 -> 34.323517 | X6: =2^-K6 -> 1.5882322 | Y6: =2^-L6 -> 21.176681 | Z6: =2^-M6 -> 27.440529 | ... AB6: =2^-O6 -> 23.814723
A7: OP | B7: 9.88 | D7: 2A | E7: NCG - 1 | F7: ='Valores Delta Ct (T1)'!C7-'Fold Change (T1)'!B$5 -> 0 | G7: ='Valores Delta Ct (T1)'!D7-'Fold Change (T1)'!B$6 -> 0.8440316 | H7: ='Valores Delta Ct (T1)'!E7-'Fold Change (T1)'!B$7 -> -1.8497742 | I7: ='Valores Delta Ct (T1)'!F7-'Fold Change (T1)'!B$8 -> 0.52957787 | J7: ='Valores Delta Ct (T1)'!G7-'Fold Change (T1)'!B$9 -> -2.0999677 | K7: ='Valores Delta Ct (T1)'!H7-'Fold Change (T1)'!B$10 -> 3.0075716 | L7: ='Valores Delta Ct (T1)'!I7-'Fold Change (T1)'!B$11 -> 0.11721138 | M7: ='Valores Delta Ct (T1)'!J7-'Fold Change (T1)'!B$12 -> 0.8140316 | N7: ='Valores Delta Ct (T1)'!K7-'Fold Change (T1)'!B$13 -> 0.49538033 | O7: ='Valores Delta Ct (T1)'!L7-'Fold Change (T1)'!B$14 -> -3.4366759 | Q7: 2A | R7: NCG - 1 | S7: =2^-F7 -> 1 | T7: =2^-G7 -> 0.55708462 | U7: =2^-H7 -> 3.6044378 | V7: =2^-I7 -> 0.69275741 | W7: =2^-J7 -> 4.286998 | X7: =2^-K7 -> 0.12434569 | Y7: =2^-L7 -> 0.92196802 | Z7: =2^-M7 -> 0.56879015 | ... AB7: =2^-O7 -> 10.827858
A8: OC | B8: 3.36 | D8: 3A | E8: NCG - 1 | F8: ='Valores Delta Ct (T1)'!C8-'Fold Change (T1)'!B$5 -> 0 | G8: ='Valores Delta Ct (T1)'!D8-'Fold Change (T1)'!B$6 -> 0.42113426 | H8: ='Valores Delta Ct (T1)'!E8-'Fold Change (T1)'!B$7 -> 0.76113426 | I8: ='Valores Delta Ct (T1)'!F8-'Fold Change (T1)'!B$8 -> 3.3018214 | J8: ='Valores Delta Ct (T1)'!G8-'Fold Change (T1)'!B$9 -> 0.38113426 | K8: ='Valores Delta Ct (T1)'!H8-'Fold Change (T1)'!B$10 -> -0.067387161 | L8: ='Valores Delta Ct (T1)'!I8-'Fold Change (T1)'!B$11 -> 5.4311343 | M8: ='Valores Delta Ct (T1)'!J8-'Fold Change (T1)'!B$12 -> -2.4919605 | N8: ='Valores Delta Ct (T1)'!K8-'Fold Change (T1)'!B$13 -> 1.6844672 | O8: ='Valores Delta Ct (T1)'!L8-'Fold Change (T1)'!B$14 -> 2.9711343 | Q8: 3A | R8: NCG - 1 | S8: =2^-F8 -> 1 | T8: =2^-G8 -> 0.74683722 | U8: =2^-H8 -> 0.59003226 | V8: =2^-I8 -> 0.10140345 | W8: =2^-J8 -> 0.76783367 | X8: =2^-K8 -> 1.0478173 | Y8: =2^-L8 -> 0.023177451 | Z8: =2^-M8 -> 5.6254189 | ... AB8: =2^-O8 -> 0.12752621
A9: TRAP | B9: 10.26 | D9: 4A | E9: NCG - 1 | F9: ='Valores Delta Ct (T1)'!C9-'Fold Change (T1)'!B$5 -> 0 | G9: ='Valores Delta Ct (T1)'!D9-'Fold Change (T1)'!B$6 -> 0.51126602 | H9: ='Valores Delta Ct (T1)'!E9-'Fold Change (T1)'!B$7 -> 0.85126602 | I9: ='Valores Delta Ct (T1)'!F9-'Fold Change (T1)'!B$8 -> 2.8788039 | J9: ='Valores Delta Ct (T1)'!G9-'Fold Change (T1)'!B$9 -> 0.47126602 | K9: ='Valores Delta Ct (T1)'!H9-'Fold Change (T1)'!B$10 -> 3.9338164 | L9: ='Valores Delta Ct (T1)'!I9-'Fold Change (T1)'!B$11 -> 1.3316374 | M9: ='Valores Delta Ct (T1)'!J9-'Fold Change (T1)'!B$12 -> 0.48126602 | N9: ='Valores Delta Ct (T1)'!K9-'Fold Change (T1)'!B$13 -> 2.5681895 | O9: ='Valores Delta Ct (T1)'!L9-'Fold Change (T1)'!B$14 -> -3.921503 | Q9: 4A | R9: NCG - 1 | S9: =2^-F9 -> 1 | T9: =2^-G9 -> 0.70160648 | U9: =2^-H9 -> 0.5542981 | V9: =2^-I9 -> 0.13595453 | W9: =2^-J9 -> 0.72133132 | X9: =2^-K9 -> 0.06543397 | Y9: =2^-L9 -> 0.39731704 | Z9: =2^-M9 -> 0.71634872 | ... AB9: =2^-O9 -> 15.1527
A10: CTSK | B10: 6.31 | D10: 5A | E10: NCG - 1 | F10: ='Valores Delta Ct (T1)'!C10-'Fold Change (T1)'!B$5 -> 0 | G10: ='Valores Delta Ct (T1)'!D10-'Fold Change (T1)'!B$6 -> 0.29176262 | H10: ='Valores Delta Ct (T1)'!E10-'Fold Change (T1)'!B$7 -> 0.63176262 | I10: ='Valores Delta Ct (T1)'!F10-'Fold Change (T1)'!B$8 -> 4.2400881 | J10: ='Valores Delta Ct (T1)'!G10-'Fold Change (T1)'!B$9 -> 0.25176262 | K10: ='Valores Delta Ct (T1)'!H10-'Fold Change (T1)'!B$10 -> 1.309791 | L10: ='Valores Delta Ct (T1)'!I10-'Fold Change (T1)'!B$11 -> 5.3017626 | M10: ='Valores Delta Ct (T1)'!J10-'Fold Change (T1)'!B$12 -> 0.26176262 | N10: ='Valores Delta Ct (T1)'!K10-'Fold Change (T1)'!B$13 -> 1.7680206 | O10: ='Valores Delta Ct (T1)'!L10-'Fold Change (T1)'!B$14 -> -0.51427071 | Q10: 5A | R10: NCG - 1 | S10: =2^-F10 -> 1 | T10: =2^-G10 -> 0.81690339 | U10: =2^-H10 -> 0.64538743 | V10: =2^-I10 -> 0.05291835 | W10: =2^-J10 -> 0.83986967 | X10: =2^-K10 -> 0.4033793 | Y10: =2^-L10 -> 0.025351895 | Z10: =2^-M10 -> 0.83406827 | ... AB10: =2^-O10 -> 1.428272
A11: RANKL | B11: 5.21 | D11: 2B | E11: PCG - 1 | F11: ='Valores Delta Ct (T1)'!C11-'Fold Change (T1)'!B$5 -> 0 | G11: ='Valores Delta Ct (T1)'!D11-'Fold Change (T1)'!B$6 -> -0.73630783 | H11: ='Valores Delta Ct (T1)'!E11-'Fold Change (T1)'!B$7 -> -3.9853467 | I11: ='Valores Delta Ct (T1)'!F11-'Fold Change (T1)'!B$8 -> 0.73828186 | J11: ='Valores Delta Ct (T1)'!G11-'Fold Change (T1)'!B$9 -> -0.77630783 | K11: ='Valores Delta Ct (T1)'!H11-'Fold Change (T1)'!B$10 -> -2.6223779 | L11: ='Valores Delta Ct (T1)'!I11-'Fold Change (T1)'!B$11 -> 1.3724318 | M11: ='Valores Delta Ct (T1)'!J11-'Fold Change (T1)'!B$12 -> -0.76630783 | N11: ='Valores Delta Ct (T1)'!K11-'Fold Change (T1)'!B$13 -> 1.3462695 | O11: ='Valores Delta Ct (T1)'!L11-'Fold Change (T1)'!B$14 -> 1.8136922 | Q11: 2B | R11: PCG - 1 | S11: =2^-F11 -> 1 | T11: =2^-G11 -> 1.665907 | U11: =2^-H11 -> 15.838312 | V11: =2^-I11 -> 0.59945283 | W11: =2^-J11 -> 1.712742 | X11: =2^-K11 -> 6.1576417 | Y11: =2^-L11 -> 0.38623966 | Z11: =2^-M11 -> 1.7009112 | ... AB11: =2^-O11 -> 0.284462
A12: OPG | B12: 10.25 | D12: 2D | E12: PCG - 1 | F12: ='Valores Delta Ct (T1)'!C12-'Fold Change (T1)'!B$5 -> 0 | G12: ='Valores Delta Ct (T1)'!D12-'Fold Change (T1)'!B$6 -> -1.0853698 | H12: ='Valores Delta Ct (T1)'!E12-'Fold Change (T1)'!B$7 -> -0.7453698 | I12: ='Valores Delta Ct (T1)'!F12-'Fold Change (T1)'!B$8 -> 2.8825823 | J12: ='Valores Delta Ct (T1)'!G12-'Fold Change (T1)'!B$9 -> -1.1253698 | K12: ='Valores Delta Ct (T1)'!H12-'Fold Change (T1)'!B$10 -> 2.8246302 | L12: ='Valores Delta Ct (T1)'!I12-'Fold Change (T1)'!B$11 -> 3.9246302 | M12: ='Valores Delta Ct (T1)'!J12-'Fold Change (T1)'!B$12 -> -1.1153698 | N12: ='Valores Delta Ct (T1)'!K12-'Fold Change (T1)'!B$13 -> -1.6431809 | O12: ='Valores Delta Ct (T1)'!L12-'Fold Change (T1)'!B$14 -> 1.4646302 | Q12: 2D | R12: PCG - 1 | S12: =2^-F12 -> 1 | T12: =2^-G12 -> 2.1219193 | U12: =2^-H12 -> 1.6764039 | V12: =2^-I12 -> 0.13559893 | W12: =2^-J12 -> 2.1815746 | X12: =2^-K12 -> 0.14115673 | Y12: =2^-L12 -> 0.065851942 | Z12: =2^-M12 -> 2.1665053 | ... AB12: =2^-O12 -> 0.3623284
A13: DDK | B13: 5.08 | D13: 2E | E13: PCG - 1 | F13: ='Valores Delta Ct (T1)'!C13-'Fold Change (T1)'!B$5 -> 0 | G13: ='Valores Delta Ct (T1)'!D13-'Fold Change (T1)'!B$6 -> -0.98424026 | H13: ='Valores Delta Ct (T1)'!E13-'Fold Change (T1)'!B$7 -> -0.64424026 | I13: ='Valores Delta Ct (T1)'!F13-'Fold Change (T1)'!B$8 -> 0.45254578 | J13: ='Valores Delta Ct (T1)'!G13-'Fold Change (T1)'!B$9 -> -1.0242403 | K13: ='Valores Delta Ct (T1)'!H13-'Fold Change (T1)'!B$10 -> 2.9257597 | L13: ='Valores Delta Ct (T1)'!I13-'Fold Change (T1)'!B$11 -> 4.0257597 | M13: ='Valores Delta Ct (T1)'!J13-'Fold Change (T1)'!B$12 -> -1.0142403 | N13: ='Valores Delta Ct (T1)'!K13-'Fold Change (T1)'!B$13 -> 1.4110278 | O13: ='Valores Delta Ct (T1)'!L13-'Fold Change (T1)'!B$14 -> 1.5657597 | Q13: 2E | R13: PCG - 1 | S13: =2^-F13 -> 1 | T13: =2^-G13 -> 1.9782713 | U13: =2^-H13 -> 1.562916 | V13: =2^-I13 -> 0.73075223 | W13: =2^-J13 -> 2.033888 | X13: =2^-K13 -> 0.13160081 | Y13: =2^-L13 -> 0.061393948 | Z13: =2^-M13 -> 2.0198389 | ... AB13: =2^-O13 -> 0.33779977
A14: SCLER | B14: 7.67 | D14: 3B | E14: POCG - 1 | F14: ='Valores Delta Ct (T1)'!C14-'Fold Change (T1)'!B$5 -> 0 | G14: ='Valores Delta Ct (T1)'!D14-'Fold Change (T1)'!B$6 -> -0.32806847 | H14: ='Valores Delta Ct (T1)'!E14-'Fold Change (T1)'!B$7 -> 0.011931534 | I14: ='Valores Delta Ct (T1)'!F14-'Fold Change (T1)'!B$8 -> 2.0331713 | J14: ='Valores Delta Ct (T1)'!G14-'Fold Change (T1)'!B$9 -> -0.36806847 | K14: ='Valores Delta Ct (T1)'!H14-'Fold Change (T1)'!B$10 -> 3.5819315 | L14: ='Valores Delta Ct (T1)'!I14-'Fold Change (T1)'!B$11 -> 4.6819315 | M14: ='Valores Delta Ct (T1)'!J14-'Fold Change (T1)'!B$12 -> -0.35806847 | N14: ='Valores Delta Ct (T1)'!K14-'Fold Change (T1)'!B$13 -> -0.68305214 | O14: ='Valores Delta Ct (T1)'!L14-'Fold Change (T1)'!B$14 -> -4.2726897 | Q14: 3B | R14: POCG - 1 | S14: =2^-F14 -> 1 | T14: =2^-G14 -> 1.2553316 | U14: =2^-H14 -> 0.9917638 | V14: =2^-I14 -> 0.24431743 | W14: =2^-J14 -> 1.2906237 | X14: =2^-K14 -> 0.083508593 | Y14: =2^-L14 -> 0.038958136 | Z14: =2^-M14 -> 1.2817087 | ... AB14: =2^-O14 -> 19.328928
D15: 3C | E15: POCG - 1 | F15: ='Valores Delta Ct (T1)'!C15-'Fold Change (T1)'!B$5 -> 0 | G15: ='Valores Delta Ct (T1)'!D15-'Fold Change (T1)'!B$6 -> -0.1394355 | H15: ='Valores Delta Ct (T1)'!E15-'Fold Change (T1)'!B$7 -> 0.2005645 | I15: ='Valores Delta Ct (T1)'!F15-'Fold Change (T1)'!B$8 -> 2.2002283 | J15: ='Valores Delta Ct (T1)'!G15-'Fold Change (T1)'!B$9 -> -0.1794355 | K15: ='Valores Delta Ct (T1)'!H15-'Fold Change (T1)'!B$10 -> 2.8437609 | L15: ='Valores Delta Ct (T1)'!I15-'Fold Change (T1)'!B$11 -> 4.8705645 | M15: ='Valores Delta Ct (T1)'!J15-'Fold Change (T1)'!B$12 -> -0.1694355 | N15: ='Valores Delta Ct (T1)'!K15-'Fold Change (T1)'!B$13 -> -1.1223946 | O15: ='Valores Delta Ct (T1)'!L15-'Fold Change (T1)'!B$14 -> 2.4105645 | Q15: 3C | R15: POCG - 1 | S15: =2^-F15 -> 1 | T15: =2^-G15 -> 1.101474 | U15: =2^-H15 -> 0.87021 | V15: =2^-I15 -> 0.2176032 | W15: =2^-J15 -> 1.1324407 | X15: =2^-K15 -> 0.13929729 | Y15: =2^-L15 -> 0.0341833 | Z15: =2^-M15 -> 1.1246184 | ... AB15: =2^-O15 -> 0.18808224
D16: 3D | E16: POCG - 1 | F16: ='Valores Delta Ct (T1)'!C16-'Fold Change (T1)'!B$5 -> 0 | G16: ='Valores Delta Ct (T1)'!D16-'Fold Change (T1)'!B$6 -> 1.724521 | H16: ='Valores Delta Ct (T1)'!E16-'Fold Change (T1)'!B$7 -> -0.6548127 | I16: ='Valores Delta Ct (T1)'!F16-'Fold Change (T1)'!B$8 -> -0.15608345 | J16: ='Valores Delta Ct (T1)'!G16-'Fold Change (T1)'!B$9 -> 1.684521 | K16: ='Valores Delta Ct (T1)'!H16-'Fold Change (T1)'!B$10 -> 5.634521 | L16: ='Valores Delta Ct (T1)'!I16-'Fold Change (T1)'!B$11 -> 6.734521 | M16: ='Valores Delta Ct (T1)'!J16-'Fold Change (T1)'!B$12 -> -2.1460705 | N16: ='Valores Delta Ct (T1)'!K16-'Fold Change (T1)'!B$13 -> -2.2701836 | O16: ='Valores Delta Ct (T1)'!L16-'Fold Change (T1)'!B$14 -> -0.018814011 | Q16: 3D | R16: POCG - 1 | S16: =2^-F16 -> 1 | T16: =2^-G16 -> 0.30259898 | U16: =2^-H16 -> 1.5744115 | V16: =2^-I16 -> 1.1142581 | W16: =2^-J16 -> 0.3111062 | X16: =2^-K16 -> 0.020129834 | Y16: =2^-L16 -> 0.0093908994 | Z16: =2^-M16 -> 4.4262056 | ... AB16: =2^-O16 -> 1.0131263
D17: 3F | E17: POCG - 1 | F17: ='Valores Delta Ct (T1)'!C17-'Fold Change (T1)'!B$5 -> 0 | G17: ='Valores Delta Ct (T1)'!D17-'Fold Change (T1)'!B$6 -> -2.013684 | H17: ='Valores Delta Ct (T1)'!E17-'Fold Change (T1)'!B$7 -> -1.673684 | I17: ='Valores Delta Ct (T1)'!F17-'Fold Change (T1)'!B$8 -> 3.9396082 | J17: ='Valores Delta Ct (T1)'!G17-'Fold Change (T1)'!B$9 -> -2.053684 | K17: ='Valores Delta Ct (T1)'!H17-'Fold Change (T1)'!B$10 -> -2.9654317 | L17: ='Valores Delta Ct (T1)'!I17-'Fold Change (T1)'!B$11 -> 2.996316 | M17: ='Valores Delta Ct (T1)'!J17-'Fold Change (T1)'!B$12 -> -2.043684 | N17: ='Valores Delta Ct (T1)'!K17-'Fold Change (T1)'!B$13 -> 0.52373116 | O17: ='Valores Delta Ct (T1)'!L17-'Fold Change (T1)'!B$14 -> 0.53631599 | Q17: 3F | R17: POCG - 1 | S17: =2^-F17 -> 1 | T17: =2^-G17 -> 4.0381206 | U17: =2^-H17 -> 3.1902821 | V17: =2^-I17 -> 0.065171805 | W17: =2^-J17 -> 4.1516476 | X17: =2^-K17 -> 7.8105912 | Y17: =2^-L17 -> 0.1253196 | Z17: =2^-M17 -> 4.1229701 | ... AB17: =2^-O17 -> 0.68952942
D18: 4B | E18: POCMG - 1 | F18: ='Valores Delta Ct (T1)'!C18-'Fold Change (T1)'!B$5 -> 0 | G18: ='Valores Delta Ct (T1)'!D18-'Fold Change (T1)'!B$6 -> 0.52927139 | H18: ='Valores Delta Ct (T1)'!E18-'Fold Change (T1)'!B$7 -> 0.86927139 | I18: ='Valores Delta Ct (T1)'!F18-'Fold Change (T1)'!B$8 -> -0.15499435 | J18: ='Valores Delta Ct (T1)'!G18-'Fold Change (T1)'!B$9 -> 0.48927139 | K18: ='Valores Delta Ct (T1)'!H18-'Fold Change (T1)'!B$10 -> 1.5782751 | L18: ='Valores Delta Ct (T1)'!I18-'Fold Change (T1)'!B$11 -> 2.6170988 | M18: ='Valores Delta Ct (T1)'!J18-'Fold Change (T1)'!B$12 -> 0.49927139 | N18: ='Valores Delta Ct (T1)'!K18-'Fold Change (T1)'!B$13 -> -2.3353654 | O18: ='Valores Delta Ct (T1)'!L18-'Fold Change (T1)'!B$14 -> -3.6694736 | Q18: 4B | R18: POCMG - 1 | S18: =2^-F18 -> 1 | T18: =2^-G18 -> 0.69290458 | U18: =2^-H18 -> 0.54742325 | V18: =2^-I18 -> 1.1134173 | W18: =2^-J18 -> 0.71238478 | X18: =2^-K18 -> 0.33488203 | Y18: =2^-L18 -> 0.16299517 | Z18: =2^-M18 -> 0.70746398 | ... AB18: =2^-O18 -> 12.72394
D19: 4C | E19: POCMG - 1 | F19: ='Valores Delta Ct (T1)'!C19-'Fold Change (T1)'!B$5 -> 0 | G19: ='Valores Delta Ct (T1)'!D19-'Fold Change (T1)'!B$6 -> -2.7484767 | H19: ='Valores Delta Ct (T1)'!E19-'Fold Change (T1)'!B$7 -> 0.43487656 | I19: ='Valores Delta Ct (T1)'!F19-'Fold Change (T1)'!B$8 -> -2.4112123 | J19: ='Valores Delta Ct (T1)'!G19-'Fold Change (T1)'!B$9 -> 0.054876556 | K19: ='Valores Delta Ct (T1)'!H19-'Fold Change (T1)'!B$10 -> 4.0048766 | L19: ='Valores Delta Ct (T1)'!I19-'Fold Change (T1)'!B$11 -> -2.0262498 | M19: ='Valores Delta Ct (T1)'!J19-'Fold Change (T1)'!B$12 -> 0.064876556 | N19: ='Valores Delta Ct (T1)'!K19-'Fold Change (T1)'!B$13 -> -5.2189332 | O19: ='Valores Delta Ct (T1)'!L19-'Fold Change (T1)'!B$14 -> -0.15374557 | Q19: 4C | R19: POCMG - 1 | S19: =2^-F19 -> 1 | T19: =2^-G19 -> 6.7200721 | U19: =2^-H19 -> 0.73975705 | V19: =2^-I19 -> 5.3192112 | W19: =2^-J19 -> 0.96267681 | X19: =2^-K19 -> 0.062289096 | Y19: =2^-L19 -> 4.0734462 | Z19: =2^-M19 -> 0.95602712 | ... AB19: =2^-O19 -> 1.1124539
D20: 4E | E20: POCMG - 1 | F20: ='Valores Delta Ct (T1)'!C20-'Fold Change (T1)'!B$5 -> 0 | G20: ='Valores Delta Ct (T1)'!D20-'Fold Change (T1)'!B$6 -> 0.033297806 | H20: ='Valores Delta Ct (T1)'!E20-'Fold Change (T1)'!B$7 -> -4.8258141 | I20: ='Valores Delta Ct (T1)'!F20-'Fold Change (T1)'!B$8 -> -1.6195482 | J20: ='Valores Delta Ct (T1)'!G20-'Fold Change (T1)'!B$9 -> -0.0067021942 | K20: ='Valores Delta Ct (T1)'!H20-'Fold Change (T1)'!B$10 -> 3.9432978 | L20: ='Valores Delta Ct (T1)'!I20-'Fold Change (T1)'!B$11 -> -1.6793851 | M20: ='Valores Delta Ct (T1)'!J20-'Fold Change (T1)'!B$12 -> -4.2614574 | N20: ='Valores Delta Ct (T1)'!K20-'Fold Change (T1)'!B$13 -> 0.29249947 | O20: ='Valores Delta Ct (T1)'!L20-'Fold Change (T1)'!B$14 -> -0.30990593 | Q20: 4E | R20: POCMG - 1 | S20: =2^-F20 -> 1 | T20: =2^-G20 -> 0.97718403 | U20: =2^-H20 -> 28.36056 | V20: =2^-I20 -> 3.0727879 | W20: =2^-J20 -> 1.0046564 | X20: =2^-K20 -> 0.065005347 | Y20: =2^-L20 -> 3.2029142 | Z20: =2^-M20 -> 19.179025 | ... AB20: =2^-O20 -> 1.2396269
D21: 4F | E21: POCMG - 1 | F21: ='Valores Delta Ct (T1)'!C21-'Fold Change (T1)'!B$5 -> 0 | G21: ='Valores Delta Ct (T1)'!D21-'Fold Change (T1)'!B$6 -> 0.86644485 | H21: ='Valores Delta Ct (T1)'!E21-'Fold Change (T1)'!B$7 -> 1.2064449 | I21: ='Valores Delta Ct (T1)'!F21-'Fold Change (T1)'!B$8 -> 7.7264449 | J21: ='Valores Delta Ct (T1)'!G21-'Fold Change (T1)'!B$9 -> 0.82644485 | K21: ='Valores Delta Ct (T1)'!H21-'Fold Change (T1)'!B$10 -> -0.45829636 | L21: ='Valores Delta Ct (T1)'!I21-'Fold Change (T1)'!B$11 -> 5.8764449 | M21: ='Valores Delta Ct (T1)'!J21-'Fold Change (T1)'!B$12 -> 0.83644485 | N21: ='Valores Delta Ct (T1)'!K21-'Fold Change (T1)'!B$13 -> 1.1890582 | O21: ='Valores Delta Ct (T1)'!L21-'Fold Change (T1)'!B$14 -> 3.4164449 | Q21: 4F | R21: POCMG - 1 | S21: =2^-F21 -> 1 | T21: =2^-G21 -> 0.54849681 | U21: =2^-H21 -> 0.43333514 | V21: =2^-I21 -> 0.0047218082 | W21: =2^-J21 -> 0.56391716 | X21: =2^-K21 -> 1.3739184 | Y21: =2^-L21 -> 0.017022127 | Z21: =2^-M21 -> 0.5600219 | ... AB21: =2^-O21 -> 0.093658591
D22: 5A | E22: PCMG - 1 | F22: ='Valores Delta Ct (T1)'!C22-'Fold Change (T1)'!B$5 -> 0 | G22: ='Valores Delta Ct (T1)'!D22-'Fold Change (T1)'!B$6 -> -5.0021274 | H22: ='Valores Delta Ct (T1)'!E22-'Fold Change (T1)'!B$7 -> -4.2928876 | I22: ='Valores Delta Ct (T1)'!F22-'Fold Change (T1)'!B$8 -> -0.75482117 | J22: ='Valores Delta Ct (T1)'!G22-'Fold Change (T1)'!B$9 -> -3.2882135 | K22: ='Valores Delta Ct (T1)'!H22-'Fold Change (T1)'!B$10 -> 2.4674124 | L22: ='Valores Delta Ct (T1)'!I22-'Fold Change (T1)'!B$11 -> -0.43360992 | M22: ='Valores Delta Ct (T1)'!J22-'Fold Change (T1)'!B$12 -> -3.5713005 | N22: ='Valores Delta Ct (T1)'!K22-'Fold Change (T1)'!B$13 -> 0.29012482 | O22: ='Valores Delta Ct (T1)'!L22-'Fold Change (T1)'!B$14 -> -6.6647529 | Q22: 5A | R22: PCMG - 1 | S22: =2^-F22 -> 1 | T22: =2^-G22 -> 32.047222 | U22: =2^-H22 -> 19.601438 | V22: =2^-I22 -> 1.6874224 | W22: =2^-J22 -> 9.7690177 | X22: =2^-K22 -> 0.18081516 | Y22: =2^-L22 -> 1.3506089 | Z22: =2^-M22 -> 11.886899 | ... AB22: =2^-O22 -> 101.45899
D23: 5B | E23: PCMG - 1 | F23: ='Valores Delta Ct (T1)'!C23-'Fold Change (T1)'!B$5 -> 0 | G23: ='Valores Delta Ct (T1)'!D23-'Fold Change (T1)'!B$6 -> -5.705445 | H23: ='Valores Delta Ct (T1)'!E23-'Fold Change (T1)'!B$7 -> 1.0884315 | I23: ='Valores Delta Ct (T1)'!F23-'Fold Change (T1)'!B$8 -> 2.1829745 | J23: ='Valores Delta Ct (T1)'!G23-'Fold Change (T1)'!B$9 -> -2.0993002 | K23: ='Valores Delta Ct (T1)'!H23-'Fold Change (T1)'!B$10 -> -1.1210523 | L23: ='Valores Delta Ct (T1)'!I23-'Fold Change (T1)'!B$11 -> 2.8559618 | M23: ='Valores Delta Ct (T1)'!J23-'Fold Change (T1)'!B$12 -> 0.71843147 | N23: ='Valores Delta Ct (T1)'!K23-'Fold Change (T1)'!B$13 -> 1.1736449 | O23: ='Valores Delta Ct (T1)'!L23-'Fold Change (T1)'!B$14 -> -2.2711295 | Q23: 5B | R23: PCMG - 1 | S23: =2^-F23 -> 1 | T23: =2^-G23 -> 52.180723 | U23: =2^-H23 -> 0.47027239 | V23: =2^-I23 -> 0.22022124 | W23: =2^-J23 -> 4.2850147 | X23: =2^-K23 -> 2.1750557 | Y23: =2^-L23 -> 0.13812421 | Z23: =2^-M23 -> 0.60775785 | ... AB23: =2^-O23 -> 4.8270091
D24: 5C | E24: PCMG - 1 | F24: ='Valores Delta Ct (T1)'!C24-'Fold Change (T1)'!B$5 -> 0 | G24: ='Valores Delta Ct (T1)'!D24-'Fold Change (T1)'!B$6 -> -2.2647807 | H24: ='Valores Delta Ct (T1)'!E24-'Fold Change (T1)'!B$7 -> -2.8710927 | I24: ='Valores Delta Ct (T1)'!F24-'Fold Change (T1)'!B$8 -> -1.88174 | J24: ='Valores Delta Ct (T1)'!G24-'Fold Change (T1)'!B$9 -> 0.32596039 | K24: ='Valores Delta Ct (T1)'!H24-'Fold Change (T1)'!B$10 -> 4.2759604 | L24: ='Valores Delta Ct (T1)'!I24-'Fold Change (T1)'!B$11 -> -2.7737226 | M24: ='Valores Delta Ct (T1)'!J24-'Fold Change (T1)'!B$12 -> -2.1503525 | N24: ='Valores Delta Ct (T1)'!K24-'Fold Change (T1)'!B$13 -> 0.41618149 | O24: ='Valores Delta Ct (T1)'!L24-'Fold Change (T1)'!B$14 -> -1.5943011 | Q24: 5C | R24: PCMG - 1 | S24: =2^-F24 -> 1 | T24: =2^-G24 -> 4.8058137 | U24: =2^-H24 -> 7.3161907 | V24: =2^-I24 -> 3.6851924 | W24: =2^-J24 -> 0.79776714 | X24: =2^-K24 -> 0.051618771 | Y24: =2^-L24 -> 6.8387024 | Z24: =2^-M24 -> 4.4393624 | ... AB24: =2^-O24 -> 3.0194822
D25: 5D | E25: PCMG - 1 | F25: ='Valores Delta Ct (T1)'!C25-'Fold Change (T1)'!B$5 -> 0 | G25: ='Valores Delta Ct (T1)'!D25-'Fold Change (T1)'!B$6 -> 0.79419258 | H25: ='Valores Delta Ct (T1)'!E25-'Fold Change (T1)'!B$7 -> -1.7632531 | I25: ='Valores Delta Ct (T1)'!F25-'Fold Change (T1)'!B$8 -> -0.57129417 | J25: ='Valores Delta Ct (T1)'!G25-'Fold Change (T1)'!B$9 -> 0.75419258 | K25: ='Valores Delta Ct (T1)'!H25-'Fold Change (T1)'!B$10 -> 0.42663902 | L25: ='Valores Delta Ct (T1)'!I25-'Fold Change (T1)'!B$11 -> 0.76798347 | M25: ='Valores Delta Ct (T1)'!J25-'Fold Change (T1)'!B$12 -> -4.8463078 | N25: ='Valores Delta Ct (T1)'!K25-'Fold Change (T1)'!B$13 -> 1.4090118 | O25: ='Valores Delta Ct (T1)'!L25-'Fold Change (T1)'!B$14 -> -0.67721931 | Q25: 5D | R25: PCMG - 1 | S25: =2^-F25 -> 1 | T25: =2^-G25 -> 0.57666582 | U25: =2^-H25 -> 3.3946271 | V25: =2^-I25 -> 1.4858559 | W25: =2^-J25 -> 0.5928781 | X25: =2^-K25 -> 0.74399301 | Y25: =2^-L25 -> 0.58723771 | Z25: =2^-M25 -> 28.7663 | ... AB25: =2^-O25 -> 1.5990547
D26: 5E | E26: PCMG - 1 | F26: ='Valores Delta Ct (T1)'!C26-'Fold Change (T1)'!B$5 -> 0 | G26: ='Valores Delta Ct (T1)'!D26-'Fold Change (T1)'!B$6 -> -1.1393649 | H26: ='Valores Delta Ct (T1)'!E26-'Fold Change (T1)'!B$7 -> -0.79936493 | I26: ='Valores Delta Ct (T1)'!F26-'Fold Change (T1)'!B$8 -> 0.15595688 | J26: ='Valores Delta Ct (T1)'!G26-'Fold Change (T1)'!B$9 -> -1.1793649 | K26: ='Valores Delta Ct (T1)'!H26-'Fold Change (T1)'!B$10 -> 2.7706351 | L26: ='Valores Delta Ct (T1)'!I26-'Fold Change (T1)'!B$11 -> 3.8706351 | M26: ='Valores Delta Ct (T1)'!J26-'Fold Change (T1)'!B$12 -> -3.8655815 | N26: ='Valores Delta Ct (T1)'!K26-'Fold Change (T1)'!B$13 -> -0.6725827 | O26: ='Valores Delta Ct (T1)'!L26-'Fold Change (T1)'!B$14 -> 1.4106351 | Q26: 5E | R26: PCMG - 1 | S26: =2^-F26 -> 1 | T26: =2^-G26 -> 2.2028403 | U26: =2^-H26 -> 1.7403349 | V26: =2^-I26 -> 0.89753688 | W26: =2^-J26 -> 2.2647706 | X26: =2^-K26 -> 0.14653985 | Y26: =2^-L26 -> 0.068363256 | Z26: =2^-M26 -> 14.576592 | ... AB26: =2^-O26 -> 0.37614607
... D38: 7E | E38: CG - 1 | F38: ='Valores Delta Ct (T1)'!C38-'Fold Change (T1)'!B$5 -> 0 | G38: ='Valores Delta Ct (T1)'!D38-'Fold Change (T1)'!B$6 -> -0.0012995911 | H38: ='Valores Delta Ct (T1)'!E38-'Fold Change (T1)'!B$7 -> 0.33870041 | I38: ='Valores Delta Ct (T1)'!F38-'Fold Change (T1)'!B$8 -> 4.0358931 | J38: ='Valores Delta Ct (T1)'!G38-'Fold Change (T1)'!B$9 -> -0.041299591 | K38: ='Valores Delta Ct (T1)'!H38-'Fold Change (T1)'!B$10 -> 0.48628372 | L38: ='Valores Delta Ct (T1)'!I38-'Fold Change (T1)'!B$11 -> 1.7040129 | M38: ='Valores Delta Ct (T1)'!J38-'Fold Change (T1)'!B$12 -> -0.031299591 | N38: ='Valores Delta Ct (T1)'!K38-'Fold Change (T1)'!B$13 -> 0.067212982 | O38: ='Valores Delta Ct (T1)'!L38-'Fold Change (T1)'!B$14 -> 2.5487004 | Q38: 7E | R38: CG - 1 | S38: =2^-F38 -> 1 | T38: =2^-G38 -> 1.0009012 | U38: =2^-H38 -> 0.79075331 | V38: =2^-I38 -> 0.060964234 | W38: =2^-J38 -> 1.0290404 | X38: =2^-K38 -> 0.71386159 | Y38: =2^-L38 -> 0.30693117 | Z38: =2^-M38 -> 1.0219323 | ... AB38: =2^-O38 -> 0.17090892
F39: ='Valores Delta Ct (T1)'!C39-'Fold Change (T1)'!B$5 -> 0 | G39: ='Valores Delta Ct (T1)'!D39-'Fold Change (T1)'!B$6 -> -10.22 | H39: ='Valores Delta Ct (T1)'!E39-'Fold Change (T1)'!B$7 -> -9.88 | I39: ='Valores Delta Ct (T1)'!F39-'Fold Change (T1)'!B$8 -> -3.36 | J39: ='Valores Delta Ct (T1)'!G39-'Fold Change (T1)'!B$9 -> -10.26 | K39: ='Valores Delta Ct (T1)'!H39-'Fold Change (T1)'!B$10 -> -6.31 | L39: ='Valores Delta Ct (T1)'!I39-'Fold Change (T1)'!B$11 -> -5.21 | M39: ='Valores Delta Ct (T1)'!J39-'Fold Change (T1)'!B$12 -> -10.25 | N39: ='Valores Delta Ct (T1)'!K39-'Fold Change (T1)'!B$13 -> -5.08 | O39: ='Valores Delta Ct (T1)'!L39-'Fold Change (T1)'!B$14 -> -7.67 | S39: =2^-F39 -> 1 | T39: =2^-G39 -> 1192.6872 | U39: =2^-H39 -> 942.27215 | V39: =2^-I39 -> 10.267407 | W39: =2^-J39 -> 1226.2182 | X39: =2^-K39 -> 79.341293 | Y39: =2^-L39 -> 37.014022 | Z39: =2^-M39 -> 1217.7481 | ... AB39: =2^-O39 -> 203.65734
F40: ='Valores Delta Ct (T1)'!C40-'Fold Change (T1)'!B$5 -> 0 | G40: ='Valores Delta Ct (T1)'!D40-'Fold Change (T1)'!B$6 -> -10.22 | H40: ='Valores Delta Ct (T1)'!E40-'Fold Change (T1)'!B$7 -> -9.88 | I40: ='Valores Delta Ct (T1)'!F40-'Fold Change (T1)'!B$8 -> -3.36 | J40: ='Valores Delta Ct (T1)'!G40-'Fold Change (T1)'!B$9 -> -10.26 | K40: ='Valores Delta Ct (T1)'!H40-'Fold Change (T1)'!B$10 -> -6.31 | L40: ='Valores Delta Ct (T1)'!I40-'Fold Change (T1)'!B$11 -> -5.21 | M40: ='Valores Delta Ct (T1)'!J40-'Fold Change (T1)'!B$12 -> -10.25 | N40: ='Valores Delta Ct (T1)'!K40-'Fold Change (T1)'!B$13 -> -5.08 | O40: ='Valores Delta Ct (T1)'!L40-'Fold Change (T1)'!B$14 -> -7.67 | S40: =2^-F40 -> 1 | T40: =2^-G40 -> 1192.6872 | U40: =2^-H40 -> 942.27215 | V40: =2^-I40 -> 10.267407 | W40: =2^-J40 -> 1226.2182 | X40: =2^-K40 -> 79.341293 | Y40: =2^-L40 -> 37.014022 | Z40: =2^-M40 -> 1217.7481 | ... AB40: =2^-O40 -> 203.65734
F41: ='Valores Delta Ct (T1)'!C41-'Fold Change (T1)'!B$5 -> 0 | G41: ='Valores Delta Ct (T1)'!D41-'Fold Change (T1)'!B$6 -> -10.22 | H41: ='Valores Delta Ct (T1)'!E41-'Fold Change (T1)'!B$7 -> -9.88 | I41: ='Valores Delta Ct (T1)'!F41-'Fold Change (T1)'!B$8 -> -3.36 | J41: ='Valores Delta Ct (T1)'!G41-'Fold Change (T1)'!B$9 -> -10.26 | K41: ='Valores Delta Ct (T1)'!H41-'Fold Change (T1)'!B$10 -> -6.31 | L41: ='Valores Delta Ct (T1)'!I41-'Fold Change (T1)'!B$11 -> -5.21 | M41: ='Valores Delta Ct (T1)'!J41-'Fold Change (T1)'!B$12 -> -10.25 | N41: ='Valores Delta Ct (T1)'!K41-'Fold Change (T1)'!B$13 -> -5.08 | O41: ='Valores Delta Ct (T1)'!L41-'Fold Change (T1)'!B$14 -> -7.67 | S41: =2^-F41 -> 1 | T41: =2^-G41 -> 1192.6872 | U41: =2^-H41 -> 942.27215 | V41: =2^-I41 -> 10.267407 | W41: =2^-J41 -> 1226.2182 | X41: =2^-K41 -> 79.341293 | Y41: =2^-L41 -> 37.014022 | Z41: =2^-M41 -> 1217.7481 | ... AB41: =2^-O41 -> 203.65734
F42: ='Valores Delta Ct (T1)'!C42-'Fold Change (T1)'!B$5 -> 0 | G42: ='Valores Delta Ct (T1)'!D42-'Fold Change (T1)'!B$6 -> -10.22 | H42: ='Valores Delta Ct (T1)'!E42-'Fold Change (T1)'!B$7 -> -9.88 | I42: ='Valores Delta Ct (T1)'!F42-'Fold Change (T1)'!B$8 -> -3.36 | J42: ='Valores Delta Ct (T1)'!G42-'Fold Change (T1)'!B$9 -> -10.26 | K42: ='Valores Delta Ct (T1)'!H42-'Fold Change (T1)'!B$10 -> -6.31 | L42: ='Valores Delta Ct (T1)'!I42-'Fold Change (T1)'!B$11 -> -5.21 | M42: ='Valores Delta Ct (T1)'!J42-'Fold Change (T1)'!B$12 -> -10.25 | N42: ='Valores Delta Ct (T1)'!K42-'Fold Change (T1)'!B$13 -> -5.08 | O42: ='Valores Delta Ct (T1)'!L42-'Fold Change (T1)'!B$14 -> -7.67 | S42: =2^-F42 -> 1 | T42: =2^-G42 -> 1192.6872 | U42: =2^-H42 -> 942.27215 | V42: =2^-I42 -> 10.267407 | W42: =2^-J42 -> 1226.2182 | X42: =2^-K42 -> 79.341293 | Y42: =2^-L42 -> 37.014022 | Z42: =2^-M42 -> 1217.7481 | ... AB42: =2^-O42 -> 203.65734
F43: ='Valores Delta Ct (T1)'!C43-'Fold Change (T1)'!B$5 -> 0 | G43: ='Valores Delta Ct (T1)'!D43-'Fold Change (T1)'!B$6 -> -10.22 | H43: ='Valores Delta Ct (T1)'!E43-'Fold Change (T1)'!B$7 -> -9.88 | I43: ='Valores Delta Ct (T1)'!F43-'Fold Change (T1)'!B$8 -> -3.36 | J43: ='Valores Delta Ct (T1)'!G43-'Fold Change (T1)'!B$9 -> -10.26 | K43: ='Valores Delta Ct (T1)'!H43-'Fold Change (T1)'!B$10 -> -6.31 | L43: ='Valores Delta Ct (T1)'!I43-'Fold Change (T1)'!B$11 -> -5.21 | M43: ='Valores Delta Ct (T1)'!J43-'Fold Change (T1)'!B$12 -> -10.25 | N43: ='Valores Delta Ct (T1)'!K43-'Fold Change (T1)'!B$13 -> -5.08 | O43: ='Valores Delta Ct (T1)'!L43-'Fold Change (T1)'!B$14 -> -7.67 | S43: =2^-F43 -> 1 | T43: =2^-G43 -> 1192.6872 | U43: =2^-H43 -> 942.27215 | V43: =2^-I43 -> 10.267407 | W43: =2^-J43 -> 1226.2182 | X43: =2^-K43 -> 79.341293 | Y43: =2^-L43 -> 37.014022 | Z43: =2^-M43 -> 1217.7481 | ... AB43: =2^-O43 -> 203.65734
F44: ='Valores Delta Ct (T1)'!C44-'Fold Change (T1)'!B$5 -> 0 | G44: ='Valores Delta Ct (T1)'!D44-'Fold Change (T1)'!B$6 -> -10.22 | H44: ='Valores Delta Ct (T1)'!E44-'Fold Change (T1)'!B$7 -> -9.88 | I44: ='Valores Delta Ct (T1)'!F44-'Fold Change (T1)'!B$8 -> -3.36 | J44: ='Valores Delta Ct (T1)'!G44-'Fold Change (T1)'!B$9 -> -10.26 | K44: ='Valores Delta Ct (T1)'!H44-'Fold Change (T1)'!B$10 -> -6.31 | L44: ='Valores Delta Ct (T1)'!I44-'Fold Change (T1)'!B$11 -> -5.21 | M44: ='Valores Delta Ct (T1)'!J44-'Fold Change (T1)'!B$12 -> -10.25 | N44: ='Valores Delta Ct (T1)'!K44-'Fold Change (T1)'!B$13 -> -5.08 | O44: ='Valores Delta Ct (T1)'!L44-'Fold Change (T1)'!B$14 -> -7.67 | S44: =2^-F44 -> 1 | T44: =2^-G44 -> 1192.6872 | U44: =2^-H44 -> 942.27215 | V44: =2^-I44 -> 10.267407 | W44: =2^-J44 -> 1226.2182 | X44: =2^-K44 -> 79.341293 | Y44: =2^-L44 -> 37.014022 | Z44: =2^-M44 -> 1217.7481 | ... AB44: =2^-O44 -> 203.65734
F45: ='Valores Delta Ct (T1)'!C45-'Fold Change (T1)'!B$5 -> 0 | G45: ='Valores Delta Ct (T1)'!D45-'Fold Change (T1)'!B$6 -> -10.22 | H45: ='Valores Delta Ct (T1)'!E45-'Fold Change (T1)'!B$7 -> -9.88 | I45: ='Valores Delta Ct (T1)'!F45-'Fold Change (T1)'!B$8 -> -3.36 | J45: ='Valores Delta Ct (T1)'!G45-'Fold Change (T1)'!B$9 -> -10.26 | K45: ='Valores Delta Ct (T1)'!H45-'Fold Change (T1)'!B$10 -> -6.31 | L45: ='Valores Delta Ct (T1)'!I45-'Fold Change (T1)'!B$11 -> -5.21 | M45: ='Valores Delta Ct (T1)'!J45-'Fold Change (T1)'!B$12 -> -10.25 | N45: ='Valores Delta Ct (T1)'!K45-'Fold Change (T1)'!B$13 -> -5.08 | O45: ='Valores Delta Ct (T1)'!L45-'Fold Change (T1)'!B$14 -> -7.67 | S45: =2^-F45 -> 1 | T45: =2^-G45 -> 1192.6872 | U45: =2^-H45 -> 942.27215 | V45: =2^-I45 -> 10.267407 | W45: =2^-J45 -> 1226.2182 | X45: =2^-K45 -> 79.341293 | Y45: =2^-L45 -> 37.014022 | Z45: =2^-M45 -> 1217.7481 | ... AB45: =2^-O45 -> 203.65734
F46: ='Valores Delta Ct (T1)'!C46-'Fold Change (T1)'!B$5 -> 0 | G46: ='Valores Delta Ct (T1)'!D46-'Fold Change (T1)'!B$6 -> -10.22 | H46: ='Valores Delta Ct (T1)'!E46-'Fold Change (T1)'!B$7 -> -9.88 | I46: ='Valores Delta Ct (T1)'!F46-'Fold Change (T1)'!B$8 -> -3.36 | J46: ='Valores Delta Ct (T1)'!G46-'Fold Change (T1)'!B$9 -> -10.26 | K46: ='Valores Delta Ct (T1)'!H46-'Fold Change (T1)'!B$10 -> -6.31 | L46: ='Valores Delta Ct (T1)'!I46-'Fold Change (T1)'!B$11 -> -5.21 | M46: ='Valores Delta Ct (T1)'!J46-'Fold Change (T1)'!B$12 -> -10.25 | N46: ='Valores Delta Ct (T1)'!K46-'Fold Change (T1)'!B$13 -> -5.08 | O46: ='Valores Delta Ct (T1)'!L46-'Fold Change (T1)'!B$14 -> -7.67 | S46: =2^-F46 -> 1 | T46: =2^-G46 -> 1192.6872 | U46: =2^-H46 -> 942.27215 | V46: =2^-I46 -> 10.267407 | W46: =2^-J46 -> 1226.2182 | X46: =2^-K46 -> 79.341293 | Y46: =2^-L46 -> 37.014022 | Z46: =2^-M46 -> 1217.7481 | ... AB46: =2^-O46 -> 203.65734
F47: ='Valores Delta Ct (T1)'!C47-'Fold Change (T1)'!B$5 -> 0 | G47: ='Valores Delta Ct (T1)'!D47-'Fold Change (T1)'!B$6 -> -10.22 | H47: ='Valores Delta Ct (T1)'!E47-'Fold Change (T1)'!B$7 -> -9.88 | I47: ='Valores Delta Ct (T1)'!F47-'Fold Change (T1)'!B$8 -> -3.36 | J47: ='Valores Delta Ct (T1)'!G47-'Fold Change (T1)'!B$9 -> -10.26 | K47: ='Valores Delta Ct (T1)'!H47-'Fold Change (T1)'!B$10 -> -6.31 | L47: ='Valores Delta Ct (T1)'!I47-'Fold Change (T1)'!B$11 -> -5.21 | M47: ='Valores Delta Ct (T1)'!J47-'Fold Change (T1)'!B$12 -> -10.25 | N47: ='Valores Delta Ct (T1)'!K47-'Fold Change (T1)'!B$13 -> -5.08 | O47: ='Valores Delta Ct (T1)'!L47-'Fold Change (T1)'!B$14 -> -7.67 | S47: =2^-F47 -> 1 | T47: =2^-G47 -> 1192.6872 | U47: =2^-H47 -> 942.27215 | V47: =2^-I47 -> 10.267407 | W47: =2^-J47 -> 1226.2182 | X47: =2^-K47 -> 79.341293 | Y47: =2^-L47 -> 37.014022 | Z47: =2^-M47 -> 1217.7481 | ... AB47: =2^-O47 -> 203.65734
F48: ='Valores Delta Ct (T1)'!C48-'Fold Change (T1)'!B$5 -> 0 | G48: ='Valores Delta Ct (T1)'!D48-'Fold Change (T1)'!B$6 -> -10.22 | H48: ='Valores Delta Ct (T1)'!E48-'Fold Change (T1)'!B$7 -> -9.88 | I48: ='Valores Delta Ct (T1)'!F48-'Fold Change (T1)'!B$8 -> -3.36 | J48: ='Valores Delta Ct (T1)'!G48-'Fold Change (T1)'!B$9 -> -10.26 | K48: ='Valores Delta Ct (T1)'!H48-'Fold Change (T1)'!B$10 -> -6.31 | L48: ='Valores Delta Ct (T1)'!I48-'Fold Change (T1)'!B$11 -> -5.21 | M48: ='Valores Delta Ct (T1)'!J48-'Fold Change (T1)'!B$12 -> -10.25 | N48: ='Valores Delta Ct (T1)'!K48-'Fold Change (T1)'!B$13 -> -5.08 | O48: ='Valores Delta Ct (T1)'!L48-'Fold Change (T1)'!B$14 -> -7.67 | S48: =2^-F48 -> 1 | T48: =2^-G48 -> 1192.6872 | U48: =2^-H48 -> 942.27215 | V48: =2^-I48 -> 10.267407 | W48: =2^-J48 -> 1226.2182 | X48: =2^-K48 -> 79.341293 | Y48: =2^-L48 -> 37.014022 | Z48: =2^-M48 -> 1217.7481 | ... AB48: =2^-O48 -> 203.65734
F49: ='Valores Delta Ct (T1)'!C49-'Fold Change (T1)'!B$5 -> 0 | G49: ='Valores Delta Ct (T1)'!D49-'Fold Change (T1)'!B$6 -> -10.22 | H49: ='Valores Delta Ct (T1)'!E49-'Fold Change (T1)'!B$7 -> -9.88 | I49: ='Valores Delta Ct (T1)'!F49-'Fold Change (T1)'!B$8 -> -3.36 | J49: ='Valores Delta Ct (T1)'!G49-'Fold Change (T1)'!B$9 -> -10.26 | K49: ='Valores Delta Ct (T1)'!H49-'Fold Change (T1)'!B$10 -> -6.31 | L49: ='Valores Delta Ct (T1)'!I49-'Fold Change (T1)'!B$11 -> -5.21 | M49: ='Valores Delta Ct (T1)'!J49-'Fold Change (T1)'!B$12 -> -10.25 | N49: ='Valores Delta Ct (T1)'!K49-'Fold Change (T1)'!B$13 -> -5.08 | O49: ='Valores Delta Ct (T1)'!L49-'Fold Change (T1)'!B$14 -> -7.67 | S49: =2^-F49 -> 1 | T49: =2^-G49 -> 1192.6872 | U49: =2^-H49 -> 942.27215 | V49: =2^-I49 -> 10.267407 | W49: =2^-J49 -> 1226.2182 | X49: =2^-K49 -> 79.341293 | Y49: =2^-L49 -> 37.014022 | Z49: =2^-M49 -> 1217.7481 | ... AB49: =2^-O49 -> 203.65734
F50: ='Valores Delta Ct (T1)'!C50-'Fold Change (T1)'!B$5 -> 0 | G50: ='Valores Delta Ct (T1)'!D50-'Fold Change (T1)'!B$6 -> -10.22 | H50: ='Valores Delta Ct (T1)'!E50-'Fold Change (T1)'!B$7 -> -9.88 | I50: ='Valores Delta Ct (T1)'!F50-'Fold Change (T1)'!B$8 -> -3.36 | J50: ='Valores Delta Ct (T1)'!G50-'Fold Change (T1)'!B$9 -> -10.26 | K50: ='Valores Delta Ct (T1)'!H50-'Fold Change (T1)'!B$10 -> -6.31 | L50: ='Valores Delta Ct (T1)'!I50-'Fold Change (T1)'!B$11 -> -5.21 | M50: ='Valores Delta Ct (T1)'!J50-'Fold Change (T1)'!B$12 -> -10.25 | N50: ='Valores Delta Ct (T1)'!K50-'Fold Change (T1)'!B$13 -> -5.08 | O50: ='Valores Delta Ct (T1)'!L50-'Fold Change (T1)'!B$14 -> -7.67 | S50: =2^-F50 -> 1 | T50: =2^-G50 -> 1192.6872 | U50: =2^-H50 -> 942.27215 | V50: =2^-I50 -> 10.267407 | W50: =2^-J50 -> 1226.2182 | X50: =2^-K50 -> 79.341293 | Y50: =2^-L50 -> 37.014022 | Z50: =2^-M50 -> 1217.7481 | ... AB50: =2^-O50 -> 203.65734
... F75: ='Valores Delta Ct (T1)'!C75-'Fold Change (T1)'!B$5 -> 0 | G75: ='Valores Delta Ct (T1)'!D75-'Fold Change (T1)'!B$6 -> -10.22 | H75: ='Valores Delta Ct (T1)'!E75-'Fold Change (T1)'!B$7 -> -9.88 | I75: ='Valores Delta Ct (T1)'!F75-'Fold Change (T1)'!B$8 -> -3.36 | J75: ='Valores Delta Ct (T1)'!G75-'Fold Change (T1)'!B$9 -> -10.26 | K75: ='Valores Delta Ct (T1)'!H75-'Fold Change (T1)'!B$10 -> -6.31 | L75: ='Valores Delta Ct (T1)'!I75-'Fold Change (T1)'!B$11 -> -5.21 | M75: ='Valores Delta Ct (T1)'!J75-'Fold Change (T1)'!B$12 -> -10.25 | N75: ='Valores Delta Ct (T1)'!K75-'Fold Change (T1)'!B$13 -> -5.08 | O75: ='Valores Delta Ct (T1)'!L75-'Fold Change (T1)'!B$14 -> -7.67 | S75: =2^-F75 -> 1 | T75: =2^-G75 -> 1192.6872 | U75: =2^-H75 -> 942.27215 | V75: =2^-I75 -> 10.267407 | W75: =2^-J75 -> 1226.2182 | X75: =2^-K75 -> 79.341293 | Y75: =2^-L75 -> 37.014022 | Z75: =2^-M75 -> 1217.7481 | ... AB75: =2^-O75 -> 203.65734

Sheet Valores de Ct (T2)
A2: RESULTADOS CORRIDAS PCR - Ct's
A5: Animal | B5: Grupo | C5: GAPDH | D5: BSP | E5: OP | F5: OC | G5: TRAP | H5: CTSK | I5: RANKL | J5: OPG | K5: DDK | L5: SCLER
A6: 10A | B6: NCG - 2 | C6: 29.270197 | D6: 40 | E6: 39.039558 | F6: 35.768562 | G6: 40 | H6: 34.289001 | I6: 38.260895 | J6: 40 | K6: 35.910595 | L6: 35.939213
A7: 10C | B7: NCG - 2 | C7: 29.038233 | D7: 40 | E7: 40 | F7: 32.870876 | G7: 40 | H7: 40 | I7: 37.137196 | J7: 40 | K7: 34.539829 | L7: 40
A8: 10D | B8: NCG - 2 | C8: 29.918461 | D8: 40 | E8: 36.25771 | F8: 28.543823 | G8: 40 | H8: 33.533379 | I8: 30.144524 | J8: 38.575924 | K8: 34.674969 | L8: 35.54895
A9: 10E | B9: NCG - 2 | C9: 29.521631 | D9: 40 | E9: 37.185635 | F9: 32.272869 | G9: 40 | H9: 40 | I9: 33.200562 | J9: 40 | K9: 35.318439 | L9: 40
A10: 10F | B10: NCG - 2 | C10: 29.061983 | D10: 40 | E10: 40 | F10: 37.702316 | G10: 40 | H10: 37.554516 | I10: 40 | J10: 40 | K10: 35.008781 | L10: 36.845905
A11: 11A | B11: PCG - 2 | C11: 28.959379 | D11: 40 | E11: 40 | F11: 37.021694 | G11: 40 | H11: 38.975239 | I11: 39.240135 | J11: 40 | K11: 35.308456 | L11: 35.732403
A12: 11B | B12: PCG - 2 | C12: 28.849989 | D12: 36.77496 | E12: 37.130783 | F12: 34.720013 | G12: 40 | H12: 40 | I12: 36.919411 | J12: 40 | K12: 34.881962 | L12: 36.611099
A13: 11C | B13: PCG - 2 | C13: 28.606085 | D13: 37.122837 | E13: 35.523331 | F13: 30.272549 | G13: 34.490784 | H13: 36.885658 | I13: 28.655901 | J13: 36.180702 | K13: 32.487545 | L13: 35.202011
A14: 11E | B14: PCG - 2 | C14: 28.278017 | D14: 40 | E14: 34.19495 | F14: 32.102276 | G14: 37.183697 | H14: 37.090702 | I14: 37.059959 | J14: 37.072109 | K14: 35.924965 | L14: 37.103374
A15: 11F | B15: PCG - 2 | C15: 29.686642 | D15: 35.968029 | E15: 40 | F15: 33.599792 | G15: 40 | H15: 40 | I15: 35.246647 | J15: 40 | K15: 34.308449 | L15: 36.3946
A16: 12A | B16: POCG - 2 | C16: 29.317385 | D16: 40 | E16: 40 | F16: 31.630413 | G16: 40 | H16: 7.1361394 | I16: 31.830595 | J16: 40 | K16: 34.399162 | L16: 36.249187
A17: 12B | B17: POCG - 2 | C17: 29.233284 | D17: 40 | E17: 40 | F17: 34.931602 | G17: 40 | H17: 35.41885 | I17: 40 | J17: 40 | K17: 35.329971 | L17: 37.082859
... A42: 16E | B42: CG - 2 | C42: 28.919353 | D42: 40 | E42: 37.20834 | F42: 35.944691 | G42: 40 | H42: 35.733597 | I42: 40 | J42: 40 | K42: 36.958046 | L42: 40

Sheet Valores Delta Ct  (T2)
A2: RESULTADOS CORRIDAS PCR - Ct's
A5: Animal | B5: Grupo | C5: GAPDH | D5: BSP | E5: OP | F5: OC | G5: TRAP | H5: CTSK | I5: RANKL | J5: OPG | K5: DDK | L5: SCLER
A6: 10A | B6: NCG - 2 | C6: ='Valores de Ct (T1)'!C6-'Valores de Ct (T1)'!C6 -> 0 | D6: ='Valores de Ct (T2)'!D6-'Valores de Ct (T2)'!$C6 -> 10.729803 | E6: ='Valores de Ct (T2)'!E6-'Valores de Ct (T2)'!$C6 -> 9.7693615 | F6: ='Valores de Ct (T2)'!F6-'Valores de Ct (T2)'!$C6 -> 6.4983654 | G6: ='Valores de Ct (T2)'!G6-'Valores de Ct (T2)'!$C6 -> 10.729803 | H6: ='Valores de Ct (T2)'!H6-'Valores de Ct (T2)'!$C6 -> 5.0188046 | I6: ='Valores de Ct (T2)'!I6-'Valores de Ct (T2)'!$C6 -> 8.9906979 | J6: ='Valores de Ct (T2)'!J6-'Valores de Ct (T2)'!$C6 -> 10.729803 | K6: ='Valores de Ct (T2)'!K6-'Valores de Ct (T2)'!$C6 -> 6.640398 | L6: ='Valores de Ct (T2)'!L6-'Valores de Ct (T2)'!$C6 -> 6.6690159
A7: 10C | B7: NCG - 2 | C7: ='Valores de Ct (T1)'!C7-'Valores de Ct (T1)'!C7 -> 0 | D7: ='Valores de Ct (T2)'!D7-'Valores de Ct (T2)'!$C7 -> 10.961767 | E7: ='Valores de Ct (T2)'!E7-'Valores de Ct (T2)'!$C7 -> 10.961767 | F7: ='Valores de Ct (T2)'!F7-'Valores de Ct (T2)'!$C7 -> 3.8326435 | G7: ='Valores de Ct (T2)'!G7-'Valores de Ct (T2)'!$C7 -> 10.961767 | H7: ='Valores de Ct (T2)'!H7-'Valores de Ct (T2)'!$C7 -> 10.961767 | I7: ='Valores de Ct (T2)'!I7-'Valores de Ct (T2)'!$C7 -> 8.0989628 | J7: ='Valores de Ct (T2)'!J7-'Valores de Ct (T2)'!$C7 -> 10.961767 | K7: ='Valores de Ct (T2)'!K7-'Valores de Ct (T2)'!$C7 -> 5.5015965 | L7: ='Valores de Ct (T2)'!L7-'Valores de Ct (T2)'!$C7 -> 10.961767
A8: 10D | B8: NCG - 2 | C8: ='Valores de Ct (T1)'!C8-'Valores de Ct (T1)'!C8 -> 0 | D8: ='Valores de Ct (T2)'!D8-'Valores de Ct (T2)'!$C8 -> 10.081539 | E8: ='Valores de Ct (T2)'!E8-'Valores de Ct (T2)'!$C8 -> 6.3392487 | F8: ='Valores de Ct (T2)'!F8-'Valores de Ct (T2)'!$C8 -> -1.3746376 | G8: ='Valores de Ct (T2)'!G8-'Valores de Ct (T2)'!$C8 -> 10.081539 | H8: ='Valores de Ct (T2)'!H8-'Valores de Ct (T2)'!$C8 -> 3.6149178 | I8: ='Valores de Ct (T2)'!I8-'Valores de Ct (T2)'!$C8 -> 0.22606277 | J8: ='Valores de Ct (T2)'!J8-'Valores de Ct (T2)'!$C8 -> 8.6574631 | K8: ='Valores de Ct (T2)'!K8-'Valores de Ct (T2)'!$C8 -> 4.7565079 | L8: ='Valores de Ct (T2)'!L8-'Valores de Ct (T2)'!$C8 -> 5.6304893
A9: 10E | B9: NCG - 2 | C9: ='Valores de Ct (T1)'!C9-'Valores de Ct (T1)'!C9 -> 0 | D9: ='Valores de Ct (T2)'!D9-'Valores de Ct (T2)'!$C9 -> 10.478369 | E9: ='Valores de Ct (T2)'!E9-'Valores de Ct (T2)'!$C9 -> 7.6640034 | F9: ='Valores de Ct (T2)'!F9-'Valores de Ct (T2)'!$C9 -> 2.7512379 | G9: ='Valores de Ct (T2)'!G9-'Valores de Ct (T2)'!$C9 -> 10.478369 | H9: ='Valores de Ct (T2)'!H9-'Valores de Ct (T2)'!$C9 -> 10.478369 | I9: ='Valores de Ct (T2)'!I9-'Valores de Ct (T2)'!$C9 -> 3.6789303 | J9: ='Valores de Ct (T2)'!J9-'Valores de Ct (T2)'!$C9 -> 10.478369 | K9: ='Valores de Ct (T2)'!K9-'Valores de Ct (T2)'!$C9 -> 5.7968082 | L9: ='Valores de Ct (T2)'!L9-'Valores de Ct (T2)'!$C9 -> 10.478369
A10: 10F | B10: NCG - 2 | C10: ='Valores de Ct (T1)'!C10-'Valores de Ct (T1)'!C10 -> 0 | D10: ='Valores de Ct (T2)'!D10-'Valores de Ct (T2)'!$C10 -> 10.938017 | E10: ='Valores de Ct (T2)'!E10-'Valores de Ct (T2)'!$C10 -> 10.938017 | F10: ='Valores de Ct (T2)'!F10-'Valores de Ct (T2)'!$C10 -> 8.6403332 | G10: ='Valores de Ct (T2)'!G10-'Valores de Ct (T2)'!$C10 -> 10.938017 | H10: ='Valores de Ct (T2)'!H10-'Valores de Ct (T2)'!$C10 -> 8.4925327 | I10: ='Valores de Ct (T2)'!I10-'Valores de Ct (T2)'!$C10 -> 10.938017 | J10: ='Valores de Ct (T2)'!J10-'Valores de Ct (T2)'!$C10 -> 10.938017 | K10: ='Valores de Ct (T2)'!K10-'Valores de Ct (T2)'!$C10 -> 5.9467983 | L10: ='Valores de Ct (T2)'!L10-'Valores de Ct (T2)'!$C10 -> 7.7839222
A11: 11A | B11: PCG - 2 | C11: ='Valores de Ct (T1)'!C11-'Valores de Ct (T1)'!C11 -> 0 | D11: ='Valores de Ct (T2)'!D11-'Valores de Ct (T2)'!$C11 -> 11.040621 | E11: ='Valores de Ct (T2)'!E11-'Valores de Ct (T2)'!$C11 -> 11.040621 | F11: ='Valores de Ct (T2)'!F11-'Valores de Ct (T2)'!$C11 -> 8.062315 | G11: ='Valores de Ct (T2)'!G11-'Valores de Ct (T2)'!$C11 -> 11.040621 | H11: ='Valores de Ct (T2)'!H11-'Valores de Ct (T2)'!$C11 -> 10.01586 | I11: ='Valores de Ct (T2)'!I11-'Valores de Ct (T2)'!$C11 -> 10.280756 | J11: ='Valores de Ct (T2)'!J11-'Valores de Ct (T2)'!$C11 -> 11.040621 | K11: ='Valores de Ct (T2)'!K11-'Valores de Ct (T2)'!$C11 -> 6.3490772 | L11: ='Valores de Ct (T2)'!L11-'Valores de Ct (T2)'!$C11 -> 6.7730236
A12: 11B | B12: PCG - 2 | C12: ='Valores de Ct (T1)'!C12-'Valores de Ct (T1)'!C12 -> 0 | D12: ='Valores de Ct (T2)'!D12-'Valores de Ct (T2)'!$C12 -> 7.9249706 | E12: ='Valores de Ct (T2)'!E12-'Valores de Ct (T2)'!$C12 -> 8.2807941 | F12: ='Valores de Ct (T2)'!F12-'Valores de Ct (T2)'!$C12 -> 5.8700237 | G12: ='Valores de Ct (T2)'!G12-'Valores de Ct (T2)'!$C12 -> 11.150011 | H12: ='Valores de Ct (T2)'!H12-'Valores de Ct (T2)'!$C12 -> 11.150011 | I12: ='Valores de Ct (T2)'!I12-'Valores de Ct (T2)'!$C12 -> 8.0694218 | J12: ='Valores de Ct (T2)'!J12-'Valores de Ct (T2)'!$C12 -> 11.150011 | K12: ='Valores de Ct (T2)'!K12-'Valores de Ct (T2)'!$C12 -> 6.0319729 | L12: ='Valores de Ct (T2)'!L12-'Valores de Ct (T2)'!$C12 -> 7.7611103
A13: 11C | B13: PCG - 2 | C13: ='Valores de Ct (T1)'!C13-'Valores de Ct (T1)'!C13 -> 0 | D13: ='Valores de Ct (T2)'!D13-'Valores de Ct (T2)'!$C13 -> 8.5167522 | E13: ='Valores de Ct (T2)'!E13-'Valores de Ct (T2)'!$C13 -> 6.9172459 | F13: ='Valores de Ct (T2)'!F13-'Valores de Ct (T2)'!$C13 -> 1.6664639 | G13: ='Valores de Ct (T2)'!G13-'Valores de Ct (T2)'!$C13 -> 5.8846989 | H13: ='Valores de Ct (T2)'!H13-'Valores de Ct (T2)'!$C13 -> 8.2795734 | I13: ='Valores de Ct (T2)'!I13-'Valores de Ct (T2)'!$C13 -> 0.049816132 | J13: ='Valores de Ct (T2)'!J13-'Valores de Ct (T2)'!$C13 -> 7.5746174 | K13: ='Valores de Ct (T2)'!K13-'Valores de Ct (T2)'!$C13 -> 3.8814602 | L13: ='Valores de Ct (T2)'!L13-'Valores de Ct (T2)'!$C13 -> 6.5959263
A14: 11E | B14: PCG - 2 | C14: ='Valores de Ct (T1)'!C14-'Valores de Ct (T1)'!C14 -> 0 | D14: ='Valores de Ct (T2)'!D14-'Valores de Ct (T2)'!$C14 -> 11.721983 | E14: ='Valores de Ct (T2)'!E14-'Valores de Ct (T2)'!$C14 -> 5.9169331 | F14: ='Valores de Ct (T2)'!F14-'Valores de Ct (T2)'!$C14 -> 3.8242588 | G14: ='Valores de Ct (T2)'!G14-'Valores de Ct (T2)'!$C14 -> 8.9056797 | H14: ='Valores de Ct (T2)'!H14-'Valores de Ct (T2)'!$C14 -> 8.812685 | I14: ='Valores de Ct (T2)'!I14-'Valores de Ct (T2)'!$C14 -> 8.7819424 | J14: ='Valores de Ct (T2)'!J14-'Valores de Ct (T2)'!$C14 -> 8.7940922 | K14: ='Valores de Ct (T2)'!K14-'Valores de Ct (T2)'!$C14 -> 7.6469479 | L14: ='Valores de Ct (T2)'!L14-'Valores de Ct (T2)'!$C14 -> 8.8253574
A15: 11F | B15: PCG - 2 | C15: ='Valores de Ct (T1)'!C15-'Valores de Ct (T1)'!C15 -> 0 | D15: ='Valores de Ct (T2)'!D15-'Valores de Ct (T2)'!$C15 -> 6.2813873 | E15: ='Valores de Ct (T2)'!E15-'Valores de Ct (T2)'!$C15 -> 10.313358 | F15: ='Valores de Ct (T2)'!F15-'Valores de Ct (T2)'!$C15 -> 3.9131508 | G15: ='Valores de Ct (T2)'!G15-'Valores de Ct (T2)'!$C15 -> 10.313358 | H15: ='Valores de Ct (T2)'!H15-'Valores de Ct (T2)'!$C15 -> 10.313358 | I15: ='Valores de Ct (T2)'!I15-'Valores de Ct (T2)'!$C15 -> 5.5600052 | J15: ='Valores de Ct (T2)'!J15-'Valores de Ct (T2)'!$C15 -> 10.313358 | K15: ='Valores de Ct (T2)'!K15-'Valores de Ct (T2)'!$C15 -> 4.6218071 | L15: ='Valores de Ct (T2)'!L15-'Valores de Ct (T2)'!$C15 -> 6.7079582
A16: 12A | B16: POCG - 2 | C16: ='Valores de Ct (T1)'!C16-'Valores de Ct (T1)'!C16 -> 0 | D16: ='Valores de Ct (T2)'!D16-'Valores de Ct (T2)'!$C16 -> 10.682615 | E16: ='Valores de Ct (T2)'!E16-'Valores de Ct (T2)'!$C16 -> 10.682615 | F16: ='Valores de Ct (T2)'!F16-'Valores de Ct (T2)'!$C16 -> 2.3130283 | G16: ='Valores de Ct (T2)'!G16-'Valores de Ct (T2)'!$C16 -> 10.682615 | H16: ='Valores de Ct (T2)'!H16-'Valores de Ct (T2)'!$C16 -> -22.181245 | I16: ='Valores de Ct (T2)'!I16-'Valores de Ct (T2)'!$C16 -> 2.5132103 | J16: ='Valores de Ct (T2)'!J16-'Valores de Ct (T2)'!$C16 -> 10.682615 | K16: ='Valores de Ct (T2)'!K16-'Valores de Ct (T2)'!$C16 -> 5.0817776 | L16: ='Valores de Ct (T2)'!L16-'Valores de Ct (T2)'!$C16 -> 6.9318027
A17: 12B | B17: POCG - 2 | C17: ='Valores de Ct (T1)'!C17-'Valores de Ct (T1)'!C17 -> 0 | D17: ='Valores de Ct (T2)'!D17-'Valores de Ct (T2)'!$C17 -> 10.766716 | E17: ='Valores de Ct (T2)'!E17-'Valores de Ct (T2)'!$C17 -> 10.766716 | F17: ='Valores de Ct (T2)'!F17-'Valores de Ct (T2)'!$C17 -> 5.6983185 | G17: ='Valores de Ct (T2)'!G17-'Valores de Ct (T2)'!$C17 -> 10.766716 | H17: ='Valores de Ct (T2)'!H17-'Valores de Ct (T2)'!$C17 -> 6.1855659 | I17: ='Valores de Ct (T2)'!I17-'Valores de Ct (T2)'!$C17 -> 10.766716 | J17: ='Valores de Ct (T2)'!J17-'Valores de Ct (T2)'!$C17 -> 10.766716 | K17: ='Valores de Ct (T2)'!K17-'Valores de Ct (T2)'!$C17 -> 6.0966873 | L17: ='Valores de Ct (T2)'!L17-'Valores de Ct (T2)'!$C17 -> 7.849575
... A42: 16E | B42: CG - 2 | C42: ='Valores de Ct (T1)'!C42-'Valores de Ct (T1)'!C42 -> 0 | D42: ='Valores de Ct (T2)'!D42-'Valores de Ct (T2)'!$C42 -> 11.080647 | E42: ='Valores de Ct (T2)'!E42-'Valores de Ct (T2)'!$C42 -> 8.2889862 | F42: ='Valores de Ct (T2)'!F42-'Valores de Ct (T2)'!$C42 -> 7.0253372 | G42: ='Valores de Ct (T2)'!G42-'Valores de Ct (T2)'!$C42 -> 11.080647 | H42: ='Valores de Ct (T2)'!H42-'Valores de Ct (T2)'!$C42 -> 6.8142433 | I42: ='Valores de Ct (T2)'!I42-'Valores de Ct (T2)'!$C42 -> 11.080647 | J42: ='Valores de Ct (T2)'!J42-'Valores de Ct (T2)'!$C42 -> 11.080647 | K42: ='Valores de Ct (T2)'!K42-'Valores de Ct (T2)'!$C42 -> 8.0386925 | L42: ='Valores de Ct (T2)'!L42-'Valores de Ct (T2)'!$C42 -> 11.080647
C43: ='Valores de Ct (T1)'!C43-'Valores de Ct (T1)'!C43 -> 0 | D43: ='Valores de Ct (T1)'!D43-'Valores de Ct (T1)'!$C43 -> 0 | E43: ='Valores de Ct (T1)'!E43-'Valores de Ct (T1)'!$C43 -> 0 | F43: ='Valores de Ct (T1)'!F43-'Valores de Ct (T1)'!$C43 -> 0 | G43: ='Valores de Ct (T1)'!G43-'Valores de Ct (T1)'!$C43 -> 0 | H43: ='Valores de Ct (T1)'!H43-'Valores de Ct (T1)'!$C43 -> 0 | I43: ='Valores de Ct (T1)'!I43-'Valores de Ct (T1)'!$C43 -> 0 | J43: ='Valores de Ct (T1)'!J43-'Valores de Ct (T1)'!$C43 -> 0 | K43: ='Valores de Ct (T1)'!K43-'Valores de Ct (T1)'!$C43 -> 0 | L43: ='Valores de Ct (T1)'!L43-'Valores de Ct (T1)'!$C43 -> 0
C44: ='Valores de Ct (T1)'!C44-'Valores de Ct (T1)'!C44 -> 0 | D44: ='Valores de Ct (T1)'!D44-'Valores de Ct (T1)'!$C44 -> 0 | E44: ='Valores de Ct (T1)'!E44-'Valores de Ct (T1)'!$C44 -> 0 | F44: ='Valores de Ct (T1)'!F44-'Valores de Ct (T1)'!$C44 -> 0 | G44: ='Valores de Ct (T1)'!G44-'Valores de Ct (T1)'!$C44 -> 0 | H44: ='Valores de Ct (T1)'!H44-'Valores de Ct (T1)'!$C44 -> 0 | I44: ='Valores de Ct (T1)'!I44-'Valores de Ct (T1)'!$C44 -> 0 | J44: ='Valores de Ct (T1)'!J44-'Valores de Ct (T1)'!$C44 -> 0 | K44: ='Valores de Ct (T1)'!K44-'Valores de Ct (T1)'!$C44 -> 0 | L44: ='Valores de Ct (T1)'!L44-'Valores de Ct (T1)'!$C44 -> 0
C45: ='Valores de Ct (T1)'!C45-'Valores de Ct (T1)'!C45 -> 0 | D45: ='Valores de Ct (T1)'!D45-'Valores de Ct (T1)'!$C45 -> 0 | E45: ='Valores de Ct (T1)'!E45-'Valores de Ct (T1)'!$C45 -> 0 | F45: ='Valores de Ct (T1)'!F45-'Valores de Ct (T1)'!$C45 -> 0 | G45: ='Valores de Ct (T1)'!G45-'Valores de Ct (T1)'!$C45 -> 0 | H45: ='Valores de Ct (T1)'!H45-'Valores de Ct (T1)'!$C45 -> 0 | I45: ='Valores de Ct (T1)'!I45-'Valores de Ct (T1)'!$C45 -> 0 | J45: ='Valores de Ct (T1)'!J45-'Valores de Ct (T1)'!$C45 -> 0 | K45: ='Valores de Ct (T1)'!K45-'Valores de Ct (T1)'!$C45 -> 0 | L45: ='Valores de Ct (T1)'!L45-'Valores de Ct (T1)'!$C45 -> 0
C46: ='Valores de Ct (T1)'!C46-'Valores de Ct (T1)'!C46 -> 0 | D46: ='Valores de Ct (T1)'!D46-'Valores de Ct (T1)'!$C46 -> 0 | E46: ='Valores de Ct (T1)'!E46-'Valores de Ct (T1)'!$C46 -> 0 | F46: ='Valores de Ct (T1)'!F46-'Valores de Ct (T1)'!$C46 -> 0 | G46: ='Valores de Ct (T1)'!G46-'Valores de Ct (T1)'!$C46 -> 0 | H46: ='Valores de Ct (T1)'!H46-'Valores de Ct (T1)'!$C46 -> 0 | I46: ='Valores de Ct (T1)'!I46-'Valores de Ct (T1)'!$C46 -> 0 | J46: ='Valores de Ct (T1)'!J46-'Valores de Ct (T1)'!$C46 -> 0 | K46: ='Valores de Ct (T1)'!K46-'Valores de Ct (T1)'!$C46 -> 0 | L46: ='Valores de Ct (T1)'!L46-'Valores de Ct (T1)'!$C46 -> 0
C47: ='Valores de Ct (T1)'!C47-'Valores de Ct (T1)'!C47 -> 0 | D47: ='Valores de Ct (T1)'!D47-'Valores de Ct (T1)'!$C47 -> 0 | E47: ='Valores de Ct (T1)'!E47-'Valores de Ct (T1)'!$C47 -> 0 | F47: ='Valores de Ct (T1)'!F47-'Valores de Ct (T1)'!$C47 -> 0 | G47: ='Valores de Ct (T1)'!G47-'Valores de Ct (T1)'!$C47 -> 0 | H47: ='Valores de Ct (T1)'!H47-'Valores de Ct (T1)'!$C47 -> 0 | I47: ='Valores de Ct (T1)'!I47-'Valores de Ct (T1)'!$C47 -> 0 | J47: ='Valores de Ct (T1)'!J47-'Valores de Ct (T1)'!$C47 -> 0 | K47: ='Valores de Ct (T1)'!K47-'Valores de Ct (T1)'!$C47 -> 0 | L47: ='Valores de Ct (T1)'!L47-'Valores de Ct (T1)'!$C47 -> 0
C48: ='Valores de Ct (T1)'!C48-'Valores de Ct (T1)'!C48 -> 0 | D48: ='Valores de Ct (T1)'!D48-'Valores de Ct (T1)'!$C48 -> 0 | E48: ='Valores de Ct (T1)'!E48-'Valores de Ct (T1)'!$C48 -> 0 | F48: ='Valores de Ct (T1)'!F48-'Valores de Ct (T1)'!$C48 -> 0 | G48: ='Valores de Ct (T1)'!G48-'Valores de Ct (T1)'!$C48 -> 0 | H48: ='Valores de Ct (T1)'!H48-'Valores de Ct (T1)'!$C48 -> 0 | I48: ='Valores de Ct (T1)'!I48-'Valores de Ct (T1)'!$C48 -> 0 | J48: ='Valores de Ct (T1)'!J48-'Valores de Ct (T1)'!$C48 -> 0 | K48: ='Valores de Ct (T1)'!K48-'Valores de Ct (T1)'!$C48 -> 0 | L48: ='Valores de Ct (T1)'!L48-'Valores de Ct (T1)'!$C48 -> 0
C49: ='Valores de Ct (T1)'!C49-'Valores de Ct (T1)'!C49 -> 0 | D49: ='Valores de Ct (T1)'!D49-'Valores de Ct (T1)'!$C49 -> 0 | E49: ='Valores de Ct (T1)'!E49-'Valores de Ct (T1)'!$C49 -> 0 | F49: ='Valores de Ct (T1)'!F49-'Valores de Ct (T1)'!$C49 -> 0 | G49: ='Valores de Ct (T1)'!G49-'Valores de Ct (T1)'!$C49 -> 0 | H49: ='Valores de Ct (T1)'!H49-'Valores de Ct (T1)'!$C49 -> 0 | I49: ='Valores de Ct (T1)'!I49-'Valores de Ct (T1)'!$C49 -> 0 | J49: ='Valores de Ct (T1)'!J49-'Valores de Ct (T1)'!$C49 -> 0 | K49: ='Valores de Ct (T1)'!K49-'Valores de Ct (T1)'!$C49 -> 0 | L49: ='Valores de Ct (T1)'!L49-'Valores de Ct (T1)'!$C49 -> 0
C50: ='Valores de Ct (T1)'!C50-'Valores de Ct (T1)'!C50 -> 0 | D50: ='Valores de Ct (T1)'!D50-'Valores de Ct (T1)'!$C50 -> 0 | E50: ='Valores de Ct (T1)'!E50-'Valores de Ct (T1)'!$C50 -> 0 | F50: ='Valores de Ct (T1)'!F50-'Valores de Ct (T1)'!$C50 -> 0 | G50: ='Valores de Ct (T1)'!G50-'Valores de Ct (T1)'!$C50 -> 0 | H50: ='Valores de Ct (T1)'!H50-'Valores de Ct (T1)'!$C50 -> 0 | I50: ='Valores de Ct (T1)'!I50-'Valores de Ct (T1)'!$C50 -> 0 | J50: ='Valores de Ct (T1)'!J50-'Valores de Ct (T1)'!$C50 -> 0 | K50: ='Valores de Ct (T1)'!K50-'Valores de Ct (T1)'!$C50 -> 0 | L50: ='Valores de Ct (T1)'!L50-'Valores de Ct (T1)'!$C50 -> 0
C51: ='Valores de Ct (T1)'!C51-'Valores de Ct (T1)'!C51 -> 0 | D51: ='Valores de Ct (T1)'!D51-'Valores de Ct (T1)'!$C51 -> 0 | E51: ='Valores de Ct (T1)'!E51-'Valores de Ct (T1)'!$C51 -> 0 | F51: ='Valores de Ct (T1)'!F51-'Valores de Ct (T1)'!$C51 -> 0 | G51: ='Valores de Ct (T1)'!G51-'Valores de Ct (T1)'!$C51 -> 0 | H51: ='Valores de Ct (T1)'!H51-'Valores de Ct (T1)'!$C51 -> 0 | I51: ='Valores de Ct (T1)'!I51-'Valores de Ct (T1)'!$C51 -> 0 | J51: ='Valores de Ct (T1)'!J51-'Valores de Ct (T1)'!$C51 -> 0 | K51: ='Valores de Ct (T1)'!K51-'Valores de Ct (T1)'!$C51 -> 0 | L51: ='Valores de Ct (T1)'!L51-'Valores de Ct (T1)'!$C51 -> 0
C52: ='Valores de Ct (T1)'!C52-'Valores de Ct (T1)'!C52 -> 0 | D52: ='Valores de Ct (T1)'!D52-'Valores de Ct (T1)'!$C52 -> 0 | E52: ='Valores de Ct (T1)'!E52-'Valores de Ct (T1)'!$C52 -> 0 | F52: ='Valores de Ct (T1)'!F52-'Valores de Ct (T1)'!$C52 -> 0 | G52: ='Valores de Ct (T1)'!G52-'Valores de Ct (T1)'!$C52 -> 0 | H52: ='Valores de Ct (T1)'!H52-'Valores de Ct (T1)'!$C52 -> 0 | I52: ='Valores de Ct (T1)'!I52-'Valores de Ct (T1)'!$C52 -> 0 | J52: ='Valores de Ct (T1)'!J52-'Valores de Ct (T1)'!$C52 -> 0 | K52: ='Valores de Ct (T1)'!K52-'Valores de Ct (T1)'!$C52 -> 0 | L52: ='Valores de Ct (T1)'!L52-'Valores de Ct (T1)'!$C52 -> 0
C53: ='Valores de Ct (T1)'!C53-'Valores de Ct (T1)'!C53 -> 0 | D53: ='Valores de Ct (T1)'!D53-'Valores de Ct (T1)'!$C53 -> 0 | E53: ='Valores de Ct (T1)'!E53-'Valores de Ct (T1)'!$C53 -> 0 | F53: ='Valores de Ct (T1)'!F53-'Valores de Ct (T1)'!$C53 -> 0 | G53: ='Valores de Ct (T1)'!G53-'Valores de Ct (T1)'!$C53 -> 0 | H53: ='Valores de Ct (T1)'!H53-'Valores de Ct (T1)'!$C53 -> 0 | I53: ='Valores de Ct (T1)'!I53-'Valores de Ct (T1)'!$C53 -> 0 | J53: ='Valores de Ct (T1)'!J53-'Valores de Ct (T1)'!$C53 -> 0 | K53: ='Valores de Ct (T1)'!K53-'Valores de Ct (T1)'!$C53 -> 0 | L53: ='Valores de Ct (T1)'!L53-'Valores de Ct (T1)'!$C53 -> 0
C54: ='Valores de Ct (T1)'!C54-'Valores de Ct (T1)'!C54 -> 0 | D54: ='Valores de Ct (T1)'!D54-'Valores de Ct (T1)'!$C54 -> 0 | E54: ='Valores de Ct (T1)'!E54-'Valores de Ct (T1)'!$C54 -> 0 | F54: ='Valores de Ct (T1)'!F54-'Valores de Ct (T1)'!$C54 -> 0 | G54: ='Valores de Ct (T1)'!G54-'Valores de Ct (T1)'!$C54 -> 0 | H54: ='Valores de Ct (T1)'!H54-'Valores de Ct (T1)'!$C54 -> 0 | I54: ='Valores de Ct (T1)'!I54-'Valores de Ct (T1)'!$C54 -> 0 | J54: ='Valores de Ct (T1)'!J54-'Valores de Ct (T1)'!$C54 -> 0 | K54: ='Valores de Ct (T1)'!K54-'Valores de Ct (T1)'!$C54 -> 0 | L54: ='Valores de Ct (T1)'!L54-'Valores de Ct (T1)'!$C54 -> 0
... C75: ='Valores de Ct (T1)'!C75-'Valores de Ct (T1)'!C75 -> 0 | D75: ='Valores de Ct (T1)'!D75-'Valores de Ct (T1)'!$C75 -> 0 | E75: ='Valores de Ct (T1)'!E75-'Valores de Ct (T1)'!$C75 -> 0 | F75: ='Valores de Ct (T1)'!F75-'Valores de Ct (T1)'!$C75 -> 0 | G75: ='Valores de Ct (T1)'!G75-'Valores de Ct (T1)'!$C75 -> 0 | H75: ='Valores de Ct (T1)'!H75-'Valores de Ct (T1)'!$C75 -> 0 | I75: ='Valores de Ct (T1)'!I75-'Valores de Ct (T1)'!$C75 -> 0 | J75: ='Valores de Ct (T1)'!J75-'Valores de Ct (T1)'!$C75 -> 0 | K75: ='Valores de Ct (T1)'!K75-'Valores de Ct (T1)'!$C75 -> 0 | L75: ='Valores de Ct (T1)'!L75-'Valores de Ct (T1)'!$C75 -> 0

Sheet Fold Change (T2)
A2: Média Delta Ct (Grupo Controle) | D2: Cálculo Delta Delta Ct | Q2: Cálculo de Fold Change
A5: GAPDH | B5: 0 | D5: Animal | E5: Grupo | F5: GAPDH | G5: BSP | H5: OP | I5: OC | J5: TRAP | K5: CTSK | L5: RANKL | M5: OPG | N5: DDK | O5: SCLER | Q5: Animal | R5: Grupo | S5: GAPDH | T5: BSP | U5: OP | V5: OC | W5: TRAP | X5: CTSK | Y5: RANKL | Z5: OPG | AA5: DDK | AB5: SCLER
A6: BSP | B6: 10.22 | D6: 10A | E6: NCG - 2 | F6: ='Valores Delta Ct (T2)'!C6 -'Fold Change (T2)'!B$5 -> 0 | G6: ='Valores Delta Ct (T2)'!D6 -'Fold Change (T2)'!B$6 -> 0.50980309 | H6: ='Valores Delta Ct (T2)'!E6 -'Fold Change (T2)'!B$7 -> -0.1106385 | I6: ='Valores Delta Ct (T2)'!F6 -'Fold Change (T2)'!B$8 -> 3.1383654 | J6: ='Valores Delta Ct (T2)'!G6 -'Fold Change (T2)'!B$9 -> 0.46980309 | K6: ='Valores Delta Ct (T2)'!H6 -'Fold Change (T2)'!B$10 -> -1.2911954 | L6: ='Valores Delta Ct (T2)'!I6 -'Fold Change (T2)'!B$11 -> 3.7806979 | M6: ='Valores Delta Ct (T2)'!J6 -'Fold Change (T2)'!B$12 -> 0.47980309 | N6: ='Valores Delta Ct (T2)'!K6 -'Fold Change (T2)'!B$13 -> 1.560398 | O6: ='Valores Delta Ct (T2)'!L6 -'Fold Change (T2)'!B$14 -> -1.0009841 | Q6: 10A | R6: NCG - 2 | S6: =2^-F6 -> 1 | T6: =2^-G6 -> 0.70231829 | U6: =2^-H6 -> 1.079706 | V6: =2^-I6 -> 0.1135685 | W6: =2^-J6 -> 0.72206315 | X6: =2^-K6 -> 2.4473076 | Y6: =2^-L6 -> 0.072760645 | Z6: =2^-M6 -> 0.71707549 | ... AB6: =2^-O6 -> 2.0013647
A7: OP | B7: 9.88 | D7: 10C | E7: NCG - 2 | F7: ='Valores Delta Ct (T2)'!C7 -'Fold Change (T2)'!B$5 -> 0 | G7: ='Valores Delta Ct (T2)'!D7 -'Fold Change (T2)'!B$6 -> 0.7417672 | H7: ='Valores Delta Ct (T2)'!E7 -'Fold Change (T2)'!B$7 -> 1.0817672 | I7: ='Valores Delta Ct (T2)'!F7 -'Fold Change (T2)'!B$8 -> 0.47264351 | J7: ='Valores Delta Ct (T2)'!G7 -'Fold Change (T2)'!B$9 -> 0.7017672 | K7: ='Valores Delta Ct (T2)'!H7 -'Fold Change (T2)'!B$10 -> 4.6517672 | L7: ='Valores Delta Ct (T2)'!I7 -'Fold Change (T2)'!B$11 -> 2.8889628 | M7: ='Valores Delta Ct (T2)'!J7 -'Fold Change (T2)'!B$12 -> 0.7117672 | N7: ='Valores Delta Ct (T2)'!K7 -'Fold Change (T2)'!B$13 -> 0.42159645 | O7: ='Valores Delta Ct (T2)'!L7 -'Fold Change (T2)'!B$14 -> 3.2917672 | Q7: 10C | R7: NCG - 2 | S7: =2^-F7 -> 1 | T7: =2^-G7 -> 0.59800639 | U7: =2^-H7 -> 0.47244975 | V7: =2^-I7 -> 0.72064292 | W7: =2^-J7 -> 0.61481864 | X7: =2^-K7 -> 0.039781261 | Y7: =2^-L7 -> 0.13500055 | Z7: =2^-M7 -> 0.61057177 | ... AB7: =2^-O7 -> 0.1021126
A8: OC | B8: 3.36 | D8: 10D | E8: NCG - 2 | F8: ='Valores Delta Ct (T2)'!C8 -'Fold Change (T2)'!B$5 -> 0 | G8: ='Valores Delta Ct (T2)'!D8 -'Fold Change (T2)'!B$6 -> -0.13846085 | H8: ='Valores Delta Ct (T2)'!E8 -'Fold Change (T2)'!B$7 -> -3.5407513 | I8: ='Valores Delta Ct (T2)'!F8 -'Fold Change (T2)'!B$8 -> -4.7346376 | J8: ='Valores Delta Ct (T2)'!G8 -'Fold Change (T2)'!B$9 -> -0.17846085 | K8: ='Valores Delta Ct (T2)'!H8 -'Fold Change (T2)'!B$10 -> -2.6950822 | L8: ='Valores Delta Ct (T2)'!I8 -'Fold Change (T2)'!B$11 -> -4.9839372 | M8: ='Valores Delta Ct (T2)'!J8 -'Fold Change (T2)'!B$12 -> -1.5925369 | N8: ='Valores Delta Ct (T2)'!K8 -'Fold Change (T2)'!B$13 -> -0.32349213 | O8: ='Valores Delta Ct (T2)'!L8 -'Fold Change (T2)'!B$14 -> -2.0395107 | Q8: 10D | R8: NCG - 2 | S8: =2^-F8 -> 1 | T8: =2^-G8 -> 1.1007302 | U8: =2^-H8 -> 11.637839 | V8: =2^-I8 -> 26.623671 | W8: =2^-J8 -> 1.1316759 | X8: =2^-K8 -> 6.4759069 | Y8: =2^-L8 -> 31.645692 | Z8: =2^-M8 -> 3.015792 | ... AB8: =2^-O8 -> 4.1110606
A9: TRAP | B9: 10.26 | D9: 10E | E9: NCG - 2 | F9: ='Valores Delta Ct (T2)'!C9 -'Fold Change (T2)'!B$5 -> 0 | G9: ='Valores Delta Ct (T2)'!D9 -'Fold Change (T2)'!B$6 -> 0.25836876 | H9: ='Valores Delta Ct (T2)'!E9 -'Fold Change (T2)'!B$7 -> -2.2159966 | I9: ='Valores Delta Ct (T2)'!F9 -'Fold Change (T2)'!B$8 -> -0.60876213 | J9: ='Valores Delta Ct (T2)'!G9 -'Fold Change (T2)'!B$9 -> 0.21836876 | K9: ='Valores Delta Ct (T2)'!H9 -'Fold Change (T2)'!B$10 -> 4.1683688 | L9: ='Valores Delta Ct (T2)'!I9 -'Fold Change (T2)'!B$11 -> -1.5310697 | M9: ='Valores Delta Ct (T2)'!J9 -'Fold Change (T2)'!B$12 -> 0.22836876 | N9: ='Valores Delta Ct (T2)'!K9 -'Fold Change (T2)'!B$13 -> 0.71680824 | O9: ='Valores Delta Ct (T2)'!L9 -'Fold Change (T2)'!B$14 -> 2.8083688 | Q9: 10E | R9: NCG - 2 | S9: =2^-F9 -> 1 | T9: =2^-G9 -> 0.83603268 | U9: =2^-H9 -> 4.6460241 | V9: =2^-I9 -> 1.5249502 | W9: =2^-J9 -> 0.85953676 | X9: =2^-K9 -> 0.055615516 | Y9: =2^-L9 -> 2.8900005 | Z9: =2^-M9 -> 0.8535995 | ... AB9: =2^-O9 -> 0.14275679
A10: CTSK | B10: 6.31 | D10: 10F | E10: NCG - 2 | F10: ='Valores Delta Ct (T2)'!C10 -'Fold Change (T2)'!B$5 -> 0 | G10: ='Valores Delta Ct (T2)'!D10 -'Fold Change (T2)'!B$6 -> 0.71801689 | H10: ='Valores Delta Ct (T2)'!E10 -'Fold Change (T2)'!B$7 -> 1.0580169 | I10: ='Valores Delta Ct (T2)'!F10 -'Fold Change (T2)'!B$8 -> 5.2803332 | J10: ='Valores Delta Ct (T2)'!G10 -'Fold Change (T2)'!B$9 -> 0.67801689 | K10: ='Valores Delta Ct (T2)'!H10 -'Fold Change (T2)'!B$10 -> 2.1825327 | L10: ='Valores Delta Ct (T2)'!I10 -'Fold Change (T2)'!B$11 -> 5.7280169 | M10: ='Valores Delta Ct (T2)'!J10 -'Fold Change (T2)'!B$12 -> 0.68801689 | N10: ='Valores Delta Ct (T2)'!K10 -'Fold Change (T2)'!B$13 -> 0.86679832 | O10: ='Valores Delta Ct (T2)'!L10 -'Fold Change (T2)'!B$14 -> 0.1139222 | Q10: 10F | R10: NCG - 2 | S10: =2^-F10 -> 1 | T10: =2^-G10 -> 0.60793252 | U10: =2^-H10 -> 0.48029181 | V10: =2^-I10 -> 0.025731276 | W10: =2^-J10 -> 0.62502383 | X10: =2^-K10 -> 0.22028868 | Y10: =2^-L10 -> 0.018866663 | Z10: =2^-M10 -> 0.62070648 | ... AB10: =2^-O10 -> 0.92407241
A11: RANKL | B11: 5.21 | D11: 11A | E11: PCG - 2 | F11: ='Valores Delta Ct (T2)'!C11 -'Fold Change (T2)'!B$5 -> 0 | G11: ='Valores Delta Ct (T2)'!D11 -'Fold Change (T2)'!B$6 -> 0.8206208 | H11: ='Valores Delta Ct (T2)'!E11 -'Fold Change (T2)'!B$7 -> 1.1606208 | I11: ='Valores Delta Ct (T2)'!F11 -'Fold Change (T2)'!B$8 -> 4.702315 | J11: ='Valores Delta Ct (T2)'!G11 -'Fold Change (T2)'!B$9 -> 0.7806208 | K11: ='Valores Delta Ct (T2)'!H11 -'Fold Change (T2)'!B$10 -> 3.7058596 | L11: ='Valores Delta Ct (T2)'!I11 -'Fold Change (T2)'!B$11 -> 5.070756 | M11: ='Valores Delta Ct (T2)'!J11 -'Fold Change (T2)'!B$12 -> 0.7906208 | N11: ='Valores Delta Ct (T2)'!K11 -'Fold Change (T2)'!B$13 -> 1.2690772 | O11: ='Valores Delta Ct (T2)'!L11 -'Fold Change (T2)'!B$14 -> -0.89697639 | Q11: 11A | R11: PCG - 2 | S11: =2^-F11 -> 1 | T11: =2^-G11 -> 0.56619825 | U11: =2^-H11 -> 0.44732001 | V11: =2^-I11 -> 0.038411577 | W11: =2^-J11 -> 0.58211625 | X11: =2^-K11 -> 0.076634636 | Y11: =2^-L11 -> 0.029754342 | Z11: =2^-M11 -> 0.57809528 | ... AB11: =2^-O11 -> 1.8621592
A12: OPG | B12: 10.25 | D12: 11B | E12: PCG - 2 | F12: ='Valores Delta Ct (T2)'!C12 -'Fold Change (T2)'!B$5 -> 0 | G12: ='Valores Delta Ct (T2)'!D12 -'Fold Change (T2)'!B$6 -> -2.2950294 | H12: ='Valores Delta Ct (T2)'!E12 -'Fold Change (T2)'!B$7 -> -1.5992059 | I12: ='Valores Delta Ct (T2)'!F12 -'Fold Change (T2)'!B$8 -> 2.5100237 | J12: ='Valores Delta Ct (T2)'!G12 -'Fold Change (T2)'!B$9 -> 0.89001106 | K12: ='Valores Delta Ct (T2)'!H12 -'Fold Change (T2)'!B$10 -> 4.8400111 | L12: ='Valores Delta Ct (T2)'!I12 -'Fold Change (T2)'!B$11 -> 2.8594218 | M12: ='Valores Delta Ct (T2)'!J12 -'Fold Change (T2)'!B$12 -> 0.90001106 | N12: ='Valores Delta Ct (T2)'!K12 -'Fold Change (T2)'!B$13 -> 0.95197289 | O12: ='Valores Delta Ct (T2)'!L12 -'Fold Change (T2)'!B$14 -> 0.091110306 | Q12: 11B | R12: PCG - 2 | S12: =2^-F12 -> 1 | T12: =2^-G12 -> 4.9076398 | U12: =2^-H12 -> 3.0297649 | V12: =2^-I12 -> 0.17555272 | W12: =2^-J12 -> 0.53960998 | X12: =2^-K12 -> 0.034914955 | Y12: =2^-L12 -> 0.13779336 | Z12: =2^-M12 -> 0.53588262 | ... AB12: =2^-O12 -> 0.93879997
A13: DDK | B13: 5.08 | D13: 11C | E13: PCG - 2 | F13: ='Valores Delta Ct (T2)'!C13 -'Fold Change (T2)'!B$5 -> 0 | G13: ='Valores Delta Ct (T2)'!D13 -'Fold Change (T2)'!B$6 -> -1.7032478 | H13: ='Valores Delta Ct (T2)'!E13 -'Fold Change (T2)'!B$7 -> -2.9627541 | I13: ='Valores Delta Ct (T2)'!F13 -'Fold Change (T2)'!B$8 -> -1.6935361 | J13: ='Valores Delta Ct (T2)'!G13 -'Fold Change (T2)'!B$9 -> -4.3753011 | K13: ='Valores Delta Ct (T2)'!H13 -'Fold Change (T2)'!B$10 -> 1.9695734 | L13: ='Valores Delta Ct (T2)'!I13 -'Fold Change (T2)'!B$11 -> -5.1601839 | M13: ='Valores Delta Ct (T2)'!J13 -'Fold Change (T2)'!B$12 -> -2.6753826 | N13: ='Valores Delta Ct (T2)'!K13 -'Fold Change (T2)'!B$13 -> -1.1985398 | O13: ='Valores Delta Ct (T2)'!L13 -'Fold Change (T2)'!B$14 -> -1.0740737 | Q13: 11C | R13: PCG - 2 | S13: =2^-F13 -> 1 | T13: =2^-G13 -> 3.2563319 | U13: =2^-H13 -> 7.7961083 | V13: =2^-I13 -> 3.2344853 | W13: =2^-J13 -> 20.753764 | X13: =2^-K13 -> 0.25532851 | Y13: =2^-L13 -> 35.757745 | Z13: =2^-M13 -> 6.388081 | ... AB13: =2^-O13 -> 2.1053699
A14: SCLER | B14: 7.67 | D14: 11E | E14: PCG - 2 | F14: ='Valores Delta Ct (T2)'!C14 -'Fold Change (T2)'!B$5 -> 0 | G14: ='Valores Delta Ct (T2)'!D14 -'Fold Change (T2)'!B$6 -> 1.501983 | H14: ='Valores Delta Ct (T2)'!E14 -'Fold Change (T2)'!B$7 -> -3.9630669 | I14: ='Valores Delta Ct (T2)'!F14 -'Fold Change (T2)'!B$8 -> 0.4642588 | J14: ='Valores Delta Ct (T2)'!G14 -'Fold Change (T2)'!B$9 -> -1.3543203 | K14: ='Valores Delta Ct (T2)'!H14 -'Fold Change (T2)'!B$10 -> 2.502685 | L14: ='Valores Delta Ct (T2)'!I14 -'Fold Change (T2)'!B$11 -> 3.5719424 | M14: ='Valores Delta Ct (T2)'!J14 -'Fold Change (T2)'!B$12 -> -1.4559078 | N14: ='Valores Delta Ct (T2)'!K14 -'Fold Change (T2)'!B$13 -> 2.5669479 | O14: ='Valores Delta Ct (T2)'!L14 -'Fold Change (T2)'!B$14 -> 1.1553574 | Q14: 11E | R14: PCG - 2 | S14: =2^-F14 -> 1 | T14: =2^-G14 -> 0.35306777 | U14: =2^-H14 -> 15.595598 | V14: =2^-I14 -> 0.72484338 | W14: =2^-J14 -> 2.5567663 | X14: =2^-K14 -> 0.176448 | Y14: =2^-L14 -> 0.08408881 | Z14: =2^-M14 -> 2.7432913 | ... AB14: =2^-O14 -> 0.44895494
D15: 11F | E15: PCG - 2 | F15: ='Valores Delta Ct (T2)'!C15 -'Fold Change (T2)'!B$5 -> 0 | G15: ='Valores Delta Ct (T2)'!D15 -'Fold Change (T2)'!B$6 -> -3.9386127 | H15: ='Valores Delta Ct (T2)'!E15 -'Fold Change (T2)'!B$7 -> 0.43335831 | I15: ='Valores Delta Ct (T2)'!F15 -'Fold Change (T2)'!B$8 -> 0.55315079 | J15: ='Valores Delta Ct (T2)'!G15 -'Fold Change (T2)'!B$9 -> 0.053358307 | K15: ='Valores Delta Ct (T2)'!H15 -'Fold Change (T2)'!B$10 -> 4.0033583 | L15: ='Valores Delta Ct (T2)'!I15 -'Fold Change (T2)'!B$11 -> 0.35000519 | M15: ='Valores Delta Ct (T2)'!J15 -'Fold Change (T2)'!B$12 -> 0.063358307 | N15: ='Valores Delta Ct (T2)'!K15 -'Fold Change (T2)'!B$13 -> -0.4581929 | O15: ='Valores Delta Ct (T2)'!L15 -'Fold Change (T2)'!B$14 -> -0.96204178 | Q15: 11F | R15: PCG - 2 | S15: =2^-F15 -> 1 | T15: =2^-G15 -> 15.333474 | U15: =2^-H15 -> 0.74053596 | V15: =2^-I15 -> 0.68153007 | W15: =2^-J15 -> 0.96369044 | X15: =2^-K15 -> 0.062354682 | Y15: =2^-L15 -> 0.78458128 | Z15: =2^-M15 -> 0.95703374 | ... AB15: =2^-O15 -> 1.9480649
D16: 12A | E16: POCG - 2 | F16: ='Valores Delta Ct (T2)'!C16 -'Fold Change (T2)'!B$5 -> 0 | G16: ='Valores Delta Ct (T2)'!D16 -'Fold Change (T2)'!B$6 -> 0.46261528 | H16: ='Valores Delta Ct (T2)'!E16 -'Fold Change (T2)'!B$7 -> 0.80261528 | I16: ='Valores Delta Ct (T2)'!F16 -'Fold Change (T2)'!B$8 -> -1.0469717 | J16: ='Valores Delta Ct (T2)'!G16 -'Fold Change (T2)'!B$9 -> 0.42261528 | K16: ='Valores Delta Ct (T2)'!H16 -'Fold Change (T2)'!B$10 -> -28.491245 | L16: ='Valores Delta Ct (T2)'!I16 -'Fold Change (T2)'!B$11 -> -2.6967897 | M16: ='Valores Delta Ct (T2)'!J16 -'Fold Change (T2)'!B$12 -> 0.43261528 | N16: ='Valores Delta Ct (T2)'!K16 -'Fold Change (T2)'!B$13 -> 0.0017775726 | O16: ='Valores Delta Ct (T2)'!L16 -'Fold Change (T2)'!B$14 -> -0.73819725 | Q16: 12A | R16: POCG - 2 | S16: =2^-F16 -> 1 | T16: =2^-G16 -> 0.72566959 | U16: =2^-H16 -> 0.57330896 | V16: =2^-I16 -> 2.0661882 | W16: =2^-J16 -> 0.74607094 | X16: =2^-K16 -> 3.7732837e+08 | Y16: =2^-L16 -> 6.4835758 | Z16: =2^-M16 -> 0.74091745 | ... AB16: =2^-O16 -> 1.6680901
D17: 12B | E17: POCG - 2 | F17: ='Valores Delta Ct (T2)'!C17 -'Fold Change (T2)'!B$5 -> 0 | G17: ='Valores Delta Ct (T2)'!D17 -'Fold Change (T2)'!B$6 -> 0.546716 | H17: ='Valores Delta Ct (T2)'!E17 -'Fold Change (T2)'!B$7 -> 0.886716 | I17: ='Valores Delta Ct (T2)'!F17 -'Fold Change (T2)'!B$8 -> 2.3383185 | J17: ='Valores Delta Ct (T2)'!G17 -'Fold Change (T2)'!B$9 -> 0.506716 | K17: ='Valores Delta Ct (T2)'!H17 -'Fold Change (T2)'!B$10 -> -0.12443405 | L17: ='Valores Delta Ct (T2)'!I17 -'Fold Change (T2)'!B$11 -> 5.556716 | M17: ='Valores Delta Ct (T2)'!J17 -'Fold Change (T2)'!B$12 -> 0.516716 | N17: ='Valores Delta Ct (T2)'!K17 -'Fold Change (T2)'!B$13 -> 1.0166873 | O17: ='Valores Delta Ct (T2)'!L17 -'Fold Change (T2)'!B$14 -> 0.17957504 | Q17: 12B | R17: POCG - 2 | S17: =2^-F17 -> 1 | T17: =2^-G17 -> 0.68457665 | U17: =2^-H17 -> 0.54084384 | V17: =2^-I17 -> 0.19774067 | W17: =2^-J17 -> 0.70382272 | X17: =2^-K17 -> 1.09008 | Y17: =2^-L17 -> 0.021245248 | Z17: =2^-M17 -> 0.69896106 | ... AB17: =2^-O17 -> 0.88296304
D18: 12C | E18: POCG - 2 | F18: ='Valores Delta Ct (T2)'!C18 -'Fold Change (T2)'!B$5 -> 0 | G18: ='Valores Delta Ct (T2)'!D18 -'Fold Change (T2)'!B$6 -> 1.2339375 | H18: ='Valores Delta Ct (T2)'!E18 -'Fold Change (T2)'!B$7 -> -4.9012288 | I18: ='Valores Delta Ct (T2)'!F18 -'Fold Change (T2)'!B$8 -> 2.9251639 | J18: ='Valores Delta Ct (T2)'!G18 -'Fold Change (T2)'!B$9 -> 1.1939375 | K18: ='Valores Delta Ct (T2)'!H18 -'Fold Change (T2)'!B$10 -> 4.1633849 | L18: ='Valores Delta Ct (T2)'!I18 -'Fold Change (T2)'!B$11 -> 6.2439375 | M18: ='Valores Delta Ct (T2)'!J18 -'Fold Change (T2)'!B$12 -> 1.2039375 | N18: ='Valores Delta Ct (T2)'!K18 -'Fold Change (T2)'!B$13 -> 1.64155 | O18: ='Valores Delta Ct (T2)'!L18 -'Fold Change (T2)'!B$14 -> 0.21462448 | Q18: 12C | R18: POCG - 2 | S18: =2^-F18 -> 1 | T18: =2^-G18 -> 0.42515549 | U18: =2^-H18 -> 29.882497 | V18: =2^-I18 -> 0.13165517 | W18: =2^-J18 -> 0.43710824 | X18: =2^-K18 -> 0.055807976 | Y18: =2^-L18 -> 0.013194335 | Z18: =2^-M18 -> 0.43408891 | ... AB18: =2^-O18 -> 0.86177044
D19: 12D | E19: POCG - 2 | F19: ='Valores Delta Ct (T2)'!C19 -'Fold Change (T2)'!B$5 -> 0 | G19: ='Valores Delta Ct (T2)'!D19 -'Fold Change (T2)'!B$6 -> -0.12856361 | H19: ='Valores Delta Ct (T2)'!E19 -'Fold Change (T2)'!B$7 -> 0.21143639 | I19: ='Valores Delta Ct (T2)'!F19 -'Fold Change (T2)'!B$8 -> -3.2503046 | J19: ='Valores Delta Ct (T2)'!G19 -'Fold Change (T2)'!B$9 -> -0.16856361 | K19: ='Valores Delta Ct (T2)'!H19 -'Fold Change (T2)'!B$10 -> 3.7814364 | L19: ='Valores Delta Ct (T2)'!I19 -'Fold Change (T2)'!B$11 -> -0.13809105 | M19: ='Valores Delta Ct (T2)'!J19 -'Fold Change (T2)'!B$12 -> -0.15856361 | N19: ='Valores Delta Ct (T2)'!K19 -'Fold Change (T2)'!B$13 -> 1.3206863 | O19: ='Valores Delta Ct (T2)'!L19 -'Fold Change (T2)'!B$14 -> 2.4214364 | Q19: 12D | R19: POCG - 2 | S19: =2^-F19 -> 1 | T19: =2^-G19 -> 1.0932047 | U19: =2^-H19 -> 0.8636769 | V19: =2^-I19 -> 9.5156655 | W19: =2^-J19 -> 1.1239389 | X19: =2^-K19 -> 0.072723408 | Y19: =2^-L19 -> 1.1004481 | Z19: =2^-M19 -> 1.1161753 | ... AB19: =2^-O19 -> 0.18667021
D20: 12E | E20: POCG - 2 | F20: ='Valores Delta Ct (T2)'!C20 -'Fold Change (T2)'!B$5 -> 0 | G20: ='Valores Delta Ct (T2)'!D20 -'Fold Change (T2)'!B$6 -> -2.4764812 | H20: ='Valores Delta Ct (T2)'!E20 -'Fold Change (T2)'!B$7 -> 0.69009888 | I20: ='Valores Delta Ct (T2)'!F20 -'Fold Change (T2)'!B$8 -> 0.76927246 | J20: ='Valores Delta Ct (T2)'!G20 -'Fold Change (T2)'!B$9 -> 0.31009888 | K20: ='Valores Delta Ct (T2)'!H20 -'Fold Change (T2)'!B$10 -> 1.0747389 | L20: ='Valores Delta Ct (T2)'!I20 -'Fold Change (T2)'!B$11 -> 2.4876738 | M20: ='Valores Delta Ct (T2)'!J20 -'Fold Change (T2)'!B$12 -> 0.32009888 | N20: ='Valores Delta Ct (T2)'!K20 -'Fold Change (T2)'!B$13 -> 1.1146983 | O20: ='Valores Delta Ct (T2)'!L20 -'Fold Change (T2)'!B$14 -> -3.3761195 | Q20: 12E | R20: POCG - 2 | S20: =2^-F20 -> 1 | T20: =2^-G20 -> 5.5653838 | U20: =2^-H20 -> 0.61981137 | V20: =2^-I20 -> 0.58671327 | W20: =2^-J20 -> 0.80658648 | X20: =2^-K20 -> 0.47475697 | Y20: =2^-L20 -> 0.17829352 | Z20: =2^-M20 -> 0.80101498 | ... AB20: =2^-O20 -> 10.38277
D21: 12F | E21: POCG - 2 | F21: ='Valores Delta Ct (T2)'!C21 -'Fold Change (T2)'!B$5 -> 0 | G21: ='Valores Delta Ct (T2)'!D21 -'Fold Change (T2)'!B$6 -> -2.9580123 | H21: ='Valores Delta Ct (T2)'!E21 -'Fold Change (T2)'!B$7 -> -2.8400887 | I21: ='Valores Delta Ct (T2)'!F21 -'Fold Change (T2)'!B$8 -> 3.0840594 | J21: ='Valores Delta Ct (T2)'!G21 -'Fold Change (T2)'!B$9 -> 0.39678215 | K21: ='Valores Delta Ct (T2)'!H21 -'Fold Change (T2)'!B$10 -> -1.3959661 | L21: ='Valores Delta Ct (T2)'!I21 -'Fold Change (T2)'!B$11 -> 0.14443306 | M21: ='Valores Delta Ct (T2)'!J21 -'Fold Change (T2)'!B$12 -> -5.4666042 | N21: ='Valores Delta Ct (T2)'!K21 -'Fold Change (T2)'!B$13 -> 0.87108986 | O21: ='Valores Delta Ct (T2)'!L21 -'Fold Change (T2)'!B$14 -> -2.486164 | Q21: 12F | R21: POCG - 2 | S21: =2^-F21 -> 1 | T21: =2^-G21 -> 7.7705263 | U21: =2^-H21 -> 7.160641 | V21: =2^-I21 -> 0.11792493 | W21: =2^-J21 -> 0.75955053 | X21: =2^-K21 -> 2.6316472 | Y21: =2^-L21 -> 0.90473484 | Z21: =2^-M21 -> 44.219298 | ... AB21: =2^-O21 -> 5.6028622
D22: 13A | E22: POCMG - 2 | F22: ='Valores Delta Ct (T2)'!C22 -'Fold Change (T2)'!B$5 -> 0 | G22: ='Valores Delta Ct (T2)'!D22 -'Fold Change (T2)'!B$6 -> 0.85615662 | H22: ='Valores Delta Ct (T2)'!E22 -'Fold Change (T2)'!B$7 -> 1.1961566 | I22: ='Valores Delta Ct (T2)'!F22 -'Fold Change (T2)'!B$8 -> -0.0074838257 | J22: ='Valores Delta Ct (T2)'!G22 -'Fold Change (T2)'!B$9 -> 0.81615662 | K22: ='Valores Delta Ct (T2)'!H22 -'Fold Change (T2)'!B$10 -> 0.41543716 | L22: ='Valores Delta Ct (T2)'!I22 -'Fold Change (T2)'!B$11 -> 1.8308058 | M22: ='Valores Delta Ct (T2)'!J22 -'Fold Change (T2)'!B$12 -> -2.0211639 | N22: ='Valores Delta Ct (T2)'!K22 -'Fold Change (T2)'!B$13 -> 0.95234863 | O22: ='Valores Delta Ct (T2)'!L22 -'Fold Change (T2)'!B$14 -> 0.54203995 | Q22: 13A | R22: POCMG - 2 | S22: =2^-F22 -> 1 | T22: =2^-G22 -> 0.55242227 | U22: =2^-H22 -> 0.43643641 | V22: =2^-I22 -> 1.0052009 | W22: =2^-J22 -> 0.56795297 | X22: =2^-K22 -> 0.74979226 | Y22: =2^-L22 -> 0.28110756 | Z22: =2^-M22 -> 4.0591114 | ... AB22: =2^-O22 -> 0.6867991
D23: 13B | E23: POCMG - 2 | F23: ='Valores Delta Ct (T2)'!C23 -'Fold Change (T2)'!B$5 -> 0 | G23: ='Valores Delta Ct (T2)'!D23 -'Fold Change (T2)'!B$6 -> -0.79844734 | H23: ='Valores Delta Ct (T2)'!E23 -'Fold Change (T2)'!B$7 -> -2.2584657 | I23: ='Valores Delta Ct (T2)'!F23 -'Fold Change (T2)'!B$8 -> -0.75396095 | J23: ='Valores Delta Ct (T2)'!G23 -'Fold Change (T2)'!B$9 -> -29.086089 | K23: ='Valores Delta Ct (T2)'!H23 -'Fold Change (T2)'!B$10 -> 1.2684435 | L23: ='Valores Delta Ct (T2)'!I23 -'Fold Change (T2)'!B$11 -> -0.10909554 | M23: ='Valores Delta Ct (T2)'!J23 -'Fold Change (T2)'!B$12 -> -1.2498837 | N23: ='Valores Delta Ct (T2)'!K23 -'Fold Change (T2)'!B$13 -> 1.3254966 | O23: ='Valores Delta Ct (T2)'!L23 -'Fold Change (T2)'!B$14 -> -2.9742545 | Q23: 13B | R23: POCMG - 2 | S23: =2^-F23 -> 1 | T23: =2^-G23 -> 1.7392283 | U23: =2^-H23 -> 4.7848233 | V23: =2^-I23 -> 1.6864166 | W23: =2^-J23 -> 5.6988236e+08 | X23: =2^-K23 -> 0.41510738 | Y23: =2^-L23 -> 1.0785519 | Z23: =2^-M23 -> 2.3782224 | ... AB23: =2^-O23 -> 7.8585031
D24: 13D | E24: POCMG - 2 | F24: ='Valores Delta Ct (T2)'!C24 -'Fold Change (T2)'!B$5 -> 0 | G24: ='Valores Delta Ct (T2)'!D24 -'Fold Change (T2)'!B$6 -> 0.41246155 | H24: ='Valores Delta Ct (T2)'!E24 -'Fold Change (T2)'!B$7 -> -5.2786511 | I24: ='Valores Delta Ct (T2)'!F24 -'Fold Change (T2)'!B$8 -> 3.0562827 | J24: ='Valores Delta Ct (T2)'!G24 -'Fold Change (T2)'!B$9 -> -2.3599184 | K24: ='Valores Delta Ct (T2)'!H24 -'Fold Change (T2)'!B$10 -> -1.1035829 | L24: ='Valores Delta Ct (T2)'!I24 -'Fold Change (T2)'!B$11 -> 5.4224615 | M24: ='Valores Delta Ct (T2)'!J24 -'Fold Change (T2)'!B$12 -> 0.38246155 | N24: ='Valores Delta Ct (T2)'!K24 -'Fold Change (T2)'!B$13 -> 1.3802394 | O24: ='Valores Delta Ct (T2)'!L24 -'Fold Change (T2)'!B$14 -> -2.2385616 | Q24: 13D | R24: POCMG - 2 | S24: =2^-F24 -> 1 | T24: =2^-G24 -> 0.75134033 | U24: =2^-H24 -> 38.817926 | V24: =2^-I24 -> 0.12021738 | W24: =2^-J24 -> 5.1334131 | X24: =2^-K24 -> 2.148877 | Y24: =2^-L24 -> 0.023317201 | Z24: =2^-M24 -> 0.76712759 | ... AB24: =2^-O24 -> 4.7192629
D25: 13E | E25: POCMG - 2 | F25: ='Valores Delta Ct (T2)'!C25 -'Fold Change (T2)'!B$5 -> 0 | G25: ='Valores Delta Ct (T2)'!D25 -'Fold Change (T2)'!B$6 -> -3.0862529 | H25: ='Valores Delta Ct (T2)'!E25 -'Fold Change (T2)'!B$7 -> -0.74746597 | I25: ='Valores Delta Ct (T2)'!F25 -'Fold Change (T2)'!B$8 -> 1.7763144 | J25: ='Valores Delta Ct (T2)'!G25 -'Fold Change (T2)'!B$9 -> 0.46270966 | K25: ='Valores Delta Ct (T2)'!H25 -'Fold Change (T2)'!B$10 -> -1.3417993 | L25: ='Valores Delta Ct (T2)'!I25 -'Fold Change (T2)'!B$11 -> 5.5127097 | M25: ='Valores Delta Ct (T2)'!J25 -'Fold Change (T2)'!B$12 -> 0.47270966 | N25: ='Valores Delta Ct (T2)'!K25 -'Fold Change (T2)'!B$13 -> 0.072458191 | O25: ='Valores Delta Ct (T2)'!L25 -'Fold Change (T2)'!B$14 -> 0.05347641 | Q25: 13E | R25: POCMG - 2 | S25: =2^-F25 -> 1 | T25: =2^-G25 -> 8.4928743 | U25: =2^-H25 -> 1.6788414 | V25: =2^-I25 -> 0.29192822 | W25: =2^-J25 -> 0.72562212 | X25: =2^-K25 -> 2.5346724 | Y25: =2^-L25 -> 0.021903274 | Z25: =2^-M25 -> 0.72060988 | ... AB25: =2^-O25 -> 0.96361155
D26: 13F | E26: POCMG - 2 | F26: ='Valores Delta Ct (T2)'!C26 -'Fold Change (T2)'!B$5 -> 0 | G26: ='Valores Delta Ct (T2)'!D26 -'Fold Change (T2)'!B$6 -> 0.27462128 | H26: ='Valores Delta Ct (T2)'!E26 -'Fold Change (T2)'!B$7 -> 0.61462128 | I26: ='Valores Delta Ct (T2)'!F26 -'Fold Change (T2)'!B$8 -> 1.5317503 | J26: ='Valores Delta Ct (T2)'!G26 -'Fold Change (T2)'!B$9 -> 0.23462128 | K26: ='Valores Delta Ct (T2)'!H26 -'Fold Change (T2)'!B$10 -> 0.43263763 | L26: ='Valores Delta Ct (T2)'!I26 -'Fold Change (T2)'!B$11 -> 5.2846213 | M26: ='Valores Delta Ct (T2)'!J26 -'Fold Change (T2)'!B$12 -> 0.24462128 | N26: ='Valores Delta Ct (T2)'!K26 -'Fold Change (T2)'!B$13 -> 0.33804504 | O26: ='Valores Delta Ct (T2)'!L26 -'Fold Change (T2)'!B$14 -> -1.4306621 | Q26: 13F | R26: POCMG - 2 | S26: =2^-F26 -> 1 | T26: =2^-G26 -> 0.8266673 | U26: =2^-H26 -> 0.65310132 | V26: =2^-I26 -> 0.3458575 | W26: =2^-J26 -> 0.84990808 | X26: =2^-K26 -> 0.74090597 | Y26: =2^-L26 -> 0.025654909 | Z26: =2^-M26 -> 0.84403734 | ... AB26: =2^-O26 -> 2.695704
... D38: 16A | E38: CG - 2 | F38: ='Valores Delta Ct (T2)'!C38 -'Fold Change (T2)'!B$5 -> 0 | G38: ='Valores Delta Ct (T2)'!D38 -'Fold Change (T2)'!B$6 -> 0.66585472 | H38: ='Valores Delta Ct (T2)'!E38 -'Fold Change (T2)'!B$7 -> 1.0058547 | I38: ='Valores Delta Ct (T2)'!F38 -'Fold Change (T2)'!B$8 -> 2.9697672 | J38: ='Valores Delta Ct (T2)'!G38 -'Fold Change (T2)'!B$9 -> 0.62585472 | K38: ='Valores Delta Ct (T2)'!H38 -'Fold Change (T2)'!B$10 -> -0.56438499 | L38: ='Valores Delta Ct (T2)'!I38 -'Fold Change (T2)'!B$11 -> 5.6758547 | M38: ='Valores Delta Ct (T2)'!J38 -'Fold Change (T2)'!B$12 -> 0.63585472 | N38: ='Valores Delta Ct (T2)'!K38 -'Fold Change (T2)'!B$13 -> 2.3017806 | O38: ='Valores Delta Ct (T2)'!L38 -'Fold Change (T2)'!B$14 -> 3.2158547 | Q38: 16A | R38: CG - 2 | S38: =2^-F38 -> 1 | T38: =2^-G38 -> 0.63031517 | U38: =2^-H38 -> 0.49797502 | V38: =2^-I38 -> 0.12764711 | W38: =2^-J38 -> 0.64803574 | X38: =2^-K38 -> 1.478757 | Y38: =2^-L38 -> 0.019561289 | Z38: =2^-M38 -> 0.64355943 | ... AB38: =2^-O38 -> 0.10762949
D39: 16B | E39: CG - 2 | F39: ='Valores Delta Ct (T1)'!C39-'Fold Change (T2)'!B$5 -> 0 | G39: ='Valores Delta Ct (T2)'!D39 -'Fold Change (T2)'!B$6 -> 0.81522491 | H39: ='Valores Delta Ct (T2)'!E39 -'Fold Change (T2)'!B$7 -> 1.1552249 | I39: ='Valores Delta Ct (T2)'!F39 -'Fold Change (T2)'!B$8 -> 3.5163161 | J39: ='Valores Delta Ct (T2)'!G39 -'Fold Change (T2)'!B$9 -> -2.0689447 | K39: ='Valores Delta Ct (T2)'!H39 -'Fold Change (T2)'!B$10 -> 1.4854254 | L39: ='Valores Delta Ct (T2)'!I39 -'Fold Change (T2)'!B$11 -> 5.8252249 | M39: ='Valores Delta Ct (T2)'!J39 -'Fold Change (T2)'!B$12 -> 0.78522491 | N39: ='Valores Delta Ct (T2)'!K39 -'Fold Change (T2)'!B$13 -> 2.5158443 | O39: ='Valores Delta Ct (T2)'!L39 -'Fold Change (T2)'!B$14 -> -0.31214706 | Q39: 16B | R39: CG - 2 | S39: =2^-F39 -> 1 | T39: =2^-G39 -> 0.56831988 | U39: =2^-H39 -> 0.44899618 | V39: =2^-I39 -> 0.087394356 | W39: =2^-J39 -> 4.1957965 | X39: =2^-K39 -> 0.35714321 | Y39: =2^-L39 -> 0.017637319 | Z39: =2^-M39 -> 0.58026149 | ... AB39: =2^-O39 -> 1.241554
D40: 16C | E40: CG - 2 | F40: ='Valores Delta Ct (T1)'!C40-'Fold Change (T2)'!B$5 -> 0 | G40: ='Valores Delta Ct (T2)'!D40 -'Fold Change (T2)'!B$6 -> 0.57901123 | H40: ='Valores Delta Ct (T2)'!E40 -'Fold Change (T2)'!B$7 -> 0.91901123 | I40: ='Valores Delta Ct (T2)'!F40 -'Fold Change (T2)'!B$8 -> 3.0432059 | J40: ='Valores Delta Ct (T2)'!G40 -'Fold Change (T2)'!B$9 -> 0.53901123 | K40: ='Valores Delta Ct (T2)'!H40 -'Fold Change (T2)'!B$10 -> 0.21697754 | L40: ='Valores Delta Ct (T2)'!I40 -'Fold Change (T2)'!B$11 -> 5.5890112 | M40: ='Valores Delta Ct (T2)'!J40 -'Fold Change (T2)'!B$12 -> 0.54901123 | N40: ='Valores Delta Ct (T2)'!K40 -'Fold Change (T2)'!B$13 -> 2.7061099 | O40: ='Valores Delta Ct (T2)'!L40 -'Fold Change (T2)'!B$14 -> -0.081838531 | Q40: 16C | R40: CG - 2 | S40: =2^-F40 -> 1 | T40: =2^-G40 -> 0.66942242 | U40: =2^-H40 -> 0.52887136 | V40: =2^-I40 -> 0.121312 | W40: =2^-J40 -> 0.68824244 | X40: =2^-K40 -> 0.86036603 | Y40: =2^-L40 -> 0.020774949 | Z40: =2^-M40 -> 0.68348841 | ... AB40: =2^-O40 -> 1.0583659
D41: 16D | E41: CG - 2 | F41: ='Valores Delta Ct (T1)'!C41-'Fold Change (T2)'!B$5 -> 0 | G41: ='Valores Delta Ct (T2)'!D41 -'Fold Change (T2)'!B$6 -> 0.32188919 | H41: ='Valores Delta Ct (T2)'!E41 -'Fold Change (T2)'!B$7 -> 0.66188919 | I41: ='Valores Delta Ct (T2)'!F41 -'Fold Change (T2)'!B$8 -> 4.2924696 | J41: ='Valores Delta Ct (T2)'!G41 -'Fold Change (T2)'!B$9 -> 0.28188919 | K41: ='Valores Delta Ct (T2)'!H41 -'Fold Change (T2)'!B$10 -> 3.4912047 | L41: ='Valores Delta Ct (T2)'!I41 -'Fold Change (T2)'!B$11 -> 2.4586363 | M41: ='Valores Delta Ct (T2)'!J41 -'Fold Change (T2)'!B$12 -> 0.29188919 | N41: ='Valores Delta Ct (T2)'!K41 -'Fold Change (T2)'!B$13 -> 2.1428012 | O41: ='Valores Delta Ct (T2)'!L41 -'Fold Change (T2)'!B$14 -> 2.2234746 | Q41: 16D | R41: CG - 2 | S41: =2^-F41 -> 1 | T41: =2^-G41 -> 0.80002157 | U41: =2^-H41 -> 0.63205009 | V41: =2^-I41 -> 0.051031447 | W41: =2^-J41 -> 0.82251324 | X41: =2^-K41 -> 0.088928849 | Y41: =2^-L41 -> 0.18191844 | Z41: =2^-M41 -> 0.81683173 | ... AB41: =2^-O41 -> 0.21412504
D42: 16E | E42: CG - 2 | F42: ='Valores Delta Ct (T1)'!C42-'Fold Change (T2)'!B$5 -> 0 | G42: ='Valores Delta Ct (T2)'!D42 -'Fold Change (T2)'!B$6 -> 0.86064651 | H42: ='Valores Delta Ct (T2)'!E42 -'Fold Change (T2)'!B$7 -> -1.5910138 | I42: ='Valores Delta Ct (T2)'!F42 -'Fold Change (T2)'!B$8 -> 3.6653372 | J42: ='Valores Delta Ct (T2)'!G42 -'Fold Change (T2)'!B$9 -> 0.82064651 | K42: ='Valores Delta Ct (T2)'!H42 -'Fold Change (T2)'!B$10 -> 0.50424332 | L42: ='Valores Delta Ct (T2)'!I42 -'Fold Change (T2)'!B$11 -> 5.8706465 | M42: ='Valores Delta Ct (T2)'!J42 -'Fold Change (T2)'!B$12 -> 0.83064651 | N42: ='Valores Delta Ct (T2)'!K42 -'Fold Change (T2)'!B$13 -> 2.9586925 | O42: ='Valores Delta Ct (T2)'!L42 -'Fold Change (T2)'!B$14 -> 3.4106465 | Q42: 16E | R42: CG - 2 | S42: =2^-F42 -> 1 | T42: =2^-G42 -> 0.55070571 | U42: =2^-H42 -> 3.0126097 | V42: =2^-I42 -> 0.078817663 | W42: =2^-J42 -> 0.56618816 | X42: =2^-K42 -> 0.70503006 | Y42: =2^-L42 -> 0.017090679 | Z42: =2^-M42 -> 0.56227721 | ... AB42: =2^-O42 -> 0.094035772
F43: ='Valores Delta Ct (T1)'!C43-'Fold Change (T2)'!B$5 -> 0 | G43: ='Valores Delta Ct (T1)'!D43-'Fold Change (T2)'!B$6 -> -10.22 | H43: ='Valores Delta Ct (T1)'!E43-'Fold Change (T2)'!B$7 -> -9.88 | I43: ='Valores Delta Ct (T1)'!F43-'Fold Change (T2)'!B$8 -> -3.36 | J43: ='Valores Delta Ct (T1)'!G43-'Fold Change (T2)'!B$9 -> -10.26 | K43: ='Valores Delta Ct (T1)'!H43-'Fold Change (T2)'!B$10 -> -6.31 | L43: ='Valores Delta Ct (T1)'!I43-'Fold Change (T2)'!B$11 -> -5.21 | M43: ='Valores Delta Ct (T1)'!J43-'Fold Change (T2)'!B$12 -> -10.25 | N43: ='Valores Delta Ct (T1)'!K43-'Fold Change (T2)'!B$13 -> -5.08 | O43: ='Valores Delta Ct (T1)'!L43-'Fold Change (T2)'!B$14 -> -7.67 | S43: =2^-F43 -> 1 | T43: =2^-G43 -> 1192.6872 | U43: =2^-H43 -> 942.27215 | V43: =2^-I43 -> 10.267407 | W43: =2^-J43 -> 1226.2182 | X43: =2^-K43 -> 79.341293 | Y43: =2^-L43 -> 37.014022 | Z43: =2^-M43 -> 1217.7481 | ... AB43: =2^-O43 -> 203.65734
F44: ='Valores Delta Ct (T1)'!C44-'Fold Change (T2)'!B$5 -> 0 | G44: ='Valores Delta Ct (T1)'!D44-'Fold Change (T2)'!B$6 -> -10.22 | H44: ='Valores Delta Ct (T1)'!E44-'Fold Change (T2)'!B$7 -> -9.88 | I44: ='Valores Delta Ct (T1)'!F44-'Fold Change (T2)'!B$8 -> -3.36 | J44: ='Valores Delta Ct (T1)'!G44-'Fold Change (T2)'!B$9 -> -10.26 | K44: ='Valores Delta Ct (T1)'!H44-'Fold Change (T2)'!B$10 -> -6.31 | L44: ='Valores Delta Ct (T1)'!I44-'Fold Change (T2)'!B$11 -> -5.21 | M44: ='Valores Delta Ct (T1)'!J44-'Fold Change (T2)'!B$12 -> -10.25 | N44: ='Valores Delta Ct (T1)'!K44-'Fold Change (T2)'!B$13 -> -5.08 | O44: ='Valores Delta Ct (T1)'!L44-'Fold Change (T2)'!B$14 -> -7.67 | S44: =2^-F44 -> 1 | T44: =2^-G44 -> 1192.6872 | U44: =2^-H44 -> 942.27215 | V44: =2^-I44 -> 10.267407 | W44: =2^-J44 -> 1226.2182 | X44: =2^-K44 -> 79.341293 | Y44: =2^-L44 -> 37.014022 | Z44: =2^-M44 -> 1217.7481 | ... AB44: =2^-O44 -> 203.65734
F45: ='Valores Delta Ct (T1)'!C45-'Fold Change (T2)'!B$5 -> 0 | G45: ='Valores Delta Ct (T1)'!D45-'Fold Change (T2)'!B$6 -> -10.22 | H45: ='Valores Delta Ct (T1)'!E45-'Fold Change (T2)'!B$7 -> -9.88 | I45: ='Valores Delta Ct (T1)'!F45-'Fold Change (T2)'!B$8 -> -3.36 | J45: ='Valores Delta Ct (T1)'!G45-'Fold Change (T2)'!B$9 -> -10.26 | K45: ='Valores Delta Ct (T1)'!H45-'Fold Change (T2)'!B$10 -> -6.31 | L45: ='Valores Delta Ct (T1)'!I45-'Fold Change (T2)'!B$11 -> -5.21 | M45: ='Valores Delta Ct (T1)'!J45-'Fold Change (T2)'!B$12 -> -10.25 | N45: ='Valores Delta Ct (T1)'!K45-'Fold Change (T2)'!B$13 -> -5.08 | O45: ='Valores Delta Ct (T1)'!L45-'Fold Change (T2)'!B$14 -> -7.67 | S45: =2^-F45 -> 1 | T45: =2^-G45 -> 1192.6872 | U45: =2^-H45 -> 942.27215 | V45: =2^-I45 -> 10.267407 | W45: =2^-J45 -> 1226.2182 | X45: =2^-K45 -> 79.341293 | Y45: =2^-L45 -> 37.014022 | Z45: =2^-M45 -> 1217.7481 | ... AB45: =2^-O45 -> 203.65734
F46: ='Valores Delta Ct (T1)'!C46-'Fold Change (T2)'!B$5 -> 0 | G46: ='Valores Delta Ct (T1)'!D46-'Fold Change (T2)'!B$6 -> -10.22 | H46: ='Valores Delta Ct (T1)'!E46-'Fold Change (T2)'!B$7 -> -9.88 | I46: ='Valores Delta Ct (T1)'!F46-'Fold Change (T2)'!B$8 -> -3.36 | J46: ='Valores Delta Ct (T1)'!G46-'Fold Change (T2)'!B$9 -> -10.26 | K46: ='Valores Delta Ct (T1)'!H46-'Fold Change (T2)'!B$10 -> -6.31 | L46: ='Valores Delta Ct (T1)'!I46-'Fold Change (T2)'!B$11 -> -5.21 | M46: ='Valores Delta Ct (T1)'!J46-'Fold Change (T2)'!B$12 -> -10.25 | N46: ='Valores Delta Ct (T1)'!K46-'Fold Change (T2)'!B$13 -> -5.08 | O46: ='Valores Delta Ct (T1)'!L46-'Fold Change (T2)'!B$14 -> -7.67 | S46: =2^-F46 -> 1 | T46: =2^-G46 -> 1192.6872 | U46: =2^-H46 -> 942.27215 | V46: =2^-I46 -> 10.267407 | W46: =2^-J46 -> 1226.2182 | X46: =2^-K46 -> 79.341293 | Y46: =2^-L46 -> 37.014022 | Z46: =2^-M46 -> 1217.7481 | ... AB46: =2^-O46 -> 203.65734
F47: ='Valores Delta Ct (T1)'!C47-'Fold Change (T2)'!B$5 -> 0 | G47: ='Valores Delta Ct (T1)'!D47-'Fold Change (T2)'!B$6 -> -10.22 | H47: ='Valores Delta Ct (T1)'!E47-'Fold Change (T2)'!B$7 -> -9.88 | I47: ='Valores Delta Ct (T1)'!F47-'Fold Change (T2)'!B$8 -> -3.36 | J47: ='Valores Delta Ct (T1)'!G47-'Fold Change (T2)'!B$9 -> -10.26 | K47: ='Valores Delta Ct (T1)'!H47-'Fold Change (T2)'!B$10 -> -6.31 | L47: ='Valores Delta Ct (T1)'!I47-'Fold Change (T2)'!B$11 -> -5.21 | M47: ='Valores Delta Ct (T1)'!J47-'Fold Change (T2)'!B$12 -> -10.25 | N47: ='Valores Delta Ct (T1)'!K47-'Fold Change (T2)'!B$13 -> -5.08 | O47: ='Valores Delta Ct (T1)'!L47-'Fold Change (T2)'!B$14 -> -7.67 | S47: =2^-F47 -> 1 | T47: =2^-G47 -> 1192.6872 | U47: =2^-H47 -> 942.27215 | V47: =2^-I47 -> 10.267407 | W47: =2^-J47 -> 1226.2182 | X47: =2^-K47 -> 79.341293 | Y47: =2^-L47 -> 37.014022 | Z47: =2^-M47 -> 1217.7481 | ... AB47: =2^-O47 -> 203.65734
F48: ='Valores Delta Ct (T1)'!C48-'Fold Change (T2)'!B$5 -> 0 | G48: ='Valores Delta Ct (T1)'!D48-'Fold Change (T2)'!B$6 -> -10.22 | H48: ='Valores Delta Ct (T1)'!E48-'Fold Change (T2)'!B$7 -> -9.88 | I48: ='Valores Delta Ct (T1)'!F48-'Fold Change (T2)'!B$8 -> -3.36 | J48: ='Valores Delta Ct (T1)'!G48-'Fold Change (T2)'!B$9 -> -10.26 | K48: ='Valores Delta Ct (T1)'!H48-'Fold Change (T2)'!B$10 -> -6.31 | L48: ='Valores Delta Ct (T1)'!I48-'Fold Change (T2)'!B$11 -> -5.21 | M48: ='Valores Delta Ct (T1)'!J48-'Fold Change (T2)'!B$12 -> -10.25 | N48: ='Valores Delta Ct (T1)'!K48-'Fold Change (T2)'!B$13 -> -5.08 | O48: ='Valores Delta Ct (T1)'!L48-'Fold Change (T2)'!B$14 -> -7.67 | S48: =2^-F48 -> 1 | T48: =2^-G48 -> 1192.6872 | U48: =2^-H48 -> 942.27215 | V48: =2^-I48 -> 10.267407 | W48: =2^-J48 -> 1226.2182 | X48: =2^-K48 -> 79.341293 | Y48: =2^-L48 -> 37.014022 | Z48: =2^-M48 -> 1217.7481 | ... AB48: =2^-O48 -> 203.65734
F49: ='Valores Delta Ct (T1)'!C49-'Fold Change (T2)'!B$5 -> 0 | G49: ='Valores Delta Ct (T1)'!D49-'Fold Change (T2)'!B$6 -> -10.22 | H49: ='Valores Delta Ct (T1)'!E49-'Fold Change (T2)'!B$7 -> -9.88 | I49: ='Valores Delta Ct (T1)'!F49-'Fold Change (T2)'!B$8 -> -3.36 | J49: ='Valores Delta Ct (T1)'!G49-'Fold Change (T2)'!B$9 -> -10.26 | K49: ='Valores Delta Ct (T1)'!H49-'Fold Change (T2)'!B$10 -> -6.31 | L49: ='Valores Delta Ct (T1)'!I49-'Fold Change (T2)'!B$11 -> -5.21 | M49: ='Valores Delta Ct (T1)'!J49-'Fold Change (T2)'!B$12 -> -10.25 | N49: ='Valores Delta Ct (T1)'!K49-'Fold Change (T2)'!B$13 -> -5.08 | O49: ='Valores Delta Ct (T1)'!L49-'Fold Change (T2)'!B$14 -> -7.67 | S49: =2^-F49 -> 1 | T49: =2^-G49 -> 1192.6872 | U49: =2^-H49 -> 942.27215 | V49: =2^-I49 -> 10.267407 | W49: =2^-J49 -> 1226.2182 | X49: =2^-K49 -> 79.341293 | Y49: =2^-L49 -> 37.014022 | Z49: =2^-M49 -> 1217.7481 | ... AB49: =2^-O49 -> 203.65734
F50: ='Valores Delta Ct (T1)'!C50-'Fold Change (T2)'!B$5 -> 0 | G50: ='Valores Delta Ct (T1)'!D50-'Fold Change (T2)'!B$6 -> -10.22 | H50: ='Valores Delta Ct (T1)'!E50-'Fold Change (T2)'!B$7 -> -9.88 | I50: ='Valores Delta Ct (T1)'!F50-'Fold Change (T2)'!B$8 -> -3.36 | J50: ='Valores Delta Ct (T1)'!G50-'Fold Change (T2)'!B$9 -> -10.26 | K50: ='Valores Delta Ct (T1)'!H50-'Fold Change (T2)'!B$10 -> -6.31 | L50: ='Valores Delta Ct (T1)'!I50-'Fold Change (T2)'!B$11 -> -5.21 | M50: ='Valores Delta Ct (T1)'!J50-'Fold Change (T2)'!B$12 -> -10.25 | N50: ='Valores Delta Ct (T1)'!K50-'Fold Change (T2)'!B$13 -> -5.08 | O50: ='Valores Delta Ct (T1)'!L50-'Fold Change (T2)'!B$14 -> -7.67 | S50: =2^-F50 -> 1 | T50: =2^-G50 -> 1192.6872 | U50: =2^-H50 -> 942.27215 | V50: =2^-I50 -> 10.267407 | W50: =2^-J50 -> 1226.2182 | X50: =2^-K50 -> 79.341293 | Y50: =2^-L50 -> 37.014022 | Z50: =2^-M50 -> 1217.7481 | ... AB50: =2^-O50 -> 203.65734
F51: ='Valores Delta Ct (T1)'!C51-'Fold Change (T2)'!B$5 -> 0 | G51: ='Valores Delta Ct (T1)'!D51-'Fold Change (T2)'!B$6 -> -10.22 | H51: ='Valores Delta Ct (T1)'!E51-'Fold Change (T2)'!B$7 -> -9.88 | I51: ='Valores Delta Ct (T1)'!F51-'Fold Change (T2)'!B$8 -> -3.36 | J51: ='Valores Delta Ct (T1)'!G51-'Fold Change (T2)'!B$9 -> -10.26 | K51: ='Valores Delta Ct (T1)'!H51-'Fold Change (T2)'!B$10 -> -6.31 | L51: ='Valores Delta Ct (T1)'!I51-'Fold Change (T2)'!B$11 -> -5.21 | M51: ='Valores Delta Ct (T1)'!J51-'Fold Change (T2)'!B$12 -> -10.25 | N51: ='Valores Delta Ct (T1)'!K51-'Fold Change (T2)'!B$13 -> -5.08 | O51: ='Valores Delta Ct (T1)'!L51-'Fold Change (T2)'!B$14 -> -7.67 | S51: =2^-F51 -> 1 | T51: =2^-G51 -> 1192.6872 | U51: =2^-H51 -> 942.27215 | V51: =2^-I51 -> 10.267407 | W51: =2^-J51 -> 1226.2182 | X51: =2^-K51 -> 79.341293 | Y51: =2^-L51 -> 37.014022 | Z51: =2^-M51 -> 1217.7481 | ... AB51: =2^-O51 -> 203.65734
F52: ='Valores Delta Ct (T1)'!C52-'Fold Change (T2)'!B$5 -> 0 | G52: ='Valores Delta Ct (T1)'!D52-'Fold Change (T2)'!B$6 -> -10.22 | H52: ='Valores Delta Ct (T1)'!E52-'Fold Change (T2)'!B$7 -> -9.88 | I52: ='Valores Delta Ct (T1)'!F52-'Fold Change (T2)'!B$8 -> -3.36 | J52: ='Valores Delta Ct (T1)'!G52-'Fold Change (T2)'!B$9 -> -10.26 | K52: ='Valores Delta Ct (T1)'!H52-'Fold Change (T2)'!B$10 -> -6.31 | L52: ='Valores Delta Ct (T1)'!I52-'Fold Change (T2)'!B$11 -> -5.21 | M52: ='Valores Delta Ct (T1)'!J52-'Fold Change (T2)'!B$12 -> -10.25 | N52: ='Valores Delta Ct (T1)'!K52-'Fold Change (T2)'!B$13 -> -5.08 | O52: ='Valores Delta Ct (T1)'!L52-'Fold Change (T2)'!B$14 -> -7.67 | S52: =2^-F52 -> 1 | T52: =2^-G52 -> 1192.6872 | U52: =2^-H52 -> 942.27215 | V52: =2^-I52 -> 10.267407 | W52: =2^-J52 -> 1226.2182 | X52: =2^-K52 -> 79.341293 | Y52: =2^-L52 -> 37.014022 | Z52: =2^-M52 -> 1217.7481 | ... AB52: =2^-O52 -> 203.65734
F53: ='Valores Delta Ct (T1)'!C53-'Fold Change (T2)'!B$5 -> 0 | G53: ='Valores Delta Ct (T1)'!D53-'Fold Change (T2)'!B$6 -> -10.22 | H53: ='Valores Delta Ct (T1)'!E53-'Fold Change (T2)'!B$7 -> -9.88 | I53: ='Valores Delta Ct (T1)'!F53-'Fold Change (T2)'!B$8 -> -3.36 | J53: ='Valores Delta Ct (T1)'!G53-'Fold Change (T2)'!B$9 -> -10.26 | K53: ='Valores Delta Ct (T1)'!H53-'Fold Change (T2)'!B$10 -> -6.31 | L53: ='Valores Delta Ct (T1)'!I53-'Fold Change (T2)'!B$11 -> -5.21 | M53: ='Valores Delta Ct (T1)'!J53-'Fold Change (T2)'!B$12 -> -10.25 | N53: ='Valores Delta Ct (T1)'!K53-'Fold Change (T2)'!B$13 -> -5.08 | O53: ='Valores Delta Ct (T1)'!L53-'Fold Change (T2)'!B$14 -> -7.67 | S53: =2^-F53 -> 1 | T53: =2^-G53 -> 1192.6872 | U53: =2^-H53 -> 942.27215 | V53: =2^-I53 -> 10.267407 | W53: =2^-J53 -> 1226.2182 | X53: =2^-K53 -> 79.341293 | Y53: =2^-L53 -> 37.014022 | Z53: =2^-M53 -> 1217.7481 | ... AB53: =2^-O53 -> 203.65734
F54: ='Valores Delta Ct (T1)'!C54-'Fold Change (T2)'!B$5 -> 0 | G54: ='Valores Delta Ct (T1)'!D54-'Fold Change (T2)'!B$6 -> -10.22 | H54: ='Valores Delta Ct (T1)'!E54-'Fold Change (T2)'!B$7 -> -9.88 | I54: ='Valores Delta Ct (T1)'!F54-'Fold Change (T2)'!B$8 -> -3.36 | J54: ='Valores Delta Ct (T1)'!G54-'Fold Change (T2)'!B$9 -> -10.26 | K54: ='Valores Delta Ct (T1)'!H54-'Fold Change (T2)'!B$10 -> -6.31 | L54: ='Valores Delta Ct (T1)'!I54-'Fold Change (T2)'!B$11 -> -5.21 | M54: ='Valores Delta Ct (T1)'!J54-'Fold Change (T2)'!B$12 -> -10.25 | N54: ='Valores Delta Ct (T1)'!K54-'Fold Change (T2)'!B$13 -> -5.08 | O54: ='Valores Delta Ct (T1)'!L54-'Fold Change (T2)'!B$14 -> -7.67 | S54: =2^-F54 -> 1 | T54: =2^-G54 -> 1192.6872 | U54: =2^-H54 -> 942.27215 | V54: =2^-I54 -> 10.267407 | W54: =2^-J54 -> 1226.2182 | X54: =2^-K54 -> 79.341293 | Y54: =2^-L54 -> 37.014022 | Z54: =2^-M54 -> 1217.7481 | ... AB54: =2^-O54 -> 203.65734
... F75: ='Valores Delta Ct (T1)'!C75-'Fold Change (T2)'!B$5 -> 0 | G75: ='Valores Delta Ct (T1)'!D75-'Fold Change (T2)'!B$6 -> -10.22 | H75: ='Valores Delta Ct (T1)'!E75-'Fold Change (T2)'!B$7 -> -9.88 | I75: ='Valores Delta Ct (T1)'!F75-'Fold Change (T2)'!B$8 -> -3.36 | J75: ='Valores Delta Ct (T1)'!G75-'Fold Change (T2)'!B$9 -> -10.26 | K75: ='Valores Delta Ct (T1)'!H75-'Fold Change (T2)'!B$10 -> -6.31 | L75: ='Valores Delta Ct (T1)'!I75-'Fold Change (T2)'!B$11 -> -5.21 | M75: ='Valores Delta Ct (T1)'!J75-'Fold Change (T2)'!B$12 -> -10.25 | N75: ='Valores Delta Ct (T1)'!K75-'Fold Change (T2)'!B$13 -> -5.08 | O75: ='Valores Delta Ct (T1)'!L75-'Fold Change (T2)'!B$14 -> -7.67 | S75: =2^-F75 -> 1 | T75: =2^-G75 -> 1192.6872 | U75: =2^-H75 -> 942.27215 | V75: =2^-I75 -> 10.267407 | W75: =2^-J75 -> 1226.2182 | X75: =2^-K75 -> 79.341293 | Y75: =2^-L75 -> 37.014022 | Z75: =2^-M75 -> 1217.7481 | ... AB75: =2^-O75 -> 203.65734

Sheet Resumo Fold Change (T1 e T2)
B2: Resumo dos Valores de Fold Change
B5: Grupo | C5: GAPDH | D5: BSP | E5: OP | F5: OC | G5: TRAP | H5: CTSK | I5: RANKL | J5: OPG | K5: DDK | L5: SCLER
B6: CG - 1 | C6: 1 | D6: 1.3684055 | E6: 1.3104226 | F6: 12.58434 | G6: 1.3099923 | H6: 1.176324 | I6: 24.901663 | J6: 2.3437803 | K6: 1.7422524 | L6: 1.951261
B7: NCG - 1 | C7: 1 | D7: 2.0618937 | E7: 1.233219 | F7: 2.5867681 | G7: 8.18791 | H7: 0.64584169 | I7: 4.5088991 | J7: 7.037031 | K7: 1.1372713 | L7: 10.270216
B8: PCG - 1 | C8: 1 | D8: 1.9220325 | E8: 6.3592106 | F8: 0.48860133 | G8: 1.9760682 | H8: 2.1434664 | I8: 0.17116185 | J8: 1.9624185 | K8: 1.2976297 | L8: 0.32819672
B9: POCG - 1 | C9: 1 | D9: 1.6743813 | E9: 1.6566669 | F9: 0.41033763 | G9: 1.7214546 | H9: 2.0133817 | I9: 0.051962985 | J9: 2.7388757 | K9: 2.3255073 | L9: 5.3049166
B10: POCMG - 1 | C10: 1 | D10: 2.2346644 | E10: 7.5202689 | F10: 2.3775345 | G10: 0.81090879 | H10: 0.45902373 | I10: 1.8640944 | J10: 5.3506344 | K10: 10.886447 | L10: 3.7924199
B11: PCMG - 1 | C11: 1 | D11: 15.397508 | E11: 5.4957657 | F11: 1.6146322 | G11: 3.0913745 | H11: 0.59649967 | I11: 1.5539251 | J11: 17.156537 | K11: 0.70685446 | L11: 20.28673
B12: PCMMG - 1 | C12: 1 | D12: 0.91288041 | E12: 3.7672705 | F12: 1.1190196 | G12: 0.48978204 | H12: 1.8604291 | I12: 2.9755748 | J12: 4.1076103 | K12: 0.63276775 | L12: 1.6373958
B13: CG - 2 | C13: 1 | D13: 0.64375695 | E13: 1.0241005 | F13: 0.093240514 | G13: 1.3841552 | H13: 0.69804503 | I13: 0.051396535 | J13: 0.65728365 | K13: 0.17719433 | L13: 0.54314206
B14: NCG - 2 | C14: 1 | D14: 0.76900401 | E14: 3.6632622 | F14: 5.8017128 | G14: 0.79062365 | H14: 1.84778 | I14: 6.9524641 | J14: 1.163549 | K14: 0.69876318 | L14: 1.4562734
B15: PCG - 2 | C15: 1 | D15: 4.8833423 | E15: 5.5218654 | F15: 0.97096461 | G15: 5.0791895 | H15: 0.12113616 | I15: 7.3587926 | J15: 2.2404768 | K15: 0.95390071 | L15: 1.4606698
B16: POCG - 2 | C16: 1 | D16: 2.7107528 | E16: 6.6067965 | F16: 2.102648 | G16: 0.7628463 | H16: 62888062 | I16: 1.4502486 | J16: 8.0017427 | K16: 0.53706606 | L16: 3.2641877
B17: POCMG - 2 | C17: 1 | D17: 2.4725065 | E17: 9.2742256 | F17: 0.68992411 | G17: 1.1397647e+08 | H17: 1.317871 | I17: 0.28610696 | J17: 1.7538217 | K17: 0.60841723 | L17: 3.3847761
... B19: PCMMG - 2 | C19: 1 | D19: 0.59292637 | E19: 1.0317558 | F19: 0.42633716 | G19: 0.6095958 | H19: 0.52456187 | I19: 0.17967356 | J19: 0.60538501 | K19: 0.52562483 | L19: 0.71156838
