Workbook
Name al_scrap: '6. Global Mineral Production'!#REF!
Name alper: '6. Global Mineral Production'!$H$4
Name coper: '6. Global Mineral Production'!#REF!
Name feper: '6. Global Mineral Production'!$H$7
Name ferro: '6. Global Mineral Production'!#REF!
Name gr_am: '6. Global Mineral Production'!#REF!
Name gr_flake: '6. Global Mineral Production'!#REF!
Name grper: '6. Global Mineral Production'!$H$5
Name li_carb: '6. Global Mineral Production'!#REF!
Name li_cl: '6. Global Mineral Production'!$H$11
Name li_oh: '6. Global Mineral Production'!$H$9
Name liper: '6. Global Mineral Production'!#REF!
Name mn_fer: '6. Global Mineral Production'!$H$15
Name mn_sil: '6. Global Mineral Production'!$H$16
Name mnper: '6. Global Mineral Production'!#REF!
Name ni: '[1]Battery Stats'!$I$48
Name ni_conc: '6. Global Mineral Production'!#REF!
Name ni_lat: '6. Global Mineral Production'!#REF!
Name niper: '6. Global Mineral Production'!#REF!
Name sgrper: '6. Global Mineral Production'!$H$6
Name spod: '6. Global Mineral Production'!$H$10

Sheet 0. Cover Sheet & Assumptions
A2: Assessing the Feasibility of the Inflation Reduction Act’s EV Critical Mineral Targets
A3: Jenna N. Trost1, Jennifer B. Dunn1,2*
A4: 1. Department of Chemical and Biological Engineering, Northwestern University, Evanston, Illinois, USA
A5: 2. Center for Engineering Sustainability and Resilience, Northwestern University, Evanston, Illinois, USA
A6: *Corresponding Author: Jennifer B. Dunn (email: jennifer.dunn1@northwestern.edu)
A9: Table S0A
A10: List of Assumptions Used In Analysis
B11: Assumption
A12: 1 | B12: Production and import numbers of critical minerals by the US and FTCs are constant from 2022 to 2027
A13: 2 | B13: Percentage of critical mineral resources used in battery manufacturing is constant from 2022 to 2027
A14: 3 | B14: Market values are constant
A15: 4 | B15: Each battery from a given chemistry has the exact weight and composition as defined in GREET
A16: 5 | B16: Mineral content in a product is constant (i.e. lithium in spodumene is the same for all global spodumene production); If mineral content is not specified within USGS or in other literature, it is assumed to be 100%
A17: 6 | B17: Minerals from different sources and ores perform equivalently (e.g., lithium from LiOH versus Li2CO3 or nickel from laterite versus ferronickel). Processes to produce cathode materials vary in cost depending on the source of metal; one source of a metal may be preferred over the other. Stoichiometric calculations were performed to standardize the mass and market value of minerals.
A20: Table S0B
A21: Acroynyms
A22: BEV | B22: Battery Electric Vehicle
A23: EV | B23: Electric Vehicle
A24: LFP | B24: Lithium Iron Phosphate
A25: LMO | B25: Lithium Manganese Oxide
A26: NCA | B26: Nickel Cobalt Aluminum
A27: NMC | B27: Nickel Manganese Cobalt
A28: PHEV | B28: Plug-in Hybrid Electric Vehicle
A30: Table S0C
A31: Table List
A32: Table Number | B32: Content | C32: Tab
A33: S0A | B33: Assumptions | C33: 0. Cover Sheet & Assumptions
A34: S0B | B34: Acronyms | C34: 0. Cover Sheet & Assumptions
A35: S0C | B35: Table List | C35: 0. Cover Sheet & Assumptions
A36: S1A | B36: Number of Electric Vehicles Sold in 2027 | C36: 1. EV Forecast
A37: S2A | B37: Battery Weight by Battery Type | C37: 2. BEV Battery Chemistry Stats
A38: S2B | B38: Battery Material Composition (kg material/kg battery) | C38: 2. BEV Battery Chemistry Stats
A39: S2C | B39: Cathode Critical Mineral Composition by Battery Type (kg material/kg battery cathode) | C39: 2. BEV Battery Chemistry Stats
A40: S2D | B40: Cathode Critical Mineral Mixture Composition by Battery Type (kg material/kg battery) | C40: 2. BEV Battery Chemistry Stats
A41: S2E | B41: Molar Masses of Battery Chemistry Minerals | C41: 2. BEV Battery Chemistry Stats
A42: S2F | B42: Material Mass Requirement per Battery by Battery Type | C42: 2. BEV Battery Chemistry Stats
A43: S2G | B43: Summary Mineral Mass Contribution by Mineral by Battery Type (kg/battery) | C43: 2. BEV Battery Chemistry Stats
... A118: S11G | B118: Limiting Market Value Mineral by Battery Type | C118: 11. Calculations - MV (BEV)
A119: S11H | B119: Limiting Mineral Market Value Required by Battery Type to Reach 80% of Total Market Value of Battery from FTCs ($USD/ton)
A120: S11I | B120: Limiting Market Value Mineral Adjusted Mineral Requirement by Battery Type (metric ton/battery) | C120: 11. Calculations - MV (BEV)
...

Sheet 1. EV Forecast
A1: Table 1A
A2: Number of Electric Vehicles Sold in 2027 | G2: Sources for This Sheet:
A3: Range | B3: BEV | C3: Source | D3: PHEV | E3: Source | G3: 1. IEA. Global EV Outlook 2021. 101 (2021).
A4: Low | B4: 1000000 | D4: =500*1000 -> 500000 | E4: 1
A5: High | B5: 2000000 | D5: =1500000 -> 1500000 | E5: 1

Sheet 2. BEV Battery Chemistry Stats
A1: Table 2A
A2: Battery Weight by Battery Type1 | G2: Sources for This Sheet:
A3: Battery Type | B3: lb/car | C3: kg/car | D3: ton/car | G3: 1. Argonne National Laboratory. The Greenhouse gases, Regulated Emissions, and Energy use in Technologies Model (GREET). (2021).
A4: LFP | B4: 1065 | C4: =B4/2.2 -> 484.09091 | D4: =C4/1000 -> 0.48409091
A5: LMO | B5: 1005.6 | C5: =B5/2.2 -> 457.09091 | D5: =C5/1000 -> 0.45709091
A6: NCA | B6: 739.1 | C6: =B6/2.2 -> 335.95455 | D6: =C6/1000 -> 0.33595455
A7: NMC111 | B7: 863.4 | C7: =B7/2.2 -> 392.45455 | D7: =C7/1000 -> 0.39245455
A8: NMC532 | B8: 825.2 | C8: =B8/2.2 -> 375.09091 | D8: =C8/1000 -> 0.37509091
A9: NMC622 | B9: 770.6 | C9: =B9/2.2 -> 350.27273 | D9: =C9/1000 -> 0.35027273
A10: NMC811 | B10: 748.1 | C10: =B10/2.2 -> 340.04545 | D10: =C10/1000 -> 0.34004545
A12: Table 2B
A13: Battery Material Composition (kg material/kg battery)1
A14: Battery Type | B14: Cathode | C14: Graphite | D14: Wrought Aluminum
A15: LFP | B15: 0.36 | C15: 0.191 | D15: 0.175
A16: LMO | B16: 0.435 | C16: 0.156 | D16: 0.168
A17: NCA | B17: 0.346 | C17: 0.234 | D17: 0.18
A18: NMC111 | B18: 0.382 | C18: 0.202 | D18: 0.173
A19: NMC532 | B19: 0.386 | C19: 0.206 | D19: 0.173
A20: NMC622 | B20: 0.361 | C20: 0.221 | D20: 0.178
A21: NMC811 | B21: 0.315 | C21: 0.244 | D21: 0.184
A23: Table 2C
A24: Cathode Critical Mineral Composition by Battery Type (kg material/kg battery cathode)1
A25: Battery Type | B25: Li2CO3 | C25: Mineral Mixture | D25: Mn2O3 | E25: Notes
A26: LFP | B26: 0.268
A27: LMO | B27: 0.204 | D27: 0.873
A28: NCA | B28: 0.25 | C28: 0.95 | E28: ** LiOH
A29: NMC111 | B29: 0.383 | C29: 0.949
A30: NMC532 | B30: 0.381 | C30: 0.945
A31: NMC622 | B31: 0.381 | C31: 0.949
A32: NMC811 | B32: 0.246 | C32: 0.949 | E32: ** LiOH
A34: Table 2D
A35: Cathode Critical Mineral Mixture Composition by Battery Type (kg material/kg battery)1
A36: Battery Type | B36: NiSO4 | C36: CoSO4 | D36: MnSO4 | E36: (Al)2(SO4)3
A37: NCA | B37: 1.36 | C37: 0.26 | E37: 0.09
A38: NMC111 | B38: 0.564 | C38: 0.564 | D38: 0.55
A39: NMC532 | B39: 0.868 | C39: 0.35 | D39: 0.494
A40: NMC622 | B40: 1.009 | C40: 0.337 | D40: 0.328
A41: NMC811 | B41: 1.34 | C41: 0.168 | D41: 0.163
A43: Table 2E
A44: Molar Masses of Battery Chemistry Minerals (Used for Stoichiometry)
...

Sheet 3. PHEV Battery Chemistry Stats
A1: Table 3A
A2: Battery Weight by Battery Type1 | G2: Sources for This Sheet:
A3: Battery Type | B3: lb/car | C3: kg/car | D3: ton/car | G3: 1. Argonne National Laboratory. The Greenhouse gases, Regulated Emissions, and Energy use in Technologies Model (GREET). (2021).
A4: LFP | B4: 263 | C4: =B4/2.2 -> 119.54545 | D4: =C4/1000 -> 0.11954545
A5: LMO | B5: 219 | C5: =B5/2.2 -> 99.545455 | D5: =C5/1000 -> 0.099545455
A6: NMC111 | B6: 193.8 | C6: =B6/2.2 -> 88.090909 | D6: =C6/1000 -> 0.088090909
A8: Table 3B
A9: Battery Material Composition (kg material/kg battery)1
A10: Battery Type | B10: Cathode | C10: Graphite | D10: Wrought Aluminum
A11: LFP | B11: 0.262 | C11: 0.139 | D11: 0.195
A12: LMO | B12: 0.362 | C12: 0.13 | D12: 0.161
A13: NMC111 | B13: 0.308 | C13: 0.163 | D13: 0.161
A15: Table 3C
A16: Cathode Critical Mineral Composition by Battery Type (kg material/kg battery cathode)1
A17: Battery Type | B17: Li2CO3 | C17: Mineral Mixture | D17: Mn2O3
A18: LFP | B18: 0.268
A19: LMO | B19: 0.204 | D19: 0.873
A20: NMC111 | B20: 0.383 | C20: 0.949
A22: Table 3D
A23: Cathode Critical Mineral Mixture Composition by Battery Type (kg material/kg battery)1
A24: Battery Type | B24: NiSO4 | C24: CoSO4 | D24: MnSO4
A25: NMC111 | B25: 0.564 | C25: 0.564 | D25: 0.55
A27: Table 3E
A28: Molar Masses of Battery Chemistry Minerals (Used for Stoichiometry)
A29: Mineral | B29: g/mol | C29: kg/mol
A30: Al | B30: 26.98 | C30: =B30/1000 -> 0.02698
A31: Al2(SO4)3 | B31: 342.15 | C31: =B31/1000 -> 0.34215
A32: Co | B32: 58.9 | C32: =B32/1000 -> 0.0589
A33: CoSO4 | B33: 155 | C33: =B33/1000 -> 0.155
A34: Fe | B34: 55.845 | C34: =B34/1000 -> 0.055845
A35: FeSO4 | B35: 151.908 | C35: =B35/1000 -> 0.151908
A36: Li | B36: 6.94 | C36: =B36/1000 -> 0.00694
A37: Li2CO3 | B37: 73.891 | C37: =B37/1000 -> 0.073891
A38: LiOH | B38: 23.95 | C38: =B38/1000 -> 0.02395
A39: Mn | B39: 54.94 | C39: =B39/1000 -> 0.05494
A40: Mn2O3 | B40: 157.87 | C40: =B40/1000 -> 0.15787
A41: MnSO4 | B41: 151 | C41: =B41/1000 -> 0.151
... A43: NiSO4 | B43: 154.75 | C43: =B43/1000 -> 0.15475
A45: Table 3F
A46: Material Mass Requirement per Battery by Battery Type1
...

Sheet 4. Mineral Content Percentages
A1: Table 4A
A2: Aluminum Content Percentages | E2: Sources for This Sheet:
A3: Material | B3: Content Percentage | C3: Source | E3: 1. JR Davis. Aluminum and Aluminum Alloys. 351–416 https://materialsdata.nist.gov/bitstream/handle/11115/173/Aluminum%20and%20Aluminum%20Alloys%20Davis.pdf (2001).
A4: Alloys | B4: 0.97 | C4: 1 | E4: 2. Gopienko, V. G. Production of Aluminum Powders. in Handbook of Non-Ferrous Metal Powders 459–480 (Elsevier, 2019). doi:10.1016/B978-0-08-100543-9.00015-4.
A5: Scrap | B5: 0.9 | C5: 2 | E5: 3. Xiao, J. et al. Extraction of Nickel from Garnierite Laterite Ore Using Roasting and Magnetic Separation with Calcium Chloride and Iron Concentrate. Minerals 10, 352 (2020).
E6: 4. Gilpin R. Robinson Jr., Jane M. Hammarstrom, & Donald W. Olson. Graphite. https://pubs.usgs.gov/pp/1802/j/pp1802j.pdf (2017).
A7: Table 4B | E7: 5. Aylmore, M. G. et al. Assessment of a spodumene ore by advanced analytical and mass spectrometry techniques to determine its amenability to processing for the extraction of lithium. Minerals Engineering 119, 137–148 (2018).
A8: Cobalt Content Percentages | E8: 6. Lee, Y. E. Ferroalloys: Production and use in Steel-making. in Encyclopedia of Materials: Science and Technology 3039–3044 (Elsevier, 2001). doi:10.1016/B0-08-043152-6/00544-1.
A9: Material | B9: Content Percentage | C9: Source | E9: 7. Crundwell, F. K., Moats, M. S., Ramachandran, V., Robinson, T. G. & Davenport, W. G. Smelting of Laterite Ores to Ferronickel. in Extractive Metallurgy of Nickel, Cobalt and Platinum Group Metals 67–83 (Elsevier, 2011). doi:10.1016/B978-0-08-096809-4.10006-1.
A10: Laterite | B10: =0.029/100 -> 0.00029 | C10: 3 | E10: 8. Wang, G. C. Nonferrous metal extraction and nonferrous slags. in The Utilization of Slag in Civil Infrastructure Construction 35–61 (Elsevier, 2016). doi:10.1016/B978-0-08-100381-7.00003-3.
E11: 9. Nokhrina, O. I., Rozhikhina, I. D. & Proshunin, I. E. Direct Alloying of Steel with Nickel Concentrate. IOP Conf. Ser.: Mater. Sci. Eng. 142, 012067 (2016).
A12: Table 4C
A13: Graphite Content Percentages
A14: Material | B14: Content Percentage | C14: Source
A15: Amorphous | B15: 0.75 | C15: 4
A16: Flake | B16: 0.86 | C16: 4
A17: Synthetic | B17: 0.9995 | C17: 4
A19: Table 4D
A20: Lithium Content Percentages
A21: Material | B21: Content Percentage | C21: Source
A22: Lithium Carbonate | B22: 0.188 | C22: Stoichiometry
A23: Lithium Hydroxide | B23: 0.29 | C23: Stoichiometry
A24: Spodumene | B24: =0.46*0.07 -> 0.0322 | C24: 5
A25: Lithium Chloride | B25: 0.164 | C25: Stoichiometry
A27: Table 4E
A28: Manganese Content Percentages
A29: Material | B29: Content Percentage | C29: Source
A30: Ferromanganese | B30: 0.78 | C30: 6
A31: Silicomanganese | B31: 0.66 | C31: 6
A32: MnO2 | B32: 0.632 | C32: Stoichiometry
A33: KMnO4 | B33: 0.348 | C33: Stoichiometry
A35: Table 4F
A36: Nickel Content Percentages
A37: Material | B37: Content Percentage | C37: Source
A38: Ferronickel | B38: 0.3 | C38: 7
A39: Sulfide ore | B39: 0.1 | C39: 8
A40: Laterite | B40: 0.015 | C40: 8
A41: Concentrate | B41: 0.43 | C41: 9
A42: Hydroxide | B42: 0.633 | C42: Stoichiometry
A43: Scrap | B43: 1

Sheet 5. Mineral to Battery Stats
A1: Table 5A
A2: Maximum Mass Fraction of Mineral Supply to Batteries (%) | F2: Sources for This Sheet:
A3: Mineral | B3: Percentage | C3: Source | F3: 1. USGS. Mineral Commodity Summaries 2022 - Aluminum. 2 https://pubs.usgs.gov/periodicals/mcs2022/mcs2022-aluminum.pdf (2022).
A4: Aluminum | B4: 0.09 | C4: 1 | F4: 2. USGS. Mineral Commodity Summaries 2022 - Cobalt. 2 https://pubs.usgs.gov/periodicals/mcs2022/mcs2022-cobalt.pdf (2022).
A5: Cobalt | B5: 0.31 | C5: 2 | F5: 3. Gilpin R. Robinson Jr., Jane M. Hammarstrom, & Donald W. Olson. Graphite. https://pubs.usgs.gov/pp/1802/j/pp1802j.pdf (2017).
A6: Graphite Natural | B6: 0.1 | C6: 3 | F6: 4. USGS. Mineral Commodity Summaries 2022 - Lithium. 2 https://pubs.usgs.gov/periodicals/mcs2022/mcs2022-lithium.pdf (2022).
A7: Graphite Synthetic | B7: 0.05 | C7: 3 | F7: 5. National Minerals Information Center. Manganese Statistics and Information. (2022).
A8: Lithium | B8: 0.74 | C8: 4 | F8: 6. Michele E. McRay. 2017 Minerals Yearbook - Nickel [Advance Release]. https://d9-wret.s3.us-west-2.amazonaws.com/assets/palladium/production/atoms/files/myb1-2017-nickel-2.pdf (2017).
A9: Manganese | B9: 0.1 | C9: 5
A10: Nickel | B10: 0.23 | C10: 6

Sheet 6. Global Mineral Production
A1: Table 6A
B2: Aluminum Total Production (metric tons) | F2: Sources for This Sheet:
A3: FTC | B3: Primary Production | C3: Secondary Production | D3: Source | F3: 1. USGS. Mineral Commodity Summaries 2022. http://pubs.er.usgs.gov/publication/mcs2022 (2022) doi:10.3133/mcs2022.
A4: United States | B4: =1012*1000 -> 1012000 | C4: =3050*1000 -> 3050000 | D4: 2, Table 1 | F4: 2. USGS. Aluminum - Mineral Yearbook 2020. (2021).
A5: Australia | B5: 1720000 | D5: 1, Page 23 | F5: 3. USGS. Cobalt - Mineral Yearbook 2019. (2021).
A6: Bahrain | B6: =1549*1000 -> 1549000 | D6: 2, Table 13 | F6: 4. USGS. Graphite - Mineral Yearbook 2019. (2022).
A7: Canada | B7: 3270000 | D7: 1, Page 23 | F7: 5. USGS. Lithium - Mineral Yearbook 2019. (2021).
A8: Oman | B8: =397*1000 -> 397000 | D8: 2, Table 13 | F8: 6. USGS. Manganese - Mineral Yearbook 2020. (2021).
A9: Total | B9: =SUM(B4:B8) -> 7948000 | C9: =SUM(C4:C8) -> 3050000 | F9: 7. USGS. Nickel - Mineral Yearbook 2018. (2021).
A10: Total Aluminum Content | B10: =B9*1 -> 7948000 | C10: =C9*'4. Mineral Content Percentages'!B5 -> 2745000
A11: Grand Total: Aluminum Content | B11: =SUM(B10:C10) -> 10693000
A13: Table 6B
B14: Cobalt Total Production (metric tons)
A15: FTC | B15: Primary Production | C15: Secondary Production | D15: Source | E15: *Cobalt Content
A16: United States | B16: 700 | C16: 1600 | D16: 3, Table 1; 1, Page 52
A17: Australia* | B17: 5742 | D17: 3, Table 7
A18: Canada* | B18: 3336 | D18: 3, Table 7
A19: Mexico* | B19: 1100 | D19: 3, Table 7
A20: Morocco* | B20: 2300 | D20: 3, Table 7
A21: Total | B21: =SUM(B16:B20) -> 13178 | C21: =SUM(C16:C20) -> 1600
A22: Total Cobalt Content | B22: =B21*1 -> 13178 | C22: =C21*1 -> 1600
A23: Grand Total: Cobalt Content | B23: =SUM(B22,C22) -> 14778
A25: Table 6C
B26: Natural Graphite Total Production (metric tons)
A27: FTC | B27: Amorphous | C27: Crystalline Flake | D27: Source
A28: United States | B28: 0 | C28: 0 | D28: 4, Table 1
A29: Canada | C29: 11000 | D29: 4, Table 9
A30: Mexico | B30: 9000 | D30: 4, Table 9
A31: Total | B31: =SUM(B28:B30) -> 9000 | C31: =SUM(C28:C30) -> 11000
A32: Total Graph Content | B32: =B31*'4. Mineral Content Percentages'!B15 -> 6750 | C32: =C31*'4. Mineral Content Percentages'!B16 -> 9460
A33: Grand Total: Graphite Content | B33: =SUM(B32:C32) -> 16210
A35: Table 6D
B36: Synthetic Graphite Total Production (metric tons)
A37: FTC | B37: Primary Production | C37: Source
A38: United States | B38: 276000 | C38: 4, Table 1
A39: Total | B39: =SUM(B38) -> 276000
A40: Total Graph Content | B40: =B39*'4. Mineral Content Percentages'!B17 -> 275862
A41: Grand Total: Graphite Content | B41: =B40 -> 275862
A43: Table 6E
B44: Lithium Total Production (metric tons)
...

Sheet 7.US Mineral Production&Imports
A2: Table 7A | I2: Sources for This Sheet:
B3: Aluminum US Production (metric tons) | I3: 1. USGS. Mineral Commodity Summaries 2022. http://pubs.er.usgs.gov/publication/mcs2022 (2022) doi:10.3133/mcs2022.
B4: Primary Production | C4: Secondary Production | D4: Source, Location | I4: 2. USGS. Aluminum - Mineral Yearbook 2020. (2021).
A5: United States | B5: 880000 | C5: =3200*1000 -> 3200000 | D5: 1, Page 23 | I5: 3. USGS. Cobalt - Mineral Yearbook 2019. (2021).
A6: Total | B6: =SUM(B5:B5) -> 880000 | C6: =SUM(C5:C5) -> 3200000 | I6: 4. USGS. Graphite - Mineral Yearbook 2019. (2022).
A7: Total Al Content | B7: =B6*1 -> 880000 | C7: =C6*'4. Mineral Content Percentages'!B5 -> 2880000 | I7: 5. USGS. Lithium - Mineral Yearbook 2019. (2021).
A8: Grand Total: Aluminum Content | B8: =SUM(B7:C7) -> 3760000 | I8: 6. USGS. Manganese - Mineral Yearbook 2020. (2021).
I9: 7. USGS. Nickel - Mineral Yearbook 2018. (2021).
A10: Table 7B
B11: Aluminum Imports (metric tons)
A12: FTC | B12: Metal and alloys, crude | C12: Plates, sheets, strip, etc. | D12: Scrap | E12: Source, Location
A13: Australia | B13: 86700 | C13: 387 | D13: 19 | E13: 2, Table 12
A14: Bahrain | B14: 75000 | C14: 17700 | E14: 2, Table 12
A15: Canada | B15: 2300000 | C15: 212000 | D15: 353000 | E15: 2, Table 12
A16: Korea, Republic of | B16: 14000 | C16: 26300 | E16: 2, Table 12
A17: Mexico | B17: 705 | C17: 36700 | D17: 142000 | E17: 2, Table 12
A18: Oman | B18: 99 | C18: 63000 | E18: 2, Table 12
A19: Total | B19: =SUM(B13:B18) -> 2476504 | C19: =SUM(C13:C18) -> 356087 | D19: =SUM(D13:D18) -> 495019
A20: Total Al Content | B20: =B19*'4. Mineral Content Percentages'!B4 -> 2402208.9 | C20: =C19*1 -> 356087 | D20: =D19*'4. Mineral Content Percentages'!B5 -> 445517.1
A21: Grand Total: Aluminum Content | B21: =SUM(B20:D20) -> 3203813
A23: Table 7C
B24: Cobalt US Production (metric tons)
B25: Primary Production* | C25: Secondary Production* | D25: Source, Location | E25: *Cobalt Content
A26: United States | B26: 700 | C26: 1600 | D26: 3, Page 52
A27: Total | B27: =SUM(B26) -> 700 | C27: =SUM(C26) -> 1600
A28: Total Cobalt Content | B28: =SUM(B26:B26) -> 700 | C28: =SUM(C26) -> 1600
A29: Grand Total: Cobalt Content | B29: =SUM(B28:C28) -> 2300
A31: Table 7D
B32: Cobalt Imports (metric tons)
A33: FTC | B33: Metal* | C33: Oxides and hydroxides* | D33: Other* | E33: Source, Location
A34: Australia | B34: 725 | E34: 2, Table 4
A35: Canada | B35: 2400 | D35: 1 | E35: 2, Table 4
A36: Korea, Republic of | C36: 106 | E36: 2, Table 4
A37: Mexico | B37: 45 | E37: 2, Table 4
A38: Morocco | B38: 339 | E38: 2, Table 4
A39: Total | B39: =SUM(B34:B38) -> 3509 | C39: =SUM(C34:C38) -> 106 | D39: =SUM(D34:D38) -> 1
A40: Total Cobalt Content | B40: =SUM(B34:B38) -> 3509 | C40: =SUM(C34:C38) -> 106 | D40: =SUM(D34:D38) -> 1
A41: Grand Total: Cobalt Content | B41: =SUM(B40:D40) -> 3616
A43: Table 7E
B44: Natural Graphite US Production (metric tons)
...

Sheet 8. Mineral Market Values
A1: Table 8A
A2: Aluminum Prices | I2: Sources for This Sheet:
A3: 2016 | B3: 2017 | C3: 2018 | D3: 2019 | E3: 2020 | F3: Units | G3: Source | I3: 1. USGS. Aluminum - Mineral Yearbook 2020. (2021).
A4: 80.4 | B4: 98.3 | C4: 114.7 | D4: 99.5 | E4: 89.7 | F4: US cents/lb | G4: 1, Table 1 | I4: 2. USGS. Cobalt - Mineral Yearbook 2019. (2021).
A5: =(A4/100)*(2.2*1000) -> 1768.8 | B5: =(B4/100)*(2.2*1000) -> 2162.6 | C5: =(C4/100)*(2.2*1000) -> 2523.4 | D5: =(D4/100)*(2.2*1000) -> 2189 | E5: =(E4/100)*(2.2*1000) -> 1973.4 | F5: $US/ton (metric) | I5: 3. USGS. Graphite - Mineral Yearbook 2019. (2022).
I6: 4. USGS. Mineral Commodity Summaries 2022. http://pubs.er.usgs.gov/publication/mcs2022 (2022) doi:10.3133/mcs2022.
A7: Table 8B | I7: 5. USGS. Nickel - Mineral Yearbook 2018. (2021).
A8: Cobalt Prices
A9: 2015 | B9: 2016 | C9: 2017 | D9: 2018 | E9: 2019 | F9: Units | G9: Source
A10: 13.44 | B10: 12.01 | C10: 26.97 | D10: 37.43 | E10: 16.95 | F10: $US/lb | G10: 2, Table 1
A11: =(A10)*(2.2*1000) -> 29568 | B11: =(B10)*(2.2*1000) -> 26422 | C11: =(C10)*(2.2*1000) -> 59334 | D11: =(D10)*(2.2*1000) -> 82346 | E11: =(E10)*(2.2*1000) -> 37290 | F11: $US/ton metric
A13: Table 8C
A14: Natural Graphite Prices
A15: Amorphous
A16: 2017 | B16: 2018 | C16: 2019 | D16: 2020 | E16: 2021 | F16: Units | G16: Source
A17: 451 | B17: 319 | C17: 498 | D17: 687 | E17: 630 | F17: $US/ton (metric) | G17: 3, Table 1
A18: Crystalline Flake
A19: 2017 | B19: 2018 | C19: 2019 | D19: 2020 | E19: 2021 | F19: Units | G19: Source
A20: 1390 | B20: 1520 | C20: 1350 | D20: 1540 | E20: 1600 | F20: $US/ton (metric) | G20: 3, Table 1
A21: Graphite Content: Amorphous + Crystallline Flake (Weighted Average on 2019 Imports)
A22: 2017 | B22: 2018 | C22: 2019 | D22: 2020 | E22: 2021 | F22: Units | G22: Source
A23: =((A17*'7.US Mineral Production&Imports'!$B$57)+(A20*'7.US Mineral Production&Imports'!$C$57))/SUM('7.US Mineral Production&Imports'!$B$57:$C$57) -> 721.8764 | B23: =((B17*'7.US Mineral Production&Imports'!$B$57)+(B20*'7.US Mineral Production&Imports'!$C$57))/SUM('7.US Mineral Production&Imports'!$B$57:$C$57) -> 665.45639 | C23: =((C17*'7.US Mineral Production&Imports'!$B$57)+(C20*'7.US Mineral Production&Imports'!$C$57))/SUM('7.US Mineral Production&Imports'!$B$57:$C$57) -> 743.77922 | D23: =((D17*'7.US Mineral Production&Imports'!$B$57)+(D20*'7.US Mineral Production&Imports'!$C$57))/SUM('7.US Mineral Production&Imports'!$B$57:$C$57) -> 933.0677 | E23: =((E17*'7.US Mineral Production&Imports'!$B$57)+(E20*'7.US Mineral Production&Imports'!$C$57))/SUM('7.US Mineral Production&Imports'!$B$57:$C$57) -> 909.81907 | F23: $US/ton (metric)
A25: Table 8D
A26: Synthetic Graphite Prices
A27: 2015 | B27: 2016 | C27: 2017 | D27: 2018 | E27: 2019 | F27: Units | G27: Source
A28: 6857.14 | B28: 3178.74 | C28: 3212.39 | D28: 5342.47 | E28: 4239.13 | F28: $US/ton (metric) | G28: 3, Table 1
A30: Table 8E
A31: Graphite Prices - Calculated, Using 2019 US Production and Imports
B32: Average | C32: Standard Deviation | D32: Low Range | E32: High Range | F32: Units | G32: Source
A33: Natural | B33: =AVERAGE(A23:E23) -> 794.79976 | C33: =STDEV(A23:E23) -> 119.37136 | D33: =B33-C33 -> 675.4284 | E33: =B33+C33 -> 914.17111 | F33: $US/ton (metric)
A34: Synthetic | B34: =AVERAGE(A28:E28) -> 4565.974 | C34: =STDEV(A28:E28) -> 1558.5107 | D34: =B34-C34 -> 3007.4633 | E34: =B34+C34 -> 6124.4847 | F34: $US/ton (metric)
A35: Weighted Average | B35: =((B33*('7.US Mineral Production&Imports'!$B$65+'7.US Mineral Production&Imports'!$B$75))+(B34*(SUM('7.US Mineral Production&Imports'!$B$57:$D$57))))/(SUM('7.US Mineral Production&Imports'!$B$57:$D$57,'7.US Mineral Production&Imports'!$B$65,'7.US Mineral Production&Imports'!$B$75)) -> 1013.6688 | C35: =((C33*('7.US Mineral Production&Imports'!$B$65+'7.US Mineral Production&Imports'!$B$75))+(C34*(SUM('7.US Mineral Production&Imports'!$B$57:$D$57))))/(SUM('7.US Mineral Production&Imports'!$B$57:$D$57,'7.US Mineral Production&Imports'!$B$65,'7.US Mineral Production&Imports'!$B$75)) -> 202.89523 | D35: =B35-C35 -> 810.7736 | E35: =B35+C35 -> 1216.5641 | F35: $US/ton (metric)
A37: Table 8F
A38: Lithium Prices
A39: 2017 | B39: 2018 | C39: 2019 | D39: 2020 | E39: 2021 | F39: Units | G39: Source
A40: Lithium Carbonate
A41: 15000 | B41: 17000 | C41: 12700 | D41: 8000 | E41: 17000 | F41: $US/ton lithium carbonate (metric) | G41: 4, Page 100
A42: =(A41)*(2*'2. BEV Battery Chemistry Stats'!$B$52/'2. BEV Battery Chemistry Stats'!$B$53) -> 2817.6639 | B42: =(B41)*(2*'2. BEV Battery Chemistry Stats'!$B$52/'2. BEV Battery Chemistry Stats'!$B$53) -> 3193.3524 | C42: =(C41)*(2*'2. BEV Battery Chemistry Stats'!$B$52/'2. BEV Battery Chemistry Stats'!$B$53) -> 2385.6221 | D42: =(D41)*(2*'2. BEV Battery Chemistry Stats'!$B$52/'2. BEV Battery Chemistry Stats'!$B$53) -> 1502.7541 | E42: =(E41)*(2*'2. BEV Battery Chemistry Stats'!$B$52/'2. BEV Battery Chemistry Stats'!$B$53) -> 3193.3524 | F42: $US/ton lithium (metric)
A44: Table 8G
A45: Manganese Prices
...

Sheet 9. Calculations - Mass (BEV)
A1: Table 9A
A2: BEV Predictions | E2: Sources for This Sheet:
A3: Prediction | B3: Number of BEVs Sold in 2027 | C3: Source | E3: 1. IEA. Global EV Outlook 2021. 101 (2021).
A4: Low | B4: {='1. EV Forecast'!B4:B5} -> 1000000 | C4: 1
A5: High | B5: 2000000 | C5: 1
A7: Table 9B
A8: Available Minerals
A9: Maximum Availability | C9: Baseline Imports
A10: Mineral | B10: Total Mineral Content Mass (kg) | C10: Mineral | D10: Total Mineral Content Mass (kg)
A11: Aluminum | B11: {=('6. Global Mineral Production'!B95:B100)*1000} -> 962370000 | C11: Aluminum | D11: {=('7.US Mineral Production&Imports'!B152:B157)*1000} -> 6.2674317e+08
A12: Cobalt | B12: 4581180 | C12: Cobalt | D12: 1833960
A13: Graphite | B13: 28396700 | C13: Graphite | D13: 16767842
A14: Lithium | B14: 55063401 | C14: Lithium | D14: 666987.16
A15: Manganese | B15: 414871386 | C15: Manganese | D15: 14161093
A16: Nickel | B16: 1.5326126e+08 | C16: Nickel | D16: 64086614
A18: CALCULATIONS FOR NUMBER OF TAX-CREDIT ELIGIBLE BATTERIES BY MINERAL AVAILABILITY FROM US AND FTCS
A20: Table 9C
A21: Summary Mineral Mass Contribution by Battery Type (kg/battery) - LFP, NCA, NMC Only
A22: Critical Mineral | B22: LFP | C22: NCA | D22: NMC
A23: Aluminum | B23: {='2. BEV Battery Chemistry Stats'!B158:D163} -> 84.715909 | C23: 62.039212 | D23: 64.425568
A24: Cobalt | B24: 0 | C24: 10.910312 | D24: 17.636398
A25: Graphite | B25: 92.461364 | C25: 78.613364 | D25: 79.231477
A26: Lithium | B26: 8.7732831 | C26: 8.4207463 | D26: 9.4582583
A27: Manganese | B27: 0 | C27: 0 | D27: 18.352924
A28: Nickel | B28: 0 | C28: 56.957719 | D28: 43.263282
A29: Total | B29: =SUM(B23:B28) -> 185.95056 | C29: =SUM(C23:C28) -> 216.94135 | D29: =SUM(D23:D28) -> 232.36791
A31: Table 9D
A32: Number of Tax-Credit Eligible Batteries Calculations by Mineral
A33: Aluminum
A34: Available Amount Scenario | B34: Available Minerals (kg) | C34: Low Prediction (millions) | D34: High Prediction (millions) | E34: LFP (millions) | F34: NCA (millions) | G34: NMC (millions)
A35: Maximum Availability | B35: =B11 -> 962370000 | C35: =$B$4/1000000 -> 1 | D35: =$B$5/1000000 -> 2 | E35: =$B35/B$23/1000000 -> 11.359968 | F35: =$B35/C$23/1000000 -> 15.512286 | G35: =$B35/D$23/1000000 -> 14.937703
A36: Baseline Imports | B36: =D11 -> 6.2674317e+08 | C36: =$B$4/1000000 -> 1 | D36: =$B$5/1000000 -> 2 | E36: =$B36/B$23/1000000 -> 7.3981756 | F36: =$B36/C$23/1000000 -> 10.102372 | G36: =$B36/D$23/1000000 -> 9.7281745
A38: Cobalt
A39: Available Amount Scenario | B39: Available Minerals (kg) | C39: Low Prediction (millions) | D39: High Prediction | E39: LFP (millions) | F39: NCA (millions) | G39: NMC (millions)
A40: Maximum Availability | B40: =B12 -> 4581180 | C40: =$B$4/1000000 -> 1 | D40: =$B$5/1000000 -> 2 | E40: 0 | F40: =$B40/C$24/1000000 -> 0.4198945 | G40: =$B40/D$24/1000000 -> 0.25975712
A41: Baseline Imports | B41: =D12 -> 1833960 | C41: =$B$4/1000000 -> 1 | D41: =$B$5/1000000 -> 2 | E41: 0 | F41: =$B41/C$24/1000000 -> 0.16809418 | G41: =$B41/D$24/1000000 -> 0.10398722
A43: Graphite
A44: Available Amount Scenario | B44: Available Minerals (kg) | C44: Low Prediction (millions) | D44: High Prediction | E44: LFP (millions) | F44: NCA (millions) | G44: NMC (millions)
A45: Maximum Availability | B45: =B13 -> 28396700 | C45: =$B$4/1000000 -> 1 | D45: =$B$5/1000000 -> 2 | E45: =$B45/B$25/1000000 -> 0.30711963 | F45: =$B45/C$25/1000000 -> 0.36121976 | G45: =$B45/D$25/1000000 -> 0.35840175
A46: Baseline Imports | B46: =D13 -> 16767842 | C46: =$B$4/1000000 -> 1 | D46: =$B$5/1000000 -> 2 | E46: =$B46/B$25/1000000 -> 0.18134972 | F46: =$B46/C$25/1000000 -> 0.21329506 | G46: =$B46/D$25/1000000 -> 0.21163107
...

Sheet 10. Calculations - Mass (PHEV)
A1: Table 10A
A2: PHEV Predictions | E2: Sources for This Sheet:
A3: Prediction | B3: Number of PHEVs Sold in 2027 | C3: Source | E3: 1. IEA. Global EV Outlook 2021. 101 (2021).
A4: Low | B4: {='1. EV Forecast'!D4:D5} -> 500000 | C4: 1
A5: High | B5: 1500000 | C5: 1
A7: Table 10B
A8: Available Minerals
A9: Maximum Availability | C9: Baseline Imports
A10: Mineral | B10: Total Mineral Content Mass (kg) | C10: Mineral | D10: Total Mineral Content Mass (kg)
A11: Aluminum | B11: {=('6. Global Mineral Production'!B95:B100)*1000} -> 962370000 | C11: Aluminum | D11: {=('7.US Mineral Production&Imports'!B152:B157)*1000} -> 6.2674317e+08
A12: Cobalt | B12: 4581180 | C12: Cobalt | D12: 1833960
A13: Graphite | B13: 28396700 | C13: Graphite | D13: 16767842
A14: Lithium | B14: 55063401 | C14: Lithium | D14: 666987.16
A15: Manganese | B15: 414871386 | C15: Manganese | D15: 14161093
A16: Nickel | B16: 1.5326126e+08 | C16: Nickel | D16: 64086614
A18: CALCULATIONS FOR NUMBER OF TAX-CREDIT ELIGIBLE BATTERIES BY MINERAL AVAILABILITY FROM US AND FTCS
A20: Table 10C
A21: Summary Mineral Mass Contribution by Battery Type (kg/battery) - LFP, LMO, NMC111111 Only
A22: Critical Mineral | B22: LFP | C22: LMO | D22: NMC111111
A23: Aluminum | B23: {='3. PHEV Battery Chemistry Stats'!B87:D92} -> 16.026818 | C23: 16.026818 | D23: 14.182636
A24: Cobalt | B24: 0 | C24: 0 | D24: 5.5183688
A25: Graphite | B25: 16.616818 | C25: 12.940909 | D25: 14.358818
A26: Lithium | B26: 1.5767654 | C26: 1.3808869 | D26: 1.9519941
A27: Manganese | B27: 0 | C27: 21.895925 | D27: 5.1525524
A28: Nickel | B28: 0 | C28: 0 | D28: 5.507577
A29: Total | B29: =SUM(B23:B28) -> 34.220402 | C29: =SUM(C23:C28) -> 52.244539 | D29: =SUM(D23:D28) -> 46.671947
A31: Table 10D
A32: Number of Tax-Credit Eligible Batteries Calculations by Mineral
A33: Aluminum
A34: Available Amount Scenario | B34: Available Minerals (kg) | C34: Low Prediction (millions) | D34: High Prediction (millions) | E34: LFP (millions) | F34: LMO (millions) | G34: NMC111 (millions)
A35: Maximum Availability | B35: =B11 -> 962370000 | C35: =$B$4/1000000 -> 0.5 | D35: =$B$5/1000000 -> 1.5 | E35: =$B35/B$23/1000000 -> 60.047477 | F35: =$B35/C$23/1000000 -> 60.047477 | G35: =$B35/D$23/1000000 -> 67.855508
A36: Baseline Imports | B36: =D11 -> 6.2674317e+08 | C36: =$B$4/1000000 -> 0.5 | D36: =$B$5/1000000 -> 1.5 | E36: =$B36/B$23/1000000 -> 39.105901 | F36: =$B36/C$23/1000000 -> 39.105901 | G36: =$B36/D$23/1000000 -> 44.190879
A38: Cobalt
A39: Available Amount Scenario | B39: Available Minerals (kg) | C39: Low Prediction (millions) | D39: High Prediction | E39: LFP (millions) | F39: LMO (millions) | G39: NMC111 (millions)
A40: Maximum Availability | B40: =B12 -> 4581180 | C40: =$B$4/1000000 -> 0.5 | D40: =$B$5/1000000 -> 1.5 | E40: 0 | F40: 0 | G40: =$B40/D$24/1000000 -> 0.83016923
A41: Baseline Imports | B41: =D12 -> 1833960 | C41: =$B$4/1000000 -> 0.5 | D41: =$B$5/1000000 -> 1.5 | E41: 0 | F41: 0 | G41: =$B41/D$24/1000000 -> 0.33233734
A43: Graphite
A44: Available Amount Scenario | B44: Available Minerals (kg) | C44: Low Prediction (millions) | D44: High Prediction | E44: LFP (millions) | F44: LMO (millions) | G44: NMC111 (millions)
A45: Maximum Availability | B45: =B13 -> 28396700 | C45: =$B$4/1000000 -> 0.5 | D45: =$B$5/1000000 -> 1.5 | E45: =$B45/B$25/1000000 -> 1.7089132 | F45: =$B45/C$25/1000000 -> 2.1943358 | G45: =$B45/D$25/1000000 -> 1.9776488
A46: Baseline Imports | B46: =D13 -> 16767842 | C46: =$B$4/1000000 -> 0.5 | D46: =$B$5/1000000 -> 1.5 | E46: =$B46/B$25/1000000 -> 1.0090886 | F46: =$B46/C$25/1000000 -> 1.2957237 | G46: =$B46/D$25/1000000 -> 1.1677731
...

Sheet 11. Calculations - MV (BEV)
A1: Table 11A
A2: BEV Predictions | E2: Sources for This Sheet:
A3: Prediction | B3: Number of BEVs Sold in 2027 | C3: Source | E3: 1. IEA. Global EV Outlook 2021. 101 (2021).
A4: Low | B4: {='1. EV Forecast'!B4:B5} -> 1000000 | C4: 1
A5: High | B5: 2000000 | C5: 1
A7: Table 11B
A8: Available Minerals
A9: Maximum Availability | C9: Baseline Imports
A10: Mineral | B10: Total Mineral Content Mass (metric tons) | C10: Mineral | D10: Total Mineral Content Mass (metric tons)
A11: Aluminum | B11: {=('6. Global Mineral Production'!B95:B100)} -> 962370 | C11: Aluminum | D11: {=('7.US Mineral Production&Imports'!B152:B157)} -> 626743.17
A12: Cobalt | B12: 4581.18 | C12: Cobalt | D12: 1833.96
A13: Graphite | B13: 28396.7 | C13: Graphite | D13: 16767.842
A14: Lithium | B14: 55063.401 | C14: Lithium | D14: 666.98716
A15: Manganese | B15: 414871.39 | C15: Manganese | D15: 14161.093
A16: Nickel | B16: 153261.26 | C16: Nickel | D16: 64086.614
A18: Table 11C
A19: Mineral Market Values ($USD/metric tons)
A20: Mineral | B20: Average Price | C20: Standard Deviation | D20: Range Low | E20: Range High
A21: Aluminum | B21: {='8. Mineral Market Values'!B58:E63} -> 2123.44 | C21: 280.21472 | D21: 1843.2253 | E21: 2403.6547
A22: Cobalt | B22: 46992 | C22: 23574.773 | D22: 23417.227 | E22: 70566.773
A23: Graphite | B23: 1013.6688 | C23: 202.89523 | D23: 810.7736 | E23: 1216.5641
A24: Lithium | B24: 2618.5489 | C24: 707.05337 | D24: 1911.4956 | E24: 3325.6023
A25: Manganese | B25: 5710 | C25: 960.59877 | D25: 4749.4012 | E25: 6670.5988
A26: Nickel | B26: 12361.4 | C26: 2855.8701 | D26: 9505.5299 | E26: 15217.27
A28: Table 11D
A29: Total Critical Mineral Market Value Per Battery ($USD/battery)
A30: LFP
A31: Mineral | B31: Mass Required (metric tons/battery) | C31: Average Market Value ($USD/battery) | D31: Range Low Market Value ($USD/battery) | E31: Range High Market Value ($USD/battery)
A32: Aluminum | B32: {=(_xlfn.ANCHORARRAY('2. BEV Battery Chemistry Stats'!B158))/1000} -> 0.084715909 | C32: =B32*B21 -> 179.88915 | D32: =B32*D21 -> 156.15051 | E32: =B32*E21 -> 203.62779
A33: Cobalt | B33: 0 | C33: =B33*B22 -> 0 | D33: =B33*D22 -> 0 | E33: =B33*E22 -> 0
A34: Graphite | B34: 0.092461364 | C34: =B34*B23 -> 93.725202 | D34: =B34*D23 -> 74.965232 | E34: =B34*E23 -> 112.48517
A35: Lithium | B35: 0.0087732831 | C35: =B35*B24 -> 22.973271 | D35: =B35*D24 -> 16.770092 | E35: =B35*E24 -> 29.176451
A36: Manganese | B36: 0 | C36: =B36*B25 -> 0 | D36: =B36*D25 -> 0 | E36: =B36*E25 -> 0
A37: Nickel | B37: 0 | C37: =B37*B26 -> 0 | D37: =B37*D26 -> 0 | E37: =B37*E26 -> 0
B38: Total | C38: =SUM(C32:C37) -> 296.58762 | D38: =SUM(D32:D37) -> 247.88583 | E38: =SUM(E32:E37) -> 345.28942
A40: NCA
A41: Mineral | B41: Mass Required (metric tons/battery) | C41: Average Market Value ($USD/battery) | D41: Range Low Market Value ($USD/battery) | E41: Range High Market Value ($USD/battery) | P41: How much cobalt left | Q41: How many batteries with remaining cobalt | R41: US + FTC Total batteries | X41: eligible | Y41: max
A42: Aluminum | B42: {=_xlfn.ANCHORARRAY('2. BEV Battery Chemistry Stats'!C158)/1000} -> 0.062039212 | C42: =B42*B21 -> 131.73654 | D42: =B42*D21 -> 114.35224 | E42: =B42*E21 -> 149.12084 | U42: % MV NCA | W42: Cobalt | X42: .15 * tons/battery | Y42: number of batterys | Z42: numbers of batterys
A43: Cobalt | B43: 0.010910312 | C43: =B43*B22 -> 512.69738 | D43: =B43*D22 -> 255.48925 | E43: =B43*E22 -> 769.90551 | U43: Aluminum | V43: =C42/$C$48 -> 0.090837183 | X43: =B43*0.15 -> 0.0016365468 | Y43: =H43/X43 -> 0 | Z43: =I43/X43 -> 0
A44: Graphite | B44: 0.078613364 | C44: =B44*B23 -> 79.687916 | D44: =B44*D23 -> 63.737639 | E44: =B44*E23 -> 95.638193 | P44: =(H43-O44) -> 0 | Q44: =P44/B43 -> 0 | R44: =N44+Q44 -> 0 | S44: =R44/0.8 -> 0 | U44: Cobalt | V44: =C43/$C$48 -> 0.35352366
...

Sheet 12. Calculations - MV (PHEV)
A1: Table 12A
A2: PHEV Predictions | E2: Sources for This Sheet:
A3: Prediction | B3: Number of PHEVs Sold in 2027 | C3: Source | E3: 1. IEA. Global EV Outlook 2021. 101 (2021).
A4: Low | B4: {='1. EV Forecast'!D4:D5} -> 500000 | C4: 1
A5: High | B5: 1500000 | C5: 1
A7: Table 12B
A8: Available Minerals
A9: Maximum Availability | C9: Baseline Imports
A10: Mineral | B10: Total Mineral Content Mass (metric tons) | C10: Mineral | D10: Total Mineral Content Mass (metric tons)
A11: Aluminum | B11: {=('6. Global Mineral Production'!B95:B100)} -> 962370 | C11: Aluminum | D11: {=('7.US Mineral Production&Imports'!B152:B157)} -> 626743.17
A12: Cobalt | B12: 4581.18 | C12: Cobalt | D12: 1833.96
A13: Graphite | B13: 28396.7 | C13: Graphite | D13: 16767.842
A14: Lithium | B14: 55063.401 | C14: Lithium | D14: 666.98716
A15: Manganese | B15: 414871.39 | C15: Manganese | D15: 14161.093
A16: Nickel | B16: 153261.26 | C16: Nickel | D16: 64086.614
A18: Table 12C
A19: Mineral Market Values ($USD/metric tons)
A20: Mineral | B20: Average Price | C20: Standard Deviation | D20: Range Low | E20: Range High
A21: Aluminum | B21: {='8. Mineral Market Values'!B58:E63} -> 2123.44 | C21: 280.21472 | D21: 1843.2253 | E21: 2403.6547
A22: Cobalt | B22: 46992 | C22: 23574.773 | D22: 23417.227 | E22: 70566.773
A23: Graphite | B23: 1013.6688 | C23: 202.89523 | D23: 810.7736 | E23: 1216.5641
A24: Lithium | B24: 2618.5489 | C24: 707.05337 | D24: 1911.4956 | E24: 3325.6023
A25: Manganese | B25: 5710 | C25: 960.59877 | D25: 4749.4012 | E25: 6670.5988
A26: Nickel | B26: 12361.4 | C26: 2855.8701 | D26: 9505.5299 | E26: 15217.27
A28: Table 12D
A29: Total Critical Mineral Market Value Per Battery ($USD/battery)
A30: LFP
A31: Mineral | B31: Mass Required (metric tons/battery) | C31: Average Market Value ($USD/battery) | D31: Range Low Market Value ($USD/battery) | E31: Range High Market Value ($USD/battery)
A32: Aluminum | B32: {=_xlfn.ANCHORARRAY('3. PHEV Battery Chemistry Stats'!B87)/1000} -> 0.016026818 | C32: =B32*B21 -> 34.031987 | D32: =B32*D21 -> 29.541036 | E32: =B32*E21 -> 38.522937
A33: Cobalt | B33: 0 | C33: =B33*B22 -> 0 | D33: =B33*D22 -> 0 | E33: =B33*E22 -> 0
A34: Graphite | B34: 0.016616818 | C34: =B34*B23 -> 16.843951 | D34: =B34*D23 -> 13.472477 | E34: =B34*E23 -> 20.215424
A35: Lithium | B35: 0.0015767654 | C35: =B35*B24 -> 4.1288373 | D35: =B35*D24 -> 3.01398 | E35: =B35*E24 -> 5.2436946
A36: Manganese | B36: 0 | C36: =B36*B25 -> 0 | D36: =B36*D25 -> 0 | E36: =B36*E25 -> 0
A37: Nickel | B37: 0 | C37: =B37*B26 -> 0 | D37: =B37*D26 -> 0 | E37: =B37*E26 -> 0
B38: Total | C38: =SUM(C32:C37) -> 55.004775 | D38: =SUM(D32:D37) -> 46.027494 | E38: =SUM(E32:E37) -> 63.982056
A40: LMO
A41: Mineral | B41: Mass Required (metric tons/battery) | C41: Average Market Value ($USD/battery) | D41: Range Low Market Value ($USD/battery) | E41: Range High Market Value ($USD/battery) | P41: How much cobalt left | Q41: How many batteries with remaining cobalt | R41: US + FTC Total batteries | X41: eligible | Y41: max
A42: Aluminum | B42: {=_xlfn.ANCHORARRAY('3. PHEV Battery Chemistry Stats'!C87)/1000} -> 0.016026818 | C42: =B42*B21 -> 34.031987 | D42: =B42*D21 -> 29.541036 | E42: =B42*E21 -> 38.522937 | U42: % MV LMO | W42: Cobalt | X42: .15 * tons/battery | Y42: number of batterys | Z42: numbers of batterys
A43: Cobalt | B43: 0 | C43: =B43*B22 -> 0 | D43: =B43*D22 -> 0 | E43: =B43*E22 -> 0 | U43: Aluminum | V43: =C42/$C$48 -> 0.19359298 | X43: =B43*0.15 -> 0 | Y43: =H43/X43 -> #DIV/0! | Z43: =I43/X43 -> #DIV/0!
A44: Graphite | B44: 0.012940909 | C44: =B44*B23 -> 13.117796 | D44: =B44*D23 -> 10.492147 | E44: =B44*E23 -> 15.743445 | P44: =(H43-O44) -> 0 | Q44: =P44/B43 -> #DIV/0! | R44: =N44+Q44 -> #DIV/0! | S44: =R44/0.8 -> #DIV/0! | U44: Cobalt | V44: =C43/$C$48 -> 0
...

Sheet 13. Full List of References
A1: Table S13A
A2: Full List of References Used In Excel Spreadsheet
