Workbook

Sheet RawData
A1: mouse | B1: Genotype | C1: LaserFreq | D1: DrugGroup | E1: #GoStimTrials | F1: CorrGo | G1: IncorrGo | H1: #NoGoStimTrials | I1: CorrNoGo | J1: IncorrNoGo | K1: Hits | L1: Group Avg | M1: STDERR | N1: FalseAlarms | O1: Group Avg | P1: STDERR | Q1: PNoGo | R1: Group Avg | S1: STDERR | T1: Pomission | U1: Group Avg | V1: STDERR | W1: Pinhibition | X1: Group Avg | Y1: STDERR | Z1: PreCue Response Rate | AA1: Group Avg | AB1: STDERR
A2: 1 | B2: + | C2: 0Hz | D2: NoTreatment | E2: 16 | F2: 14 | G2: =E2-F2 -> 2 | H2: 17 | I2: 13 | J2: =H2-I2 -> 4 | K2: =F2/E2 -> 0.875 | L2: =AVERAGE(K2:K8) -> 0.85340136 | M2: =_xlfn.STDEV.P(K2:K8)/SQRT(7) -> 0.010035969 | N2: =J2/H2 -> 0.23529412 | O2: =AVERAGE(N2:N8) -> 0.25776311 | P2: =_xlfn.STDEV.P(N2:N8)/SQRT(7) -> 0.0057595849 | Q2: =I2/H2 -> 0.76470588 | R2: =AVERAGE(Q2:Q8) -> 0.74223689 | S2: =_xlfn.STDEV.P(Q2:Q8)/SQRT(7) -> 0.0057595849 | T2: =G2/E2 -> 0.125 | U2: =AVERAGE(T2:T8) -> 0.14659864 | V2: =_xlfn.STDEV.P(T2:T8)/SQRT(7) -> 0.010035969 | W2: =(Q2-T2)/(1-T2) -> 0.73109244 | X2: =AVERAGE(W2:W8) -> 0.69786519 | Y2: =_xlfn.STDEV.P(W2:W8)/SQRT(7) -> 0.0062406601 | Z2: =18/993 -> 0.018126888 | AA2: =AVERAGE(Z2:Z8) -> 0.018157229 | AB2: =_xlfn.STDEV.P(Z2:Z8)/SQRT(7) -> 0.0028720456
A3: 2 | B3: + | C3: 0Hz | D3: NoTreatment | E3: 15 | F3: 13 | G3: =E3-F3 -> 2 | H3: 15 | I3: 11 | J3: =H3-I3 -> 4 | K3: =F3/E3 -> 0.86666667 | N3: =J3/H3 -> 0.26666667 | Q3: =I3/H3 -> 0.73333333 | T3: =G3/E3 -> 0.13333333 | W3: =(Q3-T3)/(1-T3) -> 0.69230769 | Z3: =9/994 -> 0.009054326
A4: 3 | B4: + | C4: 0Hz | D4: NoTreatment | E4: 16 | F4: 14 | G4: =E4-F4 -> 2 | H4: 14 | I4: 10 | J4: =H4-I4 -> 4 | K4: =F4/E4 -> 0.875 | N4: =J4/H4 -> 0.28571429 | Q4: =I4/H4 -> 0.71428571 | T4: =G4/E4 -> 0.125 | W4: =(Q4-T4)/(1-T4) -> 0.67346939 | Z4: =30/1011 -> 0.029673591
A5: 4 | B5: + | C5: 0Hz | D5: NoTreatment | E5: 14 | F5: 12 | G5: =E5-F5 -> 2 | H5: 16 | I5: 12 | J5: =H5-I5 -> 4 | K5: =F5/E5 -> 0.85714286 | N5: =J5/H5 -> 0.25 | Q5: =I5/H5 -> 0.75 | T5: =G5/E5 -> 0.14285714 | W5: =(Q5-T5)/(1-T5) -> 0.70833333 | Z5: =29/1000 -> 0.029
A6: 5 | B6: + | C6: 0Hz | D6: NoTreatment | E6: 16 | F6: 13 | G6: =E6-F6 -> 3 | H6: 16 | I6: 12 | J6: =H6-I6 -> 4 | K6: =F6/E6 -> 0.8125 | N6: =J6/H6 -> 0.25 | Q6: =I6/H6 -> 0.75 | T6: =G6/E6 -> 0.1875 | W6: =(Q6-T6)/(1-T6) -> 0.69230769 | Z6: =11/992 -> 0.01108871
A7: 6 | B7: + | C7: 0Hz | D7: NoTreatment | E7: 16 | F7: 14 | G7: =E7-F7 -> 2 | H7: 15 | I7: 11 | J7: =H7-I7 -> 4 | K7: =F7/E7 -> 0.875 | N7: =J7/H7 -> 0.26666667 | Q7: =I7/H7 -> 0.73333333 | T7: =G7/E7 -> 0.125 | W7: =(Q7-T7)/(1-T7) -> 0.6952381 | Z7: =14/998 -> 0.014028056
A8: 7 | B8: + | C8: 0Hz | D8: NoTreatment | E8: 16 | F8: 13 | G8: =E8-F8 -> 3 | H8: 16 | I8: 12 | J8: =H8-I8 -> 4 | K8: =F8/E8 -> 0.8125 | N8: =J8/H8 -> 0.25 | Q8: =I8/H8 -> 0.75 | T8: =G8/E8 -> 0.1875 | W8: =(Q8-T8)/(1-T8) -> 0.69230769 | Z8: =16/992 -> 0.016129032
A9: 8 | B9: - | C9: 0Hz | D9: NoTreatment | E9: 15 | F9: 13 | G9: =E9-F9 -> 2 | H9: 16 | I9: 12 | J9: =H9-I9 -> 4 | K9: =F9/E9 -> 0.86666667 | L9: =AVERAGE(K9:K15) -> 0.8452381 | M9: =_xlfn.STDEV.P(K9:K15)/SQRT(7) -> 0.027256817 | N9: =J9/H9 -> 0.25 | O9: =AVERAGE(N9:N15) -> 0.21065426 | P9: =_xlfn.STDEV.P(N9:N15)/SQRT(7) -> 0.0084124098 | Q9: =I9/H9 -> 0.75 | R9: =AVERAGE(Q9:Q15) -> 0.78934574 | S9: =_xlfn.STDEV.P(Q9:Q15)/SQRT(7) -> 0.0084124098 | T9: =G9/E9 -> 0.13333333 | U9: =AVERAGE(T9:T15) -> 0.1547619 | V9: =_xlfn.STDEV.P(T9:T15)/SQRT(7) -> 0.027256817 | W9: =(Q9-T9)/(1-T9) -> 0.71153846 | X9: =AVERAGE(W9:W15) -> 0.74835044 | Y9: =_xlfn.STDEV.P(W9:W15)/SQRT(7) -> 0.014205954 | Z9: =33/995 -> 0.033165829 | AA9: =AVERAGE(Z9:Z15) -> 0.018380327 | AB9: =_xlfn.STDEV.P(Z9:Z15)/SQRT(7) -> 0.004182329
A10: 9 | B10: - | C10: 0Hz | D10: NoTreatment | E10: 16 | F10: 14 | G10: =E10-F10 -> 2 | H10: 15 | I10: 12 | J10: =H10-I10 -> 3 | K10: =F10/E10 -> 0.875 | N10: =J10/H10 -> 0.2 | Q10: =I10/H10 -> 0.8 | T10: =G10/E10 -> 0.125 | W10: =(Q10-T10)/(1-T10) -> 0.77142857 | Z10: =8/1007 -> 0.0079443893
A11: 10 | B11: - | C11: 0Hz | D11: NoTreatment | E11: 15 | F11: 13 | G11: =E11-F11 -> 2 | H11: 17 | I11: 13 | J11: =H11-I11 -> 4 | K11: =F11/E11 -> 0.86666667 | N11: =J11/H11 -> 0.23529412 | Q11: =I11/H11 -> 0.76470588 | T11: =G11/E11 -> 0.13333333 | W11: =(Q11-T11)/(1-T11) -> 0.72850679 | Z11: =4/996 -> 0.0040160643
A12: 11 | B12: - | C12: 0Hz | D12: NoTreatment | E12: 16 | F12: 13 | G12: =E12-F12 -> 3 | H12: 15 | I12: 12 | J12: =H12-I12 -> 3 | K12: =F12/E12 -> 0.8125 | N12: =J12/H12 -> 0.2 | Q12: =I12/H12 -> 0.8 | T12: =G12/E12 -> 0.1875 | W12: =(Q12-T12)/(1-T12) -> 0.75384615 | Z12: =6/1008 -> 0.005952381
A13: 12 | B13: - | C13: 0Hz | D13: NoTreatment | E13: 16 | F13: 11 | G13: =E13-F13 -> 5 | H13: 14 | I13: 11 | J13: =H13-I13 -> 3 | K13: =F13/E13 -> 0.6875 | N13: =J13/H13 -> 0.21428571 | Q13: =I13/H13 -> 0.78571429 | T13: =G13/E13 -> 0.3125 | W13: =(Q13-T13)/(1-T13) -> 0.68831169 | Z13: =27/1014 -> 0.026627219
A14: 13 | B14: - | C14: 0Hz | D14: NoTreatment | E14: 15 | F14: 14 | G14: =E14-F14 -> 1 | H14: 16 | I14: 13 | J14: =H14-I14 -> 3 | K14: =F14/E14 -> 0.93333333 | N14: =J14/H14 -> 0.1875 | Q14: =I14/H14 -> 0.8125 | T14: =G14/E14 -> 0.066666667 | W14: =(Q14-T14)/(1-T14) -> 0.79910714 | Z14: =26/1016 -> 0.025590551
A15: 14 | B15: - | C15: 0Hz | D15: NoTreatment | E15: 16 | F15: 14 | G15: =E15-F15 -> 2 | H15: 16 | I15: 13 | J15: =H15-I15 -> 3 | K15: =F15/E15 -> 0.875 | N15: =J15/H15 -> 0.1875 | Q15: =I15/H15 -> 0.8125 | T15: =G15/E15 -> 0.125 | W15: =(Q15-T15)/(1-T15) -> 0.78571429 | Z15: =26/1025 -> 0.025365854
A16: 1 | B16: + | C16: 5Hz | D16: NoTreatment | E16: 16 | F16: 14 | G16: =E16-F16 -> 2 | H16: 15 | I16: 10 | J16: =H16-I16 -> 5 | K16: =F16/E16 -> 0.875 | L16: =AVERAGE(K16:K22) -> 0.87366947 | M16: =_xlfn.STDEV.P(K16:K22)/SQRT(7) -> 0.0019196217 | N16: =J16/H16 -> 0.33333333 | O16: =AVERAGE(N16:N22) -> 0.3452381 | P16: =_xlfn.STDEV.P(N16:N22)/SQRT(7) -> 0.020558193 | Q16: =I16/H16 -> 0.66666667 | R16: =AVERAGE(Q16:Q22) -> 0.6547619 | S16: =_xlfn.STDEV.P(Q16:Q22)/SQRT(7) -> 0.020558193 | T16: =G16/E16 -> 0.125 | U16: =AVERAGE(T16:T22) -> 0.12633053 | V16: =_xlfn.STDEV.P(T16:T22)/SQRT(7) -> 0.0019196217 | W16: =(Q16-T16)/(1-T16) -> 0.61904762 | X16: =AVERAGE(W16:W22) -> 0.60467687 | Y16: =_xlfn.STDEV.P(W16:W22)/SQRT(7) -> 0.023968053 | Z16: =7/987 -> 0.0070921986 | AA16: =AVERAGE(Z16:Z22) -> 0.0097506767 | AB16: =_xlfn.STDEV.P(Z16:Z22)/SQRT(7) -> 0.0024691928
A17: 2 | B17: + | C17: 5Hz | D17: NoTreatment | E17: 17 | F17: 15 | G17: =E17-F17 -> 2 | H17: 16 | I17: 10 | J17: =H17-I17 -> 6 | K17: =F17/E17 -> 0.88235294 | N17: =J17/H17 -> 0.375 | Q17: =I17/H17 -> 0.625 | T17: =G17/E17 -> 0.11764706 | W17: =(Q17-T17)/(1-T17) -> 0.575 | Z17: =3/995 -> 0.0030150754
A18: 3 | B18: + | C18: 5Hz | D18: NoTreatment | E18: 15 | F18: 13 | G18: =E18-F18 -> 2 | H18: 16 | I18: 9 | J18: =H18-I18 -> 7 | K18: =F18/E18 -> 0.86666667 | N18: =J18/H18 -> 0.4375 | Q18: =I18/H18 -> 0.5625 | T18: =G18/E18 -> 0.13333333 | W18: =(Q18-T18)/(1-T18) -> 0.49519231 | Z18: =6/1015 -> 0.00591133
A19: 4 | B19: + | C19: 5Hz | D19: NoTreatment | E19: 16 | F19: 14 | G19: =E19-F19 -> 2 | H19: 15 | I19: 10 | J19: =H19-I19 -> 5 | K19: =F19/E19 -> 0.875 | N19: =J19/H19 -> 0.33333333 | Q19: =I19/H19 -> 0.66666667 | T19: =G19/E19 -> 0.125 | W19: =(Q19-T19)/(1-T19) -> 0.61904762 | Z19: =2/999 -> 0.002002002
A20: 5 | B20: + | C20: 5Hz | D20: NoTreatment | E20: 16 | F20: 14 | G20: =E20-F20 -> 2 | H20: 16 | I20: 11 | J20: =H20-I20 -> 5 | K20: =F20/E20 -> 0.875 | N20: =J20/H20 -> 0.3125 | Q20: =I20/H20 -> 0.6875 | T20: =G20/E20 -> 0.125 | W20: =(Q20-T20)/(1-T20) -> 0.64285714 | Z20: =19/1019 -> 0.018645731
A21: 6 | B21: + | C21: 5Hz | D21: NoTreatment | E21: 15 | F21: 13 | G21: =E21-F21 -> 2 | H21: 16 | I21: 10 | J21: =H21-I21 -> 6 | K21: =F21/E21 -> 0.86666667 | N21: =J21/H21 -> 0.375 | Q21: =I21/H21 -> 0.625 | T21: =G21/E21 -> 0.13333333 | W21: =(Q21-T21)/(1-T21) -> 0.56730769 | Z21: =19/1005 -> 0.018905473
A22: 7 | B22: + | C22: 5Hz | D22: NoTreatment | E22: 16 | F22: 14 | G22: =E22-F22 -> 2 | H22: 16 | I22: 12 | J22: =H22-I22 -> 4 | K22: =F22/E22 -> 0.875 | N22: =J22/H22 -> 0.25 | Q22: =I22/H22 -> 0.75 | T22: =G22/E22 -> 0.125 | W22: =(Q22-T22)/(1-T22) -> 0.71428571 | Z22: =13/1025 -> 0.012682927
A23: 8 | B23: - | C23: 5Hz | D23: NoTreatment | E23: 17 | F23: 15 | G23: =E23-F23 -> 2 | H23: 16 | I23: 12 | J23: =H23-I23 -> 4 | K23: =F23/E23 -> 0.88235294 | L23: =AVERAGE(K23:K29) -> 0.85453681 | M23: =_xlfn.STDEV.P(K23:K29)/SQRT(7) -> 0.020032071 | N23: =J23/H23 -> 0.25 | O23: =AVERAGE(N23:N29) -> 0.23333333 | P23: =_xlfn.STDEV.P(N23:N29)/SQRT(7) -> 0.019938255 | Q23: =I23/H23 -> 0.75 | R23: =AVERAGE(Q23:Q29) -> 0.76666667 | S23: =_xlfn.STDEV.P(Q23:Q29)/SQRT(7) -> 0.019938255 | T23: =G23/E23 -> 0.11764706 | U23: =AVERAGE(T23:T29) -> 0.14546319 | V23: =_xlfn.STDEV.P(T23:T29)/SQRT(7) -> 0.020032071 | W23: =(Q23-T23)/(1-T23) -> 0.71666667 | X23: =AVERAGE(W23:W29) -> 0.72626897 | Y23: =_xlfn.STDEV.P(W23:W29)/SQRT(7) -> 0.023498811 | Z23: =19/1010 -> 0.018811881 | AA23: =AVERAGE(Z23:Z29) -> 0.014013207 | AB23: =_xlfn.STDEV.P(Z23:Z29)/SQRT(7) -> 0.0021968929
A24: 9 | B24: - | C24: 5Hz | D24: NoTreatment | E24: 15 | F24: 13 | G24: =E24-F24 -> 2 | H24: 15 | I24: 13 | J24: =H24-I24 -> 2 | K24: =F24/E24 -> 0.86666667 | N24: =J24/H24 -> 0.13333333 | Q24: =I24/H24 -> 0.86666667 | T24: =G24/E24 -> 0.13333333 | W24: =(Q24-T24)/(1-T24) -> 0.84615385 | Z24: =21/1011 -> 0.020771513
A25: 10 | B25: - | C25: 5Hz | D25: NoTreatment | E25: 14 | F25: 13 | G25: =E25-F25 -> 1 | H25: 16 | I25: 12 | J25: =H25-I25 -> 4 | K25: =F25/E25 -> 0.92857143 | N25: =J25/H25 -> 0.25 | Q25: =I25/H25 -> 0.75 | T25: =G25/E25 -> 0.071428571 | W25: =(Q25-T25)/(1-T25) -> 0.73076923 | Z25: =6/980 -> 0.006122449
A26: 11 | B26: - | C26: 5Hz | D26: NoTreatment | E26: 16 | F26: 13 | G26: =E26-F26 -> 3 | H26: 16 | I26: 13 | J26: =H26-I26 -> 3 | K26: =F26/E26 -> 0.8125 | N26: =J26/H26 -> 0.1875 | Q26: =I26/H26 -> 0.8125 | T26: =G26/E26 -> 0.1875 | W26: =(Q26-T26)/(1-T26) -> 0.76923077 | Z26: =6/990 -> 0.0060606061
A27: 12 | B27: - | C27: 5Hz | D27: NoTreatment | E27: 16 | F27: 14 | G27: =E27-F27 -> 2 | H27: 16 | I27: 11 | J27: =H27-I27 -> 5 | K27: =F27/E27 -> 0.875 | N27: =J27/H27 -> 0.3125 | Q27: =I27/H27 -> 0.6875 | T27: =G27/E27 -> 0.125 | W27: =(Q27-T27)/(1-T27) -> 0.64285714 | Z27: =13/1012 -> 0.01284585
A28: 13 | B28: - | C28: 5Hz | D28: NoTreatment | E28: 15 | F28: 13 | G28: =E28-F28 -> 2 | H28: 16 | I28: 12 | J28: =H28-I28 -> 4 | K28: =F28/E28 -> 0.86666667 | N28: =J28/H28 -> 0.25 | Q28: =I28/H28 -> 0.75 | T28: =G28/E28 -> 0.13333333 | W28: =(Q28-T28)/(1-T28) -> 0.71153846 | Z28: =13/990 -> 0.013131313
A29: 14 | B29: - | C29: 5Hz | D29: NoTreatment | E29: 16 | F29: 12 | G29: =E29-F29 -> 4 | H29: 16 | I29: 12 | J29: =H29-I29 -> 4 | K29: =F29/E29 -> 0.75 | N29: =J29/H29 -> 0.25 | Q29: =I29/H29 -> 0.75 | T29: =G29/E29 -> 0.25 | W29: =(Q29-T29)/(1-T29) -> 0.66666667 | Z29: =21/1032 -> 0.020348837
A30: 1 | B30: + | C30: 10Hz | D30: NoTreatment | E30: 16 | F30: 14 | G30: =E30-F30 -> 2 | H30: 15 | I30: 6 | J30: =H30-I30 -> 9 | K30: =F30/E30 -> 0.875 | L30: =AVERAGE(K30:K36) -> 0.83676471 | M30: =_xlfn.STDEV.P(K30:K36)/SQRT(7) -> 0.01346424 | N30: =J30/H30 -> 0.6 | O30: =AVERAGE(N30:N36) -> 0.57689076 | P30: =_xlfn.STDEV.P(N30:N36)/SQRT(7) -> 0.0064288068 | Q30: =I30/H30 -> 0.4 | R30: =AVERAGE(Q30:Q36) -> 0.42310924 | S30: =_xlfn.STDEV.P(Q30:Q36)/SQRT(7) -> 0.0064288068 | T30: =G30/E30 -> 0.125 | U30: =AVERAGE(T30:T36) -> 0.16323529 | V30: =_xlfn.STDEV.P(T30:T36)/SQRT(7) -> 0.01346424 | W30: =(Q30-T30)/(1-T30) -> 0.31428571 | X30: =AVERAGE(W30:W36) -> 0.30984128 | Y30: =_xlfn.STDEV.P(W30:W36)/SQRT(7) -> 0.0088586015 | Z30: =28/989 -> 0.028311426 | AA30: =AVERAGE(Z30:Z36) -> 0.049836905 | AB30: =_xlfn.STDEV.P(Z30:Z36)/SQRT(7) -> 0.017017014
A31: 2 | B31: + | C31: 10Hz | D31: NoTreatment | E31: 15 | F31: 12 | G31: =E31-F31 -> 3 | H31: 16 | I31: 7 | J31: =H31-I31 -> 9 | K31: =F31/E31 -> 0.8 | N31: =J31/H31 -> 0.5625 | Q31: =I31/H31 -> 0.4375 | T31: =G31/E31 -> 0.2 | W31: =(Q31-T31)/(1-T31) -> 0.296875 | Z31: =27/1035 -> 0.026086957
A32: 3 | B32: + | C32: 10Hz | D32: NoTreatment | E32: 16 | F32: 13 | G32: =E32-F32 -> 3 | H32: 16 | I32: 7 | J32: =H32-I32 -> 9 | K32: =F32/E32 -> 0.8125 | N32: =J32/H32 -> 0.5625 | Q32: =I32/H32 -> 0.4375 | T32: =G32/E32 -> 0.1875 | W32: =(Q32-T32)/(1-T32) -> 0.30769231 | Z32: =58/1001 -> 0.057942058
A33: 4 | B33: + | C33: 10Hz | D33: NoTreatment | E33: 16 | F33: 13 | G33: =E33-F33 -> 3 | H33: 17 | I33: 7 | J33: =H33-I33 -> 10 | K33: =F33/E33 -> 0.8125 | N33: =J33/H33 -> 0.58823529 | Q33: =I33/H33 -> 0.41176471 | T33: =G33/E33 -> 0.1875 | W33: =(Q33-T33)/(1-T33) -> 0.2760181 | Z33: =27/1035 -> 0.026086957
A34: 5 | B34: + | C34: 10Hz | D34: NoTreatment | E34: 17 | F34: 15 | G34: =E34-F34 -> 2 | H34: 15 | I34: 6 | J34: =H34-I34 -> 9 | K34: =F34/E34 -> 0.88235294 | N34: =J34/H34 -> 0.6 | Q34: =I34/H34 -> 0.4 | T34: =G34/E34 -> 0.11764706 | W34: =(Q34-T34)/(1-T34) -> 0.32 | Z34: =21/1013 -> 0.020730503
A35: 6 | B35: + | C35: 10Hz | D35: NoTreatment | E35: 15 | F35: 12 | G35: =E35-F35 -> 3 | H35: 16 | I35: 7 | J35: =H35-I35 -> 9 | K35: =F35/E35 -> 0.8 | N35: =J35/H35 -> 0.5625 | Q35: =I35/H35 -> 0.4375 | T35: =G35/E35 -> 0.2 | W35: =(Q35-T35)/(1-T35) -> 0.296875 | Z35: =156/996 -> 0.15662651
A36: 7 | B36: + | C36: 10Hz | D36: NoTreatment | E36: 16 | F36: 14 | G36: =E36-F36 -> 2 | H36: 16 | I36: 7 | J36: =H36-I36 -> 9 | K36: =F36/E36 -> 0.875 | N36: =J36/H36 -> 0.5625 | Q36: =I36/H36 -> 0.4375 | T36: =G36/E36 -> 0.125 | W36: =(Q36-T36)/(1-T36) -> 0.35714286 | Z36: =34/1028 -> 0.03307393
A37: 8 | B37: - | C37: 10Hz | D37: NoTreatment | E37: 16 | F37: 13 | G37: =E37-F37 -> 3 | H37: 15 | I37: 11 | J37: =H37-I37 -> 4 | K37: =F37/E37 -> 0.8125 | L37: =AVERAGE(K37:K43) -> 0.83571429 | M37: =_xlfn.STDEV.P(K37:K43)/SQRT(7) -> 0.018110448 | N37: =J37/H37 -> 0.26666667 | O37: =AVERAGE(N37:N43) -> 0.2547619 | P37: =_xlfn.STDEV.P(N37:N43)/SQRT(7) -> 0.0028457824 | Q37: =I37/H37 -> 0.73333333 | R37: =AVERAGE(Q37:Q43) -> 0.7452381 | S37: =_xlfn.STDEV.P(Q37:Q43)/SQRT(7) -> 0.0028457824 | T37: =G37/E37 -> 0.1875 | U37: =AVERAGE(T37:T43) -> 0.16428571 | V37: =_xlfn.STDEV.P(T37:T43)/SQRT(7) -> 0.018110448 | W37: =(Q37-T37)/(1-T37) -> 0.67179487 | X37: =AVERAGE(W37:W43) -> 0.69407378 | Y37: =_xlfn.STDEV.P(W37:W43)/SQRT(7) -> 0.0078663356 | Z37: =33/1046 -> 0.031548757 | AA37: =AVERAGE(Z37:Z43) -> 0.038216324 | AB37: =_xlfn.STDEV.P(Z37:Z43)/SQRT(7) -> 0.002347881
A38: 9 | B38: - | C38: 10Hz | D38: NoTreatment | E38: 15 | F38: 12 | G38: =E38-F38 -> 3 | H38: 16 | I38: 12 | J38: =H38-I38 -> 4 | K38: =F38/E38 -> 0.8 | N38: =J38/H38 -> 0.25 | Q38: =I38/H38 -> 0.75 | T38: =G38/E38 -> 0.2 | W38: =(Q38-T38)/(1-T38) -> 0.6875 | Z38: =40/1058 -> 0.037807183
A39: 10 | B39: - | C39: 10Hz | D39: NoTreatment | E39: 16 | F39: 15 | G39: =E39-F39 -> 1 | H39: 16 | I39: 12 | J39: =H39-I39 -> 4 | K39: =F39/E39 -> 0.9375 | N39: =J39/H39 -> 0.25 | Q39: =I39/H39 -> 0.75 | T39: =G39/E39 -> 0.0625 | W39: =(Q39-T39)/(1-T39) -> 0.73333333 | Z39: =53/1020 -> 0.051960784
A40: 11 | B40: - | C40: 10Hz | D40: NoTreatment | E40: 16 | F40: 13 | G40: =E40-F40 -> 3 | H40: 16 | I40: 12 | J40: =H40-I40 -> 4 | K40: =F40/E40 -> 0.8125 | N40: =J40/H40 -> 0.25 | Q40: =I40/H40 -> 0.75 | T40: =G40/E40 -> 0.1875 | W40: =(Q40-T40)/(1-T40) -> 0.69230769 | Z40: =36/1036 -> 0.034749035
A41: 12 | B41: - | C41: 10Hz | D41: NoTreatment | E41: 16 | F41: 14 | G41: =E41-F41 -> 2 | H41: 16 | I41: 12 | J41: =H41-I41 -> 4 | K41: =F41/E41 -> 0.875 | N41: =J41/H41 -> 0.25 | Q41: =I41/H41 -> 0.75 | T41: =G41/E41 -> 0.125 | W41: =(Q41-T41)/(1-T41) -> 0.71428571 | Z41: =42/1040 -> 0.040384615
A42: 13 | B42: - | C42: 10Hz | D42: NoTreatment | E42: 16 | F42: 13 | G42: =E42-F42 -> 3 | H42: 15 | I42: 11 | J42: =H42-I42 -> 4 | K42: =F42/E42 -> 0.8125 | N42: =J42/H42 -> 0.26666667 | Q42: =I42/H42 -> 0.73333333 | T42: =G42/E42 -> 0.1875 | W42: =(Q42-T42)/(1-T42) -> 0.67179487 | Z42: =38/1022 -> 0.037181996
A43: 14 | B43: - | C43: 10Hz | D43: NoTreatment | E43: 15 | F43: 12 | G43: =E43-F43 -> 3 | H43: 16 | I43: 12 | J43: =H43-I43 -> 4 | K43: =F43/E43 -> 0.8 | N43: =J43/H43 -> 0.25 | Q43: =I43/H43 -> 0.75 | T43: =G43/E43 -> 0.2 | W43: =(Q43-T43)/(1-T43) -> 0.6875 | Z43: =35/1033 -> 0.033881897
A44: 1 | B44: + | C44: 5Hz | D44: Ctrl-IP | E44: 14 | F44: 12 | G44: =E44-F44 -> 2 | H44: 16 | I44: 10 | J44: =H44-I44 -> 6 | K44: =F44/E44 -> 0.85714286 | L44: =AVERAGE(K44:K50) -> 0.85280612 | M44: =_xlfn.STDEV.P(K44:K50)/SQRT(7) -> 0.017032173 | N44: =J44/H44 -> 0.375 | O44: =AVERAGE(N44:N50) -> 0.33368347 | P44: =_xlfn.STDEV.P(N44:N50)/SQRT(7) -> 0.010951926 | Q44: =I44/H44 -> 0.625 | R44: =AVERAGE(Q44:Q50) -> 0.66631653 | S44: =_xlfn.STDEV.P(Q44:Q50)/SQRT(7) -> 0.010951926 | T44: =G44/E44 -> 0.14285714 | U44: =AVERAGE(T44:T50) -> 0.14719388 | V44: =_xlfn.STDEV.P(T44:T50)/SQRT(7) -> 0.017032173 | W44: =(Q44-T44)/(1-T44) -> 0.5625 | X44: =AVERAGE(W44:W50) -> 0.60741098 | Y44: =_xlfn.STDEV.P(W44:W50)/SQRT(7) -> 0.016060254 | Z44: =6/978 -> 0.0061349693 | AA44: =AVERAGE(Z44:Z50) -> 0.014943915 | AB44: =_xlfn.STDEV.P(Z44:Z50)/SQRT(7) -> 0.0025468295
A45: 2 | B45: + | C45: 5Hz | D45: Ctrl-IP | E45: 16 | F45: 14 | G45: =E45-F45 -> 2 | H45: 15 | I45: 10 | J45: =H45-I45 -> 5 | K45: =F45/E45 -> 0.875 | N45: =J45/H45 -> 0.33333333 | Q45: =I45/H45 -> 0.66666667 | T45: =G45/E45 -> 0.125 | W45: =(Q45-T45)/(1-T45) -> 0.61904762 | Z45: =6/984 -> 0.006097561
A46: 3 | B46: + | C46: 5Hz | D46: Ctrl-IP | E46: 16 | F46: 13 | G46: =E46-F46 -> 3 | H46: 16 | I46: 11 | J46: =H46-I46 -> 5 | K46: =F46/E46 -> 0.8125 | N46: =J46/H46 -> 0.3125 | Q46: =I46/H46 -> 0.6875 | T46: =G46/E46 -> 0.1875 | W46: =(Q46-T46)/(1-T46) -> 0.61538462 | Z46: =19/986 -> 0.019269777
A47: 4 | B47: + | C47: 5Hz | D47: Ctrl-IP | E47: 15 | F47: 12 | G47: =E47-F47 -> 3 | H47: 16 | I47: 10 | J47: =H47-I47 -> 6 | K47: =F47/E47 -> 0.8 | N47: =J47/H47 -> 0.375 | Q47: =I47/H47 -> 0.625 | T47: =G47/E47 -> 0.2 | W47: =(Q47-T47)/(1-T47) -> 0.53125 | Z47: =27/1005 -> 0.026865672
A48: 5 | B48: + | C48: 5Hz | D48: Ctrl-IP | E48: 16 | F48: 14 | G48: =E48-F48 -> 2 | H48: 17 | I48: 12 | J48: =H48-I48 -> 5 | K48: =F48/E48 -> 0.875 | N48: =J48/H48 -> 0.29411765 | Q48: =I48/H48 -> 0.70588235 | T48: =G48/E48 -> 0.125 | W48: =(Q48-T48)/(1-T48) -> 0.66386555 | Z48: =16/1019 -> 0.015701668
A49: 6 | B49: + | C49: 5Hz | D49: Ctrl-IP | E49: 16 | F49: 15 | G49: =E49-F49 -> 1 | H49: 15 | I49: 10 | J49: =H49-I49 -> 5 | K49: =F49/E49 -> 0.9375 | N49: =J49/H49 -> 0.33333333 | Q49: =I49/H49 -> 0.66666667 | T49: =G49/E49 -> 0.0625 | W49: =(Q49-T49)/(1-T49) -> 0.64444444 | Z49: =16/1020 -> 0.015686275
A50: 7 | B50: + | C50: 5Hz | D50: Ctrl-IP | E50: 16 | F50: 13 | G50: =E50-F50 -> 3 | H50: 16 | I50: 11 | J50: =H50-I50 -> 5 | K50: =F50/E50 -> 0.8125 | N50: =J50/H50 -> 0.3125 | Q50: =I50/H50 -> 0.6875 | T50: =G50/E50 -> 0.1875 | W50: =(Q50-T50)/(1-T50) -> 0.61538462 | Z50: =15/1010 -> 0.014851485
A51: 8 | B51: - | C51: 5Hz | D51: Ctrl-IP | E51: 16 | F51: 14 | G51: =E51-F51 -> 2 | H51: 16 | I51: =H51*0.75 -> 12 | J51: =H51-I51 -> 4 | K51: =F51/E51 -> 0.875 | L51: =AVERAGE(K51:K57) -> 0.88191777 | M51: =_xlfn.STDEV.P(K51:K57)/SQRT(7) -> 0.014262443 | N51: =J51/H51 -> 0.25 | O51: =AVERAGE(N51:N57) -> 0.2452381 | P51: =_xlfn.STDEV.P(N51:N57)/SQRT(7) -> 0.014590707 | Q51: =I51/H51 -> 0.75 | R51: =AVERAGE(Q51:Q57) -> 0.7547619 | S51: =_xlfn.STDEV.P(Q51:Q57)/SQRT(7) -> 0.014590707 | T51: =G51/E51 -> 0.125 | U51: =AVERAGE(T51:T57) -> 0.11808223 | V51: =_xlfn.STDEV.P(T51:T57)/SQRT(7) -> 0.014262443 | W51: =(Q51-T51)/(1-T51) -> 0.71428571 | X51: =AVERAGE(W51:W57) -> 0.72232775 | Y51: =_xlfn.STDEV.P(W51:W57)/SQRT(7) -> 0.014660398 | Z51: =15/995 -> 0.015075377 | AA51: =AVERAGE(Z51:Z57) -> 0.013394228 | AB51: =_xlfn.STDEV.P(Z51:Z57)/SQRT(7) -> 0.0031170379
A52: 9 | B52: - | C52: 5Hz | D52: Ctrl-IP | E52: 15 | F52: 14 | G52: =E52-F52 -> 1 | H52: 15 | I52: 12 | J52: =H52-I52 -> 3 | K52: =F52/E52 -> 0.93333333 | N52: =J52/H52 -> 0.2 | Q52: =I52/H52 -> 0.8 | T52: =G52/E52 -> 0.066666667 | W52: =(Q52-T52)/(1-T52) -> 0.78571429 | Z52: =28/1009 -> 0.027750248
A53: 10 | B53: - | C53: 5Hz | D53: Ctrl-IP | E53: 16 | F53: 14 | G53: =E53-F53 -> 2 | H53: 16 | I53: =H53*0.75 -> 12 | J53: =H53-I53 -> 4 | K53: =F53/E53 -> 0.875 | N53: =J53/H53 -> 0.25 | Q53: =I53/H53 -> 0.75 | T53: =G53/E53 -> 0.125 | W53: =(Q53-T53)/(1-T53) -> 0.71428571 | Z53: =21/1006 -> 0.020874751
A54: 11 | B54: - | C54: 5Hz | D54: Ctrl-IP | E54: 16 | F54: 13 | G54: =E54-F54 -> 3 | H54: 16 | I54: 13 | J54: =H54-I54 -> 3 | K54: =F54/E54 -> 0.8125 | N54: =J54/H54 -> 0.1875 | Q54: =I54/H54 -> 0.8125 | T54: =G54/E54 -> 0.1875 | W54: =(Q54-T54)/(1-T54) -> 0.76923077 | Z54: =14/1007 -> 0.013902681
A55: 12 | B55: - | C55: 5Hz | D55: Ctrl-IP | E55: 17 | F55: 15 | G55: =E55-F55 -> 2 | H55: 15 | I55: 11 | J55: =H55-I55 -> 4 | K55: =F55/E55 -> 0.88235294 | N55: =J55/H55 -> 0.26666667 | Q55: =I55/H55 -> 0.73333333 | T55: =G55/E55 -> 0.11764706 | W55: =(Q55-T55)/(1-T55) -> 0.69777778 | Z55: =2/990 -> 0.002020202
A56: 13 | B56: - | C56: 5Hz | D56: Ctrl-IP | E56: 15 | F56: 13 | G56: =E56-F56 -> 2 | H56: 16 | I56: =H56*0.75 -> 12 | J56: =H56-I56 -> 4 | K56: =F56/E56 -> 0.86666667 | N56: =J56/H56 -> 0.25 | Q56: =I56/H56 -> 0.75 | T56: =G56/E56 -> 0.13333333 | W56: =(Q56-T56)/(1-T56) -> 0.71153846 | Z56: =8/1007 -> 0.0079443893
A57: 14 | B57: - | C57: 5Hz | D57: Ctrl-IP | E57: 14 | F57: 13 | G57: =E57-F57 -> 1 | H57: 16 | I57: 11 | J57: =H57-I57 -> 5 | K57: =F57/E57 -> 0.92857143 | N57: =J57/H57 -> 0.3125 | Q57: =I57/H57 -> 0.6875 | T57: =G57/E57 -> 0.071428571 | W57: =(Q57-T57)/(1-T57) -> 0.66346154 | Z57: =6/969 -> 0.0061919505
A58: 1 | B58: + | C58: 5Hz | D58: Amph 1 | E58: 16 | F58: 13 | G58: =E58-F58 -> 3 | H58: 17 | I58: 11 | J58: =H58-I58 -> 6 | K58: =F58/E58 -> 0.8125 | L58: =AVERAGE(K58:K64) -> 0.82857143 | M58: =_xlfn.STDEV.P(K58:K64)/SQRT(7) -> 0.011212888 | N58: =J58/H58 -> 0.35294118 | O58: =AVERAGE(N58:N64) -> 0.3664916 | P58: =_xlfn.STDEV.P(N58:N64)/SQRT(7) -> 0.0095949511 | Q58: =I58/H58 -> 0.64705882 | R58: =AVERAGE(Q58:Q64) -> 0.6335084 | S58: =_xlfn.STDEV.P(Q58:Q64)/SQRT(7) -> 0.0095949511 | T58: =G58/E58 -> 0.1875 | U58: =AVERAGE(T58:T64) -> 0.17142857 | V58: =_xlfn.STDEV.P(T58:T64)/SQRT(7) -> 0.011212888 | W58: =(Q58-T58)/(1-T58) -> 0.56561086 | X58: =AVERAGE(W58:W64) -> 0.55780803 | Y58: =_xlfn.STDEV.P(W58:W64)/SQRT(7) -> 0.009315277 | Z58: =182/1018 -> 0.17878193 | AA58: =AVERAGE(Z58:Z64) -> 0.17236903 | AB58: =_xlfn.STDEV.P(Z58:Z64)/SQRT(7) -> 0.010152935
A59: 2 | B59: + | C59: 5Hz | D59: Amph 1 | E59: 16 | F59: 13 | G59: =E59-F59 -> 3 | H59: 16 | I59: 10 | J59: =H59-I59 -> 6 | K59: =F59/E59 -> 0.8125 | N59: =J59/H59 -> 0.375 | Q59: =I59/H59 -> 0.625 | T59: =G59/E59 -> 0.1875 | W59: =(Q59-T59)/(1-T59) -> 0.53846154 | Z59: =179/1007 -> 0.17775571
A60: 3 | B60: + | C60: 5Hz | D60: Amph 1 | E60: 15 | F60: 12 | G60: =E60-F60 -> 3 | H60: 16 | I60: 11 | J60: =H60-I60 -> 5 | K60: =F60/E60 -> 0.8 | N60: =J60/H60 -> 0.3125 | Q60: =I60/H60 -> 0.6875 | T60: =G60/E60 -> 0.2 | W60: =(Q60-T60)/(1-T60) -> 0.609375 | Z60: =226/1009 -> 0.22398414
A61: 4 | B61: + | C61: 5Hz | D61: Amph 1 | E61: 16 | F61: 14 | G61: =E61-F61 -> 2 | H61: 16 | I61: 10 | J61: =H61-I61 -> 6 | K61: =F61/E61 -> 0.875 | N61: =J61/H61 -> 0.375 | Q61: =I61/H61 -> 0.625 | T61: =G61/E61 -> 0.125 | W61: =(Q61-T61)/(1-T61) -> 0.57142857 | Z61: =172/1003 -> 0.17148554
A62: 5 | B62: + | C62: 5Hz | D62: Amph 1 | E62: 16 | F62: 13 | G62: =E62-F62 -> 3 | H62: 16 | I62: 10 | J62: =H62-I62 -> 6 | K62: =F62/E62 -> 0.8125 | N62: =J62/H62 -> 0.375 | Q62: =I62/H62 -> 0.625 | T62: =G62/E62 -> 0.1875 | W62: =(Q62-T62)/(1-T62) -> 0.53846154 | Z62: =135/1006 -> 0.13419483
A63: 6 | B63: + | C63: 5Hz | D63: Amph 1 | E63: 16 | F63: 14 | G63: =E63-F63 -> 2 | H63: 15 | I63: 9 | J63: =H63-I63 -> 6 | K63: =F63/E63 -> 0.875 | N63: =J63/H63 -> 0.4 | Q63: =I63/H63 -> 0.6 | T63: =G63/E63 -> 0.125 | W63: =(Q63-T63)/(1-T63) -> 0.54285714 | Z63: =172/972 -> 0.17695473
A64: 7 | B64: + | C64: 5Hz | D64: Amph 1 | E64: 16 | F64: 13 | G64: =E64-F64 -> 3 | H64: 16 | I64: 10 | J64: =H64-I64 -> 6 | K64: =F64/E64 -> 0.8125 | N64: =J64/H64 -> 0.375 | Q64: =I64/H64 -> 0.625 | T64: =G64/E64 -> 0.1875 | W64: =(Q64-T64)/(1-T64) -> 0.53846154 | Z64: =144/1004 -> 0.14342629
A65: 8 | B65: - | C65: 5Hz | D65: Amph 1 | E65: 15 | F65: 12 | G65: =E65-F65 -> 3 | H65: 16 | I65: 10 | J65: =H65-I65 -> 6 | K65: =F65/E65 -> 0.8 | L65: =AVERAGE(K65:K71) -> 0.83676471 | M65: =_xlfn.STDEV.P(K65:K71)/SQRT(7) -> 0.01346424 | N65: =J65/H65 -> 0.375 | O65: =AVERAGE(N65:N71) -> 0.3789916 | P65: =_xlfn.STDEV.P(N65:N71)/SQRT(7) -> 0.005758865 | Q65: =I65/H65 -> 0.625 | R65: =AVERAGE(Q65:Q71) -> 0.6210084 | S65: =_xlfn.STDEV.P(Q65:Q71)/SQRT(7) -> 0.005758865 | T65: =G65/E65 -> 0.2 | U65: =AVERAGE(T65:T71) -> 0.16323529 | V65: =_xlfn.STDEV.P(T65:T71)/SQRT(7) -> 0.01346424 | W65: =(Q65-T65)/(1-T65) -> 0.53125 | X65: =AVERAGE(W65:W71) -> 0.54585026 | Y65: =_xlfn.STDEV.P(W65:W71)/SQRT(7) -> 0.012307134 | Z65: =92/999 -> 0.092092092 | AA65: =AVERAGE(Z65:Z71) -> 0.15128172 | AB65: =_xlfn.STDEV.P(Z65:Z71)/SQRT(7) -> 0.012136723
A66: 9 | B66: - | C66: 5Hz | D66: Amph 1 | E66: 16 | F66: 14 | G66: =E66-F66 -> 2 | H66: 17 | I66: 11 | J66: =H66-I66 -> 6 | K66: =F66/E66 -> 0.875 | N66: =J66/H66 -> 0.35294118 | Q66: =I66/H66 -> 0.64705882 | T66: =G66/E66 -> 0.125 | W66: =(Q66-T66)/(1-T66) -> 0.59663866 | Z66: =133/1016 -> 0.13090551
A67: 10 | B67: - | C67: 5Hz | D67: Amph 1 | E67: 16 | F67: 13 | G67: =E67-F67 -> 3 | H67: 15 | I67: 9 | J67: =H67-I67 -> 6 | K67: =F67/E67 -> 0.8125 | N67: =J67/H67 -> 0.4 | Q67: =I67/H67 -> 0.6 | T67: =G67/E67 -> 0.1875 | W67: =(Q67-T67)/(1-T67) -> 0.50769231 | Z67: =138/997 -> 0.13841525
A68: 11 | B68: - | C68: 5Hz | D68: Amph 1 | E68: 17 | F68: 15 | G68: =E68-F68 -> 2 | H68: 16 | I68: 10 | J68: =H68-I68 -> 6 | K68: =F68/E68 -> 0.88235294 | N68: =J68/H68 -> 0.375 | Q68: =I68/H68 -> 0.625 | T68: =G68/E68 -> 0.11764706 | W68: =(Q68-T68)/(1-T68) -> 0.575 | Z68: =179/1010 -> 0.17722772
A69: 12 | B69: - | C69: 5Hz | D69: Amph 1 | E69: 15 | F69: 12 | G69: =E69-F69 -> 3 | H69: 16 | I69: 10 | J69: =H69-I69 -> 6 | K69: =F69/E69 -> 0.8 | N69: =J69/H69 -> 0.375 | Q69: =I69/H69 -> 0.625 | T69: =G69/E69 -> 0.2 | W69: =(Q69-T69)/(1-T69) -> 0.53125 | Z69: =200/1007 -> 0.19860973
A70: 13 | B70: - | C70: 5Hz | D70: Amph 1 | E70: 16 | F70: 13 | G70: =E70-F70 -> 3 | H70: 15 | I70: 9 | J70: =H70-I70 -> 6 | K70: =F70/E70 -> 0.8125 | N70: =J70/H70 -> 0.4 | Q70: =I70/H70 -> 0.6 | T70: =G70/E70 -> 0.1875 | W70: =(Q70-T70)/(1-T70) -> 0.50769231 | Z70: =155/990 -> 0.15656566
A71: 14 | B71: - | C71: 5Hz | D71: Amph 1 | E71: 16 | F71: 14 | G71: =E71-F71 -> 2 | H71: 16 | I71: 10 | J71: =H71-I71 -> 6 | K71: =F71/E71 -> 0.875 | N71: =J71/H71 -> 0.375 | Q71: =I71/H71 -> 0.625 | T71: =G71/E71 -> 0.125 | W71: =(Q71-T71)/(1-T71) -> 0.57142857 | Z71: =164/993 -> 0.16515609
A72: 1 | B72: + | C72: 5Hz | D72: Amph 2.5 | E72: 15 | F72: 12 | G72: =E72-F72 -> 3 | H72: 16 | I72: 8 | J72: =H72-I72 -> 8 | K72: =F72/E72 -> 0.8 | L72: =AVERAGE(K72:K78) -> 0.81688175 | M72: =_xlfn.STDEV.P(K72:K78)/SQRT(7) -> 0.0068403579 | N72: =J72/H72 -> 0.5 | O72: =AVERAGE(N72:N78) -> 0.47738095 | P72: =_xlfn.STDEV.P(N72:N78)/SQRT(7) -> 0.01044154 | Q72: =I72/H72 -> 0.5 | R72: =AVERAGE(Q72:Q78) -> 0.52261905 | S72: =_xlfn.STDEV.P(Q72:Q78)/SQRT(7) -> 0.01044154 | T72: =G72/E72 -> 0.2 | U72: =AVERAGE(T72:T78) -> 0.18311825 | V72: =_xlfn.STDEV.P(T72:T78)/SQRT(7) -> 0.0068403579 | W72: =(Q72-T72)/(1-T72) -> 0.375 | X72: =AVERAGE(W72:W78) -> 0.41498234 | Y72: =_xlfn.STDEV.P(W72:W78)/SQRT(7) -> 0.015431239 | Z72: =163/1016 -> 0.16043307 | AA72: =AVERAGE(Z72:Z78) -> 0.13851656 | AB72: =_xlfn.STDEV.P(Z72:Z78)/SQRT(7) -> 0.010241037
A73: 2 | B73: + | C73: 5Hz | D73: Amph 2.5 | E73: 16 | F73: 13 | G73: =E73-F73 -> 3 | H73: 16 | I73: 9 | J73: =H73-I73 -> 7 | K73: =F73/E73 -> 0.8125 | N73: =J73/H73 -> 0.4375 | Q73: =I73/H73 -> 0.5625 | T73: =G73/E73 -> 0.1875 | W73: =(Q73-T73)/(1-T73) -> 0.46153846 | Z73: =119/1049 -> 0.11344137
A74: 3 | B74: + | C74: 5Hz | D74: Amph 2.5 | E74: 16 | F74: 13 | G74: =E74-F74 -> 3 | H74: 16 | I74: 8 | J74: =H74-I74 -> 8 | K74: =F74/E74 -> 0.8125 | N74: =J74/H74 -> 0.5 | Q74: =I74/H74 -> 0.5 | T74: =G74/E74 -> 0.1875 | W74: =(Q74-T74)/(1-T74) -> 0.38461538 | Z74: =144/1010 -> 0.14257426
A75: 4 | B75: + | C75: 5Hz | D75: Amph 2.5 | E75: 17 | F75: 14 | G75: =E75-F75 -> 3 | H75: 16 | I75: 8 | J75: =H75-I75 -> 8 | K75: =F75/E75 -> 0.82352941 | N75: =J75/H75 -> 0.5 | Q75: =I75/H75 -> 0.5 | T75: =G75/E75 -> 0.17647059 | W75: =(Q75-T75)/(1-T75) -> 0.39285714 | Z75: =187/1013 -> 0.1846002
A76: 5 | B76: + | C76: 5Hz | D76: Amph 2.5 | E76: 15 | F76: 12 | G76: =E76-F76 -> 3 | H76: 15 | I76: 8 | J76: =H76-I76 -> 7 | K76: =F76/E76 -> 0.8 | N76: =J76/H76 -> 0.46666667 | Q76: =I76/H76 -> 0.53333333 | T76: =G76/E76 -> 0.2 | W76: =(Q76-T76)/(1-T76) -> 0.41666667 | Z76: =149/999 -> 0.14914915
A77: 6 | B77: + | C77: 5Hz | D77: Amph 2.5 | E77: 14 | F77: 12 | G77: =E77-F77 -> 2 | H77: 16 | I77: 9 | J77: =H77-I77 -> 7 | K77: =F77/E77 -> 0.85714286 | N77: =J77/H77 -> 0.4375 | Q77: =I77/H77 -> 0.5625 | T77: =G77/E77 -> 0.14285714 | W77: =(Q77-T77)/(1-T77) -> 0.48958333 | Z77: =119/1014 -> 0.117357
A78: 7 | B78: + | C78: 5Hz | D78: Amph 2.5 | E78: 16 | F78: 13 | G78: =E78-F78 -> 3 | H78: 16 | I78: 8 | J78: =H78-I78 -> 8 | K78: =F78/E78 -> 0.8125 | N78: =J78/H78 -> 0.5 | Q78: =I78/H78 -> 0.5 | T78: =G78/E78 -> 0.1875 | W78: =(Q78-T78)/(1-T78) -> 0.38461538 | Z78: =104/1019 -> 0.10206084
A79: 8 | B79: - | C79: 5Hz | D79: Amph 2.5 | E79: 15 | F79: 12 | G79: =E79-F79 -> 3 | H79: 17 | I79: 9 | J79: =H79-I79 -> 8 | K79: =F79/E79 -> 0.8 | L79: =AVERAGE(K79:K85) -> 0.80157563 | M79: =_xlfn.STDEV.P(K79:K85)/SQRT(7) -> 0.0084575832 | N79: =J79/H79 -> 0.47058824 | O79: =AVERAGE(N79:N85) -> 0.46841737 | P79: =_xlfn.STDEV.P(N79:N85)/SQRT(7) -> 0.0089414594 | Q79: =I79/H79 -> 0.52941176 | R79: =AVERAGE(Q79:Q85) -> 0.53158263 | S79: =_xlfn.STDEV.P(Q79:Q85)/SQRT(7) -> 0.0089414594 | T79: =G79/E79 -> 0.2 | U79: =AVERAGE(T79:T85) -> 0.19842437 | V79: =_xlfn.STDEV.P(T79:T85)/SQRT(7) -> 0.0084575832 | W79: =(Q79-T79)/(1-T79) -> 0.41176471 | X79: =AVERAGE(W79:W85) -> 0.41461565 | Y79: =_xlfn.STDEV.P(W79:W85)/SQRT(7) -> 0.016145387 | Z79: =114/1002 -> 0.11377246 | AA79: =AVERAGE(Z79:Z85) -> 0.11042481 | AB79: =_xlfn.STDEV.P(Z79:Z85)/SQRT(7) -> 0.0043396225
A80: 9 | B80: - | C80: 5Hz | D80: Amph 2.5 | E80: 16 | F80: 13 | G80: =E80-F80 -> 3 | H80: 15 | I80: 8 | J80: =H80-I80 -> 7 | K80: =F80/E80 -> 0.8125 | N80: =J80/H80 -> 0.46666667 | Q80: =I80/H80 -> 0.53333333 | T80: =G80/E80 -> 0.1875 | W80: =(Q80-T80)/(1-T80) -> 0.42564103 | Z80: =98/1020 -> 0.096078431
A81: 10 | B81: - | C81: 5Hz | D81: Amph 2.5 | E81: 16 | F81: 12 | G81: =E81-F81 -> 4 | H81: 16 | I81: 8 | J81: =H81-I81 -> 8 | K81: =F81/E81 -> 0.75 | N81: =J81/H81 -> 0.5 | Q81: =I81/H81 -> 0.5 | T81: =G81/E81 -> 0.25 | W81: =(Q81-T81)/(1-T81) -> 0.33333333 | Z81: =119/1025 -> 0.11609756
A82: 11 | B82: - | C82: 5Hz | D82: Amph 2.5 | E82: 17 | F82: 14 | G82: =E82-F82 -> 3 | H82: 16 | I82: 9 | J82: =H82-I82 -> 7 | K82: =F82/E82 -> 0.82352941 | N82: =J82/H82 -> 0.4375 | Q82: =I82/H82 -> 0.5625 | T82: =G82/E82 -> 0.17647059 | W82: =(Q82-T82)/(1-T82) -> 0.46875 | Z82: =100/1036 -> 0.096525097
A83: 12 | B83: - | C83: 5Hz | D83: Amph 2.5 | E83: 15 | F83: 12 | G83: =E83-F83 -> 3 | H83: 15 | I83: 8 | J83: =H83-I83 -> 7 | K83: =F83/E83 -> 0.8 | N83: =J83/H83 -> 0.46666667 | Q83: =I83/H83 -> 0.53333333 | T83: =G83/E83 -> 0.2 | W83: =(Q83-T83)/(1-T83) -> 0.41666667 | Z83: =134/1023 -> 0.13098729
A84: 13 | B84: - | C84: 5Hz | D84: Amph 2.5 | E84: 16 | F84: 13 | G84: =E84-F84 -> 3 | H84: 16 | I84: 8 | J84: =H84-I84 -> 8 | K84: =F84/E84 -> 0.8125 | N84: =J84/H84 -> 0.5 | Q84: =I84/H84 -> 0.5 | T84: =G84/E84 -> 0.1875 | W84: =(Q84-T84)/(1-T84) -> 0.38461538 | Z84: =106/1015 -> 0.1044335
A85: 14 | B85: - | C85: 5Hz | D85: Amph 2.5 | E85: 16 | F85: 13 | G85: =E85-F85 -> 3 | H85: 16 | I85: 9 | J85: =H85-I85 -> 7 | K85: =F85/E85 -> 0.8125 | N85: =J85/H85 -> 0.4375 | Q85: =I85/H85 -> 0.5625 | T85: =G85/E85 -> 0.1875 | W85: =(Q85-T85)/(1-T85) -> 0.46153846 | Z85: =116/1008 -> 0.11507937
A86: 1 | B86: + | C86: 10Hz | D86: Ctrl-IP | E86: 14 | F86: 12 | G86: =E86-F86 -> 2 | H86: 16 | I86: 6 | J86: =H86-I86 -> 10 | K86: =F86/E86 -> 0.85714286 | L86: =AVERAGE(K86:K92) -> 0.85340136 | M86: =_xlfn.STDEV.P(K86:K92)/SQRT(7) -> 0.010035969 | N86: =J86/H86 -> 0.625 | O86: =AVERAGE(N86:N92) -> 0.60308123 | P86: =_xlfn.STDEV.P(N86:N92)/SQRT(7) -> 0.011966275 | Q86: =I86/H86 -> 0.375 | R86: =AVERAGE(Q86:Q92) -> 0.39691877 | S86: =_xlfn.STDEV.P(Q86:Q92)/SQRT(7) -> 0.011966275 | T86: =G86/E86 -> 0.14285714 | U86: =AVERAGE(T86:T92) -> 0.14659864 | V86: =_xlfn.STDEV.P(T86:T92)/SQRT(7) -> 0.010035969 | W86: =(Q86-T86)/(1-T86) -> 0.27083333 | X86: =AVERAGE(W86:W92) -> 0.29195871 | Y86: =_xlfn.STDEV.P(W86:W92)/SQRT(7) -> 0.01999509 | Z86: =12/983 -> 0.012207528 | AA86: =AVERAGE(Z86:Z92) -> 0.015478209 | AB86: =_xlfn.STDEV.P(Z86:Z92)/SQRT(7) -> 0.0062159422
A87: 2 | B87: + | C87: 10Hz | D87: Ctrl-IP | E87: 16 | F87: 14 | G87: =E87-F87 -> 2 | H87: 15 | I87: 7 | J87: =H87-I87 -> 8 | K87: =F87/E87 -> 0.875 | N87: =J87/H87 -> 0.53333333 | Q87: =I87/H87 -> 0.46666667 | T87: =G87/E87 -> 0.125 | W87: =(Q87-T87)/(1-T87) -> 0.39047619 | Z87: =1/970 -> 0.0010309278
A88: 3 | B88: + | C88: 10Hz | D88: Ctrl-IP | E88: 16 | F88: 13 | G88: =E88-F88 -> 3 | H88: 16 | I88: 6 | J88: =H88-I88 -> 10 | K88: =F88/E88 -> 0.8125 | N88: =J88/H88 -> 0.625 | Q88: =I88/H88 -> 0.375 | T88: =G88/E88 -> 0.1875 | W88: =(Q88-T88)/(1-T88) -> 0.23076923 | Z88: =54/994 -> 0.054325956
A89: 4 | B89: + | C89: 10Hz | D89: Ctrl-IP | E89: 15 | F89: 13 | G89: =E89-F89 -> 2 | H89: 16 | I89: 6 | J89: =H89-I89 -> 10 | K89: =F89/E89 -> 0.86666667 | N89: =J89/H89 -> 0.625 | Q89: =I89/H89 -> 0.375 | T89: =G89/E89 -> 0.13333333 | W89: =(Q89-T89)/(1-T89) -> 0.27884615 | Z89: =14/968 -> 0.01446281
A90: 5 | B90: + | C90: 10Hz | D90: Ctrl-IP | E90: 16 | F90: 14 | G90: =E90-F90 -> 2 | H90: 17 | I90: 7 | J90: =H90-I90 -> 10 | K90: =F90/E90 -> 0.875 | N90: =J90/H90 -> 0.58823529 | Q90: =I90/H90 -> 0.41176471 | T90: =G90/E90 -> 0.125 | W90: =(Q90-T90)/(1-T90) -> 0.32773109 | Z90: =6/982 -> 0.0061099796
A91: 6 | B91: + | C91: 10Hz | D91: Ctrl-IP | E91: 16 | F91: 14 | G91: =E91-F91 -> 2 | H91: 15 | I91: 6 | J91: =H91-I91 -> 9 | K91: =F91/E91 -> 0.875 | N91: =J91/H91 -> 0.6 | Q91: =I91/H91 -> 0.4 | T91: =G91/E91 -> 0.125 | W91: =(Q91-T91)/(1-T91) -> 0.31428571 | Z91: =7/987 -> 0.0070921986
A92: 7 | B92: + | C92: 10Hz | D92: Ctrl-IP | E92: 16 | F92: 13 | G92: =E92-F92 -> 3 | H92: 16 | I92: 6 | J92: =H92-I92 -> 10 | K92: =F92/E92 -> 0.8125 | N92: =J92/H92 -> 0.625 | Q92: =I92/H92 -> 0.375 | T92: =G92/E92 -> 0.1875 | W92: =(Q92-T92)/(1-T92) -> 0.23076923 | Z92: =13/991 -> 0.013118063
A93: 8 | B93: - | C93: 10Hz | D93: Ctrl-IP | E93: 16 | F93: 12 | G93: =E93-F93 -> 4 | H93: 16 | I93: 12 | J93: =H93-I93 -> 4 | K93: =F93/E93 -> 0.75 | L93: =AVERAGE(K93:K99) -> 0.8270008 | M93: =_xlfn.STDEV.P(K93:K99)/SQRT(7) -> 0.019849389 | N93: =J93/H93 -> 0.25 | O93: =AVERAGE(N93:N99) -> 0.22738095 | P93: =_xlfn.STDEV.P(N93:N99)/SQRT(7) -> 0.011959906 | Q93: =I93/H93 -> 0.75 | R93: =AVERAGE(Q93:Q99) -> 0.77261905 | S93: =_xlfn.STDEV.P(Q93:Q99)/SQRT(7) -> 0.011959906 | T93: =G93/E93 -> 0.25 | U93: =AVERAGE(T93:T99) -> 0.1729992 | V93: =_xlfn.STDEV.P(T93:T99)/SQRT(7) -> 0.019849389 | W93: =(Q93-T93)/(1-T93) -> 0.66666667 | X93: =AVERAGE(W93:W99) -> 0.72479886 | Y93: =_xlfn.STDEV.P(W93:W99)/SQRT(7) -> 0.013926755 | Z93: =10/984 -> 0.010162602 | AA93: =AVERAGE(Z93:Z99) -> 0.0075697522 | AB93: =_xlfn.STDEV.P(Z93:Z99)/SQRT(7) -> 0.0023671934
A94: 9 | B94: - | C94: 10Hz | D94: Ctrl-IP | E94: 15 | F94: 14 | G94: =E94-F94 -> 1 | H94: 15 | I94: 11 | J94: =H94-I94 -> 4 | K94: =F94/E94 -> 0.93333333 | N94: =J94/H94 -> 0.26666667 | Q94: =I94/H94 -> 0.73333333 | T94: =G94/E94 -> 0.066666667 | W94: =(Q94-T94)/(1-T94) -> 0.71428571 | Z94: =6/961 -> 0.0062434964
A95: 10 | B95: - | C95: 10Hz | D95: Ctrl-IP | E95: 16 | F95: 13 | G95: =E95-F95 -> 3 | H95: 16 | I95: 13 | J95: =H95-I95 -> 3 | K95: =F95/E95 -> 0.8125 | N95: =J95/H95 -> 0.1875 | Q95: =I95/H95 -> 0.8125 | T95: =G95/E95 -> 0.1875 | W95: =(Q95-T95)/(1-T95) -> 0.76923077 | Z95: =6/989 -> 0.0060667341
A96: 11 | B96: - | C96: 10Hz | D96: Ctrl-IP | E96: 16 | F96: 13 | G96: =E96-F96 -> 3 | H96: 16 | I96: 12 | J96: =H96-I96 -> 4 | K96: =F96/E96 -> 0.8125 | N96: =J96/H96 -> 0.25 | Q96: =I96/H96 -> 0.75 | T96: =G96/E96 -> 0.1875 | W96: =(Q96-T96)/(1-T96) -> 0.69230769 | Z96: =2/982 -> 0.0020366599
A97: 12 | B97: - | C97: 10Hz | D97: Ctrl-IP | E97: 17 | F97: 14 | G97: =E97-F97 -> 3 | H97: 15 | I97: 12 | J97: =H97-I97 -> 3 | K97: =F97/E97 -> 0.82352941 | N97: =J97/H97 -> 0.2 | Q97: =I97/H97 -> 0.8 | T97: =G97/E97 -> 0.17647059 | W97: =(Q97-T97)/(1-T97) -> 0.75714286 | Z97: =6/976 -> 0.006147541
A98: 13 | B98: - | C98: 10Hz | D98: Ctrl-IP | E98: 15 | F98: 12 | G98: =E98-F98 -> 3 | H98: 16 | I98: 13 | J98: =H98-I98 -> 3 | K98: =F98/E98 -> 0.8 | N98: =J98/H98 -> 0.1875 | Q98: =I98/H98 -> 0.8125 | T98: =G98/E98 -> 0.2 | W98: =(Q98-T98)/(1-T98) -> 0.765625 | Z98: =1/968 -> 0.0010330579
A99: 14 | B99: - | C99: 10Hz | D99: Ctrl-IP | E99: 14 | F99: 12 | G99: =E99-F99 -> 2 | H99: 16 | I99: 12 | J99: =H99-I99 -> 4 | K99: =F99/E99 -> 0.85714286 | N99: =J99/H99 -> 0.25 | Q99: =I99/H99 -> 0.75 | T99: =G99/E99 -> 0.14285714 | W99: =(Q99-T99)/(1-T99) -> 0.70833333 | Z99: =21/986 -> 0.021298174
A100: 1 | B100: + | C100: 10Hz | D100: Amph 1 | E100: 16 | F100: 14 | G100: =E100-F100 -> 2 | H100: 17 | I100: 7 | J100: =H100-I100 -> 10 | K100: =F100/E100 -> 0.875 | L100: =AVERAGE(K100:K106) -> 0.87380952 | M100: =_xlfn.STDEV.P(K100:K106)/SQRT(7) -> 0.0011021668 | N100: =J100/H100 -> 0.58823529 | O100: =AVERAGE(N100:N106) -> 0.60784314 | P100: =_xlfn.STDEV.P(N100:N106)/SQRT(7) -> 0.01343142 | Q100: =I100/H100 -> 0.41176471 | R100: =AVERAGE(Q100:Q106) -> 0.39215686 | S100: =_xlfn.STDEV.P(Q100:Q106)/SQRT(7) -> 0.01343142 | T100: =G100/E100 -> 0.125 | U100: =AVERAGE(T100:T106) -> 0.12619048 | V100: =_xlfn.STDEV.P(T100:T106)/SQRT(7) -> 0.0011021668 | W100: =(Q100-T100)/(1-T100) -> 0.32773109 | X100: =AVERAGE(W100:W106) -> 0.30443908 | Y100: =_xlfn.STDEV.P(W100:W106)/SQRT(7) -> 0.014940634 | Z100: =14/981 -> 0.014271152 | AA100: =AVERAGE(Z100:Z106) -> 0.0054078511 | AB100: =_xlfn.STDEV.P(Z100:Z106)/SQRT(7) -> 0.0019364733
...

Sheet GroupData
A1: =RawData!B1 -> Genotype | B1: =RawData!C1 -> LaserFreq | C1: =RawData!D1 -> DrugGroup | D1: =RawData!K1 -> Hits | E1: =RawData!L1 -> Group Avg | F1: =RawData!M1 -> STDERR | G1: =RawData!N1 -> FalseAlarms | H1: =RawData!O1 -> Group Avg | I1: =RawData!P1 -> STDERR | J1: =RawData!Q1 -> PNoGo | K1: =RawData!R1 -> Group Avg | ... R1: =RawData!Y1 -> STDERR
A2: =RawData!B2 -> + | B2: =RawData!C2 -> 0Hz | C2: =RawData!D2 -> NoTreatment | D2: =RawData!K2 -> 0.875 | E2: =RawData!L2 -> 0.85340136 | F2: =RawData!M2 -> 0.010035969 | G2: =RawData!N2 -> 0.23529412 | H2: =RawData!O2 -> 0.25776311 | I2: =RawData!P2 -> 0.0057595849 | J2: =RawData!Q2 -> 0.76470588 | K2: =RawData!R2 -> 0.74223689 | ... R2: =RawData!Y2 -> 0.0062406601
A3: =RawData!B9 -> - | B3: =RawData!C9 -> 0Hz | C3: =RawData!D9 -> NoTreatment | D3: =RawData!K9 -> 0.86666667 | E3: =RawData!L9 -> 0.8452381 | F3: =RawData!M9 -> 0.027256817 | G3: =RawData!N9 -> 0.25 | H3: =RawData!O9 -> 0.21065426 | I3: =RawData!P9 -> 0.0084124098 | J3: =RawData!Q9 -> 0.75 | K3: =RawData!R9 -> 0.78934574 | ... R3: =RawData!Y9 -> 0.014205954
A4: =RawData!B16 -> + | B4: =RawData!C16 -> 5Hz | C4: =RawData!D16 -> NoTreatment | D4: =RawData!K16 -> 0.875 | E4: =RawData!L16 -> 0.87366947 | F4: =RawData!M16 -> 0.0019196217 | G4: =RawData!N16 -> 0.33333333 | H4: =RawData!O16 -> 0.3452381 | I4: =RawData!P16 -> 0.020558193 | J4: =RawData!Q16 -> 0.66666667 | K4: =RawData!R16 -> 0.6547619 | ... R4: =RawData!Y16 -> 0.023968053
A5: =RawData!B23 -> - | B5: =RawData!C23 -> 5Hz | C5: =RawData!D23 -> NoTreatment | D5: =RawData!K23 -> 0.88235294 | E5: =RawData!L23 -> 0.85453681 | F5: =RawData!M23 -> 0.020032071 | G5: =RawData!N23 -> 0.25 | H5: =RawData!O23 -> 0.23333333 | I5: =RawData!P23 -> 0.019938255 | J5: =RawData!Q23 -> 0.75 | K5: =RawData!R23 -> 0.76666667 | ... R5: =RawData!Y23 -> 0.023498811
A6: =RawData!B30 -> + | B6: =RawData!C30 -> 10Hz | C6: =RawData!D30 -> NoTreatment | D6: =RawData!K30 -> 0.875 | E6: =RawData!L30 -> 0.83676471 | F6: =RawData!M30 -> 0.01346424 | G6: =RawData!N30 -> 0.6 | H6: =RawData!O30 -> 0.57689076 | I6: =RawData!P30 -> 0.0064288068 | J6: =RawData!Q30 -> 0.4 | K6: =RawData!R30 -> 0.42310924 | ... R6: =RawData!Y30 -> 0.0088586015
A7: =RawData!B37 -> - | B7: =RawData!C37 -> 10Hz | C7: =RawData!D37 -> NoTreatment | D7: =RawData!K37 -> 0.8125 | E7: =RawData!L37 -> 0.83571429 | F7: =RawData!M37 -> 0.018110448 | G7: =RawData!N37 -> 0.26666667 | H7: =RawData!O37 -> 0.2547619 | I7: =RawData!P37 -> 0.0028457824 | J7: =RawData!Q37 -> 0.73333333 | K7: =RawData!R37 -> 0.7452381 | ... R7: =RawData!Y37 -> 0.0078663356
A8: =RawData!B44 -> + | B8: =RawData!C44 -> 5Hz | C8: =RawData!D44 -> Ctrl-IP | D8: =RawData!K44 -> 0.85714286 | E8: =RawData!L44 -> 0.85280612 | F8: =RawData!M44 -> 0.017032173 | G8: =RawData!N44 -> 0.375 | H8: =RawData!O44 -> 0.33368347 | I8: =RawData!P44 -> 0.010951926 | J8: =RawData!Q44 -> 0.625 | K8: =RawData!R44 -> 0.66631653 | ... R8: =RawData!Y44 -> 0.016060254
A9: =RawData!B51 -> - | B9: =RawData!C51 -> 5Hz | C9: =RawData!D51 -> Ctrl-IP | D9: =RawData!K51 -> 0.875 | E9: =RawData!L51 -> 0.88191777 | F9: =RawData!M51 -> 0.014262443 | G9: =RawData!N51 -> 0.25 | H9: =RawData!O51 -> 0.2452381 | I9: =RawData!P51 -> 0.014590707 | J9: =RawData!Q51 -> 0.75 | K9: =RawData!R51 -> 0.7547619 | ... R9: =RawData!Y51 -> 0.014660398
A10: =RawData!B58 -> + | B10: =RawData!C58 -> 5Hz | C10: =RawData!D58 -> Amph 1 | D10: =RawData!K58 -> 0.8125 | E10: =RawData!L58 -> 0.82857143 | F10: =RawData!M58 -> 0.011212888 | G10: =RawData!N58 -> 0.35294118 | H10: =RawData!O58 -> 0.3664916 | I10: =RawData!P58 -> 0.0095949511 | J10: =RawData!Q58 -> 0.64705882 | K10: =RawData!R58 -> 0.6335084 | ... R10: =RawData!Y58 -> 0.009315277
A11: =RawData!B65 -> - | B11: =RawData!C65 -> 5Hz | C11: =RawData!D65 -> Amph 1 | D11: =RawData!K65 -> 0.8 | E11: =RawData!L65 -> 0.83676471 | F11: =RawData!M65 -> 0.01346424 | G11: =RawData!N65 -> 0.375 | H11: =RawData!O65 -> 0.3789916 | I11: =RawData!P65 -> 0.005758865 | J11: =RawData!Q65 -> 0.625 | K11: =RawData!R65 -> 0.6210084 | ... R11: =RawData!Y65 -> 0.012307134
A12: =RawData!B72 -> + | B12: =RawData!C72 -> 5Hz | C12: =RawData!D72 -> Amph 2.5 | D12: =RawData!K72 -> 0.8 | E12: =RawData!L72 -> 0.81688175 | F12: =RawData!M72 -> 0.0068403579 | G12: =RawData!N72 -> 0.5 | H12: =RawData!O72 -> 0.47738095 | I12: =RawData!P72 -> 0.01044154 | J12: =RawData!Q72 -> 0.5 | K12: =RawData!R72 -> 0.52261905 | ... R12: =RawData!Y72 -> 0.015431239
A13: =RawData!B79 -> - | B13: =RawData!C79 -> 5Hz | C13: =RawData!D79 -> Amph 2.5 | D13: =RawData!K79 -> 0.8 | E13: =RawData!L79 -> 0.80157563 | F13: =RawData!M79 -> 0.0084575832 | G13: =RawData!N79 -> 0.47058824 | H13: =RawData!O79 -> 0.46841737 | I13: =RawData!P79 -> 0.0089414594 | J13: =RawData!Q79 -> 0.52941176 | K13: =RawData!R79 -> 0.53158263 | ... R13: =RawData!Y79 -> 0.016145387
A14: =RawData!B86 -> + | B14: =RawData!C86 -> 10Hz | C14: =RawData!D86 -> Ctrl-IP | D14: =RawData!K86 -> 0.85714286 | E14: =RawData!L86 -> 0.85340136 | F14: =RawData!M86 -> 0.010035969 | G14: =RawData!N86 -> 0.625 | H14: =RawData!O86 -> 0.60308123 | I14: =RawData!P86 -> 0.011966275 | J14: =RawData!Q86 -> 0.375 | K14: =RawData!R86 -> 0.39691877 | ... R14: =RawData!Y86 -> 0.01999509
A15: =RawData!B93 -> - | B15: =RawData!C93 -> 10Hz | C15: =RawData!D93 -> Ctrl-IP | D15: =RawData!K93 -> 0.75 | E15: =RawData!L93 -> 0.8270008 | F15: =RawData!M93 -> 0.019849389 | G15: =RawData!N93 -> 0.25 | H15: =RawData!O93 -> 0.22738095 | I15: =RawData!P93 -> 0.011959906 | J15: =RawData!Q93 -> 0.75 | K15: =RawData!R93 -> 0.77261905 | ... R15: =RawData!Y93 -> 0.013926755
A16: =RawData!B100 -> + | B16: =RawData!C100 -> 10Hz | C16: =RawData!D100 -> Amph 1 | D16: =RawData!K100 -> 0.875 | E16: =RawData!L100 -> 0.87380952 | F16: =RawData!M100 -> 0.0011021668 | G16: =RawData!N100 -> 0.58823529 | H16: =RawData!O100 -> 0.60784314 | I16: =RawData!P100 -> 0.01343142 | J16: =RawData!Q100 -> 0.41176471 | K16: =RawData!R100 -> 0.39215686 | ... R16: =RawData!Y100 -> 0.014940634
A17: =RawData!B107 -> - | B17: =RawData!C107 -> 10Hz | C17: =RawData!D107 -> Amph 1 | D17: =RawData!K107 -> 0.86666667 | E17: =RawData!L107 -> 0.84740896 | F17: =RawData!M107 -> 0.010372406 | G17: =RawData!N107 -> 0.375 | H17: =RawData!O107 -> 0.32422969 | I17: =RawData!P107 -> 0.013815803 | J17: =RawData!Q107 -> 0.625 | K17: =RawData!R107 -> 0.67577031 | ... R17: =RawData!Y107 -> 0.015550187
A18: =RawData!B114 -> + | B18: =RawData!C114 -> 10Hz | C18: =RawData!D114 -> Amph 2.5 | D18: =RawData!K114 -> 0.8 | E18: =RawData!L114 -> 0.85266607 | F18: =RawData!M114 -> 0.011501558 | G18: =RawData!N114 -> 0.625 | H18: =RawData!O114 -> 0.59464286 | I18: =RawData!P114 -> 0.010966421 | J18: =RawData!Q114 -> 0.375 | K18: =RawData!R114 -> 0.40535714 | ... R18: =RawData!Y114 -> 0.020572237
A19: =RawData!B121 -> - | B19: =RawData!C121 -> 10Hz | C19: =RawData!D121 -> Amph 2.5 | D19: =RawData!K121 -> 0.8 | E19: =RawData!L121 -> 0.82783613 | F19: =RawData!M121 -> 0.012331976 | G19: =RawData!N121 -> 0.52941176 | H19: =RawData!O121 -> 0.50479692 | I19: =RawData!P121 -> 0.011808377 | J19: =RawData!Q121 -> 0.47058824 | K19: =RawData!R121 -> 0.49520308 | ... R19: =RawData!Y121 -> 0.021476473
A20: =RawData!B128 -> + | B20: =RawData!C128 -> 5Hz | C20: =RawData!D128 -> Atom 1 | D20: =RawData!K128 -> 0.86666667 | E20: =RawData!L128 -> 0.83788515 | F20: =RawData!M128 -> 0.011529539 | G20: =RawData!N128 -> 0.25 | H20: =RawData!O128 -> 0.27654062 | I20: =RawData!P128 -> 0.020568856 | J20: =RawData!Q128 -> 0.75 | K20: =RawData!R128 -> 0.72345938 | ... R20: =RawData!Y128 -> 0.024062058
A21: =RawData!B135 -> - | B21: =RawData!C135 -> 5Hz | C21: =RawData!D135 -> Atom 1 | D21: =RawData!K135 -> 0.86666667 | E21: =RawData!L135 -> 0.89977491 | F21: =RawData!M135 -> 0.011071072 | G21: =RawData!N135 -> 0.25 | H21: =RawData!O135 -> 0.19842437 | I21: =RawData!P135 -> 0.0084575832 | J21: =RawData!Q135 -> 0.75 | K21: =RawData!R135 -> 0.80157563 | ... R21: =RawData!Y135 -> 0.011553655
A22: =RawData!B142 -> + | B22: =RawData!C142 -> 5Hz | C22: =RawData!D142 -> Atom 5 | D22: =RawData!K142 -> 0.88235294 | E22: =RawData!L142 -> 0.85521709 | F22: =RawData!M142 -> 0.011879681 | G22: =RawData!N142 -> 0.25 | H22: =RawData!O142 -> 0.23690476 | I22: =RawData!P142 -> 0.012094575 | J22: =RawData!Q142 -> 0.75 | K22: =RawData!R142 -> 0.76309524 | ... R22: =RawData!Y142 -> 0.013096707
A23: =RawData!B149 -> - | B23: =RawData!C149 -> 5Hz | C23: =RawData!D149 -> Atom 5 | D23: =RawData!K149 -> 0.88235294 | E23: =RawData!L149 -> 0.88778511 | F23: =RawData!M149 -> 0.017532514 | G23: =RawData!N149 -> 0.125 | H23: =RawData!O149 -> 0.13406863 | I23: =RawData!P149 -> 0.0083959176 | J23: =RawData!Q149 -> 0.875 | K23: =RawData!R149 -> 0.86593137 | ... R23: =RawData!Y149 -> 0.010213321
A24: =RawData!B156 -> + | B24: =RawData!C156 -> 10Hz | C24: =RawData!D156 -> Atom 1 | D24: =RawData!K156 -> 0.86666667 | E24: =RawData!L156 -> 0.8910014 | F24: =RawData!M156 -> 0.011634002 | G24: =RawData!N156 -> 0.5 | H24: =RawData!O156 -> 0.46477591 | I24: =RawData!P156 -> 0.012796622 | J24: =RawData!Q156 -> 0.5 | K24: =RawData!R156 -> 0.53522409 | ... R24: =RawData!Y156 -> 0.019793868
A25: =RawData!B163 -> - | B25: =RawData!C163 -> 10Hz | C25: =RawData!D163 -> Atom 1 | D25: =RawData!K163 -> 0.86666667 | E25: =RawData!L163 -> 0.87164366 | F25: =RawData!M163 -> 0.011896134 | G25: =RawData!N163 -> 0.1875 | H25: =RawData!O163 -> 0.23480392 | I25: =RawData!P163 -> 0.011924827 | J25: =RawData!Q163 -> 0.8125 | K25: =RawData!R163 -> 0.76519608 | ... R25: =RawData!Y163 -> 0.011680825
A26: =RawData!B170 -> + | B26: =RawData!C170 -> 10Hz | C26: =RawData!D170 -> Atom 5 | D26: =RawData!K170 -> 0.88235294 | E26: =RawData!L170 -> 0.90105042 | F26: =RawData!M170 -> 0.011595581 | G26: =RawData!N170 -> 0.375 | H26: =RawData!O170 -> 0.38214286 | I26: =RawData!P170 -> 0.0042686736 | J26: =RawData!Q170 -> 0.625 | K26: =RawData!R170 -> 0.61785714 | ... R26: =RawData!Y170 -> 0.0068069013
A27: =RawData!B177 -> - | B27: =RawData!C177 -> 10Hz | C27: =RawData!D177 -> Atom 5 | D27: =RawData!K177 -> 0.88235294 | E27: =RawData!L177 -> 0.90623749 | F27: =RawData!M177 -> 0.017670568 | G27: =RawData!N177 -> 0.1875 | H27: =RawData!O177 -> 0.16144958 | I27: =RawData!P177 -> 0.012855407 | J27: =RawData!Q177 -> 0.8125 | K27: =RawData!R177 -> 0.83855042 | ... R27: =RawData!Y177 -> 0.016192977
A28: =RawData!B184 -> + | B28: =RawData!C184 -> 5Hz | C28: =RawData!D184 -> Ctrl-Oral | D28: =RawData!K184 -> 0.8125 | E28: =RawData!L184 -> 0.89212185 | F28: =RawData!M184 -> 0.016408643 | G28: =RawData!N184 -> 0.375 | H28: =RawData!O184 -> 0.36666667 | I28: =RawData!P184 -> 0.015971914 | J28: =RawData!Q184 -> 0.625 | K28: =RawData!R184 -> 0.63333333 | ... R28: =RawData!Y184 -> 0.018862644
A29: =RawData!B191 -> - | B29: =RawData!C191 -> 5Hz | C29: =RawData!D191 -> Ctrl-Oral | D29: =RawData!K191 -> 0.8125 | E29: =RawData!L191 -> 0.8480042 | F29: =RawData!M191 -> 0.016123745 | G29: =RawData!N191 -> 0.25 | H29: =RawData!O191 -> 0.29796919 | I29: =RawData!P191 -> 0.021743146 | J29: =RawData!Q191 -> 0.75 | K29: =RawData!R191 -> 0.70203081 | ... R29: =RawData!Y191 -> 0.028891755
A30: =RawData!B198 -> + | B30: =RawData!C198 -> 5Hz | C30: =RawData!D198 -> BI 2.5 | D30: =RawData!K198 -> 0.8125 | E30: =RawData!L198 -> 0.84688375 | F30: =RawData!M198 -> 0.017017723 | G30: =RawData!N198 -> 0.3125 | H30: =RawData!O198 -> 0.25238095 | I30: =RawData!P198 -> 0.017992683 | J30: =RawData!Q198 -> 0.6875 | K30: =RawData!R198 -> 0.74761905 | ... R30: =RawData!Y198 -> 0.026791562
A31: =RawData!B205 -> - | B31: =RawData!C205 -> 5Hz | C31: =RawData!D205 -> BI 2.5 | D31: =RawData!K205 -> 0.8125 | E31: =RawData!L205 -> 0.84328231 | F31: =RawData!M205 -> 0.010236424 | G31: =RawData!N205 -> 0.29411765 | H31: =RawData!O205 -> 0.27237395 | I31: =RawData!P205 -> 0.0080582 | J31: =RawData!Q205 -> 0.70588235 | K31: =RawData!R205 -> 0.72762605 | ... R31: =RawData!Y205 -> 0.012919149
A32: =RawData!B212 -> + | B32: =RawData!C212 -> 5Hz | C32: =RawData!D212 -> BI 7.5 | D32: =RawData!K212 -> 0.82352941 | E32: =RawData!L212 -> 0.83788515 | F32: =RawData!M212 -> 0.011529539 | G32: =RawData!N212 -> 0.25 | H32: =RawData!O212 -> 0.24345238 | I32: =RawData!P212 -> 0.0089030247 | J32: =RawData!Q212 -> 0.75 | K32: =RawData!R212 -> 0.75654762 | ... R32: =RawData!Y212 -> 0.009844363
A33: =RawData!B219 -> - | B33: =RawData!C219 -> 5Hz | C33: =RawData!D219 -> BI 7.5 | D33: =RawData!K219 -> 0.88235294 | E33: =RawData!L219 -> 0.8647409 | F33: =RawData!M219 -> 0.0082838177 | G33: =RawData!N219 -> 0.25 | H33: =RawData!O219 -> 0.24373249 | I33: =RawData!P219 -> 0.0094794052 | J33: =RawData!Q219 -> 0.75 | K33: =RawData!R219 -> 0.75626751 | ... R33: =RawData!Y219 -> 0.0088356377
A34: =RawData!B226 -> + | B34: =RawData!C226 -> 5Hz | C34: =RawData!D226 -> BI 12.5 | D34: =RawData!K226 -> 0.82352941 | E34: =RawData!L226 -> 0.82762605 | F34: =RawData!M226 -> 0.01259616 | G34: =RawData!N226 -> 0.25 | H34: =RawData!O226 -> 0.23480392 | I34: =RawData!P226 -> 0.011924827 | J34: =RawData!Q226 -> 0.75 | K34: =RawData!R226 -> 0.76519608 | ... R34: =RawData!Y226 -> 0.016414806
A35: =RawData!B233 -> - | B35: =RawData!C233 -> 5Hz | C35: =RawData!D233 -> BI 12.5 | D35: =RawData!K233 -> 0.875 | E35: =RawData!L233 -> 0.87261905 | F35: =RawData!M233 -> 0.0014228912 | G35: =RawData!N233 -> 0.1875 | H35: =RawData!O233 -> 0.20714286 | I35: =RawData!P233 -> 0.010368572 | J35: =RawData!Q233 -> 0.8125 | K35: =RawData!R233 -> 0.79285714 | ... R35: =RawData!Y233 -> 0.012008132
A36: =RawData!B240 -> + | B36: =RawData!C240 -> 10Hz | C36: =RawData!D240 -> Ctrl-Oral | D36: =RawData!K240 -> 0.88235294 | E36: =RawData!L240 -> 0.85738796 | F36: =RawData!M240 -> 0.0096649348 | G36: =RawData!N240 -> 0.6 | H36: =RawData!O240 -> 0.56796218 | I36: =RawData!P240 -> 0.017487434 | J36: =RawData!Q240 -> 0.4 | K36: =RawData!R240 -> 0.43203782 | ... R36: =RawData!Y240 -> 0.020484413
A37: =RawData!B247 -> - | B37: =RawData!C247 -> 10Hz | C37: =RawData!D247 -> Ctrl-Oral | D37: =RawData!K247 -> 0.875 | E37: =RawData!L247 -> 0.87366947 | F37: =RawData!M247 -> 0.0019196217 | G37: =RawData!N247 -> 0.26666667 | H37: =RawData!O247 -> 0.27261905 | I37: =RawData!P247 -> 0.016035169 | J37: =RawData!Q247 -> 0.73333333 | K37: =RawData!R247 -> 0.72738095 | ... R37: =RawData!Y247 -> 0.017707139
A38: =RawData!B254 -> + | B38: =RawData!C254 -> 10Hz | C38: =RawData!D254 -> BI 2.5 | D38: =RawData!K254 -> 0.88235294 | E38: =RawData!L254 -> 0.90997899 | F38: =RawData!M254 -> 0.011676183 | G38: =RawData!N254 -> 0.4375 | H38: =RawData!O254 -> 0.43746499 | I38: =RawData!P254 -> 0.010928121 | J38: =RawData!Q254 -> 0.5625 | K38: =RawData!R254 -> 0.56253501 | ... R38: =RawData!Y254 -> 0.013350337
A39: =RawData!B261 -> - | B39: =RawData!C261 -> 10Hz | C39: =RawData!D261 -> BI 2.5 | D39: =RawData!K261 -> 0.8125 | E39: =RawData!L261 -> 0.83112745 | F39: =RawData!M261 -> 0.0086690605 | G39: =RawData!N261 -> 0.26666667 | H39: =RawData!O261 -> 0.23532913 | I39: =RawData!P261 -> 0.013063221 | J39: =RawData!Q261 -> 0.73333333 | K39: =RawData!R261 -> 0.76467087 | ... R39: =RawData!Y261 -> 0.016741326
A40: =RawData!B268 -> + | B40: =RawData!C268 -> 10Hz | C40: =RawData!D268 -> BI 7.5 | D40: =RawData!K268 -> 0.86666667 | E40: =RawData!L268 -> 0.88259804 | F40: =RawData!M268 -> 0.0086838969 | G40: =RawData!N268 -> 0.33333333 | H40: =RawData!O268 -> 0.3337535 | I40: =RawData!P268 -> 0.017128737 | J40: =RawData!Q268 -> 0.66666667 | K40: =RawData!R268 -> 0.6662465 | ... R40: =RawData!Y268 -> 0.020705535
A41: =RawData!B275 -> - | B41: =RawData!C275 -> 10Hz | C41: =RawData!D275 -> BI 7.5 | D41: =RawData!K275 -> 0.8 | E41: =RawData!L275 -> 0.8355042 | F41: =RawData!M275 -> 0.018304285 | G41: =RawData!N275 -> 0.2 | H41: =RawData!O275 -> 0.21130952 | I41: =RawData!P275 -> 0.011533321 | J41: =RawData!Q275 -> 0.8 | K41: =RawData!R275 -> 0.78869048 | ... R41: =RawData!Y275 -> 0.016724085
A42: =RawData!B282 -> + | B42: =RawData!C282 -> 10Hz | C42: =RawData!D282 -> BI 12.5 | D42: =RawData!K282 -> 0.875 | E42: =RawData!L282 -> 0.84628852 | F42: =RawData!M282 -> 0.012609168 | G42: =RawData!N282 -> 0.25 | H42: =RawData!O282 -> 0.22559524 | I42: =RawData!P282 -> 0.017865644 | J42: =RawData!Q282 -> 0.75 | K42: =RawData!R282 -> 0.77440476 | ... R42: =RawData!Y282 -> 0.023368076
A43: =RawData!B289 -> - | B43: =RawData!C289 -> 10Hz | C43: =RawData!D289 -> BI 12.5 | D43: =RawData!K289 -> 0.82352941 | E43: =RawData!L289 -> 0.8210084 | F43: =RawData!M289 -> 0.0089844484 | G43: =RawData!N289 -> 0.1875 | H43: =RawData!O289 -> 0.16323529 | I43: =RawData!P289 -> 0.01346424 | J43: =RawData!Q289 -> 0.8125 | K43: =RawData!R289 -> 0.83676471 | ... R43: =RawData!Y289 -> 0.015494553

Sheet Amph_Plots
A1: =GroupData!A1 -> Genotype | B1: =GroupData!B1 -> LaserFreq | C1: =GroupData!C1 -> DrugGroup | D1: =GroupData!D1 -> Hits | E1: =GroupData!E1 -> Group Avg | F1: =GroupData!F1 -> STDERR | G1: =GroupData!G1 -> FalseAlarms | H1: =GroupData!H1 -> Group Avg | ... R1: =GroupData!R1 -> STDERR
A2: =GroupData!A3 -> - | B2: =GroupData!B3 -> 0Hz | C2: =GroupData!C3 -> NoTreatment | D2: =GroupData!D3 -> 0.86666667 | E2: =GroupData!E3 -> 0.8452381 | F2: =GroupData!F3 -> 0.027256817 | G2: =GroupData!G3 -> 0.25 | H2: =GroupData!H3 -> 0.21065426 | ... R2: =GroupData!R3 -> 0.014205954
A3: =GroupData!A5 -> - | B3: =GroupData!B5 -> 5Hz | C3: =GroupData!C5 -> NoTreatment | D3: =GroupData!D5 -> 0.88235294 | E3: =GroupData!E5 -> 0.85453681 | F3: =GroupData!F5 -> 0.020032071 | G3: =GroupData!G5 -> 0.25 | H3: =GroupData!H5 -> 0.23333333 | ... R3: =GroupData!R5 -> 0.023498811
A4: =GroupData!A9 -> - | B4: =GroupData!B9 -> 5Hz | C4: =GroupData!C9 -> Ctrl-IP | D4: =GroupData!D9 -> 0.875 | E4: =GroupData!E9 -> 0.88191777 | F4: =GroupData!F9 -> 0.014262443 | G4: =GroupData!G9 -> 0.25 | H4: =GroupData!H9 -> 0.2452381 | ... R4: =GroupData!R9 -> 0.014660398
A5: =GroupData!A11 -> - | B5: =GroupData!B11 -> 5Hz | C5: =GroupData!C11 -> Amph 1 | D5: =GroupData!D11 -> 0.8 | E5: =GroupData!E11 -> 0.83676471 | F5: =GroupData!F11 -> 0.01346424 | G5: =GroupData!G11 -> 0.375 | H5: =GroupData!H11 -> 0.3789916 | ... R5: =GroupData!R11 -> 0.012307134
A6: =GroupData!A13 -> - | B6: =GroupData!B13 -> 5Hz | C6: =GroupData!C13 -> Amph 2.5 | D6: =GroupData!D13 -> 0.8 | E6: =GroupData!E13 -> 0.80157563 | F6: =GroupData!F13 -> 0.0084575832 | G6: =GroupData!G13 -> 0.47058824 | H6: =GroupData!H13 -> 0.46841737 | ... R6: =GroupData!R13 -> 0.016145387
A7: =GroupData!A7 -> - | B7: =GroupData!B7 -> 10Hz | C7: =GroupData!C7 -> NoTreatment | D7: =GroupData!D7 -> 0.8125 | E7: =GroupData!E7 -> 0.83571429 | F7: =GroupData!F7 -> 0.018110448 | G7: =GroupData!G7 -> 0.26666667 | H7: =GroupData!H7 -> 0.2547619 | ... R7: =GroupData!R7 -> 0.0078663356
A8: =GroupData!A15 -> - | B8: =GroupData!B15 -> 10Hz | C8: =GroupData!C15 -> Ctrl-IP | D8: =GroupData!D15 -> 0.75 | E8: =GroupData!E15 -> 0.8270008 | F8: =GroupData!F15 -> 0.019849389 | G8: =GroupData!G15 -> 0.25 | H8: =GroupData!H15 -> 0.22738095 | ... R8: =GroupData!R15 -> 0.013926755
A9: =GroupData!A17 -> - | B9: =GroupData!B17 -> 10Hz | C9: =GroupData!C17 -> Amph 1 | D9: =GroupData!D17 -> 0.86666667 | E9: =GroupData!E17 -> 0.84740896 | F9: =GroupData!F17 -> 0.010372406 | G9: =GroupData!G17 -> 0.375 | H9: =GroupData!H17 -> 0.32422969 | ... R9: =GroupData!R17 -> 0.015550187
A10: =GroupData!A19 -> - | B10: =GroupData!B19 -> 10Hz | C10: =GroupData!C19 -> Amph 2.5 | D10: =GroupData!D19 -> 0.8 | E10: =GroupData!E19 -> 0.82783613 | F10: =GroupData!F19 -> 0.012331976 | G10: =GroupData!G19 -> 0.52941176 | H10: =GroupData!H19 -> 0.50479692 | ... R10: =GroupData!R19 -> 0.021476473
A11: =GroupData!A2 -> + | B11: =GroupData!B2 -> 0Hz | C11: =GroupData!C2 -> NoTreatment | D11: =GroupData!D2 -> 0.875 | E11: =GroupData!E2 -> 0.85340136 | F11: =GroupData!F2 -> 0.010035969 | G11: =GroupData!G2 -> 0.23529412 | H11: =GroupData!H2 -> 0.25776311 | ... R11: =GroupData!R2 -> 0.0062406601
A12: =GroupData!A4 -> + | B12: =GroupData!B4 -> 5Hz | C12: =GroupData!C4 -> NoTreatment | D12: =GroupData!D4 -> 0.875 | E12: =GroupData!E4 -> 0.87366947 | F12: =GroupData!F4 -> 0.0019196217 | G12: =GroupData!G4 -> 0.33333333 | H12: =GroupData!H4 -> 0.3452381 | ... R12: =GroupData!R4 -> 0.023968053
A13: =GroupData!A8 -> + | B13: =GroupData!B8 -> 5Hz | C13: =GroupData!C8 -> Ctrl-IP | D13: =GroupData!D8 -> 0.85714286 | E13: =GroupData!E8 -> 0.85280612 | F13: =GroupData!F8 -> 0.017032173 | G13: =GroupData!G8 -> 0.375 | H13: =GroupData!H8 -> 0.33368347 | ... R13: =GroupData!R8 -> 0.016060254
A14: =GroupData!A10 -> + | B14: =GroupData!B10 -> 5Hz | C14: =GroupData!C10 -> Amph 1 | D14: =GroupData!D10 -> 0.8125 | E14: =GroupData!E10 -> 0.82857143 | F14: =GroupData!F10 -> 0.011212888 | G14: =GroupData!G10 -> 0.35294118 | H14: =GroupData!H10 -> 0.3664916 | ... R14: =GroupData!R10 -> 0.009315277
A15: =GroupData!A12 -> + | B15: =GroupData!B12 -> 5Hz | C15: =GroupData!C12 -> Amph 2.5 | D15: =GroupData!D12 -> 0.8 | E15: =GroupData!E12 -> 0.81688175 | F15: =GroupData!F12 -> 0.0068403579 | G15: =GroupData!G12 -> 0.5 | H15: =GroupData!H12 -> 0.47738095 | ... R15: =GroupData!R12 -> 0.015431239
A16: =GroupData!A6 -> + | B16: =GroupData!B6 -> 10Hz | C16: =GroupData!C6 -> NoTreatment | D16: =GroupData!D6 -> 0.875 | E16: =GroupData!E6 -> 0.83676471 | F16: =GroupData!F6 -> 0.01346424 | G16: =GroupData!G6 -> 0.6 | H16: =GroupData!H6 -> 0.57689076 | ... R16: =GroupData!R6 -> 0.0088586015
A17: =GroupData!A14 -> + | B17: =GroupData!B14 -> 10Hz | C17: =GroupData!C14 -> Ctrl-IP | D17: =GroupData!D14 -> 0.85714286 | E17: =GroupData!E14 -> 0.85340136 | F17: =GroupData!F14 -> 0.010035969 | G17: =GroupData!G14 -> 0.625 | H17: =GroupData!H14 -> 0.60308123 | ... R17: =GroupData!R14 -> 0.01999509
A18: =GroupData!A16 -> + | B18: =GroupData!B16 -> 10Hz | C18: =GroupData!C16 -> Amph 1 | D18: =GroupData!D16 -> 0.875 | E18: =GroupData!E16 -> 0.87380952 | F18: =GroupData!F16 -> 0.0011021668 | G18: =GroupData!G16 -> 0.58823529 | H18: =GroupData!H16 -> 0.60784314 | ... R18: =GroupData!R16 -> 0.014940634
A19: =GroupData!A18 -> + | B19: =GroupData!B18 -> 10Hz | C19: =GroupData!C18 -> Amph 2.5 | D19: =GroupData!D18 -> 0.8 | E19: =GroupData!E18 -> 0.85266607 | F19: =GroupData!F18 -> 0.011501558 | G19: =GroupData!G18 -> 0.625 | H19: =GroupData!H18 -> 0.59464286 | ... R19: =GroupData!R18 -> 0.020572237
AJ100: Hcrt+
AJ101: Hcrt-

Sheet Atom_Plots
A1: =GroupData!A1 -> Genotype | B1: =GroupData!B1 -> LaserFreq | C1: =GroupData!C1 -> DrugGroup | D1: =GroupData!D1 -> Hits | E1: =GroupData!E1 -> Group Avg | F1: =GroupData!F1 -> STDERR | G1: =GroupData!G1 -> FalseAlarms | H1: =GroupData!H1 -> Group Avg | ... R1: =GroupData!R1 -> STDERR
A2: =GroupData!A3 -> - | B2: =GroupData!B3 -> 0Hz | C2: =GroupData!C3 -> NoTreatment | D2: =GroupData!D3 -> 0.86666667 | E2: =GroupData!E3 -> 0.8452381 | F2: =GroupData!F3 -> 0.027256817 | G2: =GroupData!G3 -> 0.25 | H2: =GroupData!H3 -> 0.21065426 | ... R2: =GroupData!R3 -> 0.014205954
A3: =GroupData!A5 -> - | B3: =GroupData!B5 -> 5Hz | C3: =GroupData!C5 -> NoTreatment | D3: =GroupData!D5 -> 0.88235294 | E3: =GroupData!E5 -> 0.85453681 | F3: =GroupData!F5 -> 0.020032071 | G3: =GroupData!G5 -> 0.25 | H3: =GroupData!H5 -> 0.23333333 | ... R3: =GroupData!R5 -> 0.023498811
A4: =GroupData!A9 -> - | B4: =GroupData!B9 -> 5Hz | C4: =GroupData!C9 -> Ctrl-IP | D4: =GroupData!D9 -> 0.875 | E4: =GroupData!E9 -> 0.88191777 | F4: =GroupData!F9 -> 0.014262443 | G4: =GroupData!G9 -> 0.25 | H4: =GroupData!H9 -> 0.2452381 | ... R4: =GroupData!R9 -> 0.014660398
A5: =GroupData!A21 -> - | B5: =GroupData!B21 -> 5Hz | C5: =GroupData!C21 -> Atom 1 | D5: =GroupData!D21 -> 0.86666667 | E5: =GroupData!E21 -> 0.89977491 | F5: =GroupData!F21 -> 0.011071072 | G5: =GroupData!G21 -> 0.25 | H5: =GroupData!H21 -> 0.19842437 | ... R5: =GroupData!R21 -> 0.011553655
A6: =GroupData!A23 -> - | B6: =GroupData!B23 -> 5Hz | C6: =GroupData!C23 -> Atom 5 | D6: =GroupData!D23 -> 0.88235294 | E6: =GroupData!E23 -> 0.88778511 | F6: =GroupData!F23 -> 0.017532514 | G6: =GroupData!G23 -> 0.125 | H6: =GroupData!H23 -> 0.13406863 | ... R6: =GroupData!R23 -> 0.010213321
A7: =GroupData!A7 -> - | B7: =GroupData!B7 -> 10Hz | C7: =GroupData!C7 -> NoTreatment | D7: =GroupData!D7 -> 0.8125 | E7: =GroupData!E7 -> 0.83571429 | F7: =GroupData!F7 -> 0.018110448 | G7: =GroupData!G7 -> 0.26666667 | H7: =GroupData!H7 -> 0.2547619 | ... R7: =GroupData!R7 -> 0.0078663356
A8: =GroupData!A15 -> - | B8: =GroupData!B15 -> 10Hz | C8: =GroupData!C15 -> Ctrl-IP | D8: =GroupData!D15 -> 0.75 | E8: =GroupData!E15 -> 0.8270008 | F8: =GroupData!F15 -> 0.019849389 | G8: =GroupData!G15 -> 0.25 | H8: =GroupData!H15 -> 0.22738095 | ... R8: =GroupData!R15 -> 0.013926755
A9: =GroupData!A25 -> - | B9: =GroupData!B25 -> 10Hz | C9: =GroupData!C25 -> Atom 1 | D9: =GroupData!D25 -> 0.86666667 | E9: =GroupData!E25 -> 0.87164366 | F9: =GroupData!F25 -> 0.011896134 | G9: =GroupData!G25 -> 0.1875 | H9: =GroupData!H25 -> 0.23480392 | ... R9: =GroupData!R25 -> 0.011680825
A10: =GroupData!A27 -> - | B10: =GroupData!B27 -> 10Hz | C10: =GroupData!C27 -> Atom 5 | D10: =GroupData!D27 -> 0.88235294 | E10: =GroupData!E27 -> 0.90623749 | F10: =GroupData!F27 -> 0.017670568 | G10: =GroupData!G27 -> 0.1875 | H10: =GroupData!H27 -> 0.16144958 | ... R10: =GroupData!R27 -> 0.016192977
A11: =GroupData!A2 -> + | B11: =GroupData!B2 -> 0Hz | C11: =GroupData!C2 -> NoTreatment | D11: =GroupData!D2 -> 0.875 | E11: =GroupData!E2 -> 0.85340136 | F11: =GroupData!F2 -> 0.010035969 | G11: =GroupData!G2 -> 0.23529412 | H11: =GroupData!H2 -> 0.25776311 | ... R11: =GroupData!R2 -> 0.0062406601
A12: =GroupData!A4 -> + | B12: =GroupData!B4 -> 5Hz | C12: =GroupData!C4 -> NoTreatment | D12: =GroupData!D4 -> 0.875 | E12: =GroupData!E4 -> 0.87366947 | F12: =GroupData!F4 -> 0.0019196217 | G12: =GroupData!G4 -> 0.33333333 | H12: =GroupData!H4 -> 0.3452381 | ... R12: =GroupData!R4 -> 0.023968053
A13: =GroupData!A8 -> + | B13: =GroupData!B8 -> 5Hz | C13: =GroupData!C8 -> Ctrl-IP | D13: =GroupData!D8 -> 0.85714286 | E13: =GroupData!E8 -> 0.85280612 | F13: =GroupData!F8 -> 0.017032173 | G13: =GroupData!G8 -> 0.375 | H13: =GroupData!H8 -> 0.33368347 | ... R13: =GroupData!R8 -> 0.016060254
A14: =GroupData!A20 -> + | B14: =GroupData!B20 -> 5Hz | C14: =GroupData!C20 -> Atom 1 | D14: =GroupData!D20 -> 0.86666667 | E14: =GroupData!E20 -> 0.83788515 | F14: =GroupData!F20 -> 0.011529539 | G14: =GroupData!G20 -> 0.25 | H14: =GroupData!H20 -> 0.27654062 | ... R14: =GroupData!R20 -> 0.024062058
A15: =GroupData!A22 -> + | B15: =GroupData!B22 -> 5Hz | C15: =GroupData!C22 -> Atom 5 | D15: =GroupData!D22 -> 0.88235294 | E15: =GroupData!E22 -> 0.85521709 | F15: =GroupData!F22 -> 0.011879681 | G15: =GroupData!G22 -> 0.25 | H15: =GroupData!H22 -> 0.23690476 | ... R15: =GroupData!R22 -> 0.013096707
A16: =GroupData!A6 -> + | B16: =GroupData!B6 -> 10Hz | C16: =GroupData!C6 -> NoTreatment | D16: =GroupData!D6 -> 0.875 | E16: =GroupData!E6 -> 0.83676471 | F16: =GroupData!F6 -> 0.01346424 | G16: =GroupData!G6 -> 0.6 | H16: =GroupData!H6 -> 0.57689076 | ... R16: =GroupData!R6 -> 0.0088586015
A17: =GroupData!A14 -> + | B17: =GroupData!B14 -> 10Hz | C17: =GroupData!C14 -> Ctrl-IP | D17: =GroupData!D14 -> 0.85714286 | E17: =GroupData!E14 -> 0.85340136 | F17: =GroupData!F14 -> 0.010035969 | G17: =GroupData!G14 -> 0.625 | H17: =GroupData!H14 -> 0.60308123 | ... R17: =GroupData!R14 -> 0.01999509
A18: =GroupData!A24 -> + | B18: =GroupData!B24 -> 10Hz | C18: =GroupData!C24 -> Atom 1 | D18: =GroupData!D24 -> 0.86666667 | E18: =GroupData!E24 -> 0.8910014 | F18: =GroupData!F24 -> 0.011634002 | G18: =GroupData!G24 -> 0.5 | H18: =GroupData!H24 -> 0.46477591 | ... R18: =GroupData!R24 -> 0.019793868
A19: =GroupData!A26 -> + | B19: =GroupData!B26 -> 10Hz | C19: =GroupData!C26 -> Atom 5 | D19: =GroupData!D26 -> 0.88235294 | E19: =GroupData!E26 -> 0.90105042 | F19: =GroupData!F26 -> 0.011595581 | G19: =GroupData!G26 -> 0.375 | H19: =GroupData!H26 -> 0.38214286 | ... R19: =GroupData!R26 -> 0.0068069013

Sheet BI_Plots
A1: =GroupData!A1 -> Genotype | B1: =GroupData!B1 -> LaserFreq | C1: =GroupData!C1 -> DrugGroup | D1: =GroupData!D1 -> Hits | E1: =GroupData!E1 -> Group Avg | F1: =GroupData!F1 -> STDERR | G1: =GroupData!G1 -> FalseAlarms | H1: =GroupData!H1 -> Group Avg | ... R1: =GroupData!R1 -> STDERR
A2: =GroupData!A3 -> - | B2: =GroupData!B3 -> 0Hz | C2: =GroupData!C3 -> NoTreatment | D2: =GroupData!D3 -> 0.86666667 | E2: =GroupData!E3 -> 0.8452381 | F2: =GroupData!F3 -> 0.027256817 | G2: =GroupData!G3 -> 0.25 | H2: =GroupData!H3 -> 0.21065426 | ... R2: =GroupData!R3 -> 0.014205954
A3: =GroupData!A5 -> - | B3: =GroupData!B5 -> 5Hz | C3: =GroupData!C5 -> NoTreatment | D3: =GroupData!D5 -> 0.88235294 | E3: =GroupData!E5 -> 0.85453681 | F3: =GroupData!F5 -> 0.020032071 | G3: =GroupData!G5 -> 0.25 | H3: =GroupData!H5 -> 0.23333333 | ... R3: =GroupData!R5 -> 0.023498811
A4: =GroupData!A29 -> - | B4: =GroupData!B29 -> 5Hz | C4: =GroupData!C29 -> Ctrl-Oral | D4: =GroupData!D29 -> 0.8125 | E4: =GroupData!E29 -> 0.8480042 | F4: =GroupData!F29 -> 0.016123745 | G4: =GroupData!G29 -> 0.25 | H4: =GroupData!H29 -> 0.29796919 | ... R4: =GroupData!R29 -> 0.028891755
A5: =GroupData!A31 -> - | B5: =GroupData!B31 -> 5Hz | C5: =GroupData!C31 -> BI 2.5 | D5: =GroupData!D31 -> 0.8125 | E5: =GroupData!E31 -> 0.84328231 | F5: =GroupData!F31 -> 0.010236424 | G5: =GroupData!G31 -> 0.29411765 | H5: =GroupData!H31 -> 0.27237395 | ... R5: =GroupData!R31 -> 0.012919149
A6: =GroupData!A33 -> - | B6: =GroupData!B33 -> 5Hz | C6: =GroupData!C33 -> BI 7.5 | D6: =GroupData!D33 -> 0.88235294 | E6: =GroupData!E33 -> 0.8647409 | F6: =GroupData!F33 -> 0.0082838177 | G6: =GroupData!G33 -> 0.25 | H6: =GroupData!H33 -> 0.24373249 | ... R6: =GroupData!R33 -> 0.0088356377
A7: =GroupData!A35 -> - | B7: =GroupData!B35 -> 5Hz | C7: =GroupData!C35 -> BI 12.5 | D7: =GroupData!D35 -> 0.875 | E7: =GroupData!E35 -> 0.87261905 | F7: =GroupData!F35 -> 0.0014228912 | G7: =GroupData!G35 -> 0.1875 | H7: =GroupData!H35 -> 0.20714286 | ... R7: =GroupData!R35 -> 0.012008132
A8: =GroupData!A7 -> - | B8: =GroupData!B7 -> 10Hz | C8: =GroupData!C7 -> NoTreatment | D8: =GroupData!D7 -> 0.8125 | E8: =GroupData!E7 -> 0.83571429 | F8: =GroupData!F7 -> 0.018110448 | G8: =GroupData!G7 -> 0.26666667 | H8: =GroupData!H7 -> 0.2547619 | ... R8: =GroupData!R7 -> 0.0078663356
A9: =GroupData!A37 -> - | B9: =GroupData!B37 -> 10Hz | C9: =GroupData!C37 -> Ctrl-Oral | D9: =GroupData!D37 -> 0.875 | E9: =GroupData!E37 -> 0.87366947 | F9: =GroupData!F37 -> 0.0019196217 | G9: =GroupData!G37 -> 0.26666667 | H9: =GroupData!H37 -> 0.27261905 | ... R9: =GroupData!R37 -> 0.017707139
A10: =GroupData!A39 -> - | B10: =GroupData!B39 -> 10Hz | C10: =GroupData!C39 -> BI 2.5 | D10: =GroupData!D39 -> 0.8125 | E10: =GroupData!E39 -> 0.83112745 | F10: =GroupData!F39 -> 0.0086690605 | G10: =GroupData!G39 -> 0.26666667 | H10: =GroupData!H39 -> 0.23532913 | ... R10: =GroupData!R39 -> 0.016741326
A11: =GroupData!A41 -> - | B11: =GroupData!B41 -> 10Hz | C11: =GroupData!C41 -> BI 7.5 | D11: =GroupData!D41 -> 0.8 | E11: =GroupData!E41 -> 0.8355042 | F11: =GroupData!F41 -> 0.018304285 | G11: =GroupData!G41 -> 0.2 | H11: =GroupData!H41 -> 0.21130952 | ... R11: =GroupData!R41 -> 0.016724085
A12: =GroupData!A43 -> - | B12: =GroupData!B43 -> 10Hz | C12: =GroupData!C43 -> BI 12.5 | D12: =GroupData!D43 -> 0.82352941 | E12: =GroupData!E43 -> 0.8210084 | F12: =GroupData!F43 -> 0.0089844484 | G12: =GroupData!G43 -> 0.1875 | H12: =GroupData!H43 -> 0.16323529 | ... R12: =GroupData!R43 -> 0.015494553
A13: =GroupData!A2 -> + | B13: =GroupData!B2 -> 0Hz | C13: =GroupData!C2 -> NoTreatment | D13: =GroupData!D2 -> 0.875 | E13: =GroupData!E2 -> 0.85340136 | F13: =GroupData!F2 -> 0.010035969 | G13: =GroupData!G2 -> 0.23529412 | H13: =GroupData!H2 -> 0.25776311 | ... R13: =GroupData!R2 -> 0.0062406601
A14: =GroupData!A4 -> + | B14: =GroupData!B4 -> 5Hz | C14: =GroupData!C4 -> NoTreatment | D14: =GroupData!D4 -> 0.875 | E14: =GroupData!E4 -> 0.87366947 | F14: =GroupData!F4 -> 0.0019196217 | G14: =GroupData!G4 -> 0.33333333 | H14: =GroupData!H4 -> 0.3452381 | ... R14: =GroupData!R4 -> 0.023968053
A15: =GroupData!A28 -> + | B15: =GroupData!B28 -> 5Hz | C15: =GroupData!C28 -> Ctrl-Oral | D15: =GroupData!D28 -> 0.8125 | E15: =GroupData!E28 -> 0.89212185 | F15: =GroupData!F28 -> 0.016408643 | G15: =GroupData!G28 -> 0.375 | H15: =GroupData!H28 -> 0.36666667 | ... R15: =GroupData!R28 -> 0.018862644
A16: =GroupData!A30 -> + | B16: =GroupData!B30 -> 5Hz | C16: =GroupData!C30 -> BI 2.5 | D16: =GroupData!D30 -> 0.8125 | E16: =GroupData!E30 -> 0.84688375 | F16: =GroupData!F30 -> 0.017017723 | G16: =GroupData!G30 -> 0.3125 | H16: =GroupData!H30 -> 0.25238095 | ... R16: =GroupData!R30 -> 0.026791562
A17: =GroupData!A32 -> + | B17: =GroupData!B32 -> 5Hz | C17: =GroupData!C32 -> BI 7.5 | D17: =GroupData!D32 -> 0.82352941 | E17: =GroupData!E32 -> 0.83788515 | F17: =GroupData!F32 -> 0.011529539 | G17: =GroupData!G32 -> 0.25 | H17: =GroupData!H32 -> 0.24345238 | ... R17: =GroupData!R32 -> 0.009844363
A18: =GroupData!A34 -> + | B18: =GroupData!B34 -> 5Hz | C18: =GroupData!C34 -> BI 12.5 | D18: =GroupData!D34 -> 0.82352941 | E18: =GroupData!E34 -> 0.82762605 | F18: =GroupData!F34 -> 0.01259616 | G18: =GroupData!G34 -> 0.25 | H18: =GroupData!H34 -> 0.23480392 | ... R18: =GroupData!R34 -> 0.016414806
A19: =GroupData!A6 -> + | B19: =GroupData!B6 -> 10Hz | C19: =GroupData!C6 -> NoTreatment | D19: =GroupData!D6 -> 0.875 | E19: =GroupData!E6 -> 0.83676471 | F19: =GroupData!F6 -> 0.01346424 | G19: =GroupData!G6 -> 0.6 | H19: =GroupData!H6 -> 0.57689076 | ... R19: =GroupData!R6 -> 0.0088586015
A20: =GroupData!A36 -> + | B20: =GroupData!B36 -> 10Hz | C20: =GroupData!C36 -> Ctrl-Oral | D20: =GroupData!D36 -> 0.88235294 | E20: =GroupData!E36 -> 0.85738796 | F20: =GroupData!F36 -> 0.0096649348 | G20: =GroupData!G36 -> 0.6 | H20: =GroupData!H36 -> 0.56796218 | ... R20: =GroupData!R36 -> 0.020484413
A21: =GroupData!A38 -> + | B21: =GroupData!B38 -> 10Hz | C21: =GroupData!C38 -> BI 2.5 | D21: =GroupData!D38 -> 0.88235294 | E21: =GroupData!E38 -> 0.90997899 | F21: =GroupData!F38 -> 0.011676183 | G21: =GroupData!G38 -> 0.4375 | H21: =GroupData!H38 -> 0.43746499 | ... R21: =GroupData!R38 -> 0.013350337
A22: =GroupData!A40 -> + | B22: =GroupData!B40 -> 10Hz | C22: =GroupData!C40 -> BI 7.5 | D22: =GroupData!D40 -> 0.86666667 | E22: =GroupData!E40 -> 0.88259804 | F22: =GroupData!F40 -> 0.0086838969 | G22: =GroupData!G40 -> 0.33333333 | H22: =GroupData!H40 -> 0.3337535 | ... R22: =GroupData!R40 -> 0.020705535
A23: =GroupData!A42 -> + | B23: =GroupData!B42 -> 10Hz | C23: =GroupData!C42 -> BI 12.5 | D23: =GroupData!D42 -> 0.875 | E23: =GroupData!E42 -> 0.84628852 | F23: =GroupData!F42 -> 0.012609168 | G23: =GroupData!G42 -> 0.25 | H23: =GroupData!H42 -> 0.22559524 | ... R23: =GroupData!R42 -> 0.023368076
