Workbook

Sheet Export Summary
B3: This document was exported from Numbers. Each table was converted to an Excel worksheet. All other objects on each Numbers sheet were placed on separate worksheets. Please be aware that formula calculations may differ in Excel.
B7: Numbers Sheet Name | C7: Numbers Table Name | D7: Excel Worksheet Name
B9: Allanite Results for Panel A
C10: Raw Allanite Results | D10: Allanite Results for Panel A -
C11: Compressed Allanite Results | D11: Allanite Results for Panel A -1
B12: Allanite Results for Panel B
C13: Raw Allanite Results | D13: Allanite Results for Panel B -
C14: Simplified and Averaged Allanite Results | D14: Allanite Results for Panel B -1

Sheet Allanite Results for Panel A - 
A1: Raw Allanite Results
A2: Sample Name | B2: Sample Type | C2: Label | D2: Sample # | E2: La | F2: Ce | G2: Pr | H2: Nd | I2: Sm | J2: Eu | K2: Gd | L2: Tb | M2: Dy | N2: Ho | O2: Er | P2: Tm | Q2: Yb | R2: Lu | S2: Sc | T2: Y | U2: Total REE | V2: Average REE | W2: SD REE | X2: t-Test with no bac | Y2: t-Test with HNO3 | Z2: t-Test with WT | AA2: Ca | AB2: Mg | AC2: Li | AD2: Al | AE2: Cu | AF2: V | AG2: Sr | AH2: Co | AI2: Fe | AJ2: Total Other Metals | AK2: Average Other Metals | AL2: SD Other Metals | AM2: t-Test with no bac | AN2: t-Test with HNO3 | AO2: t-Test with WT
A3: A75 | B3: Media | C3: no bac | D3: 1 | E3: 2.01 | F3: 5.09 | G3: 0.44 | H3: 1.38 | I3: 0.13 | J3: 0.01 | K3: 0.09 | L3: 0.01 | M3: 0.04 | N3: 0.01 | O3: 0.02 | P3: 0 | Q3: 0.01 | R3: 0 | S3: 0.41 | T3: 0.19 | U3: =SUM(E3:T3) -> 9.84 | V3: =AVERAGE(U3:U6) -> 9.0625 | W3: =STDEV(U3:U6) -> 0.87297862 | AA3: 359.17 | AB3: 75.38 | AC3: 0.93 | AD3: 332.61 | AE3: 9.56 | AF3: 0.53 | AG3: 4.38 | AH3: 2.37 | AI3: 0 | AJ3: =SUM(AA3:AI3) -> 784.93 | AK3: =AVERAGE(AJ3:AJ6) -> 367.1125 | AL3: =STDEV(AJ3:AJ6) -> 311.32691
A4: A75 | B4: Media | C4: no bac | D4: 2 | E4: 1.6 | F4: 4.07 | G4: 0.32 | H4: 0.99 | I4: 0.09 | J4: 0.01 | K4: 0.07 | L4: 0.01 | M4: 0.02 | N4: 0.01 | O4: 0.01 | P4: 0.01 | Q4: 0.01 | R4: 0 | S4: 0.44 | T4: 0.15 | U4: =SUM(E4:T4) -> 7.81 | AA4: 0 | AB4: 57.97 | AC4: 2.79 | AD4: 28.42 | AE4: 8.44 | AF4: 0.49 | AG4: 4.78 | AH4: 2.7 | AI4: 0 | AJ4: =SUM(AA4:AI4) -> 105.59
A5: A75 | B5: Media | C5: no bac | D5: 3 | E5: 1.9 | F5: 4.77 | G5: 0.41 | H5: 1.35 | I5: 0.11 | J5: 0.01 | K5: 0.08 | L5: 0.01 | M5: 0.03 | N5: 0.01 | O5: 0.02 | P5: 0 | Q5: 0.01 | R5: 0 | S5: 0.43 | T5: 0.17 | U5: =SUM(E5:T5) -> 9.31 | AA5: 41.29 | AB5: 68.74 | AC5: 0.93 | AD5: 29.63 | AE5: 7.98 | AF5: 0.34 | AG5: 4.11 | AH5: 2.54 | AI5: 0 | AJ5: =SUM(AA5:AI5) -> 155.56
A6: A75 | B6: Media | C6: no bac | D6: 4 | E6: 1.91 | F6: 4.78 | G6: 0.41 | H6: 1.28 | I6: 0.12 | J6: 0.01 | K6: 0.08 | L6: 0.01 | M6: 0.03 | N6: 0.01 | O6: 0.01 | P6: 0 | Q6: 0.01 | R6: 0 | S6: 0.45 | T6: 0.18 | U6: =SUM(E6:T6) -> 9.29 | AA6: 284.38 | AB6: 78.23 | AC6: 1.4 | AD6: 39.28 | AE6: 10.63 | AF6: 0.64 | AG6: 5.69 | AH6: 2.12 | AI6: 0 | AJ6: =SUM(AA6:AI6) -> 422.37
A7: A75 | B7: HNO3 | C7: HNO_3 | D7: 1 | E7: 397.72 | F7: 792.64 | G7: 87.88 | H7: 320.48 | I7: 39.99 | J7: 2.56 | K7: 25.34 | L7: 3.03 | M7: 10.62 | N7: 1.71 | O7: 4.56 | P7: 0.44 | Q7: 2.59 | R7: 0.39 | S7: 2.23 | T7: 39.44 | U7: =SUM(E7:T7) -> 1731.62 | V7: =AVERAGE(U7:U10) -> 1887.0825 | W7: =STDEV(U7:U10) -> 122.4654 | X7: =TTEST($U$3:$U$6,U7:U10,2,2) -> 7.9766336e-08 | AA7: 1275.4 | AB7: 658.77 | AC7: 7.45 | AD7: 3311.54 | AE7: 12.41 | AF7: 1.6 | AG7: 19.3 | AH7: 4.68 | AI7: 10032.81 | AJ7: =SUM(AA7:AI7) -> 15323.96 | AK7: =AVERAGE(AJ7:AJ10) -> 16789.347 | AL7: =STDEV(AJ7:AJ10) -> 1138.6463 | AM7: =TTEST($AJ$3:$AJ$6,AJ7:AJ10,2,2) -> 1.4255835e-07
A8: A75 | B8: HNO3 | C8: HNO_3 | D8: 2 | E8: 459.15 | F8: 915.32 | G8: 100.97 | H8: 365.91 | I8: 45.78 | J8: 2.9 | K8: 29.04 | L8: 3.47 | M8: 12.18 | N8: 1.98 | O8: 5.17 | P8: 0.5 | Q8: 3.01 | R8: 0.45 | S8: 2.38 | T8: 45.18 | U8: =SUM(E8:T8) -> 1993.39 | AA8: 1967.25 | AB8: 704.68 | AC8: 13.51 | AD8: 3916.71 | AE8: 62.08 | AF8: 3.22 | AG8: 21.69 | AH8: 5.56 | AI8: 11025.07 | AJ8: =SUM(AA8:AI8) -> 17719.77
A9: A75 | B9: HNO3 | C9: HNO_3 | D9: 3 | E9: 457.3 | F9: 902.75 | G9: 100.36 | H9: 364.08 | I9: 45.88 | J9: 2.88 | K9: 28.62 | L9: 3.43 | M9: 12.2 | N9: 1.92 | O9: 5.24 | P9: 0.51 | Q9: 2.9 | R9: 0.44 | S9: 2.43 | T9: 45.2 | U9: =SUM(E9:T9) -> 1976.14 | AA9: 2042.04 | AB9: 740.46 | AC9: 17.7 | AD9: 3822.49 | AE9: 21.3 | AF9: 3.8 | AG9: 22.45 | AH9: 5.01 | AI9: 10987.14 | AJ9: =SUM(AA9:AI9) -> 17662.39
A10: A75 | B10: HNO3 | C10: HNO_3 | D10: 4 | E10: 426.88 | F10: 845.93 | G10: 93.61 | H10: 339.95 | I10: 42.4 | J10: 2.69 | K10: 26.73 | L10: 3.2 | M10: 11.29 | N10: 1.82 | O10: 4.79 | P10: 0.47 | Q10: 2.67 | R10: 0.41 | S10: 2.33 | T10: 42.01 | U10: =SUM(E10:T10) -> 1847.18 | AA10: 1462.4 | AB10: 692.65 | AC10: 13.97 | AD10: 3678.74 | AE10: 21.36 | AF10: 3.39 | AG10: 20.88 | AH10: 5.27 | AI10: 10552.61 | AJ10: =SUM(AA10:AI10) -> 16451.27
A11: A75 | B11: S112 | C11: {\Delta \it pstS}, P_{112}:{\it mgdh} | D11: 1 | E11: 73.89 | F11: 185.55 | G11: 20.61 | H11: 77.67 | I11: 11.36 | J11: 0.85 | K11: 8.33 | L11: 1.05 | M11: 4.34 | N11: 0.73 | O11: 1.91 | P11: 0.2 | Q11: 1.18 | R11: 0.19 | S11: 1.71 | T11: 16.76 | U11: =SUM(E11:T11) -> 406.33 | V11: =AVERAGE(U11:U14) -> 398.4425 | W11: =STDEV(U11:U14) -> 23.855749 | X11: =TTEST(U$3:U$6,U11:U14,2,2) -> 5.5179048e-08 | Y11: =TTEST(U$7:U$10,U11:U14,2,2) -> 3.5566292e-07 | AA11: 1350.17 | AB11: 419.43 | AC11: 13.98 | AD11: 2062.76 | AE11: 16.07 | AF11: 2.56 | AG11: 17.88 | AH11: 4.3 | AI11: 5723.2 | AJ11: =SUM(AA11:AI11) -> 9610.35 | AK11: =AVERAGE(AJ11:AJ14) -> 9211.065 | AL11: =STDEV(AJ11:AJ14) -> 437.74567 | AM11: =TTEST(AJ$3:AJ$6,AJ11:AJ14,2,2) -> 5.2191253e-08 | AN11: =TTEST(AJ$7:AJ$10,AJ11:AJ14,2,2) -> 1.6601056e-05
A12: A75 | B12: S112 | C12: {\Delta \it pstS}, P_{112}:{\it mgdh} | D12: 2 | E12: 77.67 | F12: 196.28 | G12: 21.77 | H12: 81.68 | I12: 11.93 | J12: 0.91 | K12: 8.26 | L12: 1.11 | M12: 4.66 | N12: 0.78 | O12: 2.06 | P12: 0.22 | Q12: 1.33 | R12: 0.2 | S12: 1.74 | T12: 17.86 | U12: =SUM(E12:T12) -> 428.46 | AA12: 1350.19 | AB12: 453.62 | AC12: 14.91 | AD12: 2147.29 | AE12: 10.73 | AF12: 1.96 | AG12: 16.79 | AH12: 4.16 | AI12: 5539.82 | AJ12: =SUM(AA12:AI12) -> 9539.47
A13: A75 | B13: S112 | C13: {\Delta \it pstS}, P_{112}:{\it mgdh} | D13: 3 | E13: 68.26 | F13: 171.66 | G13: 19.13 | H13: 71.68 | I13: 10.58 | J13: 0.79 | K13: 7.5 | L13: 0.98 | M13: 4 | N13: 0.69 | O13: 1.75 | P13: 0.19 | Q13: 1.13 | R13: 0.18 | S13: 1.7 | T13: 15.69 | U13: =SUM(E13:T13) -> 375.91 | AA13: 1555.87 | AB13: 437.48 | AC13: 8.38 | AD13: 1985.47 | AE13: 10.67 | AF13: 1.66 | AG13: 14.26 | AH13: 3.84 | AI13: 4975.91 | AJ13: =SUM(AA13:AI13) -> 8993.54
A14: A75 | B14: S112 | C14: {\Delta \it pstS}, P_{112}:{\it mgdh} | D14: 4 | E14: 69.8 | F14: 174.53 | G14: 19.48 | H14: 73.07 | I14: 10.64 | J14: 0.82 | K14: 7.61 | L14: 1 | M14: 4.14 | N14: 0.69 | O14: 1.83 | P14: 0.2 | Q14: 1.21 | R14: 0.18 | S14: 1.6 | T14: 16.27 | U14: =SUM(E14:T14) -> 383.07 | AA14: 1275.38 | AB14: 464.06 | AC14: 8.38 | AD14: 1993.93 | AE14: 9.46 | AF14: 1.54 | AG14: 13.98 | AH14: 7.25 | AI14: 4926.92 | AJ14: =SUM(AA14:AI14) -> 8700.9
A15: A75 | B15: WT | C15: wt | D15: 1 | E15: 57.69 | F15: 139.05 | G15: 15.46 | H15: 55.59 | I15: 7.41 | J15: 0.61 | K15: 5.02 | L15: 0.65 | M15: 2.52 | N15: 0.42 | O15: 1.12 | P15: 0.12 | Q15: 0.66 | R15: 0.11 | S15: 1.59 | T15: 9.89 | U15: =SUM(E15:T15) -> 297.91 | V15: =AVERAGE(U15:U18) -> 295.075 | W15: =STDEV(U15:U18) -> 22.405789 | X15: =TTEST(U$3:U$6,U15:U18,2,2) -> 2.3904967e-07 | Y15: =TTEST(U$7:U$10,U15:U18,2,2) -> 2.3551552e-07 | Z15: =TTEST(U$11:U$14,U15:U18,2,2) -> 0.00073510349 | AA15: 1649.39 | AB15: 357.07 | AC15: 10.25 | AD15: 1609.94 | AE15: 10.61 | AF15: 1.84 | AG15: 16.58 | AH15: 4.24 | AI15: 4439.73 | AJ15: =SUM(AA15:AI15) -> 8099.65 | AK15: =AVERAGE(AJ15:AJ18) -> 7450.425 | AL15: =STDEV(AJ15:AJ18) -> 791.49022 | AM15: =TTEST(AJ$3:AJ$6,AJ15:AJ18,2,2) -> 2.9881931e-06 | AN15: =TTEST(AJ$7:AJ$10,AJ15:AJ18,2,2) -> 1.0378949e-05 | AO15: =TTEST(AJ$11:AJ$14,AJ15:AJ18,2,2) -> 0.008047213
A16: A75 | B16: WT | C16: wt | D16: 2 | E16: 52.05 | F16: 125.61 | G16: 14.15 | H16: 51.36 | I16: 7.1 | J16: 0.59 | K16: 4.78 | L16: 0.62 | M16: 2.44 | N16: 0.42 | O16: 1.09 | P16: 0.12 | Q16: 0.67 | R16: 0.12 | S16: 1.42 | T16: 9.64 | U16: =SUM(E16:T16) -> 272.18 | AA16: 1237.99 | AB16: 281.42 | AC16: 7.92 | AD16: 1410.72 | AE16: 11.2 | AF16: 0.96 | AG16: 16.58 | AH16: 3.82 | AI16: 3717.16 | AJ16: =SUM(AA16:AI16) -> 6687.77
A17: A75 | B17: WT | C17: wt | D17: 3 | E17: 55.2 | F17: 133.85 | G17: 14.77 | H17: 52.84 | I17: 7.22 | J17: 0.59 | K17: 4.78 | L17: 0.62 | M17: 2.42 | N17: 0.4 | O17: 1.04 | P17: 0.11 | Q17: 0.68 | R17: 0.11 | S17: 1.49 | T17: 9.33 | U17: =SUM(E17:T17) -> 285.45 | AA17: 1144.48 | AB17: 315.29 | AC17: 9.32 | AD17: 1434.87 | AE17: 8.84 | AF17: 2.05 | AG17: 15.39 | AH17: 3.79 | AI17: 3913.64 | AJ17: =SUM(AA17:AI17) -> 6847.67
A18: A75 | B18: WT | C18: wt | D18: 4 | E18: 62.69 | F18: 151.44 | G18: 16.79 | H18: 60.68 | I18: 8.23 | J18: 0.68 | K18: 5.6 | L18: 0.72 | M18: 2.76 | N18: 0.46 | O18: 1.21 | P18: 0.13 | Q18: 0.8 | R18: 0.13 | S18: 1.63 | T18: 10.81 | U18: =SUM(E18:T18) -> 324.76 | AA18: 1462.4 | AB18: 358.65 | AC18: 7.92 | AD18: 1667.89 | AE18: 10.99 | AF18: 2.05 | AG18: 18.96 | AH18: 4.78 | AI18: 4632.97 | AJ18: =SUM(AA18:AI18) -> 8166.61

Sheet Allanite Results for Panel A -1
A1: Compressed Allanite Results
A2: Sample Name | B2: Label | C2: Total REE | D2: Average REE | E2: SD REE | F2: t-Test with no bac | G2: t-Test with HNO3 | H2: t-Test with WT | I2: Total Other Metals | J2: Average Other Metals | K2: SD Other Metals | L2: t-Test with no bac | M2: t-Test with HNO3 | N2: t-Test with WT
A3: 4 | B3: no bac | C3: 9.84 | D3: =AVERAGE(C3:C6) -> 9.0625 | E3: =STDEV(C3:C6) -> 0.87297862 | I3: 784.93 | J3: =AVERAGE(I3:I6) -> 367.1125 | K3: =STDEV(I3:I6) -> 311.32691
A4: 4 | B4: no bac | C4: 7.81 | I4: 105.59
A5: 4 | B5: no bac | C5: 9.31 | I5: 155.56
A6: 4 | B6: no bac | C6: 9.29 | I6: 422.37
A7: 1 | B7: wt | C7: 297.91 | D7: =AVERAGE(C7:C10) -> 295.075 | E7: =STDEV(C7:C10) -> 22.405789 | F7: =TTEST(C$3:C$6,C7:C10,2,2) -> 2.3904967e-07 | G7: =TTEST(C$15:C$18,C7:C10,2,2) -> 2.3551552e-07 | H7: =TTEST(C$11:C$14,C7:C10,2,2) -> 0.00073510349 | I7: 8099.65 | J7: =AVERAGE(I7:I10) -> 7450.425 | K7: =STDEV(I7:I10) -> 791.49022 | L7: =TTEST(I$3:I$6,I7:I10,2,2) -> 2.9881931e-06 | M7: =TTEST(I$15:I$18,I7:I10,2,2) -> 1.0378949e-05 | N7: =TTEST(I$11:I$14,I7:I10,2,2) -> 0.008047213
A8: 1 | B8: wt | C8: 272.18 | I8: 6687.77
A9: 1 | B9: wt | C9: 285.45 | I9: 6847.67
A10: 1 | B10: wt | C10: 324.76 | I10: 8166.61
A11: 2 | B11: {\Delta \it pstS}, P_{112}:{\it mgdh} | C11: 406.33 | D11: =AVERAGE(C11:C14) -> 398.4425 | E11: =STDEV(C11:C14) -> 23.855749 | F11: =TTEST(C$3:C$6,C11:C14,2,2) -> 5.5179048e-08 | G11: =TTEST(C$15:C$18,C11:C14,2,2) -> 3.5566292e-07 | I11: 9610.35 | J11: =AVERAGE(I11:I14) -> 9211.065 | K11: =STDEV(I11:I14) -> 437.74567 | L11: =TTEST(I$3:I$6,I11:I14,2,2) -> 5.2191253e-08 | M11: =TTEST(I$15:I$18,I11:I14,2,2) -> 1.6601056e-05
A12: 2 | B12: {\Delta \it pstS}, P_{112}:{\it mgdh} | C12: 428.46 | I12: 9539.47
A13: 2 | B13: {\Delta \it pstS}, P_{112}:{\it mgdh} | C13: 375.91 | I13: 8993.54
A14: 2 | B14: {\Delta \it pstS}, P_{112}:{\it mgdh} | C14: 383.07 | I14: 8700.9
A15: 3 | B15: HNO_3 | C15: 1731.62 | D15: =AVERAGE(C15:C18) -> 1887.0825 | E15: =STDEV(C15:C18) -> 122.4654 | F15: =TTEST($C$3:$C$6,C15:C18,2,2) -> 7.9766336e-08 | I15: 15323.96 | J15: =AVERAGE(I15:I18) -> 16789.347 | K15: =STDEV(I15:I18) -> 1138.6463 | L15: =TTEST($I$3:$I$6,I15:I18,2,2) -> 1.4255835e-07
A16: 3 | B16: HNO_3 | C16: 1993.39 | I16: 17719.77
A17: 3 | B17: HNO_3 | C17: 1976.14 | I17: 17662.39
A18: 3 | B18: HNO_3 | C18: 1847.18 | I18: 16451.27

Sheet Allanite Results for Panel B - 
A1: Raw Allanite Results
A2: Label | B2: Sample # | C2: Y | D2: La | E2: Ce | F2: Pr | G2: Nd | H2: Sm | I2: Eu | J2: Gd | K2: Tb | L2: Dy | M2: Ho | N2: Er | O2: Tm | P2: Yb | Q2: Lu | R2: Sc | S2: Total Other REE | T2: Total REE | U2: Y (%) | V2: La (%) | W2: Ce (%) | X2: Pr (%) | Y2: Nd (%) | Z2: Total Other REE (%) | AA2: Total (%) | AB2: Average Y (%) | AC2: Average La (%) | AD2: Average Ce (%) | AE2: Average Pr (%) | AF2: Average Nd (%) | AG2: Average Total Other REE (%) | AH2: Total of Average (%)
A3: no bac | B3: 1 | C3: 0.19 | D3: 2.01 | E3: 5.09 | F3: 0.44 | G3: 1.38 | H3: 0.13 | I3: 0.01 | J3: 0.09 | K3: 0.01 | L3: 0.04 | M3: 0.01 | N3: 0.02 | O3: 0 | P3: 0.01 | Q3: 0 | R3: 0.41 | S3: =SUM(H3:R3) -> 0.73 | T3: =SUM(C3:R3) -> 9.84 | U3: =(C3/$T3)*100 -> 1.9308943 | V3: =(D3/$T3)*100 -> 20.426829 | W3: =(E3/$T3)*100 -> 51.727642 | X3: =(F3/$T3)*100 -> 4.4715447 | Y3: =(G3/$T3)*100 -> 14.02439 | Z3: =(S3/$T3)*100 -> 7.4186992 | AA3: =SUM(U3:Z3) -> 100 | AB3: =AVERAGE(U3:U6) -> 1.9037674 | AC3: =AVERAGE(V3:V6) -> 20.470322 | AD3: =AVERAGE(W3:W6) -> 51.632181 | AE3: =AVERAGE(X3:X6) -> 4.3465176 | AF3: =AVERAGE(Y3:Y6) -> 13.74481 | AG3: =AVERAGE(Z3:Z6) -> 7.9024014 | AH3: =SUM(AB3:AG3) -> 100
A4: no bac | B4: 2 | C4: 0.15 | D4: 1.6 | E4: 4.07 | F4: 0.32 | G4: 0.99 | H4: 0.09 | I4: 0.01 | J4: 0.07 | K4: 0.01 | L4: 0.02 | M4: 0.01 | N4: 0.01 | O4: 0.01 | P4: 0.01 | Q4: 0 | R4: 0.44 | S4: =SUM(H4:R4) -> 0.68 | T4: =SUM(C4:R4) -> 7.81 | U4: =(C4/T4)*100 -> 1.9206146 | V4: =(D4/$T4)*100 -> 20.486556 | W4: =(E4/$T4)*100 -> 52.112676 | X4: =(F4/$T4)*100 -> 4.0973111 | Y4: =(G4/$T4)*100 -> 12.676056 | Z4: =(S4/$T4)*100 -> 8.7067862 | AA4: =SUM(U4:Z4) -> 100
A5: no bac | B5: 3 | C5: 0.17 | D5: 1.9 | E5: 4.77 | F5: 0.41 | G5: 1.35 | H5: 0.11 | I5: 0.01 | J5: 0.08 | K5: 0.01 | L5: 0.03 | M5: 0.01 | N5: 0.02 | O5: 0 | P5: 0.01 | Q5: 0 | R5: 0.43 | S5: =SUM(H5:R5) -> 0.71 | T5: =SUM(C5:R5) -> 9.31 | U5: =(C5/T5)*100 -> 1.8259936 | V5: =(D5/$T5)*100 -> 20.408163 | W5: =(E5/$T5)*100 -> 51.235231 | X5: =(F5/$T5)*100 -> 4.4038668 | Y5: =(G5/$T5)*100 -> 14.500537 | Z5: =(S5/$T5)*100 -> 7.6262084 | AA5: =SUM(U5:Z5) -> 100
A6: no bac | B6: 4 | C6: 0.18 | D6: 1.91 | E6: 4.78 | F6: 0.41 | G6: 1.28 | H6: 0.12 | I6: 0.01 | J6: 0.08 | K6: 0.01 | L6: 0.03 | M6: 0.01 | N6: 0.01 | O6: 0 | P6: 0.01 | Q6: 0 | R6: 0.45 | S6: =SUM(H6:R6) -> 0.73 | T6: =SUM(C6:R6) -> 9.29 | U6: =(C6/T6)*100 -> 1.9375673 | V6: =(D6/$T6)*100 -> 20.559742 | W6: =(E6/$T6)*100 -> 51.453175 | X6: =(F6/$T6)*100 -> 4.4133477 | Y6: =(G6/$T6)*100 -> 13.778256 | Z6: =(S6/$T6)*100 -> 7.8579117 | AA6: =SUM(U6:Z6) -> 100
A7: wt | B7: 1 | C7: 9.89 | D7: 57.69 | E7: 139.05 | F7: 15.46 | G7: 55.59 | H7: 7.41 | I7: 0.61 | J7: 5.02 | K7: 0.65 | L7: 2.52 | M7: 0.42 | N7: 1.12 | O7: 0.12 | P7: 0.66 | Q7: 0.11 | R7: 1.59 | S7: =SUM(H7:R7) -> 20.23 | T7: =SUM(C7:R7) -> 297.91 | U7: =(C7/T7)*100 -> 3.3197946 | V7: =(D7/$T7)*100 -> 19.364909 | W7: =(E7/$T7)*100 -> 46.67517 | X7: =(F7/$T7)*100 -> 5.1894868 | Y7: =(G7/$T7)*100 -> 18.659998 | Z7: =(S7/$T7)*100 -> 6.7906415 | AA7: =SUM(U7:Z7) -> 100 | AB7: =AVERAGE(U7:U10) -> 3.3646759 | AC7: =AVERAGE(V7:V10) -> 19.282414 | AD7: =AVERAGE(W7:W10) -> 46.586752 | AE7: =AVERAGE(X7:X10) -> 5.1831275 | AF7: =AVERAGE(Y7:Y10) -> 18.681388 | AG7: =AVERAGE(Z7:Z10) -> 6.9016417 | AH7: =SUM(AB7:AG7) -> 100
A8: wt | B8: 2 | C8: 9.64 | D8: 52.05 | E8: 125.61 | F8: 14.15 | G8: 51.36 | H8: 7.1 | I8: 0.59 | J8: 4.78 | K8: 0.62 | L8: 2.44 | M8: 0.42 | N8: 1.09 | O8: 0.12 | P8: 0.67 | Q8: 0.12 | R8: 1.42 | S8: =SUM(H8:R8) -> 19.37 | T8: =SUM(C8:R8) -> 272.18 | U8: =(C8/T8)*100 -> 3.5417738 | V8: =(D8/$T8)*100 -> 19.123374 | W8: =(E8/$T8)*100 -> 46.149607 | X8: =(F8/$T8)*100 -> 5.1987655 | Y8: =(G8/$T8)*100 -> 18.869866 | Z8: =(S8/$T8)*100 -> 7.116614 | AA8: =SUM(U8:Z8) -> 100
A9: wt | B9: 3 | C9: 9.33 | D9: 55.2 | E9: 133.85 | F9: 14.77 | G9: 52.84 | H9: 7.22 | I9: 0.59 | J9: 4.78 | K9: 0.62 | L9: 2.42 | M9: 0.4 | N9: 1.04 | O9: 0.11 | P9: 0.68 | Q9: 0.11 | R9: 1.49 | S9: =SUM(H9:R9) -> 19.46 | T9: =SUM(C9:R9) -> 285.45 | U9: =(C9/T9)*100 -> 3.2685234 | V9: =(D9/$T9)*100 -> 19.337888 | W9: =(E9/$T9)*100 -> 46.890874 | X9: =(F9/$T9)*100 -> 5.1742862 | Y9: =(G9/$T9)*100 -> 18.511123 | Z9: =(S9/$T9)*100 -> 6.817306 | AA9: =SUM(U9:Z9) -> 100
A10: wt | B10: 4 | C10: 10.81 | D10: 62.69 | E10: 151.44 | F10: 16.79 | G10: 60.68 | H10: 8.23 | I10: 0.68 | J10: 5.6 | K10: 0.72 | L10: 2.76 | M10: 0.46 | N10: 1.21 | O10: 0.13 | P10: 0.8 | Q10: 0.13 | R10: 1.63 | S10: =SUM(H10:R10) -> 22.35 | T10: =SUM(C10:R10) -> 324.76 | U10: =(C10/T10)*100 -> 3.3286119 | V10: =(D10/$T10)*100 -> 19.303486 | W10: =(E10/$T10)*100 -> 46.631359 | X10: =(F10/$T10)*100 -> 5.1699717 | Y10: =(G10/$T10)*100 -> 18.684567 | Z10: =(S10/$T10)*100 -> 6.8820052 | AA10: =SUM(U10:Z10) -> 100
A11: P_{112}:{\it mgdh} | B11: 1 | C11: 16.76 | D11: 73.89 | E11: 185.55 | F11: 20.61 | G11: 77.67 | H11: 11.36 | I11: 0.85 | J11: 8.33 | K11: 1.05 | L11: 4.34 | M11: 0.73 | N11: 1.91 | O11: 0.2 | P11: 1.18 | Q11: 0.19 | R11: 1.71 | S11: =SUM(H11:R11) -> 31.85 | T11: =SUM(C11:R11) -> 406.33 | U11: =(C11/T11)*100 -> 4.1247262 | V11: =(D11/$T11)*100 -> 18.184727 | W11: =(E11/$T11)*100 -> 45.664854 | X11: =(F11/$T11)*100 -> 5.0722319 | Y11: =(G11/$T11)*100 -> 19.115005 | Z11: =(S11/$T11)*100 -> 7.8384564 | AA11: =SUM(U11:Z11) -> 100 | AB11: =AVERAGE(U11:U14) -> 4.1785701 | AC11: =AVERAGE(V11:V14) -> 18.173064 | AD11: =AVERAGE(W11:W14) -> 45.67537 | AE11: =AVERAGE(X11:X14) -> 5.081859 | AF11: =AVERAGE(Y11:Y14) -> 19.080466 | AG11: =AVERAGE(Z11:Z14) -> 7.8106709 | AH11: =SUM(AB11:AG11) -> 100
A12: P_{112}:{\it mgdh} | B12: 2 | C12: 17.86 | D12: 77.67 | E12: 196.28 | F12: 21.77 | G12: 81.68 | H12: 11.93 | I12: 0.91 | J12: 8.26 | K12: 1.11 | L12: 4.66 | M12: 0.78 | N12: 2.06 | O12: 0.22 | P12: 1.33 | Q12: 0.2 | R12: 1.74 | S12: =SUM(H12:R12) -> 33.2 | T12: =SUM(C12:R12) -> 428.46 | U12: =(C12/T12)*100 -> 4.1684171 | V12: =(D12/$T12)*100 -> 18.127713 | W12: =(E12/$T12)*100 -> 45.810577 | X12: =(F12/$T12)*100 -> 5.0809877 | Y12: =(G12/$T12)*100 -> 19.063623 | Z12: =(S12/$T12)*100 -> 7.7486813 | AA12: =SUM(U12:Z12) -> 100
A13: P_{112}:{\it mgdh} | B13: 3 | C13: 15.69 | D13: 68.26 | E13: 171.66 | F13: 19.13 | G13: 71.68 | H13: 10.58 | I13: 0.79 | J13: 7.5 | K13: 0.98 | L13: 4 | M13: 0.69 | N13: 1.75 | O13: 0.19 | P13: 1.13 | Q13: 0.18 | R13: 1.7 | S13: =SUM(H13:R13) -> 29.49 | T13: =SUM(C13:R13) -> 375.91 | U13: =(C13/T13)*100 -> 4.1738714 | V13: =(D13/$T13)*100 -> 18.158602 | W13: =(E13/$T13)*100 -> 45.665186 | X13: =(F13/$T13)*100 -> 5.0889841 | Y13: =(G13/$T13)*100 -> 19.068394 | Z13: =(S13/$T13)*100 -> 7.8449629 | AA13: =SUM(U13:Z13) -> 100
A14: P_{112}:{\it mgdh} | B14: 4 | C14: 16.27 | D14: 69.8 | E14: 174.53 | F14: 19.48 | G14: 73.07 | H14: 10.64 | I14: 0.82 | J14: 7.61 | K14: 1 | L14: 4.14 | M14: 0.69 | N14: 1.83 | O14: 0.2 | P14: 1.21 | Q14: 0.18 | R14: 1.6 | S14: =SUM(H14:R14) -> 29.92 | T14: =SUM(C14:R14) -> 383.07 | U14: =(C14/T14)*100 -> 4.2472655 | V14: =(D14/$T14)*100 -> 18.221213 | W14: =(E14/$T14)*100 -> 45.560864 | X14: =(F14/$T14)*100 -> 5.0852325 | Y14: =(G14/$T14)*100 -> 19.074843 | Z14: =(S14/$T14)*100 -> 7.8105829 | AA14: =SUM(U14:Z14) -> 100
A15: HNO_3 | B15: 1 | C15: 39.44 | D15: 397.72 | E15: 792.64 | F15: 87.88 | G15: 320.48 | H15: 39.99 | I15: 2.56 | J15: 25.34 | K15: 3.03 | L15: 10.62 | M15: 1.71 | N15: 4.56 | O15: 0.44 | P15: 2.59 | Q15: 0.39 | R15: 2.23 | S15: =SUM(H15:R15) -> 93.46 | T15: =SUM(C15:R15) -> 1731.62 | U15: =(C15/T15)*100 -> 2.277636 | V15: =(D15/$T15)*100 -> 22.968088 | W15: =(E15/$T15)*100 -> 45.774477 | X15: =(F15/$T15)*100 -> 5.0750165 | Y15: =(G15/$T15)*100 -> 18.507525 | Z15: =(S15/$T15)*100 -> 5.3972581 | AA15: =SUM(U15:Z15) -> 100 | AB15: =AVERAGE(U15:U18) -> 2.2764229 | AC15: =AVERAGE(V15:V18) -> 23.063152 | AD15: =AVERAGE(W15:W18) -> 45.79262 | AE15: =AVERAGE(X15:X18) -> 5.0716424 | AF15: =AVERAGE(Y15:Y18) -> 18.422804 | AG15: =AVERAGE(Z15:Z18) -> 5.3733583 | AH15: =SUM(AB15:AG15) -> 100
A16: HNO_3 | B16: 2 | C16: 45.18 | D16: 459.15 | E16: 915.32 | F16: 100.97 | G16: 365.91 | H16: 45.78 | I16: 2.9 | J16: 29.04 | K16: 3.47 | L16: 12.18 | M16: 1.98 | N16: 5.17 | O16: 0.5 | P16: 3.01 | Q16: 0.45 | R16: 2.38 | S16: =SUM(H16:R16) -> 106.86 | T16: =SUM(C16:R16) -> 1993.39 | U16: =(C16/T16)*100 -> 2.2664908 | V16: =(D16/$T16)*100 -> 23.033626 | W16: =(E16/$T16)*100 -> 45.917758 | X16: =(F16/$T16)*100 -> 5.0652406 | Y16: =(G16/$T16)*100 -> 18.356167 | Z16: =(S16/$T16)*100 -> 5.3607172 | AA16: =SUM(U16:Z16) -> 100
A17: HNO_3 | B17: 3 | C17: 45.2 | D17: 457.3 | E17: 902.75 | F17: 100.36 | G17: 364.08 | H17: 45.88 | I17: 2.88 | J17: 28.62 | K17: 3.43 | L17: 12.2 | M17: 1.92 | N17: 5.24 | O17: 0.51 | P17: 2.9 | Q17: 0.44 | R17: 2.43 | S17: =SUM(H17:R17) -> 106.45 | T17: =SUM(C17:R17) -> 1976.14 | U17: =(C17/T17)*100 -> 2.2872873 | V17: =(D17/$T17)*100 -> 23.141073 | W17: =(E17/$T17)*100 -> 45.682492 | X17: =(F17/$T17)*100 -> 5.0785875 | Y17: =(G17/$T17)*100 -> 18.423796 | Z17: =(S17/$T17)*100 -> 5.3867641 | AA17: =SUM(U17:Z17) -> 100
A18: HNO_3 | B18: 4 | C18: 42.01 | D18: 426.88 | E18: 845.93 | F18: 93.61 | G18: 339.95 | H18: 42.4 | I18: 2.69 | J18: 26.73 | K18: 3.2 | L18: 11.29 | M18: 1.82 | N18: 4.79 | O18: 0.47 | P18: 2.67 | Q18: 0.41 | R18: 2.33 | S18: =SUM(H18:R18) -> 98.8 | T18: =SUM(C18:R18) -> 1847.18 | U18: =(C18/T18)*100 -> 2.2742775 | V18: =(D18/$T18)*100 -> 23.109821 | W18: =(E18/$T18)*100 -> 45.795754 | X18: =(F18/$T18)*100 -> 5.0677249 | Y18: =(G18/$T18)*100 -> 18.403729 | Z18: =(S18/$T18)*100 -> 5.3486937 | AA18: =SUM(U18:Z18) -> 100

Sheet Allanite Results for Panel B -1
A1: Simplified and Averaged Allanite Results
A2: Label | B2: Average Y (%) | C2: Average La (%) | D2: Average Ce (%) | E2: Average Pr (%) | F2: Average Nd (%) | G2: Average Total Other REE (%) | H2: Total of Average (%)
A3: no bac | B3: ='Allanite Results for Panel B - '!AB3 -> 1.9037674 | C3: ='Allanite Results for Panel B - '!AC3 -> 20.470322 | D3: ='Allanite Results for Panel B - '!AD3 -> 51.632181 | E3: ='Allanite Results for Panel B - '!AE3 -> 4.3465176 | F3: ='Allanite Results for Panel B - '!AF3 -> 13.74481 | G3: ='Allanite Results for Panel B - '!AG3 -> 7.9024014 | H3: ='Allanite Results for Panel B - '!AH3 -> 100
A4: wt | B4: ='Allanite Results for Panel B - '!AB7 -> 3.3646759 | C4: ='Allanite Results for Panel B - '!AC7 -> 19.282414 | D4: ='Allanite Results for Panel B - '!AD7 -> 46.586752 | E4: ='Allanite Results for Panel B - '!AE7 -> 5.1831275 | F4: ='Allanite Results for Panel B - '!AF7 -> 18.681388 | G4: ='Allanite Results for Panel B - '!AG7 -> 6.9016417 | H4: ='Allanite Results for Panel B - '!AH7 -> 100
A5: P_{112}:{\it mgdh} | B5: ='Allanite Results for Panel B - '!AB11 -> 4.1785701 | C5: ='Allanite Results for Panel B - '!AC11 -> 18.173064 | D5: ='Allanite Results for Panel B - '!AD11 -> 45.67537 | E5: ='Allanite Results for Panel B - '!AE11 -> 5.081859 | F5: ='Allanite Results for Panel B - '!AF11 -> 19.080466 | G5: ='Allanite Results for Panel B - '!AG11 -> 7.8106709 | H5: ='Allanite Results for Panel B - '!AH11 -> 100
A6: HNO_3 | B6: ='Allanite Results for Panel B - '!AB15 -> 2.2764229 | C6: ='Allanite Results for Panel B - '!AC15 -> 23.063152 | D6: ='Allanite Results for Panel B - '!AD15 -> 45.79262 | E6: ='Allanite Results for Panel B - '!AE15 -> 5.0716424 | F6: ='Allanite Results for Panel B - '!AF15 -> 18.422804 | G6: ='Allanite Results for Panel B - '!AG15 -> 5.3733583 | H6: ='Allanite Results for Panel B - '!AH15 -> 100
