Workbook

Sheet Panel B
B2: Date | C2: December 30/3rd 2022 | D2: Chow diet acute feeding
B3: Experiment | C3: Feeding after CVN45502 Treatment (30mg/kg) | D3: Mixed in peanut butter
B4: Training | C4: 5 days prior to treatment
C5: Mouse ID
B6: DIETARY STATE | C6: Vehicle | D6: Body weight | E6: Initial Food | F6: Food 1 h | G6: Food Intake | H6: Food 2 h | I6: Food Intake | J6: Food 4 h | K6: Food Intake | L6: Food 8 h | M6: Food Intake | N6: Food 24 h | O6: Food Intake
B7: CHOW DIET | C7: 11 | D7: 35.6 | E7: 70.23 | F7: 69.37 | G7: =E7-F7 -> 0.86 | H7: 68.52 | I7: =E7-H7 -> 1.71 | J7: 67.91 | K7: =E7-J7 -> 2.32 | L7: 67.32 | M7: =E7-L7 -> 2.91 | N7: 65.32 | O7: =E7-N7 -> 4.91
B8: CHOW DIET | C8: 12 | D8: 36.5 | E8: 70.04 | F8: 69.09 | G8: =E8-F8 -> 0.95 | H8: 68.03 | I8: =E8-H8 -> 2.01 | J8: 67.83 | K8: =E8-J8 -> 2.21 | L8: 67.5 | M8: =E8-L8 -> 2.54 | N8: 65.78 | O8: =E8-N8 -> 4.26
B9: CHOW DIET | C9: 13 | D9: 39.1 | E9: 75.23 | F9: 74.35 | G9: =E9-F9 -> 0.88 | H9: 73.39 | I9: =E9-H9 -> 1.84 | J9: 72.89 | K9: =E9-J9 -> 2.34 | L9: 72.39 | M9: =E9-L9 -> 2.84 | N9: 71.02 | O9: =E9-N9 -> 4.21
B10: CHOW DIET | C10: 14 | D10: 32.9 | E10: 77.62 | F10: 76.72 | G10: =E10-F10 -> 0.9 | H10: 75.55 | I10: =E10-H10 -> 2.07 | J10: 75.06 | K10: =E10-J10 -> 2.56 | L10: 74.24 | M10: =E10-L10 -> 3.38 | N10: 73.82 | O10: =E10-N10 -> 3.8
B11: CHOW DIET | C11: 15 | D11: 44.3 | E11: 78.44 | F11: 77.79 | G11: =E11-F11 -> 0.65 | H11: 76.09 | I11: =E11-H11 -> 2.35 | J11: 75.86 | K11: =E11-J11 -> 2.58 | L11: 75.67 | M11: =E11-L11 -> 2.77 | N11: 74.89 | O11: =E11-N11 -> 3.55
B12: CHOW DIET | C12: 16 | D12: 34.7 | E12: 72.31 | F12: 71.47 | G12: =E12-F12 -> 0.84 | H12: 70.04 | I12: =E12-H12 -> 2.27 | J12: 69.38 | K12: =E12-J12 -> 2.93 | L12: 68.72 | M12: =E12-L12 -> 3.59 | N12: 68.09 | O12: =E12-N12 -> 4.22
B13: CHOW DIET | C13: 17 | D13: 37.8 | E13: 70.09 | F13: 69.1 | G13: =E13-F13 -> 0.99 | H13: 68.03 | I13: =E13-H13 -> 2.06 | J13: 67.62 | K13: =E13-J13 -> 2.47 | L13: 67.05 | M13: =E13-L13 -> 3.04 | N13: 66.05 | O13: =E13-N13 -> 4.04
B15: DIETARY STATE | C15: CVN45502 | D15: Body weight | E15: Initial Food | F15: Food 1 h | G15: Food Intake | H15: Food 2 h | I15: Food Intake | J15: Food 4 h | K15: Food Intake | L15: Food 8 h | M15: Food Intake | N15: Food 24 h | O15: Food Intake
B16: CHOW DIET | C16: 11 | D16: 35.4 | E16: 65.32 | F16: 64.56 | G16: =E16-F16 -> 0.76 | H16: 64.03 | I16: =E16-H16 -> 1.29 | J16: 62.79 | K16: =E16-J16 -> 2.53 | L16: 61.92 | M16: =E16-L16 -> 3.4 | N16: 60.55 | O16: =E16-N16 -> 4.77
B17: CHOW DIET | C17: 12 | D17: 36.3 | E17: 65.78 | F17: 65.09 | G17: =E17-F17 -> 0.69 | H17: 64.08 | I17: =E17-H17 -> 1.7 | J17: 63.43 | K17: =E17-J17 -> 2.35 | L17: 62.67 | M17: =E17-L17 -> 3.11 | N17: 61.32 | O17: =E17-N17 -> 4.46
B18: CHOW DIET | C18: 13 | D18: 39.4 | E18: 71.02 | F18: 70.34 | G18: =E18-F18 -> 0.68 | H18: 69.67 | I18: =E18-H18 -> 1.35 | J18: 68.89 | K18: =E18-J18 -> 2.13 | L18: 68.42 | M18: =E18-L18 -> 2.6 | N18: 67.71 | O18: =E18-N18 -> 3.31
B19: CHOW DIET | C19: 14 | D19: 32.9 | E19: 73.82 | F19: 73.11 | G19: =E19-F19 -> 0.71 | H19: 72.08 | I19: =E19-H19 -> 1.74 | J19: 71.33 | K19: =E19-J19 -> 2.49 | L19: 70.92 | M19: =E19-L19 -> 2.9 | N19: 69.52 | O19: =E19-N19 -> 4.3
B20: CHOW DIET | C20: 15 | D20: 44 | E20: 74.89 | F20: 74.21 | G20: =E20-F20 -> 0.68 | H20: 73.88 | I20: =E20-H20 -> 1.01 | J20: 73.45 | K20: =E20-J20 -> 1.44 | L20: 72.89 | M20: =E20-L20 -> 2 | N20: 72.04 | O20: =E20-N20 -> 2.85
B21: CHOW DIET | C21: 16 | D21: 34.5 | E21: 68.09 | F21: 67.23 | G21: =E21-F21 -> 0.86 | H21: 65.98 | I21: =E21-H21 -> 2.11 | J21: 65.51 | K21: =E21-J21 -> 2.58 | L21: 65.02 | M21: =E21-L21 -> 3.07 | N21: 64.01 | O21: =E21-N21 -> 4.08
B22: CHOW DIET | C22: 17 | D22: 38.1 | E22: 66.05 | F22: 65.09 | G22: =E22-F22 -> 0.96 | H22: 64.05 | I22: =E22-H22 -> 2 | J22: 63.97 | K22: =E22-J22 -> 2.08 | L22: 63.32 | M22: =E22-L22 -> 2.73 | N22: 61.48 | O22: =E22-N22 -> 4.57

Sheet Panel C
B2: Date | C2: December 30/3rd 2022 | D2: Chow diet acute feeding | F2: Measurement
B3: Experiment | C3: BAT after 3 days of treatment with CVN45502 | D3: Mixed in peanut butter | F3: IPT-300 transponders
B4: Training | C4: 5 days prior to treatment
B6: DIETARY STATE | C6: Vehicle | D6: BAT Temperature | E6: BAT Temperature | F6: DIETARY STATE | G6: CVN45502 | H6: BAT Temperature | I6: BAT Temperature
B7: CHOW DIET | C7: 11 | D7: 38.1 | E7: 38.3 | F7: CHOW DIET | G7: 11 | H7: 36.6 | I7: 36.9
B8: CHOW DIET | C8: 12 | D8: 37.2 | E8: 37.1 | F8: CHOW DIET | G8: 12 | H8: 37.9 | I8: 37.9
B9: CHOW DIET | C9: 13 | D9: 38.1 | E9: 38 | F9: CHOW DIET | G9: 13 | H9: 38.6 | I9: 38.4
B10: CHOW DIET | C10: 14 | D10: 37.1 | E10: 36.8 | F10: CHOW DIET | G10: 14 | H10: 37 | I10: 37.2
B11: CHOW DIET | C11: 15 | D11: 37.3 | E11: 37.5 | F11: CHOW DIET | G11: 15 | H11: 37.3 | I11: 37.6
B12: CHOW DIET | C12: 16 | D12: 36.4 | E12: 36.8 | F12: CHOW DIET | G12: 16 | H12: 37.6 | I12: 37.4
B13: CHOW DIET | C13: 17 | D13: 37.5 | E13: 37.8 | F13: CHOW DIET | G13: 17 | H13: 36.8 | I13: 37.3

Sheet Panel D
B2: Date | C2: December 30/3rd 2022 | D2: Chow diet acute feeding
B3: Experiment | C3: Feeding after CVN45502 Treatment (30mg/kg) | D3: Mixed in peanut butter
B4: Training | C4: 5 days prior to treatment
C5: Vehicle
B7: DIETARY STATE | C7: Vehicle | D7: Body weight | E7: Initial Food | F7: Food 1 h | G7: Food Intake | H7: Food 2 h | I7: Food Intake | J7: Food 4 h | K7: Food Intake | L7: Food 8 h | M7: Food Intake | N7: Food 24 h | O7: Food Intake
B8: HFD | C8: 1 | D8: 54 | E8: 78.45 | F8: 78.11 | G8: =E8-F8 -> 0.34 | H8: 77.56 | I8: =E8-H8 -> 0.89 | J8: 76.87 | K8: =E8-J8 -> 1.58 | L8: 75.91 | M8: =E8-L8 -> 2.54 | N8: 74.21 | O8: =E8-N8 -> 4.24
B9: HFD | C9: 2 | D9: 51.4 | E9: 65.67 | F9: 65.21 | G9: =E9-F9 -> 0.46 | H9: 64.83 | I9: =E9-H9 -> 0.84 | J9: 64.21 | K9: =E9-J9 -> 1.46 | L9: 63.41 | M9: =E9-L9 -> 2.26 | N9: 61.39 | O9: =E9-N9 -> 4.28
B10: HFD | C10: 4 | D10: 44.5 | E10: 73.81 | F10: 73.56 | G10: =E10-F10 -> 0.25 | H10: 73.12 | I10: =E10-H10 -> 0.69 | J10: 72.87 | K10: =E10-J10 -> 0.94 | L10: 72.06 | M10: =E10-L10 -> 1.75 | N10: 70.54 | O10: =E10-N10 -> 3.27
B11: HFD | C11: 4 | D11: 58.1 | E11: 74.52 | F11: 74.11 | G11: =E11-F11 -> 0.41 | H11: 73.76 | I11: =E11-H11 -> 0.76 | J11: 73.22 | K11: =E11-J11 -> 1.3 | L11: 72.34 | M11: =E11-L11 -> 2.18 | N11: 71.42 | O11: =E11-N11 -> 3.1
B12: HFD | C12: 5 | D12: 56 | E12: 70.34 | F12: 69.88 | G12: =E12-F12 -> 0.46 | H12: 69.62 | I12: =E12-H12 -> 0.72 | J12: 69.11 | K12: =E12-J12 -> 1.23 | L12: 68.11 | M12: =E12-L12 -> 2.23 | N12: 66.82 | O12: =E12-N12 -> 3.52
B13: HFD | C13: 6 | D13: 56.3 | E13: 69.86 | F13: 69.61 | G13: =E13-F13 -> 0.25 | H13: 69.41 | I13: =E13-H13 -> 0.45 | J13: 68.79 | K13: =E13-J13 -> 1.07 | L13: 68.07 | M13: =E13-L13 -> 1.79 | N13: 66.39 | O13: =E13-N13 -> 3.47
B14: HFD | C14: 7 | D14: 51 | E14: 67.78 | F14: 67.55 | G14: =E14-F14 -> 0.23 | H14: 67.13 | I14: =E14-H14 -> 0.65 | J14: 66.53 | K14: =E14-J14 -> 1.25 | L14: 65.92 | M14: =E14-L14 -> 1.86 | N14: 63.22 | O14: =E14-N14 -> 4.56
B15: DIETARY STATE | C15: CVN45502 | D15: Body weight | E15: Initial Food | F15: Food 1 h | G15: Food Intake | H15: Food 2 h | I15: Food Intake | J15: Food 4 h | K15: Food Intake | L15: Food 8 h | M15: Food Intake | N15: Food 24 h | O15: Food Intake
B16: HFD | C16: 1 | D16: 54.2 | E16: 74.21 | F16: 73.88 | G16: =E16-F16 -> 0.33 | H16: 73.54 | I16: =E16-H16 -> 0.67 | J16: 72.67 | K16: =E16-J16 -> 1.54 | L16: 71.98 | M16: =E16-L16 -> 2.23 | N16: 70.45 | O16: =E16-N16 -> 3.76
B17: HFD | C17: 2 | D17: 51.7 | E17: 61.39 | F17: 60.89 | G17: =E17-F17 -> 0.5 | H17: 60.79 | I17: =E17-H17 -> 0.6 | J17: 60.33 | K17: =E17-J17 -> 1.06 | L17: 59.22 | M17: =E17-L17 -> 2.17 | N17: 57.21 | O17: =E17-N17 -> 4.18
B18: HFD | C18: 4 | D18: 44.6 | E18: 70.54 | F18: 70.02 | G18: =E18-F18 -> 0.52 | H18: 69.89 | I18: =E18-H18 -> 0.65 | J18: 69.58 | K18: =E18-J18 -> 0.96 | L18: 68.37 | M18: =E18-L18 -> 2.17 | N18: 66.79 | O18: =E18-N18 -> 3.75
B19: HFD | C19: 4 | D19: 58 | E19: 71.42 | F19: 71.22 | G19: =E19-F19 -> 0.2 | H19: 71.04 | I19: =E19-H19 -> 0.38 | J19: 70.69 | K19: =E19-J19 -> 0.73 | L19: 70.08 | M19: =E19-L19 -> 1.34 | N19: 68.44 | O19: =E19-N19 -> 2.98
B20: HFD | C20: 5 | D20: 56.3 | E20: 66.82 | F20: 66.44 | G20: =E20-F20 -> 0.38 | H20: 66.21 | I20: =E20-H20 -> 0.61 | J20: 65.92 | K20: =E20-J20 -> 0.9 | L20: 65.58 | M20: =E20-L20 -> 1.24 | N20: 63.89 | O20: =E20-N20 -> 2.93
B21: HFD | C21: 6 | D21: 56.1 | E21: 66.39 | F21: 66.07 | G21: =E21-F21 -> 0.32 | H21: 65.92 | I21: =E21-H21 -> 0.47 | J21: 65.68 | K21: =E21-J21 -> 0.71 | L21: 64.21 | M21: =E21-L21 -> 2.18 | N21: 63.17 | O21: =E21-N21 -> 3.22
B22: HFD | C22: 7 | D22: 50.8 | E22: 63.22 | F22: 62.85 | G22: =E22-F22 -> 0.37 | H22: 62.65 | I22: =E22-H22 -> 0.57 | J22: 62.44 | K22: =E22-J22 -> 0.78 | L22: 61.89 | M22: =E22-L22 -> 1.33 | N22: 60.01 | O22: =E22-N22 -> 3.21

Sheet Panel E
B2: Date | C2: December 30/3rd 2022 | D2: Chow diet acute feeding | F2: Measurement
B3: Experiment | C3: BAT after 3 days of treatment with CVN45502 | D3: Mixed in peanut butter | F3: IPT-300 transponders
B4: Training | C4: 5 days prior to treatment
B6: DIETARY STATE | C6: Vehicle | D6: BAT Temperature | E6: BAT Temperature | F6: DIETARY STATE | G6: CVN45502 | H6: BAT Temperature | I6: BAT Temperature
B7: HFD | C7: 1 | D7: 37.4 | E7: 37.2 | F7: HFD | G7: 1 | H7: 36.5 | I7: 37
B8: HFD | C8: 2 | D8: 36.5 | E8: 36.8 | F8: HFD | G8: 2 | H8: 36.2 | I8: 36.4
B9: HFD | C9: 4 | D9: 37.2 | E9: 36.7 | F9: HFD | G9: 4 | H9: 36.6 | I9: 36.6
B10: HFD | C10: 4 | D10: 37 | E10: 37.4 | F10: HFD | G10: 4 | H10: 37.4 | I10: 37.1
B11: HFD | C11: 5 | D11: 36.2 | E11: 36.5 | F11: HFD | G11: 5 | H11: 37.6 | I11: 37.9
B12: HFD | C12: 6 | D12: 37.6 | E12: 37.3 | F12: HFD | G12: 6 | H12: 36 | I12: 36.2
B13: HFD | C13: 7 | D13: 37.7 | E13: 37.4 | F13: HFD | G13: 7 | H13: 36.6 | I13: 36.8

Sheet Panel G
B2: HFD | C2: 16weeks 45% | E2: Date | F2: 44252
B3: Control | C3: 16 weeks chow diet fed contros
B5: Leptin Dose | C5: 1 injection | D5: 5mg/kg
F6: Saline | G6: 24h food | H6: Leptin | I6: 24h food
D7: Weight | E7: Initial Food
C8: HFD | D8: 46.5 | E8: 78.92 | F8: 76.58 | G8: =E8-F8 -> 2.34 | H8: 74.46 | I8: =F8-H8 -> 2.12
C9: HFD | D9: 37.4 | E9: 67.54 | F9: 65.39 | G9: =E9-F9 -> 2.15 | H9: 63.05 | I9: =F9-H9 -> 2.34
C10: HFD | D10: 45.2 | E10: 67.53 | F10: 65.08 | G10: =E10-F10 -> 2.45 | H10: 62.93 | I10: =F10-H10 -> 2.15
C11: HFD | D11: 39.4 | E11: 87.21 | F11: 84.55 | G11: =E11-F11 -> 2.66 | H11: 82.26 | I11: =F11-H11 -> 2.29
C12: HFD | D12: 34.2 | E12: 77.34 | F12: 75.24 | G12: =E12-F12 -> 2.1 | H12: 72.57 | I12: =F12-H12 -> 2.67
C13: HFD | D13: 38.7 | E13: 79.36 | F13: 77.03 | G13: =E13-F13 -> 2.33 | H13: 74.59 | I13: =F13-H13 -> 2.44
C14: HFD | D14: 44.7 | E14: 76.45 | F14: 73.67 | G14: =E14-F14 -> 2.78 | H14: 71.16 | I14: =F14-H14 -> 2.51
C15: HFD | D15: 36.5 | E15: 78.82 | F15: 76.48 | G15: =E15-F15 -> 2.34 | H15: 74.18 | I15: =F15-H15 -> 2.3
C16: HFD | D16: 42.5 | E16: 70.94 | F16: 69.07 | G16: =E16-F16 -> 1.87 | H16: 67.07 | I16: =F16-H16 -> 2
C17: HFD | D17: 38 | E17: 67.72 | F17: 65.5 | G17: =E17-F17 -> 2.22 | H17: 63.61 | I17: =F17-H17 -> 1.89
F19: Saline | H19: Leptin
D20: Weight | E20: Initial Food | G20: 24h food | I20: 24h food
C21: Chow | D21: 30.5 | E21: 69.89 | F21: 64.27 | G21: =E21-F21 -> 5.62 | H21: 60.39 | I21: =F21-H21 -> 3.88
C22: Chow | D22: 30.3 | E22: 65.54 | F22: 60.67 | G22: =E22-F22 -> 4.87 | H22: 56.63 | I22: =F22-H22 -> 4.04
C23: Chow | D23: 28.5 | E23: 68.83 | F23: 63.68 | G23: =E23-F23 -> 5.15 | H23: 60.13 | I23: =F23-H23 -> 3.55
C24: Chow | D24: 30.1 | E24: 65.54 | F24: 60.6 | G24: =E24-F24 -> 4.94 | H24: 56.73 | I24: =F24-H24 -> 3.87
C25: Chow | D25: 29.1 | E25: 67.28 | F25: 61.66 | G25: =E25-F25 -> 5.62 | H25: 57.1 | I25: =F25-H25 -> 4.56
C26: Chow | D26: 31.5 | E26: 66.55 | F26: 61.7 | G26: =E26-F26 -> 4.85 | H26: 58.03 | I26: =F26-H26 -> 3.67
C27: Chow | D27: 31.4 | E27: 67.59 | F27: 62.07 | G27: =E27-F27 -> 5.52 | H27: 57.8 | I27: =F27-H27 -> 4.27
C28: Chow | D28: 36.3 | E28: 63.42 | F28: 57.53 | G28: =E28-F28 -> 5.89 | H28: 53.02 | I28: =F28-H28 -> 4.51
C29: Chow | D29: 30.7 | E29: 64.68 | F29: 59.23 | G29: =E29-F29 -> 5.45 | H29: 54.45 | I29: =F29-H29 -> 4.78
C30: Chow | D30: 34.3 | E30: 62.77 | F30: 57.35 | G30: =E30-F30 -> 5.42 | H30: 53.33 | I30: =F30-H30 -> 4.02

Sheet Panel H
B2: Sleep assay | C2: CVN45502 chow and hfd groups | D2: Equipment
B3: April 29th 2022 | D3: TSE Homecage metabolic system
B4: CVN45502 | C4: 30mg/kg in PB
B5: Assessment | C5: Sleep
C7: % time sleeping | D7: % time sleeping
B8: Chow | C8: Saline | D8: CVN45502
B9: 1 | C9: 56.6 | D9: 61.98
B10: 2 | C10: 53.13 | D10: 52.08
B11: 3 | C11: 58.68 | D11: 60.68
B12: 4 | C12: 47.92 | D12: 53.65
B13: 5 | C13: 50.69 | D13: 56.77
B14: 6 | C14: 58.68 | D14: 59.64
B15: 7 | C15: 44.1 | D15: 50.52
C17: % time sleeping | D17: % time sleeping
B18: HFD | C18: Saline | D18: CVN45502
B19: 1 | C19: 44.44 | D19: 47.66
B20: 2 | C20: 63.54 | D20: 61.72
B21: 3 | C21: 49.65 | D21: 48.7
B22: 4 | C22: 56.25 | D22: 52.34
B23: 5 | C23: 55.9 | D23: 48.44
B24: 6 | C24: 48.61 | D24: 62.76
B25: 7 | C25: 60.07 | D25: 61.72

Sheet Panel I
B2: Body weight Chow | C2: CVN45502 chow | D2: Equipment
B3: March 4th - April 11th 2021 | D3: Manual counts
B4: CVN45502 | C4: 30mg/kg in PB
B5: Assessment | C5: Body weight
B7: Mouse | C7: Body Weight (g) | K7: Pre treatment | P7: Treatment | Q7: Treatment | AC7: Post Treatment
C8: Day 1 | D8: Day 2 | E8: Day 3 | F8: Day 4 | G8: Day 5 | H8: Day 6 | I8: Day 7 | J8: Day 8 | K8: Day 9 | L8: Day 10 | M8: Day 11 | N8: Day 12 | O8: Day 13 | P8: Day 14 | Q8: Day 15 | R8: Day 16 | S8: Day 17 | T8: Day 18 | U8: Day 19 | V8: Day 20 | W8: Day 21 | X8: Day 22 | Y8: Day 23 | Z8: Day 24 | AA8: Day 25 | AB8: Day 26 | AC8: Day 27 | AD8: Day 28 | AE8: Day 29 | AF8: Day 30 | AG8: Day 31 | AH8: Day 32 | AI8: Day 33 | AJ8: Day 34 | AK8: Day 35
B9: 1 | C9: 30.7 | D9: 30.7 | E9: 30.5 | F9: 30.6 | G9: 30.6 | H9: 30.5 | I9: 31 | J9: 30.5 | K9: 30.9 | L9: 30.9 | M9: 30.3 | N9: 30.4 | O9: 30.4 | P9: 30.4 | Q9: 30.4 | R9: 30.1 | S9: 30.4 | T9: 30.4 | U9: 30.2 | V9: 30.2 | W9: 30.6 | X9: 30.6 | Y9: 30 | Z9: 30.3 | AA9: 30.2 | AB9: 30 | AC9: 30.2 | AD9: 30.1 | AE9: 30.3 | AF9: 30.3 | AG9: 30.3 | AH9: 30.2 | AI9: 30.4 | AJ9: 30.5 | AK9: 30.5
B10: 2 | C10: 30.7 | D10: 30.2 | E10: 30.4 | F10: 30.2 | G10: 30.1 | H10: 30.2 | I10: 30.1 | J10: 30.6 | K10: 30.6 | L10: 30.5 | M10: 30.3 | N10: 30.5 | O10: 31 | P10: 30.7 | Q10: 30.3 | R10: 30.7 | S10: 30.5 | T10: 30.4 | U10: 30.5 | V10: 30.2 | W10: 30.9 | X10: 30.5 | Y10: 29.9 | Z10: 30.7 | AA10: 30.5 | AB10: 30.9 | AC10: 30.8 | AD10: 30.6 | AE10: 30.9 | AF10: 30.8 | AG10: 30.9 | AH10: 30.6 | AI10: 30.3 | AJ10: 30.3 | AK10: 30.6
B11: 3 | C11: 28.4 | D11: 28.3 | E11: 27.1 | F11: 27.5 | G11: 27.8 | H11: 28.5 | I11: 28.4 | J11: 28.3 | K11: 28.7 | L11: 29 | M11: 28.9 | N11: 28.7 | O11: 28.9 | P11: 29 | Q11: 28.7 | R11: 28.4 | S11: 28.8 | T11: 29.1 | U11: 28.8 | V11: 29.5 | W11: 28.2 | X11: 28 | Y11: 28.4 | Z11: 28.2 | AA11: 28 | AB11: 28.1 | AC11: 28.4 | AD11: 28.1 | AE11: 28.1 | AF11: 28.8 | AG11: 28.8 | AH11: 28.6 | AI11: 29.4 | AJ11: 29.5 | AK11: 29.3
B12: 4 | C12: 30 | D12: 29.9 | E12: 29.5 | F12: 29.8 | G12: 29.3 | H12: 29.6 | I12: 29.8 | J12: 29.8 | K12: 29.6 | L12: 29.6 | M12: 29.7 | N12: 29.6 | O12: 29.3 | P12: 29.1 | Q12: 29.1 | R12: 28.9 | S12: 29 | T12: 28.9 | U12: 29.4 | V12: 28.9 | W12: 29.4 | X12: 29.3 | Y12: 29 | Z12: 28.9 | AA12: 28.9 | AB12: 29 | AC12: 29 | AD12: 29.1 | AE12: 29.1 | AF12: 28.7 | AG12: 28.5 | AH12: 27.9 | AI12: 28.3 | AJ12: 29 | AK12: 29.2
B13: 5 | C13: 29.2 | D13: 29.4 | E13: 29 | F13: 29.3 | G13: 29.3 | H13: 29.1 | I13: 29.2 | J13: 28.7 | K13: 29 | L13: 28.8 | M13: 28.9 | N13: 28.5 | O13: 29 | P13: 28.8 | Q13: 28.8 | R13: 28.8 | S13: 28.7 | T13: 28.7 | U13: 29.2 | V13: 28.7 | W13: 29.2 | X13: 28 | Y13: 28.3 | Z13: 28.8 | AA13: 28.7 | AB13: 28.6 | AC13: 28.4 | AD13: 28.7 | AE13: 28.7 | AF13: 27.8 | AG13: 27.7 | AH13: 27.6 | AI13: 27.9 | AJ13: 28.2 | AK13: 28.6
B14: 6 | C14: 31.8 | D14: 31.7 | E14: 31.5 | F14: 31.8 | G14: 32.1 | H14: 31.8 | I14: 31.8 | J14: 32 | K14: 32.5 | L14: 32.2 | M14: 32.2 | N14: 32.3 | O14: 32 | P14: 32.1 | Q14: 32.1 | R14: 32 | S14: 32 | T14: 31.9 | U14: 32.4 | V14: 32.7 | W14: 32.6 | X14: 32 | Y14: 31.3 | Z14: 31.7 | AA14: 31.5 | AB14: 31 | AC14: 31.2 | AD14: 31.4 | AE14: 31.5 | AF14: 31 | AG14: 30.5 | AH14: 30.3 | AI14: 30.8 | AJ14: 30.2 | AK14: 30.6
B15: 7 | C15: 31.5 | D15: 31.2 | E15: 31.7 | F15: 31.4 | G15: 31.4 | H15: 31.3 | I15: 31.3 | J15: 31.9 | K15: 31.8 | L15: 31.3 | M15: 31.1 | N15: 30.8 | O15: 31.1 | P15: 31 | Q15: 30.8 | R15: 30.6 | S15: 31.1 | T15: 30.8 | U15: 30.6 | V15: 30.7 | W15: 31 | X15: 31 | Y15: 30.7 | Z15: 30.3 | AA15: 30 | AB15: 30.6 | AC15: 30.5 | AD15: 30.3 | AE15: 30.7 | AF15: 30.1 | AG15: 30 | AH15: 29.6 | AI15: 29.8 | AJ15: 29.6 | AK15: 30.1
B16: 8 | C16: 36.5 | D16: 36.7 | E16: 36.9 | F16: 37.3 | G16: 37.3 | H16: 36.7 | I16: 37.1 | J16: 37.9 | K16: 34.8 | L16: 33.9 | M16: 34 | N16: 33.7 | O16: 33.7 | P16: 32.9 | Q16: 32.5 | R16: 32.2 | S16: 32 | T16: 32 | U16: 32.1 | V16: 32.2 | W16: 31.9 | X16: 32.3 | Y16: 31.7 | Z16: 31.3 | AA16: 31.2 | AB16: 31.3 | AC16: 31.6 | AD16: 31.8 | AE16: 31.5 | AF16: 30.6 | AG16: 30 | AH16: 30.3 | AI16: 30.5 | AJ16: 30.6 | AK16: 30.9
B17: 9 | C17: 30.7 | D17: 30.7 | E17: 30.7 | F17: 30 | G17: 30.3 | H17: 30.3 | I17: 30.5 | J17: 29.5 | K17: 31.1 | L17: 30.8 | M17: 30.5 | N17: 30.2 | O17: 30.2 | P17: 30 | Q17: 30.3 | R17: 29.4 | S17: 29.7 | T17: 29.5 | U17: 30.5 | V17: 30.4 | W17: 30.7 | X17: 30.4 | Y17: 30 | Z17: 30.2 | AA17: 29.7 | AB17: 29.8 | AC17: 30 | AD17: 30.3 | AE17: 30.4 | AF17: 30.3 | AG17: 29.8 | AH17: 30.3 | AI17: 30.1 | AJ17: 30 | AK17: 30.2
B18: 10 | C18: 34.5 | D18: 34.6 | E18: 34.4 | F18: 34.5 | G18: 34.5 | H18: 34.6 | I18: 35.1 | J18: 34.6 | K18: 34.9 | L18: 34.5 | M18: 34.3 | N18: 34.8 | O18: 34.2 | P18: 34.6 | Q18: 33.9 | R18: 33.8 | S18: 34.1 | T18: 33.6 | U18: 34.7 | V18: 34.1 | W18: 34.4 | X18: 34.8 | Y18: 34.3 | Z18: 34.4 | AA18: 34.1 | AB18: 34.2 | AC18: 34.7 | AD18: 34.7 | AE18: 34.7 | AF18: 33.4 | AG18: 33.2 | AH18: 32.9 | AI18: 33.4 | AJ18: 33.6 | AK18: 33.9
B19: Average | C19: =AVERAGE(C9:C18) -> 31.4 | D19: =AVERAGE(D9:D18) -> 31.34 | E19: =AVERAGE(E9:E18) -> 31.17 | F19: =AVERAGE(F9:F18) -> 31.24 | G19: =AVERAGE(G9:G18) -> 31.27 | H19: =AVERAGE(H9:H18) -> 31.26 | I19: =AVERAGE(I9:I18) -> 31.43 | J19: =AVERAGE(J9:J18) -> 31.38 | ... AK19: =AVERAGE(AK9:AK18) -> 30.39
B20: St. Dev. | C20: =_xlfn.STDEV.P(C9:C18) -> 2.3034756 | D20: =_xlfn.STDEV.P(D9:D18) -> 2.3812602 | E20: =_xlfn.STDEV.P(E9:E18) -> 2.6264234 | F20: =_xlfn.STDEV.P(F9:F18) -> 2.656012 | G20: =_xlfn.STDEV.P(G9:G18) -> 2.6469039 | H20: =_xlfn.STDEV.P(H9:H18) -> 2.4228908 | I20: =_xlfn.STDEV.P(I9:I18) -> 2.5573619 | J20: =_xlfn.STDEV.P(J9:J18) -> 2.7859648 | ... AK20: =_xlfn.STDEV.P(AK9:AK18) -> 1.3641481
B21: mean t | C21: 34.9 | D21: 34.9 | E21: 35.2 | F21: 35.5 | G21: 35.8 | H21: 34.9 | I21: =SUM(I9,I11,I13,I15,I17)/5 -> 30.08 | J21: =SUM(J9,J11,J13,J16,J17)/5 -> 30.98 | K21: =SUM(K9,K11,K13,K16,K17)/5 -> 30.9 | L21: =SUM(L9,L11,L13,L16,L17)/5 -> 30.68 | M21: =SUM(M9,M11,M13,M16,M17)/5 -> 30.52 | N21: =SUM(N9,N11,N13,N16,N17)/5 -> 30.3 | O21: =SUM(O9,O11,O13,O16,O17)/5 -> 30.44 | P21: =SUM(P9,P11,P13,P16,P17)/5 -> 30.22 | Q21: =SUM(Q9,Q11,Q13,Q16,Q17)/5 -> 30.14 | ... AK21: =SUM(AK9,AK11,AK13,AK16,AK17)/5 -> 29.9
B22: mean c | C22: 39.1 | D22: 39.1 | E22: 39.7 | F22: 40.1 | G22: 40.3 | H22: 40.3 | I22: =SUM(I10,I12,I14,I16)/4 -> 32.2 | J22: =SUM(J10,J12,J14,J15)/4 -> 31.075 | K22: =SUM(K10,K12,K14,K15)/4 -> 31.125 | L22: =SUM(L10,L12,L14,L15)/4 -> 30.9 | M22: =SUM(M10,M12,M14,M15)/4 -> 30.825 | N22: =SUM(N10,N12,N14,N15)/4 -> 30.8 | O22: =SUM(O10,O12,O14,O16)/4 -> 31.5 | P22: =SUM(P10,P12,P14,P15)/4 -> 30.725 | Q22: =SUM(Q10,Q12,Q14,Q15)/4 -> 30.575 | R22: =SUM(R10,R12,R14,R15)/4 -> 30.55 | S22: =SUM(S10,S12,S14,S15)/4 -> 30.65 | T22: =SUM(T10,T12,T14,T15)/4 -> 30.5 | U22: =SUM(U10,U12,U14,U15)/4 -> 30.725 | V22: =SUM(V10,V12,V14,V15)/4 -> 30.625 | W22: =SUM(W10,W12,W14,W15)/4 -> 30.975 | ... AK22: =SUM(AK10,AK12,AK14,AK15)/4 -> 30.125
B23: stdev t | C23: 45.9 | D23: 45.7 | E23: 45.3 | F23: 45 | G23: 45.2 | H23: 45.1 | I23: =STDEV(I9,I11,I13,I15,I17) -> 1.2357184 | J23: =STDEV(J9,J11,J13,J15,J17) -> 1.4532722 | K23: =STDEV(K9,K11,K13,K15,K17) -> 1.3693064 | L23: =STDEV(L9,L11,L13,L15,L17) -> 1.1674759 | M23: =STDEV(M9,M11,M13,M15,M17) -> 0.99398189 | N23: =STDEV(N9,N11,N13,N15,N17) -> 1.0473777 | O23: =STDEV(O9,O11,O13,O15,O17) -> 0.94710084 | P23: =STDEV(P9,P11,P13,P15,P17) -> 0.93166518 | ... AK23: =STDEV(AK9,AK11,AK13,AK15,AK17) -> 0.77653075
B24: stdev c | C24: 37 | D24: 36.4 | E24: 36.5 | F24: 36.1 | G24: 36.4 | H24: 36.4 | I24: =STDEV(I10,I12,I14,I16,I18) -> 3.204216 | J24: =STDEV(J10,J12,J14,J16,J18) -> 3.300303 | K24: =STDEV(K10,K12,K14,K16,K18) -> 2.4014579 | L24: =STDEV(L10,L12,L14,L16,L18) -> 2.1102133 | M24: =STDEV(M10,M12,M14,M16,M18) -> 2.0892582 | N24: =STDEV(N10,N12,N14,N16,N18) -> 2.160324 | O24: =STDEV(O10,O12,O14,O16,O18) -> 2.0007499 | P24: =STDEV(P10,P12,P14,P16,P18) -> 2.0980944 | ... AK24: =STDEV(AK10,AK12,AK14,AK16,AK18) -> 1.7300289
B25: sem t | C25: 42.3 | D25: 42.1 | E25: 43.3 | F25: 43.3 | G25: 43.3 | H25: 43.3 | I25: =I23/SQRT(5) -> 0.55263008 | J25: =J23/SQRT(5) -> 0.64992307 | K25: =K23/SQRT(5) -> 0.61237244 | L25: =L23/SQRT(5) -> 0.5221111 | M25: =M23/SQRT(5) -> 0.44452222 | N25: =N23/SQRT(5) -> 0.46840154 | O25: =O23/SQRT(5) -> 0.42355637 | P25: =P23/SQRT(5) -> 0.41665333 | ... AK25: =AK23/SQRT(5) -> 0.34727511
B26: sem c | C26: 38.9 | D26: 38.3 | E26: 38.3 | F26: 38 | G26: 38.3 | H26: 38.3 | I26: =I24/SQRT(5) -> 1.4329689 | J26: =J24/SQRT(5) -> 1.4759404 | K26: =K24/SQRT(5) -> 1.0739646 | L26: =L24/SQRT(5) -> 0.94371606 | M26: =M24/SQRT(5) -> 0.93434469 | N26: =N24/SQRT(5) -> 0.96612629 | O26: =O24/SQRT(5) -> 0.89476254 | P26: =P24/SQRT(5) -> 0.93829633 | ... AK26: =AK24/SQRT(5) -> 0.77369245
B28: Notes | C28: in grey days utilized for curves
C29: first 5 days habituation

Sheet Panel J
B2: Body weight Gain Chow | C2: CVN45502 chow | D2: Equipment
B3: March 4th - April 11th 2021 | D3: Manual counts
B4: CVN45502 | C4: 30mg/kg in PB
B5: Assessment | C5: Body weight
E7: Pretreatment Phase | I7: Treatment Phase | M7: Post-treatment phase
B8: Mouse Id | C8: Vehicle | D8: Mouse Id | E8: Vehicle | F8: Mouse Id | G8: Vehicle | H8: Mouse Id | I8: CVN45502 | J8: Mouse Id | K8: Vehicle | L8: Mouse Id | M8: Vehicle
B9: 1 | C9: 0.1 | D9: 2 | E9: ='Panel I'!P10-'Panel I'!M10 -> 0.4 | F9: 1 | G9: -0.2 | H9: 2 | I9: ='Panel I'!AC10-'Panel I'!P10 -> 0.1 | J9: 1 | K9: 0.3 | L9: 2 | M9: -0.2
B10: 3 | C10: 0.1 | D10: 4 | E10: ='Panel I'!Q12-'Panel I'!M12 -> -0.6 | F10: 3 | G10: -0.6 | H10: 4 | I10: ='Panel I'!AC12-'Panel I'!P12 -> -0.1 | J10: 3 | K10: 0.9 | L10: 4 | M10: 0.2
B11: 5 | C11: -0.1 | D11: 6 | E11: ='Panel I'!P14-'Panel I'!M14 -> -0.1 | F11: 5 | G11: -0.4 | H11: 6 | I11: ='Panel I'!AC14-'Panel I'!P14 -> -0.9 | J11: 5 | K11: 0.2 | L11: 6 | M11: -0.6
B12: 8 | C12: ='Panel I'!P12-'Panel I'!L12 -> -0.5 | D12: 7 | E12: -0.1 | F12: 8 | G12: ='Panel I'!AB12-'Panel I'!O12 -> -0.3 | H12: 7 | I12: ='Panel I'!AC15-'Panel I'!P15 -> -0.5 | J12: 8 | K12: -0.7 | L12: 7 | M12: -0.4
B13: 9 | C13: -0.5 | D13: 10 | E13: ='Panel I'!P18-'Panel I'!M18 -> 0.3 | F13: 9 | G13: ='Panel I'!AB13-'Panel I'!O13 -> -0.4 | H13: 10 | I13: ='Panel I'!AC18-'Panel I'!P18 -> 0.1 | J13: 9 | K13: 0.2 | L13: 10 | M13: -0.8

Sheet Panel K
B2: Mouse | C2: Food Weight (g) | AI2: Mouse | AJ2: Food Intake (g)
C3: Day 8 | D3: Day 9 | E3: Day 10 | F3: Day 11 | G3: Day 12 | H3: Day 13 | I3: Day 14 | J3: Day 15 | K3: Day 16 | L3: Day 17 | M3: Day 18 | N3: DAY 18 REPLACEMENT FOOD | O3: Day 19 | P3: Day 20 | Q3: Day 21 | R3: Day 22 | S3: Day 23 | T3: Day 24 | U3: Day 25 | V3: DAY 25 REPLACEMENT FOOD | W3: Day 26 | X3: Day 27 | Y3: Day 28 | Z3: Day 29 | AA3: DAY 29 Replacement food | AB3: Day 30 | AC3: Day 31 | AD3: Day 32 | AE3: DAY 32 REPLACEMENT FOOD | AF3: Day 33 | AG3: Day 34 | AH3: Day 35 | AJ3: Day 8 | AK3: Day 9 | AL3: Day 10 | AM3: Day 11 | AN3: Day 12 | AO3: Day 13 | AP3: Day 14 | AQ3: Day 15 | AR3: Day 16 | AS3: Day 17 | AT3: Day 18 | AU3: Day 19 | AV3: Day 20 | AW3: Day 21 | AX3: Day 22 | AY3: Day 23 | AZ3: Day 24 | BA3: Day 25 | BB3: Day 26 | BC3: Day 27 | BD3: Day 28 | BE3: Day 29 | BF3: Day 30 | BG3: Day 31 | BH3: Day 32 | BI3: Day 33 | BJ3: Day 34 | BK3: Day 35 | BN3: Average VEH | BO3: AVERAGE T | BP3: AVERAGE VEH | BQ3: AVERAGE FOOD INTAKE VEH
B4: 1 | C4: 57.6 | D4: 52.4 | E4: 49.7 | F4: 47.8 | G4: 45.8 | H4: 42.8 | I4: 40.4 | J4: 36.9 | K4: 33.6 | L4: 31.5 | M4: 29 | N4: 29.1 | O4: 27 | P4: 23.4 | Q4: 20.4 | R4: 18.1 | S4: 15.1 | T4: 11.2 | U4: 7.4 | V4: 21.3 | W4: 17 | X4: 13.8 | Y4: 9.9 | Z4: 6.7 | AA4: 16.4 | AB4: 11.8 | AC4: 7.9 | AD4: 4.4 | AE4: 30 | AF4: 25.8 | AG4: 22.5 | AH4: 19.3 | AI4: 1 | AJ4: N/a | AK4: =C4-D4 -> 5.2 | AL4: =D4-E4 -> 2.7 | AM4: =E4-F4 -> 1.9 | AN4: =F4-G4 -> 2 | AO4: =G4-H4 -> 3 | AP4: =H4-I4 -> 2.4 | AQ4: =I4-J4 -> 3.5 | AR4: =J4-K4 -> 3.3 | ... AT4: =L4-M4 -> 2.5 | AU4: =N4-O4 -> 2.1 | AV4: =O4-P4 -> 3.6 | AW4: =P4-Q4 -> 3 | AX4: =Q4-R4 -> 2.3 | AY4: =R4-S4 -> 3 | AZ4: =S4-T4 -> 3.9 | BA4: =T4-U4 -> 3.8 | BC4: =W4-X4 -> 3.2 | BD4: =X4-Y4 -> 3.9 | BE4: =Y4-Z4 -> 3.2 | BF4: =AA4-AB4 -> 4.6 | BG4: =AB4-AC4 -> 3.9 | BH4: =AC4-AD4 -> 3.5 | BI4: =AE4-AF4 -> 4.2 | BJ4: =AF4-AG4 -> 3.3 | BK4: =AG4-AH4 -> 3.2 | BN4: =AVERAGE(AK4:AP4) -> 2.8666667 | BO4: =AVERAGE(AQ4:BD4) -> 3.0923077 | BP4: =AVERAGE(BE4:BK4) -> 3.7 | BQ4: chow T | BR4: =AVERAGE(BN4,BN6,BN8,BN10,BN12) -> 2.76 | BS4: =AVERAGE(BO4,BO6,BO8,BO10,BO12) -> 2.7692308 | BT4: =AVERAGE(BP4,BP6,BP8,BP10,BP12) -> 3.5114286
B5: 2 | C5: 50.7 | D5: 45.7 | E5: 43.1 | F5: 40.6 | G5: 37.7 | H5: 34.2 | I5: 31.8 | J5: 29.5 | K5: 26.4 | L5: 23.6 | M5: 20.9 | N5: 27.9 | O5: 25 | P5: 21.4 | Q5: 18 | R5: 15.2 | S5: 12.7 | T5: 8.2 | U5: 4.5 | V5: 23.6 | W5: 19.1 | X5: 14.9 | Y5: 10.9 | Z5: 7 | AA5: 19.6 | AB5: 14.7 | AC5: 10.9 | AD5: 7.2 | AE5: 33.2 | AF5: 29.2 | AG5: 25.8 | AH5: 22.1 | AI5: 2 | AJ5: N/a | AK5: =C5-D5 -> 5 | AL5: =D5-E5 -> 2.6 | AM5: =E5-F5 -> 2.5 | AN5: =F5-G5 -> 2.9 | AO5: =G5-H5 -> 3.5 | AP5: =H5-I5 -> 2.4 | AQ5: =I5-J5 -> 2.3 | AR5: =J5-K5 -> 3.1 | ... AT5: =L5-M5 -> 2.7 | AU5: =N5-O5 -> 2.9 | AV5: =O5-P5 -> 3.6 | AW5: =P5-Q5 -> 3.4 | AX5: =Q5-R5 -> 2.8 | AY5: =R5-S5 -> 2.5 | AZ5: =S5-T5 -> 4.5 | BA5: =T5-U5 -> 3.7 | BC5: =W5-X5 -> 4.2 | BD5: =X5-Y5 -> 4 | BE5: =Y5-Z5 -> 3.9 | BF5: =AA5-AB5 -> 4.9 | BG5: =AB5-AC5 -> 3.8 | BH5: =AC5-AD5 -> 3.7 | BI5: =AE5-AF5 -> 4 | BJ5: =AF5-AG5 -> 3.4 | BK5: =AG5-AH5 -> 3.7 | BN5: =AVERAGE(AK5:AP5) -> 3.15 | BO5: =AVERAGE(AQ5:BD5) -> 3.2692308 | BP5: =AVERAGE(BE5:BK5) -> 3.9142857 | BQ5: chow C | BR5: =AVERAGE(BN5,BN7,BN9,BN11,BN13) -> 2.8233333 | BS5: =AVERAGE(BO5,BO7,BO9,BO11,BO13) -> 2.9075641 | BT5: =AVERAGE(BP5,BP7,BP9,BP11,BP13) -> 3.66
B6: 3 | C6: 51.1 | D6: 46.9 | E6: 43.6 | F6: 39.1 | G6: 33 | H6: 31.4 | I6: 27.8 | J6: 24.7 | K6: 21.6 | L6: 18.2 | M6: 15.8 | N6: 27.5 | O6: 24.9 | P6: 21.3 | Q6: 18.3 | R6: 16.5 | S6: 13.9 | T6: 10.8 | U6: 7.4 | V6: 22.7 | W6: 18.8 | X6: 15.3 | Y6: 12.2 | Z6: 9.1 | AA6: 19.6 | AB6: 15.3 | AC6: 11.7 | AD6: 9.1 | AE6: 31.1 | AF6: 26.5 | AG6: 23.3 | AH6: 20.1 | AI6: 3 | AJ6: N/a | AK6: =C6-D6 -> 4.2 | AL6: =D6-E6 -> 3.3 | AM6: =E6-F6 -> 4.5 | AN6: =F6-G6 -> 6.1 | AO6: =35.1-H6 -> 3.7 | AP6: =H6-I6 -> 3.6 | AQ6: =I6-J6 -> 3.1 | AR6: =J6-K6 -> 3.1 | AS6: =K6-L6 -> 3.4 | AT6: =L6-M6 -> 2.4 | AU6: =N6-O6 -> 2.6 | AV6: =O6-P6 -> 3.6 | AW6: =P6-Q6 -> 3 | AX6: =Q6-R6 -> 1.8 | AY6: =R6-S6 -> 2.6 | AZ6: =S6-T6 -> 3.1 | BA6: =T6-U6 -> 3.4 | BC6: =W6-X6 -> 3.5 | BD6: =X6-Y6 -> 3.1 | BE6: =Y6-Z6 -> 3.1 | BF6: =AA6-AB6 -> 4.3 | BG6: =AB6-AC6 -> 3.6 | BH6: =AC6-AD6 -> 2.6 | BI6: =AE6-AF6 -> 4.6 | BJ6: =AF6-AG6 -> 3.2 | BK6: =AG6-AH6 -> 3.2 | BN6: =AVERAGE(AK6:AP6) -> 4.2333333 | BO6: =AVERAGE(AQ6:BD6) -> 2.9769231 | BP6: =AVERAGE(BE6:BK6) -> 3.5142857 | BQ6: stdev t | BR6: =STDEV(BN4,BN6,BN8,BN10,BN12) -> 0.94755533 | BS6: =STDEV(BO4,BO6,BO8,BO10,BO12) -> 0.48735489 | BT6: =STDEV(BP4,BP6,BP8,BP10,BP12) -> 0.54486471
B7: 4 | C7: 51.3 | D7: 42.9 | E7: 40.5 | F7: 38.3 | G7: 36 | H7: 33.7 | I7: 31 | J7: 28.6 | K7: 25.4 | L7: 23 | M7: 20.8 | N7: 26.4 | O7: 24.5 | P7: 21.4 | Q7: 19.7 | R7: 19 | S7: 16.6 | T7: 13.1 | U7: 10.1 | V7: 26.7 | W7: 22.4 | X7: 19.4 | Y7: 16.3 | Z7: 13.2 | AA7: 21.1 | AB7: 17.9 | AC7: 14.5 | AD7: 11.8 | AE7: 28.9 | AF7: 24.5 | AG7: 21.2 | AH7: 18.9 | AI7: 4 | AJ7: N/a | AK7: =C7-D7 -> 8.4 | AL7: =D7-E7 -> 2.4 | AM7: =E7-F7 -> 2.2 | AN7: =F7-G7 -> 2.3 | AO7: =G7-H7 -> 2.3 | AP7: =H7-I7 -> 2.7 | AQ7: =I7-J7 -> 2.4 | AR7: =J7-K7 -> 3.2 | ... AT7: =L7-M7 -> 2.2 | AU7: =N7-O7 -> 1.9 | AV7: =O7-P7 -> 3.1 | AW7: =P7-Q7 -> 1.7 | AY7: =R7-S7 -> 2.4 | AZ7: =S7-T7 -> 3.5 | BA7: =T7-U7 -> 3 | BC7: =W7-X7 -> 3 | BD7: =X7-Y7 -> 3.1 | BE7: =Y7-Z7 -> 3.1 | BF7: =AA7-AB7 -> 3.2 | BG7: =AB7-AC7 -> 3.4 | BH7: =AC7-AD7 -> 2.7 | BI7: =AE7-AF7 -> 4.4 | BJ7: =AF7-AG7 -> 3.3 | BK7: =AG7-AH7 -> 2.3 | BN7: =AVERAGE(AK7:AP7) -> 3.3833333 | BO7: =AVERAGE(AQ7:BD7) -> 2.6583333 | BP7: =AVERAGE(BE7:BK7) -> 3.2 | BQ7: stdev c | BR7: =STDEV(BN5,BN7,BN9,BN11,BN13) -> 1.0720308 | BS7: =STDEV(BO5,BO7,BO9,BO11,BO13) -> 0.65903989 | BT7: =STDEV(BP5,BP7,BP9,BP11,BP13) -> 0.31758014
B8: 5 | C8: 57.8 | D8: 53.9 | E8: 51.7 | F8: 48.9 | G8: 47.6 | H8: 45.1 | I8: 42.2 | J8: 39.1 | K8: 35.5 | L8: 34 | M8: 31.1 | N8: 30.1 | O8: 27.9 | P8: 25 | Q8: 22.4 | R8: 19.7 | S8: 16.4 | T8: 12.1 | U8: 8.1 | V8: 24 | W8: 19.5 | X8: 15.8 | Y8: 12.5 | Z8: 9.2 | AA8: 17.9 | AB8: 14 | AC8: 10.5 | AD8: 7 | AE8: 32.5 | AF8: 27.7 | AG8: 24.3 | AH8: 21.2 | AI8: 5 | AJ8: N/a | AK8: =C8-D8 -> 3.9 | AL8: =D8-E8 -> 2.2 | AM8: =E8-F8 -> 2.8 | AN8: =F8-G8 -> 1.3 | AO8: =G8-H8 -> 2.5 | AP8: =H8-I8 -> 2.9 | AQ8: =I8-J8 -> 3.1 | AR8: =J8-K8 -> 3.6 | ... AT8: =L8-M8 -> 2.9 | AU8: =N8-O8 -> 2.2 | AV8: =O8-P8 -> 2.9 | AW8: =P8-Q8 -> 2.6 | AX8: =Q8-R8 -> 2.7 | AY8: =R8-S8 -> 3.3 | AZ8: =S8-T8 -> 4.3 | BA8: =T8-U8 -> 4 | BC8: =W8-X8 -> 3.7 | BD8: =X8-Y8 -> 3.3 | BE8: =Y8-Z8 -> 3.3 | BF8: =AA8-AB8 -> 3.9 | BG8: =AB8-AC8 -> 3.5 | BH8: =AC8-AD8 -> 3.5 | BI8: =AE8-AF8 -> 4.8 | BJ8: =AF8-AG8 -> 3.4 | BK8: =AG8-AH8 -> 3.1 | BN8: =AVERAGE(AK8:AP8) -> 2.6 | BO8: =AVERAGE(AQ8:BD8) -> 3.0846154 | BP8: =AVERAGE(BE8:BK8) -> 3.6428571 | BQ8: sem t | BR8: =BR6/SQRT(5) -> 0.42375963 | BS8: =BS6/SQRT(5) -> 0.21795173 | BT8: =BT6/SQRT(5) -> 0.24367091
B9: 6 | C9: 56.1 | D9: 50.3 | E9: 47 | F9: 43.8 | G9: 41.2 | H9: 37.7 | I9: 34.8 | J9: 31.8 | K9: 28.2 | L9: 25.3 | M9: 23.1 | O9: 24.3 | P9: 20.2 | Q9: 17.7 | R9: 14.7 | S9: 11.8 | T9: 8 | U9: 4.1 | V9: 21 | W9: 17.5 | X9: 13.8 | Y9: 10.6 | Z9: 7.2 | AA9: 18.9 | AB9: 14.9 | AC9: 11.1 | AD9: 6.9 | AE9: 31.3 | AF9: 26 | AG9: 22.3 | AH9: 19.4 | AI9: 6 | AJ9: N/a | AK9: =C9-D9 -> 5.8 | AL9: =D9-E9 -> 3.3 | AM9: =E9-F9 -> 3.2 | AN9: =F9-G9 -> 2.6 | AO9: =G9-H9 -> 3.5 | AP9: =H9-I9 -> 2.9 | AQ9: =I9-J9 -> 3 | AR9: =J9-K9 -> 3.6 | ... AT9: =L9-M9 -> 2.2 | AV9: =O9-P9 -> 4.1 | AW9: =P9-Q9 -> 2.5 | AX9: =Q9-R9 -> 3 | AY9: =R9-S9 -> 2.9 | AZ9: =S9-T9 -> 3.8 | BA9: =T9-U9 -> 3.9 | BC9: =W9-X9 -> 3.7 | BD9: =X9-Y9 -> 3.2 | BE9: =Y9-Z9 -> 3.4 | BF9: =AA9-AB9 -> 4 | BG9: =AB9-AC9 -> 3.8 | BH9: =AC9-AD9 -> 4.2 | BI9: =AE9-AF9 -> 5.3 | BJ9: =AF9-AG9 -> 3.7 | BK9: =AG9-AH9 -> 2.9 | BN9: =AVERAGE(AK9:AP9) -> 3.55 | BO9: =AVERAGE(AQ9:BD9) -> 3.2333333 | BP9: =AVERAGE(BE9:BK9) -> 3.9 | BQ9: sem c | BR9: =BR7/SQRT(5) -> 0.47942674 | BS9: =BS7/SQRT(5) -> 0.2947316 | BT9: =BT7/SQRT(5) -> 0.14202615
B10: 7 | C10: 55.4 | D10: 52.4 | E10: 50.4 | F10: 49.5 | G10: 48.7 | H10: 47.3 | I10: 45.7 | J10: 43.7 | K10: 41.6 | L10: 39.6 | M10: 38.7 | N10: 32 | O10: 31.3 | P10: 29.4 | Q10: 28 | R10: 27 | S10: 25.8 | T10: 22.9 | U10: 19.7 | V10: 24.4 | W10: 21.3 | X10: 18.3 | Y10: 15.5 | Z10: 12.2 | AA10: 17.8 | AB10: 17.2 | AC10: 14.6 | AD10: 12.3 | AE10: 33.8 | AF10: 30.2 | AG10: 27.1 | AH10: 24.3 | AI10: 7 | AJ10: N/a | AK10: =C10-D10 -> 3 | AL10: =D10-E10 -> 2 | AM10: =E10-F10 -> 0.9 | AN10: =F10-G10 -> 0.8 | AO10: =G10-H10 -> 1.4 | AP10: =H10-I10 -> 1.6 | AQ10: =I10-J10 -> 2 | AR10: =J10-K10 -> 2.1 | ... AT10: =L10-M10 -> 0.9 | AU10: =N10-O10 -> 0.7 | AV10: =O10-P10 -> 1.9 | AW10: =P10-Q10 -> 1.4 | AX10: =Q10-R10 -> 1 | AY10: =R10-S10 -> 1.2 | AZ10: =S10-T10 -> 2.9 | BA10: =T10-U10 -> 3.2 | BC10: =W10-X10 -> 3 | BD10: =X10-Y10 -> 2.8 | BE10: =Y10-Z10 -> 3.3 | BF10: =AA10-AB10 -> 0.6 | BG10: =AB10-AC10 -> 2.6 | BH10: =AC10-AD10 -> 2.3 | BI10: =AE10-AF10 -> 3.6 | BJ10: =AF10-AG10 -> 3.1 | BK10: =AG10-AH10 -> 2.8 | BN10: =AVERAGE(AK10:AP10) -> 1.6166667 | BO10: =AVERAGE(AQ10:BD10) -> 1.9307692 | BP10: =AVERAGE(BE10:BK10) -> 2.6142857
B11: 8 | C11: 57.2 | D11: 55.2 | E11: 54.4 | F11: 54.4 | G11: 54.3 | H11: 53.7 | I11: 51.6 | J11: 49.9 | K11: 48.7 | L11: 48.4 | M11: 48.1 | N11: 32.2 | O11: 30.7 | P11: 28 | Q11: 25.4 | R11: 24.9 | S11: 22.8 | T11: 20.1 | U11: 17.6 | V11: 24.1 | W11: 20.5 | X11: 17.3 | Y11: 14.3 | Z11: 11 | AA11: 21.3 | AB11: 15.7 | AC11: 13.2 | AD11: 10.9 | AE11: 31.6 | AF11: 27.7 | AG11: 24.2 | AH11: 21.1 | AI11: 8 | AJ11: N/a | AK11: =C11-D11 -> 2 | AL11: =D11-E11 -> 0.8 | AM11: =E11-F11 -> 0 | AN11: =F11-G11 -> 0.1 | AO11: =G11-H11 -> 0.6 | AP11: =H11-I11 -> 2.1 | AQ11: =I11-J11 -> 1.7 | AR11: =J11-K11 -> 1.2 | ... AT11: =L11-M11 -> 0.3 | AU11: =N11-O11 -> 1.5 | AV11: =O11-P11 -> 2.7 | AW11: =P11-Q11 -> 2.6 | AX11: =Q11-R11 -> 0.5 | AY11: =R11-S11 -> 2.1 | AZ11: =S11-T11 -> 2.7 | BA11: =T11-U11 -> 2.5 | BC11: =W11-X11 -> 3.2 | BD11: =X11-Y11 -> 3 | BE11: =Y11-Z11 -> 3.3 | BF11: =AA11-AB11 -> 5.6 | BG11: =AB11-AC11 -> 2.5 | BH11: =AC11-AD11 -> 2.3 | BI11: =AE11-AF11 -> 3.9 | BJ11: =AF11-AG11 -> 3.5 | BK11: =AG11-AH11 -> 3.1 | BN11: =AVERAGE(AK11:AP11) -> 0.93333333 | BO11: =AVERAGE(AQ11:BD11) -> 1.8692308 | BP11: =AVERAGE(BE11:BK11) -> 3.4571429
B12: 9 | C12: 57.6 | D12: 52.3 | E12: 48.7 | F12: 48.2 | G12: 47.2 | H12: 44.9 | I12: 42.7 | J12: 39.8 | K12: 37.1 | L12: 35.1 | M12: 33.4 | N12: 36.7 | O12: 34.2 | P12: 30.9 | Q12: 29.3 | R12: 27.6 | S12: 24.8 | T12: 21 | U12: 18 | V12: 23.3 | W12: 18.6 | X12: 14.8 | Y12: 10.7 | Z12: 6.9 | AA12: 17.6 | AB12: 11.1 | AC12: 7.8 | AD12: 3.7 | AE12: 32.3 | AF12: 28.1 | AG12: 24.9 | AH12: 21.4 | AI12: 9 | AJ12: N/a | AK12: =C12-D12 -> 5.3 | AL12: =D12-E12 -> 3.6 | AM12: =E12-F12 -> 0.5 | AN12: =F12-G12 -> 1 | AO12: =G12-H12 -> 2.3 | AP12: =H12-I12 -> 2.2 | AQ12: =I12-J12 -> 2.9 | AR12: =J12-K12 -> 2.7 | ... AT12: =L12-M12 -> 1.7 | AU12: =N12-O12 -> 2.5 | AV12: =O12-P12 -> 3.3 | AW12: =P12-Q12 -> 1.6 | AX12: =Q12-R12 -> 1.7 | AY12: =R12-S12 -> 2.8 | AZ12: =S12-T12 -> 3.8 | BA12: =T12-U12 -> 3 | BC12: =W12-X12 -> 3.8 | BD12: =X12-Y12 -> 4.1 | BE12: =Y12-Z12 -> 3.8 | BF12: =AA12-AB12 -> 6.5 | BG12: =AB12-AC12 -> 3.3 | BH12: =AC12-AD12 -> 4.1 | BI12: =AE12-AF12 -> 4.2 | BJ12: =AF12-AG12 -> 3.2 | BK12: =AG12-AH12 -> 3.5 | BN12: =AVERAGE(AK12:AP12) -> 2.4833333 | BO12: =AVERAGE(AQ12:BD12) -> 2.7615385 | BP12: =AVERAGE(BE12:BK12) -> 4.0857143
B13: 10 | C13: 53.3 | D13: 48.8 | E13: 45.8 | F13: 43.8 | G13: 40.7 | H13: 38 | I13: 34.7 | J13: 30.5 | K13: 26.3 | L13: 22.2 | M13: 18.9 | N13: 35.6 | O13: 31.6 | P13: 27.9 | Q13: 24.6 | R13: 22.8 | S13: 19.8 | T13: 16.5 | U13: 13 | V13: 20.4 | W13: 16.2 | X13: 12.5 | Y13: 9 | Z13: 5.1 | AA13: 19.4 | AB13: 15.4 | AC13: 11.9 | AD13: 8.1 | AE13: 32.1 | AF13: 27.2 | AG13: 23.8 | AH13: 20.5 | AI13: 10 | AJ13: N/a | AK13: =C13-D13 -> 4.5 | AL13: =D13-E13 -> 3 | AM13: =E13-F13 -> 2 | AN13: =F13-G13 -> 3.1 | AO13: =G13-H13 -> 2.7 | AP13: =H13-I13 -> 3.3 | AQ13: =I13-J13 -> 4.2 | AR13: =J13-K13 -> 4.2 | ... AT13: =L13-M13 -> 3.3 | AU13: =N13-O13 -> 4 | AV13: =O13-P13 -> 3.7 | AW13: =P13-Q13 -> 3.3 | AX13: =Q13-R13 -> 1.8 | AY13: =R13-S13 -> 3 | AZ13: =S13-T13 -> 3.3 | BA13: =T13-U13 -> 3.5 | BC13: =W13-X13 -> 3.7 | BD13: =X13-Y13 -> 3.5 | BE13: =Y13-Z13 -> 3.9 | BF13: =AA13-AB13 -> 4 | BG13: =AB13-AC13 -> 3.5 | BH13: =AC13-AD13 -> 3.8 | BI13: =AE13-AF13 -> 4.9 | BJ13: =AF13-AG13 -> 3.4 | BK13: =AG13-AH13 -> 3.3 | BN13: =AVERAGE(AK13:AP13) -> 3.1 | BO13: =AVERAGE(AQ13:BD13) -> 3.5076923 | BP13: =AVERAGE(BE13:BK13) -> 3.8285714
AI14: Average: | AK14: =AVERAGE(AK4:AK13) -> 4.73 | AL14: =AVERAGE(AL4:AL13) -> 2.59 | AM14: =AVERAGE(AM4:AM13) -> 2.05 | AN14: =AVERAGE(AN4:AN13) -> 2.22 | AO14: =AVERAGE(AO4:AO13) -> 2.55 | AP14: =AVERAGE(AP4:AP13) -> 2.61 | AQ14: =AVERAGE(AQ4:AQ13) -> 2.82 | AR14: =AVERAGE(AR4:AR13) -> 3.01 | ... BA14: =AVERAGE(BA4:BA13) -> 3.4 | BC14: =AVERAGE(BC4:BC13) -> 3.5 | BD14: =AVERAGE(BD4:BD13) -> 3.4 | BE14: =AVERAGE(BE4:BE13) -> 3.43 | BF14: =AVERAGE(BF4:BF13) -> 4.16 | BG14: =AVERAGE(BG4:BG13) -> 3.39 | BH14: =AVERAGE(BH4:BH13) -> 3.27 | BI14: =AVERAGE(BI4:BI13) -> 4.39 | BJ14: =AVERAGE(BJ4:BJ13) -> 3.35 | BK14: =AVERAGE(BK4:BK13) -> 3.11
AI15: St. Dev. | AK15: =_xlfn.STDEV.P(AK4:AK13) -> 1.6340441 | AL15: =_xlfn.STDEV.P(AL4:AL13) -> 0.77129761 | AM15: =_xlfn.STDEV.P(AM4:AM13) -> 1.2674778 | AN15: =_xlfn.STDEV.P(AN4:AN13) -> 1.5917286 | AO15: =_xlfn.STDEV.P(AO4:AO13) -> 0.92763139 | AP15: =_xlfn.STDEV.P(AP4:AP13) -> 0.56293872 | AQ15: =_xlfn.STDEV.P(AQ4:AQ13) -> 0.70256672 | AR15: =_xlfn.STDEV.P(AR4:AR13) -> 0.80305666 | ... BA15: =_xlfn.STDEV.P(BA4:BA13) -> 0.45166359 | BC15: =_xlfn.STDEV.P(BC4:BC13) -> 0.37148351 | BD15: =_xlfn.STDEV.P(BD4:BD13) -> 0.43127717 | BE15: =_xlfn.STDEV.P(BE4:BE13) -> 0.30016662 | BF15: =_xlfn.STDEV.P(BF4:BF13) -> 1.4840485 | BG15: =_xlfn.STDEV.P(BG4:BG13) -> 0.4570558 | BH15: =_xlfn.STDEV.P(BH4:BH13) -> 0.69144776 | BI15: =_xlfn.STDEV.P(BI4:BI13) -> 0.48877398 | BJ15: =_xlfn.STDEV.P(BJ4:BJ13) -> 0.16278821 | BK15: =_xlfn.STDEV.P(BK4:BK13) -> 0.36728735
N17: missing measurement | Q17: food measurement issue | Y17: *last night drug was given*
N18: All food + cages replaced this day | V18: All food replaced this day | AE18: All food + cages replaced this day
AB19: food measurement issue
C20: Vehicle phase | AJ20: Vehicle phase
G22: ** Day 12 replaced 3 with 35.1 g of new food due to shredding**
L24: 5 and 6 were found on 6 side of cage on day 17 | AS24: Orange color means food was replaced the day before so food intake formula was adjusted
N26: Mouse 6 food was not written
T27: replaced 11 with 22.0 g food
T28: replaced 12 with 16.1 g food

Sheet Panel L
A4: Sponsor Id: | B4: Cerevance
A6: Sponsor Study Id: | B6: Plasma after CVN45502 Treatment (30mg/kg)
A8: Compound Id: | B8: CVN45502
A13: Summary of Mouse Plasma Sample Concentrations
A16: Group 1 Chow Diet | B16: =$B$10 & "Concentrations (ng/mL) in Mouse Plasma" -> Concentrations (ng/mL) in Mouse Plasma
B17: Animal ID
B18: 10901 | C18: 10903 | D18: 10905 | E18: 10907 | F18: 10909 | G18: Mean | H18: SD | I18: %CV
A19: 30 mg/kg | B19: 0.629 | C19: 1.33 | D19: 0.494 | E19: 10.5 | F19: 0.286 | G19: =AVERAGE(B19:F19) -> 2.6478 | H19: =STDEV(B19:F19) -> 4.4069873 | I19: =H19/G19 -> 1.6643958
B20: 0.0015070561 | C20: 0.003186621 | D20: 0.0011836021 | E20: 0.025157534 | F20: 0.00068524331
A22: Group 2 HFD | B22: =$B$10 & "Concentrations (ng/mL) in Mouse Plasma" -> Concentrations (ng/mL) in Mouse Plasma
B23: Animal ID
B24: 10912 | C24: 10917 | D24: 10918 | E24: 10919 | F24: 10920 | G24: Mean | H24: SD | I24: %CV
A25: 30 mg/kg | B25: 94.3 | C25: 84.3 | D25: 105 | E25: 115 | F25: 174 | G25: =AVERAGE(B25:F25) -> 114.52 | H25: =STDEV(B25:F25) -> 35.18106 | I25: =H25/G25 -> 0.30720451
B26: 0.22593862 | C26: 0.20197906 | D26: 0.25157534 | E26: 0.2755349 | F26: 0.41689628
A29: Sponsor Id: | B29: Cerevance
A31: Sponsor Study Id: | B31: Plasma after CVN45502 Treatment (30mg/kg)
A33: Compound Id: | B33: CVN45502
A36: Summary of Calibration Standard Back-Calculated Concentrations
C38: STD1 | D38: STD2 | E38: STD3 | F38: STD4 | G38: STD5 | H38: STD6 | I38: STD7 | J38: STD8 | K38: STD9 | L38: STD10
B39: Analytical | C39: Nominal Concentration (ng/mL)
A40: Assay Date | B40: Run Number | C40: 0.25 | D40: 0.5 | E40: 1 | F40: 2 | G40: 10 | H40: 50 | I40: 250 | J40: 1250 | K40: 2500 | L40: 5000
A41: 44312 | B41: B01 | C41: 0.268 | D41: 0.519 | E41: 1 | F41: 1.98 | G41: 10.3 | H41: 53.1 | I41: 271 | J41: 1210 | K41: 2390 | L41: 4510
C42: 0.223 | D42: 0.513 | E42: 0.998 | F42: 2.07 | G42: 10.7 | H42: 52.4 | I42: 273 | J42: 1200 | K42: 2310 | L42: 4280
A44: Mean | C44: =AVERAGE(C41:C42) -> 0.2455 | D44: =AVERAGE(D41:D42) -> 0.516 | E44: =AVERAGE(E41:E42) -> 0.999 | F44: =AVERAGE(F41:F42) -> 2.025 | G44: =AVERAGE(G41:G42) -> 10.5 | H44: =AVERAGE(H41:H42) -> 52.75 | I44: =AVERAGE(I41:I42) -> 272 | J44: =AVERAGE(J41:J42) -> 1205 | ... L44: =AVERAGE(L41:L42) -> 4395
A45: %Bias | C45: =(C44-C40)/C40*100 -> -1.8 | D45: =(D44-D40)/D40*100 -> 3.2 | E45: =(E44-E40)/E40*100 -> -0.1 | F45: =(F44-F40)/F40*100 -> 1.25 | G45: =(G44-G40)/G40*100 -> 5 | H45: =(H44-H40)/H40*100 -> 5.5 | I45: =(I44-I40)/I40*100 -> 8.8 | J45: =(J44-J40)/J40*100 -> -3.6 | ... L45: =(L44-L40)/L40*100 -> -12.1
A46: n | C46: =COUNT(C41:C42) -> 2 | D46: =COUNT(D41:D42) -> 2 | E46: =COUNT(E41:E42) -> 2 | F46: =COUNT(F41:F42) -> 2 | G46: =COUNT(G41:G42) -> 2 | H46: =COUNT(H41:H42) -> 2 | I46: =COUNT(I41:I42) -> 2 | J46: =COUNT(J41:J42) -> 2 | ... L46: =COUNT(L41:L42) -> 2
A55: Study Information
A56: Sponsor ID: | B56: ='[1]Compound Data Summary'!B54 -> 0
A57: Sponsor Study ID: | B57: Plasma after CVN45502 Treatment (30mg/kg)
A58: Compound ID: | B58: CVN45502
A59: Charles River Study ID: | B59: BKTA-0001-DB-AB
A60: Assay Type: | B60: RGA Level 1
A63: Sample Processing
A64: Extraction Volume (µL): | B64: 50 µL
A65: Extraction Method: | B65: Protein Precipitation
A67: Sample Analysis
A68: LC Conditions
A69: Column Id. & Dimensions: | B69: Waters Acquity BEH C18 50x2.1mm, 1.7µm | D69: Time (min) | E69: % MPB | F69: Flow (µL/min)
A70: Temperature (oC) | B70: 50 | D70: 0.00 | E70: 40 | F70: 800
A71: Mobile Phase A: | B71: 5:95:0.1 Acetonitrile:Water:Formic Acid | D71: 0.20 | E71: 40 | F71: 800
A72: Mobile Phase B: | B72: 50:50:0.1 Acetonitrile:Methanol:Formic Acid | D72: 1.20 | E72: 80 | F72: 800
D73: 1.30 | E73: 95 | F73: 800
D74: 1.70 | E74: 95 | F74: 800
D75: 1.80 | E75: 40 | F75: 800
D76: 2.00 | E76: 40 | F76: 800
A77: MS Conditions
A78: MS/MS: | B78: API-6500+
A79: Ionization Method: | B79: Electrospray
A80: Positive/Negative Ion: | B80: Positive
A81: Resolution: | B81: Unit
A82: Source Temperature (oC): | B82: 550
A83: Transitions (m/z):
B84: Compound ID: | C84: CVN45502 | D84: 432.8/270.1 Da
B85: Int Std ID: | C85: Glyburide | D85: 494.2/369.1 Da
A87: Data Analysis
A88: Acceptance Criteria | B88: ±25% (±30% at LLOQ)
A89: Regression Type | B89: Linear (1/(x * x))
A90: Accepted Curve Range: | B90: 0.250-5000 ng/mL
A91: Carryover | B91: <0.10%
A93: Additional Comments
A94: Study Sample Results | B94: Study sample results are acceptable. All samples were analyzed undiluted.
A95: Other | B95: Sponsor-provided plasma contained analyte peaks at measureable concentrations (approximately 1.5ng/mL). All calibration standards and blanks were prepared in commercially available mouse plasma EDTA An equivalence QC was prepared in sponsor-provided plasma at 2500 ng/mL which passes acceptance criteria when measured against the calibration curve in commercially available plasma.
A97: Approval
A98: Scientist/Date: | B98: W. Couture 28Apr2021

Sheet Panel M
B2: Locomotor Activity | C2: Chow diet plus CVN45502
B3: May 5th 2022 | E3: PB habituation | F3: 5 days
B4: Mouse Line | C4: C57Bl6 Chow | E4: CVN45502 | F4: 30mg/kg
B5: Variable | C5: Metabolic Cagess | D5: TSE Homecage metabolic system | E5: Statistics with CalR
B6: Locomotor activity | E6: Day | F6: Night
B7: Strain | E7: Beam Breaks/hour | F7: Beam Breaks/hour
B8: C57 Bl6 Saline | C8: 1 | E8: 174.34028 | F8: 779.22222
B9: C57 Bl6 Saline | C9: 2 | E9: 260.14583 | F9: 1106.9306
B10: C57 Bl6 Saline | C10: 3 | E10: 228.25 | F10: 913.22222
B11: C57 Bl6 Saline | C11: 4 | E11: 282.33333 | F11: 890.25
B12: C57 Bl6 Saline | C12: 5 | E12: 359.58333 | F12: 831.18056
B13: C57 Bl6 Saline | C13: 6 | E13: 193.125 | F13: 638.6875
B14: C57 Bl6 Saline | C14: 7 | E14: 382.58333 | F14: 1279.4792
E16: Day | F16: Night
E17: Beam Breaks/hour | F17: Beam Breaks/hour
B18: C57Bl6 CVN45502 | C18: 1 | E18: 175.35417 | F18: 744.51667
B19: C57Bl6 CVN45503 | C19: 2 | E19: 216.2125 | F19: 1104.5583
B20: C57Bl6 CVN45504 | C20: 3 | E20: 192.8625 | F20: 742.95417
B21: C57Bl6 CVN45505 | C21: 4 | E21: 342.65833 | F21: 665.52083
B22: C57Bl6 CVN45506 | C22: 5 | E22: 407.47083 | F22: 849.54167
B23: C57Bl6 CVN45507 | C23: 6 | E23: 170.55 | F23: 559.70417
B24: C57Bl6 CVN45508 | C24: 7 | E24: 349.52917 | F24: 1283.7083

Sheet Panel N
B2: Oxygen Consumption | C2: Chow diet plus CVN45502
B3: May 5th 2022 | E3: PB habituation | F3: 5 days
B4: Mouse Line | C4: C57Bl6 Chow | E4: CVN45502 | F4: 30mg/kg
B5: Variable | C5: Metabolic Cagess | D5: TSE Homecage metabolic system | E5: Statistics with CalR
B6: Oxygen Consumption | E6: Day | F6: Night
B7: Strain | E7: ml/hour | F7: ml/hour
B8: C57 Bl6 Saline | C8: 1 | E8: 84.395833 | F8: 106.69444
B9: C57 Bl6 Saline | C9: 2 | E9: 93.798611 | F9: 117.34028
B10: C57 Bl6 Saline | C10: 3 | E10: 90.805556 | F10: 110.88889
B11: C57 Bl6 Saline | C11: 4 | E11: 74.506944 | F11: 104.01389
B12: C57 Bl6 Saline | C12: 5 | E12: 85.388889 | F12: 103.61806
B13: C57 Bl6 Saline | C13: 6 | E13: 89.256944 | F13: 108.54167
E16: Day | F16: Night
E17: ml/hour | F17: ml/hour
B18: C57Bl6 CVN45502 | C18: 1 | E18: 85.1375 | F18: 108.79167
B19: C57Bl6 CVN45503 | C19: 2 | E19: 93.583333 | F19: 118.2125
B20: C57Bl6 CVN45504 | C20: 3 | E20: 89.491667 | F20: 108.74167
B21: C57Bl6 CVN45505 | C21: 4 | E21: 79.104167 | F21: 94.216667
B22: C57Bl6 CVN45506 | C22: 5 | E22: 88.0125 | F22: 109.5125
B23: C57Bl6 CVN45507 | C23: 6 | E23: 91.304167 | F23: 112.39583

Sheet Panel O
B2: CO2 Production | C2: Chow plus CVN45502
B3: May 5th 2022 | E3: PB habituation | F3: 5 days
B4: Mouse Line | C4: C57Bl6 Chow | E4: CVN45502 | F4: 30mg/kg
B5: Variable | C5: Metabolic Cagess | D5: TSE Homecage metabolic system | E5: Statistics with CalR
B6: CO2 production | E6: Day | F6: Night
B7: Strain | E7: ml/hour | F7: ml/hour
B8: C57 Bl6 Saline | C8: 1 | E8: 70.604167 | F8: 92.479167
B9: C57 Bl6 Saline | C9: 2 | E9: 73.784722 | F9: 99.722222
B10: C57 Bl6 Saline | C10: 3 | E10: 76.1875 | F10: 98.263889
B11: C57 Bl6 Saline | C11: 4 | E11: 60.201389 | F11: 93.243056
B12: C57 Bl6 Saline | C12: 5 | E12: 70.527778 | F12: 87.736111
B13: C57 Bl6 Saline | C13: 6 | E13: 74.090278 | F13: 93.083333
E16: Day | F16: Night
E17: ml/hour | F17: ml/hour
B18: C57Bl6 CVN45502 | C18: 1 | E18: 71.054167 | F18: 96.0625
B19: C57Bl6 CVN45503 | C19: 2 | E19: 78.233333 | F19: 101.13333
B20: C57Bl6 CVN45504 | C20: 3 | E20: 78.379167 | F20: 98.741667
B21: C57Bl6 CVN45505 | C21: 4 | E21: 72.266667 | F21: 82.970833
B22: C57Bl6 CVN45506 | C22: 5 | E22: 73.045833 | F22: 93.504167
B23: C57Bl6 CVN45507 | C23: 6 | E23: 80.2625 | F23: 100.12083

Sheet Panel P
B2: Energy Expenditure | C2: Chow plus CVN45502
B3: May 5th 2022 | E3: PB habituation | F3: 5 days
B4: Mouse Line | C4: C57Bl6 Chow | E4: CVN45502 | F4: 30mg/kg
B5: Variable | C5: Metabolic Cagess | D5: TSE Homecage metabolic system | E5: Statistics with CalR
B6: Energy Expenditure | E6: Day | F6: Night
B7: Strain | E7: kcal/hour | F7: kcal/hour
B8: HFD Saline | C8: 1 | E8: 4.7896944 | F8: 6.2745
B9: HFD Saline | C9: 2 | E9: 5.2660139 | F9: 6.8708333
B10: HFD Saline | C10: 3 | E10: 5.1557292 | F10: 6.5485833
B11: HFD Saline | C11: 4 | E11: 4.2092569 | F11: 6.1565833
B12: HFD Saline | C12: 5 | E12: 4.8331875 | F12: 6.0659167
B13: HFD Saline | C13: 6 | E13: 5.0647292 | F13: 6.36875
E16: Day | F16: Night
E17: kcal/hour | F17: kcal/hour
B18: HFD CVN45502 | C18: 1 | E18: 4.8860208 | F18: 6.41965
B19: HFD CVN45503 | C19: 2 | E19: 5.3710333 | F19: 6.93435
B20: HFD CVN45504 | C20: 3 | E20: 5.1786 | F20: 6.4534
B21: HFD CVN45505 | C21: 4 | E21: 4.6115 | F21: 5.55695
B22: HFD CVN45506 | C22: 5 | E22: 5.0488042 | F22: 6.4197
B23: HFD CVN45507 | C23: 6 | E23: 5.2945458 | F23: 6.64465

Sheet Panel Q
B2: Body weight HFD | C2: CVN45502 HFD | D2: Equipment
B3: March 4th - April 11th 2021 | D3: Manual counts
B4: CVN45502 | C4: 30mg/kg in PB
B5: Assessment | C5: Body weight
B6: Mouse | C6: Body Weight (g)
C7: Day 1 | D7: Day 2 | E7: Day 3 | F7: Day 4 | G7: Day 5 | H7: Day 6 | I7: Day 7 | J7: Day 8 | K7: Day 9 | L7: Day 10 | M7: Day 11 | N7: Day 12 | O7: Day 13 | P7: Day 14 | Q7: Day 15 | R7: Day 16 | S7: Day 17 | T7: Day 18 | U7: Day 19 | V7: Day 20 | W7: Day 21 | X7: Day 22 | Y7: Day 23 | Z7: Day 24 | AA7: Day 25 | AB7: Day 26 | AC7: Day 27 | AD7: Day 28 | AE7: Day 29 | AF7: Day 30 | AG7: Day 31 | AH7: Day 32 | AI7: Day 33 | AJ7: Day 34 | AK7: Day 35
B8: 11 | C8: 47.4 | D8: 47.8 | E8: 47.3 | F8: 47.6 | G8: 47.3 | H8: 48.1 | I8: 48.2 | J8: 48.1 | K8: 48.2 | L8: 48.1 | M8: 48.2 | N8: 48.1 | O8: 48.2 | P8: 48.4 | Q8: 48.4 | R8: 49.1 | S8: 49.1 | T8: 49.5 | U8: 50.2 | V8: 49.9 | W8: 50.4 | X8: 50.5 | Y8: 49.7 | Z8: 49.5 | AA8: 49.6 | AB8: 49.4 | AC8: 49.6 | AD8: 49.6 | AE8: 49.8 | AF8: 48.9 | AG8: 50 | AH8: 50 | AI8: 49.9 | AJ8: 50 | AK8: 50.1
B9: 12 | C9: 37.8 | D9: 37.2 | E9: 36.4 | F9: 36 | G9: 36.1 | H9: 35.8 | I9: 36.6 | J9: 36 | K9: 37.2 | L9: 37.9 | M9: 37.6 | N9: 37 | O9: 37.9 | P9: 37.6 | Q9: 37.1 | R9: 35.9 | S9: 36.8 | T9: 36.6 | U9: 37.2 | V9: 36.2 | W9: 36.2 | X9: 36.6 | Y9: 36.9 | Z9: 36.6 | AA9: 36.6 | AB9: 36.8 | AC9: 36 | AD9: 36 | AE9: 36 | AF9: 36.5 | AG9: 37.5 | AH9: 37.9 | AI9: 39 | AJ9: 40.1 | AK9: 40.3
B10: 13 | C10: 45 | D10: 44.8 | E10: 44.6 | F10: 44.4 | G10: 44.5 | H10: 44.1 | I10: 44.6 | J10: 44.6 | K10: 44.4 | L10: 44.5 | M10: 45 | N10: 44.9 | O10: 45.2 | P10: 45.1 | Q10: 45 | R10: 44.7 | S10: 45.3 | T10: 45.2 | U10: 46.2 | V10: 46.4 | W10: 46.5 | X10: 46.6 | Y10: 45.6 | Z10: 45.5 | AA10: 45.4 | AB10: 45.4 | AC10: 45.4 | AD10: 45.1 | AE10: 45.3 | AF10: 45.8 | AG10: 45.7 | AH10: 45.7 | AI10: 46.5 | AJ10: 46.4 | AK10: 46.6
B11: 14 | C11: 40.4 | D11: 40 | E11: 40.3 | F11: 40.1 | G11: 39.7 | H11: 40.9 | I11: 40.7 | J11: 40.4 | K11: 40.7 | L11: 41.1 | M11: 40.6 | N11: 40.6 | O11: 41.1 | P11: 41 | Q11: 40.8 | R11: 40.5 | S11: 40.7 | T11: 40.8 | U11: 41.5 | V11: 41.4 | W11: 42.2 | X11: 42.5 | Y11: 42 | Z11: 42.5 | AA11: 42.8 | AB11: 43.1 | AC11: 43.1 | AD11: 43.2 | AE11: 43.6 | AF11: 43.4 | AG11: 43.4 | AH11: 44.2 | AI11: 44.3 | AJ11: 44.6 | AK11: 44.7
B12: 15 | C12: 34.9 | D12: 34.9 | E12: 35.2 | F12: 35.5 | G12: 35.8 | H12: 34.9 | I12: 35 | J12: 35 | K12: 35.4 | L12: 35.5 | M12: 36 | N12: 36.2 | O12: 36.9 | P12: 36.7 | Q12: 36.9 | R12: 36.2 | S12: 36.9 | T12: 37.5 | U12: 37.9 | V12: 37.6 | W12: 37.5 | X12: 38 | Y12: 37.5 | Z12: 37.7 | AA12: 37.1 | AB12: 37.3 | AC12: 38 | AD12: 38.2 | AE12: 38.5 | AF12: 37.4 | AG12: 37.2 | AH12: 36.7 | AI12: 37.6 | AJ12: 36.4 | AK12: 37.1
B13: 16 | C13: 39.1 | D13: 39.1 | E13: 39.7 | F13: 40.1 | G13: 40.3 | H13: 40.3 | I13: 40.9 | J13: 40.7 | K13: 40.9 | L13: 41.4 | M13: 41.4 | N13: 41.7 | O13: 41.5 | P13: 41.7 | Q13: 42 | R13: 41.5 | S13: 41.9 | T13: 42.6 | U13: 43.4 | V13: 43.5 | W13: 43.7 | X13: 44.2 | Y13: 44.3 | Z13: 44.6 | AA13: 44.5 | AB13: 45 | AC13: 45.8 | AD13: 46 | AE13: 46.1 | AF13: 45.1 | AG13: 45.5 | AH13: 45.4 | AI13: 45.8 | AJ13: 45.8 | AK13: 46.2
B14: 17 | C14: 45.9 | D14: 45.7 | E14: 45.3 | F14: 45 | G14: 45.2 | H14: 45.1 | I14: 44.6 | J14: 45.5 | K14: 46.1 | L14: 45.9 | M14: 46 | N14: 46.1 | O14: 46.7 | P14: 46.1 | Q14: 47 | R14: 46 | S14: 46.3 | T14: 46.2 | U14: 45.9 | V14: 45.6 | W14: 45.3 | X14: 45.1 | Y14: 44.6 | Z14: 43.9 | AA14: 43.9 | AB14: 43.8 | AC14: 43.8 | AD14: 43.5 | AE14: 43.5 | AF14: 44.5 | AG14: 45.5 | AH14: 45.4 | AI14: 45.8 | AJ14: 46 | AK14: 46.3
B15: 18 | C15: 37 | D15: 36.4 | E15: 36.5 | F15: 36.1 | G15: 36.4 | H15: 36.4 | I15: 37.5 | J15: 34.8 | K15: 39.5 | L15: 40.3 | M15: 40.7 | N15: 41.9 | O15: 42.6 | P15: 43 | Q15: 44.4 | R15: 44.4 | S15: 44.1 | T15: 44.1 | U15: 43.5 | V15: 43.4 | W15: 43.3 | X15: 43.5 | Y15: 43.2 | Z15: 42.9 | AA15: 42.6 | AB15: 44 | AC15: 43.3 | AD15: 42.8 | AE15: 42.9 | AF15: 43.2 | AG15: 46.1 | AH15: 46.5 | AI15: 47.2 | AJ15: 47.3 | AK15: 47.4
B16: 19 | C16: 42.3 | D16: 42.1 | E16: 43.3 | F16: 43.3 | G16: 43.3 | H16: 43.3 | I16: 43.7 | J16: 44 | K16: 44.3 | L16: 43.9 | M16: 43.7 | N16: 43.9 | O16: 44.5 | P16: 44.1 | Q16: 43.6 | R16: 42.3 | S16: 43.1 | T16: 42.8 | U16: 42 | V16: 42.9 | W16: 42.9 | X16: 43.1 | Y16: 44.1 | Z16: 45.1 | AA16: 43.5 | AB16: 44.9 | AC16: 43.1 | AD16: 43.1 | AE16: 42.7 | AF16: 43.9 | AG16: 44.5 | AH16: 44.4 | AI16: 44.3 | AJ16: 44.8 | AK16: 45
B17: 20 | C17: 38.9 | D17: 38.3 | E17: 38.3 | F17: 38 | G17: 38.3 | H17: 38.3 | I17: 38.2 | J17: 38.4 | K17: 38.3 | L17: 38.3 | M17: 37.9 | N17: 38.4 | O17: 38.3 | P17: 38.6 | Q17: 38.6 | R17: 38 | S17: 38.2 | T17: 38.3 | U17: 38.4 | V17: 38 | W17: 38 | X17: 38.1 | Y17: 38 | Z17: 38 | AA17: 37.5 | AB17: 38.3 | AC17: 37.5 | AD17: 37.2 | AE17: 37 | AF17: 37.5 | AG17: 38.2 | AH17: 38.4 | AI17: 38.5 | AJ17: 39.2 | AK17: 39.4
B18: Average | C18: =AVERAGE(C8:C17) -> 40.87 | D18: =AVERAGE(D8:D17) -> 40.63 | E18: =AVERAGE(E8:E17) -> 40.69 | F18: =AVERAGE(F8:F17) -> 40.61 | G18: =AVERAGE(G8:G17) -> 40.69 | H18: =AVERAGE(H8:H17) -> 40.72 | I18: =AVERAGE(I8:I17) -> 41 | J18: =AVERAGE(J8:J17) -> 40.75 | ... AK18: =AVERAGE(AK8:AK17) -> 44.31
B19: St. Dev. | C19: =_xlfn.STDEV.P(C8:C17) -> 3.9283712 | D19: =_xlfn.STDEV.P(D8:D17) -> 4.090489 | E19: =_xlfn.STDEV.P(E8:E17) -> 3.9998625 | F19: =_xlfn.STDEV.P(F8:F17) -> 4.0591748 | G19: =_xlfn.STDEV.P(G8:G17) -> 3.9444772 | H19: =_xlfn.STDEV.P(H8:H17) -> 4.1777506 | I19: =_xlfn.STDEV.P(I8:I17) -> 4.007493 | J19: =_xlfn.STDEV.P(J8:J17) -> 4.4569608 | ... AK19: =_xlfn.STDEV.P(AK8:AK17) -> 3.8555026
C20: 44259 | D20: 44260 | E20: 44263 | F20: 44264 | G20: 44265 | H20: 44266 | I20: 44267 | J20: 44270 | K20: 44271 | L20: 44272 | M20: 44273 | N20: 44274 | O20: 44275 | P20: 44276 | Q20: 44277 | R20: 44278 | S20: 44279 | T20: 44280 | U20: 44281 | V20: 44282 | W20: 44283 | X20: 44284 | Y20: 44285 | Z20: 44286 | AA20: 44287 | AB20: 44288 | AC20: 44289 | AD20: 44290 | AE20: 44291 | AF20: 44292 | AG20: 44293 | AH20: 44294 | AI20: 44295 | AJ20: 44296 | AK20: 44297
B21: mean t | C21: =SUM(C9,C14:C17)/5 -> 40.38 | D21: =SUM(D9,D14:D17)/5 -> 39.94 | E21: =SUM(E9,E14:E17)/5 -> 39.96 | F21: =SUM(F9,F14:F17)/5 -> 39.68 | G21: =SUM(G9,G14:G17)/5 -> 39.86 | H21: =SUM(H9,H14:H17)/5 -> 39.78 | I21: =SUM(I9,I14:I17)/5 -> 40.12 | J21: =SUM(J9,J14:J17)/5 -> 39.74 | ... AK21: =SUM(AK9,AK14:AK17)/5 -> 43.68
B22: mean c | C22: =SUM(C8,C10:C13)/5 -> 41.36 | D22: =SUM(D8,D10:D13)/5 -> 41.32 | E22: =SUM(E8,E10:E13)/5 -> 41.42 | F22: =SUM(F8,F10:F13)/5 -> 41.54 | G22: =SUM(G8,G10:G13)/5 -> 41.52 | H22: =SUM(H8,H10:H13)/5 -> 41.66 | I22: =SUM(I8,I10:I13)/5 -> 41.88 | J22: =SUM(J8,J10:J13)/5 -> 41.76 | ... AK22: =SUM(AK8,AK10:AK13)/5 -> 44.94
B23: stdev t | C23: =STDEV(C9,C14:C17) -> 3.6887667 | D23: =STDEV(D9,D14:D17) -> 3.8914008 | E23: =STDEV(E9,E14:E17) -> 4.0948748 | F23: =STDEV(F9,F14:F17) -> 4.2008333 | G23: =STDEV(G9,G14:G17) -> 4.1500602 | H23: =STDEV(H9,H14:H17) -> 4.1877201 | I23: =STDEV(I9,I14:I17) -> 3.7359069 | J23: =STDEV(J9,J14:J17) -> 4.7830952 | ... AK23: =STDEV(AK9,AK14:AK17) -> 3.6120631
B24: stdev c | C24: =STDEV(C8,C10:C13) -> 4.9369019 | D24: =STDEV(D8,D10:D13) -> 5.0494554 | E24: =STDEV(E8,E10:E13) -> 4.679423 | F24: =STDEV(F8,F10:F13) -> 4.6241756 | G24: =STDEV(G8,G10:G13) -> 4.4667662 | H24: =STDEV(H8,H10:H13) -> 4.8875352 | I24: =STDEV(I8,I10:I13) -> 4.9251396 | J24: =STDEV(J8,J10:J13) -> 4.9227025 | ... AK24: =STDEV(AK8,AK10:AK13) -> 4.8086381
B25: sem t | C25: =C23/SQRT(10) -> 1.1664905 | D25: =D23/SQRT(10) -> 1.230569 | E25: =E23/SQRT(10) -> 1.2949131 | F25: =F23/SQRT(10) -> 1.3284201 | G25: =G23/SQRT(10) -> 1.3123643 | H25: =H23/SQRT(10) -> 1.3242734 | I25: =I23/SQRT(10) -> 1.1813975 | J25: =J23/SQRT(10) -> 1.5125475 | ... AK25: =AK23/SQRT(10) -> 1.1422347
B26: sem c | C26: =C24/SQRT(10) -> 1.5611854 | D26: =D24/SQRT(10) -> 1.596778 | E26: =E24/SQRT(10) -> 1.4797635 | F26: =F24/SQRT(10) -> 1.4622927 | G26: =G24/SQRT(10) -> 1.4125155 | H26: =H24/SQRT(10) -> 1.5455743 | I26: =I24/SQRT(10) -> 1.5574659 | J26: =J24/SQRT(10) -> 1.5566952 | ... AK26: =AK24/SQRT(10) -> 1.5206249
C27: Habituation phase | J27: Vehicle phase | P27: Drug phase
B29: Notes | C29: in grey days utilized for curves
C30: first 5 days habituation

Sheet Panel R
B2: Body weight Gain Chow | C2: CVN45502 HFD | D2: Equipment
B3: March 4th - April 11th 2021 | D3: Manual counts
B4: CVN45502 | C4: 30mg/kg in PB
B5: Assessment | C5: Body weight
E7: Pretreatment Phase | I7: Treatment Phase | M7: Post-treatment phase
B8: Mouse Id | C8: Vehicle | D8: Mouse Id | E8: Vehicle | F8: Mouse Id | G8: Vehicle | H8: Mouse Id | I8: Vehicle | J8: Mouse Id | K8: Vehicle | L8: Mouse Id | M8: Vehicle
B9: 1 | C9: 0.3 | D9: 2 | E9: 1.6 | F9: 1 | G9: 1.4 | H9: 2 | I9: -1.6 | J9: 1 | K9: 0.3 | L9: 2 | M9: 4.3
B10: 3 | C10: 0.4 | D10: 7 | E10: 1.5 | F10: 3 | G10: 0.3 | H10: 7 | I10: -3.5 | J10: 3 | K10: 1.3 | L10: 7 | M10: 2.8
B11: 4 | C11: 0.4 | D11: 8 | E11: 9.6* | F11: 4 | G11: 2.8 | H11: 8 | I11: -1.5 | J11: 4 | K11: 1.1 | L11: 8 | M11: 2.5
B12: 5 | C12: 1.7 | D12: 9 | E12: 0.1 | F12: 5 | G12: 1.8 | H12: 9 | I12: -1.4 | J12: 5 | K12: -1.4 | L12: 9 | M12: 2.3
B13: 6 | C13: 1.3 | D13: 10 | E13: 0.2 | F13: 6 | G13: 4.1 | H13: 10 | I13: -1.6 | J13: 6 | K13: 0.1 | L13: 10 | M13: 2.4

Sheet Panel S
B4: Date | C4: March 4th - April 11th 2021 | D4: HFD
B5: Experiment | C5: Feeding during treatment (Days 13,20,34) | D5: Drug
D6: CVN45502 30mg/kg imn PB
G8: Day 13 | K8: Day 20 | O8: Day 34
B9: DIETARY STATE | C9: Mouse | D9: Body weight | E9: Food | F9: Food 24h | G9: Food intake | H9: Body weight | I9: Food | J9: Food 24h | K9: Food intake | L9: Body weight | M9: Food | N9: Food 24h | O9: Food intake
B10: HFD
B11: HFD | C11: 11 | D11: 48.2 | E11: 67.56 | F11: 65.36 | G11: =E11-F11 -> 2.2 | H11: 49.9 | I11: 56.73 | J11: 54.1 | K11: =I11-J11 -> 2.63 | L11: 50 | M11: 57.44 | N11: 54.73 | O11: =M11-N11 -> 2.71
B12: HFD | C12: 12 | D12: 37.9 | E12: 73.45 | F12: 71.32 | G12: =E12-F12 -> 2.13 | H12: 36.2 | I12: 62.22 | J12: 60.03 | K12: =I12-J12 -> 2.19 | L12: 40.1 | M12: 62.24 | N12: 59.74 | O12: =M12-N12 -> 2.5
B13: HFD | C13: 13 | D13: 45.2 | E13: 65.21 | F13: 62.63 | G13: =E13-F13 -> 2.58 | H13: 46.4 | I13: 64.51 | J13: 62.23 | K13: =I13-J13 -> 2.28 | L13: 46.4 | M13: 57.78 | N13: 55.37 | O13: =M13-N13 -> 2.41
B14: HFD | C14: 14 | D14: 41.1 | E14: 58.78 | F14: 56.18 | G14: =E14-F14 -> 2.6 | H14: 41.4 | I14: 63.33 | J14: 61.01 | K14: =I14-J14 -> 2.32 | L14: 44.6 | M14: 60.04 | N14: 57.64 | O14: =M14-N14 -> 2.4
B15: DIETARY STATE | C15: 15 | D15: 36.9 | E15: 66.79 | F15: 64.41 | G15: =E15-F15 -> 2.38 | H15: 37.6 | I15: 67.72 | J15: 65.43 | K15: =I15-J15 -> 2.29 | L15: 36.4 | M15: 65.55 | N15: 63.24 | O15: =M15-N15 -> 2.31
B16: HFD | C16: 16 | D16: 41.5 | E16: 62.34 | F16: 60.23 | G16: =E16-F16 -> 2.11 | H16: 43.5 | I16: 66.25 | J16: 63.79 | K16: =I16-J16 -> 2.46 | L16: 45.8 | M16: 63.41 | N16: 60.91 | O16: =M16-N16 -> 2.5
B17: HFD | C17: 17 | D17: 46.7 | E17: 56.7 | F17: 54.65 | G17: =E17-F17 -> 2.05 | H17: 45.6 | I17: 71.21 | J17: 69.22 | K17: =I17-J17 -> 1.99 | L17: 46 | M17: 67.7 | N17: 65.36 | O17: =M17-N17 -> 2.34
B18: HFD | C18: 18 | D18: 42.6 | E18: 62.88 | F18: 60 | G18: =E18-F18 -> 2.88 | H18: 43.4 | I18: 58.87 | J18: 56.62 | K18: =I18-J18 -> 2.25 | L18: 47.3 | M18: 66.23 | N18: 63.47 | O18: =M18-N18 -> 2.76
B19: HFD | C19: 19 | D19: 44.5 | E19: 71.44 | F19: 68.81 | G19: =E19-F19 -> 2.63 | H19: 42.9 | I19: 64.35 | J19: 62.41 | K19: =I19-J19 -> 1.94 | L19: 44.8 | M19: 66.71 | N19: 64.07 | O19: =M19-N19 -> 2.64
B20: HFD | C20: 20 | D20: 38.3 | E20: 68.78 | F20: 66.52 | G20: =E20-F20 -> 2.26 | H20: 38 | I20: 65.55 | J20: 63.35 | K20: =I20-J20 -> 2.2 | L20: 39.2 | M20: 64.88 | N20: 62.31 | O20: =M20-N20 -> 2.57
C21: Average CVN45502 | G21: =AVERAGE(G12,G17:G20) -> 2.39 | K21: =AVERAGE(K12,K17:K20) -> 2.114 | O21: =AVERAGE(O12,O17:O20) -> 2.562
C22: Average Vehicle | G22: =AVERAGE(G11,G13:G16) -> 2.374 | K22: =AVERAGE(K11,K13:K16) -> 2.396 | O22: =AVERAGE(O11,O13:O16) -> 2.466

Sheet Panel T
A4: Sponsor Id: | B4: Cerevance
A6: Sponsor Study Id: | B6: Plasma after CVN45502 Treatment (30mg/kg)
A8: Compound Id: | B8: CVN45502
A13: Summary of Mouse Plasma Sample Concentrations
A16: Group 1 Chow Diet | B16: =$B$10 & "Concentrations (ng/mL) in Mouse Plasma" -> Concentrations (ng/mL) in Mouse Plasma
B17: Animal ID
B18: 10901 | C18: 10903 | D18: 10905 | E18: 10907 | F18: 10909 | G18: Mean | H18: SD | I18: %CV
A19: 30 mg/kg | B19: 0.629 | C19: 1.33 | D19: 0.494 | E19: 10.5 | F19: 0.286 | G19: =AVERAGE(B19:F19) -> 2.6478 | H19: =STDEV(B19:F19) -> 4.4069873 | I19: =H19/G19 -> 1.6643958
B20: 0.0015070561 | C20: 0.003186621 | D20: 0.0011836021 | E20: 0.025157534 | F20: 0.00068524331
A22: Group 2 HFD | B22: =$B$10 & "Concentrations (ng/mL) in Mouse Plasma" -> Concentrations (ng/mL) in Mouse Plasma
B23: Animal ID
B24: 10912 | C24: 10917 | D24: 10918 | E24: 10919 | F24: 10920 | G24: Mean | H24: SD | I24: %CV
A25: 30 mg/kg | B25: 94.3 | C25: 84.3 | D25: 105 | E25: 115 | F25: 174 | G25: =AVERAGE(B25:F25) -> 114.52 | H25: =STDEV(B25:F25) -> 35.18106 | I25: =H25/G25 -> 0.30720451
B26: 0.22593862 | C26: 0.20197906 | D26: 0.25157534 | E26: 0.2755349 | F26: 0.41689628
A29: Sponsor Id: | B29: Cerevance
A31: Sponsor Study Id: | B31: Plasma after CVN45502 Treatment (30mg/kg)
A33: Compound Id: | B33: CVN45502
A36: Summary of Calibration Standard Back-Calculated Concentrations
C38: STD1 | D38: STD2 | E38: STD3 | F38: STD4 | G38: STD5 | H38: STD6 | I38: STD7 | J38: STD8 | K38: STD9 | L38: STD10
B39: Analytical | C39: Nominal Concentration (ng/mL)
A40: Assay Date | B40: Run Number | C40: 0.25 | D40: 0.5 | E40: 1 | F40: 2 | G40: 10 | H40: 50 | I40: 250 | J40: 1250 | K40: 2500 | L40: 5000
A41: 44312 | B41: B01 | C41: 0.268 | D41: 0.519 | E41: 1 | F41: 1.98 | G41: 10.3 | H41: 53.1 | I41: 271 | J41: 1210 | K41: 2390 | L41: 4510
C42: 0.223 | D42: 0.513 | E42: 0.998 | F42: 2.07 | G42: 10.7 | H42: 52.4 | I42: 273 | J42: 1200 | K42: 2310 | L42: 4280
A44: Mean | C44: =AVERAGE(C41:C42) -> 0.2455 | D44: =AVERAGE(D41:D42) -> 0.516 | E44: =AVERAGE(E41:E42) -> 0.999 | F44: =AVERAGE(F41:F42) -> 2.025 | G44: =AVERAGE(G41:G42) -> 10.5 | H44: =AVERAGE(H41:H42) -> 52.75 | I44: =AVERAGE(I41:I42) -> 272 | J44: =AVERAGE(J41:J42) -> 1205 | ... L44: =AVERAGE(L41:L42) -> 4395
A45: %Bias | C45: =(C44-C40)/C40*100 -> -1.8 | D45: =(D44-D40)/D40*100 -> 3.2 | E45: =(E44-E40)/E40*100 -> -0.1 | F45: =(F44-F40)/F40*100 -> 1.25 | G45: =(G44-G40)/G40*100 -> 5 | H45: =(H44-H40)/H40*100 -> 5.5 | I45: =(I44-I40)/I40*100 -> 8.8 | J45: =(J44-J40)/J40*100 -> -3.6 | ... L45: =(L44-L40)/L40*100 -> -12.1
A46: n | C46: =COUNT(C41:C42) -> 2 | D46: =COUNT(D41:D42) -> 2 | E46: =COUNT(E41:E42) -> 2 | F46: =COUNT(F41:F42) -> 2 | G46: =COUNT(G41:G42) -> 2 | H46: =COUNT(H41:H42) -> 2 | I46: =COUNT(I41:I42) -> 2 | J46: =COUNT(J41:J42) -> 2 | ... L46: =COUNT(L41:L42) -> 2
A55: Study Information
A56: Sponsor ID: | B56: ='[1]Compound Data Summary'!B54 -> 0
A57: Sponsor Study ID: | B57: Plasma after CVN45502 Treatment (30mg/kg)
A58: Compound ID: | B58: CVN45502
A59: Charles River Study ID: | B59: BKTA-0001-DB-AB
A60: Assay Type: | B60: RGA Level 1
A63: Sample Processing
A64: Extraction Volume (µL): | B64: 50 µL
A65: Extraction Method: | B65: Protein Precipitation
A67: Sample Analysis
A68: LC Conditions
A69: Column Id. & Dimensions: | B69: Waters Acquity BEH C18 50x2.1mm, 1.7µm | D69: Time (min) | E69: % MPB | F69: Flow (µL/min)
A70: Temperature (oC) | B70: 50 | D70: 0.00 | E70: 40 | F70: 800
A71: Mobile Phase A: | B71: 5:95:0.1 Acetonitrile:Water:Formic Acid | D71: 0.20 | E71: 40 | F71: 800
A72: Mobile Phase B: | B72: 50:50:0.1 Acetonitrile:Methanol:Formic Acid | D72: 1.20 | E72: 80 | F72: 800
D73: 1.30 | E73: 95 | F73: 800
D74: 1.70 | E74: 95 | F74: 800
D75: 1.80 | E75: 40 | F75: 800
D76: 2.00 | E76: 40 | F76: 800
A77: MS Conditions
A78: MS/MS: | B78: API-6500+
A79: Ionization Method: | B79: Electrospray
A80: Positive/Negative Ion: | B80: Positive
A81: Resolution: | B81: Unit
A82: Source Temperature (oC): | B82: 550
A83: Transitions (m/z):
B84: Compound ID: | C84: CVN45502 | D84: 432.8/270.1 Da
B85: Int Std ID: | C85: Glyburide | D85: 494.2/369.1 Da
A87: Data Analysis
A88: Acceptance Criteria | B88: ±25% (±30% at LLOQ)
A89: Regression Type | B89: Linear (1/(x * x))
A90: Accepted Curve Range: | B90: 0.250-5000 ng/mL
A91: Carryover | B91: <0.10%
A93: Additional Comments
A94: Study Sample Results | B94: Study sample results are acceptable. All samples were analyzed undiluted.
A95: Other | B95: Sponsor-provided plasma contained analyte peaks at measureable concentrations (approximately 1.5ng/mL). All calibration standards and blanks were prepared in commercially available mouse plasma EDTA An equivalence QC was prepared in sponsor-provided plasma at 2500 ng/mL which passes acceptance criteria when measured against the calibration curve in commercially available plasma.
A97: Approval
A98: Scientist/Date: | B98: W. Couture 28Apr2021

Sheet Panel U
B2: Locomotor Activity | C2: HFD plus CVN45502
B3: May 5th 2022 | E3: PB habituation | F3: 5 days
B4: Mouse Line | C4: C57Bl6 HFD | E4: CVN45502 | F4: 30mg/kg
B5: Variable | C5: Metabolic Cagess | D5: TSE Homecage metabolic system | E5: Statistics with CalR
B6: Locomotor activity | E6: Day | F6: Night
B7: Strain | E7: Beam Breaks/hour | F7: Beam Breaks/hour
B8: HFD Saline | C8: 1 | E8: 312.58333 | F8: 1031.8056
B9: HFD Saline | C9: 2 | E9: 262.50694 | F9: 751.5625
B10: HFD Saline | C10: 3 | E10: 337.65972 | F10: 1268.7014
B11: HFD Saline | C11: 4 | E11: 275.27083 | F11: 580.81944
B12: HFD Saline | C12: 5 | E12: 209.78472 | F12: 693.54167
B13: HFD Saline | C13: 6 | E13: 239.04861 | F13: 1028.7014
B14: HFD Saline | C14: 7 | E14: 166.61111 | F14: 479.28472
E16: Day | F16: Night
E17: Beam Breaks/hour | F17: Beam Breaks/hour
B18: HFD CVN45502 | C18: 1 | E18: 309.15833 | F18: 1008.175
B19: HFD CVN45502 | C19: 2 | E19: 174.45833 | F19: 690.75
B20: HFD CVN45502 | C20: 3 | E20: 257.275 | F20: 1163.8875
B21: HFD CVN45502 | C21: 4 | E21: 266.70833 | F21: 712.90833
B22: HFD CVN45502 | C22: 5 | E22: 196.90833 | F22: 848.96667
B23: HFD CVN45502 | C23: 6 | E23: 187.33333 | F23: 737.89583
B24: HFD CVN45502 | C24: 7 | E24: 146.125 | F24: 455.525

Sheet Panel V
B2: Oxygen Consumption | C2: HFD plus CVN45502
B3: May 5th 2022 | E3: PB habituation | F3: 5 days
B4: Mouse Line | C4: C57Bl6 HFD | E4: CVN45502 | F4: 30mg/kg
B5: Variable | C5: Metabolic Cagess | D5: TSE Homecage metabolic system | E5: Statistics with CalR
B6: Oxygen consumption | E6: Day | F6: Night
B7: Strain | E7: ml/hour | F7: ml/hour
B8: HFD Saline | C8: 1 | E8: 112.35417 | F8: 142.20833
B9: HFD Saline | C9: 2 | E9: 116.88194 | F9: 139.28472
B10: HFD Saline | C10: 3 | E10: 115.07639 | F10: 145.71528
B11: HFD Saline | C11: 4 | E11: 116.98611 | F11: 136.11111
B12: HFD Saline | C12: 5 | E12: 104.27083 | F12: 128.59028
B13: HFD Saline | C13: 6 | E13: 118.79861 | F13: 154.39583
E16: Day | F16: Night
E17: ml/hour | F17: ml/hour
B18: HFD CVN45502 | C18: 1 | E18: 120.34583 | F18: 152.74167
B19: HFD CVN45502 | C19: 2 | E19: 116.15833 | F19: 142.0375
B20: HFD CVN45502 | C20: 3 | E20: 121.175 | F20: 159.95833
B21: HFD CVN45502 | C21: 4 | E21: 109.5125 | F21: 135.62917
B22: HFD CVN45502 | C22: 5 | E22: 105.8875 | F22: 129.9125
B23: HFD CVN45502 | C23: 6 | E23: 126.2625 | F23: 157.56667

Sheet Panel W
B2: CO2 Production | C2: HFD plus CVN45502
B3: May 5th 2022 | E3: PB habituation | F3: 5 days
B4: Mouse Line | C4: C57Bl6 HFD | E4: CVN45502 | F4: 30mg/kg
B5: Variable | C5: Metabolic Cagess | D5: TSE Homecage metabolic system | E5: Statistics with CalR
B6: CO2 Production | E6: Day | F6: Night
B7: Strain | E7: ml/hour | F7: ml/hour
B8: HFD Saline | C8: 1 | E8: 81.534722 | F8: 104
B9: HFD Saline | C9: 2 | E9: 96.034722 | F9: 118.21528
B10: HFD Saline | C10: 3 | E10: 89.875 | F10: 117.67361
B11: HFD Saline | C11: 4 | E11: 101.84028 | F11: 118
B12: HFD Saline | C12: 5 | E12: 79.701389 | F12: 101.63194
B13: HFD Saline | C13: 6 | E13: 92.506944 | F13: 124.52778
E16: Day | F16: Night
E17: ml/hour | F17: ml/hour
B18: HFD CVN45502 | C18: 1 | E18: 96.379167 | F18: 122.00417
B19: HFD CVN45502 | C19: 2 | E19: 93.858333 | F19: 117.03333
B20: HFD CVN45502 | C20: 3 | E20: 98.933333 | F20: 129.44583
B21: HFD CVN45502 | C21: 4 | E21: 92.133333 | F21: 115.59167
B22: HFD CVN45502 | C22: 5 | E22: 83.345833 | F22: 104.0125
B23: HFD CVN45502 | C23: 6 | E23: 106.625 | F23: 133.44167

Sheet Panel X
B2: Energy Expenditure | C2: HFD plus CVN45502
B3: May 5th 2022 | E3: PB habituation | F3: 5 days
B4: Mouse Line | C4: C57Bl6 HFD | E4: CVN45502 | F4: 30mg/kg
B5: Variable | C5: Metabolic Cagess | D5: TSE Homecage metabolic system | E5: Statistics with CalR
B6: Energy Expenditure | E6: Day | F6: Night
B7: Strain | E7: kcal/hour | F7: kcal/hour
B8: HFD Saline | C8: 1 | E8: 6.2211458 | F8: 8.1038333
B9: HFD Saline | C9: 2 | E9: 6.6149583 | F9: 8.1539167
B10: HFD Saline | C10: 3 | E10: 6.453625 | F10: 8.45325
B11: HFD Saline | C11: 4 | E11: 6.6947431 | F11: 8.0010833
B12: HFD Saline | C12: 5 | E12: 5.8361806 | F12: 7.4290833
B13: HFD Saline | C13: 6 | E13: 6.6636736 | F13: 8.95625
E16: Day | F16: Night
E17: kcal/hour | F17: kcal/hour
B18: HFD CVN45502 | C18: 1 | E18: 6.8571333 | F18: 8.8423
B19: HFD CVN45502 | C19: 2 | E19: 6.624675 | F19: 8.2688
B20: HFD CVN45502 | C20: 3 | E20: 6.9207708 | F20: 9.28335
B21: HFD CVN45502 | C21: 4 | E21: 6.3004583 | F21: 7.94945
B22: HFD CVN45502 | C22: 5 | E22: 6.0188333 | F22: 7.52405
B23: HFD CVN45502 | C23: 6 | E23: 7.26725 | F23: 9.2225
