Workbook

Sheet Systematic review
A1: Supplementary Information (SI2) to the paper: Soil organic carbon models need independent time-series validation for reliable prediction
A2: By: Le Noë, J., Manzoni, S., Abramoff, R.Z., Bölscher, T., Bruni, E., Cardinael, R., Ciais, P., Chenu, C., Clivot, H., Derrien, D., Ferchaud, F., Garnier, P., Goll, D., Lashermes, G., Martin, M.P., Rasse, D., Rees, F., Sainte-Marie, J., Salmon, E., Schiedung, M., Schimel, J., Wieder, W.R., Abiven, S., Barré, P., Cécillon, L., Guenet, B.
F3: SOIL 1 | G3: LUMPED 1 | H3: MICRO 1 | I3: HOUR 1 | J3: ZERO 1 | K3: 0
F4: ECOS 2 | G4: VERT DISCR 2 | H4: CORE 2 | I4: DAY 2 | J4: LIN 2 | K4: RM 1
F5: CULT 6 | H5: FIELD 3 | I5: MONTH 3 | J5: NL3 | K5: PHYS 2
F6: GLOB 7 | H6: LAND 4 | I6: YEAR 4
H7: REG 5 | I7: DECAD 5
H8: 0
C11: Model | F11: Model Features | M11: Scope of the model | AC11: Evaluation against obsevation data (Yes/No) | AE11: If yes then what type of evaluation
F12: LEVEL | G12: SPACE | H12: spatial scale of interest | I12: temporal scale of interpr. | J12: Microbial Dynamics - Organic | K12: Is the model affected by environmental modifiers ? | AU12: Descriptive | AV12: Descriptive
B13: New model | C13: Model | D13: Year | E13: Reference | L13: Notes | M13: Hypothesis-testing (Understanding) | N13: Diagnostic models used to get information from a dataset, e.g., estimate microbial traits from time series data or model used to understand empirical observation | O13: Prediction/ prognostic | P13: Only hypthesis testing | Q13: Only data-set diagnosis | R13: Only prediction | S13: Prediction and hypothesis testing | T13: Prediction and diagnosis | U13: Hypothesis testing and diagnosis | V13: All aims | W13: Multi-objective including prediction | X13: Multi-objective excluding prediction | Y13: Prediction | Z13: Not prediction | AB13: Other, specify ?/ comments on the scope | AC13: Yes | AD13: No | AE13: Space for time evaluation of SOC stocks | AF13: Space for time evaluation of SOC fluxes | AG13: Diachronic evaluation of SOC stocks | AH13: Diachronic evaluation of several SOC compartments | AI13: Diachronic evaluation of SOC fluxes | AJ13: One point in time evaluation of SOC stocks | AK13: One point in time evaluation of C fluxes | AL13: One point in time evaluation of several SOC compartments | AM13: Independant validation (sites used for validation are different from the sites used for calibration) | AN13: NO Independant validation(sites used for validation are the same or partly the same as the sites used for calibration) | AO13: Accounting model describing C fluxes/stocks in Soil (fitting data/ calibration) | AP13: Partially independant: Split-sample (the sample (=time series) is split into two parts, one for calibration and one for validation) | AQ13: Evaluation in laboratory experiment | AR13: Evaluation in field experiement/ observation | AS13: Evaluation at the territorial/national level (based on network measurement) | AT13: Evaluation against reconstructed dataset | AU13: Specify pedoclimatic conditions of models evaluation (e.g., boreal Canada; Mediterranean France; temperate China) | AV13: Specify land-use type use for model evaluation (e.g., cropland) | AW13: Other (specify) | AX13: Comments on type of evaluation
B14: 1 | D14: 1933 | E14: Salter and Green | F14: 1 | G14: 1 | H14: 3 | I14: 4 | J14: 2 | K14: 1 | L14: Organic C and N loss under different agricultural practices | M14: 0 | N14: 1 | O14: 1 | P14: =IF(AND(M14=1,N14=0,O14=0),1,0) -> 0 | Q14: =IF(AND(N14=1,M14=0,O14=0),1,0) -> 0 | R14: =IF(AND(O14=1,N14=0,M14=0),1,0) -> 0 | S14: =IF(AND(O14=1,N14=0,M14=1),1,0) -> 0 | T14: =IF(AND(O14=1,N14=1,M14=0),1,0) -> 1 | U14: =IF(AND(M14=1,N14=1,O14=0),1,0) -> 0 | V14: =IF(AND(M14=1,N14=1,O14=1),1,0) -> 0 | W14: =IF(OR(AND(O14=1,M14=1,N14=0),AND(M14=0,O14=1,N14=1)),1,0) -> 1 | X14: =IF(AND(O14=0,N14=1,M14=1),1,0) -> 0 | Y14: =IF(OR(V14=1,T14=1,S14=1,R14=1),1,0) -> 1 | Z14: =IF(OR(Q14=1,P14=1,U14=1),1,0) -> 0 | AA14: =Y14+Z14 -> 1 | AC14: 1 | AD14: 0 | AE14: 0 | AF14: 0 | AG14: 1 | AH14: 0 | AI14: 0 | AJ14: 0 | AK14: 0 | AL14: 0 | AM14: 0 | AN14: 1 | AO14: 1 | AP14: 0 | AQ14: 0 | AR14: 1 | AS14: 0 | AT14: 0 | AU14: temperate climate (Ohio, USA) | AV14: cropland | AX14: calibration on organic C data, visual (qualitative) validation with organic N data
B15: 1 | D15: 1936 | E15: Nikiforoff | F15: 1 | G15: 1 | H15: 3 | I15: 4 | J15: 2 | K15: 0 | L15: Humus accumulation; first to discuss the role of climate on the decomposition rate | M15: 0 | N15: 1 | O15: 0 | P15: =IF(AND(M15=1,N15=0,O15=0),1,0) -> 0 | Q15: =IF(AND(N15=1,M15=0,O15=0),1,0) -> 1 | R15: =IF(AND(O15=1,N15=0,M15=0),1,0) -> 0 | S15: =IF(AND(O15=1,N15=0,M15=1),1,0) -> 0 | T15: =IF(AND(O15=1,N15=1,M15=0),1,0) -> 0 | U15: =IF(AND(M15=1,N15=1,O15=0),1,0) -> 0 | V15: =IF(AND(M15=1,N15=1,O15=1),1,0) -> 0 | W15: =IF(OR(AND(O15=1,M15=1,N15=0),AND(M15=0,O15=1,N15=1)),1,0) -> 0 | X15: =IF(AND(O15=0,N15=1,M15=1),1,0) -> 0 | Y15: =IF(OR(V15=1,T15=1,S15=1,R15=1),1,0) -> 0 | Z15: =IF(OR(Q15=1,P15=1,U15=1),1,0) -> 1 | AA15: =Y15+Z15 -> 1 | AC15: 0 | AD15: 1 | AE15: 0 | AF15: 0 | AG15: 0 | AH15: 0 | AI15: 0 | AJ15: 0 | AK15: 0 | AL15: 0 | AM15: 0 | AN15: 0 | AO15: 0 | AP15: 0 | AQ15: 0 | AR15: 0 | AS15: 0 | AT15: 0 | AU15: temperate climate (Russia) | AV15: cropland
A16: 1930's | B16: =SUM(B14:B15) -> 2 | P16: =SUM(P14:P15) -> 0 | Q16: =SUM(Q14:Q15) -> 1 | R16: =SUM(R14:R15) -> 0 | V16: =IF(AND(M16=1,N16=1,O16=1),1,0) -> 0 | AA16: =Y16+Z16 -> 0
B17: 1 | D17: 1945 | E17: Henin and Dupuis | F17: 1 | G17: 1 | H17: 3 | I17: 3 | J17: 2 | K17: 0 | M17: 1 | N17: 0 | O17: 1 | P17: =IF(AND(M17=1,N17=0,O17=0),1,0) -> 0 | Q17: =IF(AND(N17=1,M17=0,O17=0),1,0) -> 0 | R17: =IF(AND(O17=1,N17=0,M17=0),1,0) -> 0 | S17: =IF(AND(O17=1,N17=0,M17=1),1,0) -> 1 | T17: =IF(AND(O17=1,N17=1,M17=0),1,0) -> 0 | U17: =IF(AND(M17=1,N17=1,O17=0),1,0) -> 0 | V17: =IF(AND(M17=1,N17=1,O17=1),1,0) -> 0 | W17: =IF(OR(AND(O17=1,M17=1,N17=0),AND(M17=0,O17=1,N17=1)),1,0) -> 1 | X17: =IF(AND(O17=0,N17=1,M17=1),1,0) -> 0 | Y17: =IF(OR(V17=1,T17=1,S17=1,R17=1),1,0) -> 1 | Z17: =IF(OR(Q17=1,P17=1,U17=1),1,0) -> 0 | AA17: =Y17+Z17 -> 1 | AC17: 1 | AD17: 0 | AE17: 0 | AF17: 0 | AG17: 0 | AH17: 0 | AI17: 0 | AJ17: 1 | AK17: 1 | AL17: 0 | AM17: 1 | AN17: 0 | AO17: 0 | AP17: 0 | AQ17: 0 | AR17: 1 | AS17: 0 | AT17: 0 | AU17: Northern France | AV17: cropland | AX17: The evaluation consist in checking that the order of magnitudee of C content/ fluxes estimated by the model are approximatiely consistent with data/ observations reported in the litterature. One of the conclusion of the paper is that long-term field experiment are needed to better assess SOM dynamic
A18: 1940's | B18: =SUM(B17:B17) -> 1 | P18: =SUM(P17) -> 0 | Q18: =SUM(Q17) -> 0 | R18: =SUM(R17) -> 0 | V18: =IF(AND(M18=1,N18=1,O18=1),1,0) -> 0 | AA18: =Y18+Z18 -> 0
B19: 1 | D19: 1956 | E19: Eriksson and Welander | F19: 7 | G19: 1 | H19: 5 | I19: 5 | J19: 3 | K19: 0 | M19: 1 | N19: 0 | O19: 0 | P19: =IF(AND(M19=1,N19=0,O19=0),1,0) -> 1 | Q19: =IF(AND(N19=1,M19=0,O19=0),1,0) -> 0 | R19: =IF(AND(O19=1,N19=0,M19=0),1,0) -> 0 | S19: =IF(AND(O19=1,N19=0,M19=1),1,0) -> 0 | T19: =IF(AND(O19=1,N19=1,M19=0),1,0) -> 0 | U19: =IF(AND(M19=1,N19=1,O19=0),1,0) -> 0 | V19: =IF(AND(M19=1,N19=1,O19=1),1,0) -> 0 | W19: =IF(OR(AND(O19=1,M19=1,N19=0),AND(M19=0,O19=1,N19=1)),1,0) -> 0 | X19: =IF(AND(O19=0,N19=1,M19=1),1,0) -> 0 | Y19: =IF(OR(V19=1,T19=1,S19=1,R19=1),1,0) -> 0 | Z19: =IF(OR(Q19=1,P19=1,U19=1),1,0) -> 1 | AA19: =Y19+Z19 -> 1 | AC19: 0 | AD19: 1 | AE19: 0 | AF19: 0 | AG19: 0 | AH19: 0 | AI19: 0 | AJ19: 0 | AK19: 0 | AL19: 0 | AM19: 0 | AN19: 0 | AO19: 0 | AP19: 0 | AQ19: 0 | AR19: 0 | AS19: 0 | AT19: 0 | AU19: spatially lumped model for global C stocks | AV19: global terrestrial biomes
B20: 1 | D20: 1957 | E20: Craig | F20: 7 | G20: 1 | H20: 5 | I20: 5 | J20: 2 | K20: 0 | L20: Global scale isotopic C model | M20: 0 | N20: 1 | O20: 0 | P20: =IF(AND(M20=1,N20=0,O20=0),1,0) -> 0 | Q20: =IF(AND(N20=1,M20=0,O20=0),1,0) -> 1 | R20: =IF(AND(O20=1,N20=0,M20=0),1,0) -> 0 | S20: =IF(AND(O20=1,N20=0,M20=1),1,0) -> 0 | T20: =IF(AND(O20=1,N20=1,M20=0),1,0) -> 0 | U20: =IF(AND(M20=1,N20=1,O20=0),1,0) -> 0 | V20: =IF(AND(M20=1,N20=1,O20=1),1,0) -> 0 | W20: =IF(OR(AND(O20=1,M20=1,N20=0),AND(M20=0,O20=1,N20=1)),1,0) -> 0 | X20: =IF(AND(O20=0,N20=1,M20=1),1,0) -> 0 | Y20: =IF(OR(V20=1,T20=1,S20=1,R20=1),1,0) -> 0 | Z20: =IF(OR(Q20=1,P20=1,U20=1),1,0) -> 1 | AA20: =Y20+Z20 -> 1 | AC20: 0 | AD20: 1 | AE20: 0 | AF20: 0 | AG20: 0 | AH20: 0 | AI20: 0 | AJ20: 0 | AK20: 0 | AL20: 0 | AM20: 0 | AN20: 0 | AO20: 0 | AP20: 0 | AQ20: 0 | AR20: 0 | AS20: 0 | AT20: 0 | AU20: spatially lumped model for global C stocks | AV20: global terrestrial biomes
A21: 1950's | B21: =SUM(B19:B20) -> 2 | P21: =SUM(P19:P20) -> 1 | Q21: =SUM(Q19:Q20) -> 1 | R21: =SUM(R19:R20) -> 0 | V21: =IF(AND(M21=1,N21=1,O21=1),1,0) -> 0 | AA21: =Y21+Z21 -> 0
B22: 1 | D22: 1964 | E22: Russell | F22: 1 | G22: 1 | H22: 3 | I22: 3 | J22: 2 | K22: 1 | L22: Time-changing input and decomposition rates | M22: 1 | N22: 0 | O22: 0 | P22: =IF(AND(M22=1,N22=0,O22=0),1,0) -> 1 | Q22: =IF(AND(N22=1,M22=0,O22=0),1,0) -> 0 | R22: =IF(AND(O22=1,N22=0,M22=0),1,0) -> 0 | S22: =IF(AND(O22=1,N22=0,M22=1),1,0) -> 0 | T22: =IF(AND(O22=1,N22=1,M22=0),1,0) -> 0 | U22: =IF(AND(M22=1,N22=1,O22=0),1,0) -> 0 | V22: =IF(AND(M22=1,N22=1,O22=1),1,0) -> 0 | W22: =IF(OR(AND(O22=1,M22=1,N22=0),AND(M22=0,O22=1,N22=1)),1,0) -> 0 | X22: =IF(AND(O22=0,N22=1,M22=1),1,0) -> 0 | Y22: =IF(OR(V22=1,T22=1,S22=1,R22=1),1,0) -> 0 | Z22: =IF(OR(Q22=1,P22=1,U22=1),1,0) -> 1 | AA22: =Y22+Z22 -> 1 | AC22: 0 | AD22: 1 | AE22: 0 | AF22: 0 | AG22: 0 | AH22: 0 | AI22: 0 | AJ22: 0 | AK22: 0 | AL22: 0 | AM22: 0 | AN22: 0 | AO22: 0 | AP22: 0 | AQ22: 0 | AR22: 0 | AS22: 0 | AT22: 0 | AU22: generic | AV22: generic | AX22: theoretical work without evaluation
A23: 1960's | B23: =SUM(B22:B22) -> 1 | P23: =SUM(P22) -> 1 | Q23: =SUM(Q22) -> 0 | R23: =SUM(R22) -> 0 | V23: =IF(AND(M23=1,N23=1,O23=1),1,0) -> 0 | AA23: =Y23+Z23 -> 0
B24: 1 | C24: PWNEE | D24: 1972 | E24: Patten | F24: 2 | G24: 1 | H24: 3 | I24: 3 | J24: 2 | K24: 1 | L24: Complex food web model included | M24: 1 | N24: 0 | O24: 0 | P24: =IF(AND(M24=1,N24=0,O24=0),1,0) -> 1 | Q24: =IF(AND(N24=1,M24=0,O24=0),1,0) -> 0 | R24: =IF(AND(O24=1,N24=0,M24=0),1,0) -> 0 | S24: =IF(AND(O24=1,N24=0,M24=1),1,0) -> 0 | T24: =IF(AND(O24=1,N24=1,M24=0),1,0) -> 0 | U24: =IF(AND(M24=1,N24=1,O24=0),1,0) -> 0 | V24: =IF(AND(M24=1,N24=1,O24=1),1,0) -> 0 | W24: =IF(OR(AND(O24=1,M24=1,N24=0),AND(M24=0,O24=1,N24=1)),1,0) -> 0 | X24: =IF(AND(O24=0,N24=1,M24=1),1,0) -> 0 | Y24: =IF(OR(V24=1,T24=1,S24=1,R24=1),1,0) -> 0 | Z24: =IF(OR(Q24=1,P24=1,U24=1),1,0) -> 1 | AA24: =Y24+Z24 -> 1 | AC24: 0 | AD24: 1 | AE24: 0 | AF24: 0 | AG24: 0 | AH24: 0 | AI24: 0 | AJ24: 0 | AK24: 0 | AL24: 0 | AM24: 0 | AN24: 0 | AO24: 0 | AP24: 0 | AQ24: 0 | AR24: 0 | AS24: 0 | AT24: 0 | AU24: temperate climate | AV24: grassland | AX24: calibration of some parameters using available data for producers and consumers; tuning of remaining parameters by trial and error
B25: 1 | C25: ABISKO | D25: 1974 | E25: Bunnell and Dowling | F25: 2 | G25: 1 | H25: 3 | I25: 2 | J25: 2 | K25: 1 | L25: C-only | M25: 1 | N25: 0 | O25: 0 | P25: =IF(AND(M25=1,N25=0,O25=0),1,0) -> 1 | Q25: =IF(AND(N25=1,M25=0,O25=0),1,0) -> 0 | R25: =IF(AND(O25=1,N25=0,M25=0),1,0) -> 0 | S25: =IF(AND(O25=1,N25=0,M25=1),1,0) -> 0 | T25: =IF(AND(O25=1,N25=1,M25=0),1,0) -> 0 | U25: =IF(AND(M25=1,N25=1,O25=0),1,0) -> 0 | V25: =IF(AND(M25=1,N25=1,O25=1),1,0) -> 0 | W25: =IF(OR(AND(O25=1,M25=1,N25=0),AND(M25=0,O25=1,N25=1)),1,0) -> 0 | X25: =IF(AND(O25=0,N25=1,M25=1),1,0) -> 0 | Y25: =IF(OR(V25=1,T25=1,S25=1,R25=1),1,0) -> 0 | Z25: =IF(OR(Q25=1,P25=1,U25=1),1,0) -> 1 | AA25: =Y25+Z25 -> 1 | AC25: 0 | AD25: 1 | AE25: 0 | AF25: 0 | AG25: 0 | AH25: 0 | AI25: 0 | AJ25: 0 | AK25: 0 | AL25: 0 | AM25: 0 | AN25: 0 | AO25: 0 | AP25: 0 | AQ25: 0 | AR25: 0 | AS25: 0 | AT25: 0 | AU25: arctic | AV25: tundra | AX25: only model presentation; no simulations
B26: 1 | C26: ABISKO II | D26: 1975 | E26: Bunnell and Scoullar | F26: 2 | G26: 1 | H26: 3 | I26: 2 | J26: 2 | K26: 1 | L26: C-only; age classes of litter are considered | M26: 1 | N26: 0 | O26: 1 | P26: =IF(AND(M26=1,N26=0,O26=0),1,0) -> 0 | Q26: =IF(AND(N26=1,M26=0,O26=0),1,0) -> 0 | R26: =IF(AND(O26=1,N26=0,M26=0),1,0) -> 0 | S26: =IF(AND(O26=1,N26=0,M26=1),1,0) -> 1 | T26: =IF(AND(O26=1,N26=1,M26=0),1,0) -> 0 | U26: =IF(AND(M26=1,N26=1,O26=0),1,0) -> 0 | V26: =IF(AND(M26=1,N26=1,O26=1),1,0) -> 0 | W26: =IF(OR(AND(O26=1,M26=1,N26=0),AND(M26=0,O26=1,N26=1)),1,0) -> 1 | X26: =IF(AND(O26=0,N26=1,M26=1),1,0) -> 0 | Y26: =IF(OR(V26=1,T26=1,S26=1,R26=1),1,0) -> 1 | Z26: =IF(OR(Q26=1,P26=1,U26=1),1,0) -> 0 | AA26: =Y26+Z26 -> 1 | AC26: 1 | AD26: 0 | AE26: 0 | AF26: 0 | AG26: 0 | AH26: 0 | AI26: 1 | AJ26: 0 | AK26: 0 | AL26: 0 | AM26: 0 | AN26: 1 | AO26: 0 | AP26: 0 | AQ26: 0 | AR26: 1 | AS26: 0 | AT26: 0 | AU26: arctic | AV26: tundra | AX26: parameters estimated partly to allow reasonable fitting of respiration time series
B27: 1 | D27: 1975 | E27: Harte and Levy | F27: 7 | G27: 1 | H27: 5 | I27: 5 | J27: 3 | K27: 0 | L27: C model only | M27: 1 | N27: 0 | O27: 0 | P27: =IF(AND(M27=1,N27=0,O27=0),1,0) -> 1 | Q27: =IF(AND(N27=1,M27=0,O27=0),1,0) -> 0 | R27: =IF(AND(O27=1,N27=0,M27=0),1,0) -> 0 | S27: =IF(AND(O27=1,N27=0,M27=1),1,0) -> 0 | T27: =IF(AND(O27=1,N27=1,M27=0),1,0) -> 0 | U27: =IF(AND(M27=1,N27=1,O27=0),1,0) -> 0 | V27: =IF(AND(M27=1,N27=1,O27=1),1,0) -> 0 | W27: =IF(OR(AND(O27=1,M27=1,N27=0),AND(M27=0,O27=1,N27=1)),1,0) -> 0 | X27: =IF(AND(O27=0,N27=1,M27=1),1,0) -> 0 | Y27: =IF(OR(V27=1,T27=1,S27=1,R27=1),1,0) -> 0 | Z27: =IF(OR(Q27=1,P27=1,U27=1),1,0) -> 1 | AA27: =Y27+Z27 -> 1 | AC27: 0 | AD27: 1 | AE27: 0 | AF27: 0 | AG27: 0 | AH27: 0 | AI27: 0 | AJ27: 0 | AK27: 0 | AL27: 0 | AM27: 0 | AN27: 0 | AO27: 0 | AP27: 0 | AQ27: 0 | AR27: 0 | AS27: 0 | AT27: 0 | AU27: generic | AV27: generic | AX27: theoretical work without evaluation
B28: 1 | D28: 1975 | E28: Parnas | F28: 1 | G28: 1 | H28: 2 | I28: 2 | J28: 3 | K28: 0 | L28: Mineral N control of DEC (Eq. (9)); constant microbial biomass | M28: 1 | N28: 0 | O28: 0 | P28: =IF(AND(M28=1,N28=0,O28=0),1,0) -> 1 | Q28: =IF(AND(N28=1,M28=0,O28=0),1,0) -> 0 | R28: =IF(AND(O28=1,N28=0,M28=0),1,0) -> 0 | S28: =IF(AND(O28=1,N28=0,M28=1),1,0) -> 0 | T28: =IF(AND(O28=1,N28=1,M28=0),1,0) -> 0 | U28: =IF(AND(M28=1,N28=1,O28=0),1,0) -> 0 | V28: =IF(AND(M28=1,N28=1,O28=1),1,0) -> 0 | W28: =IF(OR(AND(O28=1,M28=1,N28=0),AND(M28=0,O28=1,N28=1)),1,0) -> 0 | X28: =IF(AND(O28=0,N28=1,M28=1),1,0) -> 0 | Y28: =IF(OR(V28=1,T28=1,S28=1,R28=1),1,0) -> 0 | Z28: =IF(OR(Q28=1,P28=1,U28=1),1,0) -> 1 | AA28: =Y28+Z28 -> 1 | AC28: 0 | AD28: 1 | AE28: 0 | AF28: 0 | AG28: 0 | AH28: 0 | AI28: 0 | AJ28: 0 | AK28: 0 | AL28: 0 | AM28: 0 | AN28: 0 | AO28: 0 | AP28: 0 | AQ28: 0 | AR28: 0 | AS28: 0 | AT28: 0 | AU28: generic | AV28: generic | AX28: theoretical work without evaluation
B29: 1 | D29: 1975 | E29: Russell | F29: 2 | G29: 1 | H29: 3 | I29: 3 | J29: 2 | K29: 1 | L29: Time-changing input and decomposition rates; includes a feedback from plant biomass; N only | M29: 0 | N29: 0 | O29: 1 | P29: =IF(AND(M29=1,N29=0,O29=0),1,0) -> 0 | Q29: =IF(AND(N29=1,M29=0,O29=0),1,0) -> 0 | R29: =IF(AND(O29=1,N29=0,M29=0),1,0) -> 1 | S29: =IF(AND(O29=1,N29=0,M29=1),1,0) -> 0 | T29: =IF(AND(O29=1,N29=1,M29=0),1,0) -> 0 | U29: =IF(AND(M29=1,N29=1,O29=0),1,0) -> 0 | V29: =IF(AND(M29=1,N29=1,O29=1),1,0) -> 0 | W29: =IF(OR(AND(O29=1,M29=1,N29=0),AND(M29=0,O29=1,N29=1)),1,0) -> 0 | X29: =IF(AND(O29=0,N29=1,M29=1),1,0) -> 0 | Y29: =IF(OR(V29=1,T29=1,S29=1,R29=1),1,0) -> 1 | Z29: =IF(OR(Q29=1,P29=1,U29=1),1,0) -> 0 | AA29: =Y29+Z29 -> 1 | AC29: 1 | AD29: 0 | AE29: 0 | AF29: 0 | AG29: 1 | AH29: 0 | AI29: 0 | AJ29: 0 | AK29: 0 | AL29: 0 | AM29: 0 | AN29: 1 | AO29: 0 | AP29: 0 | AQ29: 0 | AR29: 1 | AS29: 0 | AT29: 0 | AU29: temperate climate (Illinois and Missouri, USA) | AV29: cropland | AX29: model constructed for soil N or C, but tested on organic N data
B30: 1 | D30: 1976 | E30: Parnas | F30: 6 | G30: 1 | H30: 1 | I30: 1 | J30: 3 | K30: 0 | M30: 1 | N30: 1 | O30: 0 | P30: =IF(AND(M30=1,N30=0,O30=0),1,0) -> 0 | Q30: =IF(AND(N30=1,M30=0,O30=0),1,0) -> 0 | R30: =IF(AND(O30=1,N30=0,M30=0),1,0) -> 0 | S30: =IF(AND(O30=1,N30=0,M30=1),1,0) -> 0 | T30: =IF(AND(O30=1,N30=1,M30=0),1,0) -> 0 | U30: =IF(AND(M30=1,N30=1,O30=0),1,0) -> 1 | V30: =IF(AND(M30=1,N30=1,O30=1),1,0) -> 0 | W30: =IF(OR(AND(O30=1,M30=1,N30=0),AND(M30=0,O30=1,N30=1)),1,0) -> 0 | X30: =IF(AND(O30=0,N30=1,M30=1),1,0) -> 1 | Y30: =IF(OR(V30=1,T30=1,S30=1,R30=1),1,0) -> 0 | Z30: =IF(OR(Q30=1,P30=1,U30=1),1,0) -> 1 | AA30: =Y30+Z30 -> 1 | AC30: 0 | AD30: 1 | AE30: 0 | AF30: 0 | AG30: 0 | AH30: 0 | AI30: 0 | AJ30: 0 | AK30: 0 | AL30: 0 | AM30: 0 | AN30: 0 | AO30: 0 | AP30: 0 | AQ30: 0 | AR30: 0 | AS30: 0 | AT30: 0 | AU30: generic | AV30: incubation of microbial isolate | AX30: theoretical work used to formulate hypotheses; proof-of-concept empirical evidence presented and interpreted with the model (diagnostic)
B31: 1 | C31: ELM | D31: 1977 | E31: Hunt; Reuss and Innis | F31: 2 | G31: 1 | H31: 3 | I31: 2 | J31: 2 | K31: 1 | M31: 1 | N31: 0 | O31: 1 | P31: =IF(AND(M31=1,N31=0,O31=0),1,0) -> 0 | Q31: =IF(AND(N31=1,M31=0,O31=0),1,0) -> 0 | R31: =IF(AND(O31=1,N31=0,M31=0),1,0) -> 0 | S31: =IF(AND(O31=1,N31=0,M31=1),1,0) -> 1 | T31: =IF(AND(O31=1,N31=1,M31=0),1,0) -> 0 | U31: =IF(AND(M31=1,N31=1,O31=0),1,0) -> 0 | V31: =IF(AND(M31=1,N31=1,O31=1),1,0) -> 0 | W31: =IF(OR(AND(O31=1,M31=1,N31=0),AND(M31=0,O31=1,N31=1)),1,0) -> 1 | X31: =IF(AND(O31=0,N31=1,M31=1),1,0) -> 0 | Y31: =IF(OR(V31=1,T31=1,S31=1,R31=1),1,0) -> 1 | Z31: =IF(OR(Q31=1,P31=1,U31=1),1,0) -> 0 | AA31: =Y31+Z31 -> 1 | AC31: 1 | AD31: 0 | AE31: 0 | AF31: 0 | AG31: 1 | AH31: 1 | AI31: 1 | AJ31: 0 | AK31: 0 | AL31: 0 | AM31: 1 | AN31: 0 | AO31: 0 | AP31: 0 | AQ31: 0 | AR31: 1 | AS31: 0 | AT31: 0 | AU31: temperate climate | AV31: grassland | AX31: (qualitative) validation using litter mass data, ATP data (proxy for biomass; poor fit), respiration rates; calibration by tuning parameters to reasonably fit literature data
B32: 1 | C32: Rothamsted | D32: 1977 | E32: Jenkinson | F32: 1 | G32: 1 | H32: 3 | I32: 4 | J32: 2 | K32: 1 | L32: C only model | M32: 0 | N32: 1 | O32: 1 | P32: =IF(AND(M32=1,N32=0,O32=0),1,0) -> 0 | Q32: =IF(AND(N32=1,M32=0,O32=0),1,0) -> 0 | R32: =IF(AND(O32=1,N32=0,M32=0),1,0) -> 0 | S32: =IF(AND(O32=1,N32=0,M32=1),1,0) -> 0 | T32: =IF(AND(O32=1,N32=1,M32=0),1,0) -> 1 | U32: =IF(AND(M32=1,N32=1,O32=0),1,0) -> 0 | V32: =IF(AND(M32=1,N32=1,O32=1),1,0) -> 0 | W32: =IF(OR(AND(O32=1,M32=1,N32=0),AND(M32=0,O32=1,N32=1)),1,0) -> 1 | X32: =IF(AND(O32=0,N32=1,M32=1),1,0) -> 0 | Y32: =IF(OR(V32=1,T32=1,S32=1,R32=1),1,0) -> 1 | Z32: =IF(OR(Q32=1,P32=1,U32=1),1,0) -> 0 | AA32: =Y32+Z32 -> 1 | AC32: 1 | AD32: 0 | AE32: 0 | AF32: 0 | AG32: 1 | AH32: 0 | AI32: 0 | AJ32: 0 | AK32: 0 | AL32: 0 | AM32: 1 | AN32: 0 | AO32: 0 | AP32: 0 | AQ32: 0 | AR32: 1 | AS32: 0 | AT32: 0 | AU32: temperate climate | AV32: cropland | AX32: (qualitative) validation using organic C data; calibration using decomposition data; comparisons with non independent radiocarbon and organic C and N data (P304, bottom left column)
B33: 1 | D33: 1978 | E33: Holland | F33: 7 | G33: 1 | H33: 5 | I33: 4 | J33: 2 | K33: 0 | M33: 1 | N33: 0 | O33: 0 | P33: =IF(AND(M33=1,N33=0,O33=0),1,0) -> 1 | Q33: =IF(AND(N33=1,M33=0,O33=0),1,0) -> 0 | R33: =IF(AND(O33=1,N33=0,M33=0),1,0) -> 0 | S33: =IF(AND(O33=1,N33=0,M33=1),1,0) -> 0 | T33: =IF(AND(O33=1,N33=1,M33=0),1,0) -> 0 | U33: =IF(AND(M33=1,N33=1,O33=0),1,0) -> 0 | V33: =IF(AND(M33=1,N33=1,O33=1),1,0) -> 0 | W33: =IF(OR(AND(O33=1,M33=1,N33=0),AND(M33=0,O33=1,N33=1)),1,0) -> 0 | X33: =IF(AND(O33=0,N33=1,M33=1),1,0) -> 0 | Y33: =IF(OR(V33=1,T33=1,S33=1,R33=1),1,0) -> 0 | Z33: =IF(OR(Q33=1,P33=1,U33=1),1,0) -> 1 | AA33: =Y33+Z33 -> 1 | AC33: 0 | AD33: 1 | AE33: 0 | AF33: 0 | AG33: 0 | AH33: 0 | AI33: 0 | AJ33: 0 | AK33: 0 | AL33: 0 | AM33: 0 | AN33: 0 | AO33: 0 | AP33: 0 | AQ33: 0 | AR33: 0 | AS33: 0 | AT33: 0 | AU33: spatially lumped model for global C stocks | AV33: global terrestrial biomes | AX33: exploration of scenarios for CO2 emissions and consequences on global C cycling
B34: 1 | D34: 1978 | E34: O'Brien and Stout | F34: 1 | G34: 2 | H34: 3 | I34: 4 | J34: 2 | K34: 0 | L34: C model only; C tracer study | M34: 0 | N34: 1 | O34: 0 | P34: =IF(AND(M34=1,N34=0,O34=0),1,0) -> 0 | Q34: =IF(AND(N34=1,M34=0,O34=0),1,0) -> 1 | R34: =IF(AND(O34=1,N34=0,M34=0),1,0) -> 0 | S34: =IF(AND(O34=1,N34=0,M34=1),1,0) -> 0 | T34: =IF(AND(O34=1,N34=1,M34=0),1,0) -> 0 | U34: =IF(AND(M34=1,N34=1,O34=0),1,0) -> 0 | V34: =IF(AND(M34=1,N34=1,O34=1),1,0) -> 0 | W34: =IF(OR(AND(O34=1,M34=1,N34=0),AND(M34=0,O34=1,N34=1)),1,0) -> 0 | X34: =IF(AND(O34=0,N34=1,M34=1),1,0) -> 0 | Y34: =IF(OR(V34=1,T34=1,S34=1,R34=1),1,0) -> 0 | Z34: =IF(OR(Q34=1,P34=1,U34=1),1,0) -> 1 | AA34: =Y34+Z34 -> 1 | AC34: 1 | AD34: 0 | AE34: 0 | AF34: 0 | AG34: 0 | AH34: 0 | AI34: 0 | AJ34: 1 | AK34: 0 | AL34: 0 | AM34: 0 | AN34: 1 | AO34: 0 | AP34: 0 | AQ34: 0 | AR34: 0 | AS34: 0 | AT34: 0 | AU34: temperate climate | AV34: pasture | AX34: trial and error calibration against C isotope data (conceptually C stock?), no validation with independent data
B35: 1 | D35: 1979 | E35: Smith | F35: 2 | G35: 1 | H35: 3 | I35: 3 | J35: 3 | K35: 1 | L35: Focus on dynamics of polysaccharides; includes P, K, N | M35: 1 | N35: 0 | O35: 0 | P35: =IF(AND(M35=1,N35=0,O35=0),1,0) -> 1 | Q35: =IF(AND(N35=1,M35=0,O35=0),1,0) -> 0 | R35: =IF(AND(O35=1,N35=0,M35=0),1,0) -> 0 | S35: =IF(AND(O35=1,N35=0,M35=1),1,0) -> 0 | T35: =IF(AND(O35=1,N35=1,M35=0),1,0) -> 0 | U35: =IF(AND(M35=1,N35=1,O35=0),1,0) -> 0 | V35: =IF(AND(M35=1,N35=1,O35=1),1,0) -> 0 | W35: =IF(OR(AND(O35=1,M35=1,N35=0),AND(M35=0,O35=1,N35=1)),1,0) -> 0 | X35: =IF(AND(O35=0,N35=1,M35=1),1,0) -> 0 | Y35: =IF(OR(V35=1,T35=1,S35=1,R35=1),1,0) -> 0 | Z35: =IF(OR(Q35=1,P35=1,U35=1),1,0) -> 1 | AA35: =Y35+Z35 -> 1 | AC35: 0 | AD35: 1 | AE35: 0 | AF35: 0 | AG35: 0 | AH35: 0 | AI35: 0 | AJ35: 0 | AK35: 0 | AL35: 0 | AM35: 0 | AN35: 0 | AO35: 0 | AP35: 0 | AQ35: 0 | AR35: 0 | AS35: 0 | AT35: 0 | AU35: generic | AV35: generic | AX35: model evaluation not in the paper where the model is presented (shall I dig into that?)
A36: 1970's | B36: =SUM(B24:B35) -> 12 | P36: =SUM(P24:P35) -> 6 | Q36: =SUM(Q24:Q35) -> 1 | R36: =SUM(R24:R35) -> 1 | V36: =IF(AND(M36=1,N36=1,O36=1),1,0) -> 0 | Y36: =IF(OR(V36=1,T36=1,S36=1,R36=1),1,0) -> 1 | AA36: =Y36+Z36 -> 1
B37: 1 | D37: 1981 | E37: Bolin | F37: 7 | G37: 1 | H37: 5 | I37: 4 | J37: 2 | K37: 0 | L37: 13C model | M37: 1 | N37: 0 | O37: 0 | P37: =IF(AND(M37=1,N37=0,O37=0),1,0) -> 1 | Q37: =IF(AND(N37=1,M37=0,O37=0),1,0) -> 0 | R37: =IF(AND(O37=1,N37=0,M37=0),1,0) -> 0 | S37: =IF(AND(O37=1,N37=0,M37=1),1,0) -> 0 | T37: =IF(AND(O37=1,N37=1,M37=0),1,0) -> 0 | U37: =IF(AND(M37=1,N37=1,O37=0),1,0) -> 0 | V37: =IF(AND(M37=1,N37=1,O37=1),1,0) -> 0 | W37: =IF(OR(AND(O37=1,M37=1,N37=0),AND(M37=0,O37=1,N37=1)),1,0) -> 0 | X37: =IF(AND(O37=0,N37=1,M37=1),1,0) -> 0 | Y37: =IF(OR(V37=1,T37=1,S37=1,R37=1),1,0) -> 0 | Z37: =IF(OR(Q37=1,P37=1,U37=1),1,0) -> 1 | AA37: =Y37+Z37 -> 1 | AC37: 0 | AD37: 1 | AE37: 0 | AF37: 0 | AG37: 0 | AH37: 0 | AI37: 0 | AJ37: 0 | AK37: 0 | AL37: 0 | AM37: 0 | AN37: 0 | AO37: 0 | AP37: 0 | AQ37: 0 | AR37: 0 | AS37: 0 | AT37: 0 | AU37: spatially lumped model for global C stocks | AV37: global terrestrial biomes
B38: 1 | D38: 1981 | E38: Carpenter | F38: 1 | G38: 1 | H38: 2 | I38: 3 | J38: 2 | K38: 0 | L38: Continuum quality model | M38: 1 | N38: 1 | O38: 0 | P38: =IF(AND(M38=1,N38=0,O38=0),1,0) -> 0 | Q38: =IF(AND(N38=1,M38=0,O38=0),1,0) -> 0 | R38: =IF(AND(O38=1,N38=0,M38=0),1,0) -> 0 | S38: =IF(AND(O38=1,N38=0,M38=1),1,0) -> 0 | T38: =IF(AND(O38=1,N38=1,M38=0),1,0) -> 0 | U38: =IF(AND(M38=1,N38=1,O38=0),1,0) -> 1 | V38: =IF(AND(M38=1,N38=1,O38=1),1,0) -> 0 | W38: =IF(OR(AND(O38=1,M38=1,N38=0),AND(M38=0,O38=1,N38=1)),1,0) -> 0 | X38: =IF(AND(O38=0,N38=1,M38=1),1,0) -> 1 | Y38: =IF(OR(V38=1,T38=1,S38=1,R38=1),1,0) -> 0 | Z38: =IF(OR(Q38=1,P38=1,U38=1),1,0) -> 1 | AA38: =Y38+Z38 -> 1 | AC38: 1 | AD38: 0 | AE38: 0 | AF38: 0 | AG38: 1 | AH38: 0 | AI38: 0 | AJ38: 0 | AK38: 0 | AL38: 0 | AM38: 0 | AN38: 1 | AO38: 0 | AP38: 0 | AQ38: 1 | AR38: 0 | AS38: 0 | AT38: 0 | AU38: generic | AV38: generic | AW38: decomposition model for soil organic matter in both soil and sediments | AX38: calibration of model parameters with litter decomposition data; calibrated parameters used to discuss general model properties, not for prediction
B39: 1 | D39: 1981 | E39: Emanuel | F39: 7 | G39: 1 | H39: 5 | I39: 4 | J39: 2 | K39: 0 | L39: C-only | M39: 1 | N39: 0 | O39: 0 | P39: =IF(AND(M39=1,N39=0,O39=0),1,0) -> 1 | Q39: =IF(AND(N39=1,M39=0,O39=0),1,0) -> 0 | R39: =IF(AND(O39=1,N39=0,M39=0),1,0) -> 0 | S39: =IF(AND(O39=1,N39=0,M39=1),1,0) -> 0 | T39: =IF(AND(O39=1,N39=1,M39=0),1,0) -> 0 | U39: =IF(AND(M39=1,N39=1,O39=0),1,0) -> 0 | V39: =IF(AND(M39=1,N39=1,O39=1),1,0) -> 0 | W39: =IF(OR(AND(O39=1,M39=1,N39=0),AND(M39=0,O39=1,N39=1)),1,0) -> 0 | X39: =IF(AND(O39=0,N39=1,M39=1),1,0) -> 0 | Y39: =IF(OR(V39=1,T39=1,S39=1,R39=1),1,0) -> 0 | Z39: =IF(OR(Q39=1,P39=1,U39=1),1,0) -> 1 | AA39: =Y39+Z39 -> 1 | AC39: 0 | AD39: 1 | AE39: 0 | AF39: 0 | AG39: 0 | AH39: 0 | AI39: 0 | AJ39: 0 | AK39: 0 | AL39: 0 | AM39: 0 | AN39: 0 | AO39: 0 | AP39: 0 | AQ39: 0 | AR39: 0 | AS39: 0 | AT39: 0 | AU39: spatially lumped model for global C stocks | AV39: global terrestrial biomes
B40: 1 | C40: PHOENIX | D40: 1981 | E40: McGill | F40: 2 | G40: 1 | H40: 3 | I40: 2 | J40: 3 | K40: 1 | L40: DEC changes with substrate type | M40: 1 | N40: 0 | O40: 1 | P40: =IF(AND(M40=1,N40=0,O40=0),1,0) -> 0 | Q40: =IF(AND(N40=1,M40=0,O40=0),1,0) -> 0 | R40: =IF(AND(O40=1,N40=0,M40=0),1,0) -> 0 | S40: =IF(AND(O40=1,N40=0,M40=1),1,0) -> 1 | T40: =IF(AND(O40=1,N40=1,M40=0),1,0) -> 0 | U40: =IF(AND(M40=1,N40=1,O40=0),1,0) -> 0 | V40: =IF(AND(M40=1,N40=1,O40=1),1,0) -> 0 | W40: =IF(OR(AND(O40=1,M40=1,N40=0),AND(M40=0,O40=1,N40=1)),1,0) -> 1 | X40: =IF(AND(O40=0,N40=1,M40=1),1,0) -> 0 | Y40: =IF(OR(V40=1,T40=1,S40=1,R40=1),1,0) -> 1 | Z40: =IF(OR(Q40=1,P40=1,U40=1),1,0) -> 0 | AA40: =Y40+Z40 -> 1 | AC40: 1 | AD40: 0 | AE40: 0 | AF40: 0 | AG40: 0 | AH40: 0 | AI40: 0 | AJ40: 0 | AK40: 1 | AL40: 0 | AM40: 1 | AN40: 0 | AO40: 0 | AP40: 0 | AQ40: 0 | AR40: 1 | AS40: 0 | AT40: 0 | AU40: temperate climate | AV40: grassland | AX40: Qualitative evaluation against literature data on respiration rate, inorganic N, various plant processes; measurements generally not in the same year of simulations, but qualitative agreement is presented as validation; perturbation experiments also show consistency with evidence from the literature
B41: 1 | C41: PAPRAN | D41: 1981 | E41: Seligman and van Keulen | F41: 2 | G41: 2 | H41: 3 | I41: 2 | J41: 3 | K41: 1 | L41: C+N model | M41: 1 | N41: 0 | O41: 1 | P41: =IF(AND(M41=1,N41=0,O41=0),1,0) -> 0 | Q41: =IF(AND(N41=1,M41=0,O41=0),1,0) -> 0 | R41: =IF(AND(O41=1,N41=0,M41=0),1,0) -> 0 | S41: =IF(AND(O41=1,N41=0,M41=1),1,0) -> 1 | T41: =IF(AND(O41=1,N41=1,M41=0),1,0) -> 0 | U41: =IF(AND(M41=1,N41=1,O41=0),1,0) -> 0 | V41: =IF(AND(M41=1,N41=1,O41=1),1,0) -> 0 | W41: =IF(OR(AND(O41=1,M41=1,N41=0),AND(M41=0,O41=1,N41=1)),1,0) -> 1 | X41: =IF(AND(O41=0,N41=1,M41=1),1,0) -> 0 | Y41: =IF(OR(V41=1,T41=1,S41=1,R41=1),1,0) -> 1 | Z41: =IF(OR(Q41=1,P41=1,U41=1),1,0) -> 0 | AA41: =Y41+Z41 -> 1 | AC41: 1 | AD41: 0 | AE41: 0 | AF41: 0 | AG41: 0 | AH41: 0 | AI41: 0 | AJ41: 0 | AK41: 0 | AL41: 0 | AM41: 1 | AN41: 0 | AO41: 0 | AP41: 0 | AQ41: 0 | AR41: 1 | AS41: 0 | AT41: 0 | AU41: temperate climate | AV41: cropland | AX41: Evaluation of crop yield and N uptake; no evaluation of soil compartments
B42: 1 | D42: 1981 | E42: Svirezhev | F42: 7 | G42: 1 | H42: 5 | I42: 5 | J42: 2 | K42: 1 | L42: C-only | M42: 1 | N42: 0 | O42: 0 | P42: =IF(AND(M42=1,N42=0,O42=0),1,0) -> 1 | Q42: =IF(AND(N42=1,M42=0,O42=0),1,0) -> 0 | R42: =IF(AND(O42=1,N42=0,M42=0),1,0) -> 0 | S42: =IF(AND(O42=1,N42=0,M42=1),1,0) -> 0 | T42: =IF(AND(O42=1,N42=1,M42=0),1,0) -> 0 | U42: =IF(AND(M42=1,N42=1,O42=0),1,0) -> 0 | V42: =IF(AND(M42=1,N42=1,O42=1),1,0) -> 0 | W42: =IF(OR(AND(O42=1,M42=1,N42=0),AND(M42=0,O42=1,N42=1)),1,0) -> 0 | X42: =IF(AND(O42=0,N42=1,M42=1),1,0) -> 0 | Y42: =IF(OR(V42=1,T42=1,S42=1,R42=1),1,0) -> 0 | Z42: =IF(OR(Q42=1,P42=1,U42=1),1,0) -> 1 | AA42: =Y42+Z42 -> 1 | AC42: 0 | AD42: 1 | AE42: 0 | AF42: 0 | AG42: 0 | AH42: 0 | AI42: 0 | AJ42: 0 | AK42: 0 | AL42: 0 | AM42: 0 | AN42: 0 | AO42: 0 | AP42: 0 | AQ42: 0 | AR42: 0 | AS42: 0 | AT42: 0 | AU42: spatially lumped model for global C stocks | AV42: grassland and forest
...

Sheet Appendix A
B1: ='Systematic review'!C13 -> Model | C1: ='Systematic review'!D13 -> Year | D1: ='Systematic review'!E13 -> Reference | E1: ='Systematic review'!F12 -> LEVEL | F1: ='Systematic review'!J12 -> Microbial Dynamics - Organic | G1: SCOPE | H1: Type of Evaluation | I1: Conditions of evaluation
A2: ='Systematic review'!A14 -> 0 | B2: ='Systematic review'!C14 -> 0 | C2: ='Systematic review'!D14 -> 1933 | D2: ='Systematic review'!E14 -> Salter and Green | E2: =IF('Systematic review'!F14=6,1,IF('Systematic review'!F14=1,2,IF('Systematic review'!F14=2,3,IF('Systematic review'!F14=7,4, IF(OR('Systematic review'!F14="1 to 7",'Systematic review'!F14="2 to 7", 'Systematic review'!F14="1& 7", 'Systematic review'!F14="1&7"),5))))) -> 2 | F2: =IF('Systematic review'!J14=3, "NL", "L") -> L | G2: =IF('Systematic review'!P14=1,1,(IF('Systematic review'!Q14=1,2,IF('Systematic review'!R14=1,3,IF('Systematic review'!V14=1,4,IF('Systematic review'!W14=1,5,IF('Systematic review'!X14=1,6,"No Data"))))))) -> 5 | H2: =IF('Systematic review'!AD14=1,1,IF(AND(OR('Systematic review'!AG14=1,'Systematic review'!AH14=1,'Systematic review'!AI14=1),'Systematic review'!AM14=1),2,IF(AND(OR('Systematic review'!AE14=1,'Systematic review'!AF14=1,'Systematic review'!AJ14=1,'Systematic review'!AK14=1,'Systematic review'!AL14=1),'Systematic review'!AM14=1),3, IF(AND(OR('Systematic review'!AG14=1,'Systematic review'!AH14=1,'Systematic review'!AI14=1),OR('Systematic review'!AN14=1, 'Systematic review'!AO14=1,'Systematic review'!AP14=1)),4, IF(AND(OR('Systematic review'!AE14=1,'Systematic review'!AF14=1,'Systematic review'!AJ14=1,'Systematic review'!AK14=1,'Systematic review'!AL14=1), OR('Systematic review'!AN14=1, 'Systematic review'!AO14=1,'Systematic review'!AP14=1)),5,IF(AND('Systematic review'!AC14=1,'Systematic review'!AE14=0,'Systematic review'!AF14=0,'Systematic review'!AG14=0,'Systematic review'!AH14=0,'Systematic review'!AI14=0,'Systematic review'!AJ14=0,'Systematic review'!AK14=0,'Systematic review'!AL14=0),6,"PB")))))) -> 4 | I2: =IF(AND('Systematic review'!AQ14=1,'Systematic review'!AR14=0,'Systematic review'!AS14=0,'Systematic review'!AT14=0),1,IF(AND('Systematic review'!AQ14=0,'Systematic review'!AR14=1,'Systematic review'!AS14=0,'Systematic review'!AT14=0),2,IF(AND('Systematic review'!AQ14=0,'Systematic review'!AR14=0,'Systematic review'!AS14=1,'Systematic review'!AT14=0),3,IF(AND('Systematic review'!AQ14=0,'Systematic review'!AR14=0,'Systematic review'!AS14=0,'Systematic review'!AT14=1),4,IF(AND('Systematic review'!AQ14=1,'Systematic review'!AR14=1,'Systematic review'!AS14=0,'Systematic review'!AT14=0),5,IF(AND('Systematic review'!AQ14=1,'Systematic review'!AR14=0,'Systematic review'!AS14=1,'Systematic review'!AT14=0),6,IF(AND('Systematic review'!AQ14=1,'Systematic review'!AR14=0,'Systematic review'!AS14=0,'Systematic review'!AT14=1),7,IF(AND('Systematic review'!AQ14=0,'Systematic review'!AR14=1,'Systematic review'!AS14=1,'Systematic review'!AT14=0),8,IF(AND('Systematic review'!AQ14=0,'Systematic review'!AR14=1,'Systematic review'!AS14=0,'Systematic review'!AT14=1),9,IF(AND('Systematic review'!AQ14=0,'Systematic review'!AR14=0,'Systematic review'!AS14=1,'Systematic review'!AT14=1),10,IF(AND('Systematic review'!AQ14=1,'Systematic review'!AR14=1,'Systematic review'!AS14=1,'Systematic review'!AT14=0),11, IF(AND('Systematic review'!AQ14=1,'Systematic review'!AR14=0,'Systematic review'!AS14=1,'Systematic review'!AT14=1),12, IF(AND('Systematic review'!AQ14=1,'Systematic review'!AR14=1,'Systematic review'!AS14=0,'Systematic review'!AT14=1),13,IF(AND('Systematic review'!AQ14=0,'Systematic review'!AR14=1,'Systematic review'!AS14=1,'Systematic review'!AT14=1),14,IF(AND('Systematic review'!AQ14=1,'Systematic review'!AR14=1,'Systematic review'!AS14=1,'Systematic review'!AT14=1),15,0))))))))))))))) -> 2 | L2: 2
A3: ='Systematic review'!A15 -> 0 | B3: ='Systematic review'!C15 -> 0 | C3: ='Systematic review'!D15 -> 1936 | D3: ='Systematic review'!E15 -> Nikiforoff | E3: =IF('Systematic review'!F15=6,1,IF('Systematic review'!F15=1,2,IF('Systematic review'!F15=2,3,IF('Systematic review'!F15=7,4, IF(OR('Systematic review'!F15="1 to 7",'Systematic review'!F15="2 to 7", 'Systematic review'!F15="1& 7", 'Systematic review'!F15="1&7"),5))))) -> 2 | F3: =IF('Systematic review'!J15=3, "NL", "L") -> L | G3: =IF('Systematic review'!P15=1,1,(IF('Systematic review'!Q15=1,2,IF('Systematic review'!R15=1,3,IF('Systematic review'!V15=1,4,IF('Systematic review'!W15=1,5,IF('Systematic review'!X15=1,6,"No Data"))))))) -> 2 | H3: =IF('Systematic review'!AD15=1,1,IF(AND(OR('Systematic review'!AG15=1,'Systematic review'!AH15=1,'Systematic review'!AI15=1),'Systematic review'!AM15=1),2,IF(AND(OR('Systematic review'!AE15=1,'Systematic review'!AF15=1,'Systematic review'!AJ15=1,'Systematic review'!AK15=1,'Systematic review'!AL15=1),'Systematic review'!AM15=1),3, IF(AND(OR('Systematic review'!AG15=1,'Systematic review'!AH15=1,'Systematic review'!AI15=1),OR('Systematic review'!AN15=1, 'Systematic review'!AO15=1,'Systematic review'!AP15=1)),4, IF(AND(OR('Systematic review'!AE15=1,'Systematic review'!AF15=1,'Systematic review'!AJ15=1,'Systematic review'!AK15=1,'Systematic review'!AL15=1), OR('Systematic review'!AN15=1, 'Systematic review'!AO15=1,'Systematic review'!AP15=1)),5,IF(AND('Systematic review'!AC15=1,'Systematic review'!AE15=0,'Systematic review'!AF15=0,'Systematic review'!AG15=0,'Systematic review'!AH15=0,'Systematic review'!AI15=0,'Systematic review'!AJ15=0,'Systematic review'!AK15=0,'Systematic review'!AL15=0),6,"PB")))))) -> 1 | I3: =IF(AND('Systematic review'!AQ15=1,'Systematic review'!AR15=0,'Systematic review'!AS15=0,'Systematic review'!AT15=0),1,IF(AND('Systematic review'!AQ15=0,'Systematic review'!AR15=1,'Systematic review'!AS15=0,'Systematic review'!AT15=0),2,IF(AND('Systematic review'!AQ15=0,'Systematic review'!AR15=0,'Systematic review'!AS15=1,'Systematic review'!AT15=0),3,IF(AND('Systematic review'!AQ15=0,'Systematic review'!AR15=0,'Systematic review'!AS15=0,'Systematic review'!AT15=1),4,IF(AND('Systematic review'!AQ15=1,'Systematic review'!AR15=1,'Systematic review'!AS15=0,'Systematic review'!AT15=0),5,IF(AND('Systematic review'!AQ15=1,'Systematic review'!AR15=0,'Systematic review'!AS15=1,'Systematic review'!AT15=0),6,IF(AND('Systematic review'!AQ15=1,'Systematic review'!AR15=0,'Systematic review'!AS15=0,'Systematic review'!AT15=1),7,IF(AND('Systematic review'!AQ15=0,'Systematic review'!AR15=1,'Systematic review'!AS15=1,'Systematic review'!AT15=0),8,IF(AND('Systematic review'!AQ15=0,'Systematic review'!AR15=1,'Systematic review'!AS15=0,'Systematic review'!AT15=1),9,IF(AND('Systematic review'!AQ15=0,'Systematic review'!AR15=0,'Systematic review'!AS15=1,'Systematic review'!AT15=1),10,IF(AND('Systematic review'!AQ15=1,'Systematic review'!AR15=1,'Systematic review'!AS15=1,'Systematic review'!AT15=0),11, IF(AND('Systematic review'!AQ15=1,'Systematic review'!AR15=0,'Systematic review'!AS15=1,'Systematic review'!AT15=1),12, IF(AND('Systematic review'!AQ15=1,'Systematic review'!AR15=1,'Systematic review'!AS15=0,'Systematic review'!AT15=1),13,IF(AND('Systematic review'!AQ15=0,'Systematic review'!AR15=1,'Systematic review'!AS15=1,'Systematic review'!AT15=1),14,IF(AND('Systematic review'!AQ15=1,'Systematic review'!AR15=1,'Systematic review'!AS15=1,'Systematic review'!AT15=1),15,0))))))))))))))) -> 0 | L3: 0
A4: ='Systematic review'!A17 -> 0 | B4: ='Systematic review'!C17 -> 0 | C4: ='Systematic review'!D17 -> 1945 | D4: ='Systematic review'!E17 -> Henin and Dupuis | E4: =IF('Systematic review'!F17=6,1,IF('Systematic review'!F17=1,2,IF('Systematic review'!F17=2,3,IF('Systematic review'!F17=7,4, IF(OR('Systematic review'!F17="1 to 7",'Systematic review'!F17="2 to 7", 'Systematic review'!F17="1& 7", 'Systematic review'!F17="1&7"),5))))) -> 2 | F4: =IF('Systematic review'!J17=3, "NL", "L") -> L | G4: =IF('Systematic review'!P17=1,1,(IF('Systematic review'!Q17=1,2,IF('Systematic review'!R17=1,3,IF('Systematic review'!V17=1,4,IF('Systematic review'!W17=1,5,IF('Systematic review'!X17=1,6,"No Data"))))))) -> 5 | H4: =IF('Systematic review'!AD17=1,1,IF(AND(OR('Systematic review'!AG17=1,'Systematic review'!AH17=1,'Systematic review'!AI17=1),'Systematic review'!AM17=1),2,IF(AND(OR('Systematic review'!AE17=1,'Systematic review'!AF17=1,'Systematic review'!AJ17=1,'Systematic review'!AK17=1,'Systematic review'!AL17=1),'Systematic review'!AM17=1),3, IF(AND(OR('Systematic review'!AG17=1,'Systematic review'!AH17=1,'Systematic review'!AI17=1),OR('Systematic review'!AN17=1, 'Systematic review'!AO17=1,'Systematic review'!AP17=1)),4, IF(AND(OR('Systematic review'!AE17=1,'Systematic review'!AF17=1,'Systematic review'!AJ17=1,'Systematic review'!AK17=1,'Systematic review'!AL17=1), OR('Systematic review'!AN17=1, 'Systematic review'!AO17=1,'Systematic review'!AP17=1)),5,IF(AND('Systematic review'!AC17=1,'Systematic review'!AE17=0,'Systematic review'!AF17=0,'Systematic review'!AG17=0,'Systematic review'!AH17=0,'Systematic review'!AI17=0,'Systematic review'!AJ17=0,'Systematic review'!AK17=0,'Systematic review'!AL17=0),6,"PB")))))) -> 3 | I4: =IF(AND('Systematic review'!AQ17=1,'Systematic review'!AR17=0,'Systematic review'!AS17=0,'Systematic review'!AT17=0),1,IF(AND('Systematic review'!AQ17=0,'Systematic review'!AR17=1,'Systematic review'!AS17=0,'Systematic review'!AT17=0),2,IF(AND('Systematic review'!AQ17=0,'Systematic review'!AR17=0,'Systematic review'!AS17=1,'Systematic review'!AT17=0),3,IF(AND('Systematic review'!AQ17=0,'Systematic review'!AR17=0,'Systematic review'!AS17=0,'Systematic review'!AT17=1),4,IF(AND('Systematic review'!AQ17=1,'Systematic review'!AR17=1,'Systematic review'!AS17=0,'Systematic review'!AT17=0),5,IF(AND('Systematic review'!AQ17=1,'Systematic review'!AR17=0,'Systematic review'!AS17=1,'Systematic review'!AT17=0),6,IF(AND('Systematic review'!AQ17=1,'Systematic review'!AR17=0,'Systematic review'!AS17=0,'Systematic review'!AT17=1),7,IF(AND('Systematic review'!AQ17=0,'Systematic review'!AR17=1,'Systematic review'!AS17=1,'Systematic review'!AT17=0),8,IF(AND('Systematic review'!AQ17=0,'Systematic review'!AR17=1,'Systematic review'!AS17=0,'Systematic review'!AT17=1),9,IF(AND('Systematic review'!AQ17=0,'Systematic review'!AR17=0,'Systematic review'!AS17=1,'Systematic review'!AT17=1),10,IF(AND('Systematic review'!AQ17=1,'Systematic review'!AR17=1,'Systematic review'!AS17=1,'Systematic review'!AT17=0),11, IF(AND('Systematic review'!AQ17=1,'Systematic review'!AR17=0,'Systematic review'!AS17=1,'Systematic review'!AT17=1),12, IF(AND('Systematic review'!AQ17=1,'Systematic review'!AR17=1,'Systematic review'!AS17=0,'Systematic review'!AT17=1),13,IF(AND('Systematic review'!AQ17=0,'Systematic review'!AR17=1,'Systematic review'!AS17=1,'Systematic review'!AT17=1),14,IF(AND('Systematic review'!AQ17=1,'Systematic review'!AR17=1,'Systematic review'!AS17=1,'Systematic review'!AT17=1),15,0))))))))))))))) -> 2 | L4: 2
A5: ='Systematic review'!A19 -> 0 | B5: ='Systematic review'!C19 -> 0 | C5: ='Systematic review'!D19 -> 1956 | D5: ='Systematic review'!E19 -> Eriksson and Welander | E5: =IF('Systematic review'!F19=6,1,IF('Systematic review'!F19=1,2,IF('Systematic review'!F19=2,3,IF('Systematic review'!F19=7,4, IF(OR('Systematic review'!F19="1 to 7",'Systematic review'!F19="2 to 7", 'Systematic review'!F19="1& 7", 'Systematic review'!F19="1&7"),5))))) -> 4 | F5: =IF('Systematic review'!J19=3, "NL", "L") -> NL | G5: =IF('Systematic review'!P19=1,1,(IF('Systematic review'!Q19=1,2,IF('Systematic review'!R19=1,3,IF('Systematic review'!V19=1,4,IF('Systematic review'!W19=1,5,IF('Systematic review'!X19=1,6,"No Data"))))))) -> 1 | H5: =IF('Systematic review'!AD19=1,1,IF(AND(OR('Systematic review'!AG19=1,'Systematic review'!AH19=1,'Systematic review'!AI19=1),'Systematic review'!AM19=1),2,IF(AND(OR('Systematic review'!AE19=1,'Systematic review'!AF19=1,'Systematic review'!AJ19=1,'Systematic review'!AK19=1,'Systematic review'!AL19=1),'Systematic review'!AM19=1),3, IF(AND(OR('Systematic review'!AG19=1,'Systematic review'!AH19=1,'Systematic review'!AI19=1),OR('Systematic review'!AN19=1, 'Systematic review'!AO19=1,'Systematic review'!AP19=1)),4, IF(AND(OR('Systematic review'!AE19=1,'Systematic review'!AF19=1,'Systematic review'!AJ19=1,'Systematic review'!AK19=1,'Systematic review'!AL19=1), OR('Systematic review'!AN19=1, 'Systematic review'!AO19=1,'Systematic review'!AP19=1)),5,IF(AND('Systematic review'!AC19=1,'Systematic review'!AE19=0,'Systematic review'!AF19=0,'Systematic review'!AG19=0,'Systematic review'!AH19=0,'Systematic review'!AI19=0,'Systematic review'!AJ19=0,'Systematic review'!AK19=0,'Systematic review'!AL19=0),6,"PB")))))) -> 1 | I5: =IF(AND('Systematic review'!AQ19=1,'Systematic review'!AR19=0,'Systematic review'!AS19=0,'Systematic review'!AT19=0),1,IF(AND('Systematic review'!AQ19=0,'Systematic review'!AR19=1,'Systematic review'!AS19=0,'Systematic review'!AT19=0),2,IF(AND('Systematic review'!AQ19=0,'Systematic review'!AR19=0,'Systematic review'!AS19=1,'Systematic review'!AT19=0),3,IF(AND('Systematic review'!AQ19=0,'Systematic review'!AR19=0,'Systematic review'!AS19=0,'Systematic review'!AT19=1),4,IF(AND('Systematic review'!AQ19=1,'Systematic review'!AR19=1,'Systematic review'!AS19=0,'Systematic review'!AT19=0),5,IF(AND('Systematic review'!AQ19=1,'Systematic review'!AR19=0,'Systematic review'!AS19=1,'Systematic review'!AT19=0),6,IF(AND('Systematic review'!AQ19=1,'Systematic review'!AR19=0,'Systematic review'!AS19=0,'Systematic review'!AT19=1),7,IF(AND('Systematic review'!AQ19=0,'Systematic review'!AR19=1,'Systematic review'!AS19=1,'Systematic review'!AT19=0),8,IF(AND('Systematic review'!AQ19=0,'Systematic review'!AR19=1,'Systematic review'!AS19=0,'Systematic review'!AT19=1),9,IF(AND('Systematic review'!AQ19=0,'Systematic review'!AR19=0,'Systematic review'!AS19=1,'Systematic review'!AT19=1),10,IF(AND('Systematic review'!AQ19=1,'Systematic review'!AR19=1,'Systematic review'!AS19=1,'Systematic review'!AT19=0),11, IF(AND('Systematic review'!AQ19=1,'Systematic review'!AR19=0,'Systematic review'!AS19=1,'Systematic review'!AT19=1),12, IF(AND('Systematic review'!AQ19=1,'Systematic review'!AR19=1,'Systematic review'!AS19=0,'Systematic review'!AT19=1),13,IF(AND('Systematic review'!AQ19=0,'Systematic review'!AR19=1,'Systematic review'!AS19=1,'Systematic review'!AT19=1),14,IF(AND('Systematic review'!AQ19=1,'Systematic review'!AR19=1,'Systematic review'!AS19=1,'Systematic review'!AT19=1),15,0))))))))))))))) -> 0 | L5: 0
A6: ='Systematic review'!A20 -> 0 | B6: ='Systematic review'!C20 -> 0 | C6: ='Systematic review'!D20 -> 1957 | D6: ='Systematic review'!E20 -> Craig | E6: =IF('Systematic review'!F20=6,1,IF('Systematic review'!F20=1,2,IF('Systematic review'!F20=2,3,IF('Systematic review'!F20=7,4, IF(OR('Systematic review'!F20="1 to 7",'Systematic review'!F20="2 to 7", 'Systematic review'!F20="1& 7", 'Systematic review'!F20="1&7"),5))))) -> 4 | F6: =IF('Systematic review'!J20=3, "NL", "L") -> L | G6: =IF('Systematic review'!P20=1,1,(IF('Systematic review'!Q20=1,2,IF('Systematic review'!R20=1,3,IF('Systematic review'!V20=1,4,IF('Systematic review'!W20=1,5,IF('Systematic review'!X20=1,6,"No Data"))))))) -> 2 | H6: =IF('Systematic review'!AD20=1,1,IF(AND(OR('Systematic review'!AG20=1,'Systematic review'!AH20=1,'Systematic review'!AI20=1),'Systematic review'!AM20=1),2,IF(AND(OR('Systematic review'!AE20=1,'Systematic review'!AF20=1,'Systematic review'!AJ20=1,'Systematic review'!AK20=1,'Systematic review'!AL20=1),'Systematic review'!AM20=1),3, IF(AND(OR('Systematic review'!AG20=1,'Systematic review'!AH20=1,'Systematic review'!AI20=1),OR('Systematic review'!AN20=1, 'Systematic review'!AO20=1,'Systematic review'!AP20=1)),4, IF(AND(OR('Systematic review'!AE20=1,'Systematic review'!AF20=1,'Systematic review'!AJ20=1,'Systematic review'!AK20=1,'Systematic review'!AL20=1), OR('Systematic review'!AN20=1, 'Systematic review'!AO20=1,'Systematic review'!AP20=1)),5,IF(AND('Systematic review'!AC20=1,'Systematic review'!AE20=0,'Systematic review'!AF20=0,'Systematic review'!AG20=0,'Systematic review'!AH20=0,'Systematic review'!AI20=0,'Systematic review'!AJ20=0,'Systematic review'!AK20=0,'Systematic review'!AL20=0),6,"PB")))))) -> 1 | I6: =IF(AND('Systematic review'!AQ20=1,'Systematic review'!AR20=0,'Systematic review'!AS20=0,'Systematic review'!AT20=0),1,IF(AND('Systematic review'!AQ20=0,'Systematic review'!AR20=1,'Systematic review'!AS20=0,'Systematic review'!AT20=0),2,IF(AND('Systematic review'!AQ20=0,'Systematic review'!AR20=0,'Systematic review'!AS20=1,'Systematic review'!AT20=0),3,IF(AND('Systematic review'!AQ20=0,'Systematic review'!AR20=0,'Systematic review'!AS20=0,'Systematic review'!AT20=1),4,IF(AND('Systematic review'!AQ20=1,'Systematic review'!AR20=1,'Systematic review'!AS20=0,'Systematic review'!AT20=0),5,IF(AND('Systematic review'!AQ20=1,'Systematic review'!AR20=0,'Systematic review'!AS20=1,'Systematic review'!AT20=0),6,IF(AND('Systematic review'!AQ20=1,'Systematic review'!AR20=0,'Systematic review'!AS20=0,'Systematic review'!AT20=1),7,IF(AND('Systematic review'!AQ20=0,'Systematic review'!AR20=1,'Systematic review'!AS20=1,'Systematic review'!AT20=0),8,IF(AND('Systematic review'!AQ20=0,'Systematic review'!AR20=1,'Systematic review'!AS20=0,'Systematic review'!AT20=1),9,IF(AND('Systematic review'!AQ20=0,'Systematic review'!AR20=0,'Systematic review'!AS20=1,'Systematic review'!AT20=1),10,IF(AND('Systematic review'!AQ20=1,'Systematic review'!AR20=1,'Systematic review'!AS20=1,'Systematic review'!AT20=0),11, IF(AND('Systematic review'!AQ20=1,'Systematic review'!AR20=0,'Systematic review'!AS20=1,'Systematic review'!AT20=1),12, IF(AND('Systematic review'!AQ20=1,'Systematic review'!AR20=1,'Systematic review'!AS20=0,'Systematic review'!AT20=1),13,IF(AND('Systematic review'!AQ20=0,'Systematic review'!AR20=1,'Systematic review'!AS20=1,'Systematic review'!AT20=1),14,IF(AND('Systematic review'!AQ20=1,'Systematic review'!AR20=1,'Systematic review'!AS20=1,'Systematic review'!AT20=1),15,0))))))))))))))) -> 0 | L6: 0
A7: ='Systematic review'!A22 -> 0 | B7: ='Systematic review'!C22 -> 0 | C7: ='Systematic review'!D22 -> 1964 | D7: ='Systematic review'!E22 -> Russell | E7: =IF('Systematic review'!F22=6,1,IF('Systematic review'!F22=1,2,IF('Systematic review'!F22=2,3,IF('Systematic review'!F22=7,4, IF(OR('Systematic review'!F22="1 to 7",'Systematic review'!F22="2 to 7", 'Systematic review'!F22="1& 7", 'Systematic review'!F22="1&7"),5))))) -> 2 | F7: =IF('Systematic review'!J22=3, "NL", "L") -> L | G7: =IF('Systematic review'!P22=1,1,(IF('Systematic review'!Q22=1,2,IF('Systematic review'!R22=1,3,IF('Systematic review'!V22=1,4,IF('Systematic review'!W22=1,5,IF('Systematic review'!X22=1,6,"No Data"))))))) -> 1 | H7: =IF('Systematic review'!AD22=1,1,IF(AND(OR('Systematic review'!AG22=1,'Systematic review'!AH22=1,'Systematic review'!AI22=1),'Systematic review'!AM22=1),2,IF(AND(OR('Systematic review'!AE22=1,'Systematic review'!AF22=1,'Systematic review'!AJ22=1,'Systematic review'!AK22=1,'Systematic review'!AL22=1),'Systematic review'!AM22=1),3, IF(AND(OR('Systematic review'!AG22=1,'Systematic review'!AH22=1,'Systematic review'!AI22=1),OR('Systematic review'!AN22=1, 'Systematic review'!AO22=1,'Systematic review'!AP22=1)),4, IF(AND(OR('Systematic review'!AE22=1,'Systematic review'!AF22=1,'Systematic review'!AJ22=1,'Systematic review'!AK22=1,'Systematic review'!AL22=1), OR('Systematic review'!AN22=1, 'Systematic review'!AO22=1,'Systematic review'!AP22=1)),5,IF(AND('Systematic review'!AC22=1,'Systematic review'!AE22=0,'Systematic review'!AF22=0,'Systematic review'!AG22=0,'Systematic review'!AH22=0,'Systematic review'!AI22=0,'Systematic review'!AJ22=0,'Systematic review'!AK22=0,'Systematic review'!AL22=0),6,"PB")))))) -> 1 | I7: =IF(AND('Systematic review'!AQ22=1,'Systematic review'!AR22=0,'Systematic review'!AS22=0,'Systematic review'!AT22=0),1,IF(AND('Systematic review'!AQ22=0,'Systematic review'!AR22=1,'Systematic review'!AS22=0,'Systematic review'!AT22=0),2,IF(AND('Systematic review'!AQ22=0,'Systematic review'!AR22=0,'Systematic review'!AS22=1,'Systematic review'!AT22=0),3,IF(AND('Systematic review'!AQ22=0,'Systematic review'!AR22=0,'Systematic review'!AS22=0,'Systematic review'!AT22=1),4,IF(AND('Systematic review'!AQ22=1,'Systematic review'!AR22=1,'Systematic review'!AS22=0,'Systematic review'!AT22=0),5,IF(AND('Systematic review'!AQ22=1,'Systematic review'!AR22=0,'Systematic review'!AS22=1,'Systematic review'!AT22=0),6,IF(AND('Systematic review'!AQ22=1,'Systematic review'!AR22=0,'Systematic review'!AS22=0,'Systematic review'!AT22=1),7,IF(AND('Systematic review'!AQ22=0,'Systematic review'!AR22=1,'Systematic review'!AS22=1,'Systematic review'!AT22=0),8,IF(AND('Systematic review'!AQ22=0,'Systematic review'!AR22=1,'Systematic review'!AS22=0,'Systematic review'!AT22=1),9,IF(AND('Systematic review'!AQ22=0,'Systematic review'!AR22=0,'Systematic review'!AS22=1,'Systematic review'!AT22=1),10,IF(AND('Systematic review'!AQ22=1,'Systematic review'!AR22=1,'Systematic review'!AS22=1,'Systematic review'!AT22=0),11, IF(AND('Systematic review'!AQ22=1,'Systematic review'!AR22=0,'Systematic review'!AS22=1,'Systematic review'!AT22=1),12, IF(AND('Systematic review'!AQ22=1,'Systematic review'!AR22=1,'Systematic review'!AS22=0,'Systematic review'!AT22=1),13,IF(AND('Systematic review'!AQ22=0,'Systematic review'!AR22=1,'Systematic review'!AS22=1,'Systematic review'!AT22=1),14,IF(AND('Systematic review'!AQ22=1,'Systematic review'!AR22=1,'Systematic review'!AS22=1,'Systematic review'!AT22=1),15,0))))))))))))))) -> 0 | L7: 0
A8: ='Systematic review'!A24 -> 0 | B8: ='Systematic review'!C24 -> PWNEE | C8: ='Systematic review'!D24 -> 1972 | D8: ='Systematic review'!E24 -> Patten | E8: =IF('Systematic review'!F24=6,1,IF('Systematic review'!F24=1,2,IF('Systematic review'!F24=2,3,IF('Systematic review'!F24=7,4, IF(OR('Systematic review'!F24="1 to 7",'Systematic review'!F24="2 to 7", 'Systematic review'!F24="1& 7", 'Systematic review'!F24="1&7"),5))))) -> 3 | F8: =IF('Systematic review'!J24=3, "NL", "L") -> L | G8: =IF('Systematic review'!P24=1,1,(IF('Systematic review'!Q24=1,2,IF('Systematic review'!R24=1,3,IF('Systematic review'!V24=1,4,IF('Systematic review'!W24=1,5,IF('Systematic review'!X24=1,6,"No Data"))))))) -> 1 | H8: =IF('Systematic review'!AD24=1,1,IF(AND(OR('Systematic review'!AG24=1,'Systematic review'!AH24=1,'Systematic review'!AI24=1),'Systematic review'!AM24=1),2,IF(AND(OR('Systematic review'!AE24=1,'Systematic review'!AF24=1,'Systematic review'!AJ24=1,'Systematic review'!AK24=1,'Systematic review'!AL24=1),'Systematic review'!AM24=1),3, IF(AND(OR('Systematic review'!AG24=1,'Systematic review'!AH24=1,'Systematic review'!AI24=1),OR('Systematic review'!AN24=1, 'Systematic review'!AO24=1,'Systematic review'!AP24=1)),4, IF(AND(OR('Systematic review'!AE24=1,'Systematic review'!AF24=1,'Systematic review'!AJ24=1,'Systematic review'!AK24=1,'Systematic review'!AL24=1), OR('Systematic review'!AN24=1, 'Systematic review'!AO24=1,'Systematic review'!AP24=1)),5,IF(AND('Systematic review'!AC24=1,'Systematic review'!AE24=0,'Systematic review'!AF24=0,'Systematic review'!AG24=0,'Systematic review'!AH24=0,'Systematic review'!AI24=0,'Systematic review'!AJ24=0,'Systematic review'!AK24=0,'Systematic review'!AL24=0),6,"PB")))))) -> 1 | I8: =IF(AND('Systematic review'!AQ24=1,'Systematic review'!AR24=0,'Systematic review'!AS24=0,'Systematic review'!AT24=0),1,IF(AND('Systematic review'!AQ24=0,'Systematic review'!AR24=1,'Systematic review'!AS24=0,'Systematic review'!AT24=0),2,IF(AND('Systematic review'!AQ24=0,'Systematic review'!AR24=0,'Systematic review'!AS24=1,'Systematic review'!AT24=0),3,IF(AND('Systematic review'!AQ24=0,'Systematic review'!AR24=0,'Systematic review'!AS24=0,'Systematic review'!AT24=1),4,IF(AND('Systematic review'!AQ24=1,'Systematic review'!AR24=1,'Systematic review'!AS24=0,'Systematic review'!AT24=0),5,IF(AND('Systematic review'!AQ24=1,'Systematic review'!AR24=0,'Systematic review'!AS24=1,'Systematic review'!AT24=0),6,IF(AND('Systematic review'!AQ24=1,'Systematic review'!AR24=0,'Systematic review'!AS24=0,'Systematic review'!AT24=1),7,IF(AND('Systematic review'!AQ24=0,'Systematic review'!AR24=1,'Systematic review'!AS24=1,'Systematic review'!AT24=0),8,IF(AND('Systematic review'!AQ24=0,'Systematic review'!AR24=1,'Systematic review'!AS24=0,'Systematic review'!AT24=1),9,IF(AND('Systematic review'!AQ24=0,'Systematic review'!AR24=0,'Systematic review'!AS24=1,'Systematic review'!AT24=1),10,IF(AND('Systematic review'!AQ24=1,'Systematic review'!AR24=1,'Systematic review'!AS24=1,'Systematic review'!AT24=0),11, IF(AND('Systematic review'!AQ24=1,'Systematic review'!AR24=0,'Systematic review'!AS24=1,'Systematic review'!AT24=1),12, IF(AND('Systematic review'!AQ24=1,'Systematic review'!AR24=1,'Systematic review'!AS24=0,'Systematic review'!AT24=1),13,IF(AND('Systematic review'!AQ24=0,'Systematic review'!AR24=1,'Systematic review'!AS24=1,'Systematic review'!AT24=1),14,IF(AND('Systematic review'!AQ24=1,'Systematic review'!AR24=1,'Systematic review'!AS24=1,'Systematic review'!AT24=1),15,0))))))))))))))) -> 0 | L8: 0
A9: ='Systematic review'!A25 -> 0 | B9: ='Systematic review'!C25 -> ABISKO | C9: ='Systematic review'!D25 -> 1974 | D9: ='Systematic review'!E25 -> Bunnell and Dowling | E9: =IF('Systematic review'!F25=6,1,IF('Systematic review'!F25=1,2,IF('Systematic review'!F25=2,3,IF('Systematic review'!F25=7,4, IF(OR('Systematic review'!F25="1 to 7",'Systematic review'!F25="2 to 7", 'Systematic review'!F25="1& 7", 'Systematic review'!F25="1&7"),5))))) -> 3 | F9: =IF('Systematic review'!J25=3, "NL", "L") -> L | G9: =IF('Systematic review'!P25=1,1,(IF('Systematic review'!Q25=1,2,IF('Systematic review'!R25=1,3,IF('Systematic review'!V25=1,4,IF('Systematic review'!W25=1,5,IF('Systematic review'!X25=1,6,"No Data"))))))) -> 1 | H9: =IF('Systematic review'!AD25=1,1,IF(AND(OR('Systematic review'!AG25=1,'Systematic review'!AH25=1,'Systematic review'!AI25=1),'Systematic review'!AM25=1),2,IF(AND(OR('Systematic review'!AE25=1,'Systematic review'!AF25=1,'Systematic review'!AJ25=1,'Systematic review'!AK25=1,'Systematic review'!AL25=1),'Systematic review'!AM25=1),3, IF(AND(OR('Systematic review'!AG25=1,'Systematic review'!AH25=1,'Systematic review'!AI25=1),OR('Systematic review'!AN25=1, 'Systematic review'!AO25=1,'Systematic review'!AP25=1)),4, IF(AND(OR('Systematic review'!AE25=1,'Systematic review'!AF25=1,'Systematic review'!AJ25=1,'Systematic review'!AK25=1,'Systematic review'!AL25=1), OR('Systematic review'!AN25=1, 'Systematic review'!AO25=1,'Systematic review'!AP25=1)),5,IF(AND('Systematic review'!AC25=1,'Systematic review'!AE25=0,'Systematic review'!AF25=0,'Systematic review'!AG25=0,'Systematic review'!AH25=0,'Systematic review'!AI25=0,'Systematic review'!AJ25=0,'Systematic review'!AK25=0,'Systematic review'!AL25=0),6,"PB")))))) -> 1 | I9: =IF(AND('Systematic review'!AQ25=1,'Systematic review'!AR25=0,'Systematic review'!AS25=0,'Systematic review'!AT25=0),1,IF(AND('Systematic review'!AQ25=0,'Systematic review'!AR25=1,'Systematic review'!AS25=0,'Systematic review'!AT25=0),2,IF(AND('Systematic review'!AQ25=0,'Systematic review'!AR25=0,'Systematic review'!AS25=1,'Systematic review'!AT25=0),3,IF(AND('Systematic review'!AQ25=0,'Systematic review'!AR25=0,'Systematic review'!AS25=0,'Systematic review'!AT25=1),4,IF(AND('Systematic review'!AQ25=1,'Systematic review'!AR25=1,'Systematic review'!AS25=0,'Systematic review'!AT25=0),5,IF(AND('Systematic review'!AQ25=1,'Systematic review'!AR25=0,'Systematic review'!AS25=1,'Systematic review'!AT25=0),6,IF(AND('Systematic review'!AQ25=1,'Systematic review'!AR25=0,'Systematic review'!AS25=0,'Systematic review'!AT25=1),7,IF(AND('Systematic review'!AQ25=0,'Systematic review'!AR25=1,'Systematic review'!AS25=1,'Systematic review'!AT25=0),8,IF(AND('Systematic review'!AQ25=0,'Systematic review'!AR25=1,'Systematic review'!AS25=0,'Systematic review'!AT25=1),9,IF(AND('Systematic review'!AQ25=0,'Systematic review'!AR25=0,'Systematic review'!AS25=1,'Systematic review'!AT25=1),10,IF(AND('Systematic review'!AQ25=1,'Systematic review'!AR25=1,'Systematic review'!AS25=1,'Systematic review'!AT25=0),11, IF(AND('Systematic review'!AQ25=1,'Systematic review'!AR25=0,'Systematic review'!AS25=1,'Systematic review'!AT25=1),12, IF(AND('Systematic review'!AQ25=1,'Systematic review'!AR25=1,'Systematic review'!AS25=0,'Systematic review'!AT25=1),13,IF(AND('Systematic review'!AQ25=0,'Systematic review'!AR25=1,'Systematic review'!AS25=1,'Systematic review'!AT25=1),14,IF(AND('Systematic review'!AQ25=1,'Systematic review'!AR25=1,'Systematic review'!AS25=1,'Systematic review'!AT25=1),15,0))))))))))))))) -> 0 | L9: 0
