Workbook

Sheet Dataset EV1-R1
I1: AMPKα1fl/fl | L1: POMC Cre AMPKα1fl/fl
A2: Common name | B2: ID | C2: Abbrev Chains | D2: Adduct | E2: Mass (m/z) | F2: Retention time (s) | G2: log2FC | H2: p-Value | I2: MEAN | J2: SEM | K2: n | L2: MEAN | M2: SEM | N2: n
A3: C16 Cer | B3: Cer (34:2;O2) | C3: Cer 18:2;O2/16:0 | D3: [M+Formate]- | E3: 580.49464 | F3: 431.26583 | G3: -0.75875206 | H3: 0.081628624 | I3: =AVERAGE('RAW DATA log (x+1)'!D2:K2) -> 1.9715744 | J3: =STDEV('RAW DATA log (x+1)'!D2:L2)/SQRT(9) -> 0.080480079 | K3: 9 | L3: =AVERAGE('RAW DATA log (x+1)'!L2:S2) -> 1.7517949 | M3: =STDEV('RAW DATA log (x+1)'!L2:S2)/SQRT(9) -> 0.075216884 | N3: 9
A4: C16 Cer | B4: Cer (34:1;O2) | C4: Cer 18:1;O2/16:0 | D4: [M+Formate]- | E4: 582.5103 | F4: 472.83464 | G4: -0.72253395 | H4: 0.080195188 | I4: =AVERAGE('RAW DATA log (x+1)'!D3:K3) -> 2.5817367 | J4: =STDEV('RAW DATA log (x+1)'!D3:L3)/SQRT(9) -> 0.077796953 | K4: 9 | L4: =AVERAGE('RAW DATA log (x+1)'!L3:S3) -> 2.3822882 | M4: =STDEV('RAW DATA log (x+1)'!L3:S3)/SQRT(9) -> 0.061855396 | N4: 9
A5: C16 Cer | B5: Cer (34:0;O2) | C5: Cer 18:0;O2/16:0 | D5: [M+Formate]- | E5: 584.52595 | F5: 487.17603 | G5: -0.50593724 | H5: 0.12965447 | I5: =AVERAGE('RAW DATA log (x+1)'!D4:K4) -> 2.0893899 | J5: =STDEV('RAW DATA log (x+1)'!D4:L4)/SQRT(9) -> 0.058605227 | K5: 9 | L5: =AVERAGE('RAW DATA log (x+1)'!L4:S4) -> 1.9506126 | M5: =STDEV('RAW DATA log (x+1)'!L4:S4)/SQRT(9) -> 0.051656367 | N5: 9
A6: C18 Cer | B6: Cer (36:0;O2) | C6: Cer 18:0;O2/18:0 | D6: [M-H]- | E6: 566.5517 | F6: 530.59084 | G6: -0.51515723 | H6: 0.034968732 | I6: =AVERAGE('RAW DATA log (x+1)'!D5:K5) -> 1.3567937 | J6: =STDEV('RAW DATA log (x+1)'!D5:L5)/SQRT(9) -> 0.032591677 | K6: 9 | L6: =AVERAGE('RAW DATA log (x+1)'!L5:S5) -> 1.1926559 | M6: =STDEV('RAW DATA log (x+1)'!L5:S5)/SQRT(9) -> 0.054972725 | N6: 9
A7: C18 Cer | B7: Cer (36:2;O2) – Isomer 2 | C7: Cer 18:1;O2/18:1; Cer 18:2;O2/18:0 | D7: [M+Formate]- | E7: 608.52627 | F7: 499.88637 | G7: -0.76124616 | H7: 0.025299879 | I7: =AVERAGE('RAW DATA log (x+1)'!D6:K6) -> 2.1533986 | J7: =STDEV('RAW DATA log (x+1)'!D6:L6)/SQRT(9) -> 0.064945689 | K7: 9 | L7: =AVERAGE('RAW DATA log (x+1)'!L6:S6) -> 1.9261054 | M7: =STDEV('RAW DATA log (x+1)'!L6:S6)/SQRT(9) -> 0.060830751 | N7: 9
A8: C18 Cer | B8: Cer (36:2;O2) – Isomer 1 | C8: Cer 18:1;O2/18:1; Cer 18:2;O2/18:0 | D8: [M+Formate]- | E8: 608.52618 | F8: 485.00483 | G8: -0.7251844 | H8: 0.034861091 | I8: =AVERAGE('RAW DATA log (x+1)'!D7:K7) -> 3.0836919 | J8: =STDEV('RAW DATA log (x+1)'!D7:L7)/SQRT(9) -> 0.065002134 | K8: 9 | L8: =AVERAGE('RAW DATA log (x+1)'!L7:S7) -> 2.8661805 | M8: =STDEV('RAW DATA log (x+1)'!L7:S7)/SQRT(9) -> 0.061472074 | N8: 9
A9: C22 Cer | B9: Cer (40:2;O2) | C9: Cer 18:2;O2/22:0 | D9: [M+Formate]- | E9: 664.58888 | F9: 559.46997 | G9: -0.45787502 | H9: 0.037398245 | I9: =AVERAGE('RAW DATA log (x+1)'!D8:K8) -> 2.5588189 | J9: =STDEV('RAW DATA log (x+1)'!D8:L8)/SQRT(9) -> 0.042197864 | K9: 9 | L9: =AVERAGE('RAW DATA log (x+1)'!L8:S8) -> 2.4294771 | M9: =STDEV('RAW DATA log (x+1)'!L8:S8)/SQRT(9) -> 0.030310347 | N9: 9
A10: C22 Cer | B10: Cer (40:1;O2) | C10: Cer 18:1;O2/22:0 | D10: [M+Formate]- | E10: 666.60516 | F10: 595.52363 | G10: -0.37341173 | H10: 0.031754033 | I10: =AVERAGE('RAW DATA log (x+1)'!D9:K9) -> 2.9460951 | J10: =STDEV('RAW DATA log (x+1)'!D9:L9)/SQRT(9) -> 0.032150821 | K10: 9 | L10: =AVERAGE('RAW DATA log (x+1)'!L9:S9) -> 2.8378622 | M10: =STDEV('RAW DATA log (x+1)'!L9:S9)/SQRT(9) -> 0.026045302 | N10: 9
A11: C24 Cer | B11: Cer (d18:1;O2/24:0) | C11: Cer 18:1;O2/24:0 | D11: [M+H]+ | E11: 650.64504 | F11: 597.20311 | G11: 0.84563267 | H11: 0.042529089 | I11: =AVERAGE('RAW DATA log (x+1)'!D10:K10) -> 0.76003462 | J11: =STDEV('RAW DATA log (x+1)'!D10:L10)/SQRT(8) -> 0.05167654 | K11: 8 | L11: =AVERAGE('RAW DATA log (x+1)'!L10:S10) -> 0.96739695 | M11: =STDEV('RAW DATA log (x+1)'!L10:S10)/SQRT(9) -> 0.066743617 | N11: 9
A12: C25 Cer | B12: Cer (d18:1;O2/25:1) | C12: Cer 18:1;O2/25:1 | D12: [M+H]+ | E12: 662.6452 | F12: 609.21566 | G12: -0.43494702 | H12: 0.037327869 | I12: =AVERAGE('RAW DATA log (x+1)'!D11:K11) -> 1.1484064 | J12: =STDEV('RAW DATA log (x+1)'!D11:L11)/SQRT(8) -> 0.038937155 | K12: 8 | L12: =AVERAGE('RAW DATA log (x+1)'!L11:S11) -> 1.0380691 | M12: =STDEV('RAW DATA log (x+1)'!L11:S11)/SQRT(9) -> 0.013861122 | N12: 9

Sheet RAW DATA log (x+1)
A1: Common name | B1: ID | C1: Abbrev Chains | D1: 1WT | E1: 2WT | F1: 3WT | G1: 4WT | H1: 5WT | I1: 6WT | J1: 7WT | K1: 8WT | L1: 9KO | M1: 10KO | N1: 11KO | O1: 12KO | P1: 13KO | Q1: 14KO | R1: 15KO | S1: 16KO
A2: C16 Cer | B2: Cer (34:2;O2) | C2: Cer 18:2;O2/16:0 | D2: 2.0295401 | E2: 1.7176371 | F2: 2.1267679 | G2: 2.1880449 | H2: 2.2088821 | I2: 2.1569988 | J2: 1.7100201 | K2: 1.6347044 | L2: 1.7228971 | M2: 1.6289335 | N2: 1.7335235 | O2: 2.0709843 | P2: 1.323336 | Q2: 1.7792552 | R2: 1.7722654 | S2: 1.9831639
A3: C16 Cer | B3: Cer (34:1;O2) | C3: Cer 18:1;O2/16:0 | D3: 2.7015404 | E3: 2.3577545 | F3: 2.7940315 | G3: 2.7545963 | H3: 2.8017389 | I3: 2.6839075 | J3: 2.2854149 | K3: 2.2749094 | L3: 2.3318381 | M3: 2.2728798 | N3: 2.385746 | O3: 2.5727836 | P3: 2.0234473 | Q3: 2.3934327 | R3: 2.4611023 | S3: 2.6170756
A4: C16 Cer | B4: Cer (34:0;O2) | C4: Cer 18:0;O2/16:0 | D4: 2.1401723 | E4: 1.8632386 | F4: 2.1735121 | G4: 2.2441586 | H4: 2.2965302 | I4: 2.2465504 | J4: 1.8428368 | K4: 1.9081199 | L4: 2.0514079 | M4: 1.8574344 | N4: 2.0135497 | O4: 2.1045492 | P4: 1.6175379 | Q4: 1.9469874 | R4: 1.9600201 | S4: 2.0534141
A5: C18 Cer | B5: Cer (36:0;O2) | C5: Cer 18:0;O2/18:0 | D5: 1.529572 | E5: 1.2987096 | F5: 1.4073642 | G5: 1.3407626 | H5: 1.4671461 | I5: 1.2448904 | J5: 1.2387646 | K5: 1.3271398 | L5: 1.3244661 | M5: 1.0492508 | N5: 1.1869723 | O5: 1.4797421 | P5: 0.95592022 | Q5: 1.0893925 | R5: 1.2480712 | S5: 1.2074317
A6: C18 Cer | B6: Cer (36:2;O2) – Isomer 2 | C6: Cer 18:1;O2/18:1; Cer 18:2;O2/18:0 | D6: 2.3072398 | E6: 1.9752375 | F6: 2.3071584 | G6: 2.3031514 | H6: 2.2295265 | I6: 2.2556034 | J6: 1.8693216 | K6: 1.9799505 | L6: 1.862557 | M6: 1.8452994 | N6: 1.9402377 | O6: 2.1736346 | P6: 1.5576987 | Q6: 2.0349177 | R6: 1.9560238 | S6: 2.0384745
A7: C18 Cer | B7: Cer (36:2;O2) – Isomer 1 | C7: Cer 18:1;O2/18:1; Cer 18:2;O2/18:0 | D7: 3.1752553 | E7: 2.8918661 | F7: 3.2837827 | G7: 3.257163 | H7: 3.2063197 | I7: 3.1409435 | J7: 2.9311947 | K7: 2.78301 | L7: 2.830618 | M7: 2.8608673 | N7: 2.8456569 | O7: 3.1609443 | P7: 2.4984183 | Q7: 2.8847435 | R7: 2.8642521 | S7: 2.9839439
A8: C22 Cer | B8: Cer (40:2;O2) | C8: Cer 18:2;O2/22:0 | D8: 2.654061 | E8: 2.4006773 | F8: 2.6667307 | G8: 2.6508536 | H8: 2.6480845 | I8: 2.6383708 | J8: 2.4020912 | K8: 2.4096825 | L8: 2.4383035 | M8: 2.3902357 | N8: 2.485293 | O8: 2.5030576 | P8: 2.2300751 | Q8: 2.4127659 | R8: 2.4676535 | S8: 2.5084329
A9: C22 Cer | B9: Cer (40:1;O2) | C9: Cer 18:1;O2/22:0 | D9: 3.0418214 | E9: 2.8624753 | F9: 3.0339413 | G9: 3.012146 | H9: 3.0198428 | I9: 2.9753123 | J9: 2.8240476 | K9: 2.799174 | L9: 2.8841087 | M9: 2.8385063 | N9: 2.8804519 | O9: 2.9319448 | P9: 2.6729059 | Q9: 2.7902704 | R9: 2.8480939 | S9: 2.8566159
A10: C24 Cer | B10: Cer (d18:1;O2/24:0) | C10: Cer 18:1;O2/24:0 | D10: 0.68849972 | E10: 0.71308429 | F10: 0.96577802 | G10: 0.49887407 | I10: 0.79859553 | J10: 0.73444102 | K10: 0.92096965 | L10: 0.82459654 | M10: 1.0126169 | N10: 1.1234697 | O10: 0.59393392 | P10: 1.2584441 | Q10: 1.0237793 | R10: 1.0057681 | S10: 0.89656703
A11: C25 Cer | B11: Cer (d18:1;O2/25:1) | C11: Cer 18:1;O2/25:1 | D11: 1.2222449 | E11: 1.0566027 | F11: 1.3278898 | G11: 1.1838002 | I11: 1.1665372 | J11: 1.0273025 | K11: 1.0544676 | L11: 1.0231169 | M11: 1.0157207 | N11: 1.1375793 | O11: 1.0443902 | P11: 1.0167047 | Q11: 1.0282712 | R11: 1.0096805 | S11: 1.0290896
