Workbook

Sheet data
A1: STT | B1: Authors | C1: Author full names | D1: Author(s) ID | E1: Title | F1: Year | G1: Source title | H1: Volume | I1: Issue | J1: Art. No. | K1: Page start | L1: Page end | M1: Page count | N1: Cited by | O1: DOI | P1: Link | Q1: Affiliations | R1: Authors with affiliations | S1: Abstract | T1: Author Keywords | U1: Index Keywords | V1: Molecular Sequence Numbers | W1: Chemicals/CAS | X1: Tradenames | Y1: Manufacturers | Z1: Funding Details | AA1: Funding Texts | AB1: References | AC1: Correspondence Address | AD1: Editors | AE1: Publisher | AF1: Sponsors | AG1: Conference name | AH1: Conference date | AI1: Conference location | AJ1: Conference code | AK1: ISSN | AL1: ISBN | AM1: CODEN | AN1: PubMed ID | AO1: Language of Original Document | AP1: Abbreviated Source Title | AQ1: Document Type | AR1: Publication Stage | AS1: Open Access | AT1: Source | AU1: EID | AY1: Screening logs | AZ1: Reason for exclusion
A2: 1 | B2: Nosi; Wibowo, B.; Suryanegara, E.; Susanto, B.; Anggraeni, A. | C2: Nosi (60107199300); Wibowo, Budi (60137724900); Suryanegara, Erwin (60137335900); Susanto, Budi (60137336000); Anggraeni, Adilla (56820109200) | D2: 60107199300; 60137724900; 60137335900; 60137336000; 56820109200 | E2: Who truly drives sustainability? A critical review of stakeholder marketing practices in Indonesia (2022–2025) through a Systematic Bibliometric Review | F2: 2025 | G2: Multidisciplinary Science Journal | H2: 8 | I2: 4 | J2: e2026259 | M2: 0 | N2: 0 | O2: 10.31893/multiscience.2026259 | P2: https://www.scopus.com/inward/record.uri?eid=2-s2.0-105018499725&doi=10.31893%2Fmultiscience.2026259&partnerID=40&md5=b4ee3c1bc1ceddf6c3528481e0f81459 | Q2: Faculty of Economics and Business, Universitas Esa Unggul, Jakarta, Indonesia; Bina Nusantara University, Jakarta, Indonesia | R2: Nosi, null, Faculty of Economics and Business, Universitas Esa Unggul, Jakarta, Indonesia; Wibowo, Budi, Faculty of Economics and Business, Universitas Esa Unggul, Jakarta, Indonesia; Suryanegara, Erwin, Faculty of Economics and Business, Universitas Esa Unggul, Jakarta, Indonesia; Susanto, Budi, Faculty of Economics and Business, Universitas Esa Unggul, Jakarta, Indonesia; Anggraeni, Adilla, Bina Nusantara University, Jakarta, Indonesia | S2: This study aims to integrate and synthesize existing practices and dynamics of stakeholder engagement in Indonesia, particularly within the domains of business and sustainability. Employing a systematic literature review (SLR) method with guidance from the PRISMA protocol, we rigorously screened 134,694 documents and identified 15 relevant articles published between 2022 and 2025. The results reveal that effective stakeholder engagement is largely shaped by four key factors: strong governance, transparent and robust sustainability reporting, regulatory frameworks, and internal performance metrics such as profitability and risk management. The financial sector has emerged as a significant focus, especially in relation to social and Sharia-based accountability mechanisms. Furthermore, this study underscores the vital role of multistakeholder collaboration, the integration of local values, and the strategic use of digital technologies, such as blockchain and social media platforms, to build and sustain meaningful stakeholder relationships. Theoretically, this research aligns with the Triple Bottom Line framework, as well as Normative and Instrumental stakeholder theory perspectives, particularly within localized and religiously influenced contexts. From a practical standpoint, these insights can serve as valuable guidance for business leaders, practitioners, and policymakers in crafting inclusive, contextually relevant, and future-ready stakeholder engagement strategies. However, this study also highlights a notable gap in the current literature: the lack of empirical research on stakeholder engagement within the Micro, Small, and Medium Enterprises (MSME) sector in Indonesia. Additionally, it calls for methodological innovation in understanding complex social dynamics and cultural nuances that define stakeholder relationships in emerging markets. Ultimately, this review not only contributes to theoretical discourse on stakeholder engagement but also emphasizes the pressing need for more inclusive and context-sensitive approaches in future research and policy formulation in Indonesia’s rapidly evolving business landscape. © Copyright (c) 2025 The Authors. This work is licensed under a Creative Commons Attribution-NonCommercial-NoDerivatives 4.0 International License. | T2: governance; Indonesia; stakeholder engagement; sustainability; systematic literature review; triple bottom line | AB2: Amir, Muhammad Taufiq, Sustainability-oriented innovation through shaping the ecosystem; a case of an e-bus industry in Indonesia, Cogent Business and Management, 10, 2, (2023); Javed, Arshad, Challenges and opportunities, pp. 231-254, (2024); Diouf, Dominique, The quality of sustainability reports and impression management: A stakeholder perspective, Accounting, Auditing and Accountability Journal, 30, 3, pp. 643-667, (2017); Dwianika, Agustine, THE IMPACT OF SOCIAL IDENTITY ON TAX COMPLIANCE IN INDONESIA DURING THE PANDEMIC COVID-19, International Journal of Professional Business Review, 8, 4, (2023); Report on the Preliminary Fact Finding Mission Following the Accident at the Nuclear Fuel Processing Facility in Tokaimura Japan, (1999); Strategic Management A Stakeholder Approach, (1984); Consolidated Set of the Gri Standards Consolidated Set of the Gri Standards 2021, (2021); Diponegoro Journal of Accounting, (2017); Hapsari, Meri Indri, Managing Waqf Land in Indonesia: ANP-Driven Strategies, Pertanika Journal of Social Sciences and Humanities, 32, 1, pp. 325-343, (2024); Babolian Hendijani, R., Gay domestic tourists’ motivation: the case of Bali, Tourism and Management Studies, 19, 2, pp. 39-49, (2023) | AE2: Malque Publishing | AK2: 26751240 | AO2: English | AP2: Multidiscip. Sci. J. | AQ2: Article | AR2: Final | AS2: All Open Access; Gold Open Access | AT2: Scopus | AU2: 2-s2.0-105018499725 | AY2: Include
A3: 2 | B3: Chen, W.; Fu, Y.; Li, M.; Huang, G.Q.; Zhong, R.A.Y.Y. | C3: Chen, Wei (60194868500); Fu, Yelin (56123565300); Li, Ming (57196402801); Huang, George Q. (59748979000); Zhong, Ray A.Y. (60193598200) | D3: 60194868500; 56123565300; 57196402801; 59748979000; 60193598200 | E3: Petri net-based data authenticity analytics for ESG disclosure | F3: 2025 | G3: Computers and Industrial Engineering | H3: 212 | J3: 111691 | M3: 0 | N3: 0 | O3: 10.1016/j.cie.2025.111691 | P3: https://www.scopus.com/inward/record.uri?eid=2-s2.0-105021884382&doi=10.1016%2Fj.cie.2025.111691&partnerID=40&md5=92235ce61363b4a5b03be93af53cf9a3 | Q3: College of Economics, Shenzhen University, Shenzhen, Guangdong, China; Department of Data and Systems Engineering, The University of Hong Kong, Hong Kong, Hong Kong; Department of Industrial and Systems Engineering, The Hong Kong Polytechnic University, Hong Kong, Hong Kong, Hong Kong | R3: Chen, Wei, College of Economics, Shenzhen University, Shenzhen, Guangdong, China; Fu, Yelin, College of Economics, Shenzhen University, Shenzhen, Guangdong, China; Li, Ming, Department of Industrial and Systems Engineering, The Hong Kong Polytechnic University, Hong Kong, Hong Kong, Hong Kong; Huang, George Q., Department of Industrial and Systems Engineering, The Hong Kong Polytechnic University, Hong Kong, Hong Kong, Hong Kong; Zhong, Ray A.Y., Department of Data and Systems Engineering, The University of Hong Kong, Hong Kong, Hong Kong | S3: Since the promotion of sustainable investment and development, academia and practitioners have shown considerable interest in environmental, social, and governance (ESG) disclosure. Nonetheless, the authenticity of data in ESG disclosure remains an unresolved and critical issue. This study proposes a new method based on Petri Net to address the aforementioned problem. Firstly, we designed a novel Smart ESG Disclosure System (S-ESG), harnessing the power of Internet of Things (IoT) and blockchain. The seamless integration of IoT and blockchain technology not only simplifies the automatic data gathering and transmission in the ESG disclosure process, but also ensures the authenticity, consistency, and transparency of data. Secondly, within the S-ESG, a dual-layer data authenticity verification process is crafted utilizing the nested Petri net. This innovative approach facilitates event modeling and verifies the authenticity of the data associated with these events. Subsequently, based on the nested Petri net framework, this study pioneers the development of data authenticity analytics algorithms encompassing spatial–temporal analytics and authenticity score calculation. Furthermore, a simulated experiment is conducted to showcase the practical deployment of the S-ESG and assess the effectiveness of the proposed solution. This study employs a controlled variable approach coupled with a systematic sensitivity analysis, evaluating 243 variable combinations. Experimental validation identifies five key parameters that exhibit statistically significant correlations with verification accuracy, providing empirically supported deployment guidelines for production environments. The numerical results demonstrate that each algorithm achieves AUC values ranging from 0.91 to 0.94. The study concludes by outlining future endeavors, including algorithm enhancements and field experiments in manufacturing factories. Anticipated to be beneficial for academia and industry, this research aims to facilitate the application of the solution in analogous situations and spark innovative thoughts. © 2025 Elsevier Ltd | T3: Blockchain; Data authenticity; ESG disclosure; IoT; Petri net; Spatial-temporal analytics | U3: Authentication; Industrial research; Internet of things; Investments; Sensitivity analysis; Sustainable development; Block-chain; Critical issues; Data authenticity; Data gathering; Environmental, social, and governance disclosure; Power; Seamless integration; Spatial temporals; Spatial-temporal analytic; Sustainable investments; Petri nets | Z3: Innovation and Technology Fund, ITF; (P0051281); (ITT/024/24LP); Ministry of Education, MOE, (25C10590021); Ministry of Education, MOE; Research Grants Council, University Grants Committee, (PolyU15208824); Research Grants Council, University Grants Committee; (GD25CYJ67); National Natural Science Foundation of China, NNSFC, (72101098, 72531007); National Natural Science Foundation of China, NNSFC | AA3: We would like to express our gratitude to the Editor-in-Chief, Executive Editor and the anonymous review team for helpful comments on earlier drafts of this paper. This research is financially supported by the National Natural Science Foundation of China (Nos. 72101098 & 72531007), General Project of Humanities and Social Sciences Research of the Ministry of Education (No.25C10590021), Guangdong Philosophy and Social Sciences Planning General Project (No. GD25CYJ67), Hong Kong Public Sector Trial Scheme - Innovation and Technology Fund (ITF) Project (PSTS-ITF) (No. ITT/024/24LP), the Research Grants Council of the Hong Kong Special Administrative Region, China (Project No. No.T32-707/22-N, No. PolyU15208824 and No.PolyU15215325) and the RCDTT grant of PolyU, China (No. P0051281). | AB3: Aljawarneh, Shadi A., G-SPAMINE: An approach to discover temporal association patterns and trends in internet of things, Future Generation Computer Systems, 74, pp. 430-443, (2017); Almubarak, Wadhaah Ibrahim, Unveiling the Connection among ESG, Earnings Management, and Financial Distress: Insights from an Emerging Market, Sustainability (Switzerland), 15, 16, (2023); Ardagna, Claudio Agostino, From trustworthy data to trustworthy IoT: A data collection methodology based on blockchain, ACM Transactions on Cyber-Physical Systems, 5, 1, (2021); Cavone, Graziana, A Survey on Petri Net Models for Freight Logistics and Transportation Systems, IEEE Transactions on Intelligent Transportation Systems, 19, 6, pp. 1795-1813, (2018); Chen, Hefeng, On a maximally permissive deadlock prevention policy for automated manufacturing systems by using resource-oriented Petri nets, ISA Transactions, 89, pp. 67-76, (2019); Chouaibi, Salim, The effect of social and ethical practices on environmental disclosure: evidence from an international ESG data, Corporate Governance (Bingley), 21, 7, pp. 1293-1317, (2021); Contador, José Celso, Flexibility in the Brazilian Industry 4.0: Challenges and Opportunities, Global Journal of Flexible Systems Management, 21, pp. 15-31, (2020); Security and Privacy, (2020); Ghasemieh, Hamed, Survivability analysis of a sewage treatment facility using hybrid Petri nets, Performance Evaluation, 97, pp. 36-56, (2016); Ghosh, Soumita, Impact assessment of reliability of phasor measurement unit on situational awareness using generalized stochastic Petri nets, International Journal of Electrical Power and Energy Systems, 93, pp. 75-83, (2017) | AC3: Y. Fu; College of Economics, Shenzhen University, Shenzhen, China; email: msylfu@gmail.com | AE3: Elsevier Ltd | AK3: 03608352 | AM3: CINDD | AO3: English | AP3: Comput Ind Eng | AQ3: Article | AR3: Final | AT3: Scopus | AU3: 2-s2.0-105021884382 | AY3: Include
A4: 3 | E4: 13th World Conference on Information Systems and Technologies, WorldCIST 2025 | F4: 2025 | G4: Lecture Notes in Networks and Systems | H4: 1514 LNNS | M4: 444 | N4: 0 | P4: https://www.scopus.com/inward/record.uri?eid=2-s2.0-105023058834&partnerID=40&md5=507ae4189212d68385476ef2bd01ffc5 | S4: The proceedings contain 35 papers. The special focus in this conference is on Information Systems and Technologies. The topics include: Analysis of the Relationship Between Cases of Arboviruses and Climatic Variables in Cities in the State of Paraíba; deep Learning Model to Predict University Student’s Academic Performance; artificial Intelligence Enhanced Metaheuristic Algorithms for Robust Cyber Attack Mitigation in IoT Sensor Networks; Optimizing MANET Intrusion Detection Through VAE-Based Dimensionality Reduction: A Trade-Off Analysis Between Accuracy and Resource Efficiency; transformations in Business Models Caused by Connected Cars: A Systematic Literature Review; Simulation of a Drone with Matlab’s UAV Scenario Designer Toolbox in Single-Phase Electrical Distribution Networks in the Community of Pania, Canton Santiago, Province of Morona Santiago, Ecuador; Telecom Threats in Web Security: An AI-Based Detection Model for Mobile Flaws; stordy: Efficient Data Retrieval and Storage for Appendable-Block Blockchains; light Fidelity (Li-Fi): Wireless Communication and Security; large Language Models for Message Mediation in Multi-agent Networks Environments; VANET’s Relay Vehicle Ranking for Critical Transit Events Message Transmission Using Analytical Hierarchy Process; scoring and Ranking Serverless Providers Using Multicriteria Decision Method; collaborative Group of Properties Towards the Design of Privacy-Friendly Social Networks; investigating the Implementation of Data Protection Laws in Brazilian Game Companies: An Initial Study; Securing QR Codes for Data Transfer Between Applications; third-Party Data Leaks on the Web: Notes on Personally Identifiable Information; third-Party Data Leaks and Privacy Compliance on Finnish Government Websites; AI for Deception Detection: Techniques, Challenges, and Ethical Considerations; making Technical Terms Accessible in Sign Language; comparing Business Intelligence Tools for Optimizing Sustainability Reporting. | AD4: Rocha, A.; Adeli, H.; Poniszewska-Maranda, A.; Moreira, F.; Bianchi, I. | AE4: Springer Science and Business Media Deutschland GmbH | AG4: 13th World Conference on Information Systems and Technologies, WorldCIST 2025 | AH4: 2025-04-15 through 2025-04-17 | AI4: Florianopolis | AJ4: 341409 | AK4: 23673370; 23673389 | AL4: 9789819652372; 9783031931055; 9789819662968; 9783031999963; 9783031950162; 9783031947698; 9783032004406; 9783031910074; 9783032066671; 9783031926105 | AO4: English | AP4: Lect. Notes Networks Syst. | AQ4: Conference review | AR4: Final | AT4: Scopus | AU4: 2-s2.0-105023058834 | AY4: Exclude | AZ4: Only selected Articles, Reviews, and Conference papers
A5: 4 | B5: Niembro-García, I.J.; Magaña Ocaña, O.F. | C5: Niembro-García, Isabel Joaquina (60150768200); Magaña Ocaña, Osvaldo Francisco (60150517200) | D5: 60150768200; 60150517200 | E5: Redefining Care: Hospitals’ Pivotal Role in Sustainable Development | F5: 2025 | G5: Studies in Computational Intelligence | H5: 1218 | K5: 437 | L5: 459 | M5: 0 | N5: 0 | O5: 10.1007/978-3-031-96328-5_18 | P5: https://www.scopus.com/inward/record.uri?eid=2-s2.0-105019369096&doi=10.1007%2F978-3-031-96328-5_18&partnerID=40&md5=f353cdbba0b8a0393de1dfb444fddca6 | Q5: Faculty of Engineering, Universidad Panamericana, Mexico City, Mexico | R5: Niembro-García, Isabel Joaquina, Faculty of Engineering, Universidad Panamericana, Mexico City, Mexico; Magaña Ocaña, Osvaldo Francisco, Faculty of Engineering, Universidad Panamericana, Mexico City, Mexico | S5: This chapter explores the evolution of hospitals from ancient institutions of healing into modern pillars of healthcare—now facing growing ethical and environmental contradictions. While designed to preserve life, hospitals also contribute to rising emissions, resource waste, and deepening health inequities, directly harming people’s health and well-being. This chapter critically examines that paradox, tracing the historical role of hospitals and the industrial forces that have transformed them into complex—and often unsustainable—institutions. It presents a bold vision for their reinvention: one driven by Artificial Intelligence (AI), Machine Learning (ML), IoT, blockchain, and sustainable cloud computing. These technologies equip hospitals with the tools to monitor their environmental footprint, optimize operations, and collaborate globally through standardized, transparent data systems. Ultimately, this chapter calls for a technological transformation in sustainability reporting, positioning hospitals not only as providers of high-quality care, but as pioneers of environmental responsibility and ethical governance in the healthcare sector. © The Author(s), under exclusive license to Springer Nature Switzerland AG 2026. | AB5: undefined, (2014); Acronis Com; Alshqaqeeq, Fadhel, Quantifying hospital services by carbon footprint: A systematic literature review of patient care alternatives, Resources, Conservation and Recycling, 154, (2020); State and Federal Lobbying Spending Tops 46 Billion After Federal Lobbying Spending Broke Records in 2023, (2025); Opensecrets Org, (2024); undefined; Future Healthc J, (2021); Huella De Carbono En El Hospital Base De Puerto Montt, (2018); Barratt, Alexandra L., Overdiagnosis is increasing the carbon footprint of healthcare, BMJ, 375, (2021); Berwick, Donald M., Eliminating waste in US health care, JAMA, 307, 14, pp. 1513-1516, (2012) | AC5: I.J. Niembro-García; Universidad Panamericana, Facultad de Ingeniería, Ciudad de México, Mexico; email: iniembro@up.edu.mx | AE5: Springer Science and Business Media Deutschland GmbH | AK5: 1860949X; 18609503 | AL5: 9783031963100; 9783642034510; 9783540768029; 9783642364051; 9783031852510; 9783540959717; 9783031534447; 9783642054402; 9783642327254; 9783030949099 | AO5: English | AP5: Stud. Comput. Intell. | AQ5: Book chapter | AR5: Final | AT5: Scopus | AU5: 2-s2.0-105019369096 | AY5: Exclude | AZ5: Only selected Articles, Reviews, and Conference papers
A6: 5 | E6: 23rd International Conference on Business Process Management, BPM 2025 | F6: 2025 | G6: Lecture Notes in Computer Science | H6: 16044 LNCS | M6: 1050 | N6: 0 | P6: https://www.scopus.com/inward/record.uri?eid=2-s2.0-105015786742&partnerID=40&md5=e67fb53cacb18afe9c05f17626c48d4a | S6: The proceedings contain 65 papers. The special focus in this conference is on Business Process Management. The topics include: AI-Driven BPM: Dehumanization of the Firm?; agentic Business Process Management: Practitioner Perspectives on Agent Governance in Business Processes; motivational Process Mining: A Conceptualization by Adding Self-determination Theory; Anchoring ESG Goals in Business Processes: Engagement Patterns in Polish Organizations; Bridging BPM and Sustainability Journeys in Navigating Sustainability Paradoxical Tensions; Operationalizing Responsible BPM: A Method for Value-Based Process Redesign; designing Business Processes for Good: A Canvas-Based Framework for Routinized Benevolence; ReDPT-CT: Designing Responsible Digital Process Twins for Clinical Trials; measuring Moral Performance: A Framework for Ethical Business Process Management; KRAFT – A Knowledge-Graph-Based Resource Allocation Framework; An RPA-BPMS Integration Framework Leveraging RPA as a Resource; towards Automated Handling of Object State Exceptions in Smart Contracts; hiProX: Highly Efficient Process Execution on IoT and Edge Devices; leveraging Counterfactuals for Prescriptive Process Analytics; privacy and Confidentiality Requirements Engineering for Process Data; Beyond Logs: AI’s Internal Representations as the New Process Evidence; The Future of RPA in the Context of Automation Platforms; multimodal Zero-Shot Activity Recognition for Process Mining of Robotic Systems; time Series-Based Segmentation of Noisy User Interaction Logs for Robotic Process Automation; Educating for Next-Generation BPM: A PBL-Process Mapping Blueprint Anchored in the Drifts of the Digital Era; Project-Based Learning in BPM for Interdisciplinary Groups — Teachers’ Experience; teaching Process Redesign with a Competition; Generative AI’s Aid in Business Process Modeling Instructional Design: A Case Study; Revisiting BPMN Assignments with AI in Mind: Insights from Experiments with Large Language Models in Process Modeling Education; Comparing the Design Space of Explorative BPM: MBAs Versus GenAI; Building BPM Talent in Emerging Markets: A 10-Year Curriculum Development Journey. | AD6: Senderovich, A.; Cabanillas, C.; Vanderfeesten, I.; A. Reijers, H. | AE6: Springer Science and Business Media Deutschland GmbH | AF6: Celonis as our platinum sponsor#SAP Signavio and Process Science as gold sponsors | AG6: 23rd International Conference on Business Process Management, BPM 2025 | AH6: 2025-08-31 through 2025-09-05 | AI6: Seville | AJ6: 337889 | AK6: 03029743; 16113349 | AL6: 9789819698936; 9789819698042; 9789819698110; 9789819698905; 9783032004949; 9789819512324; 9783032026019; 9783032008909; 9783031915802; 9789819698141 | AO6: English | AP6: Lect. Notes Comput. Sci. | AQ6: Conference review | AR6: Final | AT6: Scopus | AU6: 2-s2.0-105015786742 | AY6: Exclude | AZ6: Only selected Articles, Reviews, and Conference papers
A7: 6 | E7: 23rd International Conference on Business Process Management, BPM 2025 | F7: 2025 | G7: Lecture Notes in Business Information Processing | H7: 565 LNBIP | M7: 1050 | N7: 0 | P7: https://www.scopus.com/inward/record.uri?eid=2-s2.0-105015738455&partnerID=40&md5=73c8bdd1a454f451cd0abd83b1484411 | S7: The proceedings contain 65 papers. The special focus in this conference is on Business Process Management. The topics include: AI-Driven BPM: Dehumanization of the Firm?; agentic Business Process Management: Practitioner Perspectives on Agent Governance in Business Processes; motivational Process Mining: A Conceptualization by Adding Self-determination Theory; Anchoring ESG Goals in Business Processes: Engagement Patterns in Polish Organizations; Bridging BPM and Sustainability Journeys in Navigating Sustainability Paradoxical Tensions; Operationalizing Responsible BPM: A Method for Value-Based Process Redesign; designing Business Processes for Good: A Canvas-Based Framework for Routinized Benevolence; ReDPT-CT: Designing Responsible Digital Process Twins for Clinical Trials; measuring Moral Performance: A Framework for Ethical Business Process Management; KRAFT – A Knowledge-Graph-Based Resource Allocation Framework; An RPA-BPMS Integration Framework Leveraging RPA as a Resource; towards Automated Handling of Object State Exceptions in Smart Contracts; hiProX: Highly Efficient Process Execution on IoT and Edge Devices; leveraging Counterfactuals for Prescriptive Process Analytics; privacy and Confidentiality Requirements Engineering for Process Data; Beyond Logs: AI’s Internal Representations as the New Process Evidence; The Future of RPA in the Context of Automation Platforms; multimodal Zero-Shot Activity Recognition for Process Mining of Robotic Systems; time Series-Based Segmentation of Noisy User Interaction Logs for Robotic Process Automation; Educating for Next-Generation BPM: A PBL-Process Mapping Blueprint Anchored in the Drifts of the Digital Era; Project-Based Learning in BPM for Interdisciplinary Groups — Teachers’ Experience; teaching Process Redesign with a Competition; Generative AI’s Aid in Business Process Modeling Instructional Design: A Case Study; Revisiting BPMN Assignments with AI in Mind: Insights from Experiments with Large Language Models in Process Modeling Education; Comparing the Design Space of Explorative BPM: MBAs Versus GenAI; Building BPM Talent in Emerging Markets: A 10-Year Curriculum Development Journey. | AD7: ER, M.; Gal, A.; Grisold, T.; Santoro, F.; Weske, M.; Dijkman, R.M.; Karastoyanova, D.; Aysolmaz, B.; Bandara, W.; Revoredo, K. | AE7: Springer Science and Business Media Deutschland GmbH | AG7: 23rd International Conference on Business Process Management, BPM 2025 | AH7: 2025-08-31 through 2025-09-05 | AI7: Seville | AJ7: 337889 | AK7: 18651348; 18651356 | AL7: 9783032045119; 9783642357015; 9783030057664; 9783031602597; 9783662471562; 9783319741604; 9783031616563; 9783031161674; 3642018556; 9783642280818 | AO7: English | AP7: Lect. Notes Bus. Inf. Process. | AQ7: Conference review | AR7: Final | AT7: Scopus | AU7: 2-s2.0-105015738455 | AY7: Exclude | AZ7: Only selected Articles, Reviews, and Conference papers
A8: 7 | B8: Roy, J.K.; Vasa, L. | C8: Roy, Jewel Kumar (57211688989); Vasa, László (16317891500) | D8: 57211688989; 16317891500 | E8: Financial technology and environmental, social and governance in sustainable finance: a bibliometric and thematic content analysis | F8: 2025 | G8: Discover Sustainability | H8: 6 | I8: 1 | J8: 148 | M8: 0 | N8: 14 | O8: 10.1007/s43621-025-00934-2 | P8: https://www.scopus.com/inward/record.uri?eid=2-s2.0-85219598682&doi=10.1007%2Fs43621-025-00934-2&partnerID=40&md5=c95d5dafdd83758d7fedc35ff35190f2 | Q8: Doctoral School of Regional and Business Administration Sciences, Széchenyi István University, Gyor, Gyor-Moson-Sopron, Hungary; Department of Finance and Banking, Jatiya Kabi Kazi Nazrul Islam University, Trishal, Mymensingh, Bangladesh; Faculty of Economics, Széchenyi István University, Gyor, Gyor-Moson-Sopron, Hungary | R8: Roy, Jewel Kumar, Doctoral School of Regional and Business Administration Sciences, Széchenyi István University, Gyor, Gyor-Moson-Sopron, Hungary, Department of Finance and Banking, Jatiya Kabi Kazi Nazrul Islam University, Trishal, Mymensingh, Bangladesh; Vasa, László, Faculty of Economics, Széchenyi István University, Gyor, Gyor-Moson-Sopron, Hungary | S8: The integration of Environmental, Social, and Governance (ESG) principles with Financial Technology (Fintech) has emerged as a pivotal mechanism for advancing sustainable finance. This study investigates the interplay between ESG and Fintech through bibliometric and thematic content analysis to uncover key research trends, thematic clusters, and existing knowledge gaps in this dynamic field. The research problem focuses on how FinTech innovations can support ESG-driven initiatives such as corporate social responsibility (CSR), financial inclusion, and sustainable development while addressing challenges like performance metrics and governance issues. By mapping the research landscape, the study identifies significant contributions from scholars, notably in China and the USA, and explores prominent themes, including the role of Fintech in ESG disclosures, corporate governance, and sustainability. Emerging technologies like AI and blockchain are also highlighted for their impact on ESG reporting. The findings reveal exponential academic interest in this domain but underscore critical industrial challenges, such as the absence of standardized ESG metrics and the limited application of Fintech in addressing sustainability issues. The study concludes by offering future research directions aimed at bridging these gaps and emphasizing the transformative potential of Fintech in driving sustainability across the financial sector. © The Author(s) 2025. | T8: Artificial intelligence; Bibliometric analysis; Environmental, social, and governance (ESG); Financial technology (Fintech); Sustainability; Sustainable finance; Thematic content analysis | U8: artificial intelligence; corporate social responsibility; environmental economics; financial system; sustainability; sustainable development; China; United States | Z8: Széchenyi István Egyetem, SZE | AA8: Open access funding provided by Sz\u00E9chenyi Istv\u00E1n University (SZE). | AB8: Ali, Shoaib, FinTech-powered integration: Navigating the static and dynamic connectedness between GCC equity markets and renewable energy cryptocurrencies, Resources Policy, 89, (2024); Arner, Douglas W., Sustainability, FinTech and Financial Inclusion, European Business Organization Law Review, 21, 1, pp. 7-35, (2020); Ashta, Arvind, How Can Fintech Companies Get Involved in the Environment?, Sustainability (Switzerland), 15, 13, (2023); Atayah, Osama F., Sustainability, market performance and FinTech firms, Meditari Accountancy Research, 32, 2, pp. 317-345, (2024); Bittini, Javier Sada, Business Models and Sustainability Plans in the FinTech, InsurTech, and PropTech Industry: Evidence from Spain, Sustainability (Switzerland), 14, 19, (2022); Douglas J. Cumming, Douglas J., ESG and crowdfunding platforms, Journal of Business Venturing, 39, 1, (2024); Deng, Xiang, FinTech and sustainable development: Evidence from China based on P2P data, Sustainability (Switzerland), 11, 22, (2019); Dicuonzo, Grazia, ESG, governance variables and Fintech: An empirical analysis, Research in International Business and Finance, 69, (2024); Ding, Jinxiu, How does fintech prompt corporations toward ESG sustainable development? Evidence from China, Energy Economics, 131, (2024); Dong, Xueqin, Exploring ripple effect of oil price, fintech, and financial stress on clean energy stocks: A global perspective, Resources Policy, 89, (2024) | AC8: J.K. Roy; Doctoral School of Regional and Business Administration Sciences, Széchenyi István University, Győr, 9026, Hungary; email: roy.jewel.kumar@sze.hu | AE8: Springer Nature | AK8: 26629984 | AO8: English | AP8: Discov Sustain | AQ8: Review | AR8: Final | AS8: All Open Access; Gold Open Access | AT8: Scopus | AU8: 2-s2.0-85219598682 | AY8: Include
A9: 8 | B9: Alamsyah, A.; Ramdhani, S.F.N. | C9: Alamsyah, Andry (55932829400); Ramdhani, Said Fikri Naufal (60170910200) | D9: 55932829400; 60170910200 | E9: How can a plastic credit system improve traceability and verifiability in plastic waste management? | F9: 2025 | G9: Waste Management Bulletin | H9: 3 | I9: 4 | J9: 100250 | M9: 0 | N9: 0 | O9: 10.1016/j.wmb.2025.100250 | P9: https://www.scopus.com/inward/record.uri?eid=2-s2.0-105020911614&doi=10.1016%2Fj.wmb.2025.100250&partnerID=40&md5=5ac70a37ec2e7611d267d309ae243cb8 | Q9: School of Economics and Business, Telkom University, Bandung, West Java, Indonesia | R9: Alamsyah, Andry, School of Economics and Business, Telkom University, Bandung, West Java, Indonesia; Ramdhani, Said Fikri Naufal, School of Economics and Business, Telkom University, Bandung, West Java, Indonesia | S9: Plastic credit schemes are increasingly adopted to mitigate plastic pollution, yet existing systems remain centralized, opaque, and prone to double counting and fraud. This study proposes and validates a plastic credit system that leverages blockchain technology aimed at enhancing transparency, traceability, and accountability in plastic recovery efforts. A modular three-layer architecture was implemented, comprising a user interaction layer, a blockchain execution layer, and a utility layer for metadata and analytics integration. The system employs two smart contracts on the Polygon Proof-of-Stake (PoS) mainnet using Ethereum standards: ERC-20 for fungible tokenization of plastic credits and ERC-721 for non-fungible certificate issuance. Functional testing confirmed successful execution of token lifecycle operations. Stress testing across 5000 sequential transactions yielded stable performance, with average confirmation times of 5.29 s for fungible token operations and 5.59 s for non-fungible processes. A decentralized application (DApp) was developed to support role-based interaction, credit traceability, and certificate validation. User evaluation returned a high usability score (86.4%), while benchmarking against existing platforms demonstrated improved auditability, automation, and stakeholder control. These findings indicate that blockchain infrastructure can enable decentralized, tamper-resistant plastic credit systems. The proposed model provides a scalable foundation for Extended Producer Responsibility (EPR) compliance and plastic waste traceability, which could potentially support the credibility of Environmental, Social, and Governance (ESG) reporting and supporting circular economy transitions across diverse policy and economic contexts. © 2025 The Authors | T9: Blockchain; Circular economy; Extended producer responsibility; Plastic credit; Sustainable waste management; Traceability | AB9: Alam, Samina, Selection of Waste to Energy Technologies for Municipal Solid Waste Management—Towards Achieving Sustainable Development Goals, Sustainability (Switzerland), 14, 19, (2022); Alamsyah, Andry, Blockchain-Based Traceability System to Support the Indonesian Halal Supply Chain Ecosystem, Economies, 10, 6, (2022); Alamsyah, Andry, Unraveling the crypto market: A journey into decentralized finance transaction network, Digital Business, 4, 1, (2024); Alamsyah, Andry, Transaction Network Structural Shift under Crisis: Macro and Micro Perspectives, Economies, 10, 3, (2022); Alamsyah, Andry, Blockchain traceability model in the coffee industry, Journal of Open Innovation: Technology, Market, and Complexity, 9, 1, (2023); Ante, Lennart, Blockchain-based fan tokens as a strategic resource for sports clubs: Opportunities, challenges, and a stakeholder-oriented model, Digital Business, 5, 2, (2025); Arumdani, Indah Sekar, MSW handling of top 5 leading waste-producing countries in Southeast Asia, IOP Conference Series: Earth and Environmental Science, 896, 1, (2021); Asmawi, Aziah, Development of BlockScholar as an Educational Mobile Application on Blockchain Technology, Journal of Advanced Research in Applied Sciences and Engineering Technology, 34, 1, pp. 15-23, (2024); undefined, (2021); Bhatt, Ganesh Datt, Blockchain's role in environmental sustainability: Bibliometric insights from scopus, Green Technologies and Sustainability, 3, 4, (2025) | AC9: A. Alamsyah; School of Economics and Business, Telkom University, Bandung, Indonesia; email: andrya@telkomuniversity.ac.id | AE9: Elsevier B.V. | AK9: 29497507 | AO9: English | AP9: Waste. Manag. Bull. | AQ9: Article | AR9: Final | AS9: All Open Access; Gold Open Access; Green Accepted Open Access; Green Open Access | AT9: Scopus | AU9: 2-s2.0-105020911614 | AY9: Include
A10: 9 | B10: Hoque, M.E.; Khalfaoui, R.; Leccadito, A.; Mejri, S. | C10: Hoque, Mohammad Enamul (57237515900); Khalfaoui, Rabeh (12646573300); Leccadito, Arturo (15050523900); Mejri, Sami (58341113000) | D10: 57237515900; 12646573300; 15050523900; 58341113000 | E10: Green and innovative assets in times of uncertainty: A portfolio perspective for environmental financial management | F10: 2025 | G10: Journal of Environmental Management | H10: 395 | J10: 127746 | M10: 0 | N10: 0 | O10: 10.1016/j.jenvman.2025.127746 | P10: https://www.scopus.com/inward/record.uri?eid=2-s2.0-105020014052&doi=10.1016%2Fj.jenvman.2025.127746&partnerID=40&md5=cb9de006d9d29965589a91027be53075 | Q10: BRAC University, Dhaka, Bangladesh; Universitas Negeri Padang, Padang, West Sumatra, Indonesia; Université de Lorraine, Nancy, Grand Est, France; Department of Economics, Università della Calabria, Rende, CS, Italy; UCLouvain, Louvain-la-Neuve, WBR, Belgium; Faculty of Management and Economics, Université de Tunis El Manar, Tunis, Tunis, Tunisia | R10: Hoque, Mohammad Enamul, BRAC University, Dhaka, Bangladesh, Universitas Negeri Padang, Padang, West Sumatra, Indonesia; Khalfaoui, Rabeh, Université de Lorraine, Nancy, Grand Est, France; Leccadito, Arturo, Department of Economics, Università della Calabria, Rende, CS, Italy, UCLouvain, Louvain-la-Neuve, WBR, Belgium; Mejri, Sami, Faculty of Management and Economics, Université de Tunis El Manar, Tunis, Tunis, Tunisia | S10: Sustainability and innovative assets, including technology stocks, blockchain- and AI-related investments are increasingly emerging in the contemporary investment landscape. Despite their growing importance, the interconnectedness and risk dynamics between these asset classes, especially under varying market conditions, remain underexplored. Combining quantile-on-quantile connectedness analysis with quantile-on-quantile regression techniques and incorporating global uncertainty factors such as the VIX and Financial Stress Index (FSI), this study investigates the market state-dependent and tail risk connectivity between five sustainability and seven innovative assets. Additionally, the DCC GARCH R2 decomposed connectedness approach and multivariate portfolio analysis are employed to provide comprehensive insights into spillover effects and optimal allocation strategies. A strong connectedness between sustainability and most innovative assets is found, particularly during extreme market conditions. Notably, the Blockchain index exhibits unique resilience and lower integration with ESG indices, often acting as a net transmitter of shocks, especially during market downturns. The study also reveals that financial stress and stock market volatility significantly moderate these relationships, highlighting the importance of considering such factors for robust investment strategies. The findings suggest that sustainability assets can serve as safe havens, while blockchain assets may offer diversification benefits due to their lower interconnectedness with ESG markets. This research underscores the need for dynamic asset allocation strategies that adapt to evolving market conditions and interconnectedness. © 2025 Elsevier Ltd | T10: Bivariate quantile on quantile connectedness; DCC GARCH R2 decomposed connectedness; Innovative assets; Market connectedness; Multivariate quantile on quantile regression; Sustainability assets; Tail risk | U10: Blockchain; Commerce; Electronic trading; Environmental management; Financial markets; Investments; Multivariant analysis; Regression analysis; Risk assessment; Strategic planning; Uncertainty analysis; Bivariate; Bivariate quantile on quantile connectedness; Block-chain; DCC GARCH R2 decomposed connectedness; Innovative asset; Market connectedness; Multivariate quantile on quantile regression; Quantile regression; Sustainability asset; Tail risk; Sustainable development; connectivity; management practice; market conditions; stock market; sustainability; Article; artificial intelligence; blockchain; controlled study; coronavirus disease 2019; endogenous variable; environmental economics; environmental management; exogenous variable; financial stress; human; hypothesis; information asymmetry; information technology; Israel; kernel method; nanotechnology; omitted variable bias; Palestine; power spectrum; prediction error; quantile regression; robotics; Russian Federation; scientific literature; statistical model; statistical significance; surface property; time series analysis; traffic and transport; Ukraine; war | AB10: Abakah, Emmanuel Joel Aikins, Blockchain market and eco-friendly financial assets: Dynamic price correlation, connectedness and spillovers with portfolio implications, International Review of Economics and Finance, 87, pp. 218-243, (2023); Akadiri, Seyi Saint, Cross-quantile interdependence among future energy, metaverse, artificial intelligence, fintech, space, cyber security, and digital assets, Energy and Environment, (2025); Almeida, José, Sustainability or artificial intelligence? Returns and volatility connectedness in crypto assets, Journal of Risk Finance, 26, 2, pp. 177-212, (2025); Arouri, Mohamed El Hédi, Dynamic Connectedness and Hedging Effectiveness Between Green Bonds, ESG Indices, and Traditional Assets, European Financial Management, 31, 5, pp. 1704-1719, (2025); Policy News and Stock Market Volatility, (2019); Balcilar, Mehmet, A global shift: How modern technologies are powering the energy transition in the face of climate change, Journal of Environmental Management, 384, (2025); Billah, Syed Mabruk, Tail risk connectedness between DeFi and Islamic assets and their determinants, International Review of Economics and Finance, 97, (2025); Bollerslev, Tim, Generalized autoregressive conditional heteroskedasticity, Journal of Econometrics, 31, 3, pp. 307-327, (1986); Broadstock, David C., Minimum Connectedness Portfolios and the Market for Green Bonds: Advocating Socially Responsible Investment (SRI) Activity, pp. 217-253, (2022); Cao, Xinrui, Green energy investment and technology innovation for carbon reduction: Strategies for achieving SDGs in the G7 countries, International Journal of Hydrogen Energy, 114, pp. 209-220, (2025) | AC10: R. Khalfaoui; ICN Business School, Universite de Lorraine, CEREFIGE, Nancy, F-5400, France; email: rabeh.khalfaoui@gmail.com | AE10: Academic Press | AK10: 03014797; 10958630 | AM10: JEVMA | AO10: English | AP10: J. Environ. Manage. | AQ10: Article | AR10: Final | AT10: Scopus | AU10: 2-s2.0-105020014052 | AY10: Include
A11: 10 | B11: Kumar, S.; Shah, P. | C11: Kumar, Sushil (57801258400); Shah, Priya (60157908400) | D11: 57801258400; 60157908400 | E11: Digital ESG as a catalyst for achieving the sustainable development goals: A systematic review and bibliometric analysis of digital transformation for a resilient future | F11: 2025 | G11: Sustainable Futures | H11: 10 | J11: 101458 | M11: 0 | N11: 0 | O11: 10.1016/j.sftr.2025.101458 | P11: https://www.scopus.com/inward/record.uri?eid=2-s2.0-105019927126&doi=10.1016%2Fj.sftr.2025.101458&partnerID=40&md5=44f5d8169dd751d149b3b77f780cbf7b | Q11: Department of Humanities, National Institute of Technology Jamshedpur, Jamshedpur, JH, India; Department of Management Studies, Galgotias College of Engineering & Technology, Greater Noida, UP, India | R11: Kumar, Sushil, Department of Humanities, National Institute of Technology Jamshedpur, Jamshedpur, JH, India; Shah, Priya, Department of Management Studies, Galgotias College of Engineering & Technology, Greater Noida, UP, India | S11: Purpose: This study investigates the role of Digital Environmental, Social, and Governance (DESG) frameworks as a catalyst for advancing the Sustainable Development Goals (SDGs). It employs a dual-method approach to map the evolution of DESG research, evaluate regional and sectorial disparities, and identify actionable pathways for aligning technological innovation with equitable sustainability outcomes. Design/methodology/approach: A dual-method approach combining Bibliometric analysis and systematic review was applied to 589 peer-reviewed publications (2018–2025) from Scopus and Web of Science. Techniques included co-citation networks, keyword co-occurrence, thematic mapping, and performance analysis to assess growth trends, collaboration dynamics, and intellectual structures. Findings: Post-2020 research surged by 25.85% annually, driven by AI, blockchain, and IoT, with China leading empirical contributions (47 publications, 506 citations). Thematic clusters emphasized digital governance, ESG transparency, and circular economies. Critical gaps included underrepresentation of Africa and South Asia, fragmented global collaborations, and limited empirical validation in healthcare (SDG 3) and agriculture (SDG 2). Declining citations for recent studies highlighted the need for sector-specific applications and scalable models in low-resource settings. Research limitations implications: The analysis excludes non-academic sources and non-English publications, potentially overlooking regional insights. Future studies should prioritize context-specific DESG frameworks, ethical AI governance, and inclusive collaborations to address disparities in digital infrastructure and knowledge dissemination. Originality/value: This research offers the first holistic synthesis of DESG's role in SDG advancement, integrating Bibliometric insights with actionable strategies. It uniquely highlights China's tech-driven sustainability models, Switzerland's ethical policy frameworks, and Africa's empirical gaps, proposing scalable solutions for resilient, stakeholder-centric digital governance. © 2025 | T11: Bibliometric analysis; Digital ESG; Digital transformation; Regional disparities; Resilient sustainability; Sustainable development goals (SDGs) | AB11: Wang, Shaofeng, Can digital transformation improve market and ESG performance? Evidence from Chinese SMEs, Journal of Cleaner Production, 419, (2023); Technol Forecast Soc Change, (2024); Li, Zhibin, Digital transformation and environmental, social, and governance greenwashing: Evidence from China, Journal of Environmental Management, 365, (2024); Env Sci Technol, (2023); Lin, Meng, The intersection of digital transformation and environmental responsibility in traditional manufacturing enterprises amid new productive forces, Journal of Cleaner Production, 503, (2025); Donthu, Naveen, A bibliometric retrospection of marketing from the lens of psychology: Insights from Psychology & Marketing, Psychology and Marketing, 38, 5, pp. 834-865, (2021); Aria, Massimo, bibliometrix: An R-tool for comprehensive science mapping analysis, Journal of Informetrics, 11, 4, pp. 959-975, (2017); Technol Forecast Soc Change, (2024); Kolupaieva, Irina, Policy recommendations for building a circular Ukraine, Journal of Cleaner Production, 492, (2025); Sarpong, Francis Atta, From traditional roots to digital bytes: Can digitalizing ESG improves Ghanaian rural banks’ brand equity through stakeholder engagement, and customer loyalty?, Cogent Business and Management, 10, 2, (2023) | AC11: S. Kumar; Department of Humanities, Social Sciences & Management, National Institute of Technology Jamshedpur, Jamshedpur, Jharkhand, India; email: sushil.hum@nitjsr.ac.in | AE11: Elsevier Ltd | AK11: 26661888 | AO11: English | AP11: Sustain. Future. | AQ11: Review | AR11: Final | AS11: All Open Access; Gold Open Access; Green Accepted Open Access; Green Open Access | AT11: Scopus | AU11: 2-s2.0-105019927126 | AY11: Include
A12: 11 | B12: Narayan, M.; Kumar, N.; Parida, V.K.; Kumari, P. | C12: Narayan, Madhusudan (57211403649); Kumar, Narendra (57195600975); Parida, Vishal Kumar (57224365290); Kumari, Preeti (57188961508) | D12: 57211403649; 57195600975; 57224365290; 57188961508 | E12: Sustainable finance in emerging markets: Adaptive governance and environmental, social, and governance innovation for equitable climate resilience | F12: 2025 | G12: Development and Sustainability in Economics and Finance | H12: 8 | J12: 100101 | M12: 0 | N12: 0 | O12: 10.1016/j.dsef.2025.100101 | P12: https://www.scopus.com/inward/record.uri?eid=2-s2.0-105019071147&doi=10.1016%2Fj.dsef.2025.100101&partnerID=40&md5=33b8e9da68759fdefe8d36c3dd4425bb | Q12: Amity University Jharkhand, Ranchi, JH, India; Amity University Jharkhand, Ranchi, JH, India; Amity University Jharkhand, Ranchi, JH, India | R12: Narayan, Madhusudan, Amity University Jharkhand, Ranchi, JH, India; Kumar, Narendra, Amity University Jharkhand, Ranchi, JH, India; Parida, Vishal Kumar, Amity University Jharkhand, Ranchi, JH, India; Kumari, Preeti, Amity University Jharkhand, Ranchi, JH, India | S12: Emerging markets are pivotal to the global sustainability transition, yet face systemic inequities in accessing sustainable finance, receiving less than 15 % of global flows despite accounting for 65 % of carbon emissions and 85 % of the world's population. This study examines the regulatory, technological, and socio-political barriers hindering the scaling of sustainable finance in these regions, employing a mixed methods approach combining a systematic literature review (120 peer-reviewed studies, 2014–2024) and comparative case studies of China, India, and Brazil. Findings reveal that fragmented governance structures and inconsistent environmental, social, and governance (ESG) data increase financing costs by 9–15 % for SMEs and deter cross-border investments, with only 12 % of regional ESG funds aligning with global standards. However, adaptive governance models such as India's decentralized SECURE framework for renewable energy and Vietnam's fintech sandboxes demonstrate how localized regulatory innovations can bridge gaps between global standards and on-the-ground realities. Blockchain and AI-driven analytics enhance ESG transparency, reducing green bond fraud risks by 18 % in Southeast Asia and improving climate-resilient agriculture yields by 30 % in Kenya. Conversely, socio-political instability and digital divides exacerbate inequities, as seen in Sub-Saharan Africa's 30 % cost overruns in renewable projects. The study argues for hybrid strategies prioritizing regulatory harmonization, culturally tailored instruments (e.g., Sharia-compliant green bonds), and multi-stakeholder collaboration to align financial systems with the Sustainable Development Goals (SDGs). With emerging markets projected to drive 60 % of global GDP growth by 2050, scholars and policymakers have suggested that scaling AI-enhanced ESG disclosures and redirecting a portion of the estimated $2.1 trillion in annual fossil fuel subsidies towards clean energy could significantly accelerate progress. However, political and economic feasibility requires further analysis and the establishment of arbitration frameworks for land use conflicts. These strategies advance SDG 7 (Affordable Energy), SDG 8 (Decent Work), SDG 9 (Industry Innovation), and SDG 13 (Climate Action), ensuring sustainable finance unlocks equitable, climate-resilient development. © 2025 Elsevier B.V. | T12: Adaptive Governance; Blockchain; Emerging Markets; Equitable Climate Resilience; ESG; Sustainable Finance | AB12: Agrawal, Rohit, Adoption of green finance and green innovation for achieving circularity: An exploratory review and future directions, Geoscience Frontiers, 15, 4, (2024); Ameli, Nadia, Climate finance and disclosure for institutional investors: why transparency is not enough, Climatic Change, 160, 4, pp. 565-589, (2020); Financing the Response to Climate Change the Pricing and Ownership of U S Green Bonds, (2018); Bao, Xiaomin, The impact of environmental, social, and governance (ESG) rating disparities on corporate risk: The mediating role of financing constraints, Journal of Environmental Management, 371, (2024); Billah, Mohammad Maruf, Salmonella in the environment: A review on ecology, antimicrobial resistance, seafood contaminations, and human health implications, Journal of Hazardous Materials Advances, 13, (2024); Esg Investing Practices Progress and Challenges, (2020); Bril, Herman, Sustainable investing: A path to a new horizon, pp. 1-373, (2020); Campiglio, Emanuele, Beyond carbon pricing: The role of banking and monetary policy in financing the transition to a low-carbon economy, Ecological Economics, 121, pp. 220-230, (2016); Chandran, Renju, Theoretical perspectives on green banking adoption in India: regulatory uncertainty, institutional barriers, and policy solutions, Discover Sustainability, 6, 1, (2025); Chatterji, Aaron K., Do ratings of firms converge? Implications for managers, investors and strategy researchers, Strategic Management Journal, 37, 8, pp. 1597-1614, (2016) | AC12: M. Narayan; Amity Business School, Amity University Jharkhand, Ranchi, Jharkhand, India; email: mnarayan@rnc.amity.edu | AE12: Elsevier B.V. | AK12: 29505240 | AO12: English | AP12: dev. sustain. econ. finance | AQ12: Article | AR12: Final | AT12: Scopus | AU12: 2-s2.0-105019071147 | AY12: Include
A13: 12 | B13: Tee, K.; Rubbaniy, G. | C13: Tee, Kenny (59961953200); Rubbaniy, Ghulame (56089146500) | D13: 59961953200; 56089146500 | E13: Introduction of Palm GreenChain, a blockchain-based framework for enhanced traceability, transparency and accountable green bond financing in Malaysia | F13: 2025 | G13: Discover Sustainability | H13: 6 | I13: 1 | J13: 1079 | M13: 0 | N13: 0 | O13: 10.1007/s43621-025-01970-8 | P13: https://www.scopus.com/inward/record.uri?eid=2-s2.0-105018866654&doi=10.1007%2Fs43621-025-01970-8&partnerID=40&md5=ea0f20e1647cf56d71ca6b74728b61f2 | Q13: James Cook University, Singapore, Singapore City, Singapore; Bristol Business School, Bristol, United Kingdom | R13: Tee, Kenny, James Cook University, Singapore, Singapore City, Singapore; Rubbaniy, Ghulame, Bristol Business School, Bristol, United Kingdom | S13: This study employs a theoretical, system design–based methodology to propose the Palm GreenChain framework—a blockchain-based platform aimed at enhancing traceability, transparency, financial coverage, and accountability in green bond financing for sustainable palm oil production in Malaysia. The methodology integrates Ethereum-compatible smart contracts, ESG oracles, IPFS-based data storage, and DAO (Decentralized Autonomous Organization) governance to structure a digital green bond lifecycle. Rather than relying on empirical data collection, the framework is conceptualized through the development of a multi-layered blockchain architecture and validated via comparative analysis with analogous blockchain applications in agriculture. The proposed system is designed to enable real-time traceability of green bond disbursements, automate ESG compliance verification using satellite and IoT data, and strengthen accountability and access to climate finance for smallholder farmers. By embedding performance-based returns within smart contracts, the model aligns financial incentives with conservation goals. Leveraging Malaysia’s advanced land administration infrastructure and digital capabilities, the framework presents a scalable, open-source solution to reduce greenwashing, expand financial inclusion in underserved agricultural communities, and enhance transparency and investor confidence in sustainable agricultural finance. By directly linking green finance to verifiable sustainability outcomes, Palm GreenChain addresses key limitations in conventional green bond mechanisms. Its applicability across diverse agricultural sectors positions it as a replicable blueprint for broader sustainable development. The framework is openly available via its GitHub repository. © The Author(s) 2025. | T13: Agriculture; Blockchain; Green bond; Malaysia; Palm oil; Sustainable finance | U13: accountability; agricultural economics; agricultural finance; resource development; sustainable development; vegetable oil; Malaysia | AB13: undefined, (2021); Albizri, Abdullah, Trust but verify: The oracle paradox of blockchain smart contracts, Journal of Information Systems, 35, 2, pp. 1-16, (2021); undefined, (2022); Basiron, Yusof, Palm oil production through sustainable plantations, European Journal of Lipid Science and Technology, 109, 4, pp. 289-295, (2007); Ipfs Content Addressed Versioned P2p File System, (2014); Github Repository, (2013); de Mariz, Frédéric, The Promise of Sustainable Finance: Lessons From Brazil, Georgetown Journal of International Affairs, 23, 2, pp. 185-190, (2022); de Mariz, Frédéric, Reforming Sustainability-Linked Bonds by Strengthening Investor Trust, Journal of Risk and Financial Management, 17, 7, (2024); Deschryver, Pauline, What Future for the Green Bond Market? How Can Policymakers, Companies, and Investors Unlock the Potential of the Green Bond Market?, Journal of Risk and Financial Management, 13, 3, (2020); Bis Quarterly Review, (2017) | AC13: K. Tee; James Cook University Singapore, Singapore, Singapore; email: Kenny.Tee@jcu.edu.au | AE13: Springer Nature | AK13: 26629984 | AO13: English | AP13: Discov Sustain | AQ13: Article | AR13: Final | AS13: All Open Access; Gold Open Access | AT13: Scopus | AU13: 2-s2.0-105018866654 | AY13: Include
