Workbook

Sheet CoverSheet
A1: 2020 Journal of Industrial Ecology – www.wileyonlinelibrary.com/journal/jie
A3: SUPPORTING INFORMATION FOR:
A5: Wietschel, L., L. Messmann, A. Thorenz, and A. Tuma (2020). Environmental benefits of large-scale second-generation bioethanol production in the EU: An integrated supply chain network optimization and Life Cycle Assessment approache. Journal of Industrial Ecology.
A8: This Supporting Information S2 provides all input data of the model, the assumptions made and the literature and database references. The environmental data is based on life cycle assessments, with full information on the life cycle inventory and the results of the life cycle impact assessment based on the ReCiPe method. It also includes detailed results for all objective functions in all scenarios (optimization of 18 midpoints, 3 endpoints, and economic optimization in 5 tax scenarios and 2 feedstock scenarios), and detailed results of the sensitivity analysis and Pareto optimization. Furthermore, the underlying data for all figures of the manuscript and Supporting Information S1 is provided.
B11: Data 1 | D11: General data and parameters
B12: Data 2 | D12: Environmental data and parameters - Life Cycle Inventory (LCI) modeling
B13: Data 3 | D13: Environmental data and parameters - Values
B14: Data 4 | D14: Economic data and parameters
B15: Results 1 | D15: Results - Objective values and optimal decisions - for all objective functions and scenarios
B16: Results 2 | D16: Results - Locations and capacities of BRs - for all objective functions and scenarios
B17: Results 3 | D17: Results - Values of constituting terms, i.e. revenue/benefit and cost/impact elements, of objective functions - for all objective functions and scenarios
B18: Results 4 | D18: Results - ε-constraint Pareto curves (used in Figure 7)
B19: Results 5 | D19: Sensitivity analysis
B20: Figure data | D20: Data plotted and/or used in the figures of the manuscript and Supporting Information S1

Sheet Data 1
B1: General data and parameters
B2: Parameter | C2: Dimension | D2: Index | E2: Unit | F2: Values
F4: 0.8
F6: c = 1 | G6: c = 2 | H6: c = 3 | I6: c = 4 | J6: c = 5 | K6: c = 6 | L6: c = 7 | M6: c = 8 | N6: c = 9 | O6: c = 10 | P6: c = 11 | Q6: c = 12 | R6: c = 13 | S6: c = 14 | T6: c = 15 | U6: c = 16 | V6: c = 17 | W6: c = 18 | X6: c = 19 | Y6: c = 20 | Z6: c = 21 | AA6: c = 22 | AB6: c = 23 | AC6: c = 24 | AD6: c = 25 | AE6: c = 26 | AF6: c = 27 | AG6: c = 28 | AH6: c = 29 | AI6: c = 30 | AJ6: c = 31 | AK6: c = 32 | AL6: c = 33 | AM6: c = 34 | AN6: c = 35 | AO6: c = 36 | AP6: c = 37
E7: metric tons EtOH | F7: 25000 | G7: 50000 | H7: 75000 | I7: 100000 | J7: 125000 | K7: 150000 | L7: 175000 | M7: 200000 | N7: 225000 | O7: 250000 | P7: 275000 | Q7: 300000 | R7: 350000 | S7: 400000 | T7: 450000 | U7: 500000 | V7: 550000 | W7: 600000 | X7: 650000 | Y7: 700000 | Z7: 750000 | AA7: 800000 | AB7: 850000 | AC7: 900000 | AD7: 950000 | AE7: 1000000 | AF7: 1100000 | AG7: 1200000 | AH7: 1300000 | AI7: 1400000 | AJ7: 1500000 | AK7: 1750000 | AL7: 2000000 | AM7: 2250000 | AN7: 2500000 | AO7: 2750000 | AP7: 3000000
D9: wheat straw | E9: kgEtOH /kg feedstock | F9: 0.221085
D10: maize stover | E10: kgEtOH /kg feedstock | F10: 0.221085
D11: barley straw | E11: kgEtOH /kg feedstock | F11: 0.221085
D12: rapeseed straw | E12: kgEtOH /kg feedstock | F12: 0.221085
D14: surplus electricity | E14: MJ/kg EtOH | F14: 3.65
D15: biomethane | E15: m^3/kg EtOH | F15: 0.14947
F17: AT1 | G17: AT2 | H17: AT3 | I17: BE1 | J17: BE2 | K17: BE3 | L17: BG3 | M17: BG4 | N17: CY0 | O17: CZ0 | P17: DE1 | Q17: DE2 | R17: DE3 | S17: DE4 | T17: DE5 | U17: DE6 | V17: DE7 | W17: DE8 | X17: DE9 | Y17: DEA | Z17: DEB | AA17: DEC | AB17: DED | AC17: DEE | AD17: DEF | AE17: DEG | AF17: DK0 | AG17: EE0 | AH17: EL5 | AI17: EL6 | AJ17: EL3 | AK17: EL4 | AL17: ES1 | AM17: ES2 | AN17: ES3 | AO17: ES4 | AP17: ES5 | AQ17: ES6 | AR17: ES7 | AS17: FI1 | AT17: FI2 | AU17: FR1 | AV17: FR2 | AW17: FR3 | AX17: FR4 | AY17: FR5 | AZ17: FR6 | BA17: FR7 | BB17: FR8 | BC17: FR9 | BD17: HR0 | BE17: HU1 | BF17: HU2 | BG17: HU3 | BH17: IE0 | BI17: ITC | BJ17: ITF | BK17: ITG | BL17: ITH | BM17: ITI | BN17: LT0 | BO17: LU0 | BP17: LV0 | BQ17: MT0 | BR17: NL1 | BS17: NL2 | BT17: NL3 | BU17: NL4 | BV17: PL1 | BW17: PL2 | BX17: PL3 | BY17: PL4 | BZ17: PL5 | CA17: PL6 | CB17: PT1 | CC17: PT2 | CD17: PT3 | CE17: RO1 | CF17: RO2 | CG17: RO3 | CH17: RO4 | CI17: SE1 | CJ17: SE2 | CK17: SE3 | CL17: SI0 | CM17: SK0 | CN17: UKC | CO17: UKD | CP17: UKE | CQ17: UKF | CR17: UKG | CS17: UKH | CT17: UKI | CU17: UKJ | CV17: UKK | CW17: UKL | CX17: UKM | CY17: UKN
C18: year: 2018 | D18: wheat straw | E18: metric tons | F18: 468560 | G18: 37756 | H18: 108209 | I18: 2062 | J18: 121620 | K18: 371094 | L18: 1772436 | M18: 194180 | N18: 0 | O18: 1987026 | P18: 630221 | Q18: 1419220 | R18: 0 | S18: 442456 | T18: 0 | U18: 0 | V18: 474060 | W18: 1127226 | X18: 1000506 | Y18: 778565 | Z18: 316237 | AA18: 19224 | AB18: 595771 | AC18: 1098662 | AD18: 0 | AE18: 655198 | AF18: 1111891 | AG18: 390343 | AH18: 361266 | AI18: 111102 | AJ18: 0 | AK18: 0 | AL18: 0 | AM18: 424870 | AN18: 28348 | AO18: 1308832 | AP18: 77012 | AQ18: 211736 | AR18: 0 | AS18: 288268 | AT18: 1513 | AU18: 814523 | AV18: 7639180 | AW18: 1035738 | AX18: 982991 | AY18: 2599635 | AZ18: 872672 | BA18: 428770 | BB18: 110664 | BC18: 0 | BD18: 294590 | BE18: 112968 | BF18: 797727 | BG18: 952949 | BH18: 0 | BI18: 239458 | BJ18: 635880 | BK18: 35680 | BL18: 556004 | BM18: 371852 | BN18: 2072732 | BO18: 17001 | BP18: 1078633 | BQ18: 0 | BR18: 0 | BS18: 0 | BT18: 0 | BU18: 0 | BV18: 243557 | BW18: 204979 | BX18: 630577 | BY18: 776830 | BZ18: 945730 | CA18: 924338 | CB18: 9648 | CC18: 0 | CD18: 0 | CE18: 264158 | CF18: 847496 | CG18: 936256 | CH18: 855320 | CI18: 344098 | CJ18: 526594 | CK18: 0 | CL18: 31512 | CM18: 756070 | CN18: 136478 | CO18: 0 | CP18: 691952 | CQ18: 1095807 | CR18: 356692 | CS18: 1384187 | CT18: 1901 | CU18: 698161 | CV18: 344987 | CW18: 0 | CX18: 203441 | CY18: 0
D19: maize stover | E19: metric tons | F19: 414998 | G19: 314692 | H19: 206308 | I19: 384 | J19: 155568 | K19: 29858 | L19: 1661742 | M19: 46170 | N19: 0 | O19: 340281 | P19: 354640 | Q19: 673307 | R19: 0 | S19: 83669 | T19: 0 | U19: 0 | V19: 31166 | W19: 16749 | X19: 291019 | Y19: 493933 | Z19: 53346 | AA19: 1772 | AB19: 96454 | AC19: 88457 | AD19: 0 | AE19: 21720 | AF19: 22678 | AG19: 0 | AH19: 565735 | AI19: 207184 | AJ19: 0 | AK19: 0 | AL19: 0 | AM19: 525767 | AN19: 34338 | AO19: 1129316 | AP19: 116090 | AQ19: 107257 | AR19: 0 | AS19: 0 | AT19: 0 | AU19: 248411 | AV19: 1628655 | AW19: 99003 | AX19: 1055616 | AY19: 2053284 | AZ19: 2346746 | BA19: 708624 | BB19: 24221 | BC19: 0 | BD19: 994278 | BE19: 205372 | BF19: 1787610 | BG19: 1923586 | BH19: 0 | BI19: 1387431 | BJ19: 66898 | BK19: 391 | BL19: 1445552 | BM19: 116039 | BN19: 50990 | BO19: 337 | BP19: 0 | BQ19: 0 | BR19: 0 | BS19: 0 | BT19: 0 | BU19: 0 | BV19: 169596 | BW19: 140010 | BX19: 239391 | BY19: 627727 | BZ19: 563207 | CA19: 314934 | CB19: 135429 | CC19: 0 | CD19: 0 | CE19: 819608 | CF19: 2109775 | CG19: 1456703 | CH19: 1606153 | CI19: 0 | CJ19: 3514 | CK19: 0 | CL19: 134644 | CM19: 783878 | CN19: 0 | CO19: 0 | CP19: 0 | CQ19: 0 | CR19: 0 | CS19: 0 | CT19: 0 | CU19: 0 | CV19: 0 | CW19: 0 | CX19: 0 | CY19: 0
D20: barley straw | E20: metric tons | F20: 148452 | G20: 24853 | H20: 69582 | I20: 574 | J20: 21636 | K20: 84936 | L20: 229759 | M20: 28289 | N20: 0 | O20: 645653 | P20: 318514 | Q20: 702409 | R20: 0 | S20: 183471 | T20: 0 | U20: 0 | V20: 182701 | W20: 357951 | X20: 343383 | Y20: 339530 | Z20: 151643 | AA20: 6745 | AB20: 293133 | AC20: 270947 | AD20: 118203 | AE20: 233835 | AF20: 826470 | AG20: 173393 | AH20: 75283 | AI20: 30676 | AJ20: 0 | AK20: 0 | AL20: 0 | AM20: 490404 | AN20: 30980 | AO20: 1221962 | AP20: 123149 | AQ20: 48258 | AR20: 0 | AS20: 466954 | AT20: 976 | AU20: 232301 | AV20: 2395962 | AW20: 158450 | AX20: 380423 | AY20: 584366 | AZ20: 198576 | BA20: 102777 | BB20: 23938 | BC20: 0 | BD20: 65858 | BE20: 24956 | BF20: 208906 | BG20: 229510 | BH20: 0 | BI20: 51277 | BJ20: 54319 | BK20: 2166 | BL20: 60269 | BM20: 41070 | BN20: 330077 | BO20: 7635 | BP20: 117838 | BQ20: 0 | BR20: 0 | BS20: 0 | BT20: 0 | BU20: 0 | BV20: 88667 | BW20: 68677 | BX20: 199993 | BY20: 344651 | BZ20: 218624 | CA20: 204948 | CB20: 4858 | CC20: 0 | CD20: 0 | CE20: 56525 | CF20: 195954 | CG20: 177340 | CH20: 90707 | CI20: 152682 | CJ20: 331906 | CK20: 0 | CL20: 25181 | CM20: 221369 | CN20: 68720 | CO20: 0 | CP20: 266905 | CQ20: 201460 | CR20: 102335 | CS20: 344438 | CT20: 107 | CU20: 181911 | CV20: 198489 | CW20: 0 | CX20: 464037 | CY20: 0
D21: rapeseed straw | E21: metric tons | F21: 78544 | G21: 935 | H21: 16823 | I21: 164 | J21: 805 | K21: 28391 | L21: 362232 | M21: 31425 | N21: 0 | O21: 1094444 | P21: 146160 | Q21: 310239 | R21: 0 | S21: 387934 | T21: 0 | U21: 0 | V21: 166616 | W21: 679379 | X21: 304980 | Y21: 161980 | Z21: 135558 | AA21: 7461 | AB21: 413105 | AC21: 585112 | AD21: 130788 | AE21: 368151 | AF21: 339979 | AG21: 116060 | AH21: 5876 | AI21: 0 | AJ21: 0 | AK21: 0 | AL21: 0 | AM21: 21022 | AN21: 1113 | AO21: 80831 | AP21: 13651 | AQ21: 8262 | AR21: 0 | AS21: 51157 | AT21: 161 | AU21: 241414 | AV21: 2151492 | AW21: 79785 | AX21: 352634 | AY21: 494944 | AZ21: 109612 | BA21: 61358 | BB21: 6626 | BC21: 0 | BD21: 46894 | BE21: 26739 | BF21: 256356 | BG21: 238596 | BH21: 0 | BI21: 5304 | BJ21: 2204 | BK21: 17 | BL21: 10194 | BM21: 2868 | BN21: 310943 | BO21: 4948 | BP21: 218358 | BQ21: 0 | BR21: 0 | BS21: 0 | BT21: 0 | BU21: 0 | BV21: 79734 | BW21: 51010 | BX21: 175967 | BY21: 514072 | BZ21: 446033 | CA21: 541295 | CB21: 0 | CC21: 0 | CD21: 0 | CE21: 31518 | CF21: 299364 | CG21: 407224 | CH21: 161620 | CI21: 48399 | CJ21: 199676 | CK21: 0 | CL21: 2862 | CM21: 288801 | CN21: 53278 | CO21: 0 | CP21: 217900 | CQ21: 406764 | CR21: 102654 | CS21: 368672 | CT21: 61 | CU21: 240211 | CV21: 114150 | CW21: 0 | CX21: 51165 | CY21: 0
C22: year: 2030 | D22: wheat straw | E22: metric tons | F22: 524600.06 | G22: 39650.881 | H22: 120870.28 | I22: 2046.537 | J22: 154539.1 | K22: 419041.22 | L22: 2253127 | M22: 275056.71 | N22: 0 | O22: 2232913 | P22: 679507.15 | Q22: 1570220.7 | R22: 0 | S22: 476765.99 | T22: 0 | U22: 0 | V22: 503967.23 | W22: 1208137.2 | X22: 1035528.9 | Y22: 825354.19 | Z22: 344641.75 | AA22: 19712.923 | AB22: 652707.41 | AC22: 1181576.4 | AD22: 0 | AE22: 706314.24 | AF22: 1216572.9 | AG22: 544970.4 | AH22: 453089.88 | AI22: 114903.85 | AJ22: 0 | AK22: 0 | AL22: 0 | AM22: 567683.22 | AN22: 35871.482 | AO22: 1555717.2 | AP22: 99079.324 | AQ22: 227449.7 | AR22: 0 | AS22: 345903.1 | AT22: 1356.0625 | AU22: 861195.42 | AV22: 8147491.2 | AW22: 1105941.1 | AX22: 1052133.9 | AY22: 2722792.4 | AZ22: 921179.87 | BA22: 457254.42 | BB22: 139358.99 | BC22: 0 | BD22: 336526.45 | BE22: 139722.78 | BF22: 931413.68 | BG22: 1112341.1 | BH22: 0 | BI22: 250095.2 | BJ22: 933710.03 | BK22: 212284.55 | BL22: 574989.91 | BM22: 520234.59 | BN22: 2583434 | BO22: 18377.526 | BP22: 1401996.3 | BQ22: 0 | BR22: 0 | BS22: 0 | BT22: 0 | BU22: 0 | BV22: 271665.32 | BW22: 238724.68 | BX22: 765276.7 | BY22: 915515.73 | BZ22: 1072586.1 | CA22: 1076617.9 | CB22: 15216.801 | CC22: 0 | CD22: 0 | CE22: 338871.6 | CF22: 1255544 | CG22: 1342785 | CH22: 1166532.9 | CI22: 353955.84 | CJ22: 540124.33 | CK22: 0 | CL22: 38927.829 | CM22: 919469.84 | CN22: 137279.88 | CO22: 0 | CP22: 735023.4 | CQ22: 1169423.4 | CR22: 360488.45 | CS22: 1414414.7 | CT22: 836.30836 | CU22: 742329.54 | CV22: 372093.12 | CW22: 0 | CX22: 213811.76 | CY22: 0
D23: maize stover | E23: metric tons | F23: 438566.53 | G23: 346425.09 | H23: 221595.91 | I23: 387.69831 | J23: 199950.4 | K23: 34596.727 | L23: 2334411.3 | M23: 77239.398 | N23: 0 | O23: 382184.32 | P23: 391011.52 | Q23: 754992.68 | R23: 0 | S23: 95012.171 | T23: 0 | U23: 0 | V23: 34253.502 | W23: 18898.402 | X23: 313248.26 | Y23: 537297.35 | Z23: 59460.95 | AA23: 2005.4006 | AB23: 106542.03 | AC23: 98727.969 | AD23: 0 | AE23: 23610.461 | AF23: 24579.39 | AG23: 0 | AH23: 619621.37 | AI23: 217971.98 | AJ23: 0 | AK23: 0 | AL23: 0 | AM23: 566971.47 | AN23: 36763.423 | AO23: 1285922.2 | AP23: 135705.09 | AQ23: 120060.78 | AR23: 0 | AS23: 0 | AT23: 0 | AU23: 267921.9 | AV23: 1775980.1 | AW23: 107854.85 | AX23: 1153278.8 | AY23: 2304320.2 | AZ23: 2634428.1 | BA23: 791106.41 | BB23: 31139.987 | BC23: 0 | BD23: 1215426.3 | BE23: 242205.99 | BF23: 2101978.3 | BG23: 2250576.3 | BH23: 0 | BI23: 1498935.7 | BJ23: 75189.239 | BK23: 1938.9803 | BL23: 1520714.8 | BM23: 136359.18 | BN23: 69808.713 | BO23: 334.12702 | BP23: 0 | BQ23: 0 | BR23: 0 | BS23: 0 | BT23: 0 | BU23: 0 | BV23: 177677.09 | BW23: 153152.68 | BX23: 265466.53 | BY23: 697751.49 | BZ23: 618098.38 | CA23: 347513.95 | CB23: 161155.38 | CC23: 0 | CD23: 0 | CE23: 1005590 | CF23: 3106790.7 | CG23: 2283807.2 | CH23: 2266926.4 | CI23: 0 | CJ23: 3666.497 | CK23: 0 | CL23: 168630.62 | CM23: 1002311.1 | CN23: 0 | CO23: 0 | CP23: 0 | CQ23: 0 | CR23: 0 | CS23: 0 | CT23: 0 | CU23: 0 | CV23: 0 | CW23: 0 | CX23: 0 | CY23: 0
D24: barley straw | E24: metric tons | F24: 152774.09 | G24: 25687.662 | H24: 75103.361 | I24: 853.85229 | J24: 27204.908 | K24: 94841.962 | L24: 271450.28 | M24: 37666.13 | N24: 0 | O24: 686157.66 | P24: 338853.03 | Q24: 778779.98 | R24: 0 | S24: 197938.28 | T24: 0 | U24: 0 | V24: 190962.26 | W24: 381145.36 | X24: 363061.98 | Y24: 362996.87 | Z24: 161168.54 | AA24: 6939.3721 | AB24: 315405.99 | AC24: 286696.31 | AD24: 134970.74 | AE24: 251655.3 | AF24: 866643.71 | AG24: 224779.34 | AH24: 87430.973 | AI24: 31224.129 | AJ24: 0 | AK24: 0 | AL24: 0 | AM24: 537970.13 | AN24: 31823.039 | AO24: 1291982 | AP24: 151121.6 | AQ24: 52468.998 | AR24: 0 | AS24: 499327.29 | AT24: 874.68106 | AU24: 242594.78 | AV24: 2437509 | AW24: 170324.25 | AX24: 381834.15 | AY24: 620832.9 | AZ24: 205391.37 | BA24: 104170.72 | BB24: 30596.068 | BC24: 0 | BD24: 75793.959 | BE24: 29194.812 | BF24: 232263.66 | BG24: 265574.39 | BH24: 0 | BI24: 47430.545 | BJ24: 65436.23 | BK24: 13776.041 | BL24: 63039.745 | BM24: 40973.787 | BN24: 410587.26 | BO24: 8145.9368 | BP24: 156357.27 | BQ24: 0 | BR24: 0 | BS24: 0 | BT24: 0 | BU24: 0 | BV24: 98174.266 | BW24: 75848.944 | BX24: 230530.69 | BY24: 402148.98 | BZ24: 237572.82 | CA24: 234970.18 | CB24: 6971.7513 | CC24: 0 | CD24: 0 | CE24: 71240.896 | CF24: 268158.56 | CG24: 225094.75 | CH24: 112861.6 | CI24: 164141.78 | CJ24: 335051.7 | CK24: 0 | CL24: 29846.045 | CM24: 253928.95 | CN24: 68030.911 | CO24: 0 | CP24: 269700.83 | CQ24: 208340.68 | CR24: 105125.42 | CS24: 358816.25 | CT24: 46.328366 | CU24: 188868.28 | CV24: 216433.65 | CW24: 0 | CX24: 464394.28 | CY24: 0
D25: rapeseed straw | E25: metric tons | F25: 77331.673 | G25: 926.03762 | H25: 16049.021 | I25: 140.10457 | J25: 899.62162 | K25: 28003.557 | L25: 399905.92 | M25: 40265.029 | N25: 0 | O25: 1036837.9 | P25: 138788.37 | Q25: 303427.35 | R25: 0 | S25: 361520.67 | T25: 0 | U25: 0 | V25: 155484.9 | W25: 601707.42 | X25: 283962.73 | Y25: 148595.99 | Z25: 127512.25 | AA25: 6585.3952 | AB25: 390479.79 | AC25: 551512.46 | AD25: 123826.62 | AE25: 345773.77 | AF25: 319288.16 | AG25: 133381.93 | AH25: 5118.8099 | AI25: 0 | AJ25: 0 | AK25: 0 | AL25: 0 | AM25: 23868.218 | AN25: 1008.2817 | AO25: 95767.406 | AP25: 17021.314 | AQ25: 9515.2433 | AR25: 0 | AS25: 48194.045 | AT25: 115.91625 | AU25: 224200.34 | AV25: 1914276.5 | AW25: 71072.866 | AX25: 314914.57 | AY25: 448468.97 | AZ25: 83998.184 | BA25: 55076.678 | BB25: 6741.937 | BC25: 0 | BD25: 48400.525 | BE25: 29584.688 | BF25: 262777.48 | BG25: 258661.53 | BH25: 0 | BI25: 5507.906 | BJ25: 3083.8719 | BK25: 9.9057144 | BL25: 9074.1188 | BM25: 2804.0381 | BN25: 347663.36 | BO25: 4653.4753 | BP25: 241608.86 | BQ25: 0 | BR25: 0 | BS25: 0 | BT25: 0 | BU25: 0 | BV25: 65030.485 | BW25: 46907.042 | BX25: 163207.67 | BY25: 500341.32 | BZ25: 420588.21 | CA25: 529815.89 | CB25: 0 | CC25: 0 | CD25: 0 | CE25: 38743.622 | CF25: 374759.45 | CG25: 493233.79 | CH25: 202335.27 | CI25: 42852.962 | CJ25: 176287.38 | CK25: 0 | CL25: 3129.1512 | CM25: 305693.63 | CN25: 49913.369 | CO25: 0 | CP25: 190895.01 | CQ25: 373301.7 | CR25: 89299.986 | CS25: 317238.52 | CT25: 23.09892 | CU25: 225798.01 | CV25: 113020.46 | CW25: 0 | CX25: 44782.245 | CY25: 0
C27: year: 2018 | D27: wheat straw | E27: metric tons | F27: 19.885414 | G27: 1.4555688 | H27: 3.147715 | I27: 12.807453 | J27: 8.9948968 | K27: 22.02992 | L27: 26.056422 | M27: 4.5854488 | N27: 0 | O27: 25.194325 | P27: 17.628066 | Q27: 20.116513 | R27: 0 | S27: 14.920618 | T27: 0 | U27: 0 | V27: 22.451338 | W27: 48.560117 | X27: 21.012412 | Y27: 22.825125 | Z27: 15.93294 | AA27: 7.4830673 | AB27: 32.343702 | AC27: 53.719049 | AD27: 0 | AE27: 40.439328 | AF27: 25.904317 | AG27: 8.6307515 | AH27: 6.3612128 | AI27: 2.0612998 | AJ27: 0 | AK27: 0 | AL27: 0 | AM27: 6.0365429 | AN27: 3.531141 | AO27: 6.0791082 | AP27: 1.2763221 | AQ27: 2.139958 | AR27: 0 | AS27: 0.8557527 | AT27: 0.95698925 | AU27: 67.807414 | AV27: 52.450721 | AW27: 83.432387 | AX27: 20.46623 | AY27: 30.54829 | AZ27: 8.4235887 | BA27: 6.1506704 | BB27: 1.6405555 | BC27: 0 | BD27: 5.2101093 | BE27: 16.336659 | BF27: 21.789866 | BG27: 19.256941 | BH27: 0 | BI27: 4.1337177 | BJ27: 8.6162602 | BK27: 0.71455751 | BL27: 8.9207567 | BM27: 6.4018593 | BN27: 31.748491 | BO27: 6.5742459 | BP27: 16.704087 | BQ27: 0 | BR27: 0 | BS27: 0 | BT27: 0 | BU27: 0 | BV27: 4.529018 | BW27: 7.4494476 | BX27: 8.422742 | BY27: 11.645579 | BZ27: 32.212609 | CA27: 15.289687 | CB27: 0.1082804 | CC27: 0 | CD27: 0 | CE27: 3.8698685 | CF27: 11.67165 | CG27: 25.810521 | CH27: 13.965571 | CI27: 7.1712482 | CJ27: 6.5288072 | CK27: 0 | CL27: 1.5543827 | CM27: 15.418986 | CN27: 15.730521 | CO27: 0 | CP27: 44.464208 | CQ27: 69.306622 | CR27: 27.429406 | CS27: 70.672266 | CT27: 1.1925972 | CU27: 35.980262 | CV27: 14.145188 | CW27: 0 | CX27: 2.5356275 | CY27: 0
D28: maize stover | E28: metric tons | F28: 17.612273 | G28: 12.132002 | H28: 6.0013381 | I28: 2.3850932 | J28: 11.505658 | K28: 1.7725141 | L28: 24.42912 | M28: 1.0902779 | N28: 0 | O28: 4.3145636 | P28: 9.9197225 | Q28: 9.5436853 | R28: 0 | S28: 2.8215081 | T28: 0 | U28: 0 | V28: 1.4760123 | W28: 0.72153535 | X28: 6.1119185 | Y28: 14.480592 | Z28: 2.6877267 | AA28: 0.68976255 | AB28: 5.2363735 | AC28: 4.3251027 | AD28: 0 | AE28: 1.3405752 | AF28: 0.52834145 | AG28: 0 | AH28: 9.9615263 | AI28: 3.8439303 | AJ28: 0 | AK28: 0 | AL28: 0 | AM28: 7.4700851 | AN28: 4.2772795 | AO28: 5.2453135 | AP28: 1.9239629 | AQ28: 1.0840172 | AR28: 0 | AS28: 0 | AT28: 0 | AU28: 20.67972 | AV28: 11.182369 | AW28: 7.9750445 | AX28: 21.978309 | AY28: 24.128123 | AZ28: 22.652295 | BA28: 10.165153 | BB28: 0.35906794 | BC28: 0 | BD28: 17.584769 | BE28: 29.699494 | BF28: 48.828462 | BG28: 38.871317 | BH28: 0 | BI28: 23.950956 | BJ28: 0.90647696 | BK28: 0.0078304929 | BL28: 23.19303 | BM28: 1.9977447 | BN28: 0.78102503 | BO28: 0.13031709 | BP28: 0 | BQ28: 0 | BR28: 0 | BS28: 0 | BT28: 0 | BU28: 0 | BV28: 3.1536902 | BW28: 5.0883123 | BX28: 3.197593 | BY28: 9.4103529 | BZ28: 19.183453 | CA28: 5.2093954 | CB28: 1.5199322 | CC28: 0 | CD28: 0 | CE28: 12.007114 | CF28: 29.055659 | CG28: 40.158101 | CH28: 26.22509 | CI28: 0 | CJ28: 0.043567204 | CK28: 0 | CL28: 6.6415429 | CM28: 15.986092 | CN28: 0 | CO28: 0 | CP28: 0 | CQ28: 0 | CR28: 0 | CS28: 0 | CT28: 0 | CU28: 0 | CV28: 0 | CW28: 0 | CX28: 0 | CY28: 0
D29: barley straw | E29: metric tons | F29: 6.3002164 | G29: 0.95813254 | H29: 2.0240859 | I29: 3.5652174 | J29: 1.6001775 | K29: 5.0422084 | L29: 3.3776664 | M29: 0.66802843 | N29: 0 | O29: 8.1865015 | P29: 8.9092333 | Q29: 9.9561871 | R29: 0 | S29: 6.1870574 | T29: 0 | U29: 0 | V29: 8.652664 | W29: 15.420282 | X29: 7.211656 | Y29: 9.9539724 | Z29: 7.6402156 | AA29: 2.6255352 | AB29: 15.913844 | AC29: 13.247946 | AD29: 7.4802557 | AE29: 14.432477 | AF29: 19.254712 | AG29: 3.8338382 | AH29: 1.3255916 | AI29: 0.56913857 | AJ29: 0 | AK29: 0 | AL29: 0 | AM29: 6.9676484 | AN29: 3.8589935 | AO29: 5.6756247 | AP29: 2.040952 | AQ29: 0.48773043 | AR29: 0 | AS29: 1.3862002 | AT29: 0.6173308 | AU29: 19.338595 | AV29: 16.45071 | AW29: 12.763712 | AX29: 7.9205453 | AY29: 6.8668801 | AZ29: 1.9167827 | BA29: 1.4743276 | BB29: 0.35487257 | BC29: 0 | BD29: 1.1647625 | BE29: 3.608966 | BF29: 5.7062551 | BG29: 4.6378774 | BH29: 0 | BI29: 0.88518506 | BJ29: 0.73602981 | BK29: 0.043378127 | BL29: 0.9669806 | BM29: 0.70706723 | BN29: 5.0558619 | BO29: 2.9524362 | BP29: 1.8248804 | BQ29: 0 | BR29: 0 | BS29: 0 | BT29: 0 | BU29: 0 | BV29: 1.6487904 | BW29: 2.4958933 | BX29: 2.6713461 | BY29: 5.1667166 | BZ29: 7.4465752 | CA29: 3.3900918 | CB29: 0.054521784 | CC29: 0 | CD29: 0 | CE29: 0.82808137 | CF29: 2.6986634 | CG29: 4.8888742 | CH29: 1.4810539 | CI29: 3.182002 | CJ29: 4.1150303 | CK29: 0 | CL29: 1.2420954 | CM29: 4.51451 | CN29: 7.9207008 | CO29: 0 | CP29: 17.151073 | CQ29: 12.741762 | CR29: 7.8695017 | CS29: 17.585929 | CT29: 0.067126725 | CU29: 9.3749227 | CV29: 8.1384641 | CW29: 0 | CX29: 5.7836177 | CY29: 0
D30: rapeseed straw | E30: metric tons | F30: 3.3333616 | G30: 0.036046108 | H30: 0.48936789 | I30: 1.0186335 | J30: 0.059537016 | K30: 1.6854259 | L30: 5.32514 | M30: 0.74208326 | N30: 0 | O30: 13.876908 | P30: 4.0882773 | Q30: 4.3974344 | R30: 0 | S30: 13.082013 | T30: 0 | U30: 0 | V30: 7.8908833 | W30: 29.267178 | X30: 6.4051244 | Y30: 4.748754 | Z30: 6.8298065 | AA30: 2.9042429 | AB30: 22.426982 | AC30: 28.609036 | AD30: 8.2766738 | AE30: 22.722565 | AF30: 7.9206719 | AG30: 2.5661662 | AH30: 0.10346528 | AI30: 0 | AJ30: 0 | AK30: 0 | AL30: 0 | AM30: 0.29868008 | AN30: 0.13863976 | AO30: 0.37543428 | AP30: 0.22623842 | AQ30: 0.083501779 | AR30: 0 | AS30: 0.15186473 | AT30: 0.10183428 | AU30: 20.097234 | AV30: 14.772175 | AW30: 6.4269661 | AX30: 7.3419682 | AY30: 5.8160829 | AZ30: 1.0580452 | BA30: 0.88017547 | BB30: 0.098228157 | BC30: 0 | BD30: 0.82936578 | BE30: 3.8668113 | BF30: 7.0023491 | BG30: 4.8214849 | BH30: 0 | BI30: 0.091561939 | BJ30: 0.029864499 | BK30: 0.00034045621 | BL30: 0.16355673 | BM30: 0.049375915 | BN30: 4.7627822 | BO30: 1.9133797 | BP30: 3.3815681 | BQ30: 0 | BR30: 0 | BS30: 0 | BT30: 0 | BU30: 0 | BV30: 1.4826785 | BW30: 1.8538305 | BX30: 2.3504261 | BY30: 7.7065331 | BZ30: 15.192377 | CA30: 8.9536846 | CB30: 0 | CC30: 0 | CD30: 0 | CE30: 0.46173319 | CF30: 4.122818 | CG30: 11.226271 | CH30: 2.6389136 | CI30: 1.0086697 | CJ30: 2.475619 | CK30: 0 | CL30: 0.14117299 | CM30: 5.889691 | CN30: 6.1408483 | CO30: 0 | CP30: 14.002056 | CQ30: 25.726646 | CR30: 7.8940326 | CS30: 18.823241 | CT30: 0.038268507 | CU30: 12.379458 | CV30: 4.6803887 | CW30: 0 | CX30: 0.63770518 | CY30: 0
C31: year: 2030 | D31: wheat straw | E31: metric tons | F31: 22.263721 | G31: 1.5286203 | H31: 3.5160217 | I31: 12.71141 | J31: 11.429561 | K31: 24.876297 | L31: 33.123017 | M31: 6.4953057 | N31: 0 | O31: 28.312028 | P31: 19.006661 | Q31: 22.256849 | R31: 0 | S31: 16.077628 | T31: 0 | U31: 0 | V31: 23.867735 | W31: 52.045718 | X31: 21.747955 | Y31: 24.196839 | Z31: 17.364054 | AA31: 7.673384 | AB31: 35.434713 | AC31: 57.773145 | AD31: 0 | AE31: 43.594262 | AF31: 28.343146 | AG31: 12.049669 | AH31: 7.9780583 | AI31: 2.1318365 | AJ31: 0 | AK31: 0 | AL31: 0 | AM31: 8.0656297 | AN31: 4.4682962 | AO31: 7.2258114 | AP31: 1.6420445 | AQ31: 2.2987721 | AR31: 0 | AS31: 1.0268483 | AT31: 0.85772456 | AU31: 71.6928 | AV31: 55.940793 | AW31: 89.0875 | AX31: 21.905812 | AY31: 31.995512 | AZ31: 8.8918177 | BA31: 6.5592771 | BB31: 2.0659488 | BC31: 0 | BD31: 5.951796 | BE31: 20.205753 | BF31: 25.44151 | BG31: 22.477895 | BH31: 0 | BI31: 4.3173458 | BJ31: 12.651897 | BK31: 4.2513878 | BL31: 9.2253743 | BM31: 8.9564361 | BN31: 39.571026 | BO31: 7.1065451 | BP31: 21.711803 | BQ31: 0 | BR31: 0 | BS31: 0 | BT31: 0 | BU31: 0 | BV31: 5.0517009 | BW31: 8.6758496 | BX31: 10.221953 | BY31: 13.724638 | BZ31: 36.533469 | CA31: 17.808583 | CB31: 0.17077957 | CC31: 0 | CD31: 0 | CE31: 4.9644097 | CF31: 17.291256 | CG31: 37.017633 | CH31: 19.047021 | CI31: 7.3766926 | CJ31: 6.6965587 | CK31: 0 | CL31: 1.920181 | CM31: 18.751297 | CN31: 15.822946 | CO31: 0 | CP31: 47.231937 | CQ31: 73.962649 | CR31: 27.721351 | CS31: 72.215599 | CT31: 0.5246602 | CU31: 38.256521 | CV31: 15.256596 | CW31: 0 | CX31: 2.6648855 | CY31: 0
D32: maize stover | E32: metric tons | F32: 18.612508 | G32: 13.355376 | H32: 6.4460513 | I32: 2.408064 | J32: 14.788137 | K32: 2.0538276 | L32: 34.317971 | M32: 1.8239639 | N32: 0 | O32: 4.845873 | P32: 10.937079 | Q32: 10.701526 | R32: 0 | S32: 3.2040255 | T32: 0 | U32: 0 | V32: 1.6222355 | W32: 0.81413008 | X32: 6.5787727 | Y32: 15.751901 | Z32: 2.9958157 | AA32: 0.78061525 | AB32: 5.7840409 | AC32: 4.8273014 | AD32: 0 | AE32: 1.457256 | AF32: 0.57263915 | AG32: 0 | AH32: 10.910364 | AI32: 4.0440821 | AJ32: 0 | AK32: 0 | AL32: 0 | AM32: 8.0555172 | AN32: 4.5793999 | AO32: 5.9726993 | AP32: 2.2490444 | AQ32: 1.2134216 | AR32: 0 | AS32: 0 | AT32: 0 | AU32: 22.303964 | AV32: 12.193905 | AW32: 8.6880927 | AX32: 24.011684 | AY32: 27.078048 | AZ32: 25.429186 | BA32: 11.348356 | BB32: 0.46163953 | BC32: 0 | BD32: 21.49599 | BE32: 35.026173 | BF32: 57.415413 | BG32: 45.47905 | BH32: 0 | BI32: 25.875841 | BJ32: 1.0188244 | BK32: 0.03883164 | BL32: 24.398973 | BM32: 2.34758 | BN32: 1.0692754 | BO32: 0.12920612 | BP32: 0 | BQ32: 0 | BR32: 0 | BS32: 0 | BT32: 0 | BU32: 0 | BV32: 3.3039605 | BW32: 5.5659502 | BX32: 3.545889 | BY32: 10.460101 | BZ32: 21.053114 | CA32: 5.7483079 | CB32: 1.8086617 | CC32: 0 | CD32: 0 | CE32: 14.731717 | CF32: 42.786484 | CG32: 62.959548 | CH32: 37.014125 | CI32: 0 | CJ32: 0.04545789 | CK32: 0 | CL32: 8.3179906 | CM32: 20.440729 | CN32: 0 | CO32: 0 | CP32: 0 | CQ32: 0 | CR32: 0 | CS32: 0 | CT32: 0 | CU32: 0 | CV32: 0 | CW32: 0 | CX32: 0 | CY32: 0
D33: barley straw | E33: metric tons | F33: 6.4836436 | G33: 0.9903104 | H33: 2.1846979 | I33: 5.3034304 | J33: 2.0120485 | K33: 5.6302738 | L33: 3.9905661 | M33: 0.88946395 | N33: 0 | O33: 8.7000768 | P33: 9.4781413 | Q33: 11.038696 | R33: 0 | S33: 6.6749269 | T33: 0 | U33: 0 | V33: 9.0439148 | W33: 16.419479 | X33: 7.6249497 | Y33: 10.641949 | Z33: 8.1201403 | AA33: 2.7011958 | AB33: 17.123018 | AC33: 14.018008 | AD33: 8.541371 | AE33: 15.53236 | AF33: 20.19066 | AG33: 4.9700254 | AH33: 1.5394945 | AI33: 0.57930813 | AJ33: 0 | AK33: 0 | AL33: 0 | AM33: 7.6434669 | AN33: 3.9640059 | AO33: 6.0008453 | AP33: 2.5045426 | AQ33: 0.53028984 | AR33: 0 | AS33: 1.4823036 | AT33: 0.55324545 | AU33: 20.195531 | AV33: 16.735972 | AW33: 13.720225 | AX33: 7.9499259 | AY33: 7.2954023 | AZ33: 1.982569 | BA33: 1.4943204 | BB33: 0.45357613 | BC33: 0 | BD33: 1.3404895 | BE33: 4.221954 | BF33: 6.3442681 | BG33: 5.366657 | BH33: 0 | BI33: 0.81878443 | BJ33: 0.88666978 | BK33: 0.27589052 | BL33: 1.0114356 | BM33: 0.70541081 | BN33: 6.2890552 | BO33: 3.1500142 | BP33: 2.4214032 | BQ33: 0 | BR33: 0 | BS33: 0 | BT33: 0 | BU33: 0 | BV33: 1.8255809 | BW33: 2.7565396 | BX33: 3.0792441 | BY33: 6.0286778 | BZ33: 8.091993 | CA33: 3.8866955 | CB33: 0.078244611 | CC33: 0 | CD33: 0 | CE33: 1.0436667 | CF33: 3.693059 | CG33: 6.2053677 | CH33: 1.8427918 | CI33: 3.4208319 | CJ33: 4.1540313 | CK33: 0 | CL33: 1.4722066 | CM33: 5.1785244 | CN33: 7.8412761 | CO33: 0 | CP33: 17.33073 | CQ33: 13.176945 | CR33: 8.0840831 | CS33: 18.320037 | CT33: 0.02906422 | CU33: 9.7334715 | CV33: 8.8742323 | CW33: 0 | CX33: 5.7880707 | CY33: 0
D34: rapeseed straw | E34: metric tons | F34: 3.2819112 | G34: 0.035700591 | H34: 0.46685345 | I34: 0.87021474 | J34: 0.066535139 | K34: 1.6624255 | L34: 5.8789809 | M34: 0.95083546 | N34: 0 | O34: 13.146496 | P34: 3.8820835 | Q34: 4.3008837 | R34: 0 | S34: 12.191295 | T34: 0 | U34: 0 | V34: 7.3637176 | W34: 25.92114 | X34: 5.9637242 | Y34: 4.3563762 | Z34: 6.424438 | AA34: 2.563408 | AB34: 21.198686 | AC34: 26.966187 | AD34: 7.8361358 | AE34: 21.341425 | AF34: 7.4386263 | AG34: 2.9491659 | AH34: 0.090132587 | AI34: 0 | AJ34: 0 | AK34: 0 | AL34: 0 | AM34: 0.33911908 | AN34: 0.12559563 | AO34: 0.44480913 | AP34: 0.28209474 | AQ34: 0.096167967 | AR34: 0 | AS34: 0.14306889 | AT34: 0.073318312 | AU34: 18.664231 | AV34: 13.14345 | AW34: 5.7251727 | AX34: 6.556636 | AY34: 5.2699552 | AZ34: 0.81080424 | BA34: 0.79007042 | BB34: 0.099946883 | BC34: 0 | BD34: 0.85601013 | BE34: 4.2783352 | BF34: 7.1777515 | BG34: 5.2269638 | BH34: 0 | BI34: 0.095081929 | BJ34: 0.041786882 | BK34: 0.00019838012 | BL34: 0.14558889 | BM34: 0.048274737 | BN34: 5.325236 | BO34: 1.7994877 | BP34: 3.7416391 | BQ34: 0 | BR34: 0 | BS34: 0 | BT34: 0 | BU34: 0 | BV34: 1.209262 | BW34: 1.7047188 | BX34: 2.1799972 | BY34: 7.5006944 | BZ34: 14.3257 | CA34: 8.763806 | CB34: 0 | CC34: 0 | CD34: 0 | CE34: 0.56758729 | CF34: 5.1611583 | CG34: 13.597372 | CH34: 3.3037081 | CI34: 0.89308635 | CJ34: 2.1856427 | CK34: 0 | CL34: 0.15435067 | CM34: 6.2341925 | CN34: 5.7530393 | CO34: 0 | CP34: 12.26674 | CQ34: 23.610252 | CR34: 6.8671167 | CS34: 16.197208 | CT34: 0.014491167 | CU34: 11.636673 | CV34: 4.6340754 | CW34: 0 | CX34: 0.55815245 | CY34: 0
F36: 1.45 | G36: 1.51 | H36: 2 | I36: 1.5 | J36: 1.72 | K36: 1.77 | L36: 1.84 | M36: 1.61 | N36: 1.5 | O36: 1.51 | P36: 1.5 | Q36: 1.47 | R36: 1.5 | S36: 1.54 | T36: 2 | U36: 1.5 | V36: 1.46 | W36: 1.64 | X36: 1.52 | Y36: 1.2 | Z36: 1.68 | AA36: 1.64 | AB36: 1.77 | AC36: 1.45 | AD36: 1.42 | AE36: 1.62 | AF36: 2 | AG36: 1.67 | AH36: 1.88 | AI36: 2 | AJ36: 1.5 | AK36: 2 | AL36: 2 | AM36: 1.61 | AN36: 1.5 | AO36: 1.33 | AP36: 2 | AQ36: 1.97 | AR36: 2 | AS36: 1.28 | AT36: 1.5 | AU36: 1.2 | AV36: 1.56 | AW36: 1.2 | AX36: 1.6 | AY36: 1.64 | AZ36: 1.44 | BA36: 1.55 | BB36: 2 | BC36: 2 | BD36: 2 | BE36: 1.2 | BF36: 1.63 | BG36: 1.52 | BH36: 1.5 | BI36: 1.42 | BJ36: 2 | BK36: 2 | BL36: 1.54 | BM36: 1.92 | BN36: 1.51 | BO36: 1.5 | BP36: 1.61 | BQ36: 2 | BR36: 1.33 | BS36: 1.54 | BT36: 1.7 | BU36: 1.68 | BV36: 1.2 | BW36: 1.24 | BX36: 1.86 | BY36: 1.68 | BZ36: 1.36 | CA36: 1.52 | CB36: 1.69 | CC36: 1.5 | CD36: 1.5 | CE36: 2 | CF36: 2 | CG36: 2 | CH36: 2 | CI36: 1.28 | CJ36: 2 | CK36: 1.8 | CL36: 1.81 | CM36: 1.82 | CN36: 1.2 | CO36: 1.44 | CP36: 1.35 | CQ36: 1.2 | CR36: 1.2 | CS36: 1.52 | CT36: 1.2 | CU36: 1.63 | CV36: 1.85 | CW36: 2 | CX36: 1.72 | CY36: 1.22
E38: km | F38: 5
C40: fossil fuel | E40: metric tons EtOH eq. | F40: 1076003 | G40: 509581.38 | H40: 887839.86 | I40: 233368.22 | J40: 1261171.4 | K40: 702820.1 | L40: 389846.69 | M40: 385621.05 | N40: 565964.52 | O40: 2433871 | P40: 3634232.2 | Q40: 4290252.8 | R40: 1175832.6 | S40: 830032.32 | T40: 224304.47 | U40: 597066.52 | V40: 2063091.1 | W40: 538594.08 | X40: 2647804.5 | Y40: 5967804.5 | Z40: 1353800 | AA40: 332569.64 | AB40: 1364505.3 | AC40: 750077.74 | AD40: 954926.03 | AE40: 725106.22 | AF40: 2022591.9 | AG40: 409677.42 | AH40: 1318891.9 | AI40: 405738.96 | AJ40: 1080750.2 | AK40: 955943.14 | AL40: 694533.85 | AM40: 708829.29 | AN40: 1027246.4 | AO40: 893577.01 | AP40: 2154848.7 | AQ40: 1605349.8 | AR40: 0 | AS40: 2015106.5 | AT40: 10699.955 | AU40: 2077587.1 | AV40: 1853890 | AW40: 698855.28 | AX40: 924309.61 | AY40: 1516229.4 | AZ40: 1225041.3 | BA40: 1357773.2 | BB40: 1395545.7 | BC40: 0 | BD40: 809677.42 | BE40: 638588.32 | BF40: 628255.55 | BG40: 829930.32 | BH40: 1370014.5 | BI40: 3029427.1 | BJ40: 2653318.4 | BK40: 1265926.5 | BL40: 2189404.2 | BM40: 2269169 | BN40: 328064.52 | BO40: 471432.26 | BP40: 294737.1 | BQ40: 125037.1 | BR40: 641842.36 | BS40: 1338561 | BT40: 3011276.4 | BU40: 1350255.7 | BV40: 1361510.5 | BW40: 1369882.9 | BX40: 1152160.7 | BY40: 1071419.8 | BZ40: 666075.49 | CA40: 1004003.9 | CB40: 1577063.1 | CC40: 0 | CD40: 0 | CE40: 514814.7 | CF40: 599340.47 | CG40: 556828.42 | CH40: 397298.67 | CI40: 1453021 | CJ40: 1598447.6 | CK40: 646918.53 | CL40: 642570.97 | CM40: 937096.77 | CN40: 762721.3 | CO40: 2082541.1 | CP40: 1566577.5 | CQ40: 1360002 | CR40: 1672493.6 | CS40: 1769097.6 | CT40: 2538088.3 | CU40: 2605648.6 | CV40: 1591432.7 | CW40: 899940.03 | CX40: 1557902.5 | CY40: 538522.54
C41: 1G EtOH | E41: metric tons | F41: 41129.896 | G41: 19478.598 | H41: 33937.417 | I41: 16831.691 | J41: 90962.029 | K41: 50690.925 | L41: 34143.28 | M41: 33773.194 | N41: 0 | O41: 131902.6 | P41: 169857.87 | Q41: 200519.16 | R41: 54956.429 | S41: 38794.307 | T41: 10483.612 | U41: 27905.88 | V41: 96425.389 | W41: 25172.977 | X41: 123753.9 | Y41: 278925.09 | Z41: 63274.324 | AA41: 15543.743 | AB41: 63774.673 | AC41: 35057.365 | AD41: 44631.628 | AE41: 33890.239 | AF41: 77237.654 | AG41: 4564.0432 | AH41: 0 | AI41: 0 | AJ41: 0 | AK41: 0 | AL41: 22919.349 | AM41: 23391.093 | AN41: 33898.733 | AO41: 29487.696 | AP41: 71109.174 | AQ41: 52975.922 | AR41: 0 | AS41: 152016.29 | AT41: 807.18684 | AU41: 172116.1 | AV41: 153584.08 | AW41: 57896.127 | AX41: 76573.717 | AY41: 125610.85 | AZ41: 101487.61 | BA41: 112483.67 | BB41: 115612.9 | BC41: 0 | BD41: 0 | BE41: 34246.728 | BF41: 33692.594 | BG41: 44508.171 | BH41: 52956.944 | BI41: 15332.748 | BJ41: 13429.161 | BK41: 6407.1955 | BL41: 11081.165 | BM41: 11484.877 | BN41: 12912.731 | BO41: 11740.123 | BP41: 13992.303 | BQ41: 0 | BR41: 22909.437 | BS41: 47777.585 | BT41: 107482.23 | BU41: 48195.008 | BV41: 57569.789 | BW41: 57923.806 | BX41: 48717.692 | BY41: 45303.664 | BZ41: 28164.18 | CA41: 42453.064 | CB41: 4883.5373 | CC41: 0 | CD41: 0 | CE41: 35522.872 | CF41: 41355.259 | CG41: 38421.873 | CH41: 27414.116 | CI41: 71852.373 | CJ41: 79043.767 | CK41: 31990.338 | CL41: 0 | CM41: 69053.974 | CN41: 27264.686 | CO41: 74443.743 | CP41: 55999.803 | CQ41: 48615.432 | CR41: 59785.944 | CS41: 63239.206 | CT41: 90728.003 | CU41: 93143.054 | CV41: 56888.293 | CW41: 32169.788 | CX41: 55689.701 | CY41: 19250.345
G43: AT1 | H43: AT2 | I43: AT3 | J43: BE1 | K43: BE2 | L43: BE3 | M43: BG3 | N43: BG4 | O43: CY0 | P43: CZ0 | Q43: DE1 | R43: DE2 | S43: DE3 | T43: DE4 | U43: DE5 | V43: DE6 | W43: DE7 | X43: DE8 | Y43: DE9 | Z43: DEA | AA43: DEB | AB43: DEC | AC43: DED | AD43: DEE | AE43: DEF | AF43: DEG | AG43: DK0 | AH43: EE0 | AI43: EL5 | AJ43: EL6 | AK43: EL3 | AL43: EL4 | AM43: ES1 | AN43: ES2 | AO43: ES3 | AP43: ES4 | AQ43: ES5 | AR43: ES6 | AS43: ES7 | AT43: FI1 | AU43: FI2 | AV43: FR1 | AW43: FR2 | AX43: FR3 | AY43: FR4 | AZ43: FR5 | BA43: FR6 | BB43: FR7 | BC43: FR8 | BD43: FR9 | BE43: HR0 | BF43: HU1 | BG43: HU2 | BH43: HU3 | BI43: IE0 | BJ43: ITC | BK43: ITF | BL43: ITG | BM43: ITH | BN43: ITI | BO43: LT0 | BP43: LU0 | BQ43: LV0 | BR43: MT0 | BS43: NL1 | BT43: NL2 | BU43: NL3 | BV43: NL4 | BW43: PL1 | BX43: PL2 | BY43: PL3 | BZ43: PL4 | CA43: PL5 | CB43: PL6 | CC43: PT1 | CD43: PT2 | CE43: PT3 | CF43: RO1 | CG43: RO2 | CH43: RO3 | CI43: RO4 | CJ43: SE1 | CK43: SE2 | CL43: SE3 | CM43: SI0 | CN43: SK0 | CO43: UKC | CP43: UKD | CQ43: UKE | CR43: UKF | CS43: UKG | CT43: UKH | CU43: UKI | CV43: UKJ | CW43: UKK | CX43: UKL | CY43: UKM | CZ43: UKN
E44: km | F44: AT1 | G44: 78.412976 | H44: 235.22919 | I44: 374.09703 | J44: 1116.1491 | K44: 1152.8339 | L44: 1082.8072 | M44: 1280.582 | N44: 1160.2013 | O44: 2575.19 | P44: 323.31981 | Q44: 681.77727 | R44: 496.26571 | S44: 697.54455 | T44: 701.03722 | U44: 1003.8568 | V44: 988.82545 | W44: 751.73273 | X44: 908.58352 | Y44: 940.97903 | Z44: 938.05153 | AA44: 805.11205 | AB44: 853.89242 | AC44: 542.98573 | AD44: 713.67227 | AE44: 1044.8633 | AF44: 672.56652 | AG44: 1196.9567 | AH44: 1700.8045 | AI44: 1385.1039 | AJ44: 1668.3541 | AK44: 1698.3873 | AL44: 2074.4795 | AM44: 2487.7653 | AN44: 2053.116 | AO44: 2346.0191 | AP44: 2375.1857 | AQ44: 1969.8931 | AR44: 2671.7517 | AS44: 4197.8574 | AT44: 2151.0144 | AU44: 1895.7327 | AV44: 1255.3053 | AW44: 1298.338 | AX44: 1238.1423 | AY44: 928.29782 | AZ44: 1629.7732 | BA44: 1658.9198 | BB44: 1232.6167 | BC44: 1310.2906 | BD44: 9832.58 | BE44: 488.281 | BF44: 279.77318 | BG44: 263.12909 | BH44: 440.52869 | BI44: 2152.4161 | BJ44: 875.76473 | BK44: 1389.6803 | BL44: 1723.2842 | BM44: 663.04777 | BN44: 977.22698 | BO44: 1211.0551 | BP44: 946.29182 | BQ44: 1393.9156 | BR44: 2120.4941 | BS44: 1116.4001 | BT44: 1160.358 | BU44: 1114.0595 | BV44: 1110.3799 | BW44: 714.46189 | BX44: 478.16922 | BY44: 796.85531 | BZ44: 742.7903 | CA44: 467.80662 | CB44: 913.94427 | CC44: 2739.7045 | CD44: 5413.43 | CE44: 4341.83 | CF44: 787.25098 | CG44: 1196.4104 | CH44: 1157.0069 | CI44: 832.84394 | CJ44: 1686.4615 | CK44: 1386.2167 | CL44: 2123.6447 | CM44: 352.84212 | CN44: 320.46148 | CO44: 1923.3906 | CP44: 1849.6988 | CQ44: 1803.57 | CR44: 1677.7302 | CS44: 1704.0521 | CT44: 1549.103 | CU44: 1484.9888 | CV44: 1519.4562 | CW44: 1725.8551 | CX44: 1798.1388 | CY44: 2254.9054 | CZ44: 2245.9709
F45: AT2 | G45: 235.22919 | H45: 82.271471 | I45: 317.49444 | J45: 1089.89 | K45: 1131.3824 | L45: 1049.9712 | M45: 1280.8552 | N45: 1143.831 | O45: 2594.29 | P45: 476.36167 | Q45: 643.26477 | R45: 468.95666 | S45: 881.54889 | T45: 878.49383 | U45: 1088.0122 | V45: 1096.3633 | W45: 735.21466 | X45: 1064.0529 | Y45: 996.8415 | Z45: 922.15736 | AA45: 777.78664 | AB45: 814.53259 | AC45: 685.20017 | AD45: 790.90246 | AE45: 1167.3214 | AF45: 683.13246 | AG45: 1333.1192 | AH45: 1889.638 | AI45: 1368.3804 | AJ45: 1629.3246 | AK45: 1681.6138 | AL45: 2057.7057 | AM45: 2367.3485 | AN45: 1918.5512 | AO45: 2185.2456 | AP45: 2238.0803 | AQ45: 1809.2832 | AR45: 2511.2277 | AS45: 4037.4119 | AT45: 2369.9378 | AU45: 2040.3056 | AV45: 1218.6639 | AW45: 1252.9201 | AX45: 1210.5278 | AY45: 884.90711 | AZ45: 1587.6168 | BA45: 1526.4925 | BB45: 1116.0563 | BC45: 1132.0041 | BD45: 9680.85 | BE45: 389.72265 | BF45: 440.76833 | BG45: 347.2037 | BH45: 603.91 | BI45: 2127.9279 | BJ45: 694.43267 | BK45: 1172.8749 | BL45: 1507.5009 | BM45: 459.86768 | BN45: 761.06631 | BO45: 1399.888 | BP45: 905.90111 | BQ45: 1582.748 | BR45: 1904.7089 | BS45: 1104.2368 | BT45: 1143.8249 | BU45: 1097.8905 | BV45: 1093.3375 | BW45: 903.29496 | BX45: 667.1346 | BY45: 985.68803 | BZ45: 932.62898 | CA45: 646.52698 | CB45: 1102.5139 | CC45: 2615.0162 | CD45: 5274.48 | CE45: 4192.19 | CF45: 948.79389 | CG45: 1352.2735 | CH45: 1284.9902 | CI45: 917.45457 | CJ45: 1831.0328 | CK45: 1530.7882 | CL45: 2268.2165 | CM45: 202.0412 | CN45: 501.12972 | CO45: 1898.904 | CP45: 1825.2117 | CQ45: 1779.0832 | CR45: 1653.2432 | CS45: 1679.5649 | CT45: 1524.6159 | CU45: 1460.5019 | CV45: 1494.9688 | CW45: 1701.3681 | CX45: 1773.6513 | CY45: 2230.4178 | CZ45: 2221.4824
F46: AT3 | G46: 374.09703 | H46: 317.49444 | I46: 94.712355 | J46: 875.6 | K46: 930.18845 | L46: 824.06867 | M46: 1525.7166 | N46: 1393.3388 | O46: 2793.89 | P46: 495.6559 | Q46: 404.88761 | R46: 309.28181 | S46: 732.62267 | T46: 738.86341 | U46: 917.52867 | V46: 925.87933 | W46: 558.51218 | X46: 929.28275 | Y46: 831.80042 | Z46: 745.41444 | AA46: 570.93472 | AB46: 581.91611 | AC46: 570.63451 | AD46: 657.51748 | AE46: 1001.7162 | AF46: 540.09696 | AG46: 1183.5424 | AH46: 2050.9665 | AI46: 1606.365 | AJ46: 1837.4206 | AK46: 1931.152 | AL46: 2307.2436 | AM46: 2147.9281 | AN46: 1717.5777 | AO46: 2019.336 | AP46: 2041.0471 | AQ46: 1643.0867 | AR46: 2344.8812 | AS46: 3870.9301 | AT46: 2414.8536 | AU46: 1911.948 | AV46: 983.12792 | AW46: 994.62321 | AX46: 986.07133 | AY46: 616.85787 | AZ46: 1338.1209 | BA46: 1325.4265 | BB46: 895.94039 | BC46: 1009.5357 | BD46: 9629.2 | BE46: 625.69733 | BF46: 622.241 | BG46: 577.41993 | BH46: 783.28274 | BI46: 1915.6893 | BJ46: 575.60645 | BK46: 1193.3461 | BL46: 1513.1084 | BM46: 466.33027 | BN46: 774.153 | BO46: 1561.2165 | BP46: 667.57533 | BQ46: 1744.0767 | BR46: 1917.7083 | BS46: 925.88689 | BT46: 960.03058 | BU46: 913.976 | BV46: 909.03457 | BW46: 1045.2398 | BX46: 805.57919 | BY46: 1129.9722 | BZ46: 906.24022 | CA46: 705.47333 | CB46: 1147.6593 | CC46: 2401.192 | CD46: 5183.84 | CE46: 4134.06 | CF46: 1129.1463 | CG46: 1537.2737 | CH46: 1483.9373 | CI46: 1131.2591 | CJ46: 1702.6767 | CK46: 1402.4318 | CL46: 2139.8599 | CM46: 412.28061 | CN46: 649.19442 | CO46: 1686.6645 | CP46: 1612.9724 | CQ46: 1566.8439 | CR46: 1441.0039 | CS46: 1467.3258 | CT46: 1312.3767 | CU46: 1248.2626 | CV46: 1282.7299 | CW46: 1489.1289 | CX46: 1561.4126 | CY46: 2018.1788 | CZ46: 2009.2437
F47: BE1 | G47: 1116.1491 | H47: 1089.89 | I47: 875.6 | J47: 6.4816501 | K47: 82.892727 | L47: 98.477143 | M47: 2322.2706 | N47: 2196.313 | O47: 4015.31 | P47: 998.04286 | Q47: 540.64636 | R47: 686.78104 | S47: 775.3 | T47: 800.42778 | U47: 506.74 | V47: 599.62 | W47: 413.38 | X47: 793.7725 | Y47: 499.63913 | Z47: 272.01396 | AA47: 348.35778 | AB47: 313.66667 | AC47: 755.84077 | AD47: 652.61071 | AE47: 673.95133 | AF47: 596.29391 | AG47: 919.38182 | AH47: 2146.72 | AI47: 2395.0033 | AJ47: 2580.9178 | AK47: 2734.0971 | AL47: 3110.1887 | AM47: 1664.7583 | AN47: 1283.7838 | AO47: 1570.27 | AP47: 1614.62 | AQ47: 1539.829 | AR47: 2074.6009 | AS47: 3499.2129 | AT47: 2240.7089 | AU47: 1691.54 | AV47: 319.0125 | AW47: 421.28818 | AX47: 124.35 | AY47: 436.944 | AZ47: 687.78769 | BA47: 937.27125 | BB47: 783.3775 | BC47: 1091.3238 | BD47: 8737.91 | BE47: 1433.3167 | BF47: 1365.235 | BG47: 1332.6811 | BH47: 1525.99 | BI47: 1043.7662 | BJ47: 958.5956 | BK47: 1750.5425 | BL47: 2017.7947 | BM47: 1109.7982 | BN47: 1310.9932 | BO47: 1790.209 | BP47: 216.37 | BQ47: 1973.07 | BR47: 2468.87 | BS47: 243.25 | BT47: 188.10125 | BU47: 189.85063 | BV47: 180.70286 | BW47: 1302.8146 | BX47: 1289.8136 | BY47: 1488.4431 | BZ47: 1030.5442 | CA47: 1055.7957 | CB47: 1255.2585 | CC47: 1922.6304 | CD47: 4147.46 | CE47: 3296.7 | CF47: 1872.7417 | CG47: 2237.4333 | CH47: 2237.0856 | CI47: 1905.7033 | CJ47: 1482.2667 | CK47: 1182.0225 | CL47: 1919.4517 | CM47: 1201.6508 | CN47: 1348.37 | CO47: 814.73857 | CP47: 741.0475 | CQ47: 694.92 | CR47: 569.07818 | CS47: 595.40071 | CT47: 440.45187 | CU47: 376.3381 | CV47: 410.80571 | CW47: 617.205 | CX47: 689.48917 | CY47: 1146.2539 | CZ47: 1137.318
F48: BE2 | G48: 1152.8339 | H48: 1131.3824 | I48: 930.18845 | J48: 82.892727 | K48: 59.398715 | L48: 154.42481 | M48: 2358.9551 | N48: 2232.9986 | O48: 4031.11 | P48: 1023.973 | Q48: 592.93876 | R48: 729.63096 | S48: 777.135 | T48: 802.9923 | U48: 511.03977 | V48: 601.70273 | W48: 445.29516 | X48: 795.85432 | Y48: 503.67016 | Z48: 288.86334 | AA48: 390.7426 | AB48: 370.46227 | AC48: 766.13231 | AD48: 656.44406 | AE48: 676.03173 | AF48: 611.33466 | AG48: 921.46083 | AH48: 2148.704 | AI48: 2433.8703 | AJ48: 2627.8329 | AK48: 2770.7819 | AL48: 3146.8741 | AM48: 1678.847 | AN48: 1297.8732 | AO48: 1584.365 | AP48: 1628.5998 | AQ48: 1549.1699 | AR48: 2086.9189 | AS48: 3513.3054 | AT48: 2242.7886 | AU48: 1693.6159 | AV48: 332.79602 | AW48: 441.27932 | AX48: 127.58159 | AY48: 495.06877 | AZ48: 699.57755 | BA48: 951.36332 | BB48: 800.9039 | BC48: 1112.779 | BD48: 8765.01 | BE48: 1472.0612 | BF48: 1401.9211 | BG48: 1369.3658 | BH48: 1562.6759 | BI48: 1015.5032 | BJ48: 1010.6923 | BK48: 1808.9731 | BL48: 2076.3373 | BM48: 1166.012 | BN48: 1369.4234 | BO48: 1792.047 | BP48: 279.61136 | BQ48: 1974.9072 | BR48: 2527.3 | BS48: 249.64833 | BT48: 203.21222 | BU48: 205.24014 | BV48: 192.93214 | BW48: 1304.6545 | BX48: 1298.1002 | BY48: 1492.7606 | BZ48: 1032.385 | CA48: 1064.0845 | CB48: 1257.0958 | CC48: 1936.7204 | CD48: 4170.39 | CE48: 3327.89 | CF48: 1909.4264 | CG48: 2259.9192 | CH48: 2273.7691 | CI48: 1942.3866 | CJ48: 1484.3457 | CK48: 1184.1007 | CL48: 1921.5286 | CM48: 1252.582 | CN48: 1377.7852 | CO48: 786.47838 | CP48: 712.78609 | CQ48: 666.65769 | CR48: 540.81723 | CS48: 567.13909 | CT48: 412.19037 | CU48: 348.0763 | CV48: 382.54355 | CW48: 588.94295 | CX48: 661.22636 | CY48: 1117.9925 | CZ48: 1109.058
F49: BE3 | G49: 1082.8072 | H49: 1049.9712 | I49: 824.06867 | J49: 98.477143 | K49: 154.42481 | L49: 66.29918 | M49: 2275.4798 | N49: 2147.8419 | O49: 3871.61 | P49: 966.19592 | Q49: 487.49442 | R49: 642.98064 | S49: 772.94857 | T49: 795.52357 | U49: 525.66833 | V49: 608.35571 | W49: 387.8787 | X49: 803.8472 | Y49: 509.34541 | Z49: 274.38931 | AA49: 304.70247 | AB49: 260.85579 | AC49: 737.87337 | AD49: 648.07684 | AE49: 682.68467 | AF49: 576.34157 | AG49: 928.11446 | AH49: 2151.0181 | AI49: 2344.3837 | AJ49: 2533.3219 | AK49: 2685.6255 | AL49: 3061.7176 | AM49: 1669.8747 | AN49: 1288.901 | AO49: 1575.3943 | AP49: 1617.2861 | AQ49: 1485.3828 | AR49: 2064.2308 | AS49: 3504.3324 | AT49: 2249.4419 | AU49: 1700.27 | AV49: 325.36202 | AW49: 415.26725 | AX49: 176.725 | AY49: 385.21762 | AZ49: 695.36509 | BA49: 942.49783 | BB49: 731.64905 | BC49: 1030.9411 | BD49: 8852.61 | BE49: 1371.6501 | BF49: 1331.8948 | BG49: 1299.3396 | BH49: 1492.649 | BI49: 1109.0115 | BJ49: 902.02263 | BK49: 1697.0886 | BL49: 1964.4158 | BM49: 1054.7225 | BN49: 1257.5389 | BO49: 1787.8516 | BP49: 169.5 | BQ49: 1970.7117 | BR49: 2415.4162 | BS49: 302.94889 | BT49: 263.85054 | BU49: 250.01955 | BV49: 248.44524 | BW49: 1298.8136 | BX49: 1266.8154 | BY49: 1477.5909 | BZ49: 1026.1809 | CA49: 1032.7994 | CB49: 1252.8574 | CC49: 1927.7485 | CD49: 4275.62 | CE49: 3396.44 | CF49: 1839.4004 | CG49: 2211.6108 | CH49: 2202.0618 | CI49: 1865.6364 | CJ49: 1490.9989 | CK49: 1190.7546 | CL49: 1928.1825 | CM49: 1148.5294 | CN49: 1317.9647 | CO49: 879.9868 | CP49: 806.29455 | CQ49: 760.16593 | CR49: 634.3258 | CS49: 660.64755 | CT49: 505.69884 | CU49: 441.58463 | CV49: 476.05197 | CW49: 682.45123 | CX49: 754.7348 | CY49: 1211.5011 | CZ49: 1202.5667
F50: BG3 | G50: 1280.582 | H50: 1280.8552 | I50: 1525.7166 | J50: 2322.2706 | K50: 2358.9551 | L50: 2275.4798 | M50: 133.22954 | N50: 314.75994 | O50: 1091.01 | P50: 1497.8248 | Q50: 1852.6167 | R50: 1685.4134 | S50: 1879.8172 | T50: 1888.9326 | U50: 2187.0503 | V50: 2166.8233 | W50: 1957.9312 | X50: 2093.6535 | Y50: 2128.0797 | Z50: 2144.5344 | AA50: 2002.2119 | AB50: 2020.5406 | AC50: 1728.5993 | AD50: 1891.0337 | AE50: 2225.0801 | AF50: 1854.2934 | AG50: 2377.9819 | AH50: 2343.5797 | AI50: 627.62935 | AJ50: 974.24926 | AK50: 1020.3521 | AL50: 1384.746 | AM50: 3409.5456 | AN50: 2958.1644 | AO50: 3219.9261 | AP50: 3277.1822 | AQ50: 2844.0059 | AR50: 3545.9724 | AS50: 5072.1765 | AT50: 2901.4648 | AU50: 3081.9489 | AV50: 2429.2033 | AW50: 2424.9009 | AX50: 2444.2639 | AY50: 2084.2693 | AZ50: 2745.5522 | BA50: 2566.2176 | BB50: 2159.5614 | BC50: 2165.9144 | BD50: 10791.33 | BE50: 1087.7462 | BF50: 1007.8511 | BG50: 1074.5394 | BH50: 973.88012 | BI50: 3358.5375 | BJ50: 1728.3092 | BK50: 1380.8647 | BL50: 2022.8938 | BM50: 1501.4656 | BN50: 1752.3411 | BO50: 2083.9831 | BP50: 2110.1906 | BQ50: 2179.4488 | BR50: 1960.3667 | BS50: 2320.181 | BT50: 2366.4791 | BU50: 2320.6681 | BV50: 2316.5011 | BW50: 1697.6865 | BX50: 1449.727 | BY50: 1470.4179 | BZ50: 1896.2405 | CA50: 1621.6094 | CB50: 1988.9977 | CC50: 3656.4496 | CD50: 6629.68 | CE50: 5421.57 | CF50: 632.82093 | CG50: 490.44403 | CH50: 289.31333 | CI50: 519.21105 | CJ50: 2872.6782 | CK50: 2572.4328 | CL50: 3309.8608 | CM50: 1190.9443 | CN50: 1200.2155 | CO50: 3129.5122 | CP50: 3055.8201 | CQ50: 3009.6912 | CR50: 2883.8516 | CS50: 2910.1733 | CT50: 2755.2244 | CU50: 2691.1103 | CV50: 2725.5777 | CW50: 2931.9769 | CX50: 3004.2602 | CY50: 3461.0266 | CZ50: 3452.092
...

Sheet Data 2
B1: Environmental data and parameters - Life Cycle Inventory (LCI) modeling
B2: Parameter | C2: Index 1 | D2: Index 2 | E2: Functional unit | F2: Technosphere input | G2: Allocation | H2: Unit | J2: Comment
F3: Environmental parameter allocation noted as SimaPro 9.0 / ecoinvent 3.5 processes.
F4: t refers to metric tons
E6: 1 kg EtOH | F6: Average 1G Ethanol, without water, in 99.7% solution state, from fermentation {EU average}| dewatering of ethanol from biomass, from 95% to 99.7% solution state | APOS, U | G6: 1 | H6: kg | J6: Average 1G Ethanol, without water, in 99.7% solution state, from fermentation, at service station {EU average}| market for | APOS, U
F7: Average 1G Ethanol, without water, in 99.7% solution state, from fermentation {EU average}| dewatering of ethanol from biomass, from 95% to 99.7% solution state | APOS, U | G7: 0.00057150983 | H7: kg
F8: Electricity, low voltage {RER}| market group for | APOS, U | G8: 0.00669999 | H8: kWh
F9: Tap water {RER}| market group for | APOS, U | G9: 0.00068899897 | H9: kg
F10: Heat, central or small-scale, other than natural gas {RER}| market group for | APOS, U | G10: 0.00058373913 | H10: MJ
F11: 1G Transport, freight train {Europe without Switzerland}| market for | APOS, U_bionetwork | G11: 0.109 | H11: tkm
F12: 1G Transport, freight, inland waterways, barge tanker {RER}| processing | APOS, U | G12: 0.039 | H12: tkm
F13: 1G Transport, freight, lorry >32 metric ton, EURO5 {RER}| transport, freight, lorry >32 metric ton, EURO5 | APOS, U_bionetwork | G13: 0.239 | H13: tkm
F14: 1G Transport, freight, lorry >32 metric ton, EURO6 {RER}| transport, freight, lorry >32 metric ton, EURO6 | APOS, U_bionetwork | G14: 0.239 | H14: tkm
E16: petrol in 1 kg EtOH eq | F16: Electricity, low voltage {Europe without Switzerland}| market group for | APOS, U | G16: 0.0066999982 | H16: kWh | J16: Petrol, low-sulfur {Europe without Switzerland}| market for | APOS, U
F17: Heat, central or small-scale, other than natural gas {Europe without Switzerland}| market for heat, central or small-scale, other than natural gas | APOS, U | G17: 0.00058373984 | H17: MJ
F18: Infrastructure, for regional distribution of oil product {GLO}| market for | APOS, U | G18: 2.7799993e-10 | H18: p
F19: Petrol, low-sulfur {Europe without Switzerland}| market for | APOS, U | G19: 0.00056212753 | H19: kg
F20: Petrol, low-sulfur {Europe without Switzerland}| production | APOS, U | G20: 1 | H20: kg
F21: Tap water {Europe without Switzerland}| market for | APOS, U | G21: 0.00068899982 | H21: kg
F22: Transport, freight train {Europe without Switzerland}| market for | APOS, U | G22: 0.043999988 | H22: tkm
F23: Transport, freight, inland waterways, barge tanker {GLO}| market group for transport, freight, inland waterways, barge tanker | APOS, U | G23: 0.032299991 | H23: tkm
F24: Transport, freight, light commercial vehicle {GLO}| market group for transport, freight, light commercial vehicle | APOS, U | G24: 0.0017999995 | H24: tkm
F25: Transport, freight, lorry, unspecified {GLO}| market group for transport, freight, lorry, unspecified | APOS, U | G25: 0.056699985 | H25: tkm
F26: Transport, pipeline, onshore, petroleum {RER}| market for transport, pipeline, onshore, petroleum | APOS, U | G26: 0.55899985 | H26: tkm
C28: p = electricity | D28: r = AT | E28: 1 MJ | F28: 1 MJ Electricity, medium voltage {AT}| market for | APOS, U (of project Ecoinvent 3 - allocation at point of substitution - unit) | G28: 1 | H28: MJ
D29: r = BE | F29: 1 MJ Electricity, medium voltage {BE}| market for | APOS, U (of project Ecoinvent 3 - allocation at point of substitution - unit) | G29: 1 | H29: MJ
D30: r = BG | F30: 1 MJ Electricity, medium voltage {BG}| market for | APOS, U (of project Ecoinvent 3 - allocation at point of substitution - unit) | G30: 1 | H30: MJ
D31: r = CY | F31: 1 MJ Electricity, medium voltage {CY}| market for | APOS, U (of project Ecoinvent 3 - allocation at point of substitution - unit) | G31: 1 | H31: MJ
D32: r = CZ | F32: 1 MJ Electricity, medium voltage {CZ}| market for | APOS, U (of project Ecoinvent 3 - allocation at point of substitution - unit) | G32: 1 | H32: MJ
D33: r = DE | F33: 1 MJ Electricity, medium voltage {DE}| market for | APOS, U (of project Ecoinvent 3 - allocation at point of substitution - unit) | G33: 1 | H33: MJ
D34: r = DK | F34: 1 MJ Electricity, medium voltage {DK}| market for | APOS, U (of project Ecoinvent 3 - allocation at point of substitution - unit) | G34: 1 | H34: MJ
D35: r = EE | F35: 1 MJ Electricity, medium voltage {EE}| market for | APOS, U (of project Ecoinvent 3 - allocation at point of substitution - unit) | G35: 1 | H35: MJ
D36: r = EL | F36: 1 MJ Electricity, medium voltage {EL}| market for | APOS, U (of project Ecoinvent 3 - allocation at point of substitution - unit) | G36: 1 | H36: MJ
D37: r = ES | F37: 1 MJ Electricity, medium voltage {ES}| market for | APOS, U (of project Ecoinvent 3 - allocation at point of substitution - unit) | G37: 1 | H37: MJ
D38: r = FI | F38: 1 MJ Electricity, medium voltage {FI}| market for | APOS, U (of project Ecoinvent 3 - allocation at point of substitution - unit) | G38: 1 | H38: MJ
D39: r = FR | F39: 1 MJ Electricity, medium voltage {FR}| market for | APOS, U (of project Ecoinvent 3 - allocation at point of substitution - unit) | G39: 1 | H39: MJ
D40: r = HR | F40: 1 MJ Electricity, medium voltage {HR}| market for | APOS, U (of project Ecoinvent 3 - allocation at point of substitution - unit) | G40: 1 | H40: MJ
... D55: r = UK | F55: 1 MJ Electricity, medium voltage {UK}| market for | APOS, U (of project Ecoinvent 3 - allocation at point of substitution - unit) | G55: 1 | H55: MJ
C56: p = biogas | D56: r = AT | E56: 1 m3 | F56: 1 m3 Natural gas, high pressure {AT}| market for | APOS, U (of project Ecoinvent 3 - allocation at point of substitution - unit) | G56: 1 | H56: m3
D57: r = BE | F57: 1 m3 Natural gas, high pressure {BE}| market for | APOS, U (of project Ecoinvent 3 - allocation at point of substitution - unit) | G57: 1 | H57: m3
...

Sheet Data 3
B1: Environmental data and parameters - Values
B2: Parameter | C2: Dimension | D2: Index | E2: Unit | F2: Values
E3: t refers to metric tons
C5: hum. health | E5: DALY/t EtOH | F5: 0.0017657704
C6: ecos. qual. | E6: Species.Yr/t EtOH | F6: 2.4208486e-05
C7: res. scarcity | E7: USD2013/t EtOH | F7: 130.42994
C8: midpoint 1 | E8: kg CO2 eq/t EtOH | F8: -371.52806
C9: midpoint 2 | E9: kg CFC11 eq/t EtOH | F9: 0.013645478
C10: midpoint 3 | E10: kBq Co-60 eq/t EtOH | F10: 77.999762
C11: midpoint 4 | E11: kg NOx eq/t EtOH | F11: 2.6128011
C12: midpoint 5 | E12: kg PM2.5 eq/t EtOH | F12: 2.4662873
C13: midpoint 6 | E13: kg NOx eq/t EtOH | F13: 2.696113
C14: midpoint 7 | E14: kg SO2 eq/t EtOH | F14: 12.838055
C15: midpoint 8 | E15: kg P eq/t EtOH | F15: 0.37127896
C16: midpoint 9 | E16: kg N eq/t EtOH | F16: 4.2983409
... C47: midpoint 18 | E47: m3/t EtOH eq. | F47: 4.2408302
F49: AT1 | G49: AT2 | H49: AT3 | I49: BE1 | J49: BE2 | K49: BE3 | L49: BG3 | M49: BG4 | N49: CY0 | O49: CZ0 | P49: DE1 | Q49: DE2 | R49: DE3 | S49: DE4 | T49: DE5 | U49: DE6 | V49: DE7 | W49: DE8 | X49: DE9 | Y49: DEA | Z49: DEB | AA49: DEC | AB49: DED | AC49: DEE | AD49: DEF | AE49: DEG | AF49: DK0 | AG49: EE0 | AH49: EL5 | AI49: EL6 | AJ49: EL3 | AK49: EL4 | AL49: ES1 | AM49: ES2 | AN49: ES3 | AO49: ES4 | AP49: ES5 | AQ49: ES6 | AR49: ES7 | AS49: FI1 | AT49: FI2 | AU49: FR1 | AV49: FR2 | AW49: FR3 | AX49: FR4 | AY49: FR5 | AZ49: FR6 | BA49: FR7 | BB49: FR8 | BC49: FR9 | BD49: HR0 | BE49: HU1 | BF49: HU2 | BG49: HU3 | BH49: IE0 | BI49: ITC | BJ49: ITF | BK49: ITG | BL49: ITH | BM49: ITI | BN49: LT0 | BO49: LU0 | BP49: LV0 | BQ49: MT0 | BR49: NL1 | BS49: NL2 | BT49: NL3 | BU49: NL4 | BV49: PL1 | BW49: PL2 | BX49: PL3 | BY49: PL4 | BZ49: PL5 | CA49: PL6 | CB49: PT1 | CC49: PT2 | CD49: PT3 | CE49: RO1 | CF49: RO2 | CG49: RO3 | CH49: RO4 | CI49: SE1 | CJ49: SE2 | CK49: SE3 | CL49: SI0 | CM49: SK0 | CN49: UKC | CO49: UKD | CP49: UKE | CQ49: UKF | CR49: UKG | CS49: UKH | CT49: UKI | CU49: UKJ | CV49: UKK | CW49: UKL | CX49: UKM | CY49: UKN
C50: hum. health | D50: p = surplus electricity | E50: DALY/MJ | F50: 1.7170694e-07 | G50: 1.7170694e-07 | H50: 1.7170694e-07 | I50: 1.2609226e-07 | J50: 1.2609226e-07 | K50: 1.2609226e-07 | L50: 5.3121552e-07 | M50: 5.3121552e-07 | N50: 6.8091734e-07 | O50: 4.5729925e-07 | P50: 3.3011411e-07 | Q50: 3.3011411e-07 | R50: 3.3011411e-07 | S50: 3.3011411e-07 | T50: 3.3011411e-07 | U50: 3.3011411e-07 | V50: 3.3011411e-07 | W50: 3.3011411e-07 | X50: 3.3011411e-07 | Y50: 3.3011411e-07 | Z50: 3.3011411e-07 | AA50: 3.3011411e-07 | AB50: 3.3011411e-07 | AC50: 3.3011411e-07 | AD50: 3.3011411e-07 | AE50: 3.3011411e-07 | AF50: 1.9048906e-07 | AG50: 5.6725203e-07 | AH50: 8.9427061e-07 | AI50: 8.9427061e-07 | AJ50: 8.9427061e-07 | AK50: 8.9427061e-07 | AL50: 2.6755576e-07 | AM50: 2.6755576e-07 | AN50: 2.6755576e-07 | AO50: 2.6755576e-07 | AP50: 2.6755576e-07 | AQ50: 2.6755576e-07 | AR50: 2.6755576e-07 | AS50: 1.281645e-07 | AT50: 1.281645e-07 | AU50: 4.1123375e-08 | AV50: 4.1123375e-08 | AW50: 4.1123375e-08 | AX50: 4.1123375e-08 | AY50: 4.1123375e-08 | AZ50: 4.1123375e-08 | BA50: 4.1123375e-08 | BB50: 4.1123375e-08 | BC50: 4.1123375e-08 | BD50: 3.6409934e-07 | BE50: 3.1197211e-07 | BF50: 3.1197211e-07 | BG50: 3.1197211e-07 | BH50: 2.5768166e-07 | BI50: 2.5191638e-07 | BJ50: 2.5191638e-07 | BK50: 2.5191638e-07 | BL50: 2.5191638e-07 | BM50: 2.5191638e-07 | BN50: 3.3457101e-07 | BO50: 2.7467404e-07 | BP50: 3.5775627e-07 | BQ50: 8.2202154e-07 | BR50: 2.6159774e-07 | BS50: 2.6159774e-07 | BT50: 2.6159774e-07 | BU50: 2.6159774e-07 | BV50: 7.2615767e-07 | BW50: 7.2615767e-07 | BX50: 7.2615767e-07 | BY50: 7.2615767e-07 | BZ50: 7.2615767e-07 | CA50: 7.2615767e-07 | CB50: 2.6185617e-07 | CC50: 2.6185617e-07 | CD50: 2.6185617e-07 | CE50: 4.5117657e-07 | CF50: 4.5117657e-07 | CG50: 4.5117657e-07 | CH50: 4.5117657e-07 | CI50: 3.69196e-08 | CJ50: 3.69196e-08 | CK50: 3.69196e-08 | CL50: 3.7985293e-07 | CM50: 3.3665855e-07 | CN50: 3.0495619e-07 | CO50: 3.0495619e-07 | CP50: 3.0495619e-07 | CQ50: 3.0495619e-07 | CR50: 3.0495619e-07 | CS50: 3.0495619e-07 | CT50: 3.0495619e-07 | CU50: 3.0495619e-07 | CV50: 3.0495619e-07 | CW50: 3.0495619e-07 | CX50: 3.0495619e-07 | CY50: 3.0495619e-07
C51: ecos. qual. | E51: Species.Yr/MJ | F51: 4.5255616e-10 | G51: 4.5255616e-10 | H51: 4.5255616e-10 | I51: 3.3954642e-10 | J51: 3.3954642e-10 | K51: 3.3954642e-10 | L51: 9.9577995e-10 | M51: 9.9577995e-10 | N51: 1.3964366e-09 | O51: 1.0869801e-09 | P51: 8.4946686e-10 | Q51: 8.4946686e-10 | R51: 8.4946686e-10 | S51: 8.4946686e-10 | T51: 8.4946686e-10 | U51: 8.4946686e-10 | V51: 8.4946686e-10 | W51: 8.4946686e-10 | X51: 8.4946686e-10 | Y51: 8.4946686e-10 | Z51: 8.4946686e-10 | AA51: 8.4946686e-10 | AB51: 8.4946686e-10 | AC51: 8.4946686e-10 | AD51: 8.4946686e-10 | AE51: 8.4946686e-10 | AF51: 5.8294316e-10 | AG51: 1.2670379e-09 | AH51: 1.6017599e-09 | AI51: 1.6017599e-09 | AJ51: 1.6017599e-09 | AK51: 1.6017599e-09 | AL51: 4.9956915e-10 | AM51: 4.9956915e-10 | AN51: 4.9956915e-10 | AO51: 4.9956915e-10 | AP51: 4.9956915e-10 | AQ51: 4.9956915e-10 | AR51: 4.9956915e-10 | AS51: 3.8602758e-10 | AT51: 3.8602758e-10 | AU51: 8.0577178e-11 | AV51: 8.0577178e-11 | AW51: 8.0577178e-11 | AX51: 8.0577178e-11 | AY51: 8.0577178e-11 | AZ51: 8.0577178e-11 | BA51: 8.0577178e-11 | BB51: 8.0577178e-11 | BC51: 8.0577178e-11 | BD51: 6.5901988e-10 | BE51: 7.3927096e-10 | BF51: 7.3927096e-10 | BG51: 7.3927096e-10 | BH51: 6.095372e-10 | BI51: 5.7445533e-10 | BJ51: 5.7445533e-10 | BK51: 5.7445533e-10 | BL51: 5.7445533e-10 | BM51: 5.7445533e-10 | BN51: 7.6563664e-10 | BO51: 7.1636978e-10 | BP51: 8.2445029e-10 | BQ51: 1.6929388e-09 | BR51: 6.9062535e-10 | BS51: 6.9062535e-10 | BT51: 6.9062535e-10 | BU51: 6.9062535e-10 | BV51: 1.5988636e-09 | BW51: 1.5988636e-09 | BX51: 1.5988636e-09 | BY51: 1.5988636e-09 | BZ51: 1.5988636e-09 | CA51: 1.5988636e-09 | CB51: 5.4887265e-10 | CC51: 5.4887265e-10 | CD51: 5.4887265e-10 | CE51: 6.9918116e-10 | CF51: 6.9918116e-10 | CG51: 6.9918116e-10 | CH51: 6.9918116e-10 | CI51: 1.3479619e-10 | CJ51: 1.3479619e-10 | CK51: 1.3479619e-10 | CL51: 6.6435799e-10 | CM51: 7.017733e-10 | CN51: 7.3087657e-10 | CO51: 7.3087657e-10 | CP51: 7.3087657e-10 | CQ51: 7.3087657e-10 | CR51: 7.3087657e-10 | CS51: 7.3087657e-10 | CT51: 7.3087657e-10 | CU51: 7.3087657e-10 | CV51: 7.3087657e-10 | CW51: 7.3087657e-10 | CX51: 7.3087657e-10 | CY51: 7.3087657e-10
