Workbook
Name materialenInProducten_voorraad_wide: '2.8.'!$A$44:$DO$82

Sheet Front page
A1: Table of contents
A2: 1. Overview of the Dutch urban mine
A3: 2. In-use stocks per sector
A4: 2.1. Buildings
A5: 2.2. Road, rail and waterways infrastructure
A6: 2.3. Electricity system
A7: 2.4. Heating system
A8: 2.5. Drinking water and sewage infrastructure
A9: 2.6. Vehicles
A10: 2.7. Consumer electronics
A11: 2.8. Machinery, textiles, other consumer goods
A12: 3. Hibernating stocks
... A16: In this preadsheet we present an overview of the in-use stocks in the Netherlands around 2020, specified per category of application and per material. In tab page 1, the totals can be found. In tab pages 2.1 to 2.8 a further specification is provided of the categories of applications, and the conversion from source data to the format of tab page 1 is provided. In tab page 3, an estimate is provided of the so-called hibernating stocks. Tab page 4 contains the references. Most references are to reports in Dutch, compiled for the Dutch urban mine project. Further references can be found in these reports, and especially in the annexes and the databases that go with them. All can be found at the project website: https://www.universiteitleiden.nl/en/research/research-projects/science/cml-urban-mine-of-the-netherlands

Sheet 1.
F1: Construction materials | N1: Metals | U1: Biobased materials | X1: Other materials | AD1: Critical raw materials (CRM)
A2: Category | B2: Product | C2: Unit | D2: Year | E2: Source | F2: Concrete | G2: Brick | H2: Asphalt | I2: Sand, gravel, clay | J2: Gypsum | K2: Stone | L2: Recycled CDW | M2: Other construction materials | N2: Iron and steel | O2: Copper | P2: Aluminium | Q2: Zinc | R2: Lead | S2: Alloying elements (non critical) | T2: Other metals (non critical) | U2: Wood | V2: Other biobased materials | W2: Textile, biobased | X2: Plastics | Y2: Insulation materials | Z2: Other materials | AA2: Glass | AB2: Ceramics | AC2: Textile, unspec. | AD2: Nd | AE2: Dy | AF2: Pr | AG2: In | AH2: Ga | AI2: Ge | AJ2: Ag | AK2: Li | AL2: Tb | AM2: Si | AN2: Pd | AO2: Co | AP2: Au | AQ2: Pt | AR2: Ta | AS2: Mg | AT2: Ti | AU2: Graphite | AV2: Sr | AW2: W | AX2: Y | AY2: La | AZ2: Nb | BA2: V | BB2: Ce | BC2: Hf | BD2: Unspecified CRM | BE2: Total CRM | BG2: Total
A3: Buildings | B3: Detached houses | C3: ton | D3: 2018 | E3: van Oorschot et al., 2020b | F3: =SUM('2.1.'!H13:'2.1.'!H16) -> 4.650627e+08 | G3: =SUM('2.1.'!I13:'2.1.'!I16) -> 68617915 | I3: =SUM('2.1.'!U13:'2.1.'!U16) -> 7422150 | J3: =SUM('2.1.'!R13:'2.1.'!R16) -> 9986057.2 | K3: =SUM('2.1.'!S13:'2.1.'!S16)+SUM('2.1.'!T13:'2.1.'!T16) -> 1.703187e+08 | M3: =SUM('2.1.'!Q13:'2.1.'!Q16) -> 19554.887 | N3: =SUM('2.1.'!C13:'2.1.'!C16) -> 18827825 | O3: =SUM('2.1.'!D13:'2.1.'!D16) -> 287560.19 | P3: =SUM('2.1.'!E13:'2.1.'!E16) -> 67464.89 | T3: =SUM('2.1.'!F13:'2.1.'!F16) -> 863667.07 | U3: =SUM('2.1.'!G13:'2.1.'!G16) -> 22477989 | X3: =SUM('2.1.'!M13:'2.1.'!M16) -> 522534.44 | Y3: =SUM('2.1.'!N13:'2.1.'!N16) -> 4810289.6 | Z3: =SUM('2.1.'!O13:'2.1.'!O16) -> 599167.96 | AA3: =SUM('2.1.'!K13:'2.1.'!K16) -> 1141750.5 | AB3: =SUM('2.1.'!L13:'2.1.'!L16) -> 3380716.4 | BG3: =SUM(F3:BD3) -> 7.7440604e+08
B4: Serial houses | F4: =SUM('2.1.'!H17:'2.1.'!H20) -> 5.2525874e+08 | G4: =SUM('2.1.'!I17:'2.1.'!I20) -> 40989326 | I4: =SUM('2.1.'!U17:'2.1.'!U20) -> 10658815 | J4: =SUM('2.1.'!R17:'2.1.'!R20) -> 6380294.6 | K4: =SUM('2.1.'!S17:'2.1.'!S20)+SUM('2.1.'!T17:'2.1.'!T20) -> 1.5441148e+08 | M4: =SUM('2.1.'!Q17:'2.1.'!Q20) -> 0 | N4: =SUM('2.1.'!C17:'2.1.'!C20) -> 22405049 | O4: =SUM('2.1.'!D17:'2.1.'!D20) -> 145927.3 | P4: =SUM('2.1.'!E17:'2.1.'!E20) -> 164821.14 | T4: =SUM('2.1.'!F17:'2.1.'!F20) -> 628019.16 | U4: =SUM('2.1.'!G17:'2.1.'!G20) -> 13655596 | X4: =SUM('2.1.'!M17:'2.1.'!M20) -> 652973 | Y4: =SUM('2.1.'!N17:'2.1.'!N20) -> 5721386.9 | Z4: =SUM('2.1.'!O17:'2.1.'!O20) -> 782673.32 | AA4: =SUM('2.1.'!K17:'2.1.'!K20) -> 1398513.6 | AB4: =SUM('2.1.'!L17:'2.1.'!L20) -> 1146910.9 | BG4: =SUM(F4:BD4) -> 7.8440052e+08
B5: Apartments | F5: =SUM('2.1.'!H21:'2.1.'!H24) -> 4.3123215e+08 | G5: =SUM('2.1.'!I21:'2.1.'!I24) -> 18705743 | I5: =SUM('2.1.'!U21:'2.1.'!U24) -> 6185325.3 | J5: =SUM('2.1.'!R21:'2.1.'!R24) -> 6618220.8 | K5: =SUM('2.1.'!S21:'2.1.'!S24)+SUM('2.1.'!T21:'2.1.'!T24) -> 47366712 | M5: =SUM('2.1.'!Q21:'2.1.'!Q24) -> 232554.44 | N5: =SUM('2.1.'!C21:'2.1.'!C24) -> 21496677 | O5: =SUM('2.1.'!D21:'2.1.'!D24) -> 86596.513 | P5: =SUM('2.1.'!E21:'2.1.'!E24) -> 1229438.6 | T5: =SUM('2.1.'!F21:'2.1.'!F24) -> 203498.27 | U5: =SUM('2.1.'!G21:'2.1.'!G24) -> 6384651.2 | X5: =SUM('2.1.'!M21:'2.1.'!M24) -> 505028.08 | Y5: =SUM('2.1.'!N21:'2.1.'!N24) -> 4464022.6 | Z5: =SUM('2.1.'!O21:'2.1.'!O24) -> 1230872.4 | AA5: =SUM('2.1.'!K21:'2.1.'!K24) -> 1583097 | AB5: =SUM('2.1.'!L21:'2.1.'!L24) -> 1677408.1 | BG5: =SUM(F5:BD5) -> 5.4920199e+08
B6: Shops | F6: =SUM('2.1.'!H37:'2.1.'!H40) -> 28631044 | G6: =SUM('2.1.'!I37:'2.1.'!I40) -> 2077706.7 | I6: =SUM('2.1.'!U37:'2.1.'!U40) -> 322981.85 | J6: =SUM('2.1.'!R37:'2.1.'!R40) -> 248711.84 | K6: =SUM('2.1.'!S37:'2.1.'!S40)+SUM('2.1.'!T37:'2.1.'!T40) -> 7742740.6 | M6: =SUM('2.1.'!Q37:'2.1.'!Q40) -> 288.40355 | N6: =SUM('2.1.'!C37:'2.1.'!C40) -> 1142849.4 | O6: =SUM('2.1.'!D37:'2.1.'!D40) -> 4962.3563 | P6: =SUM('2.1.'!E37:'2.1.'!E40) -> 29467.789 | T6: =SUM('2.1.'!F37:'2.1.'!F40) -> 11787.603 | U6: =SUM('2.1.'!G37:'2.1.'!G40) -> 353041.71 | X6: =SUM('2.1.'!M37:'2.1.'!M40) -> 42736.3 | Y6: =SUM('2.1.'!N37:'2.1.'!N40) -> 283063.14 | Z6: =SUM('2.1.'!O37:'2.1.'!O40) -> 73143.343 | AA6: =SUM('2.1.'!K37:'2.1.'!K40) -> 395508.47 | AB6: =SUM('2.1.'!L37:'2.1.'!L40) -> 175429.55 | BG6: =SUM(F6:BD6) -> 41535463
B7: Commercial buildings | F7: =SUM('2.1.'!H25:'2.1.'!H28) -> 1.9374626e+08 | G7: =SUM('2.1.'!I25:'2.1.'!I28) -> 1164408.8 | I7: =SUM('2.1.'!U25:'2.1.'!U28) -> 5101605.2 | J7: =SUM('2.1.'!R25:'2.1.'!R28) -> 190481.25 | K7: =SUM('2.1.'!S25:'2.1.'!S28)++SUM('2.1.'!T25:'2.1.'!T28) -> 6126589.7 | M7: =SUM('2.1.'!Q25:'2.1.'!Q28) -> 228242.43 | N7: =SUM('2.1.'!C25:'2.1.'!C28) -> 19219233 | O7: =SUM('2.1.'!D25:'2.1.'!D28) -> 57793.134 | P7: =SUM('2.1.'!E25:'2.1.'!E28) -> 94855.418 | T7: =SUM('2.1.'!F25:'2.1.'!F28) -> 43135.226 | U7: =SUM('2.1.'!G25:'2.1.'!G28) -> 1829143.6 | X7: =SUM('2.1.'!M25:'2.1.'!M28) -> 497170.34 | Y7: =SUM('2.1.'!N25:'2.1.'!N28) -> 5530367.9 | Z7: =SUM('2.1.'!O25:'2.1.'!O28) -> 76342.817 | AA7: =SUM('2.1.'!K25:'2.1.'!K28) -> 207203.03 | AB7: =SUM('2.1.'!L25:'2.1.'!L28) -> 47306.713 | BG7: =SUM(F7:BD7) -> 2.3416013e+08
B8: Office buildings | F8: =SUM('2.1.'!H29:'2.1.'!H32) -> 1.2774419e+08 | G8: =SUM('2.1.'!I29:'2.1.'!I32) -> 5156881.4 | I8: =SUM('2.1.'!U29:'2.1.'!U32) -> 3430178.2 | J8: =SUM('2.1.'!R29:'2.1.'!R32) -> 3905180.4 | K8: =SUM('2.1.'!S29:'2.1.'!S32)++SUM('2.1.'!T29:'2.1.'!T32) -> 23318665 | M8: =SUM('2.1.'!Q29:'2.1.'!Q32) -> 149839.22 | N8: =SUM('2.1.'!C29:'2.1.'!C32) -> 8893274.3 | O8: =SUM('2.1.'!D29:'2.1.'!D32) -> 35336.787 | P8: =SUM('2.1.'!E29:'2.1.'!E32) -> 582441.48 | T8: =SUM('2.1.'!F29:'2.1.'!F32) -> 81795.032 | U8: =SUM('2.1.'!G29:'2.1.'!G32) -> 1116146.8 | X8: =SUM('2.1.'!M29:'2.1.'!M32) -> 179253.9 | Y8: =SUM('2.1.'!N29:'2.1.'!N32) -> 1594140.5 | Z8: =SUM('2.1.'!O29:'2.1.'!O32) -> 224232.7 | AA8: =SUM('2.1.'!K29:'2.1.'!K32) -> 797868.95 | AB8: =SUM('2.1.'!L29:'2.1.'!L32) -> 551570.59 | BG8: =SUM(F8:BD8) -> 1.7776099e+08
B9: Service buildings | F9: =SUM('2.1.'!H33:'2.1.'!H36) -> 1.0630818e+08 | G9: =SUM('2.1.'!I33:'2.1.'!I36) -> 6111549.7 | I9: =SUM('2.1.'!U33:'2.1.'!U36) -> 1070155.5 | J9: =SUM('2.1.'!R33:'2.1.'!R36) -> 1461482 | K9: =SUM('2.1.'!S33:'2.1.'!S36)+SUM('2.1.'!T33:'2.1.'!T36) -> 21055496 | M9: =SUM('2.1.'!Q33:'2.1.'!Q36) -> 47262.149 | N9: =SUM('2.1.'!C33:'2.1.'!C36) -> 6028994.8 | O9: =SUM('2.1.'!D33:'2.1.'!D36) -> 25234.034 | P9: =SUM('2.1.'!E33:'2.1.'!E36) -> 361102.6 | T9: =SUM('2.1.'!F33:'2.1.'!F36) -> 60208.997 | U9: =SUM('2.1.'!G33:'2.1.'!G36) -> 1142153.6 | X9: =SUM('2.1.'!M33:'2.1.'!M36) -> 122868.05 | Y9: =SUM('2.1.'!N33:'2.1.'!N36) -> 1051813.2 | Z9: =SUM('2.1.'!O33:'2.1.'!O36) -> 242855.55 | AA9: =SUM('2.1.'!K33:'2.1.'!K36) -> 288515.85 | AB9: =SUM('2.1.'!L33:'2.1.'!L36) -> 585162.47 | BG9: =SUM(F9:BD9) -> 1.4596303e+08
A10: Road, rail and waterways infrastructure | B10: Bridges | C10: ton | D10: 2019 | E10: EIB & Metabolic, 2022 | F10: ='2.2.a'!F3 -> 89888279 | G10: ='2.2.a'!G3 -> 2516637.9 | L10: ='2.2.a'!L3 -> 469996.83 | M10: ='2.2.a'!M3 -> 18799.386 | N10: ='2.2.a'!N3 -> 6548240.5 | P10: ='2.2.a'!P3 -> 64.8 | T10: ='2.2.a'!T3 -> 933.1504 | U10: ='2.2.a'!U3 -> 2268.082 | BG10: =SUM(F10:BD10) -> 99445220
B11: Pumping stations | F11: ='2.2.a'!F4 -> 475248.41 | M11: ='2.2.a'!M4 -> 1.26346 | N11: ='2.2.a'!N4 -> 231240.25 | P11: ='2.2.a'!P4 -> 0.11486 | Q11: ='2.2.a'!Q4 -> 5.743 | U11: ='2.2.a'!U4 -> 11847.306 | X11: ='2.2.a'!X4 -> 0.22972 | BG11: =SUM(F11:BD11) -> 718343.31
B12: Non-asphalt road surface | F12: ='2.2.a'!F5 -> 63011601 | G12: ='2.2.a'!G5 -> 4865873 | I12: ='2.2.a'!I5 -> 269435380 | L12: ='2.2.a'!L5 -> 1.1637581e+08 | BG12: =SUM(F12:BD12) -> 4.5368867e+08
B13: Sluices | F13: ='2.2.a'!F6 -> 5771963.8 | I13: ='2.2.a'!I6 -> 741800 | N13: ='2.2.a'!N6 -> 435083.7 | P13: ='2.2.a'!P6 -> 221.208 | T13: ='2.2.a'!T6 -> 814.98132 | U13: ='2.2.a'!U6 -> 4895.8223 | X13: ='2.2.a'!X6 -> 554.60006 | BG13: =SUM(F13:BD13) -> 6955334.1
B14: Roads | F14: ='2.2.a'!F7 -> 357564.81 | H14: ='2.2.a'!H7 -> 2.53106e+08 | I14: ='2.2.a'!I7 -> 1.7538642e+09 | L14: ='2.2.a'!L7 -> 4.553734e+08 | M14: ='2.2.a'!M7 -> 453.54782 | N14: ='2.2.a'!N7 -> 261600.26 | P14: ='2.2.a'!P7 -> 50029.452 | T14: ='2.2.a'!T7 -> 64845.372 | Z14: ='2.2.a'!Z7 -> 73352.184 | AA14: ='2.2.a'!AA7 -> 146704.37 | BG14: =SUM(F14:BD14) -> 2.4632981e+09
B15: Tunnels | F15: ='2.2.a'!F8 -> 56505299 | I15: ='2.2.a'!I8 -> 362710700 | L15: ='2.2.a'!L8 -> 190204.47 | M15: ='2.2.a'!M8 -> 7608.179 | N15: ='2.2.a'!N8 -> 11499384 | BG15: =SUM(F15:BD15) -> 4.309132e+08
B16: Viaducts | F16: ='2.2.a'!F9 -> 31998599 | G16: ='2.2.a'!G9 -> 41915.44 | I16: ='2.2.a'!I9 -> 274480420 | L16: ='2.2.a'!L9 -> 111764.97 | M16: ='2.2.a'!M9 -> 4470.5987 | N16: ='2.2.a'!N9 -> 350234.73 | P16: ='2.2.a'!P9 -> 2.0928 | BG16: =SUM(F16:BD16) -> 3.0698741e+08
B17: Coastal defense | F17: ='2.2.a'!F10 -> 16803326 | I17: ='2.2.a'!I10 -> 1.1554317e+09 | X17: ='2.2.a'!X10 -> 14389.489 | BG17: =SUM(F17:BD17) -> 1.1722494e+09
B18: Railway tracks | C18: ton | D18: 2018 | E18: Pieters, 2021 | F18: ='2.2.b'!F3 -> 12150469 | H18: ='2.2.b'!H3 -> 39002.327 | I18: ='2.2.b'!I3 -> 27963301 | N18: ='2.2.b'!N3 -> 1757858.2 | O18: ='2.2.b'!O3 -> 32634.837 | P18: ='2.2.b'!P3 -> 5773.4221 | T18: ='2.2.b'!T3 -> 780.84931 | U18: ='2.2.b'!U3 -> 45222.824 | X18: ='2.2.b'!X3 -> 18258.492 | Y18: ='2.2.b'!Y3 -> 1566.1668 | Z18: ='2.2.b'!Z3 -> 536.2205 | AA18: ='2.2.b'!AA3 -> 470.08 | BG18: =SUM(F18:BD18) -> 42015873
A19: Energy system | B19: Electriticy cables | C19: ton | D19: 2018 | E19: van Oorschot et al., 2020a; Van Oorschot et al., 2020b | N19: ='2.3.'!N3 -> 179837.88 | O19: ='2.3.'!O3 -> 85729.738 | P19: ='2.3.'!P3 -> 339882.68 | R19: ='2.3.'!R3 -> 324131.4 | X19: ='2.3.'!X3 -> 173467.42 | Z19: ='2.3.'!Z3 -> 129402.99 | BG19: =SUM(F19:BD19) -> 1232452.1
B20: Substations and transformers | F20: ='2.3.'!F4 -> 1403741.9 | N20: ='2.3.'!N4 -> 570263.12 | O20: ='2.3.'!O4 -> 130206.66 | P20: ='2.3.'!P4 -> 239703.73 | BG20: =SUM(F20:BD20) -> 2343915.4
B21: High voltage masts | F21: ='2.3.'!F5 -> 206794.41 | N21: ='2.3.'!N5 -> 126051.43 | BG21: =SUM(F21:BD21) -> 332845.84
B22: Wind turbines | F22: ='2.3.'!F6 -> 2112599.4 | N22: ='2.3.'!N6 -> 990065.18 | O22: ='2.3.'!O6 -> 18710.587 | P22: ='2.3.'!P6 -> 1625.4373 | S22: ='2.3.'!S6 -> 854.17549 | U22: ='2.3.'!U6 -> 1555.6914 | X22: ='2.3.'!X6 -> 1149.8588 | AD22: ='2.3.'!AD6 -> 91.514655 | AE22: ='2.3.'!AE6 -> 3.7446497 | AF22: ='2.3.'!AF6 -> 16.048499 | AL22: ='2.3.'!AL6 -> 0.72600352 | AM22: ='2.3.'!AM6 -> 146.98479 | BA22: ='2.3.'!BA6 -> 19.29509 | BE22: =SUM(AD22:BD22) -> 278.31369 | BG22: =SUM(F22:BD22) -> 3126838.6
B23: Solar panels | F23: ='2.3.'!F7 -> 274471.43 | N23: ='2.3.'!N7 -> 307028.17 | O23: ='2.3.'!O7 -> 20800.141 | P23: ='2.3.'!P7 -> 33913.273 | Q23: ='2.3.'!Q7 -> 8.9983122 | R23: ='2.3.'!R7 -> 279.28953 | S23: ='2.3.'!S7 -> 460.98773 | X23: ='2.3.'!X7 -> 38887.22 | AA23: ='2.3.'!AA7 -> 209810.12 | AG23: ='2.3.'!AG7 -> 7.0499684 | AH23: ='2.3.'!AH7 -> 1.200175 | AI23: ='2.3.'!AI7 -> 12.848436 | AJ23: ='2.3.'!AJ7 -> 77.173123 | AM23: ='2.3.'!AM7 -> 15474.776 | BE23: =SUM(AD23:BD23) -> 15573.048 | BG23: =SUM(F23:BD23) -> 901232.67
B24: Gas fired powerplants | F24: ='2.3.'!F8 -> 662340 | N24: ='2.3.'!N8 -> 294500 | O24: ='2.3.'!O8 -> 17575 | P24: ='2.3.'!P8 -> 17575 | S24: ='2.3.'!S8 -> 345.61 | AO24: ='2.3.'!AO8 -> 34.2 | BE24: =SUM(AD24:BD24) -> 34.2 | BG24: =SUM(F24:BD24) -> 992369.81
B25: Coal fired power plants | F25: ='2.3.'!F9 -> 1169894 | N25: ='2.3.'!N9 -> 347044.5 | O25: ='2.3.'!O9 -> 6765 | P25: ='2.3.'!P9 -> 4510 | S25: ='2.3.'!S9 -> 1023.4092 | AO25: ='2.3.'!AO9 -> 62.9596 | AR25: ='2.3.'!AR9 -> 2.3001 | AT25: ='2.3.'!AT9 -> 6.4042 | AW25: ='2.3.'!AW9 -> 84.5625 | AZ25: ='2.3.'!AZ9 -> 8.0278 | BA25: ='2.3.'!BA9 -> 11.275 | BE25: =SUM(AD25:BD25) -> 175.5292 | BG25: =SUM(F25:BD25) -> 1529412.4
B26: Nuclear power plants | F26: ='2.3.'!F10 -> 181050 | N26: ='2.3.'!N10 -> 31212 | O26: ='2.3.'!O10 -> 749.7 | P26: ='2.3.'!P10 -> 102 | Q26: ='2.3.'!Q10 -> 2.193 | S26: ='2.3.'!S10 -> 386.631 | AG26: ='2.3.'!AG10 -> 0.816 | AJ26: ='2.3.'!AJ10 -> 4.233 | AT26: ='2.3.'!AT10 -> 0.765 | AW26: ='2.3.'!AW10 -> 2.55 | AX26: ='2.3.'!AX10 -> 0.255 | AZ26: ='2.3.'!AZ10 -> 1.02 | BA26: ='2.3.'!BA10 -> 0.306 | BE26: =SUM(AD26:BD26) -> 9.945 | BG26: =SUM(F26:BD26) -> 213512.47
B27: Biomass / waste incinerators | F27: ='2.3.'!F11 -> 185747.08 | N27: ='2.3.'!N11 -> 31174.66 | O27: ='2.3.'!O11 -> 46.46 | P27: ='2.3.'!P11 -> 236.946 | S27: ='2.3.'!S11 -> 210.85406 | AO27: ='2.3.'!AO11 -> 12.971632 | AR27: ='2.3.'!AR11 -> 0.473892 | AT27: ='2.3.'!AT11 -> 1.319464 | AW27: ='2.3.'!AW11 -> 17.4225 | AZ27: ='2.3.'!AZ11 -> 1.653976 | BA27: ='2.3.'!BA11 -> 2.323 | BE27: =SUM(AD27:BD27) -> 36.164464 | BG27: =SUM(F27:BD27) -> 217452.16
B28: Gas pipes | C28: ton | D28: 2022 | E28: Verhagen et al., 2022a | M28: ='2.4.'!M3 -> 1400 | N28: ='2.4.'!N3 -> 450300 | X28: ='2.4.'!X3 -> 300700 | BG28: =SUM(F28:BD28) -> 752400
B29: Boilers | N29: ='2.4.'!N4 -> 179300 | O29: ='2.4.'!O4 -> 54800 | T29: ='2.4.'!T4 -> 14200 | X29: ='2.4.'!X4 -> 42800 | BG29: =SUM(F29:BD29) -> 291100
B30: Natural gas production plants | F30: ='2.4.'!F5 -> 10300 | N30: ='2.4.'!N5 -> 26600 | BG30: =SUM(F30:BD30) -> 36900
A31: Drinking and sewage water infrastructure | B31: Drinking water production plants | C31: ton | D31: 2020 | E31: van der Bent, 2022 | F31: ='2.5.'!F3 -> 4884225 | N31: ='2.5.'!N3 -> 22706 | X31: ='2.5.'!X3 -> 465 | BG31: =SUM(F31:BD31) -> 4907396
B32: Water pipes | F32: ='2.5.'!F4 -> 537597 | M32: ='2.5.'!M4 -> 276610 | N32: ='2.5.'!N4 -> 308604 | X32: ='2.5.'!X4 -> 177381 | BG32: =SUM(F32:BD32) -> 1300192
B33: Sewage pipes | F33: ='2.5.'!F5 -> 10918635 | M33: ='2.5.'!M5 -> 75845 | N33: ='2.5.'!N5 -> 113880 | X33: ='2.5.'!X5 -> 5656429 | BG33: =SUM(F33:BD33) -> 16764789
B34: Sewage treatment plants | F34: ='2.5.'!F6 -> 4200000 | N34: ='2.5.'!N6 -> 750000 | X34: ='2.5.'!X6 -> 50000 | BG34: =SUM(F34:BD34) -> 5000000
B35: Gully pots | F35: ='2.5.'!F7 -> 1050000 | N35: ='2.5.'!N7 -> 245000 | BG35: =SUM(F35:BD35) -> 1295000
B36: Sewage pumps | F36: ='2.5.'!F8 -> 1200000 | N36: ='2.5.'!N8 -> 130000 | BG36: =SUM(F36:BD36) -> 1330000
B37: Pressurised sewage pipes | F37: ='2.5.'!F9 -> 479000 | N37: ='2.5.'!N9 -> 240000 | X37: ='2.5.'!X9 -> 80000 | BG37: =SUM(F37:BD37) -> 799000
A38: Vehicles | B38: Aeroplanes | C38: ton | D38: 2017 | E38: van Oorschot et al., 2020a; van der Zaag, 2020 | N38: ='2.6.'!N3 -> 2816.477 | O38: ='2.6.'!O3 -> 2.1485124 | P38: ='2.6.'!P3 -> 13031.181 | Q38: ='2.6.'!Q3 -> 2.1485124 | R38: ='2.6.'!R3 -> 0 | S38: ='2.6.'!S3 -> 958.74441 | T38: ='2.6.'!T3 -> 0 | V38: ='2.6.'!V3 -> 64.590551 | X38: ='2.6.'!X3 -> 115.34753 | Z38: ='2.6.'!Z3 -> 1984.3472 | AA38: ='2.6.'!AA3 -> 0 | AO38: ='2.6.'!AO3 -> 31.289614 | AS38: ='2.6.'!AS3 -> 341.42226 | AT38: ='2.6.'!AT3 -> 1423.9373 | AW38: ='2.6.'!AW3 -> 2.7786143 | BA38: ='2.6.'!BA3 -> 2.0537584 | BC38: ='2.6.'!BC3 -> 0.24161864 | BD38: ='2.6.'!BD3 -> 30.833612 | BE38: =SUM(AD38:BD38) -> 1832.5568 | BG38: =SUM(F38:BD38) -> 20807.542
B39: (Motor)cycles | N39: ='2.6.'!N4 -> 217910.88 | O39: ='2.6.'!O4 -> 1678.0646 | P39: ='2.6.'!P4 -> 213338.35 | Q39: ='2.6.'!Q4 -> 458.02292 | R39: ='2.6.'!R4 -> 1011.1228 | S39: ='2.6.'!S4 -> 296.09225 | T39: ='2.6.'!T4 -> 268.50447 | X39: ='2.6.'!X4 -> 83340.603 | Y39: ='2.6.'!Y4 -> 0.013363636 | Z39: ='2.6.'!Z4 -> 14933.887 | AA39: ='2.6.'!AA4 -> 0.0004348534 | AD39: ='2.6.'!AD4 -> 0.10800384 | AJ39: ='2.6.'!AJ4 -> 0.00067911215 | AK39: ='2.6.'!AK4 -> 35.151295 | AM39: ='2.6.'!AM4 -> 2.1914723e-05 | AN39: ='2.6.'!AN4 -> 0.023379709 | AP39: ='2.6.'!AP4 -> 0.00056896174 | AQ39: ='2.6.'!AQ4 -> 0.12435625 | AT39: ='2.6.'!AT4 -> 0.002495082 | AU39: ='2.6.'!AU4 -> 699.49111 | BE39: =SUM(AD39:BD39) -> 734.90191 | BG39: =SUM(F39:BD39) -> 533970.45
B40: Ships | N40: ='2.6.'!N5 -> 21506498 | O40: ='2.6.'!O5 -> 907140.11 | P40: ='2.6.'!P5 -> 7916.0775 | V40: ='2.6.'!V5 -> 744520.91 | X40: ='2.6.'!X5 -> 268984.76 | Z40: ='2.6.'!Z5 -> 539400.28 | AA40: ='2.6.'!AA5 -> 0 | BG40: =SUM(F40:BD40) -> 23974460
...

Sheet 2.1.
F1: Construction materials | N1: Metals | U1: Biobased materials | X1: Other materials | AD1: Critical Raw materials
A2: Category | B2: Product | C2: Unit | D2: Year | E2: Source | F2: Concrete | G2: Brick | H2: Asphalt | I2: Sand, gravel, clay | J2: Gypsum | K2: Stone | L2: Recycled CDW | M2: Other construction materials | N2: Iron and steel | O2: Copper | P2: Aluminium | Q2: Zinc | R2: Lead | S2: Alloying elements (non critical) | T2: Other metals (non critical) | U2: Wood | V2: Other biobased materials | W2: Textile, biobased | X2: Plastics | Y2: Insulation materials | Z2: Other materials | AA2: Glass | AB2: Ceramics | AC2: Textile, unspec. | AD2: Nd | AE2: Dy | AF2: Pr | AG2: In | AH2: Ga | AI2: Ge | AJ2: Ag | AK2: Li | AL2: Tb | AM2: Si | AN2: Pd | AO2: Co | AP2: Au | AQ2: Pt | AR2: Ta | AS2: Mg | AT2: Ti | AU2: Graphite | AV2: Sr | AW2: W | AX2: Y | AY2: La | AZ2: Nb | BA2: V | BB2: Ce | BC2: Hf | BD2: Unspecified CRM | BE2: Total CRM | BG2: Total
A3: Buildings | B3: Detached houses | C3: tons | D3: 2018 | E3: van Oorschot et al., 2020b; van Oorschot et al., 2022 | F3: =SUM('2.1.'!H13:'2.1.'!H16) -> 4.650627e+08 | G3: =SUM('2.1.'!I13:'2.1.'!I16) -> 68617915 | I3: =SUM('2.1.'!U13:'2.1.'!U16) -> 7422150 | J3: =SUM('2.1.'!R13:'2.1.'!R16) -> 9986057.2 | K3: =SUM('2.1.'!S13:'2.1.'!S16)+SUM('2.1.'!T13:'2.1.'!T16) -> 1.703187e+08 | M3: =SUM('2.1.'!Q13:'2.1.'!Q16) -> 19554.887 | N3: =SUM('2.1.'!C13:'2.1.'!C16) -> 18827825 | O3: =SUM('2.1.'!D13:'2.1.'!D16) -> 287560.19 | P3: =SUM('2.1.'!E13:'2.1.'!E16) -> 67464.89 | T3: =SUM('2.1.'!F13:'2.1.'!F16) -> 863667.07 | U3: =SUM('2.1.'!G13:'2.1.'!G16) -> 22477989 | X3: =SUM('2.1.'!M13:'2.1.'!M16) -> 522534.44 | Y3: =SUM('2.1.'!N13:'2.1.'!N16) -> 4810289.6 | Z3: =SUM('2.1.'!O13:'2.1.'!O16) -> 599167.96 | AA3: =SUM('2.1.'!K13:'2.1.'!K16) -> 1141750.5 | AB3: =SUM('2.1.'!L13:'2.1.'!L16) -> 3380716.4 | BG3: =SUM(F3:BD3) -> 7.7440604e+08
B4: Serial houses | F4: =SUM('2.1.'!H17:'2.1.'!H20) -> 5.2525874e+08 | G4: =SUM('2.1.'!I17:'2.1.'!I20) -> 40989326 | I4: =SUM('2.1.'!U17:'2.1.'!U20) -> 10658815 | J4: =SUM('2.1.'!R17:'2.1.'!R20) -> 6380294.6 | K4: =SUM('2.1.'!S17:'2.1.'!S20)+SUM('2.1.'!T17:'2.1.'!T20) -> 1.5441148e+08 | M4: =SUM('2.1.'!Q17:'2.1.'!Q20) -> 0 | N4: =SUM('2.1.'!C17:'2.1.'!C20) -> 22405049 | O4: =SUM('2.1.'!D17:'2.1.'!D20) -> 145927.3 | P4: =SUM('2.1.'!E17:'2.1.'!E20) -> 164821.14 | T4: =SUM('2.1.'!F17:'2.1.'!F20) -> 628019.16 | U4: =SUM('2.1.'!G17:'2.1.'!G20) -> 13655596 | X4: =SUM('2.1.'!M17:'2.1.'!M20) -> 652973 | Y4: =SUM('2.1.'!N17:'2.1.'!N20) -> 5721386.9 | Z4: =SUM('2.1.'!O17:'2.1.'!O20) -> 782673.32 | AA4: =SUM('2.1.'!K17:'2.1.'!K20) -> 1398513.6 | AB4: =SUM('2.1.'!L17:'2.1.'!L20) -> 1146910.9 | BG4: =SUM(F4:BD4) -> 7.8440052e+08
B5: Apartments | F5: =SUM('2.1.'!H21:'2.1.'!H24) -> 4.3123215e+08 | G5: =SUM('2.1.'!I21:'2.1.'!I24) -> 18705743 | I5: =SUM('2.1.'!U21:'2.1.'!U24) -> 6185325.3 | J5: =SUM('2.1.'!R21:'2.1.'!R24) -> 6618220.8 | K5: =SUM('2.1.'!S21:'2.1.'!S24)+SUM('2.1.'!T21:'2.1.'!T24) -> 47366712 | M5: =SUM('2.1.'!Q21:'2.1.'!Q24) -> 232554.44 | N5: =SUM('2.1.'!C21:'2.1.'!C24) -> 21496677 | O5: =SUM('2.1.'!D21:'2.1.'!D24) -> 86596.513 | P5: =SUM('2.1.'!E21:'2.1.'!E24) -> 1229438.6 | T5: =SUM('2.1.'!F21:'2.1.'!F24) -> 203498.27 | U5: =SUM('2.1.'!G21:'2.1.'!G24) -> 6384651.2 | X5: =SUM('2.1.'!M21:'2.1.'!M24) -> 505028.08 | Y5: =SUM('2.1.'!N21:'2.1.'!N24) -> 4464022.6 | Z5: =SUM('2.1.'!O21:'2.1.'!O24) -> 1230872.4 | AA5: =SUM('2.1.'!K21:'2.1.'!K24) -> 1583097 | AB5: =SUM('2.1.'!L21:'2.1.'!L24) -> 1677408.1 | BG5: =SUM(F5:BD5) -> 5.4920199e+08
B6: Shops | F6: =SUM('2.1.'!H37:'2.1.'!H40) -> 28631044 | G6: =SUM('2.1.'!I37:'2.1.'!I40) -> 2077706.7 | I6: =SUM('2.1.'!U37:'2.1.'!U40) -> 322981.85 | J6: =SUM('2.1.'!R37:'2.1.'!R40) -> 248711.84 | K6: =SUM('2.1.'!S37:'2.1.'!S40)+SUM('2.1.'!T37:'2.1.'!T40) -> 7742740.6 | M6: =SUM('2.1.'!Q37:'2.1.'!Q40) -> 288.40355 | N6: =SUM('2.1.'!C37:'2.1.'!C40) -> 1142849.4 | O6: =SUM('2.1.'!D37:'2.1.'!D40) -> 4962.3563 | P6: =SUM('2.1.'!E37:'2.1.'!E40) -> 29467.789 | T6: =SUM('2.1.'!F37:'2.1.'!F40) -> 11787.603 | U6: =SUM('2.1.'!G37:'2.1.'!G40) -> 353041.71 | X6: =SUM('2.1.'!M37:'2.1.'!M40) -> 42736.3 | Y6: =SUM('2.1.'!N37:'2.1.'!N40) -> 283063.14 | Z6: =SUM('2.1.'!O37:'2.1.'!O40) -> 73143.343 | AA6: =SUM('2.1.'!K37:'2.1.'!K40) -> 395508.47 | AB6: =SUM('2.1.'!L37:'2.1.'!L40) -> 175429.55 | BG6: =SUM(F6:BD6) -> 41535463
B7: Commercial buildings | F7: =SUM('2.1.'!H25:'2.1.'!H28) -> 1.9374626e+08 | G7: =SUM('2.1.'!I25:'2.1.'!I28) -> 1164408.8 | I7: =SUM('2.1.'!U25:'2.1.'!U28) -> 5101605.2 | J7: =SUM('2.1.'!R25:'2.1.'!R28) -> 190481.25 | K7: =SUM('2.1.'!S25:'2.1.'!S28)++SUM('2.1.'!T25:'2.1.'!T28) -> 6126589.7 | M7: =SUM('2.1.'!Q25:'2.1.'!Q28) -> 228242.43 | N7: =SUM('2.1.'!C25:'2.1.'!C28) -> 19219233 | O7: =SUM('2.1.'!D25:'2.1.'!D28) -> 57793.134 | P7: =SUM('2.1.'!E25:'2.1.'!E28) -> 94855.418 | T7: =SUM('2.1.'!F25:'2.1.'!F28) -> 43135.226 | U7: =SUM('2.1.'!G25:'2.1.'!G28) -> 1829143.6 | X7: =SUM('2.1.'!M25:'2.1.'!M28) -> 497170.34 | Y7: =SUM('2.1.'!N25:'2.1.'!N28) -> 5530367.9 | Z7: =SUM('2.1.'!O25:'2.1.'!O28) -> 76342.817 | AA7: =SUM('2.1.'!K25:'2.1.'!K28) -> 207203.03 | AB7: =SUM('2.1.'!L25:'2.1.'!L28) -> 47306.713 | BG7: =SUM(F7:BD7) -> 2.3416013e+08
B8: Office buildings | F8: =SUM('2.1.'!H29:'2.1.'!H32) -> 1.2774419e+08 | G8: =SUM('2.1.'!I29:'2.1.'!I32) -> 5156881.4 | I8: =SUM('2.1.'!U29:'2.1.'!U32) -> 3430178.2 | J8: =SUM('2.1.'!R29:'2.1.'!R32) -> 3905180.4 | K8: =SUM('2.1.'!S29:'2.1.'!S32)++SUM('2.1.'!T29:'2.1.'!T32) -> 23318665 | M8: =SUM('2.1.'!Q29:'2.1.'!Q32) -> 149839.22 | N8: =SUM('2.1.'!C29:'2.1.'!C32) -> 8893274.3 | O8: =SUM('2.1.'!D29:'2.1.'!D32) -> 35336.787 | P8: =SUM('2.1.'!E29:'2.1.'!E32) -> 582441.48 | T8: =SUM('2.1.'!F29:'2.1.'!F32) -> 81795.032 | U8: =SUM('2.1.'!G29:'2.1.'!G32) -> 1116146.8 | X8: =SUM('2.1.'!M29:'2.1.'!M32) -> 179253.9 | Y8: =SUM('2.1.'!N29:'2.1.'!N32) -> 1594140.5 | Z8: =SUM('2.1.'!O29:'2.1.'!O32) -> 224232.7 | AA8: =SUM('2.1.'!K29:'2.1.'!K32) -> 797868.95 | AB8: =SUM('2.1.'!L29:'2.1.'!L32) -> 551570.59 | BG8: =SUM(F8:BD8) -> 1.7776099e+08
B9: Service buildings | F9: =SUM('2.1.'!H33:'2.1.'!H36) -> 1.0630818e+08 | G9: =SUM('2.1.'!I33:'2.1.'!I36) -> 6111549.7 | I9: =SUM('2.1.'!U33:'2.1.'!U36) -> 1070155.5 | J9: =SUM('2.1.'!R33:'2.1.'!R36) -> 1461482 | K9: =SUM('2.1.'!S33:'2.1.'!S36)+SUM('2.1.'!T33:'2.1.'!T36) -> 21055496 | M9: =SUM('2.1.'!Q33:'2.1.'!Q36) -> 47262.149 | N9: =SUM('2.1.'!C33:'2.1.'!C36) -> 6028994.8 | O9: =SUM('2.1.'!D33:'2.1.'!D36) -> 25234.034 | P9: =SUM('2.1.'!E33:'2.1.'!E36) -> 361102.6 | T9: =SUM('2.1.'!F33:'2.1.'!F36) -> 60208.997 | U9: =SUM('2.1.'!G33:'2.1.'!G36) -> 1142153.6 | X9: =SUM('2.1.'!M33:'2.1.'!M36) -> 122868.05 | Y9: =SUM('2.1.'!N33:'2.1.'!N36) -> 1051813.2 | Z9: =SUM('2.1.'!O33:'2.1.'!O36) -> 242855.55 | AA9: =SUM('2.1.'!K33:'2.1.'!K36) -> 288515.85 | AB9: =SUM('2.1.'!L33:'2.1.'!L36) -> 585162.47 | BG9: =SUM(F9:BD9) -> 1.4596303e+08
A11: Type of building | B11: Construction year | C11: Iron & steel | D11: Copper | E11: Aluminium | F11: Other metals | G11: Wood | H11: Concrete | I11: Bricks | J11: Other construction materials | K11: Glass | L11: Ceramics | M11: Plastics | N11: Insulation materials nec | O11: Other | Q11: Bitumen | R11: Gypsum | S11: Chalk stone | T11: Stone | U11: Sand | W11: Source
B12: year | C12: ton | D12: ton | E12: ton | F12: ton | G12: ton | H12: ton | I12: ton | J12: ton | K12: ton | L12: ton | M12: ton | N12: ton | O12: ton | Q12: ton | R12: ton | S12: ton | T12: ton | U12: ton
A13: Detached houses | B13: <1945 | C13: 5968222.1 | D13: 81740.931 | E13: 13926.164 | F13: 244015.21 | G13: 12446887 | H13: 1.2786951e+08 | I13: 28312434 | J13: =SUM(Q13:U13) -> 33428766 | K13: 8348.5293 | L13: 1713471 | M13: 118549.3 | N13: 1292579.2 | O13: 146703.53 | Q13: 0 | R13: 894442.95 | S13: 29383072 | T13: 1041455 | U13: 2109796.4 | W13: van Oorschot et al., 2022
B14: 1945-1970 | C14: 3792086.1 | D14: 56730.661 | E14: 15876.933 | F14: 170796.74 | G14: 4844764.6 | H14: 92555388 | I14: 19649679 | J14: =SUM(Q14:U14) -> 25085750 | K14: 183603.94 | L14: 1189200.3 | M14: 100287.56 | N14: 928101.51 | O14: 123832.22 | Q14: 0 | R14: 2505952.5 | S14: 20392734 | T14: 722801.06 | U14: 1464262
B15: 1970-2000 | C15: 6174535.9 | D15: 101513.01 | E15: 25643.556 | F15: 305621.17 | G15: 3084344.8 | H15: 1.6657155e+08 | I15: 14064338 | J15: =SUM(Q15:U15) -> 87992797 | K15: 646708.43 | L15: 325496.36 | M15: 206784.79 | N15: 1725099.2 | O15: 220402.88 | Q15: 13314.736 | R15: 4484114.3 | S15: 79469312 | T15: 1405927.9 | U15: 2620128.8
B16: >2000 | C16: 2892980.5 | D16: 47575.594 | E16: 12018.237 | F16: 143233.95 | G16: 2101992 | H16: 78066256 | I16: 6591463.3 | J16: =SUM(Q16:U16) -> 41239145 | K16: 303089.61 | L16: 152548.76 | M16: 96912.794 | N16: 864509.61 | O16: 108229.33 | Q16: 6240.1508 | R16: 2101547.5 | S16: 37244486 | T16: 658909.24 | U16: 1227962.7
A17: Serial houses | B17: <1945 | C17: 3191676.9 | D17: 21895.64 | E17: 23581.034 | F17: 91553.097 | G17: 4034627.8 | H17: 71283116 | I17: 10145438 | J17: =SUM(Q17:U17) -> 18511534 | K17: 14354.469 | L17: 172088.08 | M17: 50972.603 | N17: 823466.9 | O17: 85598.598 | Q17: 0 | R17: 479273.75 | S17: 16405630 | T17: 27330.352 | U17: 1599300.3
B18: 1945-1970 | C18: 4275552.2 | D18: 28256.451 | E18: 38219.032 | F18: 122215.79 | G18: 3284808.7 | H18: 98529732 | I18: 13092747 | J18: =SUM(Q18:U18) -> 24615087 | K18: 186007 | L18: 222080.67 | M18: 92077.123 | N18: 1083436.4 | O18: 157659.47 | Q18: 0 | R18: 1344349.6 | S18: 21171561 | T18: 35269.979 | U18: 2063906.3
B19: 1970-2000 | C19: 11422382 | D19: 73230.981 | E19: 78771.265 | F19: 316741.21 | G19: 4230182 | H19: 2.717786e+08 | I19: 13572755 | J19: =SUM(Q19:U19) -> 98118195 | K19: 916122.89 | L19: 575556.55 | M19: 389894.04 | N19: 2884136.9 | O19: 407714.75 | Q19: 0 | R19: 3484090.8 | S19: 89030257 | T19: 254913.17 | U19: 5348933.8
B20: >2000 | C20: 3515437.5 | D20: 22544.224 | E20: 24249.805 | F20: 97509.067 | G20: 2105977.6 | H20: 83667288 | I20: 4178385 | J20: =SUM(Q20:U20) -> 30205775 | K20: 282029.26 | L20: 177185.6 | M20: 120029.23 | N20: 930346.7 | O20: 131700.5 | Q20: 0 | R20: 1072580.5 | S20: 27408045 | T20: 78475.248 | U20: 1646674.1
A21: Apartments | B21: <1945 | C21: 4206599 | D21: 19253.407 | E21: 12544.708 | F21: 45045.928 | G21: 3046532.6 | H21: 79213925 | I21: 7836583.8 | J21: =SUM(Q21:U21) -> 15655317 | K21: 56760.418 | L21: 379275.89 | M21: 67249.576 | N21: 1293829.6 | O21: 131543.77 | Q21: 0 | R21: 714292.56 | S21: 13819005 | T21: 70348.416 | U21: 1051670.6
B22: 1945-1970 | C22: 3749776.1 | D22: 17182.229 | E22: 11397.673 | F22: 40200.131 | G22: 1629318.5 | H22: 76311712 | I22: 6993566.6 | J22: =SUM(Q22:U22) -> 13963430 | K22: 244814.99 | L22: 338475.45 | M22: 78718.555 | N22: 1183935.6 | O22: 272608.43 | Q22: 0 | R22: 637428.59 | S22: 12331267 | T22: 56321.434 | U22: 938412.96
B23: 1970-2000 | C23: 7913953.7 | D23: 29314.644 | E23: 704507.07 | F23: 69108.074 | G23: 998644.17 | H23: 1.6112633e+08 | I23: 2264944.8 | J23: =SUM(Q23:U23) -> 17990593 | K23: 748937.23 | L23: 560835.43 | M23: 209839.12 | N23: 1414732.1 | O23: 486428.84 | Q23: 135907.73 | R23: 3077808.3 | S23: 12202495 | T23: 122630.94 | U23: 2451751.8
B24: >2000 | C24: 5626348.4 | D24: 20846.233 | E24: 500989.14 | F24: 49144.141 | G24: 710155.95 | H24: 1.1458018e+08 | I24: 1610647.8 | J24: =SUM(Q24:U24) -> 12793473 | K24: 532584.33 | L24: 398821.35 | M24: 149220.82 | N24: 571525.32 | O24: 340291.35 | Q24: 96646.717 | R24: 2188691.4 | S24: 8677439.3 | T24: 87205.325 | U24: 1743490
A25: Commercial buildings | B25: <1945 | C25: 674823.84 | D25: 1789.4876 | E25: 934.94514 | F25: 1335.5116 | G25: 567919.78 | H25: 5983373.2 | I25: 73403.032 | J25: =SUM(Q25:U25) -> 292210.14 | K25: 583.9205 | L25: 1464.7895 | M25: 13787.506 | N25: 90768.248 | O25: 2904.8611 | Q25: 11838.281 | R25: 5225.0121 | S25: 115968.09 | T25: 0 | U25: 159178.76
B26: 1945-1970 | C26: 2412843.5 | D26: 6858.4502 | E26: 3986.0853 | F26: 5118.5267 | G26: 1098358.5 | H26: 22919991 | I26: 281326.93 | J26: =SUM(Q26:U26) -> 1119934.4 | K26: 14522.952 | L26: 5614.0014 | M26: 59431.536 | N26: 439115.53 | O26: 10974.327 | Q26: 45371.794 | R26: 20025.557 | S26: 444463.2 | T26: 0 | U26: 610073.85
B27: 1970-2000 | C27: 9277077.6 | D27: 28262.574 | E27: 51719.75 | F27: 21094.733 | G27: 93661.114 | H27: 94798368 | I27: 465632.65 | J27: =SUM(Q27:U27) -> 5885846 | K27: 110471.27 | L27: 23134.4 | M27: 243807.25 | N27: 2336095.9 | O27: 36260.934 | Q27: 98357.824 | R27: 95021.377 | S27: 3168946.8 | T27: 32057.093 | U27: 2491462.9
B28: >2000 | C28: 6854488.3 | D28: 20882.622 | E28: 38214.637 | F28: 15586.455 | G28: 69204.23 | H28: 70044523 | I28: 344046.19 | J28: =SUM(Q28:U28) -> 4348928 | K28: 81624.897 | L28: 17093.522 | M28: 180144.05 | N28: 2664388.2 | O28: 26202.695 | Q28: 72674.53 | R28: 70209.3 | S28: 2341468.2 | T28: 23686.313 | U28: 1840889.6
A29: Office buildings | B29: <1945 | C29: 821929.17 | D29: 3761.384 | E29: 1092.5913 | F29: 8629.0555 | G29: 553266.29 | H29: 10233130 | I29: 961709.51 | J29: =SUM(Q29:U29) -> 3383609.1 | K29: 18487.923 | L29: 58711.304 | M29: 14683.946 | N29: 220993.69 | O29: 23442.49 | Q29: 5012.9072 | R29: 105504.91 | S29: 3050560 | T29: 15893.839 | U29: 206637.53
B30: 1945-1970 | C30: 894470.22 | D30: 4088.7544 | E30: 1034.6298 | F30: 9380.0816 | G30: 306332.27 | H30: 11820195 | I30: 1045411.5 | J30: =SUM(Q30:U30) -> 3678100.1 | K30: 63307.946 | L30: 63821.216 | M30: 20230.43 | N30: 251921.9 | O30: 24302.879 | Q30: 5449.2034 | R30: 114687.48 | S30: 3316064.1 | T30: 17277.153 | U30: 224622.14
B31: 1970-2000 | C31: 4061643.8 | D31: 15554.156 | E31: 328388.48 | F31: 36095.19 | G31: 145175.62 | H31: 59808390 | I31: 1782387.8 | J31: =SUM(Q31:U31) -> 13435220 | K31: 405211.74 | L31: 242784.25 | M31: 81678.913 | N31: 716193.19 | O31: 101413.29 | Q31: 78870.782 | R31: 2085262.6 | S31: 9483190.3 | T31: 90867.159 | U31: 1697029.3
B32: >2000 | C32: 3115231 | D32: 11932.492 | E32: 251925.78 | F32: 27690.705 | G32: 111372.6 | H32: 45882471 | I32: 1367372.6 | J32: =SUM(Q32:U32) -> 10306934 | K32: 310861.34 | L32: 186253.82 | M32: 62660.612 | N32: 405031.72 | O32: 75074.037 | Q32: 60506.333 | R32: 1599725.4 | S32: 7275103.1 | T32: 69709.447 | U32: 1301889.2
A33: Service buildings | B33: <1945 | C33: 414002.86 | D33: 1743.9951 | E33: 594.44182 | F33: 4085.3377 | G33: 306912.42 | H33: 6746084.3 | I33: 767283.5 | J33: =SUM(Q33:U33) -> 1239410.6 | K33: 4394.9015 | L33: 66489.716 | M33: 6146.1208 | N33: 96008.246 | O33: 11029.132 | Q33: 1577.9069 | R33: 65742.77 | S33: 1099680.6 | T33: 321.98055 | U33: 72087.366
B34: 1945-1970 | C34: 1089836.6 | D34: 4625.6234 | E34: 1515.6778 | F34: 11026.154 | G34: 449362.71 | H34: 18967081 | I34: 2035077.1 | J34: =SUM(Q34:U34) -> 3287306.8 | K34: 37796.89 | L34: 176351.64 | M34: 19218.895 | N34: 261143.88 | O34: 46925.377 | Q34: 4185.1052 | R34: 174370.5 | S34: 2916698.9 | T34: 853.99369 | U34: 191198.37
B35: 1970-2000 | C35: 2792936.2 | D35: 11643.189 | E35: 221571.53 | F35: 27834.353 | G35: 219965.29 | H35: 49743549 | I35: 2042444.1 | J35: =SUM(Q35:U35) -> 11793332 | K35: 147532.45 | L35: 211281.9 | M35: 60107.25 | N35: 495007.02 | O35: 114948.62 | Q35: 25613.426 | R35: 753833.41 | S35: 10492124 | T35: 23757.251 | U35: 498003.09
B36: >2000 | C36: 1732219.2 | D36: 7221.2262 | E36: 137420.95 | F36: 17263.153 | G36: 165913.22 | H36: 30851463 | I36: 1266744.9 | J36: =SUM(Q36:U36) -> 7314346.1 | K36: 98791.605 | L36: 131039.22 | M36: 37395.785 | N36: 199654.02 | O36: 69952.419 | Q36: 15885.711 | R36: 467535.28 | S36: 6507324 | T36: 14734.493 | U36: 308866.67
A37: Shops | B37: <1945 | C37: 72442.645 | D37: 322.95682 | E37: 182.42228 | F37: 718.9293 | G37: 66777.097 | H37: 1711591.1 | I37: 267163.27 | J37: =SUM(Q37:U37) -> 430287.13 | K37: 17177.732 | L37: 29339.268 | M37: 2336.9363 | N37: 26321.384 | O37: 3135.0936 | Q37: 105.53427 | R37: 14817.494 | S37: 394234.68 | T37: 78.797078 | U37: 21050.625
B38: 1945-1970 | C38: 125796.46 | D38: 559.61804 | E38: 353.46596 | F38: 1337.2105 | G38: 65943.292 | H38: 3157950.5 | I38: 462939.25 | J38: =SUM(Q38:U38) -> 745462.95 | K38: 38248.289 | L38: 50838.943 | M38: 4786.519 | N38: 46481.502 | O38: 8566.0643 | Q38: 182.86928 | R38: 25675.682 | S38: 683127.98 | T38: 0 | U38: 36476.423
B39: 1970-2000 | C39: 596437.01 | D39: 2575.6332 | E39: 18265.185 | F39: 6143.6328 | G39: 117566.54 | H39: 15001028 | I39: 850764.68 | J39: =SUM(Q39:U39) -> 4506951 | K39: 214699.65 | L39: 60133.735 | M39: 22482.975 | N39: 153388.56 | O39: 38874.145 | Q39: 0 | R39: 131451.87 | S39: 4206761.8 | T39: 1151.3493 | U39: 167585.99
B40: >2000 | C40: 348173.33 | D40: 1504.1482 | E40: 10666.715 | F40: 3587.8302 | G40: 102754.78 | H40: 8760474.8 | I40: 496839.46 | J40: =SUM(Q40:U40) -> 2632021.7 | K40: 125382.8 | L40: 35117.599 | M40: 13129.87 | N40: 56871.692 | O40: 22568.04 | Q40: 0 | R40: 76766.793 | S40: 2456713.7 | T40: 672.37837 | U40: 97868.816

Sheet 2.2.a
F1: Construction materials | N1: Metals | U1: Biobased materials | X1: Other materials | AD1: Critical Raw materials
A2: Category | B2: Product | C2: Unit | D2: Year | E2: Source | F2: Concrete | G2: Brick | H2: Asphalt | I2: Sand, gravel, clay | J2: Gypsum | K2: Stone | L2: Recycled CDW | M2: Other construction materials | N2: Iron and steel | O2: Copper | P2: Aluminium | Q2: Zinc | R2: Lead | S2: Alloying elements (non critical) | T2: Other metals (non critical) | U2: Wood | V2: Other biobased materials | W2: Textile, biobased | X2: Plastics | Y2: Insulation materials | Z2: Other materials | AA2: Glass | AB2: Ceramics | AC2: Textile, unspec. | AD2: Nd | AE2: Dy | AF2: Pr | AG2: In | AH2: Ga | AI2: Ge | AJ2: Ag | AK2: Li | AL2: Tb | AM2: Si | AN2: Pd | AO2: Co | AP2: Au | AQ2: Pt | AR2: Ta | AS2: Mg | AT2: Ti | AU2: Graphite | AV2: Sr | AW2: W | AX2: Y | AY2: La | AZ2: Nb | BA2: V | BB2: Ce | BC2: Hf | BD2: Unspecified CRM | BE2: Total CRM | BG2: Total
A3: Road, rail and waterways infrastructure | B3: Bridges | C3: ton | D3: 2019 | E3: EIB & Metabolic, 2022 | F3: ='2.2.a'!E14*1000 -> 89888279 | G3: ='2.2.a'!D14*1000 -> 2516637.9 | L3: =('2.2.a'!J14+'2.2.a'!T14)*1000 -> 469996.83 | M3: =('2.2.a'!I14)*1000 -> 18799.386 | N3: =('2.2.a'!F14+'2.2.a'!Q14)*1000 -> 6548240.5 | P3: ='2.2.a'!B14*1000 -> 64.8 | T3: ='2.2.a'!O14*1000 -> 933.1504 | U3: ='2.2.a'!H14*1000 -> 2268.082 | BG3: =SUM(F3:BD3) -> 99445220
B4: Pumping stations | F4: ='2.2.a'!E15*1000 -> 475248.41 | M4: =('2.2.a'!I15)*1000 -> 1.26346 | N4: =('2.2.a'!F15+'2.2.a'!Q15)*1000 -> 231240.25 | P4: ='2.2.a'!B15*1000 -> 0.11486 | Q4: ='2.2.a'!R15*1000 -> 5.743 | U4: ='2.2.a'!H15*1000 -> 11847.306 | X4: ='2.2.a'!M15*1000 -> 0.22972 | BG4: =SUM(F4:BD4) -> 718343.31
B5: Non-asphalt road surface | F5: ='2.2.a'!E16*1000 -> 63011601 | G5: ='2.2.a'!D16*1000 -> 4865873 | I5: =('2.2.a'!G16+'2.2.a'!U16+'2.2.a'!V16+'2.2.a'!W16)*1000 -> 269435380 | L5: =('2.2.a'!J16+'2.2.a'!T16)*1000 -> 1.1637581e+08 | BG5: =SUM(F5:BD5) -> 4.5368867e+08
B6: Sluices | F6: ='2.2.a'!E18*1000 -> 5771963.8 | I6: =('2.2.a'!G18+'2.2.a'!U18+'2.2.a'!V18+'2.2.a'!W18)*1000 -> 741800 | N6: =('2.2.a'!F18+'2.2.a'!Q18)*1000 -> 435083.7 | P6: ='2.2.a'!B18*1000 -> 221.208 | T6: ='2.2.a'!O18*1000 -> 814.98132 | U6: ='2.2.a'!H18*1000 -> 4895.8223 | X6: ='2.2.a'!M18*1000 -> 554.60006 | BG6: =SUM(F6:BD6) -> 6955334.1
B7: Roads | F7: ='2.2.a'!E19*1000 -> 357564.81 | H7: ='2.2.a'!C19*1000 -> 2.53106e+08 | I7: =('2.2.a'!G19+'2.2.a'!U19+'2.2.a'!V19+'2.2.a'!W19+'2.2.a'!K19)*1000 -> 1.7538642e+09 | L7: =('2.2.a'!J19+'2.2.a'!T19)*1000 -> 4.553734e+08 | M7: =('2.2.a'!I19)*1000 -> 453.54782 | N7: =('2.2.a'!F19+'2.2.a'!Q19)*1000 -> 261600.26 | P7: ='2.2.a'!B19*1000 -> 50029.452 | T7: ='2.2.a'!O19*1000 -> 64845.372 | Z7: ='2.2.a'!N19*1000 -> 73352.184 | AA7: ='2.2.a'!S19*1000 -> 146704.37 | BG7: =SUM(F7:BD7) -> 2.4632981e+09
B8: Tunnels | F8: ='2.2.a'!E21*1000 -> 56505299 | I8: =('2.2.a'!G21+'2.2.a'!U21+'2.2.a'!V21+'2.2.a'!W21)*1000 -> 362710700 | L8: =('2.2.a'!J21+'2.2.a'!T21)*1000 -> 190204.47 | M8: =('2.2.a'!I21)*1000 -> 7608.179 | N8: =('2.2.a'!F21+'2.2.a'!Q21)*1000 -> 11499384 | BG8: =SUM(F8:BD8) -> 4.309132e+08
B9: Viaducts | F9: ='2.2.a'!E22*1000 -> 31998599 | G9: ='2.2.a'!D22*1000 -> 41915.44 | I9: =('2.2.a'!G22+'2.2.a'!U22+'2.2.a'!V22+'2.2.a'!W22)*1000 -> 274480420 | L9: =('2.2.a'!J22+'2.2.a'!T22)*1000 -> 111764.97 | M9: =('2.2.a'!I22)*1000 -> 4470.5987 | N9: =('2.2.a'!F22+'2.2.a'!Q22)*1000 -> 350234.73 | P9: ='2.2.a'!B22*1000 -> 2.0928 | BG9: =SUM(F9:BD9) -> 3.0698741e+08
B10: Coastal defense | F10: ='2.2.a'!E23*1000 -> 16803326 | I10: =('2.2.a'!G23+'2.2.a'!U23+'2.2.a'!V23+'2.2.a'!W23)*1000 -> 1.1554317e+09 | X10: ='2.2.a'!M23*1000 -> 14389.489 | BG10: =SUM(F10:BD10) -> 1.1722494e+09
A12: Product | B12: Aluminium | C12: Asphalt | D12: Bricks | E12: Concrete | F12: Steel (construction) | G12: Gravel | H12: Wood | I12: Other materials | J12: Industrial recyclates | K12: Industral sand | L12: Insulation materials nec | M12: Plastics | N12: Other | O12: Other metals | P12: Stone | Q12: Steel (reinforcement) | R12: Zinc | S12: Glass | T12: Recycling granulate | U12: Soil | V12: Clay | W12: Construction sand | Y12: Source
B13: kton | C13: kton | D13: kton | E13: kton | F13: kton | G13: kton | H13: kton | I13: kton | J13: kton | K13: kton | L13: kton | M13: kton | N13: kton | O13: kton | P13: kton | Q13: kton | R13: kton | S13: kton | T13: kton | U13: kton | V13: kton | W13: kton
A14: Bridges | B14: 0.0648 | C14: 0 | D14: 2516.6379 | E14: 89888.279 | F14: 4748.7732 | G14: 0 | H14: 2.268082 | I14: 18.799386 | J14: 469.99683 | K14: 0 | L14: 0 | M14: 0 | N14: 0 | O14: 0.9331504 | P14: 0 | Q14: 1799.4673 | R14: 0 | S14: 0 | T14: 0 | U14: 0 | V14: 0 | W14: 0 | Y14: EIB & Metabolic, 2022
A15: Pumping stations | B15: 0.00011486 | C15: 0 | D15: 0 | E15: 475.24841 | F15: 146.81209 | G15: 0 | H15: 11.847306 | I15: 0.00126346 | J15: 0 | K15: 0 | L15: 0 | M15: 0.00022972 | N15: 0 | O15: 0 | P15: 0 | Q15: 84.42816 | R15: 0.005743 | S15: 0 | T15: 0 | U15: 0 | V15: 0 | W15: 0
A16: Non-asphalt road surface | B16: 0 | C16: 0 | D16: 4865.873 | E16: 63011.601 | F16: 0 | G16: 0 | H16: 0 | I16: 0 | J16: 0 | K16: 0 | L16: 0 | M16: 0 | N16: 0 | O16: 0 | P16: 0 | Q16: 0 | R16: 0 | S16: 0 | T16: 116375.81 | U16: 0 | V16: 0 | W16: 269435.38
A17: Sewage pipes | B17: 0 | C17: 0 | D17: 0 | E17: 14539.267 | F17: 0 | G17: 0 | H17: 0 | I17: 0 | J17: 0 | K17: 0 | L17: 0 | M17: 2106.6958 | N17: 0 | O17: 0 | P17: 0 | Q17: 1546.6 | R17: 0 | S17: 0 | T17: 0 | U17: 0 | V17: 0 | W17: 0
A18: Sluices | B18: 0.221208 | C18: 0 | D18: 0 | E18: 5771.9638 | F18: 325.7559 | G18: 0 | H18: 4.8958223 | I18: 0 | J18: 0 | K18: 0 | L18: 0 | M18: 0.55460006 | N18: 0 | O18: 0.81498132 | P18: 0 | Q18: 109.3278 | R18: 0 | S18: 0 | T18: 0 | U18: 0 | V18: 0 | W18: 741.8
A19: Roads | B19: 50.029452 | C19: 253106 | D19: 0 | E19: 357.56481 | F19: 249.91486 | G19: 0 | H19: 0 | I19: 0.45354782 | J19: 56889.437 | K19: 110.02828 | L19: 0 | M19: 0 | N19: 73.352184 | O19: 64.845372 | P19: 0 | Q19: 11.685394 | R19: 0 | S19: 146.70437 | T19: 398483.96 | U19: 1135976.4 | V19: 0 | W19: 617777.75
A20: Railroads | B20: 540.7914 | C20: 0 | D20: 0 | E20: 8724.4577 | F20: 1441.2507 | G20: 0 | H20: 0 | I20: 0 | J20: 0 | K20: 0 | L20: 264.0084 | M20: 44.978623 | N20: 0 | O20: 0 | P20: 32573.282 | Q20: 220.16127 | R20: 0 | S20: 0 | T20: 0 | U20: 0 | V20: 0 | W20: 259260.6
A21: Tunnels | B21: 0 | C21: 0 | D21: 0 | E21: 56505.299 | F21: 7595.0569 | G21: 0 | H21: 0 | I21: 7.608179 | J21: 190.20447 | K21: 0 | L21: 0 | M21: 0 | N21: 0 | O21: 0 | P21: 0 | Q21: 3904.3272 | R21: 0 | S21: 0 | T21: 0 | U21: 362710.7 | V21: 0 | W21: 0
A22: Viaducts | B22: 0.0020928 | C22: 0 | D22: 41.91544 | E22: 31998.599 | F22: 163.13909 | G22: 0 | H22: 0 | I22: 4.4705987 | J22: 111.76497 | K22: 0 | L22: 0 | M22: 0 | N22: 0 | O22: 0 | P22: 0 | Q22: 187.09564 | R22: 0 | S22: 0 | T22: 0 | U22: 274480.42 | V22: 0 | W22: 0
A23: Coastal defense | B23: 0 | C23: 0 | D23: 0 | E23: 16803.326 | F23: 0 | G23: 1214.1132 | H23: 0 | I23: 0 | J23: 0 | K23: 0 | L23: 0 | M23: 14.389489 | N23: 0 | O23: 0 | P23: 0 | Q23: 0 | R23: 0 | S23: 0 | T23: 0 | U23: 156915.96 | V23: 525244.63 | W23: 472057
A24: Sewage treatment plants | B24: 0 | C24: 0 | D24: 0 | E24: 2241.471 | F24: 0 | G24: 0 | H24: 0 | I24: 0 | J24: 0 | K24: 0 | L24: 0 | M24: 0 | N24: 0 | O24: 0 | P24: 0 | Q24: 405.02646 | R24: 0 | S24: 0 | T24: 0 | U24: 0 | V24: 0 | W24: 0
A26: Total | B26: =SUM(B14:B24) -> 591.10907 | C26: =SUM(C14:C24) -> 253106 | D26: =SUM(D14:D24) -> 7424.4264 | E26: =SUM(E14:E24) -> 290317.08 | F26: =SUM(F14:F24) -> 14670.703 | G26: =SUM(G14:G24) -> 1214.1132 | H26: =SUM(H14:H24) -> 19.011211 | I26: =SUM(I14:I24) -> 31.332975 | ... W26: =SUM(W14:W24) -> 1619272.5

Sheet 2.2.b
F1: Construction materials | N1: Metals | U1: Biobased materials | X1: Other materials | AD1: Critical Raw materials
A2: Category | B2: Product | C2: Unit | D2: Year | E2: Source | F2: Concrete | G2: Brick | H2: Asphalt | I2: Sand, gravel, clay | J2: Gypsum | K2: Stone | L2: Recycled CDW | M2: Other construction materials | N2: Iron and steel | O2: Copper | P2: Aluminium | Q2: Zinc | R2: Lead | S2: Alloying elements (non critical) | T2: Other metals (non critical) | U2: Wood | V2: Other biobased materials | W2: Textile, biobased | X2: Plastics | Y2: Insulation materials | Z2: Other materials | AA2: Glass | AB2: Ceramics | AC2: Textile, unspec. | AD2: Nd | AE2: Dy | AF2: Pr | AG2: In | AH2: Ga | AI2: Ge | AJ2: Ag | AK2: Li | AL2: Tb | AM2: Si | AN2: Pd | AO2: Co | AP2: Au | AQ2: Pt | AR2: Ta | AS2: Mg | AT2: Ti | AU2: Graphite | AV2: Sr | AW2: W | AX2: Y | AY2: La | AZ2: Nb | BA2: V | BB2: Ce | BC2: Hf | BD2: Unspecified CRM | BE2: Total CRM | BG2: Total
A3: Road- rail- and waterways infrastructure | B3: Railways | C3: ton | D3: 2018 | E3: Pieters, 2022 | F3: ='2.2.b'!F15 -> 12150469 | G3: ='2.2.b'!G15 -> 0 | H3: ='2.2.b'!H15 -> 39002.327 | I3: ='2.2.b'!I15 -> 27963301 | N3: ='2.2.b'!L15 -> 1757858.2 | O3: ='2.2.b'!M15 -> 32634.837 | P3: ='2.2.b'!N15 -> 5773.4221 | Q3: ='2.2.b'!Y15 -> 0 | T3: ='2.2.b'!O15 -> 780.84931 | U3: ='2.2.b'!P15 -> 45222.824 | X3: ='2.2.b'!S15 -> 18258.492 | Y3: ='2.2.b'!T15 -> 1566.1668 | Z3: ='2.2.b'!U15 -> 536.2205 | AA3: ='2.2.b'!V15 -> 470.08 | BG3: =SUM(F3:BD3) -> 42015873
F5: Constructiematerialen | L5: Bulk metalen | P5: Biobased materialen | S5: Overige materialen
A6: Category | B6: Product | C6: Unit | D6: Year | E6: Source | F6: Concrete | G6: Brick | H6: Asphalt | I6: Sand, gravel, clay | J6: Gypsum | K6: Other materials | L6: Iron & steel | M6: Copper | N6: Aluminium | O6: Other metals | P6: Wood | Q6: Other biobased materials | R6: Textile, organic | S6: Plastics | T6: Isolatiemateriaal | U6: Other materials | V6: Glass | W6: Ceramics | X6: Textile nec | Z6: Bron
A7: Road- rail- and waterways infrastructure: railways | B7: Rails and overhead power lines | C7: ton | D7: 2018 | E7: Pieters, 2022 | F7: =(E25+G25+R25+T25+V25)*1000 -> 10848837 | H7: =(E43+G43+R43+T43+V43)*1000 -> 39002.327 | I7: =(E24+G24+R24+T24+V24)*1000+(E39+G39+R39+T39+V39)*1000 -> 27956082 | L7: =(E23+G23+R23+T23+V23)*1000 -> 1598615.9 | M7: =(E31+G31+R31+T31+V31)*1000 -> 32143.977 | N7: =(E35+G35+R35+T35+V35)*1000 -> 387.17519 | O7: =(E33+R33+T33+V33)*1000+(E32+G32+R32+T32+V32)*1000 -> 780.84931 | P7: =(E30+G30+R30+T30+V30)*1000 -> 17571.522 | S7: =(E26+G26+R26+T26+V26)*1000+(E27+G27+R27+T27+V27)*1000+(E28+G28+R28+T28+V28)*1000+(E29+G29+R29+T29+V29)*1000+(E37+G37+R37+T37+V37)*1000 -> 14476.268 | U7: =(E34+G34+R34+T34+V34)*1000+(E36+G36+R36+T36+V36)*1000+(E40+G40+R40+T40+V40)*1000+(E41+G41+R41+T41+V41)*1000 -> 278.87475 | Z7: Pieters, 2022
B8: Switches (incl heating) | F8: =(I25+J25)*1000 -> 294424.93 | L8: =(I23+J23)*1000 -> 117816.03 | M8: =(I31+J31)*1000 -> 490.86 | N8: =(I35+J35)*1000 -> 16.362 | O8: =(I33+J33)*1000+(I32+J32)*1000 -> 0 | P8: =(I30+J30)*1000 -> 3702.6284 | S8: =(I26+J26)*1000+(I27+J27)*1000+(I28+J28)*1000+(I29+J29)*1000+(I37+J37)*1000 -> 2455.5175 | U8: =(I34+J34)*1000+(I36+J36)*1000+(I40+J40)*1000+(I41+J41)*1000 -> 21.816
B9: Platforms (incl roofs) | F9: =(K25+L25)*1000 -> 648055.73 | L9: =(K23+L23)*1000 -> 19265.095 | N9: =L35*1000 -> 2150.9331 | P9: =L30*1000 -> 13866.455 | S9: =L37*1000 -> 1197.486
B10: Elevators and stairs | F10: =M25*1000 -> 174496.86 | L10: =M23*1000 -> 1329.445 | V10: =M42*1000 -> 470.08
B11: Fences and noise barriers | F11: =N25*1000 -> 109497.03 | I11: =N39*1000 -> 7218.5609 | L11: =N23*1000 -> 18862.878 | N11: =N35*1000 -> 3218.9519 | O11: =N32*1000 -> 0 | P11: =N30*1000 -> 10082.218 | S11: =N26*1000+N27*1000+N28*1000+N29*1000+N37*1000 -> 129.2204 | T11: =N38*1000 -> 1566.1668 | U11: =N34*1000+N36*1000+N40*1000+N41*1000 -> 235.52975
B12: Signals | F12: =O25*1000 -> 8167.9 | L12: =O23*1000 -> 420.961
B13: Railway crossings | F13: =P25*1000 -> 66990
B14: Buffer stops | L14: =Q23*1000 -> 1547.91
B15: Total | F15: =SUM(F7:F14) -> 12150469 | H15: =SUM(H7:H14) -> 39002.327 | I15: =SUM(I7:I11) -> 27963301 | L15: =SUM(L7:L14) -> 1757858.2 | M15: =SUM(M7:M14) -> 32634.837 | N15: =SUM(N7:N14) -> 5773.4221 | O15: =SUM(O7:O14) -> 780.84931 | P15: =SUM(P7:P14) -> 45222.824 | S15: =SUM(S7:S14) -> 18258.492 | T15: =SUM(T7:T14) -> 1566.1668 | U15: =SUM(U7:U14) -> 536.2205 | V15: =SUM(V7:V14) -> 470.08 | Y15: =SUM(Y7:Y14) -> 0
A17: Background data, from Pieters (2022):
B18: Material stocks in Dutch railway infrastructure in 2018
A20: Base year 2018 | D20: ALL MODES | E20: TRAIN | R20: METRO | T20: LIGHTRAIL | V20: TRAM
B21: Average lifetime | C21: year | D21: 46.693897 | E21: 37.001315 | F21: 60 | G21: 50 | H21: 30 | I21: 45 | J21: 15 | K21: 60 | L21: 60 | M21: 30 | N21: 50 | O21: 30 | P21: 30 | Q21: 50 | R21: 37.001315 | S21: 60 | T21: 37.001315 | U21: 60 | V21: 37.001315 | W21: 60
B22: Substance | C22: Unit | D22: TOTAL | E22: Tracks | F22: Tunnels & bridges | G22: Power supply (traction wire only) | H22: Infrastructure cables | I22: Switches | J22: Switch heating | K22: Platforms | L22: Platform roofs | M22: Elevators & Stairs | N22: Fencing & noise barriers | O22: Signals | P22: Level Crossings | Q22: Buffer stops | R22: Tracks & power supply | S22: Tunnels & bridges | T22: Tracks & power supply | U22: Tunnels & bridges | V22: Tracks & power supply | W22: Tunnels & bridges | X22: Notes
B23: Steel | C23: kton | D23: 3228.5565 | E23: 1311.9829 | F23: 983.54838 | G23: 115.18766 | I23: 116.05984 | J23: 1.756188 | L23: 19.265095 | M23: 1.329445 | N23: 18.862878 | O23: 0.420961 | Q23: 1.54791 | R23: 61.173234 | S23: 363.1268 | T23: 28.351799 | U23: 53.335063 | V23: 81.920244 | W23: 70.68807 | X23: Interesting: more steel is in tunnels and bridges (long-lived constructions) than in rail bars (short-lived)
B24: Aggregates | C24: kton | D24: 27956.082 | E24: 26937.926 | R24: 552.48646 | T24: 117.60849 | V24: 348.06111
B25: Concrete | C25: kton | D25: 40250.318 | E25: 5395.9886 | F25: 18441.864 | G25: 599.97709 | H25: 471.292 | I25: 292.24333 | J25: 2.1816 | K25: 638.10511 | L25: 9.9506197 | M25: 174.49686 | N25: 109.49703 | O25: 8.1679 | P25: 66.99 | R25: 182.61259 | S25: 6932.6689 | T25: 1198.9355 | U25: 930.09292 | V25: 3471.323 | W25: 1323.9316
B26: EPDM (rubber) | C26: kton | D26: 3.5695131 | E26: 2.5714423 | I26: 0.89315 | N26: 0.10492079
B27: HDPE | C27: kton | D27: 27.863128 | E27: 4.4881192 | H27: 22.150724 | I27: 1.2026128 | N27: 0.021672084
B28: PP | C28: kton | D28: 0.22608928 | E28: 0.13095308 | I28: 0.09250868 | N28: 0.0026275167
B29: GFRP (fiberglass) | C29: kton | D29: 7.5039131 | E29: 7.2857531 | J29: 0.21816
B30: Timber | C30: kton | D30: 45.222824 | E30: 17.571522 | I30: 3.7026284 | L30: 13.866455 | N30: 10.082218
B31: Copper | C31: kton | D31: 65.248243 | E31: 0 | G31: 18.015309 | H31: 32.613406 | J31: 0.49086 | R31: 12.954925 | T31: 0.30205929 | V31: 0.87168283
B32: Bronze | C32: kton | D32: 0.78084931 | E32: 0 | G32: 0.78084931
B33: Zinc | C33: kton | D33: 2.0910728 | E33: 0 | G33: 1.5492707 | N33: 0.5418021
B34: Porcelain | C34: kton | D34: 0.27887475 | E34: 0 | G34: 0.27887475
B35: Aluminium | C35: kton | D35: 13.753645 | E35: 0 | F35: 5.447108 | J35: 0.016362 | L35: 2.1509331 | N35: 3.2189519 | S35: 1.7886333 | T35: 0.098784546 | U35: 0.35877852 | V35: 0.28839064 | W35: 0.38570277
B36: Epoxy | C36: kton | D36: 0.021816 | J36: 0.021816
B37: PVC | C37: kton | D37: 1.246572 | J37: 0.049086 | L37: 1.197486
B38: Stone Wool | C38: kton | D38: 1.5661668 | N38: 1.5661668
B39: Sand (ex. Concrete) | C39: kton | D39: 7.2185609 | N39: 7.2185609 | X39: Incomplete data that is left out of the rest of the scope
B40: Alkyd | C40: kton | D40: 0.11633329 | N40: 0.11633329
B41: Powder Coating | C41: kton | D41: 0.11919646 | N41: 0.11919646
B42: Glass | C42: kton | D42: 0.47008 | L42: 0 | M42: 0.47008 | X42: Incomplete data that is left out of the rest of the scope
B43: Asphalt | C43: kton | D43: 39.002327 | E43: 0 | T43: 9.6508452 | V43: 29.351482 | X43: Left out of the scope as it is used between tram tracks for road vehicles and not for rail vehicles
...

Sheet 2.3.
F1: Construction materials | N1: Metals | U1: Biobased materials | X1: Other materials | AD1: Critical Raw materials
A2: Category | B2: Product | C2: Unit | D2: Year | E2: Source | F2: Concrete | G2: Brick | H2: Asphalt | I2: Sand, gravel, clay | J2: Gypsum | K2: Stone | L2: Recycled CDW | M2: Other construction materials | N2: Iron and steel | O2: Copper | P2: Aluminium | Q2: Zinc | R2: Lead | S2: Alloying elements (non critical) | T2: Other metals (non critical) | U2: Wood | V2: Other biobased materials | W2: Textile, biobased | X2: Plastics | Y2: Insulation materials | Z2: Other materials | AA2: Glass | AB2: Ceramics | AC2: Textile, unspec. | AD2: Nd | AE2: Dy | AF2: Pr | AG2: In | AH2: Ga | AI2: Ge | AJ2: Ag | AK2: Li | AL2: Tb | AM2: Si | AN2: Pd | AO2: Co | AP2: Au | AQ2: Pt | AR2: Ta | AS2: Mg | AT2: Ti | AU2: Graphite | AV2: Sr | AW2: W | AX2: Y | AY2: La | AZ2: Nb | BA2: V | BB2: Ce | BC2: Hf | BD2: Unspecified CRM | BE2: Total CRM | BG2: Total
A3: Electricity system | B3: Electriticy cables | C3: ton | D3: 2018 | E3: van Oorschot et al., 2022; van Oorschot et al., 2020a | N3: =10422.8803589811+E37 -> 179837.88 | O3: 85729.738 | P3: 339882.68 | R3: =F37 -> 324131.4 | X3: =D37 -> 173467.42 | Z3: =G37 -> 129402.99 | BE3: =SUM(AD3:BD3) -> 0 | BG3: =SUM(F3:BD3) -> 1232452.1
B4: Substations and transformers | F4: 1403741.9 | N4: 570263.12 | O4: 130206.66 | P4: 239703.73 | BE4: =SUM(AD4:BD4) -> 0 | BG4: =SUM(F4:BD4) -> 2343915.4
B5: High voltage masts | F5: 206794.41 | N5: 126051.43 | BE5: =SUM(AD5:BD5) -> 0 | BG5: =SUM(F5:BD5) -> 332845.84
B6: Wind turbines | F6: 2112599.4 | N6: 990065.18 | O6: 18710.587 | P6: 1625.4373 | S6: 854.17549 | U6: 1555.6914 | X6: 1149.8588 | AD6: 91.514655 | AE6: 3.7446497 | AF6: 16.048499 | AL6: 0.72600352 | AM6: 146.98479 | BA6: 19.29509 | BE6: =SUM(AD6:BD6) -> 278.31369 | BG6: =SUM(F6:BD6) -> 3126838.6
B7: Solar panels | F7: 274471.43 | N7: 307028.17 | O7: 20800.141 | P7: 33913.273 | Q7: 8.9983122 | R7: 279.28953 | S7: 460.98773 | X7: 38887.22 | AA7: 209810.12 | AG7: 7.0499684 | AH7: 1.200175 | AI7: 12.848436 | AJ7: 77.173123 | AM7: 15474.776 | BE7: =SUM(AD7:BD7) -> 15573.048 | BG7: =SUM(F7:BD7) -> 901232.67
B8: Gas fired powerplants | F8: 662340 | N8: 294500 | O8: 17575 | P8: 17575 | S8: 345.61 | AO8: 34.2 | BE8: =SUM(AD8:BD8) -> 34.2 | BG8: =SUM(F8:BD8) -> 992369.81
B9: Coal fired power plants | F9: 1169894 | N9: 347044.5 | O9: 6765 | P9: 4510 | S9: 1023.4092 | AO9: 62.9596 | AR9: 2.3001 | AT9: 6.4042 | AW9: 84.5625 | AZ9: 8.0278 | BA9: 11.275 | BE9: =SUM(AD9:BD9) -> 175.5292 | BG9: =SUM(F9:BD9) -> 1529412.4
B10: Nuclear power plants | F10: 181050 | N10: 31212 | O10: 749.7 | P10: 102 | Q10: 2.193 | S10: 386.631 | AG10: 0.816 | AJ10: 4.233 | AT10: 0.765 | AW10: 2.55 | AX10: 0.255 | AZ10: 1.02 | BA10: 0.306 | BE10: =SUM(AD10:BD10) -> 9.945 | BG10: =SUM(F10:BD10) -> 213512.47
B11: Biomass / waste incinerators | F11: 185747.08 | N11: 31174.66 | O11: 46.46 | P11: 236.946 | S11: 210.85406 | AO11: 12.971632 | AR11: 0.473892 | AT11: 1.319464 | AW11: 17.4225 | AZ11: 1.653976 | BA11: 2.323 | BE11: =SUM(AD11:BD11) -> 36.164464 | BG11: =SUM(F11:BD11) -> 217452.16
A14: Additional data on medium and low voltage transmission system, van Oorschot et al., 2020, 2022, including plastics, steel, lead and other materials
A15: Medium voltage cables | D15: PE | E15: PVC | F15: XLPE | G15: Tapes | H15: Rubber | I15: Steel | J15: Lead | K15: Bitumen impregnated jute | L15: Oil impregnated paper
A16: plastics cables | B16: 0.22 | C16: % | D16: 3229684 | E16: =11185+3087163 -> 3098348 | F16: 4914107 | G16: 383813 | H16: 69230
B17: 9833 | C17: km
A18: armoured paper-lead cables | B18: 0.78 | C18: % | I18: 47664225 | J18: 92683870 | K18: 11201890 | L18: 18265001
B19: 34700 | C19: km
A20: Material composition | B20: kg/km | D20: =D16/$B17*$B16 -> 72.259786 | E20: =E16/$B17*$B16 -> 69.321322 | F20: =F16/$B17*$B16 -> 109.94646 | G20: =G16/$B17*$B16 -> 8.5872938 | H20: =H16/$B17*$B16 -> 1.5489271 | I20: =I18/$B19*$B18 -> 1071.4149 | J20: =J18/$B19*$B18 -> 2083.3838 | K20: =K18/$B19*$B18 -> 251.80041 | L20: =L18/$B19*$B18 -> 410.56775
A21: Low voltage cables | D21: PE | E21: PVC | F21: XLPE | G21: Tapes | H21: Rubber | I21: Steel | J21: Lead | K21: Bitumen impregnated jute | L21: Oil impregnated paper
A22: plastics cables | B22: 0.69 | C22: % | E22: =33461016+19065504+2399306 -> 54925826 | F22: 443178 | G22: 51884 | H22: 11478612 | I22: 1536663
B23: 57197 | C23: km
A24: armoured paper-lead cables | B24: 0.31 | C24: % | I24: 18656844 | J24: 37249505 | K24: 5534618 | L24: 4358199
B25: 25363 | C25: km
A26: Material composition | B26: kg/km | E26: =E22/$B23*$B22 -> 662.60153 | F26: =F22/$B23*$B22 -> 5.3463087 | G26: =G22/$B23*$B22 -> 0.62590625 | H26: =H22/$B23*$B22 -> 138.47304 | I26: =I22/$B23*$B22+I24/B25*B24 -> 246.57146 | J26: =J24/$B25*$B24 -> 455.28315 | K26: =K24/$B25*$B24 -> 67.647028 | L26: =L24/$B25*$B24 -> 53.268213
A28: MS 2018 | B28: 107688.29 | C28: km
A29: LS 2018 | B29: 219150.12 | C29: km
A32: Stock calculation kg | D32: PE | E32: PVC | F32: XLPE | G32: Tapes | H32: Rubber | I32: Steel | J32: Lead | K32: Bitumen impregnated jute | L32: Oil impregnated paper
D33: kg | E33: kg | F33: kg | G33: kg | H33: kg | I33: kg | J33: kg | K33: kg | L33: kg
D34: =D20*$B28+D26*$B29 -> 7781533 | E34: =E20*$B28+E26*$B29 -> 1.526743e+08 | F34: =F20*$B28+F26*$B29 -> 13011591 | G34: =G20*$B28+G26*$B29 -> 1061918.4 | H34: =H20*$B28+H26*$B29 -> 30513184 | I34: =I20*$B28+I26*$B29 -> 1.69415e+08 | J34: =J20*$B28+J26*$B29 -> 3.241314e+08 | K34: =K20*$B28+K26*$B29 -> 41940810 | L34: =L20*$B28+L26*$B29 -> 55887075
A35: Stock calculation ton, aggregated | D35: Plastics | E35: Steel | F35: Lead | G35: Other
D36: ton | E36: ton | F36: ton | G36: ton
D37: =(D34+E34+F34)/1000 -> 173467.42 | E37: =I34/1000 -> 169415 | F37: =J34/1000 -> 324131.4 | G37: =(G34+H34+K34+L34)/1000 -> 129402.99

Sheet 2.4.
F1: Construction materials | N1: Metals | U1: Biobased materials | X1: Other materials | AD1: Critical Raw materials
A2: Category | B2: Product | C2: Unit | D2: Year | E2: Source | F2: Concrete | G2: Brick | H2: Asphalt | I2: Sand, gravel, clay | J2: Gypsum | K2: Stone | L2: Recycled CDW | M2: Other construction materials | N2: Iron and steel | O2: Copper | P2: Aluminium | Q2: Zinc | R2: Lead | S2: Alloying elements (non critical) | T2: Other metals (non critical) | U2: Wood | V2: Other biobased materials | W2: Textile, biobased | X2: Plastics | Y2: Insulation materials | Z2: Other materials | AA2: Glass | AB2: Ceramics | AC2: Textile, unspec. | AD2: Nd | AE2: Dy | AF2: Pr | AG2: In | AH2: Ga | AI2: Ge | AJ2: Ag | AK2: Li | AL2: Tb | AM2: Si | AN2: Pd | AO2: Co | AP2: Au | AQ2: Pt | AR2: Ta | AS2: Mg | AT2: Ti | AU2: Graphite | AV2: Sr | AW2: W | AX2: Y | AY2: La | AZ2: Nb | BA2: V | BB2: Ce | BC2: Hf | BD2: Unspecified CRM | BE2: Total CRM | BG2: Total
A3: Heating system | B3: Gas pipes | C3: ton | D3: 2022 | E3: Verhagen et al., 2022a | M3: =E19*1000 -> 1400 | N3: =B19*1000 -> 450300 | X3: =G19*1000 -> 300700
B4: Boilers | N4: =B20*1000 -> 179300 | O4: =C20*1000 -> 54800 | T4: =D20*1000 -> 14200 | X4: =G20*1000 -> 42800
B5: Natural gas production plants | F5: =F21*1000 -> 10300 | N5: =B21*1000 -> 26600
A7: Data from Verhagen et al., 2022
B8: Brass | C8: Bronze | D8: Copper | E8: Cast iron | F8: PE | G8: SPVC + | H8: Steel | I8: Concrete | J8: Cement | K8: Asbestos cement | L8: Total
G9: PVC
B10: kton | C10: kton | D10: kton | E10: kton | F10: kton | G10: kton | H10: kton | I10: kton | J10: kton | K10: kton | L10: kton
A11: Gas infrastructure | B11: 0 | C11: 0 | D11: 0 | E11: 73.8 | F11: 23.7 | G11: 277 | H11: 376.5 | I11: 0 | J11: 0 | K11: 1.4 | L11: 752.5
A12: Boilers | B12: 12.6 | C12: 1.6 | D12: 54.8 | E12: 1.2 | F12: 0 | G12: 42.8 | H12: 178.1 | I12: 0 | J12: 0 | K12: 0 | L12: 291.3
A13: Natural gas production plants | B13: 0 | C13: 0 | D13: 0 | E13: 0 | F13: 0 | G13: 0 | H13: 26.6 | I13: 7.2 | J13: 3.1 | K13: 0 | L13: 36.9
A15: Total | B15: 12.6 | C15: 1.6 | D15: 54.8 | E15: 75 | F15: 23.7 | G15: 319.8 | H15: 581.2 | I15: 7.2 | J15: 3.1 | K15: 1.4 | L15: 1080.7
A18: Aggregated material categories | B18: Iron & steel | C18: Copper | D18: Other metals | E18: Other construction materials | F18: Concrete & cement | G18: Plastics
A19: gas pipes | B19: =E11+H11 -> 450.3 | C19: =D11 -> 0 | D19: =B11+C11 -> 0 | E19: =K11 -> 1.4 | F19: =I11+J11 -> 0 | G19: =F11+G11 -> 300.7
A20: boilers | B20: =E12+H12 -> 179.3 | C20: =D12 -> 54.8 | D20: =B12+C12 -> 14.2 | E20: =K12 -> 0 | F20: =I12+J12 -> 0 | G20: =F12+G12 -> 42.8
A21: Natural gas production plants | B21: =E13+H13 -> 26.6 | C21: =D13 -> 0 | D21: =B13+C13 -> 0 | E21: =K13 -> 0 | F21: =I13+J13 -> 10.3 | G21: =F13+G13 -> 0

Sheet 2.5.
F1: Construction materials | N1: Metals | U1: Biobased materials | X1: Other materials | AD1: Critical Raw materials
