Workbook
Name materialenInProducten_voorraad_wide: '2.8.'!$A$44:$DO$82

Sheet Front page
A1: Table of contents
A2: 1. Overview of the Dutch urban mine
A3: 2. In-use stocks per sector
A4: 2.1. Buildings
A5: 2.2. Road, rail and waterways infrastructure
A6: 2.3. Electricity system
A7: 2.4. Heating system
A8: 2.5. Drinking water and sewage infrastructure
A9: 2.6. Vehicles
A10: 2.7. Consumer electronics
A11: 2.8. Machinery, textiles, other consumer goods
A12: 3. Hibernating stocks
... A16: In this preadsheet we present an overview of the in-use stocks in the Netherlands around 2020, specified per category of application and per material. In tab page 1, the totals can be found. In tab pages 2.1 to 2.8 a further specification is provided of the categories of applications, and the conversion from source data to the format of tab page 1 is provided. In tab page 3, an estimate is provided of the so-called hibernating stocks. Tab page 4 contains the references. Most references are to reports in Dutch, compiled for the Dutch urban mine project. Further references can be found in these reports, and especially in the annexes and the databases that go with them. All can be found at the project website: https://www.universiteitleiden.nl/en/research/research-projects/science/cml-urban-mine-of-the-netherlands

Sheet 1.
F1: Construction materials | N1: Metals | U1: Biobased materials | X1: Other materials | AD1: Critical raw materials (CRM)
A2: Category | B2: Product | C2: Unit | D2: Year | E2: Source | F2: Concrete | G2: Brick | H2: Asphalt | I2: Sand, gravel, clay | J2: Gypsum | K2: Stone | L2: Recycled CDW | M2: Other construction materials | N2: Iron and steel | O2: Copper | P2: Aluminium | Q2: Zinc | R2: Lead | S2: Alloying elements (non critical) | T2: Other metals (non critical) | U2: Wood | V2: Other biobased materials | W2: Textile, biobased | X2: Plastics | Y2: Insulation materials | Z2: Other materials | AA2: Glass | AB2: Ceramics | AC2: Textile, unspec. | AD2: Nd | AE2: Dy | AF2: Pr | AG2: In | AH2: Ga | AI2: Ge | AJ2: Ag | AK2: Li | AL2: Tb | AM2: Si | AN2: Pd | AO2: Co | AP2: Au | AQ2: Pt | AR2: Ta | AS2: Mg | AT2: Ti | AU2: Graphite | AV2: Sr | AW2: W | AX2: Y | AY2: La | AZ2: Nb | BA2: V | BB2: Ce | BC2: Hf | BD2: Unspecified CRM | BE2: Total CRM | BG2: Total
A3: Buildings | B3: Detached houses | C3: ton | D3: 2018 | E3: van Oorschot et al., 2020b | F3: =SUM('2.1.'!H13:'2.1.'!H16) -> 4.650627e+08 | G3: =SUM('2.1.'!I13:'2.1.'!I16) -> 68617915 | I3: =SUM('2.1.'!U13:'2.1.'!U16) -> 7422150 | J3: =SUM('2.1.'!R13:'2.1.'!R16) -> 9986057.2 | K3: =SUM('2.1.'!S13:'2.1.'!S16)+SUM('2.1.'!T13:'2.1.'!T16) -> 1.703187e+08 | M3: =SUM('2.1.'!Q13:'2.1.'!Q16) -> 19554.887 | N3: =SUM('2.1.'!C13:'2.1.'!C16) -> 18827825 | O3: =SUM('2.1.'!D13:'2.1.'!D16) -> 287560.19 | P3: =SUM('2.1.'!E13:'2.1.'!E16) -> 67464.89 | T3: =SUM('2.1.'!F13:'2.1.'!F16) -> 863667.07 | U3: =SUM('2.1.'!G13:'2.1.'!G16) -> 22477989 | X3: =SUM('2.1.'!M13:'2.1.'!M16) -> 522534.44 | Y3: =SUM('2.1.'!N13:'2.1.'!N16) -> 4810289.6 | Z3: =SUM('2.1.'!O13:'2.1.'!O16) -> 599167.96 | AA3: =SUM('2.1.'!K13:'2.1.'!K16) -> 1141750.5 | AB3: =SUM('2.1.'!L13:'2.1.'!L16) -> 3380716.4 | BG3: =SUM(F3:BD3) -> 7.7440604e+08
B4: Serial houses | F4: =SUM('2.1.'!H17:'2.1.'!H20) -> 5.2525874e+08 | G4: =SUM('2.1.'!I17:'2.1.'!I20) -> 40989326 | I4: =SUM('2.1.'!U17:'2.1.'!U20) -> 10658815 | J4: =SUM('2.1.'!R17:'2.1.'!R20) -> 6380294.6 | K4: =SUM('2.1.'!S17:'2.1.'!S20)+SUM('2.1.'!T17:'2.1.'!T20) -> 1.5441148e+08 | M4: =SUM('2.1.'!Q17:'2.1.'!Q20) -> 0 | N4: =SUM('2.1.'!C17:'2.1.'!C20) -> 22405049 | O4: =SUM('2.1.'!D17:'2.1.'!D20) -> 145927.3 | P4: =SUM('2.1.'!E17:'2.1.'!E20) -> 164821.14 | T4: =SUM('2.1.'!F17:'2.1.'!F20) -> 628019.16 | U4: =SUM('2.1.'!G17:'2.1.'!G20) -> 13655596 | X4: =SUM('2.1.'!M17:'2.1.'!M20) -> 652973 | Y4: =SUM('2.1.'!N17:'2.1.'!N20) -> 5721386.9 | Z4: =SUM('2.1.'!O17:'2.1.'!O20) -> 782673.32 | AA4: =SUM('2.1.'!K17:'2.1.'!K20) -> 1398513.6 | AB4: =SUM('2.1.'!L17:'2.1.'!L20) -> 1146910.9 | BG4: =SUM(F4:BD4) -> 7.8440052e+08
B5: Apartments | F5: =SUM('2.1.'!H21:'2.1.'!H24) -> 4.3123215e+08 | G5: =SUM('2.1.'!I21:'2.1.'!I24) -> 18705743 | I5: =SUM('2.1.'!U21:'2.1.'!U24) -> 6185325.3 | J5: =SUM('2.1.'!R21:'2.1.'!R24) -> 6618220.8 | K5: =SUM('2.1.'!S21:'2.1.'!S24)+SUM('2.1.'!T21:'2.1.'!T24) -> 47366712 | M5: =SUM('2.1.'!Q21:'2.1.'!Q24) -> 232554.44 | N5: =SUM('2.1.'!C21:'2.1.'!C24) -> 21496677 | O5: =SUM('2.1.'!D21:'2.1.'!D24) -> 86596.513 | P5: =SUM('2.1.'!E21:'2.1.'!E24) -> 1229438.6 | T5: =SUM('2.1.'!F21:'2.1.'!F24) -> 203498.27 | U5: =SUM('2.1.'!G21:'2.1.'!G24) -> 6384651.2 | X5: =SUM('2.1.'!M21:'2.1.'!M24) -> 505028.08 | Y5: =SUM('2.1.'!N21:'2.1.'!N24) -> 4464022.6 | Z5: =SUM('2.1.'!O21:'2.1.'!O24) -> 1230872.4 | AA5: =SUM('2.1.'!K21:'2.1.'!K24) -> 1583097 | AB5: =SUM('2.1.'!L21:'2.1.'!L24) -> 1677408.1 | BG5: =SUM(F5:BD5) -> 5.4920199e+08
B6: Shops | F6: =SUM('2.1.'!H37:'2.1.'!H40) -> 28631044 | G6: =SUM('2.1.'!I37:'2.1.'!I40) -> 2077706.7 | I6: =SUM('2.1.'!U37:'2.1.'!U40) -> 322981.85 | J6: =SUM('2.1.'!R37:'2.1.'!R40) -> 248711.84 | K6: =SUM('2.1.'!S37:'2.1.'!S40)+SUM('2.1.'!T37:'2.1.'!T40) -> 7742740.6 | M6: =SUM('2.1.'!Q37:'2.1.'!Q40) -> 288.40355 | N6: =SUM('2.1.'!C37:'2.1.'!C40) -> 1142849.4 | O6: =SUM('2.1.'!D37:'2.1.'!D40) -> 4962.3563 | P6: =SUM('2.1.'!E37:'2.1.'!E40) -> 29467.789 | T6: =SUM('2.1.'!F37:'2.1.'!F40) -> 11787.603 | U6: =SUM('2.1.'!G37:'2.1.'!G40) -> 353041.71 | X6: =SUM('2.1.'!M37:'2.1.'!M40) -> 42736.3 | Y6: =SUM('2.1.'!N37:'2.1.'!N40) -> 283063.14 | Z6: =SUM('2.1.'!O37:'2.1.'!O40) -> 73143.343 | AA6: =SUM('2.1.'!K37:'2.1.'!K40) -> 395508.47 | AB6: =SUM('2.1.'!L37:'2.1.'!L40) -> 175429.55 | BG6: =SUM(F6:BD6) -> 41535463
B7: Commercial buildings | F7: =SUM('2.1.'!H25:'2.1.'!H28) -> 1.9374626e+08 | G7: =SUM('2.1.'!I25:'2.1.'!I28) -> 1164408.8 | I7: =SUM('2.1.'!U25:'2.1.'!U28) -> 5101605.2 | J7: =SUM('2.1.'!R25:'2.1.'!R28) -> 190481.25 | K7: =SUM('2.1.'!S25:'2.1.'!S28)++SUM('2.1.'!T25:'2.1.'!T28) -> 6126589.7 | M7: =SUM('2.1.'!Q25:'2.1.'!Q28) -> 228242.43 | N7: =SUM('2.1.'!C25:'2.1.'!C28) -> 19219233 | O7: =SUM('2.1.'!D25:'2.1.'!D28) -> 57793.134 | P7: =SUM('2.1.'!E25:'2.1.'!E28) -> 94855.418 | T7: =SUM('2.1.'!F25:'2.1.'!F28) -> 43135.226 | U7: =SUM('2.1.'!G25:'2.1.'!G28) -> 1829143.6 | X7: =SUM('2.1.'!M25:'2.1.'!M28) -> 497170.34 | Y7: =SUM('2.1.'!N25:'2.1.'!N28) -> 5530367.9 | Z7: =SUM('2.1.'!O25:'2.1.'!O28) -> 76342.817 | AA7: =SUM('2.1.'!K25:'2.1.'!K28) -> 207203.03 | AB7: =SUM('2.1.'!L25:'2.1.'!L28) -> 47306.713 | BG7: =SUM(F7:BD7) -> 2.3416013e+08
B8: Office buildings | F8: =SUM('2.1.'!H29:'2.1.'!H32) -> 1.2774419e+08 | G8: =SUM('2.1.'!I29:'2.1.'!I32) -> 5156881.4 | I8: =SUM('2.1.'!U29:'2.1.'!U32) -> 3430178.2 | J8: =SUM('2.1.'!R29:'2.1.'!R32) -> 3905180.4 | K8: =SUM('2.1.'!S29:'2.1.'!S32)++SUM('2.1.'!T29:'2.1.'!T32) -> 23318665 | M8: =SUM('2.1.'!Q29:'2.1.'!Q32) -> 149839.22 | N8: =SUM('2.1.'!C29:'2.1.'!C32) -> 8893274.3 | O8: =SUM('2.1.'!D29:'2.1.'!D32) -> 35336.787 | P8: =SUM('2.1.'!E29:'2.1.'!E32) -> 582441.48 | T8: =SUM('2.1.'!F29:'2.1.'!F32) -> 81795.032 | U8: =SUM('2.1.'!G29:'2.1.'!G32) -> 1116146.8 | X8: =SUM('2.1.'!M29:'2.1.'!M32) -> 179253.9 | Y8: =SUM('2.1.'!N29:'2.1.'!N32) -> 1594140.5 | Z8: =SUM('2.1.'!O29:'2.1.'!O32) -> 224232.7 | AA8: =SUM('2.1.'!K29:'2.1.'!K32) -> 797868.95 | AB8: =SUM('2.1.'!L29:'2.1.'!L32) -> 551570.59 | BG8: =SUM(F8:BD8) -> 1.7776099e+08
B9: Service buildings | F9: =SUM('2.1.'!H33:'2.1.'!H36) -> 1.0630818e+08 | G9: =SUM('2.1.'!I33:'2.1.'!I36) -> 6111549.7 | I9: =SUM('2.1.'!U33:'2.1.'!U36) -> 1070155.5 | J9: =SUM('2.1.'!R33:'2.1.'!R36) -> 1461482 | K9: =SUM('2.1.'!S33:'2.1.'!S36)+SUM('2.1.'!T33:'2.1.'!T36) -> 21055496 | M9: =SUM('2.1.'!Q33:'2.1.'!Q36) -> 47262.149 | N9: =SUM('2.1.'!C33:'2.1.'!C36) -> 6028994.8 | O9: =SUM('2.1.'!D33:'2.1.'!D36) -> 25234.034 | P9: =SUM('2.1.'!E33:'2.1.'!E36) -> 361102.6 | T9: =SUM('2.1.'!F33:'2.1.'!F36) -> 60208.997 | U9: =SUM('2.1.'!G33:'2.1.'!G36) -> 1142153.6 | X9: =SUM('2.1.'!M33:'2.1.'!M36) -> 122868.05 | Y9: =SUM('2.1.'!N33:'2.1.'!N36) -> 1051813.2 | Z9: =SUM('2.1.'!O33:'2.1.'!O36) -> 242855.55 | AA9: =SUM('2.1.'!K33:'2.1.'!K36) -> 288515.85 | AB9: =SUM('2.1.'!L33:'2.1.'!L36) -> 585162.47 | BG9: =SUM(F9:BD9) -> 1.4596303e+08
A10: Road, rail and waterways infrastructure | B10: Bridges | C10: ton | D10: 2019 | E10: EIB & Metabolic, 2022 | F10: ='2.2.a'!F3 -> 89888279 | G10: ='2.2.a'!G3 -> 2516637.9 | L10: ='2.2.a'!L3 -> 469996.83 | M10: ='2.2.a'!M3 -> 18799.386 | N10: ='2.2.a'!N3 -> 6548240.5 | P10: ='2.2.a'!P3 -> 64.8 | T10: ='2.2.a'!T3 -> 933.1504 | U10: ='2.2.a'!U3 -> 2268.082 | BG10: =SUM(F10:BD10) -> 99445220
B11: Pumping stations | F11: ='2.2.a'!F4 -> 475248.41 | M11: ='2.2.a'!M4 -> 1.26346 | N11: ='2.2.a'!N4 -> 231240.25 | P11: ='2.2.a'!P4 -> 0.11486 | Q11: ='2.2.a'!Q4 -> 5.743 | U11: ='2.2.a'!U4 -> 11847.306 | X11: ='2.2.a'!X4 -> 0.22972 | BG11: =SUM(F11:BD11) -> 718343.31
B12: Non-asphalt road surface | F12: ='2.2.a'!F5 -> 63011601 | G12: ='2.2.a'!G5 -> 4865873 | I12: ='2.2.a'!I5 -> 269435380 | L12: ='2.2.a'!L5 -> 1.1637581e+08 | BG12: =SUM(F12:BD12) -> 4.5368867e+08
B13: Sluices | F13: ='2.2.a'!F6 -> 5771963.8 | I13: ='2.2.a'!I6 -> 741800 | N13: ='2.2.a'!N6 -> 435083.7 | P13: ='2.2.a'!P6 -> 221.208 | T13: ='2.2.a'!T6 -> 814.98132 | U13: ='2.2.a'!U6 -> 4895.8223 | X13: ='2.2.a'!X6 -> 554.60006 | BG13: =SUM(F13:BD13) -> 6955334.1
B14: Roads | F14: ='2.2.a'!F7 -> 357564.81 | H14: ='2.2.a'!H7 -> 2.53106e+08 | I14: ='2.2.a'!I7 -> 1.7538642e+09 | L14: ='2.2.a'!L7 -> 4.553734e+08 | M14: ='2.2.a'!M7 -> 453.54782 | N14: ='2.2.a'!N7 -> 261600.26 | P14: ='2.2.a'!P7 -> 50029.452 | T14: ='2.2.a'!T7 -> 64845.372 | Z14: ='2.2.a'!Z7 -> 73352.184 | AA14: ='2.2.a'!AA7 -> 146704.37 | BG14: =SUM(F14:BD14) -> 2.4632981e+09
B15: Tunnels | F15: ='2.2.a'!F8 -> 56505299 | I15: ='2.2.a'!I8 -> 362710700 | L15: ='2.2.a'!L8 -> 190204.47 | M15: ='2.2.a'!M8 -> 7608.179 | N15: ='2.2.a'!N8 -> 11499384 | BG15: =SUM(F15:BD15) -> 4.309132e+08
B16: Viaducts | F16: ='2.2.a'!F9 -> 31998599 | G16: ='2.2.a'!G9 -> 41915.44 | I16: ='2.2.a'!I9 -> 274480420 | L16: ='2.2.a'!L9 -> 111764.97 | M16: ='2.2.a'!M9 -> 4470.5987 | N16: ='2.2.a'!N9 -> 350234.73 | P16: ='2.2.a'!P9 -> 2.0928 | BG16: =SUM(F16:BD16) -> 3.0698741e+08
B17: Coastal defense | F17: ='2.2.a'!F10 -> 16803326 | I17: ='2.2.a'!I10 -> 1.1554317e+09 | X17: ='2.2.a'!X10 -> 14389.489 | BG17: =SUM(F17:BD17) -> 1.1722494e+09
B18: Railway tracks | C18: ton | D18: 2018 | E18: Pieters, 2021 | F18: ='2.2.b'!F3 -> 12150469 | H18: ='2.2.b'!H3 -> 39002.327 | I18: ='2.2.b'!I3 -> 27963301 | N18: ='2.2.b'!N3 -> 1757858.2 | O18: ='2.2.b'!O3 -> 32634.837 | P18: ='2.2.b'!P3 -> 5773.4221 | T18: ='2.2.b'!T3 -> 780.84931 | U18: ='2.2.b'!U3 -> 45222.824 | X18: ='2.2.b'!X3 -> 18258.492 | Y18: ='2.2.b'!Y3 -> 1566.1668 | Z18: ='2.2.b'!Z3 -> 536.2205 | AA18: ='2.2.b'!AA3 -> 470.08 | BG18: =SUM(F18:BD18) -> 42015873
A19: Energy system | B19: Electriticy cables | C19: ton | D19: 2018 | E19: van Oorschot et al., 2020a; Van Oorschot et al., 2020b | N19: ='2.3.'!N3 -> 179837.88 | O19: ='2.3.'!O3 -> 85729.738 | P19: ='2.3.'!P3 -> 339882.68 | R19: ='2.3.'!R3 -> 324131.4 | X19: ='2.3.'!X3 -> 173467.42 | Z19: ='2.3.'!Z3 -> 129402.99 | BG19: =SUM(F19:BD19) -> 1232452.1
B20: Substations and transformers | F20: ='2.3.'!F4 -> 1403741.9 | N20: ='2.3.'!N4 -> 570263.12 | O20: ='2.3.'!O4 -> 130206.66 | P20: ='2.3.'!P4 -> 239703.73 | BG20: =SUM(F20:BD20) -> 2343915.4
B21: High voltage masts | F21: ='2.3.'!F5 -> 206794.41 | N21: ='2.3.'!N5 -> 126051.43 | BG21: =SUM(F21:BD21) -> 332845.84
B22: Wind turbines | F22: ='2.3.'!F6 -> 2112599.4 | N22: ='2.3.'!N6 -> 990065.18 | O22: ='2.3.'!O6 -> 18710.587 | P22: ='2.3.'!P6 -> 1625.4373 | S22: ='2.3.'!S6 -> 854.17549 | U22: ='2.3.'!U6 -> 1555.6914 | X22: ='2.3.'!X6 -> 1149.8588 | AD22: ='2.3.'!AD6 -> 91.514655 | AE22: ='2.3.'!AE6 -> 3.7446497 | AF22: ='2.3.'!AF6 -> 16.048499 | AL22: ='2.3.'!AL6 -> 0.72600352 | AM22: ='2.3.'!AM6 -> 146.98479 | BA22: ='2.3.'!BA6 -> 19.29509 | BE22: =SUM(AD22:BD22) -> 278.31369 | BG22: =SUM(F22:BD22) -> 3126838.6
B23: Solar panels | F23: ='2.3.'!F7 -> 274471.43 | N23: ='2.3.'!N7 -> 307028.17 | O23: ='2.3.'!O7 -> 20800.141 | P23: ='2.3.'!P7 -> 33913.273 | Q23: ='2.3.'!Q7 -> 8.9983122 | R23: ='2.3.'!R7 -> 279.28953 | S23: ='2.3.'!S7 -> 460.98773 | X23: ='2.3.'!X7 -> 38887.22 | AA23: ='2.3.'!AA7 -> 209810.12 | AG23: ='2.3.'!AG7 -> 7.0499684 | AH23: ='2.3.'!AH7 -> 1.200175 | AI23: ='2.3.'!AI7 -> 12.848436 | AJ23: ='2.3.'!AJ7 -> 77.173123 | AM23: ='2.3.'!AM7 -> 15474.776 | BE23: =SUM(AD23:BD23) -> 15573.048 | BG23: =SUM(F23:BD23) -> 901232.67
B24: Gas fired powerplants | F24: ='2.3.'!F8 -> 662340 | N24: ='2.3.'!N8 -> 294500 | O24: ='2.3.'!O8 -> 17575 | P24: ='2.3.'!P8 -> 17575 | S24: ='2.3.'!S8 -> 345.61 | AO24: ='2.3.'!AO8 -> 34.2 | BE24: =SUM(AD24:BD24) -> 34.2 | BG24: =SUM(F24:BD24) -> 992369.81
B25: Coal fired power plants | F25: ='2.3.'!F9 -> 1169894 | N25: ='2.3.'!N9 -> 347044.5 | O25: ='2.3.'!O9 -> 6765 | P25: ='2.3.'!P9 -> 4510 | S25: ='2.3.'!S9 -> 1023.4092 | AO25: ='2.3.'!AO9 -> 62.9596 | AR25: ='2.3.'!AR9 -> 2.3001 | AT25: ='2.3.'!AT9 -> 6.4042 | AW25: ='2.3.'!AW9 -> 84.5625 | AZ25: ='2.3.'!AZ9 -> 8.0278 | BA25: ='2.3.'!BA9 -> 11.275 | BE25: =SUM(AD25:BD25) -> 175.5292 | BG25: =SUM(F25:BD25) -> 1529412.4
B26: Nuclear power plants | F26: ='2.3.'!F10 -> 181050 | N26: ='2.3.'!N10 -> 31212 | O26: ='2.3.'!O10 -> 749.7 | P26: ='2.3.'!P10 -> 102 | Q26: ='2.3.'!Q10 -> 2.193 | S26: ='2.3.'!S10 -> 386.631 | AG26: ='2.3.'!AG10 -> 0.816 | AJ26: ='2.3.'!AJ10 -> 4.233 | AT26: ='2.3.'!AT10 -> 0.765 | AW26: ='2.3.'!AW10 -> 2.55 | AX26: ='2.3.'!AX10 -> 0.255 | AZ26: ='2.3.'!AZ10 -> 1.02 | BA26: ='2.3.'!BA10 -> 0.306 | BE26: =SUM(AD26:BD26) -> 9.945 | BG26: =SUM(F26:BD26) -> 213512.47
B27: Biomass / waste incinerators | F27: ='2.3.'!F11 -> 185747.08 | N27: ='2.3.'!N11 -> 31174.66 | O27: ='2.3.'!O11 -> 46.46 | P27: ='2.3.'!P11 -> 236.946 | S27: ='2.3.'!S11 -> 210.85406 | AO27: ='2.3.'!AO11 -> 12.971632 | AR27: ='2.3.'!AR11 -> 0.473892 | AT27: ='2.3.'!AT11 -> 1.319464 | AW27: ='2.3.'!AW11 -> 17.4225 | AZ27: ='2.3.'!AZ11 -> 1.653976 | BA27: ='2.3.'!BA11 -> 2.323 | BE27: =SUM(AD27:BD27) -> 36.164464 | BG27: =SUM(F27:BD27) -> 217452.16
B28: Gas pipes | C28: ton | D28: 2022 | E28: Verhagen et al., 2022a | M28: ='2.4.'!M3 -> 1400 | N28: ='2.4.'!N3 -> 450300 | X28: ='2.4.'!X3 -> 300700 | BG28: =SUM(F28:BD28) -> 752400
B29: Boilers | N29: ='2.4.'!N4 -> 179300 | O29: ='2.4.'!O4 -> 54800 | T29: ='2.4.'!T4 -> 14200 | X29: ='2.4.'!X4 -> 42800 | BG29: =SUM(F29:BD29) -> 291100
B30: Natural gas production plants | F30: ='2.4.'!F5 -> 10300 | N30: ='2.4.'!N5 -> 26600 | BG30: =SUM(F30:BD30) -> 36900
A31: Drinking and sewage water infrastructure | B31: Drinking water production plants | C31: ton | D31: 2020 | E31: van der Bent, 2022 | F31: ='2.5.'!F3 -> 4884225 | N31: ='2.5.'!N3 -> 22706 | X31: ='2.5.'!X3 -> 465 | BG31: =SUM(F31:BD31) -> 4907396
B32: Water pipes | F32: ='2.5.'!F4 -> 537597 | M32: ='2.5.'!M4 -> 276610 | N32: ='2.5.'!N4 -> 308604 | X32: ='2.5.'!X4 -> 177381 | BG32: =SUM(F32:BD32) -> 1300192
B33: Sewage pipes | F33: ='2.5.'!F5 -> 10918635 | M33: ='2.5.'!M5 -> 75845 | N33: ='2.5.'!N5 -> 113880 | X33: ='2.5.'!X5 -> 5656429 | BG33: =SUM(F33:BD33) -> 16764789
B34: Sewage treatment plants | F34: ='2.5.'!F6 -> 4200000 | N34: ='2.5.'!N6 -> 750000 | X34: ='2.5.'!X6 -> 50000 | BG34: =SUM(F34:BD34) -> 5000000
B35: Gully pots | F35: ='2.5.'!F7 -> 1050000 | N35: ='2.5.'!N7 -> 245000 | BG35: =SUM(F35:BD35) -> 1295000
B36: Sewage pumps | F36: ='2.5.'!F8 -> 1200000 | N36: ='2.5.'!N8 -> 130000 | BG36: =SUM(F36:BD36) -> 1330000
B37: Pressurised sewage pipes | F37: ='2.5.'!F9 -> 479000 | N37: ='2.5.'!N9 -> 240000 | X37: ='2.5.'!X9 -> 80000 | BG37: =SUM(F37:BD37) -> 799000
A38: Vehicles | B38: Aeroplanes | C38: ton | D38: 2017 | E38: van Oorschot et al., 2020a; van der Zaag, 2020 | N38: ='2.6.'!N3 -> 2816.477 | O38: ='2.6.'!O3 -> 2.1485124 | P38: ='2.6.'!P3 -> 13031.181 | Q38: ='2.6.'!Q3 -> 2.1485124 | R38: ='2.6.'!R3 -> 0 | S38: ='2.6.'!S3 -> 958.74441 | T38: ='2.6.'!T3 -> 0 | V38: ='2.6.'!V3 -> 64.590551 | X38: ='2.6.'!X3 -> 115.34753 | Z38: ='2.6.'!Z3 -> 1984.3472 | AA38: ='2.6.'!AA3 -> 0 | AO38: ='2.6.'!AO3 -> 31.289614 | AS38: ='2.6.'!AS3 -> 341.42226 | AT38: ='2.6.'!AT3 -> 1423.9373 | AW38: ='2.6.'!AW3 -> 2.7786143 | BA38: ='2.6.'!BA3 -> 2.0537584 | BC38: ='2.6.'!BC3 -> 0.24161864 | BD38: ='2.6.'!BD3 -> 30.833612 | BE38: =SUM(AD38:BD38) -> 1832.5568 | BG38: =SUM(F38:BD38) -> 20807.542
B39: (Motor)cycles | N39: ='2.6.'!N4 -> 217910.88 | O39: ='2.6.'!O4 -> 1678.0646 | P39: ='2.6.'!P4 -> 213338.35 | Q39: ='2.6.'!Q4 -> 458.02292 | R39: ='2.6.'!R4 -> 1011.1228 | S39: ='2.6.'!S4 -> 296.09225 | T39: ='2.6.'!T4 -> 268.50447 | X39: ='2.6.'!X4 -> 83340.603 | Y39: ='2.6.'!Y4 -> 0.013363636 | Z39: ='2.6.'!Z4 -> 14933.887 | AA39: ='2.6.'!AA4 -> 0.0004348534 | AD39: ='2.6.'!AD4 -> 0.10800384 | AJ39: ='2.6.'!AJ4 -> 0.00067911215 | AK39: ='2.6.'!AK4 -> 35.151295 | AM39: ='2.6.'!AM4 -> 2.1914723e-05 | AN39: ='2.6.'!AN4 -> 0.023379709 | AP39: ='2.6.'!AP4 -> 0.00056896174 | AQ39: ='2.6.'!AQ4 -> 0.12435625 | AT39: ='2.6.'!AT4 -> 0.002495082 | AU39: ='2.6.'!AU4 -> 699.49111 | BE39: =SUM(AD39:BD39) -> 734.90191 | BG39: =SUM(F39:BD39) -> 533970.45
B40: Ships | N40: ='2.6.'!N5 -> 21506498 | O40: ='2.6.'!O5 -> 907140.11 | P40: ='2.6.'!P5 -> 7916.0775 | V40: ='2.6.'!V5 -> 744520.91 | X40: ='2.6.'!X5 -> 268984.76 | Z40: ='2.6.'!Z5 -> 539400.28 | AA40: ='2.6.'!AA5 -> 0 | BG40: =SUM(F40:BD40) -> 23974460
B41: Trains | N41: ='2.6.'!N6 -> 79822.949 | O41: ='2.6.'!O6 -> 8611.0544 | P41: ='2.6.'!P6 -> 21382.351 | R41: ='2.6.'!R6 -> 24.582336 | V41: ='2.6.'!V6 -> 41.640421 | X41: ='2.6.'!X6 -> 36557.134 | Y41: ='2.6.'!Y6 -> 2.9910067 | Z41: ='2.6.'!Z6 -> 2956.8893 | AA41: ='2.6.'!AA6 -> 5817.4091 | BG41: =SUM(F41:BD41) -> 155217
B42: Passenger cars | N42: ='2.6.'!N7 -> 6185477.1 | O42: ='2.6.'!O7 -> 283889.44 | P42: ='2.6.'!P7 -> 791314.05 | S42: ='2.6.'!S7 -> 90931.845 | U42: ='2.6.'!U7 -> 994979.16 | V42: ='2.6.'!V7 -> 495.74713 | W42: ='2.6.'!W7 -> 409416.14 | X42: ='2.6.'!X7 -> 244224.81 | AK42: ='2.6.'!$BB$45 -> 2118.5878 | AQ42: ='2.6.'!AJ45 -> 39.272587 | AS42: ='2.6.'!AM45 -> 1465.9519 | BE42: =SUM(AD42:BD42) -> 3623.8122 | BG42: =SUM(F42:BD42) -> 9004352.1
B43: Lorries, vans and trucks | N43: ='2.6.'!N8 -> 1447544 | O43: ='2.6.'!O8 -> 44497.979 | P43: ='2.6.'!P8 -> 141267.49 | Q43: ='2.6.'!Q8 -> 1683.2625 | S43: ='2.6.'!S8 -> 14248.159 | U43: ='2.6.'!U8 -> 178144.51 | V43: ='2.6.'!V8 -> 840.18014 | W43: ='2.6.'!W8 -> 94254.06 | X43: ='2.6.'!X8 -> 42669.777 | AJ43: ='2.6.'!AC46 -> 1.6416928 | AM43: ='2.6.'!AF46 -> 0.05297688 | AN43: ='2.6.'!AG46 -> 0.046727629 | AP43: ='2.6.'!AI46 -> 1.3754141 | AQ43: ='2.6.'!AJ46 -> 6.5400954 | AS43: ='2.6.'!AM46 -> 233.41755 | AT43: ='2.6.'!AN46 -> 6.0316373 | BE43: =SUM(AD43:BD43) -> 249.10609 | BG43: =SUM(F43:BD43) -> 1965398.5
B44: Buses | N44: ='2.6.'!N9 -> 72249.123 | O44: ='2.6.'!O9 -> 1160.7055 | P44: ='2.6.'!P9 -> 17783.285 | R44: ='2.6.'!R9 -> 958.38065 | T44: ='2.6.'!T9 -> 31.946022 | X44: ='2.6.'!X9 -> 6740.6106 | Y44: ='2.6.'!Y9 -> 4216.8749 | Z44: ='2.6.'!Z9 -> 4632.1731 | AA44: ='2.6.'!AA9 -> 5217.8502 | BE44: =SUM(AD44:BD44) -> 0 | BG44: =SUM(F44:BD44) -> 112990.95
A45: Machinery | B45: Turbines / motors | C45: ton | D45: 2019 | E45: van Oorschot et al., 2020b; van Straalen et al., 2022 | F45: ='2.8.'!F30 -> 1947091.5 | N45: ='2.8.'!N30 -> 374598.42 | O45: ='2.8.'!O30 -> 14068.676 | P45: ='2.8.'!P30 -> 1724.0765 | X45: ='2.8.'!X30 -> 22947.869 | Z45: ='2.8.'!Z30 -> 17439.85 | BG45: =SUM(F45:BD45) -> 2377870.4
B46: Pumps / compressors | N46: ='2.8.'!N31 -> 434964.03 | O46: ='2.8.'!O31 -> 52580.221 | P46: ='2.8.'!P31 -> 11198.888 | X46: ='2.8.'!X31 -> 8358.6409 | Z46: ='2.8.'!Z31 -> 2252.2438 | BG46: =SUM(F46:BD46) -> 509354.02
B47: Taps and valves | N47: ='2.8.'!N32 -> 965741.09 | P47: ='2.8.'!P32 -> 18142.978 | Z47: ='2.8.'!Z32 -> 329494.95 | BG47: =SUM(F47:BD47) -> 1313379
B48: Other machinery for general usage | N48: ='2.8.'!N33 -> 481920 | O48: ='2.8.'!O33 -> 28741.933 | P48: ='2.8.'!P33 -> 16526.427 | Z48: ='2.8.'!Z33 -> 202089.05 | AD48: ='2.8.'!AD33 -> 0.0078624217 | AE48: ='2.8.'!AE33 -> 10.911049 | AG48: ='2.8.'!AG33 -> 0.33330902 | AN48: ='2.8.'!AN33 -> 0.0046280852 | AO48: ='2.8.'!AO33 -> 0.11276992 | AQ48: ='2.8.'!AQ33 -> 0.00014623794 | AR48: ='2.8.'!AR33 -> 1.8817722 | AW48: ='2.8.'!AW33 -> 23.947222 | AY48: ='2.8.'!AY33 -> 0.0029353807 | BB48: ='2.8.'!BB33 -> 0.0083307303 | BE48: =SUM(AD48:BD48) -> 37.210024 | BG48: =SUM(F48:BD48) -> 729314.62
B49: Equipment for hoisting, winching, lifting | N49: ='2.8.'!N34 -> 599062.37 | BG49: =SUM(F49:BD49) -> 599062.37
B50: Office equipments | N50: ='2.8.'!N35 -> 48792.305 | P50: ='2.8.'!P35 -> 4697.3058 | Z50: ='2.8.'!Z35 -> 60339.84 | AD50: ='2.8.'!AD35 -> 0.19166318 | AE50: ='2.8.'!AE35 -> 0.31257689 | AG50: ='2.8.'!AG35 -> 0.49981494 | AI50: ='2.8.'!AI35 -> 0.15657168 | AN50: ='2.8.'!AN35 -> 3.2359562 | AO50: ='2.8.'!AO35 -> 0.27478136 | AQ50: ='2.8.'!AQ35 -> 0.080507291 | AR50: ='2.8.'!AR35 -> 0.26781308 | AW50: ='2.8.'!AW35 -> 57.749697 | AY50: ='2.8.'!AY35 -> 0.055945537 | AZ50: ='2.8.'!AZ35 -> 0.4949481 | BB50: ='2.8.'!BB35 -> 0.056668222 | BE50: =SUM(AD50:BD50) -> 63.376943 | BG50: =SUM(F50:BD50) -> 113892.83
B51: Mechanical tools | N51: ='2.8.'!N36 -> 69669.767 | T51: ='2.8.'!T36 -> 13936.775 | X51: ='2.8.'!X36 -> 34834.883 | BG51: =SUM(F51:BD51) -> 118441.42
B52: Climate control machines | N52: ='2.8.'!N37 -> 245563.76 | O52: ='2.8.'!O37 -> 16190.011 | P52: ='2.8.'!P37 -> 15475.839 | Z52: ='2.8.'!Z37 -> 92022.25 | AD52: ='2.8.'!AD37 -> 4.8335524 | AE52: ='2.8.'!AE37 -> 14.93117 | AG52: ='2.8.'!AG37 -> 0.005296163 | AN52: ='2.8.'!AN37 -> 0.00071294381 | AO52: ='2.8.'!AO37 -> 183.16307 | AQ52: ='2.8.'!AQ37 -> 0.011073698 | AW52: ='2.8.'!AW37 -> 28.855227 | BE52: =SUM(AD52:BD52) -> 231.8001 | BG52: =SUM(F52:BD52) -> 369483.66
B53: Filtering equipment | N53: ='2.8.'!N38 -> 29145.888 | O53: ='2.8.'!O38 -> 378.96494 | P53: ='2.8.'!P38 -> 636.20721 | Z53: ='2.8.'!Z38 -> 7466.72 | BG53: =SUM(F53:BD53) -> 37627.78
B54: Bottle cleaning equipment | N54: ='2.8.'!N39 -> 9692.5974 | P54: ='2.8.'!P39 -> 211.44025 | Z54: ='2.8.'!Z39 -> 4481.62 | AN54: ='2.8.'!AN39 -> 0.00088042763 | AQ54: ='2.8.'!AQ39 -> 4.1601923e-05 | BE54: =SUM(AD54:BD54) -> 0.00092202955 | BG54: =SUM(F54:BD54) -> 14385.659
B55: Agricultural equipment | N55: ='2.8.'!N40 -> 1450479.6 | O55: ='2.8.'!O40 -> 9758.7199 | P55: ='2.8.'!P40 -> 50912.336 | Q55: ='2.8.'!Q40 -> 4835.9567 | R55: ='2.8.'!R40 -> 15619.402 | T55: ='2.8.'!T40 -> 1109.2077 | X55: ='2.8.'!X40 -> 35996.668 | Z55: ='2.8.'!Z40 -> 113929.83 | AA55: ='2.8.'!AA40 -> 10527.514 | BG55: =SUM(F55:BD55) -> 1693169.2
B56: Electric tools | N56: ='2.8.'!N41 -> 2098919 | O56: ='2.8.'!O41 -> 133458.3 | P56: ='2.8.'!P41 -> 33194.418 | T56: ='2.8.'!T41 -> 6621.9164 | X56: ='2.8.'!X41 -> 133460.58 | Z56: ='2.8.'!Z41 -> 45800.204 | AA56: ='2.8.'!AA41 -> 5420.4168 | BG56: =SUM(F56:BD56) -> 2456874.8
A57: Textiles | B57: Fabrics | C57: ton | D57: 2020 | E57: van Oorschot et al., 2020; van Oorschot et al., 2021; van Straalen et al., 2022 | W57: ='2.8.'!W19 -> 253070.64 | X57: ='2.8.'!X19 -> 281198.35 | BG57: =SUM(F57:BD57) -> 534269
B58: Bed linen | W58: ='2.8.'!W20 -> 231241.32 | X58: ='2.8.'!X20 -> 25052.516 | BG58: =SUM(F58:BD58) -> 256293.83
B59: Drapery and chair clothing | T59: ='2.8.'!T21 -> 5989.5769 | W59: ='2.8.'!W21 -> 75425.79 | X59: ='2.8.'!X21 -> 50033.736 | BG59: =SUM(F59:BD59) -> 131449.1
B60: Carpets | W60: ='2.8.'!W22 -> 354143.8 | X60: ='2.8.'!X22 -> 1094337.9 | BG60: =SUM(F60:BD60) -> 1448481.7
B61: Fleece | AC61: ='2.8.'!AC23 -> 1071180.1 | BG61: =SUM(F61:BD61) -> 1071180.1
B62: Other textiles | N62: ='2.8.'!N24 -> 317316.12 | P62: 0 | AC62: ='2.8.'!AC24 -> 403006.16 | BG62: =SUM(F62:BD62) -> 720322.28
B63: Uniforms | AC63: ='2.8.'!AC25 -> 13642.079 | BG63: =SUM(F63:BD63) -> 13642.079
B64: Upper garments | W64: ='2.8.'!W26 -> 104749.98 | X64: ='2.8.'!X26 -> 125553.26 | BG64: =SUM(F64:BD64) -> 230303.24
B65: Undergarments | AC65: ='2.8.'!AC27 -> 72227.077 | BG65: =SUM(F65:BD65) -> 72227.077
B66: Other clothing | W66: ='2.8.'!W28 -> 43108.035 | X66: ='2.8.'!X28 -> 32427.858 | BG66: =SUM(F66:BD66) -> 75535.893
A67: Consumer electronics | B67: Temperature control equipment | C67: ton | D67: 2017 | E67: van Oorschot et al., 2020a | N67: ='2.7.'!N3 -> 347055 | O67: ='2.7.'!O3 -> 26575 | P67: ='2.7.'!P3 -> 29704 | S67: ='2.7.'!S3 -> 20284 | X67: ='2.7.'!X3 -> 211075 | AO67: ='2.7.'!AO3 -> 7 | AS67: ='2.7.'!AS3 -> 755 | AV67: ='2.7.'!AV3 -> 64 | AW67: ='2.7.'!AW3 -> 43 | BE67: =SUM(AD67:BD67) -> 869 | BG67: =SUM(F67:BD67) -> 635562
B68: Screens, monitors | N68: ='2.7.'!N4 -> 128353 | O68: ='2.7.'!O4 -> 15023 | P68: ='2.7.'!P4 -> 28533 | S68: ='2.7.'!S4 -> 3895 | X68: ='2.7.'!X4 -> 101672 | AA68: ='2.7.'!AA4 -> 777 | AD68: ='2.7.'!AD4 -> 20 | AE68: ='2.7.'!AE4 -> 1 | AF68: ='2.7.'!AF4 -> 3 | AG68: ='2.7.'!AG4 -> 9 | AH68: ='2.7.'!AH4 -> 1 | AJ68: ='2.7.'!AJ4 -> 32 | AM68: ='2.7.'!AM4 -> 27238 | AN68: ='2.7.'!AN4 -> 1 | AO68: ='2.7.'!AO4 -> 45 | AP68: ='2.7.'!AP4 -> 7 | AR68: ='2.7.'!AR4 -> 11 | AS68: ='2.7.'!AS4 -> 4931 | AV68: ='2.7.'!AV4 -> 482 | AW68: ='2.7.'!AW4 -> 10 | AX68: ='2.7.'!AX4 -> 1 | BB68: ='2.7.'!BB4 -> 3 | BE68: =SUM(AD68:BD68) -> 32795 | BG68: =SUM(F68:BD68) -> 311048
B69: Lamps | N69: ='2.7.'!N5 -> 28 | O69: ='2.7.'!O5 -> 40 | P69: ='2.7.'!P5 -> 264 | S69: ='2.7.'!S5 -> 27 | X69: ='2.7.'!X5 -> 265 | AA69: ='2.7.'!AA5 -> 706 | AO69: ='2.7.'!AO5 -> 17 | AS69: ='2.7.'!AS5 -> 7 | AW69: ='2.7.'!AW5 -> 6 | AX69: ='2.7.'!AX5 -> 2 | BE69: =SUM(AD69:BD69) -> 32 | BG69: =SUM(F69:BD69) -> 1362
B70: Large equipment | N70: ='2.7.'!N6 -> 31432 | O70: ='2.7.'!O6 -> 1071 | P70: ='2.7.'!P6 -> 1957 | S70: ='2.7.'!S6 -> 2035 | X70: ='2.7.'!X6 -> 6976 | AA70: ='2.7.'!AA6 -> 465 | AD70: ='2.7.'!AD6 -> 12 | AE70: ='2.7.'!AE6 -> 1 | AS70: ='2.7.'!AS6 -> 49 | AV70: ='2.7.'!AV6 -> 4 | AW70: ='2.7.'!AW6 -> 5 | BE70: =SUM(AD70:BD70) -> 71 | BG70: =SUM(F70:BD70) -> 44007
B71: Small equipment | N71: ='2.7.'!N7 -> 48507 | O71: ='2.7.'!O7 -> 6191 | P71: ='2.7.'!P7 -> 8837 | S71: ='2.7.'!S7 -> 926 | X71: ='2.7.'!X7 -> 26501 | AA71: ='2.7.'!AA7 -> 3221 | AJ71: ='2.7.'!AJ7 -> 1 | AO71: ='2.7.'!AO7 -> 1 | AS71: ='2.7.'!AS7 -> 204 | AW71: ='2.7.'!AW7 -> 88 | BE71: =SUM(AD71:BD71) -> 294 | BG71: =SUM(F71:BD71) -> 94477
B72: Small IT and telecom equipment | N72: ='2.7.'!N8 -> 17554 | O72: ='2.7.'!O8 -> 931 | P72: ='2.7.'!P8 -> 1248 | S72: ='2.7.'!S8 -> 395 | X72: ='2.7.'!X8 -> 17386 | AA72: ='2.7.'!AA8 -> 1167 | AD72: ='2.7.'!AD8 -> 7 | AE72: ='2.7.'!AE8 -> 1 | AF72: ='2.7.'!AF8 -> 1 | AJ72: ='2.7.'!AJ8 -> 2 | AO72: ='2.7.'!AO8 -> 9 | AS72: ='2.7.'!AS8 -> 20 | AV72: ='2.7.'!AV8 -> 76 | AW72: ='2.7.'!AW8 -> 2 | BE72: =SUM(AD72:BD72) -> 118 | BG72: =SUM(F72:BD72) -> 38799
A73: Other consumer goods | B73: Cookery equipment | C73: ton | D73: 2020 | E73: Verhagen et al., 2022a; van Straalen et al., 2022 | N73: ='2.8.'!N3 -> 1179815.2 | T73: ='2.8.'!T3 -> 53524.437 | AA73: ='2.8.'!AA3 -> 13438.05 | BG73: =SUM(F73:BD73) -> 1246777.7
B74: Chairs and couches | N74: ='2.8.'!N4 -> 359478.05 | P74: ='2.8.'!P4 -> 119960.83 | T74: ='2.8.'!T4 -> 31835.337 | U74: ='2.8.'!U4 -> 529924.12 | V74: ='2.8.'!V4 -> 99843.194 | X74: ='2.8.'!X4 -> 343823.82 | Z74: ='2.8.'!Z4 -> 16949.442 | AA74: ='2.8.'!AA4 -> 20861.982 | AC74: ='2.8.'!AC4 -> 61412.014 | BG74: =SUM(F74:BD74) -> 1584088.8
B75: Office furniture | F75: ='2.8.'!F5 -> 153944.64 | N75: ='2.8.'!N5 -> 731585.03 | P75: ='2.8.'!P5 -> 5220.7038 | T75: ='2.8.'!T5 -> 1564.1929 | U75: ='2.8.'!U5 -> 230255.68 | V75: ='2.8.'!V5 -> 230465.03 | X75: ='2.8.'!X5 -> 32318.351 | Z75: ='2.8.'!Z5 -> 52758.728 | BG75: =SUM(F75:BD75) -> 1438112.4
B76: Kitchen furniture | N76: ='2.8.'!N6 -> 97607.783 | P76: ='2.8.'!P6 -> 77122.119 | T76: ='2.8.'!T6 -> 15493.68 | U76: ='2.8.'!U6 -> 1082233.2 | V76: ='2.8.'!V6 -> 138288.29 | X76: ='2.8.'!X6 -> 3926.0992 | Z76: ='2.8.'!Z6 -> 30444.441 | AA76: ='2.8.'!AA6 -> 255556.89 | AC76: ='2.8.'!AC6 -> 640.62727 | BG76: =SUM(F76:BD76) -> 1701313.1
B77: Matrasses | N77: ='2.8.'!N7 -> 154082.7 | T77: ='2.8.'!T7 -> 149.0594 | U77: ='2.8.'!U7 -> 34283.661 | V77: ='2.8.'!V7 -> 7136.2186 | X77: ='2.8.'!X7 -> 170065.59 | Z77: ='2.8.'!Z7 -> 170065.59 | AC77: ='2.8.'!AC7 -> 78235.687 | BG77: =SUM(F77:BD77) -> 614018.51
B78: Bedroom furniture | P78: ='2.8.'!P8 -> 23300.57 | Z78: ='2.8.'!Z8 -> 2385321 | BG78: =SUM(F78:BD78) -> 2408621.6
B79: Other furniture | N79: ='2.8.'!N9 -> 303409.19 | V79: ='2.8.'!V9 -> 2898828.2 | X79: ='2.8.'!X9 -> 87137.329 | Z79: ='2.8.'!Z9 -> 87137.329 | AC79: ='2.8.'!AC9 -> 20444.267 | BG79: =SUM(F79:BD79) -> 3396956.3
B80: Jewelry and coins | X80: ='2.8.'!X10 -> 46.924824 | Z80: ='2.8.'!Z10 -> 46.924824 | BD80: ='2.8.'!BD10 -> 18486.425 | BE80: =SUM(AD80:BD80) -> 18486.425 | BG80: =SUM(F80:BD80) -> 18580.275
B81: Musical instruments | N81: ='2.8.'!N11 -> 38857.415 | T81: ='2.8.'!T11 -> 4931.487 | X81: ='2.8.'!X11 -> 59785.835 | Z81: ='2.8.'!Z11 -> 59785.835 | BG81: =SUM(F81:BD81) -> 163360.57
B82: Sports equipment | N82: ='2.8.'!N12 -> 0.00013159203 | T82: ='2.8.'!T12 -> 118431.61 | U82: ='2.8.'!U12 -> 4.3843683e-05 | V82: ='2.8.'!V12 -> 177647.41 | X82: ='2.8.'!X12 -> 296090.69 | Z82: ='2.8.'!Z12 -> 473743.03 | BG82: =SUM(F82:BD82) -> 1065912.7
B83: Toys and games | T83: ='2.8.'!T13 -> 318.3842 | U83: ='2.8.'!U13 -> 18177.278 | X83: ='2.8.'!X13 -> 52192.427 | Z83: ='2.8.'!Z13 -> 343242.71 | BG83: =SUM(F83:BD83) -> 413930.8
B84: Spectacles / contact lenses | N84: ='2.8.'!N14 -> 1098.5819 | P84: ='2.8.'!P14 -> 47.022435 | Z84: ='2.8.'!Z14 -> 800.66 | AR84: ='2.8.'!AR14 -> 1.5503614 | BE84: =SUM(AD84:BD84) -> 1.5503614 | BG84: =SUM(F84:BD84) -> 1947.8147
B85: Medical equipment | N85: ='2.8.'!N15 -> 56070.297 | P85: ='2.8.'!P15 -> 2686.1997 | Z85: ='2.8.'!Z15 -> 46841.84 | AD85: ='2.8.'!AD15 -> 8.8032534e-06 | AG85: ='2.8.'!AG15 -> 153.61096 | AN85: ='2.8.'!AN15 -> 0.0014663684 | AO85: ='2.8.'!AO15 -> 2646.2805 | AR85: ='2.8.'!AR15 -> 388.7636 | AW85: ='2.8.'!AW15 -> 9.2271473 | BB85: ='2.8.'!BB15 -> 0.00058341505 | BE85: =SUM(AD85:BD85) -> 3197.8843 | BG85: =SUM(F85:BD85) -> 108796.22
B86: Writing/drawing utensils | N86: ='2.8.'!N16 -> 2935.9684 | V86: ='2.8.'!V16 -> 5137.9448 | X86: ='2.8.'!X16 -> 2935.9684 | Z86: ='2.8.'!Z16 -> 6607.1084 | BG86: =SUM(F86:BD86) -> 17616.99
B87: Other | N87: ='2.8.'!N17 -> 46533.854 | X87: ='2.8.'!X17 -> 7084.739 | Z87: ='2.8.'!Z17 -> 12881.344 | BG87: =SUM(F87:BD87) -> 66499.936
F89: Construction minerals | N89: Metals | U89: Biobased materials | X89: Other materials | AD89: CRM | BQ89: According to CBS classification
A90: Summary main categories | F90: =F2 -> Concrete | G90: =G2 -> Brick | H90: =H2 -> Asphalt | I90: =I2 -> Sand, gravel, clay | J90: =J2 -> Gypsum | K90: =K2 -> Stone | L90: =L2 -> Recycled CDW | M90: =M2 -> Other construction materials | ... P90: =P2 -> Aluminium | Q90: Zinc | R90: Lead | S90: =S2 -> Alloying elements (non critical) | T90: =T2 -> Other metals (non critical) | U90: =U2 -> Wood | V90: =V2 -> Other biobased materials | W90: =W2 -> Textile, biobased | X90: =X2 -> Plastics | Y90: =Y2 -> Insulation materials | Z90: =Z2 -> Other materials | ... BD90: =BD2 -> Unspecified CRM | BH90: =F89 -> Construction minerals | BI90: Construction materials | BJ90: =N89 -> Metals | BK90: =U89 -> Biobased materials | BL90: =X89 -> Other materials | BM90: =AD89 -> CRM | BN90: Total | BO90: % of total | BR90: With sand, gravel, clay | BS90: Minerals | BT90: Metals | BU90: Bio-resources | BV90: Fossil resources | BY90: With sand, gravel clay; without coastal defense | BZ90: Mineralen | CA90: Metalen | CB90: Biogrondstoffen | CC90: Fossiele grondstoffen
C91: =A3 -> Buildings | F91: =SUM(F3:F9) -> 1.8779832e+09 | G91: =SUM(G3:G9) -> 1.4282353e+08 | H91: =SUM(H3:H9) -> 0 | I91: =SUM(I3:I9) -> 34191211 | J91: =SUM(J3:J9) -> 28790428 | K91: =SUM(K3:K9) -> 4.3034038e+08 | L91: =SUM(L3:L9) -> 0 | M91: =SUM(M3:M9) -> 677741.54 | ... BD91: =SUM(BD3:BD9) -> 0 | BF91: =C91 -> Buildings | BH91: =I91+J91+K91 -> 4.9332202e+08 | BI91: =SUM(F91:M91)-BH91 -> 2.0214845e+09 | BJ91: =SUM(N91:T91) -> 1.0307902e+08 | BK91: =SUM(U91:W91) -> 46958722 | BL91: =SUM(X91:AC91) -> 42583898 | BM91: =SUM(AD91:BD91) -> 0 | BN91: =SUM(BH91:BM91) -> 2.7074282e+09 | BO91: =BN91/SUM(BN$91:BN$99) -> 0.34741393 | BR91: =BF91 -> Buildings | BS91: =SUM(F91:M91)+AA91+AB91 -> 2.5281835e+09 | BT91: =SUM(N91:T91)+SUM(AD91:BD91) -> 1.0307902e+08 | BU91: =U91+V91+W91 -> 46958722 | BV91: =X91+Y91+Z91+AC91 -> 29206936 | BY91: =BR91 -> Buildings | BZ91: =SUM(F91:M91)+AA91+AB91-I91 -> 2.4939923e+09 | CA91: =SUM(N91:T91)+SUM(AD91:BD91) -> 1.0307902e+08 | CB91: =U91+V91+W91 -> 46958722 | CC91: =X91+Y91+Z91+AC91 -> 29206936
C92: =A10 -> Road, rail and waterways infrastructure | F92: =SUM(F10:F18) -> 2.7696235e+08 | G92: =SUM(G10:G18) -> 7424426.4 | H92: =SUM(H10:H18) -> 2.53145e+08 | I92: =SUM(I10:I18) -> 3.8446275e+09 | J92: =SUM(J10:J18) -> 0 | K92: =SUM(K10:K18) -> 0 | L92: =SUM(L10:L18) -> 5.7252118e+08 | M92: =SUM(M10:M18) -> 31332.975 | ... BD92: =SUM(BD10:BD18) -> 0 | BF92: =C92 -> Road, rail and waterways infrastructure | BH92: =I92+J92+K92 -> 3.8446275e+09 | BI92: =SUM(F92:M92)-BH92 -> 1.1100843e+09 | BJ92: =SUM(N92:T92) -> 21239748 | BK92: =SUM(U92:W92) -> 64234.035 | BL92: =SUM(X92:AC92) -> 255831.83 | BM92: =SUM(AD92:BD92) -> 0 | BN92: =SUM(BH92:BM92) -> 4.9762716e+09 | BO92: =BN92/SUM(BN$91:BN$99) -> 0.63854919 | BR92: =BF92 -> Road, rail and waterways infrastructure | BS92: =SUM(F92:M92)+AA92+AB92 -> 4.9548589e+09 | BT92: =SUM(N92:T92)+SUM(AD92:BD92) -> 21239748 | BU92: =U92+V92+W92 -> 64234.035 | BV92: =X92+Y92+Z92+AC92 -> 108657.38 | BY92: =BR92 -> Road, rail and waterways infrastructure | BZ92: =SUM(F92:M92)+AA92+AB92-I92-F17 -> 1.0934281e+09 | CA92: =SUM(N92:T92)+SUM(AD92:BD92) -> 21239748 | CB92: =U92+V92+W92 -> 64234.035 | CC92: =X92+Y92+Z92+AC92-X17 -> 94267.892
C93: =A19 -> Energy system | F93: =SUM(F19:F30) -> 6206938.2 | G93: =SUM(G19:G30) -> 0 | H93: =SUM(H19:H30) -> 0 | I93: =SUM(I19:I30) -> 0 | J93: =SUM(J19:J30) -> 0 | K93: =SUM(K19:K30) -> 0 | L93: =SUM(L19:L30) -> 0 | M93: =SUM(M19:M30) -> 1400 | ... BD93: =SUM(BD19:BD30) -> 0 | BF93: =C93 -> Energy system | BH93: =I93+J93+K93 -> 0 | BI93: =SUM(F93:M93)-BH93 -> 6208338.2 | BJ93: =SUM(N93:T93) -> 4848212.8 | BK93: =SUM(U93:W93) -> 1555.6914 | BL93: =SUM(X93:AC93) -> 896217.61 | BM93: =SUM(AD93:BD93) -> 16107.2 | BN93: =SUM(BH93:BM93) -> 11970432 | BO93: =BN93/SUM(BN$91:BN$99) -> 0.0015360314 | BR93: =BF93 -> Energy system | BS93: =SUM(F93:M93)+AA93+AB93 -> 6418148.3 | BT93: =SUM(N93:T93)+SUM(AD93:BD93) -> 4864320 | BU93: =U93+V93+W93 -> 1555.6914 | BV93: =X93+Y93+Z93+AC93 -> 686407.49 | BY93: =BR93 -> Energy system | BZ93: =SUM(F93:M93)+AA93+AB93-I93 -> 6418148.3 | CA93: =SUM(N93:T93)+SUM(AD93:BD93) -> 4864320 | CB93: =U93+V93+W93 -> 1555.6914 | CC93: =X93+Y93+Z93+AC93 -> 686407.49
C94: =A31 -> Drinking and sewage water infrastructure | F94: =SUM(F31:F37) -> 23269457 | G94: =SUM(G31:G37) -> 0 | H94: =SUM(H31:H37) -> 0 | I94: =SUM(I31:I37) -> 0 | J94: =SUM(J31:J37) -> 0 | K94: =SUM(K31:K37) -> 0 | L94: =SUM(L31:L37) -> 0 | M94: =SUM(M31:M37) -> 352455 | ... BD94: =SUM(BD31:BD37) -> 0 | BF94: =C94 -> Drinking and sewage water infrastructure | BH94: =I94+J94+K94 -> 0 | BI94: =SUM(F94:M94)-BH94 -> 23621912 | BJ94: =SUM(N94:T94) -> 1810190 | BK94: =SUM(U94:W94) -> 0 | BL94: =SUM(X94:AC94) -> 5964275 | BM94: =SUM(AD94:BD94) -> 0 | BN94: =SUM(BH94:BM94) -> 31396377 | BO94: =BN94/SUM(BN$91:BN$99) -> 0.0040287454 | BR94: =BF94 -> Drinking and sewage water infrastructure | BS94: =SUM(F94:M94)+AA94+AB94 -> 23621912 | BT94: =SUM(N94:T94)+SUM(AD94:BD94) -> 1810190 | BU94: =U94+V94+W94 -> 0 | BV94: =X94+Y94+Z94+AC94 -> 5964275 | BY94: =BR94 -> Drinking and sewage water infrastructure | BZ94: =SUM(F94:M94)+AA94+AB94-I94 -> 23621912 | CA94: =SUM(N94:T94)+SUM(AD94:BD94) -> 1810190 | CB94: =U94+V94+W94 -> 0 | CC94: =X94+Y94+Z94+AC94 -> 5964275
C95: =A38 -> Vehicles | F95: =SUM(F38:F44) -> 0 | G95: =SUM(G38:G44) -> 0 | H95: =SUM(H38:H44) -> 0 | I95: =SUM(I38:I44) -> 0 | J95: =SUM(J38:J44) -> 0 | K95: =SUM(K38:K44) -> 0 | L95: =SUM(L38:L44) -> 0 | M95: =SUM(M38:M44) -> 0 | ... AR95: =SUM(AR38:AR44) -> 0 | AS95: =SUM(AS38:AS41) -> 341.42226 | AT95: =SUM(AT38:AT44) -> 1429.9715 | AU95: =SUM(AU38:AU44) -> 699.49111 | AV95: =SUM(AV38:AV44) -> 0 | AW95: =SUM(AW38:AW44) -> 2.7786143 | AX95: =SUM(AX38:AX44) -> 0 | AY95: =SUM(AY38:AY44) -> 0 | AZ95: =SUM(AZ38:AZ44) -> 0 | BA95: =SUM(BA38:BA44) -> 2.0537584 | ... BD95: =SUM(BD38:BD44) -> 30.833612 | BF95: =C95 -> Vehicles | BH95: =I95+J95+K95 -> 0 | BI95: =SUM(F95:M95)-BH95 -> 0 | BJ95: =SUM(N95:T95) -> 32076204 | BK95: =SUM(U95:W95) -> 2422756.9 | BL95: =SUM(X95:AC95) -> 1261795.8 | BM95: =SUM(AD95:BD95) -> 4741.0076 | BN95: =SUM(BH95:BM95) -> 35765497 | BO95: =BN95/SUM(BN$91:BN$99) -> 0.0045893857 | BR95: =BF95 -> Vehicles | BS95: =SUM(F95:M95)+AA95+AB95 -> 11035.26 | BT95: =SUM(N95:T95)+SUM(AD95:BD95) -> 32080945 | BU95: =U95+V95+W95 -> 2422756.9 | BV95: =X95+Y95+Z95+AC95 -> 1250760.5 | BY95: =BR95 -> Vehicles | BZ95: =SUM(F95:M95)+AA95+AB95-I95 -> 11035.26 | CA95: =SUM(N95:T95)+SUM(AD95:BD95) -> 32080945 | CB95: =U95+V95+W95 -> 2422756.9 | CC95: =X95+Y95+Z95+AC95 -> 1250760.5
C96: =A45 -> Machinery | F96: =SUM(F45:F56) -> 1947091.5 | G96: =SUM(G45:G56) -> 0 | H96: =SUM(H45:H56) -> 0 | I96: =SUM(I45:I56) -> 0 | J96: =SUM(J45:J56) -> 0 | K96: =SUM(K45:K56) -> 0 | L96: =SUM(L45:L56) -> 0 | M96: =SUM(M45:M56) -> 0 | ... BD96: =SUM(BD45:BD56) -> 0 | BF96: =C96 -> Machinery | BH96: =I96+J96+K96 -> 0 | BI96: =SUM(F96:M96)-BH96 -> 1947091.5 | BJ96: =SUM(N96:T96) -> 7258568.8 | BK96: =SUM(U96:W96) -> 0 | BL96: =SUM(X96:AC96) -> 1126863.1 | BM96: =SUM(AD96:BD96) -> 332.38799 | BN96: =SUM(BH96:BM96) -> 10332856 | BO96: =BN96/SUM(BN$91:BN$99) -> 0.0013258997 | BR96: =BF96 -> Machinery | BS96: =SUM(F96:M96)+AA96+AB96 -> 1963039.5 | BT96: =SUM(N96:T96)+SUM(AD96:BD96) -> 7258901.2 | BU96: =U96+V96+W96 -> 0 | BV96: =X96+Y96+Z96+AC96 -> 1110915.2 | BY96: =BR96 -> Machinery | BZ96: =SUM(F96:M96)+AA96+AB96-I96 -> 1963039.5 | CA96: =SUM(N96:T96)+SUM(AD96:BD96) -> 7258901.2 | CB96: =U96+V96+W96 -> 0 | CC96: =X96+Y96+Z96+AC96 -> 1110915.2
C97: =A57 -> Textiles | F97: =SUM(F57:F66) -> 0 | G97: =SUM(G57:G66) -> 0 | H97: =SUM(H57:H66) -> 0 | I97: =SUM(I57:I66) -> 0 | J97: =SUM(J57:J66) -> 0 | K97: =SUM(K57:K66) -> 0 | L97: =SUM(L57:L66) -> 0 | M97: =SUM(M57:M66) -> 0 | ... BD97: =SUM(BD57:BD66) -> 0 | BF97: =C97 -> Textiles | BH97: =I97+J97+K97 -> 0 | BI97: =SUM(F97:M97)-BH97 -> 0 | BJ97: =SUM(N97:T97) -> 323305.7 | BK97: =SUM(U97:W97) -> 1061739.6 | BL97: =SUM(X97:AC97) -> 3168659 | BM97: =SUM(AD97:BD97) -> 0 | BN97: =SUM(BH97:BM97) -> 4553704.3 | BO97: =BN97/SUM(BN$91:BN$99) -> 0.00058432587 | BR97: =BF97 -> Textiles | BS97: =SUM(F97:M97)+AA97+AB97 -> 0 | BT97: =SUM(N97:T97)+SUM(AD97:BD97) -> 323305.7 | BU97: =U97+V97+W97 -> 1061739.6 | BV97: =X97+Y97+Z97+AC97 -> 3168659 | BY97: =BR97 -> Textiles | BZ97: =SUM(F97:M97)+AA97+AB97-I97 -> 0 | CA97: =SUM(N97:T97)+SUM(AD97:BD97) -> 323305.7 | CB97: =U97+V97+W97 -> 1061739.6 | CC97: =X97+Y97+Z97+AC97 -> 3168659
C98: =A67 -> Consumer electronics | F98: =SUM(F67:F72) -> 0 | G98: =SUM(G67:G72) -> 0 | H98: =SUM(H67:H72) -> 0 | I98: =SUM(I67:I72) -> 0 | J98: =SUM(J67:J72) -> 0 | K98: =SUM(K67:K72) -> 0 | L98: =SUM(L67:L72) -> 0 | M98: =SUM(M67:M72) -> 0 | ... BD98: =SUM(BD67:BD72) -> 0 | BF98: =C98 -> Consumer electronics | BH98: =I98+J98+K98 -> 0 | BI98: =SUM(F98:M98)-BH98 -> 0 | BJ98: =SUM(N98:T98) -> 720865 | BK98: =SUM(U98:W98) -> 0 | BL98: =SUM(X98:AC98) -> 370211 | BM98: =SUM(AD98:BD98) -> 34179 | BN98: =SUM(BH98:BM98) -> 1125255 | BO98: =BN98/SUM(BN$91:BN$99) -> 0.00014439137 | BR98: =BF98 -> Consumer electronics | BS98: =SUM(F98:M98)+AA98+AB98 -> 6336 | BT98: =SUM(N98:T98)+SUM(AD98:BD98) -> 755044 | BU98: =U98+V98+W98 -> 0 | BV98: =X98+Y98+Z98+AC98 -> 363875 | BY98: =BR98 -> Consumer electronics | BZ98: =SUM(F98:M98)+AA98+AB98-I98 -> 6336 | CA98: =SUM(N98:T98)+SUM(AD98:BD98) -> 755044 | CB98: =U98+V98+W98 -> 0 | CC98: =X98+Y98+Z98+AC98 -> 363875
C99: =A73 -> Other consumer goods | F99: =SUM(F73:F87) -> 153944.64 | G99: =SUM(G73:G87) -> 0 | H99: =SUM(H73:H87) -> 0 | I99: =SUM(I73:I87) -> 0 | J99: =SUM(J73:J87) -> 0 | K99: =SUM(K73:K87) -> 0 | L99: =SUM(L73:L87) -> 0 | M99: =SUM(M73:M87) -> 0 | ... BD99: =SUM(BD73:BD87) -> 18486.425 | BF99: =C99 -> Other consumer goods | BH99: =I99+J99+K99 -> 0 | BI99: =SUM(F99:M99)-BH99 -> 153944.64 | BJ99: =SUM(N99:T99) -> 3426059.7 | BK99: =SUM(U99:W99) -> 5452220.2 | BL99: =SUM(X99:AC99) -> 5192623.3 | BM99: =SUM(AD99:BD99) -> 21685.86 | BN99: =SUM(BH99:BM99) -> 14246534 | BO99: =BN99/SUM(BN$91:BN$99) -> 0.0018280981 | BR99: =BF99 -> Other consumer goods | BS99: =SUM(F99:M99)+AA99+AB99 -> 443801.57 | BT99: =SUM(N99:T99)+SUM(AD99:BD99) -> 3447745.6 | BU99: =U99+V99+W99 -> 5452220.2 | BV99: =X99+Y99+Z99+AC99 -> 4902766.4 | BY99: =BR99 -> Other consumer goods | BZ99: =SUM(F99:M99)+AA99+AB99-I99 -> 443801.57 | CA99: =SUM(N99:T99)+SUM(AD99:BD99) -> 3447745.6 | CB99: =U99+V99+W99 -> 5452220.2 | CC99: =X99+Y99+Z99+AC99 -> 4902766.4
C100: SUM | F100: =SUM(F91:F99) -> 2.186523e+09 | G100: =SUM(G91:G99) -> 1.5024796e+08 | H100: =SUM(H91:H99) -> 2.53145e+08 | I100: =SUM(I91:I99) -> 3.8788187e+09 | J100: =SUM(J91:J99) -> 28790428 | K100: =SUM(K91:K99) -> 4.3034038e+08 | L100: =SUM(L91:L99) -> 5.7252118e+08 | M100: =SUM(M91:M99) -> 1062929.5 | ... BD100: =SUM(BD91:BD99) -> 18517.259 | BF100: Total | BH100: =SUM(BH91:BH99) -> 4.3379495e+09 | BI100: =SUM(BI91:BI99) -> 3.1635001e+09 | BJ100: =SUM(BJ91:BJ99) -> 1.7478217e+08 | BK100: =SUM(BK91:BK99) -> 55961228 | BL100: =SUM(BL91:BL99) -> 60820375 | BM100: =SUM(BM91:BM99) -> 77045.456 | BN100: =SUM(BN91:BN99) -> 7.7930904e+09 | BO100: =SUM(BO91:BO99) -> 1
BF101: % of total | BH101: =BH100/$BN100 -> 0.55664047 | BI101: =BI100/$BN100 -> 0.40593653 | BJ101: =BJ100/$BN100 -> 0.022427838 | BK101: =BK100/$BN100 -> 0.0071808776 | BL101: =BL100/$BN100 -> 0.0078043975 | BM101: =BM100/$BN100 -> 9.8863803e-06 | BN101: =BN100/$BN100 -> 1
...

Sheet 2.1.
F1: Construction materials | N1: Metals | U1: Biobased materials | X1: Other materials | AD1: Critical Raw materials
A2: Category | B2: Product | C2: Unit | D2: Year | E2: Source | F2: Concrete | G2: Brick | H2: Asphalt | I2: Sand, gravel, clay | J2: Gypsum | K2: Stone | L2: Recycled CDW | M2: Other construction materials | N2: Iron and steel | O2: Copper | P2: Aluminium | Q2: Zinc | R2: Lead | S2: Alloying elements (non critical) | T2: Other metals (non critical) | U2: Wood | V2: Other biobased materials | W2: Textile, biobased | X2: Plastics | Y2: Insulation materials | Z2: Other materials | AA2: Glass | AB2: Ceramics | AC2: Textile, unspec. | AD2: Nd | AE2: Dy | AF2: Pr | AG2: In | AH2: Ga | AI2: Ge | AJ2: Ag | AK2: Li | AL2: Tb | AM2: Si | AN2: Pd | AO2: Co | AP2: Au | AQ2: Pt | AR2: Ta | AS2: Mg | AT2: Ti | AU2: Graphite | AV2: Sr | AW2: W | AX2: Y | AY2: La | AZ2: Nb | BA2: V | BB2: Ce | BC2: Hf | BD2: Unspecified CRM | BE2: Total CRM | BG2: Total
A3: Buildings | B3: Detached houses | C3: tons | D3: 2018 | E3: van Oorschot et al., 2020b; van Oorschot et al., 2022 | F3: =SUM('2.1.'!H13:'2.1.'!H16) -> 4.650627e+08 | G3: =SUM('2.1.'!I13:'2.1.'!I16) -> 68617915 | I3: =SUM('2.1.'!U13:'2.1.'!U16) -> 7422150 | J3: =SUM('2.1.'!R13:'2.1.'!R16) -> 9986057.2 | K3: =SUM('2.1.'!S13:'2.1.'!S16)+SUM('2.1.'!T13:'2.1.'!T16) -> 1.703187e+08 | M3: =SUM('2.1.'!Q13:'2.1.'!Q16) -> 19554.887 | N3: =SUM('2.1.'!C13:'2.1.'!C16) -> 18827825 | O3: =SUM('2.1.'!D13:'2.1.'!D16) -> 287560.19 | P3: =SUM('2.1.'!E13:'2.1.'!E16) -> 67464.89 | T3: =SUM('2.1.'!F13:'2.1.'!F16) -> 863667.07 | U3: =SUM('2.1.'!G13:'2.1.'!G16) -> 22477989 | X3: =SUM('2.1.'!M13:'2.1.'!M16) -> 522534.44 | Y3: =SUM('2.1.'!N13:'2.1.'!N16) -> 4810289.6 | Z3: =SUM('2.1.'!O13:'2.1.'!O16) -> 599167.96 | AA3: =SUM('2.1.'!K13:'2.1.'!K16) -> 1141750.5 | AB3: =SUM('2.1.'!L13:'2.1.'!L16) -> 3380716.4 | BG3: =SUM(F3:BD3) -> 7.7440604e+08
B4: Serial houses | F4: =SUM('2.1.'!H17:'2.1.'!H20) -> 5.2525874e+08 | G4: =SUM('2.1.'!I17:'2.1.'!I20) -> 40989326 | I4: =SUM('2.1.'!U17:'2.1.'!U20) -> 10658815 | J4: =SUM('2.1.'!R17:'2.1.'!R20) -> 6380294.6 | K4: =SUM('2.1.'!S17:'2.1.'!S20)+SUM('2.1.'!T17:'2.1.'!T20) -> 1.5441148e+08 | M4: =SUM('2.1.'!Q17:'2.1.'!Q20) -> 0 | N4: =SUM('2.1.'!C17:'2.1.'!C20) -> 22405049 | O4: =SUM('2.1.'!D17:'2.1.'!D20) -> 145927.3 | P4: =SUM('2.1.'!E17:'2.1.'!E20) -> 164821.14 | T4: =SUM('2.1.'!F17:'2.1.'!F20) -> 628019.16 | U4: =SUM('2.1.'!G17:'2.1.'!G20) -> 13655596 | X4: =SUM('2.1.'!M17:'2.1.'!M20) -> 652973 | Y4: =SUM('2.1.'!N17:'2.1.'!N20) -> 5721386.9 | Z4: =SUM('2.1.'!O17:'2.1.'!O20) -> 782673.32 | AA4: =SUM('2.1.'!K17:'2.1.'!K20) -> 1398513.6 | AB4: =SUM('2.1.'!L17:'2.1.'!L20) -> 1146910.9 | BG4: =SUM(F4:BD4) -> 7.8440052e+08
B5: Apartments | F5: =SUM('2.1.'!H21:'2.1.'!H24) -> 4.3123215e+08 | G5: =SUM('2.1.'!I21:'2.1.'!I24) -> 18705743 | I5: =SUM('2.1.'!U21:'2.1.'!U24) -> 6185325.3 | J5: =SUM('2.1.'!R21:'2.1.'!R24) -> 6618220.8 | K5: =SUM('2.1.'!S21:'2.1.'!S24)+SUM('2.1.'!T21:'2.1.'!T24) -> 47366712 | M5: =SUM('2.1.'!Q21:'2.1.'!Q24) -> 232554.44 | N5: =SUM('2.1.'!C21:'2.1.'!C24) -> 21496677 | O5: =SUM('2.1.'!D21:'2.1.'!D24) -> 86596.513 | P5: =SUM('2.1.'!E21:'2.1.'!E24) -> 1229438.6 | T5: =SUM('2.1.'!F21:'2.1.'!F24) -> 203498.27 | U5: =SUM('2.1.'!G21:'2.1.'!G24) -> 6384651.2 | X5: =SUM('2.1.'!M21:'2.1.'!M24) -> 505028.08 | Y5: =SUM('2.1.'!N21:'2.1.'!N24) -> 4464022.6 | Z5: =SUM('2.1.'!O21:'2.1.'!O24) -> 1230872.4 | AA5: =SUM('2.1.'!K21:'2.1.'!K24) -> 1583097 | AB5: =SUM('2.1.'!L21:'2.1.'!L24) -> 1677408.1 | BG5: =SUM(F5:BD5) -> 5.4920199e+08
B6: Shops | F6: =SUM('2.1.'!H37:'2.1.'!H40) -> 28631044 | G6: =SUM('2.1.'!I37:'2.1.'!I40) -> 2077706.7 | I6: =SUM('2.1.'!U37:'2.1.'!U40) -> 322981.85 | J6: =SUM('2.1.'!R37:'2.1.'!R40) -> 248711.84 | K6: =SUM('2.1.'!S37:'2.1.'!S40)+SUM('2.1.'!T37:'2.1.'!T40) -> 7742740.6 | M6: =SUM('2.1.'!Q37:'2.1.'!Q40) -> 288.40355 | N6: =SUM('2.1.'!C37:'2.1.'!C40) -> 1142849.4 | O6: =SUM('2.1.'!D37:'2.1.'!D40) -> 4962.3563 | P6: =SUM('2.1.'!E37:'2.1.'!E40) -> 29467.789 | T6: =SUM('2.1.'!F37:'2.1.'!F40) -> 11787.603 | U6: =SUM('2.1.'!G37:'2.1.'!G40) -> 353041.71 | X6: =SUM('2.1.'!M37:'2.1.'!M40) -> 42736.3 | Y6: =SUM('2.1.'!N37:'2.1.'!N40) -> 283063.14 | Z6: =SUM('2.1.'!O37:'2.1.'!O40) -> 73143.343 | AA6: =SUM('2.1.'!K37:'2.1.'!K40) -> 395508.47 | AB6: =SUM('2.1.'!L37:'2.1.'!L40) -> 175429.55 | BG6: =SUM(F6:BD6) -> 41535463
B7: Commercial buildings | F7: =SUM('2.1.'!H25:'2.1.'!H28) -> 1.9374626e+08 | G7: =SUM('2.1.'!I25:'2.1.'!I28) -> 1164408.8 | I7: =SUM('2.1.'!U25:'2.1.'!U28) -> 5101605.2 | J7: =SUM('2.1.'!R25:'2.1.'!R28) -> 190481.25 | K7: =SUM('2.1.'!S25:'2.1.'!S28)++SUM('2.1.'!T25:'2.1.'!T28) -> 6126589.7 | M7: =SUM('2.1.'!Q25:'2.1.'!Q28) -> 228242.43 | N7: =SUM('2.1.'!C25:'2.1.'!C28) -> 19219233 | O7: =SUM('2.1.'!D25:'2.1.'!D28) -> 57793.134 | P7: =SUM('2.1.'!E25:'2.1.'!E28) -> 94855.418 | T7: =SUM('2.1.'!F25:'2.1.'!F28) -> 43135.226 | U7: =SUM('2.1.'!G25:'2.1.'!G28) -> 1829143.6 | X7: =SUM('2.1.'!M25:'2.1.'!M28) -> 497170.34 | Y7: =SUM('2.1.'!N25:'2.1.'!N28) -> 5530367.9 | Z7: =SUM('2.1.'!O25:'2.1.'!O28) -> 76342.817 | AA7: =SUM('2.1.'!K25:'2.1.'!K28) -> 207203.03 | AB7: =SUM('2.1.'!L25:'2.1.'!L28) -> 47306.713 | BG7: =SUM(F7:BD7) -> 2.3416013e+08
B8: Office buildings | F8: =SUM('2.1.'!H29:'2.1.'!H32) -> 1.2774419e+08 | G8: =SUM('2.1.'!I29:'2.1.'!I32) -> 5156881.4 | I8: =SUM('2.1.'!U29:'2.1.'!U32) -> 3430178.2 | J8: =SUM('2.1.'!R29:'2.1.'!R32) -> 3905180.4 | K8: =SUM('2.1.'!S29:'2.1.'!S32)++SUM('2.1.'!T29:'2.1.'!T32) -> 23318665 | M8: =SUM('2.1.'!Q29:'2.1.'!Q32) -> 149839.22 | N8: =SUM('2.1.'!C29:'2.1.'!C32) -> 8893274.3 | O8: =SUM('2.1.'!D29:'2.1.'!D32) -> 35336.787 | P8: =SUM('2.1.'!E29:'2.1.'!E32) -> 582441.48 | T8: =SUM('2.1.'!F29:'2.1.'!F32) -> 81795.032 | U8: =SUM('2.1.'!G29:'2.1.'!G32) -> 1116146.8 | X8: =SUM('2.1.'!M29:'2.1.'!M32) -> 179253.9 | Y8: =SUM('2.1.'!N29:'2.1.'!N32) -> 1594140.5 | Z8: =SUM('2.1.'!O29:'2.1.'!O32) -> 224232.7 | AA8: =SUM('2.1.'!K29:'2.1.'!K32) -> 797868.95 | AB8: =SUM('2.1.'!L29:'2.1.'!L32) -> 551570.59 | BG8: =SUM(F8:BD8) -> 1.7776099e+08
B9: Service buildings | F9: =SUM('2.1.'!H33:'2.1.'!H36) -> 1.0630818e+08 | G9: =SUM('2.1.'!I33:'2.1.'!I36) -> 6111549.7 | I9: =SUM('2.1.'!U33:'2.1.'!U36) -> 1070155.5 | J9: =SUM('2.1.'!R33:'2.1.'!R36) -> 1461482 | K9: =SUM('2.1.'!S33:'2.1.'!S36)+SUM('2.1.'!T33:'2.1.'!T36) -> 21055496 | M9: =SUM('2.1.'!Q33:'2.1.'!Q36) -> 47262.149 | N9: =SUM('2.1.'!C33:'2.1.'!C36) -> 6028994.8 | O9: =SUM('2.1.'!D33:'2.1.'!D36) -> 25234.034 | P9: =SUM('2.1.'!E33:'2.1.'!E36) -> 361102.6 | T9: =SUM('2.1.'!F33:'2.1.'!F36) -> 60208.997 | U9: =SUM('2.1.'!G33:'2.1.'!G36) -> 1142153.6 | X9: =SUM('2.1.'!M33:'2.1.'!M36) -> 122868.05 | Y9: =SUM('2.1.'!N33:'2.1.'!N36) -> 1051813.2 | Z9: =SUM('2.1.'!O33:'2.1.'!O36) -> 242855.55 | AA9: =SUM('2.1.'!K33:'2.1.'!K36) -> 288515.85 | AB9: =SUM('2.1.'!L33:'2.1.'!L36) -> 585162.47 | BG9: =SUM(F9:BD9) -> 1.4596303e+08
A11: Type of building | B11: Construction year | C11: Iron & steel | D11: Copper | E11: Aluminium | F11: Other metals | G11: Wood | H11: Concrete | I11: Bricks | J11: Other construction materials | K11: Glass | L11: Ceramics | M11: Plastics | N11: Insulation materials nec | O11: Other | Q11: Bitumen | R11: Gypsum | S11: Chalk stone | T11: Stone | U11: Sand | W11: Source
B12: year | C12: ton | D12: ton | E12: ton | F12: ton | G12: ton | H12: ton | I12: ton | J12: ton | K12: ton | L12: ton | M12: ton | N12: ton | O12: ton | Q12: ton | R12: ton | S12: ton | T12: ton | U12: ton
A13: Detached houses | B13: <1945 | C13: 5968222.1 | D13: 81740.931 | E13: 13926.164 | F13: 244015.21 | G13: 12446887 | H13: 1.2786951e+08 | I13: 28312434 | J13: =SUM(Q13:U13) -> 33428766 | K13: 8348.5293 | L13: 1713471 | M13: 118549.3 | N13: 1292579.2 | O13: 146703.53 | Q13: 0 | R13: 894442.95 | S13: 29383072 | T13: 1041455 | U13: 2109796.4 | W13: van Oorschot et al., 2022
B14: 1945-1970 | C14: 3792086.1 | D14: 56730.661 | E14: 15876.933 | F14: 170796.74 | G14: 4844764.6 | H14: 92555388 | I14: 19649679 | J14: =SUM(Q14:U14) -> 25085750 | K14: 183603.94 | L14: 1189200.3 | M14: 100287.56 | N14: 928101.51 | O14: 123832.22 | Q14: 0 | R14: 2505952.5 | S14: 20392734 | T14: 722801.06 | U14: 1464262
B15: 1970-2000 | C15: 6174535.9 | D15: 101513.01 | E15: 25643.556 | F15: 305621.17 | G15: 3084344.8 | H15: 1.6657155e+08 | I15: 14064338 | J15: =SUM(Q15:U15) -> 87992797 | K15: 646708.43 | L15: 325496.36 | M15: 206784.79 | N15: 1725099.2 | O15: 220402.88 | Q15: 13314.736 | R15: 4484114.3 | S15: 79469312 | T15: 1405927.9 | U15: 2620128.8
B16: >2000 | C16: 2892980.5 | D16: 47575.594 | E16: 12018.237 | F16: 143233.95 | G16: 2101992 | H16: 78066256 | I16: 6591463.3 | J16: =SUM(Q16:U16) -> 41239145 | K16: 303089.61 | L16: 152548.76 | M16: 96912.794 | N16: 864509.61 | O16: 108229.33 | Q16: 6240.1508 | R16: 2101547.5 | S16: 37244486 | T16: 658909.24 | U16: 1227962.7
A17: Serial houses | B17: <1945 | C17: 3191676.9 | D17: 21895.64 | E17: 23581.034 | F17: 91553.097 | G17: 4034627.8 | H17: 71283116 | I17: 10145438 | J17: =SUM(Q17:U17) -> 18511534 | K17: 14354.469 | L17: 172088.08 | M17: 50972.603 | N17: 823466.9 | O17: 85598.598 | Q17: 0 | R17: 479273.75 | S17: 16405630 | T17: 27330.352 | U17: 1599300.3
B18: 1945-1970 | C18: 4275552.2 | D18: 28256.451 | E18: 38219.032 | F18: 122215.79 | G18: 3284808.7 | H18: 98529732 | I18: 13092747 | J18: =SUM(Q18:U18) -> 24615087 | K18: 186007 | L18: 222080.67 | M18: 92077.123 | N18: 1083436.4 | O18: 157659.47 | Q18: 0 | R18: 1344349.6 | S18: 21171561 | T18: 35269.979 | U18: 2063906.3
B19: 1970-2000 | C19: 11422382 | D19: 73230.981 | E19: 78771.265 | F19: 316741.21 | G19: 4230182 | H19: 2.717786e+08 | I19: 13572755 | J19: =SUM(Q19:U19) -> 98118195 | K19: 916122.89 | L19: 575556.55 | M19: 389894.04 | N19: 2884136.9 | O19: 407714.75 | Q19: 0 | R19: 3484090.8 | S19: 89030257 | T19: 254913.17 | U19: 5348933.8
B20: >2000 | C20: 3515437.5 | D20: 22544.224 | E20: 24249.805 | F20: 97509.067 | G20: 2105977.6 | H20: 83667288 | I20: 4178385 | J20: =SUM(Q20:U20) -> 30205775 | K20: 282029.26 | L20: 177185.6 | M20: 120029.23 | N20: 930346.7 | O20: 131700.5 | Q20: 0 | R20: 1072580.5 | S20: 27408045 | T20: 78475.248 | U20: 1646674.1
A21: Apartments | B21: <1945 | C21: 4206599 | D21: 19253.407 | E21: 12544.708 | F21: 45045.928 | G21: 3046532.6 | H21: 79213925 | I21: 7836583.8 | J21: =SUM(Q21:U21) -> 15655317 | K21: 56760.418 | L21: 379275.89 | M21: 67249.576 | N21: 1293829.6 | O21: 131543.77 | Q21: 0 | R21: 714292.56 | S21: 13819005 | T21: 70348.416 | U21: 1051670.6
B22: 1945-1970 | C22: 3749776.1 | D22: 17182.229 | E22: 11397.673 | F22: 40200.131 | G22: 1629318.5 | H22: 76311712 | I22: 6993566.6 | J22: =SUM(Q22:U22) -> 13963430 | K22: 244814.99 | L22: 338475.45 | M22: 78718.555 | N22: 1183935.6 | O22: 272608.43 | Q22: 0 | R22: 637428.59 | S22: 12331267 | T22: 56321.434 | U22: 938412.96
B23: 1970-2000 | C23: 7913953.7 | D23: 29314.644 | E23: 704507.07 | F23: 69108.074 | G23: 998644.17 | H23: 1.6112633e+08 | I23: 2264944.8 | J23: =SUM(Q23:U23) -> 17990593 | K23: 748937.23 | L23: 560835.43 | M23: 209839.12 | N23: 1414732.1 | O23: 486428.84 | Q23: 135907.73 | R23: 3077808.3 | S23: 12202495 | T23: 122630.94 | U23: 2451751.8
B24: >2000 | C24: 5626348.4 | D24: 20846.233 | E24: 500989.14 | F24: 49144.141 | G24: 710155.95 | H24: 1.1458018e+08 | I24: 1610647.8 | J24: =SUM(Q24:U24) -> 12793473 | K24: 532584.33 | L24: 398821.35 | M24: 149220.82 | N24: 571525.32 | O24: 340291.35 | Q24: 96646.717 | R24: 2188691.4 | S24: 8677439.3 | T24: 87205.325 | U24: 1743490
A25: Commercial buildings | B25: <1945 | C25: 674823.84 | D25: 1789.4876 | E25: 934.94514 | F25: 1335.5116 | G25: 567919.78 | H25: 5983373.2 | I25: 73403.032 | J25: =SUM(Q25:U25) -> 292210.14 | K25: 583.9205 | L25: 1464.7895 | M25: 13787.506 | N25: 90768.248 | O25: 2904.8611 | Q25: 11838.281 | R25: 5225.0121 | S25: 115968.09 | T25: 0 | U25: 159178.76
B26: 1945-1970 | C26: 2412843.5 | D26: 6858.4502 | E26: 3986.0853 | F26: 5118.5267 | G26: 1098358.5 | H26: 22919991 | I26: 281326.93 | J26: =SUM(Q26:U26) -> 1119934.4 | K26: 14522.952 | L26: 5614.0014 | M26: 59431.536 | N26: 439115.53 | O26: 10974.327 | Q26: 45371.794 | R26: 20025.557 | S26: 444463.2 | T26: 0 | U26: 610073.85
B27: 1970-2000 | C27: 9277077.6 | D27: 28262.574 | E27: 51719.75 | F27: 21094.733 | G27: 93661.114 | H27: 94798368 | I27: 465632.65 | J27: =SUM(Q27:U27) -> 5885846 | K27: 110471.27 | L27: 23134.4 | M27: 243807.25 | N27: 2336095.9 | O27: 36260.934 | Q27: 98357.824 | R27: 95021.377 | S27: 3168946.8 | T27: 32057.093 | U27: 2491462.9
B28: >2000 | C28: 6854488.3 | D28: 20882.622 | E28: 38214.637 | F28: 15586.455 | G28: 69204.23 | H28: 70044523 | I28: 344046.19 | J28: =SUM(Q28:U28) -> 4348928 | K28: 81624.897 | L28: 17093.522 | M28: 180144.05 | N28: 2664388.2 | O28: 26202.695 | Q28: 72674.53 | R28: 70209.3 | S28: 2341468.2 | T28: 23686.313 | U28: 1840889.6
A29: Office buildings | B29: <1945 | C29: 821929.17 | D29: 3761.384 | E29: 1092.5913 | F29: 8629.0555 | G29: 553266.29 | H29: 10233130 | I29: 961709.51 | J29: =SUM(Q29:U29) -> 3383609.1 | K29: 18487.923 | L29: 58711.304 | M29: 14683.946 | N29: 220993.69 | O29: 23442.49 | Q29: 5012.9072 | R29: 105504.91 | S29: 3050560 | T29: 15893.839 | U29: 206637.53
B30: 1945-1970 | C30: 894470.22 | D30: 4088.7544 | E30: 1034.6298 | F30: 9380.0816 | G30: 306332.27 | H30: 11820195 | I30: 1045411.5 | J30: =SUM(Q30:U30) -> 3678100.1 | K30: 63307.946 | L30: 63821.216 | M30: 20230.43 | N30: 251921.9 | O30: 24302.879 | Q30: 5449.2034 | R30: 114687.48 | S30: 3316064.1 | T30: 17277.153 | U30: 224622.14
B31: 1970-2000 | C31: 4061643.8 | D31: 15554.156 | E31: 328388.48 | F31: 36095.19 | G31: 145175.62 | H31: 59808390 | I31: 1782387.8 | J31: =SUM(Q31:U31) -> 13435220 | K31: 405211.74 | L31: 242784.25 | M31: 81678.913 | N31: 716193.19 | O31: 101413.29 | Q31: 78870.782 | R31: 2085262.6 | S31: 9483190.3 | T31: 90867.159 | U31: 1697029.3
B32: >2000 | C32: 3115231 | D32: 11932.492 | E32: 251925.78 | F32: 27690.705 | G32: 111372.6 | H32: 45882471 | I32: 1367372.6 | J32: =SUM(Q32:U32) -> 10306934 | K32: 310861.34 | L32: 186253.82 | M32: 62660.612 | N32: 405031.72 | O32: 75074.037 | Q32: 60506.333 | R32: 1599725.4 | S32: 7275103.1 | T32: 69709.447 | U32: 1301889.2
A33: Service buildings | B33: <1945 | C33: 414002.86 | D33: 1743.9951 | E33: 594.44182 | F33: 4085.3377 | G33: 306912.42 | H33: 6746084.3 | I33: 767283.5 | J33: =SUM(Q33:U33) -> 1239410.6 | K33: 4394.9015 | L33: 66489.716 | M33: 6146.1208 | N33: 96008.246 | O33: 11029.132 | Q33: 1577.9069 | R33: 65742.77 | S33: 1099680.6 | T33: 321.98055 | U33: 72087.366
B34: 1945-1970 | C34: 1089836.6 | D34: 4625.6234 | E34: 1515.6778 | F34: 11026.154 | G34: 449362.71 | H34: 18967081 | I34: 2035077.1 | J34: =SUM(Q34:U34) -> 3287306.8 | K34: 37796.89 | L34: 176351.64 | M34: 19218.895 | N34: 261143.88 | O34: 46925.377 | Q34: 4185.1052 | R34: 174370.5 | S34: 2916698.9 | T34: 853.99369 | U34: 191198.37
B35: 1970-2000 | C35: 2792936.2 | D35: 11643.189 | E35: 221571.53 | F35: 27834.353 | G35: 219965.29 | H35: 49743549 | I35: 2042444.1 | J35: =SUM(Q35:U35) -> 11793332 | K35: 147532.45 | L35: 211281.9 | M35: 60107.25 | N35: 495007.02 | O35: 114948.62 | Q35: 25613.426 | R35: 753833.41 | S35: 10492124 | T35: 23757.251 | U35: 498003.09
B36: >2000 | C36: 1732219.2 | D36: 7221.2262 | E36: 137420.95 | F36: 17263.153 | G36: 165913.22 | H36: 30851463 | I36: 1266744.9 | J36: =SUM(Q36:U36) -> 7314346.1 | K36: 98791.605 | L36: 131039.22 | M36: 37395.785 | N36: 199654.02 | O36: 69952.419 | Q36: 15885.711 | R36: 467535.28 | S36: 6507324 | T36: 14734.493 | U36: 308866.67
A37: Shops | B37: <1945 | C37: 72442.645 | D37: 322.95682 | E37: 182.42228 | F37: 718.9293 | G37: 66777.097 | H37: 1711591.1 | I37: 267163.27 | J37: =SUM(Q37:U37) -> 430287.13 | K37: 17177.732 | L37: 29339.268 | M37: 2336.9363 | N37: 26321.384 | O37: 3135.0936 | Q37: 105.53427 | R37: 14817.494 | S37: 394234.68 | T37: 78.797078 | U37: 21050.625
B38: 1945-1970 | C38: 125796.46 | D38: 559.61804 | E38: 353.46596 | F38: 1337.2105 | G38: 65943.292 | H38: 3157950.5 | I38: 462939.25 | J38: =SUM(Q38:U38) -> 745462.95 | K38: 38248.289 | L38: 50838.943 | M38: 4786.519 | N38: 46481.502 | O38: 8566.0643 | Q38: 182.86928 | R38: 25675.682 | S38: 683127.98 | T38: 0 | U38: 36476.423
B39: 1970-2000 | C39: 596437.01 | D39: 2575.6332 | E39: 18265.185 | F39: 6143.6328 | G39: 117566.54 | H39: 15001028 | I39: 850764.68 | J39: =SUM(Q39:U39) -> 4506951 | K39: 214699.65 | L39: 60133.735 | M39: 22482.975 | N39: 153388.56 | O39: 38874.145 | Q39: 0 | R39: 131451.87 | S39: 4206761.8 | T39: 1151.3493 | U39: 167585.99
B40: >2000 | C40: 348173.33 | D40: 1504.1482 | E40: 10666.715 | F40: 3587.8302 | G40: 102754.78 | H40: 8760474.8 | I40: 496839.46 | J40: =SUM(Q40:U40) -> 2632021.7 | K40: 125382.8 | L40: 35117.599 | M40: 13129.87 | N40: 56871.692 | O40: 22568.04 | Q40: 0 | R40: 76766.793 | S40: 2456713.7 | T40: 672.37837 | U40: 97868.816

Sheet 2.2.a
F1: Construction materials | N1: Metals | U1: Biobased materials | X1: Other materials | AD1: Critical Raw materials
A2: Category | B2: Product | C2: Unit | D2: Year | E2: Source | F2: Concrete | G2: Brick | H2: Asphalt | I2: Sand, gravel, clay | J2: Gypsum | K2: Stone | L2: Recycled CDW | M2: Other construction materials | N2: Iron and steel | O2: Copper | P2: Aluminium | Q2: Zinc | R2: Lead | S2: Alloying elements (non critical) | T2: Other metals (non critical) | U2: Wood | V2: Other biobased materials | W2: Textile, biobased | X2: Plastics | Y2: Insulation materials | Z2: Other materials | AA2: Glass | AB2: Ceramics | AC2: Textile, unspec. | AD2: Nd | AE2: Dy | AF2: Pr | AG2: In | AH2: Ga | AI2: Ge | AJ2: Ag | AK2: Li | AL2: Tb | AM2: Si | AN2: Pd | AO2: Co | AP2: Au | AQ2: Pt | AR2: Ta | AS2: Mg | AT2: Ti | AU2: Graphite | AV2: Sr | AW2: W | AX2: Y | AY2: La | AZ2: Nb | BA2: V | BB2: Ce | BC2: Hf | BD2: Unspecified CRM | BE2: Total CRM | BG2: Total
A3: Road, rail and waterways infrastructure | B3: Bridges | C3: ton | D3: 2019 | E3: EIB & Metabolic, 2022 | F3: ='2.2.a'!E14*1000 -> 89888279 | G3: ='2.2.a'!D14*1000 -> 2516637.9 | L3: =('2.2.a'!J14+'2.2.a'!T14)*1000 -> 469996.83 | M3: =('2.2.a'!I14)*1000 -> 18799.386 | N3: =('2.2.a'!F14+'2.2.a'!Q14)*1000 -> 6548240.5 | P3: ='2.2.a'!B14*1000 -> 64.8 | T3: ='2.2.a'!O14*1000 -> 933.1504 | U3: ='2.2.a'!H14*1000 -> 2268.082 | BG3: =SUM(F3:BD3) -> 99445220
B4: Pumping stations | F4: ='2.2.a'!E15*1000 -> 475248.41 | M4: =('2.2.a'!I15)*1000 -> 1.26346 | N4: =('2.2.a'!F15+'2.2.a'!Q15)*1000 -> 231240.25 | P4: ='2.2.a'!B15*1000 -> 0.11486 | Q4: ='2.2.a'!R15*1000 -> 5.743 | U4: ='2.2.a'!H15*1000 -> 11847.306 | X4: ='2.2.a'!M15*1000 -> 0.22972 | BG4: =SUM(F4:BD4) -> 718343.31
B5: Non-asphalt road surface | F5: ='2.2.a'!E16*1000 -> 63011601 | G5: ='2.2.a'!D16*1000 -> 4865873 | I5: =('2.2.a'!G16+'2.2.a'!U16+'2.2.a'!V16+'2.2.a'!W16)*1000 -> 269435380 | L5: =('2.2.a'!J16+'2.2.a'!T16)*1000 -> 1.1637581e+08 | BG5: =SUM(F5:BD5) -> 4.5368867e+08
B6: Sluices | F6: ='2.2.a'!E18*1000 -> 5771963.8 | I6: =('2.2.a'!G18+'2.2.a'!U18+'2.2.a'!V18+'2.2.a'!W18)*1000 -> 741800 | N6: =('2.2.a'!F18+'2.2.a'!Q18)*1000 -> 435083.7 | P6: ='2.2.a'!B18*1000 -> 221.208 | T6: ='2.2.a'!O18*1000 -> 814.98132 | U6: ='2.2.a'!H18*1000 -> 4895.8223 | X6: ='2.2.a'!M18*1000 -> 554.60006 | BG6: =SUM(F6:BD6) -> 6955334.1
B7: Roads | F7: ='2.2.a'!E19*1000 -> 357564.81 | H7: ='2.2.a'!C19*1000 -> 2.53106e+08 | I7: =('2.2.a'!G19+'2.2.a'!U19+'2.2.a'!V19+'2.2.a'!W19+'2.2.a'!K19)*1000 -> 1.7538642e+09 | L7: =('2.2.a'!J19+'2.2.a'!T19)*1000 -> 4.553734e+08 | M7: =('2.2.a'!I19)*1000 -> 453.54782 | N7: =('2.2.a'!F19+'2.2.a'!Q19)*1000 -> 261600.26 | P7: ='2.2.a'!B19*1000 -> 50029.452 | T7: ='2.2.a'!O19*1000 -> 64845.372 | Z7: ='2.2.a'!N19*1000 -> 73352.184 | AA7: ='2.2.a'!S19*1000 -> 146704.37 | BG7: =SUM(F7:BD7) -> 2.4632981e+09
B8: Tunnels | F8: ='2.2.a'!E21*1000 -> 56505299 | I8: =('2.2.a'!G21+'2.2.a'!U21+'2.2.a'!V21+'2.2.a'!W21)*1000 -> 362710700 | L8: =('2.2.a'!J21+'2.2.a'!T21)*1000 -> 190204.47 | M8: =('2.2.a'!I21)*1000 -> 7608.179 | N8: =('2.2.a'!F21+'2.2.a'!Q21)*1000 -> 11499384 | BG8: =SUM(F8:BD8) -> 4.309132e+08
B9: Viaducts | F9: ='2.2.a'!E22*1000 -> 31998599 | G9: ='2.2.a'!D22*1000 -> 41915.44 | I9: =('2.2.a'!G22+'2.2.a'!U22+'2.2.a'!V22+'2.2.a'!W22)*1000 -> 274480420 | L9: =('2.2.a'!J22+'2.2.a'!T22)*1000 -> 111764.97 | M9: =('2.2.a'!I22)*1000 -> 4470.5987 | N9: =('2.2.a'!F22+'2.2.a'!Q22)*1000 -> 350234.73 | P9: ='2.2.a'!B22*1000 -> 2.0928 | BG9: =SUM(F9:BD9) -> 3.0698741e+08
B10: Coastal defense | F10: ='2.2.a'!E23*1000 -> 16803326 | I10: =('2.2.a'!G23+'2.2.a'!U23+'2.2.a'!V23+'2.2.a'!W23)*1000 -> 1.1554317e+09 | X10: ='2.2.a'!M23*1000 -> 14389.489 | BG10: =SUM(F10:BD10) -> 1.1722494e+09
A12: Product | B12: Aluminium | C12: Asphalt | D12: Bricks | E12: Concrete | F12: Steel (construction) | G12: Gravel | H12: Wood | I12: Other materials | J12: Industrial recyclates | K12: Industral sand | L12: Insulation materials nec | M12: Plastics | N12: Other | O12: Other metals | P12: Stone | Q12: Steel (reinforcement) | R12: Zinc | S12: Glass | T12: Recycling granulate | U12: Soil | V12: Clay | W12: Construction sand | Y12: Source
B13: kton | C13: kton | D13: kton | E13: kton | F13: kton | G13: kton | H13: kton | I13: kton | J13: kton | K13: kton | L13: kton | M13: kton | N13: kton | O13: kton | P13: kton | Q13: kton | R13: kton | S13: kton | T13: kton | U13: kton | V13: kton | W13: kton
A14: Bridges | B14: 0.0648 | C14: 0 | D14: 2516.6379 | E14: 89888.279 | F14: 4748.7732 | G14: 0 | H14: 2.268082 | I14: 18.799386 | J14: 469.99683 | K14: 0 | L14: 0 | M14: 0 | N14: 0 | O14: 0.9331504 | P14: 0 | Q14: 1799.4673 | R14: 0 | S14: 0 | T14: 0 | U14: 0 | V14: 0 | W14: 0 | Y14: EIB & Metabolic, 2022
A15: Pumping stations | B15: 0.00011486 | C15: 0 | D15: 0 | E15: 475.24841 | F15: 146.81209 | G15: 0 | H15: 11.847306 | I15: 0.00126346 | J15: 0 | K15: 0 | L15: 0 | M15: 0.00022972 | N15: 0 | O15: 0 | P15: 0 | Q15: 84.42816 | R15: 0.005743 | S15: 0 | T15: 0 | U15: 0 | V15: 0 | W15: 0
A16: Non-asphalt road surface | B16: 0 | C16: 0 | D16: 4865.873 | E16: 63011.601 | F16: 0 | G16: 0 | H16: 0 | I16: 0 | J16: 0 | K16: 0 | L16: 0 | M16: 0 | N16: 0 | O16: 0 | P16: 0 | Q16: 0 | R16: 0 | S16: 0 | T16: 116375.81 | U16: 0 | V16: 0 | W16: 269435.38
A17: Sewage pipes | B17: 0 | C17: 0 | D17: 0 | E17: 14539.267 | F17: 0 | G17: 0 | H17: 0 | I17: 0 | J17: 0 | K17: 0 | L17: 0 | M17: 2106.6958 | N17: 0 | O17: 0 | P17: 0 | Q17: 1546.6 | R17: 0 | S17: 0 | T17: 0 | U17: 0 | V17: 0 | W17: 0
A18: Sluices | B18: 0.221208 | C18: 0 | D18: 0 | E18: 5771.9638 | F18: 325.7559 | G18: 0 | H18: 4.8958223 | I18: 0 | J18: 0 | K18: 0 | L18: 0 | M18: 0.55460006 | N18: 0 | O18: 0.81498132 | P18: 0 | Q18: 109.3278 | R18: 0 | S18: 0 | T18: 0 | U18: 0 | V18: 0 | W18: 741.8
A19: Roads | B19: 50.029452 | C19: 253106 | D19: 0 | E19: 357.56481 | F19: 249.91486 | G19: 0 | H19: 0 | I19: 0.45354782 | J19: 56889.437 | K19: 110.02828 | L19: 0 | M19: 0 | N19: 73.352184 | O19: 64.845372 | P19: 0 | Q19: 11.685394 | R19: 0 | S19: 146.70437 | T19: 398483.96 | U19: 1135976.4 | V19: 0 | W19: 617777.75
A20: Railroads | B20: 540.7914 | C20: 0 | D20: 0 | E20: 8724.4577 | F20: 1441.2507 | G20: 0 | H20: 0 | I20: 0 | J20: 0 | K20: 0 | L20: 264.0084 | M20: 44.978623 | N20: 0 | O20: 0 | P20: 32573.282 | Q20: 220.16127 | R20: 0 | S20: 0 | T20: 0 | U20: 0 | V20: 0 | W20: 259260.6
A21: Tunnels | B21: 0 | C21: 0 | D21: 0 | E21: 56505.299 | F21: 7595.0569 | G21: 0 | H21: 0 | I21: 7.608179 | J21: 190.20447 | K21: 0 | L21: 0 | M21: 0 | N21: 0 | O21: 0 | P21: 0 | Q21: 3904.3272 | R21: 0 | S21: 0 | T21: 0 | U21: 362710.7 | V21: 0 | W21: 0
A22: Viaducts | B22: 0.0020928 | C22: 0 | D22: 41.91544 | E22: 31998.599 | F22: 163.13909 | G22: 0 | H22: 0 | I22: 4.4705987 | J22: 111.76497 | K22: 0 | L22: 0 | M22: 0 | N22: 0 | O22: 0 | P22: 0 | Q22: 187.09564 | R22: 0 | S22: 0 | T22: 0 | U22: 274480.42 | V22: 0 | W22: 0
A23: Coastal defense | B23: 0 | C23: 0 | D23: 0 | E23: 16803.326 | F23: 0 | G23: 1214.1132 | H23: 0 | I23: 0 | J23: 0 | K23: 0 | L23: 0 | M23: 14.389489 | N23: 0 | O23: 0 | P23: 0 | Q23: 0 | R23: 0 | S23: 0 | T23: 0 | U23: 156915.96 | V23: 525244.63 | W23: 472057
A24: Sewage treatment plants | B24: 0 | C24: 0 | D24: 0 | E24: 2241.471 | F24: 0 | G24: 0 | H24: 0 | I24: 0 | J24: 0 | K24: 0 | L24: 0 | M24: 0 | N24: 0 | O24: 0 | P24: 0 | Q24: 405.02646 | R24: 0 | S24: 0 | T24: 0 | U24: 0 | V24: 0 | W24: 0
A26: Total | B26: =SUM(B14:B24) -> 591.10907 | C26: =SUM(C14:C24) -> 253106 | D26: =SUM(D14:D24) -> 7424.4264 | E26: =SUM(E14:E24) -> 290317.08 | F26: =SUM(F14:F24) -> 14670.703 | G26: =SUM(G14:G24) -> 1214.1132 | H26: =SUM(H14:H24) -> 19.011211 | I26: =SUM(I14:I24) -> 31.332975 | ... W26: =SUM(W14:W24) -> 1619272.5

Sheet 2.2.b
F1: Construction materials | N1: Metals | U1: Biobased materials | X1: Other materials | AD1: Critical Raw materials
A2: Category | B2: Product | C2: Unit | D2: Year | E2: Source | F2: Concrete | G2: Brick | H2: Asphalt | I2: Sand, gravel, clay | J2: Gypsum | K2: Stone | L2: Recycled CDW | M2: Other construction materials | N2: Iron and steel | O2: Copper | P2: Aluminium | Q2: Zinc | R2: Lead | S2: Alloying elements (non critical) | T2: Other metals (non critical) | U2: Wood | V2: Other biobased materials | W2: Textile, biobased | X2: Plastics | Y2: Insulation materials | Z2: Other materials | AA2: Glass | AB2: Ceramics | AC2: Textile, unspec. | AD2: Nd | AE2: Dy | AF2: Pr | AG2: In | AH2: Ga | AI2: Ge | AJ2: Ag | AK2: Li | AL2: Tb | AM2: Si | AN2: Pd | AO2: Co | AP2: Au | AQ2: Pt | AR2: Ta | AS2: Mg | AT2: Ti | AU2: Graphite | AV2: Sr | AW2: W | AX2: Y | AY2: La | AZ2: Nb | BA2: V | BB2: Ce | BC2: Hf | BD2: Unspecified CRM | BE2: Total CRM | BG2: Total
A3: Road- rail- and waterways infrastructure | B3: Railways | C3: ton | D3: 2018 | E3: Pieters, 2022 | F3: ='2.2.b'!F15 -> 12150469 | G3: ='2.2.b'!G15 -> 0 | H3: ='2.2.b'!H15 -> 39002.327 | I3: ='2.2.b'!I15 -> 27963301 | N3: ='2.2.b'!L15 -> 1757858.2 | O3: ='2.2.b'!M15 -> 32634.837 | P3: ='2.2.b'!N15 -> 5773.4221 | Q3: ='2.2.b'!Y15 -> 0 | T3: ='2.2.b'!O15 -> 780.84931 | U3: ='2.2.b'!P15 -> 45222.824 | X3: ='2.2.b'!S15 -> 18258.492 | Y3: ='2.2.b'!T15 -> 1566.1668 | Z3: ='2.2.b'!U15 -> 536.2205 | AA3: ='2.2.b'!V15 -> 470.08 | BG3: =SUM(F3:BD3) -> 42015873
F5: Constructiematerialen | L5: Bulk metalen | P5: Biobased materialen | S5: Overige materialen
A6: Category | B6: Product | C6: Unit | D6: Year | E6: Source | F6: Concrete | G6: Brick | H6: Asphalt | I6: Sand, gravel, clay | J6: Gypsum | K6: Other materials | L6: Iron & steel | M6: Copper | N6: Aluminium | O6: Other metals | P6: Wood | Q6: Other biobased materials | R6: Textile, organic | S6: Plastics | T6: Isolatiemateriaal | U6: Other materials | V6: Glass | W6: Ceramics | X6: Textile nec | Z6: Bron
A7: Road- rail- and waterways infrastructure: railways | B7: Rails and overhead power lines | C7: ton | D7: 2018 | E7: Pieters, 2022 | F7: =(E25+G25+R25+T25+V25)*1000 -> 10848837 | H7: =(E43+G43+R43+T43+V43)*1000 -> 39002.327 | I7: =(E24+G24+R24+T24+V24)*1000+(E39+G39+R39+T39+V39)*1000 -> 27956082 | L7: =(E23+G23+R23+T23+V23)*1000 -> 1598615.9 | M7: =(E31+G31+R31+T31+V31)*1000 -> 32143.977 | N7: =(E35+G35+R35+T35+V35)*1000 -> 387.17519 | O7: =(E33+R33+T33+V33)*1000+(E32+G32+R32+T32+V32)*1000 -> 780.84931 | P7: =(E30+G30+R30+T30+V30)*1000 -> 17571.522 | S7: =(E26+G26+R26+T26+V26)*1000+(E27+G27+R27+T27+V27)*1000+(E28+G28+R28+T28+V28)*1000+(E29+G29+R29+T29+V29)*1000+(E37+G37+R37+T37+V37)*1000 -> 14476.268 | U7: =(E34+G34+R34+T34+V34)*1000+(E36+G36+R36+T36+V36)*1000+(E40+G40+R40+T40+V40)*1000+(E41+G41+R41+T41+V41)*1000 -> 278.87475 | Z7: Pieters, 2022
B8: Switches (incl heating) | F8: =(I25+J25)*1000 -> 294424.93 | L8: =(I23+J23)*1000 -> 117816.03 | M8: =(I31+J31)*1000 -> 490.86 | N8: =(I35+J35)*1000 -> 16.362 | O8: =(I33+J33)*1000+(I32+J32)*1000 -> 0 | P8: =(I30+J30)*1000 -> 3702.6284 | S8: =(I26+J26)*1000+(I27+J27)*1000+(I28+J28)*1000+(I29+J29)*1000+(I37+J37)*1000 -> 2455.5175 | U8: =(I34+J34)*1000+(I36+J36)*1000+(I40+J40)*1000+(I41+J41)*1000 -> 21.816
B9: Platforms (incl roofs) | F9: =(K25+L25)*1000 -> 648055.73 | L9: =(K23+L23)*1000 -> 19265.095 | N9: =L35*1000 -> 2150.9331 | P9: =L30*1000 -> 13866.455 | S9: =L37*1000 -> 1197.486
B10: Elevators and stairs | F10: =M25*1000 -> 174496.86 | L10: =M23*1000 -> 1329.445 | V10: =M42*1000 -> 470.08
B11: Fences and noise barriers | F11: =N25*1000 -> 109497.03 | I11: =N39*1000 -> 7218.5609 | L11: =N23*1000 -> 18862.878 | N11: =N35*1000 -> 3218.9519 | O11: =N32*1000 -> 0 | P11: =N30*1000 -> 10082.218 | S11: =N26*1000+N27*1000+N28*1000+N29*1000+N37*1000 -> 129.2204 | T11: =N38*1000 -> 1566.1668 | U11: =N34*1000+N36*1000+N40*1000+N41*1000 -> 235.52975
B12: Signals | F12: =O25*1000 -> 8167.9 | L12: =O23*1000 -> 420.961
B13: Railway crossings | F13: =P25*1000 -> 66990
B14: Buffer stops | L14: =Q23*1000 -> 1547.91
B15: Total | F15: =SUM(F7:F14) -> 12150469 | H15: =SUM(H7:H14) -> 39002.327 | I15: =SUM(I7:I11) -> 27963301 | L15: =SUM(L7:L14) -> 1757858.2 | M15: =SUM(M7:M14) -> 32634.837 | N15: =SUM(N7:N14) -> 5773.4221 | O15: =SUM(O7:O14) -> 780.84931 | P15: =SUM(P7:P14) -> 45222.824 | S15: =SUM(S7:S14) -> 18258.492 | T15: =SUM(T7:T14) -> 1566.1668 | U15: =SUM(U7:U14) -> 536.2205 | V15: =SUM(V7:V14) -> 470.08 | Y15: =SUM(Y7:Y14) -> 0
A17: Background data, from Pieters (2022):
B18: Material stocks in Dutch railway infrastructure in 2018
A20: Base year 2018 | D20: ALL MODES | E20: TRAIN | R20: METRO | T20: LIGHTRAIL | V20: TRAM
B21: Average lifetime | C21: year | D21: 46.693897 | E21: 37.001315 | F21: 60 | G21: 50 | H21: 30 | I21: 45 | J21: 15 | K21: 60 | L21: 60 | M21: 30 | N21: 50 | O21: 30 | P21: 30 | Q21: 50 | R21: 37.001315 | S21: 60 | T21: 37.001315 | U21: 60 | V21: 37.001315 | W21: 60
B22: Substance | C22: Unit | D22: TOTAL | E22: Tracks | F22: Tunnels & bridges | G22: Power supply (traction wire only) | H22: Infrastructure cables | I22: Switches | J22: Switch heating | K22: Platforms | L22: Platform roofs | M22: Elevators & Stairs | N22: Fencing & noise barriers | O22: Signals | P22: Level Crossings | Q22: Buffer stops | R22: Tracks & power supply | S22: Tunnels & bridges | T22: Tracks & power supply | U22: Tunnels & bridges | V22: Tracks & power supply | W22: Tunnels & bridges | X22: Notes
B23: Steel | C23: kton | D23: 3228.5565 | E23: 1311.9829 | F23: 983.54838 | G23: 115.18766 | I23: 116.05984 | J23: 1.756188 | L23: 19.265095 | M23: 1.329445 | N23: 18.862878 | O23: 0.420961 | Q23: 1.54791 | R23: 61.173234 | S23: 363.1268 | T23: 28.351799 | U23: 53.335063 | V23: 81.920244 | W23: 70.68807 | X23: Interesting: more steel is in tunnels and bridges (long-lived constructions) than in rail bars (short-lived)
B24: Aggregates | C24: kton | D24: 27956.082 | E24: 26937.926 | R24: 552.48646 | T24: 117.60849 | V24: 348.06111
B25: Concrete | C25: kton | D25: 40250.318 | E25: 5395.9886 | F25: 18441.864 | G25: 599.97709 | H25: 471.292 | I25: 292.24333 | J25: 2.1816 | K25: 638.10511 | L25: 9.9506197 | M25: 174.49686 | N25: 109.49703 | O25: 8.1679 | P25: 66.99 | R25: 182.61259 | S25: 6932.6689 | T25: 1198.9355 | U25: 930.09292 | V25: 3471.323 | W25: 1323.9316
B26: EPDM (rubber) | C26: kton | D26: 3.5695131 | E26: 2.5714423 | I26: 0.89315 | N26: 0.10492079
B27: HDPE | C27: kton | D27: 27.863128 | E27: 4.4881192 | H27: 22.150724 | I27: 1.2026128 | N27: 0.021672084
B28: PP | C28: kton | D28: 0.22608928 | E28: 0.13095308 | I28: 0.09250868 | N28: 0.0026275167
B29: GFRP (fiberglass) | C29: kton | D29: 7.5039131 | E29: 7.2857531 | J29: 0.21816
B30: Timber | C30: kton | D30: 45.222824 | E30: 17.571522 | I30: 3.7026284 | L30: 13.866455 | N30: 10.082218
B31: Copper | C31: kton | D31: 65.248243 | E31: 0 | G31: 18.015309 | H31: 32.613406 | J31: 0.49086 | R31: 12.954925 | T31: 0.30205929 | V31: 0.87168283
B32: Bronze | C32: kton | D32: 0.78084931 | E32: 0 | G32: 0.78084931
B33: Zinc | C33: kton | D33: 2.0910728 | E33: 0 | G33: 1.5492707 | N33: 0.5418021
B34: Porcelain | C34: kton | D34: 0.27887475 | E34: 0 | G34: 0.27887475
B35: Aluminium | C35: kton | D35: 13.753645 | E35: 0 | F35: 5.447108 | J35: 0.016362 | L35: 2.1509331 | N35: 3.2189519 | S35: 1.7886333 | T35: 0.098784546 | U35: 0.35877852 | V35: 0.28839064 | W35: 0.38570277
B36: Epoxy | C36: kton | D36: 0.021816 | J36: 0.021816
B37: PVC | C37: kton | D37: 1.246572 | J37: 0.049086 | L37: 1.197486
B38: Stone Wool | C38: kton | D38: 1.5661668 | N38: 1.5661668
B39: Sand (ex. Concrete) | C39: kton | D39: 7.2185609 | N39: 7.2185609 | X39: Incomplete data that is left out of the rest of the scope
B40: Alkyd | C40: kton | D40: 0.11633329 | N40: 0.11633329
B41: Powder Coating | C41: kton | D41: 0.11919646 | N41: 0.11919646
B42: Glass | C42: kton | D42: 0.47008 | L42: 0 | M42: 0.47008 | X42: Incomplete data that is left out of the rest of the scope
B43: Asphalt | C43: kton | D43: 39.002327 | E43: 0 | T43: 9.6508452 | V43: 29.351482 | X43: Left out of the scope as it is used between tram tracks for road vehicles and not for rail vehicles
B44: Total weight per object | C44: kton | D44: 71651.256 | E44: 33677.945 | F44: 19430.859 | G44: 735.78905 | H44: 526.05613 | I44: 414.19407 | J44: 4.734072 | K44: 638.10511 | L44: 46.430588 | M44: 176.29638 | N44: 151.35236 | O44: 8.588861 | P44: 66.99 | Q44: 1.54791 | R44: 809.22722 | S44: 7297.5844 | T44: 1354.9475 | U44: 983.78676 | V44: 3931.8159 | W44: 1395.0054
B45: Weight share per object | C45: kton | D45: 1 | E45: 0.47002589 | F45: 0.27118658 | G45: 0.010269032 | H45: 0.0073418968 | I45: 0.0057806952 | J45: 6.6071026e-05 | K45: 0.0089057073 | L45: 0.00064800802 | M45: 0.0024604786 | N45: 0.0021123476 | O45: 0.00011987035 | P45: 0.00093494523 | Q45: 2.160339e-05 | R45: 0.011293971 | S45: 0.10184866 | T45: 0.01891031 | U45: 0.01373021 | V45: 0.054874347 | W45: 0.019469378
B46: Annual stock | C46: kton | D46: 1624.6873 | E46: 910.18238 | F46: 323.84765 | G46: 14.715781 | H46: 17.535204 | I46: 9.2043127 | J46: 0.3156048 | K46: 10.635085 | L46: 0.77384314 | M46: 5.8765462 | N46: 3.0270471 | O46: 0.28629537 | P46: 2.233 | Q46: 0.0309582 | R46: 21.870228 | S46: 121.62641 | T46: 36.618899 | U46: 16.396446 | V46: 106.26152 | W46: 23.25009
A48: Stock totals per transport mode | C48: Unit | E48: Mode | F48: Steel | G48: Aggregates | H48: Concrete | I48: Copper | J48: Aluminium | K48: Timber | L48: Plastics | M48: Total
A49: With aggregated material categories | C49: kton | E49: TRAIN | F49: 2569.9613 | G49: 26937.926 | H49: 26210.754 | I49: 51.119575 | J49: 10.833355 | K49: 45.222824 | L49: 40.666561 | M49: 55866.483
C50: kton | E50: METRO | F50: 424.30003 | G50: 552.48646 | H50: 7115.2815 | I50: 12.954925 | J50: 1.7886333 | K50: 0 | L50: 0 | M50: 8106.8116
C51: kton | E51: LIGHTRAIL | F51: 81.686862 | G51: 117.60849 | H51: 2129.0284 | I51: 0.30205929 | J51: 0.45756307 | K51: 0 | L51: 0 | M51: 2329.0834
C52: kton | E52: TRAM | F52: 152.60831 | G52: 348.06111 | H52: 4795.2546 | I52: 0.87168283 | J52: 0.67409341 | K52: 0 | L52: 0 | M52: 5297.4698
C53: kton | E53: Total | F53: 3228.5565 | G53: 27956.082 | H53: 40250.318 | I53: 65.248243 | J53: 13.753645 | K53: 45.222824 | L53: 40.666561 | M53: 71599.848
E54: Percentage | F54: 0.045091667 | G54: 0.3904489 | H54: 0.56215648 | I54: 0.00091129024 | J54: 0.00019209042 | K54: 0.00063160502 | L54: 0.00056796994 | M54: 1
A55: Hibernating stocks in 2018 | E55: TRAIN | N55: METRO | S55: LIGHTRAIL | U55: TRAM
B56: Substance | C56: Unit | D56: TOTAL | E56: Tracks | F56: Tunnels & bridges | G56: Power supply (traction wire only) | H56: Switches | I56: Switch heating | J56: Platforms | K56: Platform roofs | L56: Elevators & Stairs | M56: Fencing & noise barriers | N56: Tracks & power supply | R56: Tunnels & bridges | S56: Tracks & power supply | T56: Tunnels & bridges | U56: Tracks & power supply | V56: Tunnels & bridges | W56: Notes
B57: Steel | C57: kton | D57: 23.375984 | E57: 10.399718 | F57: 2.7190938 | G57: 0.010425978 | N57: 0.4499245 | R57: 3.9649638 | S57: 5.3259186 | T57: 0.50593864 | U57: 0 | V57: 0
B58: Aggregates | C58: kton | D58: 293.07769 | E58: 264.65482 | N58: 5.5792885 | S58: 22.843582 | U58: 0
B59: Concrete | C59: kton | D59: 380.35731 | E59: 47.166202 | F59: 40.155926 | G59: 0.51429026 | N59: 0.60835882 | R59: 58.542368 | S59: 225.86777 | T59: 7.5023901
B60: EPDM (rubber) | C60: kton | D60: 0.025263437 | E60: 0.025263437
B61: HDPE | C61: kton | D61: 0.044094054 | E61: 0.044094054
B62: PP | C62: kton | D62: 0.0012865639 | E62: 0.0012865639
B63: GFRP (fiberglass) | C63: kton | D63: 0.071579738 | E63: 0.071579738
B64: Timber | C64: kton | D64: 0.17263348 | E64: 0.17263348
B65: Copper | C65: kton | D65: 0.19271528 | G65: 0.04079018 | N65: 0.095282495 | S65: 0.056642606
B66: Bronze | C66: kton | D66: 0.0017679954 | G66: 0.0017679954
B67: Zinc | C67: kton | D67: 5.4807858e-05 | G67: 5.4807858e-05
B68: Porcelain | C68: kton | D68: 0.00063142694 | G68: 0.00063142694
B69: Aluminium | C69: kton | D69: 0.086322741 | F69: 0.025503586 | R69: 0.037147847 | S69: 0.018826489 | T69: 0.0048448192
B70: Epoxy | C70: kton | D70: 0
B71: PVC | C71: kton | D71: 0
B72: Stone Wool | C72: kton | D72: 0
B73: Sand (ex. Concrete) | C73: kton | D73: 0
B74: Alkyd | C74: kton | D74: 0
B75: Powder Coating | C75: kton | D75: 0
B76: Glass | C76: kton | D76: 0
B77: Asphalt | C77: kton | D77: 1.9464791 | S77: 1.9464791
A79: Hibernating stock totals | C79: Unit | E79: Mode | F79: Steel | G79: Aggregates | H79: Concrete | I79: Copper | J79: Aluminium | K79: Timber | L79: Plastics | M79: Total
C80: kton | E80: TRAIN | F80: 13.129238 | G80: 264.65482 | H80: 87.836418 | I80: 0.04079018 | J80: 0.025503586 | K80: 0.17263348 | L80: 0.14222379 | M80: 366.00163
A81: per transport mode | C81: kton | E81: METRO | F81: 4.4148883 | G81: 5.5792885 | H81: 59.150727 | I81: 0.095282495 | J81: 0.037147847 | K81: 0 | L81: 0 | M81: 69.277334
A82: With aggregated material categories | C82: kton | E82: LIGHTRAIL | F82: 5.8318572 | G82: 22.843582 | H82: 233.37016 | I82: 0.056642606 | J82: 0.023671308 | K82: 0 | L82: 0 | M82: 262.12591
C83: kton | E83: TRAM | F83: 0 | G83: 0 | H83: 0 | I83: 0 | J83: 0 | K83: 0 | L83: 0 | M83: 0
C84: kton | E84: Total | F84: 23.375984 | G84: 293.07769 | H84: 380.35731 | I84: 0.19271528 | J84: 0.086322741 | K84: 0.17263348 | L84: 0.14222379 | M84: 697.40487
E85: Percentage | F85: 0.033518526 | G85: 0.42024038 | H85: 0.54538951 | I85: 0.000276332 | J85: 0.00012377708 | K85: 0.00024753696 | L85: 0.00020393289 | M85: 1
A87: Network lengths in 2018 | C87: Unit | D87: Totals | E87: Single track | F87: 2 tracks | G87: >2 tracks (appr. 4) | I87: Percentages
A88: Total train/metro/light rail/tram | C88: km | D88: 8458.8518 | E88: 2476.1907 | F88: 5262.2969 | G88: 720.36414 | J88: 1
A89: Train network length in 2018 | C89: km | D89: 7380.9917 | E89: 2299.1027 | F89: 4364.0055 | G89: 717.88355 | I89: 1 | J89: 0.87257608
A90: of which in use | C90: km | D90: 7308.4763 | E90: 2236.3232 | F90: 4354.2696 | G90: 717.88355 | I90: 0.99017538
A91: of which in use for passengers/freight | C91: km | D91: 5941.259 | E91: 1384.1333 | F91: 3894.4299 | G91: 662.69577 | I91: 0.80494048
A92: of which in use for freight only | C92: km | D92: 1206.7383 | E92: 706.75879 | F92: 445.0828 | G92: 54.896719 | I92: 0.16349271
A93: of which in use for museum purposes | C93: km | D93: 156.65789 | E93: 141.60993 | F93: 14.756903 | G93: 0.29105229 | I93: 0.021224504
A94: of which unused (hibernating) | C94: km | D94: 72.51542 | E94: 62.779544 | F94: 9.7358766 | G94: 0 | I94: 0.0098246175
A95: Metro network length in 2018 | C95: km | D95: 218.49685 | E95: 75.36708 | F95: 142.20093 | G95: 0.92884167 | I95: 1 | J95: 0.025830556
A96: of which unused (hibernating) | C96: km | D96: 1.6070278 | E96: 0.78977146 | F96: 0.81725631 | G96: 0 | I96: 0.0073549242
A97: Lightrail network length in 2018 | C97: km | D97: 221.28885 | E97: 15.028292 | F97: 206.26056 | G97: 0 | I97: 1 | J97: 0.026160626
A98: of which unused (hibernating) | C98: km | D98: 41.496415 | E98: 0 | F98: 41.496415 | G98: 0 | I98: 0.18752149 | J98: high number due to conversion of Hoekse Lijn from train to light rail
A99: Tram network length in 2018 | C99: km | D99: 638.59548 | E99: 87.213757 | F99: 549.82997 | G99: 1.5517513 | I99: 1 | J99: 0.075494346
A101: In use for passengers & freight | C101: km | D101: 7147.9973
A102: Resembles 2017 data from the ProRail year report (stating 7146 km total rail tracks) | G102: https://www.prorail.nl/over-prorail/jaarverslagen
C104: Unit | E104: Share
B105: Weight of total stock | C105: kton | D105: 71651.256 | E105: 1
B106: Weight of total hibernating stock | C106: kton | D106: 699.35381 | E106: 0.009760524
B107: Weight of total in-use stock | C107: kton | D107: 70951.902 | E107: 0.99023948
B108: Total stock weight used for passengers | C108: kton | D108: 57674.996 | E108: 0.80494048
...

Sheet 2.3.
F1: Construction materials | N1: Metals | U1: Biobased materials | X1: Other materials | AD1: Critical Raw materials
A2: Category | B2: Product | C2: Unit | D2: Year | E2: Source | F2: Concrete | G2: Brick | H2: Asphalt | I2: Sand, gravel, clay | J2: Gypsum | K2: Stone | L2: Recycled CDW | M2: Other construction materials | N2: Iron and steel | O2: Copper | P2: Aluminium | Q2: Zinc | R2: Lead | S2: Alloying elements (non critical) | T2: Other metals (non critical) | U2: Wood | V2: Other biobased materials | W2: Textile, biobased | X2: Plastics | Y2: Insulation materials | Z2: Other materials | AA2: Glass | AB2: Ceramics | AC2: Textile, unspec. | AD2: Nd | AE2: Dy | AF2: Pr | AG2: In | AH2: Ga | AI2: Ge | AJ2: Ag | AK2: Li | AL2: Tb | AM2: Si | AN2: Pd | AO2: Co | AP2: Au | AQ2: Pt | AR2: Ta | AS2: Mg | AT2: Ti | AU2: Graphite | AV2: Sr | AW2: W | AX2: Y | AY2: La | AZ2: Nb | BA2: V | BB2: Ce | BC2: Hf | BD2: Unspecified CRM | BE2: Total CRM | BG2: Total
A3: Electricity system | B3: Electriticy cables | C3: ton | D3: 2018 | E3: van Oorschot et al., 2022; van Oorschot et al., 2020a | N3: =10422.8803589811+E37 -> 179837.88 | O3: 85729.738 | P3: 339882.68 | R3: =F37 -> 324131.4 | X3: =D37 -> 173467.42 | Z3: =G37 -> 129402.99 | BE3: =SUM(AD3:BD3) -> 0 | BG3: =SUM(F3:BD3) -> 1232452.1
B4: Substations and transformers | F4: 1403741.9 | N4: 570263.12 | O4: 130206.66 | P4: 239703.73 | BE4: =SUM(AD4:BD4) -> 0 | BG4: =SUM(F4:BD4) -> 2343915.4
B5: High voltage masts | F5: 206794.41 | N5: 126051.43 | BE5: =SUM(AD5:BD5) -> 0 | BG5: =SUM(F5:BD5) -> 332845.84
B6: Wind turbines | F6: 2112599.4 | N6: 990065.18 | O6: 18710.587 | P6: 1625.4373 | S6: 854.17549 | U6: 1555.6914 | X6: 1149.8588 | AD6: 91.514655 | AE6: 3.7446497 | AF6: 16.048499 | AL6: 0.72600352 | AM6: 146.98479 | BA6: 19.29509 | BE6: =SUM(AD6:BD6) -> 278.31369 | BG6: =SUM(F6:BD6) -> 3126838.6
B7: Solar panels | F7: 274471.43 | N7: 307028.17 | O7: 20800.141 | P7: 33913.273 | Q7: 8.9983122 | R7: 279.28953 | S7: 460.98773 | X7: 38887.22 | AA7: 209810.12 | AG7: 7.0499684 | AH7: 1.200175 | AI7: 12.848436 | AJ7: 77.173123 | AM7: 15474.776 | BE7: =SUM(AD7:BD7) -> 15573.048 | BG7: =SUM(F7:BD7) -> 901232.67
B8: Gas fired powerplants | F8: 662340 | N8: 294500 | O8: 17575 | P8: 17575 | S8: 345.61 | AO8: 34.2 | BE8: =SUM(AD8:BD8) -> 34.2 | BG8: =SUM(F8:BD8) -> 992369.81
B9: Coal fired power plants | F9: 1169894 | N9: 347044.5 | O9: 6765 | P9: 4510 | S9: 1023.4092 | AO9: 62.9596 | AR9: 2.3001 | AT9: 6.4042 | AW9: 84.5625 | AZ9: 8.0278 | BA9: 11.275 | BE9: =SUM(AD9:BD9) -> 175.5292 | BG9: =SUM(F9:BD9) -> 1529412.4
B10: Nuclear power plants | F10: 181050 | N10: 31212 | O10: 749.7 | P10: 102 | Q10: 2.193 | S10: 386.631 | AG10: 0.816 | AJ10: 4.233 | AT10: 0.765 | AW10: 2.55 | AX10: 0.255 | AZ10: 1.02 | BA10: 0.306 | BE10: =SUM(AD10:BD10) -> 9.945 | BG10: =SUM(F10:BD10) -> 213512.47
B11: Biomass / waste incinerators | F11: 185747.08 | N11: 31174.66 | O11: 46.46 | P11: 236.946 | S11: 210.85406 | AO11: 12.971632 | AR11: 0.473892 | AT11: 1.319464 | AW11: 17.4225 | AZ11: 1.653976 | BA11: 2.323 | BE11: =SUM(AD11:BD11) -> 36.164464 | BG11: =SUM(F11:BD11) -> 217452.16
A14: Additional data on medium and low voltage transmission system, van Oorschot et al., 2020, 2022, including plastics, steel, lead and other materials
A15: Medium voltage cables | D15: PE | E15: PVC | F15: XLPE | G15: Tapes | H15: Rubber | I15: Steel | J15: Lead | K15: Bitumen impregnated jute | L15: Oil impregnated paper
A16: plastics cables | B16: 0.22 | C16: % | D16: 3229684 | E16: =11185+3087163 -> 3098348 | F16: 4914107 | G16: 383813 | H16: 69230
B17: 9833 | C17: km
A18: armoured paper-lead cables | B18: 0.78 | C18: % | I18: 47664225 | J18: 92683870 | K18: 11201890 | L18: 18265001
B19: 34700 | C19: km
A20: Material composition | B20: kg/km | D20: =D16/$B17*$B16 -> 72.259786 | E20: =E16/$B17*$B16 -> 69.321322 | F20: =F16/$B17*$B16 -> 109.94646 | G20: =G16/$B17*$B16 -> 8.5872938 | H20: =H16/$B17*$B16 -> 1.5489271 | I20: =I18/$B19*$B18 -> 1071.4149 | J20: =J18/$B19*$B18 -> 2083.3838 | K20: =K18/$B19*$B18 -> 251.80041 | L20: =L18/$B19*$B18 -> 410.56775
A21: Low voltage cables | D21: PE | E21: PVC | F21: XLPE | G21: Tapes | H21: Rubber | I21: Steel | J21: Lead | K21: Bitumen impregnated jute | L21: Oil impregnated paper
A22: plastics cables | B22: 0.69 | C22: % | E22: =33461016+19065504+2399306 -> 54925826 | F22: 443178 | G22: 51884 | H22: 11478612 | I22: 1536663
B23: 57197 | C23: km
A24: armoured paper-lead cables | B24: 0.31 | C24: % | I24: 18656844 | J24: 37249505 | K24: 5534618 | L24: 4358199
B25: 25363 | C25: km
A26: Material composition | B26: kg/km | E26: =E22/$B23*$B22 -> 662.60153 | F26: =F22/$B23*$B22 -> 5.3463087 | G26: =G22/$B23*$B22 -> 0.62590625 | H26: =H22/$B23*$B22 -> 138.47304 | I26: =I22/$B23*$B22+I24/B25*B24 -> 246.57146 | J26: =J24/$B25*$B24 -> 455.28315 | K26: =K24/$B25*$B24 -> 67.647028 | L26: =L24/$B25*$B24 -> 53.268213
A28: MS 2018 | B28: 107688.29 | C28: km
A29: LS 2018 | B29: 219150.12 | C29: km
A32: Stock calculation kg | D32: PE | E32: PVC | F32: XLPE | G32: Tapes | H32: Rubber | I32: Steel | J32: Lead | K32: Bitumen impregnated jute | L32: Oil impregnated paper
D33: kg | E33: kg | F33: kg | G33: kg | H33: kg | I33: kg | J33: kg | K33: kg | L33: kg
D34: =D20*$B28+D26*$B29 -> 7781533 | E34: =E20*$B28+E26*$B29 -> 1.526743e+08 | F34: =F20*$B28+F26*$B29 -> 13011591 | G34: =G20*$B28+G26*$B29 -> 1061918.4 | H34: =H20*$B28+H26*$B29 -> 30513184 | I34: =I20*$B28+I26*$B29 -> 1.69415e+08 | J34: =J20*$B28+J26*$B29 -> 3.241314e+08 | K34: =K20*$B28+K26*$B29 -> 41940810 | L34: =L20*$B28+L26*$B29 -> 55887075
A35: Stock calculation ton, aggregated | D35: Plastics | E35: Steel | F35: Lead | G35: Other
D36: ton | E36: ton | F36: ton | G36: ton
D37: =(D34+E34+F34)/1000 -> 173467.42 | E37: =I34/1000 -> 169415 | F37: =J34/1000 -> 324131.4 | G37: =(G34+H34+K34+L34)/1000 -> 129402.99

Sheet 2.4.
F1: Construction materials | N1: Metals | U1: Biobased materials | X1: Other materials | AD1: Critical Raw materials
A2: Category | B2: Product | C2: Unit | D2: Year | E2: Source | F2: Concrete | G2: Brick | H2: Asphalt | I2: Sand, gravel, clay | J2: Gypsum | K2: Stone | L2: Recycled CDW | M2: Other construction materials | N2: Iron and steel | O2: Copper | P2: Aluminium | Q2: Zinc | R2: Lead | S2: Alloying elements (non critical) | T2: Other metals (non critical) | U2: Wood | V2: Other biobased materials | W2: Textile, biobased | X2: Plastics | Y2: Insulation materials | Z2: Other materials | AA2: Glass | AB2: Ceramics | AC2: Textile, unspec. | AD2: Nd | AE2: Dy | AF2: Pr | AG2: In | AH2: Ga | AI2: Ge | AJ2: Ag | AK2: Li | AL2: Tb | AM2: Si | AN2: Pd | AO2: Co | AP2: Au | AQ2: Pt | AR2: Ta | AS2: Mg | AT2: Ti | AU2: Graphite | AV2: Sr | AW2: W | AX2: Y | AY2: La | AZ2: Nb | BA2: V | BB2: Ce | BC2: Hf | BD2: Unspecified CRM | BE2: Total CRM | BG2: Total
A3: Heating system | B3: Gas pipes | C3: ton | D3: 2022 | E3: Verhagen et al., 2022a | M3: =E19*1000 -> 1400 | N3: =B19*1000 -> 450300 | X3: =G19*1000 -> 300700
B4: Boilers | N4: =B20*1000 -> 179300 | O4: =C20*1000 -> 54800 | T4: =D20*1000 -> 14200 | X4: =G20*1000 -> 42800
B5: Natural gas production plants | F5: =F21*1000 -> 10300 | N5: =B21*1000 -> 26600
A7: Data from Verhagen et al., 2022
B8: Brass | C8: Bronze | D8: Copper | E8: Cast iron | F8: PE | G8: SPVC + | H8: Steel | I8: Concrete | J8: Cement | K8: Asbestos cement | L8: Total
G9: PVC
B10: kton | C10: kton | D10: kton | E10: kton | F10: kton | G10: kton | H10: kton | I10: kton | J10: kton | K10: kton | L10: kton
A11: Gas infrastructure | B11: 0 | C11: 0 | D11: 0 | E11: 73.8 | F11: 23.7 | G11: 277 | H11: 376.5 | I11: 0 | J11: 0 | K11: 1.4 | L11: 752.5
A12: Boilers | B12: 12.6 | C12: 1.6 | D12: 54.8 | E12: 1.2 | F12: 0 | G12: 42.8 | H12: 178.1 | I12: 0 | J12: 0 | K12: 0 | L12: 291.3
A13: Natural gas production plants | B13: 0 | C13: 0 | D13: 0 | E13: 0 | F13: 0 | G13: 0 | H13: 26.6 | I13: 7.2 | J13: 3.1 | K13: 0 | L13: 36.9
A15: Total | B15: 12.6 | C15: 1.6 | D15: 54.8 | E15: 75 | F15: 23.7 | G15: 319.8 | H15: 581.2 | I15: 7.2 | J15: 3.1 | K15: 1.4 | L15: 1080.7
A18: Aggregated material categories | B18: Iron & steel | C18: Copper | D18: Other metals | E18: Other construction materials | F18: Concrete & cement | G18: Plastics
A19: gas pipes | B19: =E11+H11 -> 450.3 | C19: =D11 -> 0 | D19: =B11+C11 -> 0 | E19: =K11 -> 1.4 | F19: =I11+J11 -> 0 | G19: =F11+G11 -> 300.7
A20: boilers | B20: =E12+H12 -> 179.3 | C20: =D12 -> 54.8 | D20: =B12+C12 -> 14.2 | E20: =K12 -> 0 | F20: =I12+J12 -> 0 | G20: =F12+G12 -> 42.8
A21: Natural gas production plants | B21: =E13+H13 -> 26.6 | C21: =D13 -> 0 | D21: =B13+C13 -> 0 | E21: =K13 -> 0 | F21: =I13+J13 -> 10.3 | G21: =F13+G13 -> 0

Sheet 2.5.
F1: Construction materials | N1: Metals | U1: Biobased materials | X1: Other materials | AD1: Critical Raw materials
A2: Category | B2: Product | C2: Unit | D2: Year | E2: Source | F2: Concrete | G2: Brick | H2: Asphalt | I2: Sand, gravel, clay | J2: Gypsum | K2: Stone | L2: Recycled CDW | M2: Other construction materials | N2: Iron and steel | O2: Copper | P2: Aluminium | Q2: Zinc | R2: Lead | S2: Alloying elements (non critical) | T2: Other metals (non critical) | U2: Wood | V2: Other biobased materials | W2: Textile, biobased | X2: Plastics | Y2: Insulation materials | Z2: Other materials | AA2: Glass | AB2: Ceramics | AC2: Textile, unspec. | AD2: Nd | AE2: Dy | AF2: Pr | AG2: In | AH2: Ga | AI2: Ge | AJ2: Ag | AK2: Li | AL2: Tb | AM2: Si | AN2: Pd | AO2: Co | AP2: Au | AQ2: Pt | AR2: Ta | AS2: Mg | AT2: Ti | AU2: Graphite | AV2: Sr | AW2: W | AX2: Y | AY2: La | AZ2: Nb | BA2: V | BB2: Ce | BC2: Hf | BD2: Unspecified CRM | BE2: Total CRM | BG2: Total
A3: Water infrastructure | B3: Drinking water production plants | C3: ton | D3: 2020 | E3: van der Bent, 2022 | F3: 4884225 | N3: 22706 | X3: 465 | BG3: =SUM(F3:BD3) -> 4907396
B4: Water pipes | F4: 537597 | M4: 276610 | N4: 308604 | X4: 177381 | BG4: =SUM(F4:BD4) -> 1300192
B5: Sewage pipes | F5: 10918635 | M5: =75845 -> 75845 | N5: =29560+84320 -> 113880 | X5: 5656429 | BG5: =SUM(F5:BD5) -> 16764789
B6: Sewage treatment plants | F6: 4200000 | N6: 750000 | X6: 50000 | BG6: =SUM(F6:BD6) -> 5000000
B7: Gully pots | F7: =1050000 -> 1050000 | N7: =245000 -> 245000 | BG7: =SUM(F7:BD7) -> 1295000
B8: Sewage pumps | F8: 1200000 | N8: 130000 | BG8: =SUM(F8:BD8) -> 1330000
B9: Pressurised sewage pipes | F9: 479000 | N9: 240000 | X9: 80000 | BG9: =SUM(F9:BD9) -> 799000
F11: =F6/13000 -> 323.07692
F13: =F9/67 -> 7149.2537

Sheet 2.6.
F1: Construction materials | N1: Metals | U1: Biobased materials | X1: Other materials | AD1: Critical Raw materials
A2: Category | B2: Product | C2: Unit | D2: Year | E2: Source | F2: Concrete | G2: Brick | H2: Asphalt | I2: Sand, gravel, clay | J2: Gypsum | K2: Stone | L2: Recycled CDW | M2: Other construction materials | N2: Iron and steel | O2: Copper | P2: Aluminium | Q2: Zinc | R2: Lead | S2: Alloying elements (non critical) | T2: Other metals (non critical) | U2: Wood | V2: Other biobased materials | W2: Textile, biobased | X2: Plastics | Y2: Insulation materials | Z2: Other materials | AA2: Glass | AB2: Ceramics | AC2: Textile, unspec. | AD2: Nd | AE2: Dy | AF2: Pr | AG2: In | AH2: Ga | AI2: Ge | AJ2: Ag | AK2: Li | AL2: Tb | AM2: Si | AN2: Pd | AO2: Co | AP2: Au | AQ2: Pt | AR2: Ta | AS2: Mg | AT2: Ti | AU2: Graphite | AV2: Sr | AW2: W | AX2: Y | AY2: La | AZ2: Nb | BA2: V | BB2: Ce | BC2: Hf | BD2: Unspecified CRM | BE2: Total CRM | BG2: Total
A3: Vehicles | B3: Aeroplanes | C3: ton | D3: 2017 | E3: van Oorschot et al., 2020a; van der Zaag, 2020 | N3: ='2.6.'!J41 -> 2816.477 | O3: ='2.6.'!K41 -> 2.1485124 | P3: ='2.6.'!L41 -> 13031.181 | Q3: ='2.6.'!BI41 -> 2.1485124 | S3: ='2.6.'!BH41 -> 958.74441 | V3: ='2.6.'!O41 -> 64.590551 | X3: ='2.6.'!Q41 -> 115.34753 | Z3: ='2.6.'!S41 -> 1984.3472 | AO3: ='2.6.'!AH41 -> 31.289614 | AS3: ='2.6.'!AM41 -> 341.42226 | AT3: ='2.6.'!AN41 -> 1423.9373 | AW3: ='2.6.'!AQ41 -> 2.7786143 | BA3: ='2.6.'!AU41 -> 2.0537584 | BC3: ='2.6.'!AW41 -> 0.24161864 | BD3: ='2.6.'!AX41 -> 30.833612 | BE3: =SUM(AD3:BD3) -> 1832.5568 | BG3: =SUM(F3:BD3) -> 20807.542
B4: (Motor)bikes | N4: ='2.6.'!J42 -> 217910.88 | O4: ='2.6.'!K42 -> 1678.0646 | P4: ='2.6.'!L42 -> 213338.35 | Q4: ='2.6.'!BI42 -> 458.02292 | R4: ='2.6.'!BJ42 -> 1011.1228 | S4: ='2.6.'!BH42 -> 296.09225 | T4: ='2.6.'!M42+'2.6.'!BE42 -> 268.50447 | X4: ='2.6.'!Q42 -> 83340.603 | Y4: ='2.6.'!R42 -> 0.013363636 | Z4: ='2.6.'!S42 -> 14933.887 | AA4: ='2.6.'!T42 -> 0.0004348534 | AD4: ='2.6.'!W42 -> 0.10800384 | AJ4: ='2.6.'!AC42 -> 0.00067911215 | AK4: ='2.6.'!BD42 -> 35.151295 | AM4: ='2.6.'!AF42 -> 2.1914723e-05 | AN4: ='2.6.'!AG42 -> 0.023379709 | AP4: ='2.6.'!AI42 -> 0.00056896174 | AQ4: ='2.6.'!AJ42 -> 0.12435625 | AT4: ='2.6.'!AN42 -> 0.002495082 | AU4: ='2.6.'!AO42 -> 699.49111 | BE4: =SUM(AD4:BD4) -> 734.90191 | BG4: =SUM(F4:BD4) -> 533970.45
B5: Ships | N5: ='2.6.'!J43 -> 21506498 | O5: ='2.6.'!K43 -> 907140.11 | P5: ='2.6.'!L43 -> 7916.0775 | V5: ='2.6.'!O43 -> 744520.91 | X5: ='2.6.'!Q43 -> 268984.76 | Z5: ='2.6.'!S43 -> 539400.28 | BG5: =SUM(F5:BD5) -> 23974460
B6: Trains | N6: ='2.6.'!J44 -> 79822.949 | O6: ='2.6.'!K44 -> 8611.0544 | P6: ='2.6.'!L44 -> 21382.351 | R6: ='2.6.'!BJ44 -> 24.582336 | V6: ='2.6.'!O44 -> 41.640421 | X6: ='2.6.'!Q44 -> 36557.134 | Y6: ='2.6.'!R44 -> 2.9910067 | Z6: ='2.6.'!S44 -> 2956.8893 | AA6: ='2.6.'!T44 -> 5817.4091 | BG6: =SUM(F6:BD6) -> 155217
B7: Passenger cars | N7: =J45 -> 6185477.1 | O7: =K45 -> 283889.44 | P7: =L45 -> 791314.05 | Q7: =M45 -> 0 | R7: =N45 -> 0 | S7: =O45 -> 90931.845 | T7: =P45 -> 0 | U7: =Q45 -> 994979.16 | ... BD7: =AZ45 -> 0 | BE7: =SUM(AD7:BD7) -> 56698.405 | BG7: =SUM(F7:BD7) -> 9057426.7
B8: Lorries, trucks and vans | N8: =J46 -> 1447544 | O8: =K46 -> 44497.979 | P8: =L46 -> 141267.49 | Q8: =M46 -> 1683.2625 | R8: =N46 -> 0 | S8: =O46 -> 14248.159 | T8: =P46 -> 0 | U8: =Q46 -> 178144.51 | ... BD8: =AZ46 -> 0 | BE8: =SUM(AD8:BD8) -> 249.10609 | BG8: =SUM(F8:BD8) -> 1965398.5
B9: Buses | N9: ='2.6.'!J47 -> 72249.123 | O9: ='2.6.'!K47 -> 1160.7055 | P9: ='2.6.'!L47 -> 17783.285 | Q9: ='2.6.'!BI47 -> 0 | R9: ='2.6.'!BJ47 -> 958.38065 | S9: ='2.6.'!BH47 -> 0 | T9: ='2.6.'!M47+'2.6.'!BE47 -> 31.946022 | V9: ='2.6.'!O47 -> 0 | X9: ='2.6.'!Q47 -> 6740.6106 | Y9: ='2.6.'!R47 -> 4216.8749 | Z9: ='2.6.'!S47 -> 4632.1731 | AA9: ='2.6.'!T47 -> 5217.8502 | AJ9: ='2.6.'!AC47 -> 0 | AK9: ='2.6.'!BD47 -> 0 | AM9: ='2.6.'!AF47 -> 0 | AN9: ='2.6.'!AG47 -> 0 | AP9: ='2.6.'!AI47 -> 0 | AQ9: ='2.6.'!AJ47 -> 0 | AS9: ='2.6.'!AM47 -> 0 | AT9: ='2.6.'!AN47 -> 0 | BE9: =SUM(AD9:BD9) -> 0 | BG9: =SUM(F9:BD9) -> 112990.95
A11: Achtergrondgegevens uit van der Zaag, 2019
A12: Vehicle category | B12: Concrete | C12: Brick | D12: Asphalt | E12: Sand, gravel, clay | F12: Gypsum | G12: Chalk stone | H12: Recycling granulate & industrial residuals | I12: Other construction materials | J12: Iron and steel | K12: Copper | L12: Aluminium | M12: Other metals | N12: Wood | O12: Other biobased materials | P12: Textile, biobased | Q12: Plastics | R12: Insulation material nec | S12: Other materials | T12: Glass | U12: Ceramics | V12: Textile, unspecified | W12: Nd | X12: Dy | Y12: Pr | Z12: In | AA12: Ga | AB12: Ge | AC12: Ag | AD12: Li | AE12: Tb | AF12: Si | AG12: Pd | AH12: Co | AI12: Au | AJ12: Pt | AK12: Ce | AL12: Ta | AM12: Mg | AN12: Ti | AO12: Graphite | AP12: Sr | AQ12: W | AR12: Y | AS12: La | AT12: Nb | AU12: V | AV12: Ce | AW12: Hf | AX12: Unspecified CRM | AY12: LiMn2O4 | AZ12: LiPF6 | BB12: Li in LiMn2O4 | BC12: Li in LiPF6 | BD12: Li | BE12: Mn | BF12: Alloying elements | BH12: Alloying elements | BI12: Zn | BJ12: Pb
B13: ton | C13: ton | D13: ton | E13: ton | F13: ton | G13: ton | H13: ton | I13: ton | J13: ton | K13: ton | L13: ton | M13: ton | N13: ton | O13: ton | P13: ton | Q13: ton | R13: ton | S13: ton | T13: ton | U13: ton | V13: ton | W13: ton | X13: ton | Y13: ton | Z13: ton | AA13: ton | AB13: ton | AC13: ton | AD13: ton | AE13: ton | AF13: ton | AG13: ton | AH13: ton | AI13: ton | AJ13: ton | AK13: ton | AL13: ton | AM13: ton | AN13: ton | AO13: ton | AP13: ton | AQ13: ton | AR13: ton | AS13: ton | AT13: ton | AU13: ton | AV13: ton | AW13: ton | AX13: ton | AY13: ton | AZ13: ton | BA13: ton | BB13: ton | BC13: ton | BD13: ton | BE13: ton | BF13: ton | BG13: ton | BH13: ton | BI13: ton | BJ13: ton
A14: bicycle | J14: 148025.1 | K14: 0 | L14: 171745.61 | M14: 0 | O14: 0 | Q14: 45388.282 | R14: 0 | S14: 12841.006 | T14: 0 | U14: 0 | V14: 0 | W14: 0 | AC14: 0 | AF14: 0 | AG14: 0 | AH14: 0 | AI14: 0 | AJ14: 0 | AM14: 0 | AN14: 0 | AO14: 0 | AQ14: 0 | AU14: 0 | AW14: 0 | AX14: 0 | AY14: 0 | AZ14: 0 | BB14: =6.94/180.8*AY14 -> 0 | BC14: =6.94/151.9*AZ14 -> 0 | BD14: =BB14+BC14 -> 0 | BE14: =54.938/180.8*AY14 -> 0 | BF14: 0 | BH14: 0 | BI14: 0 | BJ14: 0
A15: ebicycle | J15: 10456.967 | K15: 891.35558 | L15: 24153.683 | M15: 0 | O15: 0 | Q15: 3965.4349 | R15: 0 | S15: 1545.9603 | T15: 0 | U15: 0 | V15: 0 | W15: 0 | AC15: 0 | AF15: 0 | AG15: 0 | AH15: 0 | AI15: 0 | AJ15: 0 | AM15: 0 | AN15: 0 | AO15: 699.49111 | AQ15: 0 | AU15: 0 | AW15: 0 | AX15: 0 | AY15: 882.15175 | AZ15: 26.903504 | BB15: =6.94/180.8*AY15 -> 33.861356 | BC15: =6.94/151.9*AZ15 -> 1.229166 | BD15: =BB15+BC15 -> 35.090522 | BE15: =54.938/180.8*AY15 -> 268.05118 | BF15: 0 | BH15: 0 | BI15: 0 | BJ15: 0
A16: moped | J16: 59412.069 | K16: 785.65255 | L16: 17433.119 | M16: 0 | O16: 0 | Q16: 33978.311 | R16: 0 | S16: 545.65662 | T16: 0 | U16: 0 | V16: 0 | W16: 0 | AC16: 0 | AF16: 0 | AG16: 0.023360379 | AH16: 0 | AI16: 0 | AJ16: 0.12435625 | AM16: 0 | AN16: 0 | AO16: 0 | AQ16: 0 | AU16: 0 | AW16: 0 | AX16: 0 | AY16: 0 | AZ16: 0 | BB16: =6.94/180.8*AY16 -> 0 | BC16: =6.94/151.9*AZ16 -> 0 | BD16: =BB16+BC16 -> 0 | BE16: =54.938/180.8*AY16 -> 0 | BF16: 1765.0452 | BH16: 296.01436 | BI16: 457.90992 | BJ16: 1011.1209
A17: emoped | J17: 16.746049 | K17: 1.0564316 | L17: 5.9402419 | M17: 0.0012005518 | O17: 0 | Q17: 8.5750431 | R17: 0.013363636 | S17: 1.2637345 | T17: 0.0004348534 | U17: 0 | V17: 0 | W17: 0.10800384 | AC17: 0.00067911215 | AF17: 2.1914723e-05 | AG17: 1.9329621e-05 | AH17: 0 | AI17: 0.00056896174 | AJ17: 0 | AM17: 0 | AN17: 0.002495082 | AO17: 0 | AQ17: 0 | AU17: 0 | AW17: 0 | AX17: 0 | AY17: 1.4878182 | AZ17: 0.080181818 | BB17: =6.94/180.8*AY17 -> 0.057109835 | BC17: =6.94/151.9*AZ17 -> 0.0036633431 | BD17: =BB17+BC17 -> 0.060773178 | BE17: =54.938/180.8*AY17 -> 0.45208935 | BF17: 0.19284217 | BH17: 0.077897406 | BI17: 0.11299941 | BJ17: 0.0019453558
A18: bus | J18: 72249.123 | K18: 1160.7055 | L18: 17783.285 | M18: 31.946022 | O18: 0 | Q18: 6740.6106 | R18: 4216.8749 | S18: 4632.1731 | T18: 5217.8502 | U18: 0 | V18: 0 | W18: 0 | AC18: 0 | AF18: 0 | AG18: 0 | AH18: 0 | AI18: 0 | AJ18: 0 | AM18: 0 | AN18: 0 | AO18: 0 | AQ18: 0 | AU18: 0 | AW18: 0 | AX18: 0 | AY18: 0 | AZ18: 0 | BB18: =6.94/180.8*AY18 -> 0 | BC18: =6.94/151.9*AZ18 -> 0 | BD18: =BB18+BC18 -> 0 | BE18: =54.938/180.8*AY18 -> 0 | BF18: 958.38065 | BH18: 0 | BI18: 0 | BJ18: 958.38065
A19: ptrain | J19: 74830.771 | K19: 7974.5308 | L19: 20863.598 | M19: 0 | O19: 0 | Q19: 35931.752 | R19: 0 | S19: 2920.9037 | T19: 5795.4439 | U19: 0 | V19: 0 | W19: 0 | AC19: 0 | AF19: 0 | AG19: 0 | AH19: 0 | AI19: 0 | AJ19: 0 | AM19: 0 | AN19: 0 | AO19: 0 | AQ19: 0 | AU19: 0 | AW19: 0 | AX19: 0 | AY19: 0 | AZ19: 0 | BB19: =6.94/180.8*AY19 -> 0 | BC19: =6.94/151.9*AZ19 -> 0 | BD19: =BB19+BC19 -> 0 | BE19: =54.938/180.8*AY19 -> 0 | BF19: 0 | BH19: 0 | BI19: 0 | BJ19: 0
A20: ev | J20: 208765.47 | K20: 32328.027 | L20: 51585.121 | M20: 0 | O20: 5373.1418 | Q20: 51535.255 | R20: 495.74713 | S20: 53625.013 | T20: 10712.918 | U20: 0 | V20: 0 | W20: 0 | AC20: 0 | AF20: 0 | AG20: 0 | AH20: 0 | AI20: 0 | AJ20: 0 | AM20: 64.303959 | AN20: 0 | AO20: 0 | AQ20: 0 | AU20: 0 | AW20: 0 | AX20: 0 | AY20: 55193.18 | AZ20: 0 | BB20: =6.94/180.8*AY20 -> 2118.5878 | BC20: =6.94/151.9*AZ20 -> 0 | BD20: =BB20+BC20 -> 2118.5878 | BE20: =54.938/180.8*AY20 -> 16771.034 | BF20: 1868.4547 | BH20: 0 | BI20: 26.692209 | BJ20: 1841.7625
A21: evan | J21: 0 | K21: 0 | L21: 0 | M21: 0 | O21: 0 | Q21: 0 | R21: 0 | S21: 0 | T21: 0 | U21: 0 | V21: 0 | W21: 0 | AC21: 0 | AF21: 0 | AG21: 0 | AH21: 0 | AI21: 0 | AJ21: 0 | AM21: 0 | AN21: 0 | AO21: 0 | AQ21: 0 | AU21: 0 | AW21: 0 | AX21: 0 | AY21: 0 | AZ21: 0 | BB21: =6.94/180.8*AY21 -> 0 | BC21: =6.94/151.9*AZ21 -> 0 | BD21: =BB21+BC21 -> 0 | BE21: =54.938/180.8*AY21 -> 0 | BF21: 0 | BH21: 0 | BI21: 0 | BJ21: 0
A22: icev | J22: 5976711.6 | K22: 251561.42 | L22: 739728.93 | M22: 0 | O22: 85558.703 | Q22: 943443.91 | R22: 0 | S22: 355791.13 | T22: 233511.89 | U22: 0 | V22: 0 | W22: 0 | AC22: 0 | AF22: 0 | AG22: 0 | AH22: 0 | AI22: 0 | AJ22: 39.272587 | AM22: 1401.6479 | AN22: 0 | AO22: 0 | AQ22: 0 | AU22: 0 | AW22: 0 | AX22: 0 | AY22: 0 | AZ22: 0 | BB22: =6.94/180.8*AY22 -> 0 | BC22: =6.94/151.9*AZ22 -> 0 | BD22: =BB22+BC22 -> 0 | BE22: =54.938/180.8*AY22 -> 0 | BF22: 66274.144 | BH22: 0 | BI22: 581.81611 | BJ22: 65692.328
A23: icevan | J23: 995306.57 | K23: 41892.724 | L23: 123187.65 | M23: 0 | O23: 14248.159 | Q23: 157112.47 | R23: 0 | S23: 59250.181 | T23: 38886.923 | U23: 0 | V23: 0 | W23: 0 | AC23: 0 | AF23: 0 | AG23: 0 | AH23: 0 | AI23: 0 | AJ23: 6.5400954 | AM23: 233.41755 | AN23: 0 | AO23: 0 | AQ23: 0 | AU23: 0 | AW23: 0 | AX23: 0 | AY23: 0 | AZ23: 0 | BB23: =6.94/180.8*AY23 -> 0 | BC23: =6.94/151.9*AZ23 -> 0 | BD23: =BB23+BC23 -> 0 | BE23: =54.938/180.8*AY23 -> 0 | BF23: 11036.686 | BH23: 0 | BI23: 96.890302 | BJ23: 10939.796
A24: hev | J24: 200483.37 | K24: 12547.048 | L24: 20212.19 | M24: 0 | O24: 3142.2857 | Q24: 30436.667 | R24: 15.619048 | S24: 11769.143 | T24: 8409.2381 | U24: 0 | V24: 0 | W24: 0 | AC24: 0 | AF24: 0 | AG24: 0 | AH24: 0 | AI24: 0 | AJ24: 0.91428571 | AM24: 50.47619 | AN24: 0 | AO24: 0 | AQ24: 0 | AU24: 0 | AW24: 0 | AX24: 0 | AY24: 1054.2857 | AZ24: 0 | BB24: =6.94/180.8*AY24 -> 40.46871 | BC24: =6.94/151.9*AZ24 -> 0 | BD24: =BB24+BC24 -> 40.46871 | BE24: =54.938/180.8*AY24 -> 320.35591 | BF24: 1466.6667 | BH24: 0 | BI24: 20.952381 | BJ24: 1445.7143
A25: A330 | J25: 2244.6926 | K25: 2.1485124 | L25: 10051.85 | M25: 0 | O25: 0 | Q25: 0 | R25: 0 | S25: 1911.1591 | T25: 0 | U25: 0 | V25: 0 | W25: 0 | AC25: 0 | AF25: 0 | AG25: 0 | AH25: 22.905714 | AI25: 0 | AJ25: 0 | AM25: 279.82164 | AN25: 1277.5612 | AO25: 0 | AQ25: 2.0340981 | AU25: 1.5034638 | AW25: 0.1768781 | AX25: 30.833612 | AY25: 0 | AZ25: 0 | BB25: =6.94/180.8*AY25 -> 0 | BC25: =6.94/151.9*AZ25 -> 0 | BD25: =BB25+BC25 -> 0 | BE25: =54.938/180.8*AY25 -> 0 | BF25: 862.00175 | BH25: 859.85323 | BI25: 2.1485124 | BJ25: 0
... A39: ftrain | J39: 0 | K39: 0 | L39: 0 | M39: 0 | O39: 0 | Q39: 0 | R39: 0 | S39: 0 | T39: 0 | U39: 0 | V39: 0 | W39: 0 | AC39: 0 | AF39: 0 | AG39: 0 | AH39: 0 | AI39: 0 | AJ39: 0 | AM39: 0 | AN39: 0 | AO39: 0 | AQ39: 0 | AU39: 0 | AW39: 0 | AX39: 0 | AY39: 0 | AZ39: 0 | BB39: =6.94/180.8*AY39 -> 0 | BC39: =6.94/151.9*AZ39 -> 0 | BD39: =BB39+BC39 -> 0 | BE39: =54.938/180.8*AY39 -> 0 | BF39: 0 | BH39: 0 | BI39: 0 | BJ39: 0
BB40: =6.94/180.8*AY40 -> 0 | BC40: =6.94/151.9*AZ40 -> 0 | BD40: =BB40+BC40 -> 0 | BE40: =54.938/180.8*AY40 -> 0
A41: Aeroplanes | J41: =SUM(J25:J29) -> 2816.477 | K41: =SUM(K25:K29) -> 2.1485124 | L41: =SUM(L25:L29) -> 13031.181 | M41: =SUM(M25:M29) -> 0 | N41: =SUM(N25:N29) -> 0 | O41: =SUM(O25:O29) -> 64.590551 | P41: =SUM(P25:P29) -> 0 | Q41: =SUM(Q25:Q29) -> 115.34753 | ... AX41: =SUM(AX25:AX29) -> 30.833612 | BD41: =SUM(BD25:BD29) -> 0 | BE41: =SUM(BE25:BE29) -> 0 | BF41: =SUM(BF25:BF29) -> 960.89292 | BH41: =SUM(BH25:BH29) -> 958.74441 | BI41: =SUM(BI25:BI29) -> 2.1485124 | BJ41: =SUM(BJ25:BJ29) -> 0
A42: (motor) bikes | J42: =SUM(J14:J17) -> 217910.88 | K42: =SUM(K14:K17) -> 1678.0646 | L42: =SUM(L14:L17) -> 213338.35 | M42: =SUM(M14:M17) -> 0.0012005518 | N42: =SUM(N14:N17) -> 0 | O42: =SUM(O14:O17) -> 0 | P42: =SUM(P14:P17) -> 0 | Q42: =SUM(Q14:Q17) -> 83340.603 | ... AX42: =SUM(AX14:AX17) -> 0 | BD42: =SUM(BD14:BD17) -> 35.151295 | BE42: =SUM(BE14:BE17) -> 268.50327 | BF42: =SUM(BF14:BF17) -> 1765.238 | BH42: =SUM(BH14:BH17) -> 296.09225 | BI42: =SUM(BI14:BI17) -> 458.02292 | BJ42: =SUM(BJ14:BJ17) -> 1011.1228
A43: Ships | J43: =SUM(J30:J33) -> 21506498 | K43: =SUM(K30:K33) -> 907140.11 | L43: =SUM(L30:L33) -> 7916.0775 | M43: =SUM(M30:M33) -> 0 | N43: =SUM(N30:N33) -> 0 | O43: =SUM(O30:O33) -> 744520.91 | P43: =SUM(P30:P33) -> 0 | Q43: =SUM(Q30:Q33) -> 268984.76 | ... AX43: =SUM(AX30:AX33) -> 0 | BD43: =SUM(BD30:BD33) -> 0 | BE43: =SUM(BE30:BE33) -> 0 | BF43: =SUM(BF30:BF33) -> 0 | BH43: =SUM(BH30:BH33) -> 0 | BI43: =SUM(BI30:BI33) -> 0 | BJ43: =SUM(BJ30:BJ33) -> 0
A44: Trains | J44: =SUM(J19+J37) -> 79822.949 | K44: =SUM(K19+K37) -> 8611.0544 | L44: =SUM(L19+L37) -> 21382.351 | M44: =SUM(M19+M37) -> 0 | N44: =SUM(N19+N37) -> 0 | O44: =SUM(O19+O37) -> 41.640421 | P44: =SUM(P19+P37) -> 0 | Q44: =SUM(Q19+Q37) -> 36557.134 | ... AX44: =SUM(AX19+AX37) -> 0 | BD44: =SUM(BD19+BD37) -> 0 | BE44: =SUM(BE19+BE37) -> 0 | BF44: =SUM(BF19+BF37) -> 24.582336 | BH44: =SUM(BH19+BH37) -> 0 | BI44: =SUM(BI19+BI37) -> 0 | BJ44: =SUM(BJ19+BJ37) -> 24.582336
A45: Passenger cars | J45: =J20+J22 -> 6185477.1 | K45: =K20+K22 -> 283889.44 | L45: =L20+L22 -> 791314.05 | M45: =M20+M22 -> 0 | N45: =N20+N22 -> 0 | O45: =O20+O22 -> 90931.845 | P45: =P20+P22 -> 0 | Q45: =Q20+Q22 -> 994979.16 | ... BJ45: =BJ20+BJ22 -> 67534.09
A46: Lorries, vans and trucks | J46: =J21+J23+J34+J35+J36 -> 1447544 | K46: =K21+K23+K34+K35+K36 -> 44497.979 | L46: =L21+L23+L34+L35+L36 -> 141267.49 | M46: =M21+M23+M34+M35+M36 -> 1683.2625 | N46: =N21+N23+N34+N35+N36 -> 0 | O46: =O21+O23+O34+O35+O36 -> 14248.159 | P46: =P21+P23+P34+P35+P36 -> 0 | Q46: =Q21+Q23+Q34+Q35+Q36 -> 178144.51 | ... BJ46: =BJ21+BJ23+BJ34+BJ35+BJ36 -> 16126.86
A47: Buses | J47: =J18 -> 72249.123 | K47: =K18 -> 1160.7055 | L47: =L18 -> 17783.285 | M47: =M18 -> 31.946022 | N47: =N18 -> 0 | O47: =O18 -> 0 | P47: =P18 -> 0 | Q47: =Q18 -> 6740.6106 | ... BJ47: =BJ18 -> 958.38065

Sheet 2.7.
F1: Construction materials | N1: Metals | U1: Biobased materials | X1: Other materials | AD1: Critical Raw materials
A2: Category | B2: Product | C2: Unit | D2: Year | E2: Source | F2: Concrete | G2: Brick | H2: Asphalt | I2: Sand, gravel, clay | J2: Gypsum | K2: Stone | L2: Recycled CDW | M2: Other construction materials | N2: Iron and steel | O2: Copper | P2: Aluminium | Q2: Zinc | R2: Lead | S2: Alloying elements (non critical) | T2: Other metals (non critical) | U2: Wood | V2: Other biobased materials | W2: Textile, biobased | X2: Plastics | Y2: Insulation materials | Z2: Other materials | AA2: Glass | AB2: Ceramics | AC2: Textile, unspec. | AD2: Nd | AE2: Dy | AF2: Pr | AG2: In | AH2: Ga | AI2: Ge | AJ2: Ag | AK2: Li | AL2: Tb | AM2: Si | AN2: Pd | AO2: Co | AP2: Au | AQ2: Pt | AR2: Ta | AS2: Mg | AT2: Ti | AU2: Graphite | AV2: Sr | AW2: W | AX2: Y | AY2: La | AZ2: Nb | BA2: V | BB2: Ce | BC2: Hf | BD2: Unspecified CRM | BE2: Total CRM | BG2: Total
A3: Consumer electronics | B3: Temperature control equipment | C3: ton | D3: 2017 | E3: van Oorschot et al., 2020a | N3: ='2.7.'!AD12 -> 347055 | O3: ='2.7.'!AB12 -> 26575 | P3: ='2.7.'!T12 -> 29704 | S3: ='2.7.'!AL12+'2.7.'!AH12+'2.7.'!AA12+'2.7.'!AI12+'2.7.'!AP12+'2.7.'!AK12+'2.7.'!X12 -> 20284 | X3: ='2.7.'!N12 -> 211075 | AO3: ='2.7.'!Z12 -> 7 | AS3: ='2.7.'!AG12 -> 755 | AV3: ='2.7.'!AP12 -> 64 | AW3: ='2.7.'!AS12 -> 43 | BE3: =SUM(AD3:BD3) -> 869 | BG3: =SUM(F3:BD3) -> 635562
B4: Screens, monitors | N4: ='2.7.'!AD13 -> 128353 | O4: ='2.7.'!AB13 -> 15023 | P4: ='2.7.'!T13 -> 28533 | S4: ='2.7.'!AL13+'2.7.'!AH13+'2.7.'!AA13+'2.7.'!AI13+'2.7.'!AP13+'2.7.'!AK13+'2.7.'!X13 -> 3895 | X4: ='2.7.'!N13 -> 101672 | AA4: ='2.7.'!L13 -> 777 | AD4: ='2.7.'!AJ13 -> 20 | AE4: ='2.7.'!AC13 -> 1 | AF4: ='2.7.'!AN13 -> 3 | AG4: ='2.7.'!AF13 -> 9 | AH4: ='2.7.'!AE13 -> 1 | AJ4: ='2.7.'!S13 -> 32 | AM4: ='2.7.'!AO13 -> 27238 | AN4: ='2.7.'!AM13 -> 1 | AO4: ='2.7.'!Z13 -> 45 | AP4: ='2.7.'!V13 -> 7 | AR4: ='2.7.'!AR13 -> 11 | AS4: ='2.7.'!AG13 -> 4931 | AV4: ='2.7.'!AP13 -> 482 | AW4: ='2.7.'!AS13 -> 10 | AX4: ='2.7.'!AT13 -> 1 | BB4: ='2.7.'!Y13 -> 3 | BE4: =SUM(AD4:BD4) -> 32795 | BG4: =SUM(F4:BD4) -> 311048
B5: Lamps | N5: ='2.7.'!AD14 -> 28 | O5: ='2.7.'!AB14 -> 40 | P5: ='2.7.'!T14 -> 264 | S5: ='2.7.'!AL14+'2.7.'!AH14+'2.7.'!AA14+'2.7.'!AI14+'2.7.'!AP14+'2.7.'!AK14+'2.7.'!X14 -> 27 | X5: ='2.7.'!N14 -> 265 | AA5: ='2.7.'!L14 -> 706 | AO5: ='2.7.'!Z14 -> 17 | AS5: ='2.7.'!AG14 -> 7 | AW5: ='2.7.'!AS14 -> 6 | AX5: ='2.7.'!AT14 -> 2 | BE5: =SUM(AD5:BD5) -> 32 | BG5: =SUM(F5:BD5) -> 1362
B6: Large equipment | N6: ='2.7.'!AD15 -> 31432 | O6: ='2.7.'!AB15 -> 1071 | P6: ='2.7.'!T15 -> 1957 | S6: ='2.7.'!AL15+'2.7.'!AH15+'2.7.'!AA15+'2.7.'!AI15+'2.7.'!AP15+'2.7.'!AK15+'2.7.'!X15 -> 2035 | X6: ='2.7.'!N15 -> 6976 | AA6: ='2.7.'!L15 -> 465 | AD6: ='2.7.'!AJ15 -> 12 | AE6: ='2.7.'!AC15 -> 1 | AS6: ='2.7.'!AG15 -> 49 | AV6: ='2.7.'!AP15 -> 4 | AW6: ='2.7.'!AS15 -> 5 | BE6: =SUM(AD6:BD6) -> 71 | BG6: =SUM(F6:BD6) -> 44007
B7: Small equipment | N7: ='2.7.'!AD16 -> 48507 | O7: ='2.7.'!AB16 -> 6191 | P7: ='2.7.'!T16 -> 8837 | S7: ='2.7.'!AL16+'2.7.'!AH16+'2.7.'!AA16+'2.7.'!AI16+'2.7.'!AP16+'2.7.'!AK16+'2.7.'!X16 -> 926 | X7: ='2.7.'!N16 -> 26501 | AA7: ='2.7.'!L16 -> 3221 | AJ7: ='2.7.'!S16 -> 1 | AO7: ='2.7.'!Z16 -> 1 | AS7: ='2.7.'!AG16 -> 204 | AW7: ='2.7.'!AS16 -> 88 | BE7: =SUM(AD7:BD7) -> 294 | BG7: =SUM(F7:BD7) -> 94477
B8: Small IT and telecom equipment | N8: ='2.7.'!AD17 -> 17554 | O8: ='2.7.'!AB17 -> 931 | P8: ='2.7.'!T17 -> 1248 | S8: ='2.7.'!AL17+'2.7.'!AH17+'2.7.'!AA17+'2.7.'!AI17+'2.7.'!AP17+'2.7.'!AK17+'2.7.'!X17 -> 395 | X8: ='2.7.'!N17 -> 17386 | AA8: ='2.7.'!L17 -> 1167 | AD8: ='2.7.'!AJ17 -> 7 | AE8: ='2.7.'!AC17 -> 1 | AF8: ='2.7.'!AN17 -> 1 | AJ8: ='2.7.'!S17 -> 2 | AO8: ='2.7.'!Z17 -> 9 | AS8: ='2.7.'!AG17 -> 20 | AV8: ='2.7.'!AP17 -> 76 | AW8: ='2.7.'!AS17 -> 2 | BE8: =SUM(AD8:BD8) -> 118 | BG8: =SUM(F8:BD8) -> 38799
A10: Backgroundinformation from van Oorschot et al., 2020a
A11: Totals (2017) per material | C11: Material | D11: Alloyed tungsten | E11: Alloyed zinc | F11: Alloyed aluminium | G11: Brass | H11: Bronze | I11: Cast iron | J11: Alloyed copper | K11: Alloyed chromium | L11: Glass | M11: Alloyed nickel | N11: Plastics | O11: Stainless steel | P11: Total materials | Q11: Total product | R11: Totals (2017) per element | S11: Ag | T11: Al | U11: As | V11: Au | W11: Bi | X11: Cd | Y11: Ce | Z11: Co | AA11: Cr | AB11: Cu | AC11: Dy | AD11: Fe | AE11: Ga | AF11: In | AG11: Mg | AH11: Mn | AI11: Mo | AJ11: Nd | AK11: Ni | AL11: Pb | AM11: Pd | AN11: Pr | AO11: Si | AP11: Sn | AQ11: Sr | AR11: Ta | AS11: W | AT11: Y | AU11: Zn | AV11: Zr | AW11: Total elements | AX11: Total product
B12: Temperature control equipment | C12: Weight (ton) | D12: 14 | E12: 3481 | F12: 30423 | G12: 128 | H12: 98 | I12: 70767 | J12: 26151 | M12: 5 | N12: 211075 | O12: 202987 | P12: 545129 | Q12: 844695 | S12: 0 | T12: 29704 | U12: 0 | V12: 0 | X12: 0 | Y12: 0 | Z12: 7 | AB12: 26575 | AC12: 0 | AD12: 347055 | AE12: 0 | AF12: 0 | AG12: 755 | AH12: 3961 | AI12: 0 | AJ12: 0 | AK12: 16245 | AL12: 14 | AM12: 0 | AN12: 0 | AP12: 64 | AQ12: 160 | AR12: 0 | AS12: 43 | AT12: 0 | AU12: 341 | AW12: 427992 | AX12: 844695
B13: Screens, monitors | D13: 0 | E13: 626 | F13: 22074 | G13: 751 | H13: 15 | I13: 0 | J13: 1127 | L13: 777 | M13: 91 | N13: 101672 | O13: 293 | P13: 137056 | Q13: 524392 | S13: 32 | T13: 28533 | U13: 8 | V13: 7 | W13: 9 | X13: 1 | Y13: 3 | Z13: 45 | AB13: 15023 | AC13: 1 | AD13: 128353 | AE13: 1 | AF13: 9 | AG13: 4931 | AH13: 1455 | AI13: 1 | AJ13: 20 | AK13: 437 | AL13: 1519 | AM13: 1 | AN13: 3 | AO13: 27238 | AP13: 482 | AQ13: 3835 | AR13: 11 | AS13: 10 | AT13: 1 | AU13: 1568 | AV13: 728 | AW13: 227939 | AX13: 524392
B14: Lamps | F14: 267 | I14: 2 | L14: 706 | N14: 265 | O14: 24 | P14: 1264 | Q14: 38384 | T14: 264 | V14: 0 | Y14: 0 | Z14: 17 | AA14: 14 | AB14: 40 | AC14: 0 | AD14: 28 | AE14: 0 | AF14: 0 | AG14: 7 | AH14: 1 | AJ14: 0 | AK14: 12 | AM14: 0 | AN14: 0 | AP14: 0 | AQ14: 0 | AR14: 0 | AS14: 6 | AT14: 2 | AU14: 0 | AW14: 392 | AX14: 38384
B15: Large equipment | D15: 5 | E15: 42 | F15: 1982 | G15: 212 | H15: 14 | I15: 189 | J15: 710 | K15: 206 | L15: 465 | M15: 20 | N15: 6976 | O15: 5635 | P15: 22342 | Q15: 1559854 | T15: 1957 | U15: 0 | V15: 0 | X15: 0 | Y15: 0 | Z15: 0 | AA15: 1224 | AB15: 1071 | AC15: 1 | AD15: 31432 | AE15: 0 | AF15: 0 | AG15: 49 | AH15: 333 | AI15: 0 | AJ15: 12 | AK15: 471 | AL15: 3 | AM15: 0 | AN15: 0 | AP15: 4 | AR15: 0 | AS15: 5 | AT15: 0 | AU15: 104 | AW15: 36667 | AX15: 1559854
B16: Small equipment | D16: 79 | E16: 447 | F16: 8146 | G16: 684 | H16: 630 | I16: 232 | J16: 3226 | L16: 3221 | M16: 49 | N16: 26501 | O16: 4312 | P16: 47527 | Q16: 2088342 | S16: 1 | T16: 8837 | U16: 0 | V16: 0 | X16: 0 | Y16: 0 | Z16: 1 | AB16: 6191 | AC16: 0 | AD16: 48507 | AE16: 0 | AF16: 0 | AG16: 204 | AH16: 511 | AI16: 0 | AJ16: 0 | AK16: 395 | AL16: 20 | AM16: 0 | AN16: 0 | AQ16: 46 | AR16: 0 | AS16: 88 | AT16: 0 | AU16: 755 | AW16: 65557 | AX16: 2088342
B17: Small IT and telecom equipment | D17: 1 | E17: 26 | F17: 697 | G17: 34 | H17: 24 | I17: 16 | J17: 158 | L17: 1167 | M17: 27 | N17: 17386 | O17: 428 | P17: 19965 | Q17: 705533 | S17: 2 | T17: 1248 | U17: 0 | V17: 0 | W17: 0 | X17: 0 | Y17: 0 | Z17: 9 | AB17: 931 | AC17: 1 | AD17: 17554 | AE17: 0 | AF17: 0 | AG17: 20 | AH17: 178 | AI17: 0 | AJ17: 7 | AK17: 103 | AL17: 38 | AM17: 0 | AN17: 1 | AP17: 76 | AR17: 0 | AS17: 2 | AT17: 0 | AU17: 80 | AV17: 0 | AW17: 20252 | AX17: 705533
B18: Totaal | D18: 99 | E18: 4622 | F18: 63589 | G18: 181 | H18: 780 | I18: 72909 | J18: 31372 | K18: 206 | L18: 17515 | M18: 192 | N18: 363874 | O18: 216316 | P18: 773283 | Q18: 5761199 | S18: 35 | T18: 70542 | U18: 8 | V18: 8 | W18: 9 | X18: 1 | Y18: 4 | Z18: 79 | AA18: 1238 | AB18: 4983 | AC18: 3 | AD18: 572929 | AE18: 1 | AF18: 9 | AG18: 5966 | AH18: 644 | AI18: 2 | AJ18: 38 | AK18: 17663 | AL18: 15265 | AM18: 2 | AN18: 5 | AO18: 27238 | AP18: 626 | AQ18: 4041 | AR18: 12 | AS18: 153 | AT18: 4 | AU18: 5917 | AV18: 728 | AW18: 778799 | AX18: 5761199

Sheet 2.8.
F1: Construction materials | N1: Metals | U1: Biobased materials | X1: Other materials | AD1: Critical Raw materials
A2: Category | B2: Product | C2: Unit | E2: Source | F2: Concrete | G2: Brick | H2: Asphalt | I2: Sand, gravel, clay | J2: Gypsum | K2: Stone | L2: Recycled CDW | M2: Other construction materials | N2: Iron and steel | O2: Copper | P2: Aluminium | Q2: Zinc | R2: Lead | S2: Alloying elements (non critical) | T2: Other metals (non critical) | U2: Wood | V2: Other biobased materials | W2: Textile, biobased | X2: Plastics | Y2: Insulation materials | Z2: Other materials | AA2: Glass | AB2: Ceramics | AC2: Textile, unspec. | AD2: Nd | AE2: Dy | AF2: Pr | AG2: In | AH2: Ga | AI2: Ge | AJ2: Ag | AK2: Li | AL2: Tb | AM2: Si | AN2: Pd | AO2: Co | AP2: Au | AQ2: Pt | AR2: Ta | AS2: Mg | AT2: Ti | AU2: Graphite | AV2: Sr | AW2: W | AX2: Y | AY2: La | AZ2: Nb | BA2: V | BB2: Ce | BC2: Hf | BD2: Unspecified CRM | BE2: Total CRM | BG2: Total
A3: Other consumer goods | B3: Cookery equipment | C3: ton | D3: 2020 | E3: Verhagen et al., 2022a; van Straalen et al., 2022 | N3: ='2.8.'!W56+'2.8.'!BP56+'2.8.'!BQ56+'2.8.'!BR56+'2.8.'!BS56 -> 1179815.2 | T3: ='2.8.'!BU56+'2.8.'!BT56+'2.8.'!BV56 -> 53524.437 | AA3: ='2.8.'!CQ56 -> 13438.05 | BG3: =SUM(F3:BD3) -> 1246777.7
B4: Chairs and couches | N4: ='2.8.'!W69+'2.8.'!BP69+'2.8.'!BQ69+'2.8.'!BR69+'2.8.'!BS69 -> 359478.05 | P4: ='2.8.'!G69+'2.8.'!BO69 -> 119960.83 | T4: ='2.8.'!BU69+'2.8.'!BT69+'2.8.'!BV69 -> 31835.337 | U4: ='2.8.'!DD69 -> 529924.12 | V4: ='2.8.'!DE69+'2.8.'!DF69 -> 99843.194 | X4: ='2.8.'!CA69+'2.8.'!CB69+'2.8.'!CC69+'2.8.'!CD69+'2.8.'!CE69+'2.8.'!CF69+'2.8.'!CH69+'2.8.'!CG69 -> 343823.82 | Z4: ='2.8.'!CI69+'2.8.'!DG69+'2.8.'!DH69+'2.8.'!DN69+'2.8.'!DJ69+'2.8.'!DK69+'2.8.'!DL69+'2.8.'!DM69+'2.8.'!DO69 -> 16949.442 | AA4: ='2.8.'!CQ69 -> 20861.982 | AC4: ='2.8.'!DA69 -> 61412.014 | BG4: =SUM(F4:BD4) -> 1584088.8
B5: Office furniture | F5: ='2.8.'!CO70 -> 153944.64 | N5: ='2.8.'!W70+'2.8.'!BP70+'2.8.'!BQ70+'2.8.'!BR70+'2.8.'!BS70 -> 731585.03 | P5: ='2.8.'!G70+'2.8.'!BO70 -> 5220.7038 | T5: ='2.8.'!BU70+'2.8.'!BT70+'2.8.'!BV70 -> 1564.1929 | U5: ='2.8.'!DD70 -> 230255.68 | V5: ='2.8.'!DE70+'2.8.'!DF70 -> 230465.03 | X5: ='2.8.'!CA70+'2.8.'!CB70+'2.8.'!CC70+'2.8.'!CD70+'2.8.'!CE70+'2.8.'!CF70+'2.8.'!CH70+'2.8.'!CG70 -> 32318.351 | Z5: =32318.3507648068+20440.3767968371 -> 52758.728 | BG5: =SUM(F5:BD5) -> 1438112.4
B6: Kitchen furniture | N6: ='2.8.'!W71+'2.8.'!BP71+'2.8.'!BQ71+'2.8.'!BR71+'2.8.'!BS71 -> 97607.783 | P6: ='2.8.'!G71+'2.8.'!BO71 -> 77122.119 | T6: ='2.8.'!BU71+'2.8.'!BT71+'2.8.'!BV71 -> 15493.68 | U6: ='2.8.'!DD71 -> 1082233.2 | V6: ='2.8.'!DE71+'2.8.'!DF71 -> 138288.29 | X6: ='2.8.'!CA71+'2.8.'!CB71+'2.8.'!CC71+'2.8.'!CD71+'2.8.'!CE71+'2.8.'!CF71+'2.8.'!CH71+'2.8.'!CG71 -> 3926.0992 | Z6: =3926.09923963344+26518.3414153761 -> 30444.441 | AA6: ='2.8.'!CQ71 -> 255556.89 | AC6: ='2.8.'!DA71 -> 640.62727 | BG6: =SUM(F6:BD6) -> 1701313.1
B7: Matrasses | N7: ='2.8.'!W72+'2.8.'!BP72+'2.8.'!BQ72+'2.8.'!BR72+'2.8.'!BS72 -> 154082.7 | T7: ='2.8.'!BU72+'2.8.'!BT72+'2.8.'!BV72 -> 149.0594 | U7: ='2.8.'!DD72 -> 34283.661 | V7: ='2.8.'!DE72+'2.8.'!DF72 -> 7136.2186 | X7: ='2.8.'!CA72+'2.8.'!CB72+'2.8.'!CC72+'2.8.'!CD72+'2.8.'!CE72+'2.8.'!CF72+'2.8.'!CH72+'2.8.'!CG72 -> 170065.59 | Z7: 170065.59 | AC7: ='2.8.'!DA72 -> 78235.687 | BG7: =SUM(F7:BD7) -> 614018.51
B8: Bedroom furniture | P8: ='2.8.'!G73+'2.8.'!BO73 -> 23300.57 | Z8: 2385321 | BG8: =SUM(F8:BD8) -> 2408621.6
B9: Other furniture | N9: ='2.8.'!W74+'2.8.'!BP74+'2.8.'!BQ74+'2.8.'!BR74+'2.8.'!BS74 -> 303409.19 | V9: ='2.8.'!DE74+'2.8.'!DF74 -> 2898828.2 | X9: ='2.8.'!CA74+'2.8.'!CB74+'2.8.'!CC74+'2.8.'!CD74+'2.8.'!CE74+'2.8.'!CF74+'2.8.'!CH74+'2.8.'!CG74 -> 87137.329 | Z9: 87137.329 | AC9: ='2.8.'!DA74 -> 20444.267 | BG9: =SUM(F9:BD9) -> 3396956.3
B10: Jewelry and coins | X10: ='2.8.'!CA75+'2.8.'!CB75+'2.8.'!CC75+'2.8.'!CD75+'2.8.'!CE75+'2.8.'!CF75+'2.8.'!CH75+'2.8.'!CG75 -> 46.924824 | Z10: 46.924824 | BD10: ='2.8.'!BM75 -> 18486.425 | BE10: =SUM(AD10:BD10) -> 18486.425 | BG10: =SUM(F10:BD10) -> 18580.275
B11: Musical instruments | N11: ='2.8.'!W76+'2.8.'!BP76+'2.8.'!BQ76+'2.8.'!BR76+'2.8.'!BS76 -> 38857.415 | T11: ='2.8.'!BU76+'2.8.'!BT76+'2.8.'!BV76 -> 4931.487 | X11: ='2.8.'!CA76+'2.8.'!CB76+'2.8.'!CC76+'2.8.'!CD76+'2.8.'!CE76+'2.8.'!CF76+'2.8.'!CH76+'2.8.'!CG76 -> 59785.835 | Z11: 59785.835 | BG11: =SUM(F11:BD11) -> 163360.57
B12: Sports equipment | N12: ='2.8.'!W77+'2.8.'!BP77+'2.8.'!BQ77+'2.8.'!BR77+'2.8.'!BS77 -> 0.00013159203 | T12: ='2.8.'!BU77+'2.8.'!BT77+'2.8.'!BV77 -> 118431.61 | U12: ='2.8.'!DD77 -> 4.3843683e-05 | V12: ='2.8.'!DE77+'2.8.'!DF77+'2.8.'!DB77 -> 177647.41 | X12: ='2.8.'!CA77+'2.8.'!CB77+'2.8.'!CC77+'2.8.'!CD77+'2.8.'!CE77+'2.8.'!CF77+'2.8.'!CH77+'2.8.'!CG77 -> 296090.69 | Z12: =296090.690792069+177647.414602604+4.92 -> 473743.03 | BG12: =SUM(F12:BD12) -> 1065912.7
B13: Toys and games | T13: ='2.8.'!BU78+'2.8.'!BT78+'2.8.'!BV78 -> 318.3842 | U13: ='2.8.'!DD78 -> 18177.278 | X13: ='2.8.'!CA78+'2.8.'!CB78+'2.8.'!CC78+'2.8.'!CD78+'2.8.'!CE78+'2.8.'!CF78+'2.8.'!CH78+'2.8.'!CG78 -> 52192.427 | Z13: =52192.4267198012+291050.28 -> 343242.71 | BG13: =SUM(F13:BD13) -> 413930.8
B14: Spectacles / contact lenses | N14: ='2.8.'!W79+'2.8.'!BP79+'2.8.'!BQ79+'2.8.'!BR79+'2.8.'!BS79 -> 1098.5819 | P14: ='2.8.'!G79+'2.8.'!BO79 -> 47.022435 | Z14: 800.66 | AR14: ='2.8.'!BB79 -> 1.5503614 | BE14: =SUM(AD14:BD14) -> 1.5503614 | BG14: =SUM(F14:BD14) -> 1947.8147
B15: Medical equipment | N15: ='2.8.'!W80+'2.8.'!BP80+'2.8.'!BQ80+'2.8.'!BR80+'2.8.'!BS80 -> 56070.297 | P15: ='2.8.'!G80+'2.8.'!BO80 -> 2686.1997 | Z15: 46841.84 | AD15: ='2.8.'!AJ80 -> 8.8032534e-06 | AG15: ='2.8.'!AB80 -> 153.61096 | AN15: ='2.8.'!AO80 -> 0.0014663684 | AO15: ='2.8.'!R80 -> 2646.2805 | AR15: ='2.8.'!BB80 -> 388.7636 | AW15: ='2.8.'!BH80 -> 9.2271473 | BB15: ='2.8.'!Q80 -> 0.00058341505 | BE15: =SUM(AD15:BD15) -> 3197.8843 | BG15: =SUM(F15:BD15) -> 108796.22
B16: Writing/drawing utensils | N16: ='2.8.'!W81+'2.8.'!BP81+'2.8.'!BQ81+'2.8.'!BR81+'2.8.'!BS81 -> 2935.9684 | V16: ='2.8.'!DE81+'2.8.'!DF81 -> 5137.9448 | X16: ='2.8.'!CA81+'2.8.'!CB81+'2.8.'!CC81+'2.8.'!CD81+'2.8.'!CE81+'2.8.'!CF81+'2.8.'!CH81+'2.8.'!CG81 -> 2935.9684 | Z16: =2935.9684327004+3671.14 -> 6607.1084 | BG16: =SUM(F16:BD16) -> 17616.99
B17: Other | N17: ='2.8.'!W82+'2.8.'!BP82+'2.8.'!BQ82+'2.8.'!BR82+'2.8.'!BS82 -> 46533.854 | X17: ='2.8.'!CA82+'2.8.'!CB82+'2.8.'!CC82+'2.8.'!CD82+'2.8.'!CE82+'2.8.'!CF82+'2.8.'!CH82+'2.8.'!CG82 -> 7084.739 | Z17: =7084.73897060451+5796.60461231278 -> 12881.344 | BG17: =SUM(F17:BD17) -> 66499.936
A19: Textiles | B19: Fabrics | C19: ton | D19: 2020 | E19: van Oorschot et al., 2020b; van Oorschot et al., 2022; van Straalen et al., 2022 | W19: =DB46 -> 253070.64 | X19: =CG46 -> 281198.35 | BG19: =SUM(F19:BD19) -> 534269
B20: Bed linen | W20: =DB47 -> 231241.32 | X20: =CG47 -> 25052.516 | BG20: =SUM(F20:BD20) -> 256293.83
B21: Drapery and chair clothing | T21: =BT48 -> 5989.5769 | W21: =DB48 -> 75425.79 | X21: =CG48 -> 50033.736 | BG21: =SUM(F21:BD21) -> 131449.1
B22: Carpets | W22: =DB49 -> 354143.8 | X22: =CG49 -> 1094337.9 | BG22: =SUM(F22:BD22) -> 1448481.7
B23: Fleece | AC23: =DO50 -> 1071180.1 | BG23: =SUM(F23:BD23) -> 1071180.1
B24: Other textile | N24: =W51 -> 317316.12 | P24: 0 | AC24: =DO51 -> 403006.16 | BG24: =SUM(F24:BD24) -> 720322.28
B25: Uniforms | AC25: =DO52 -> 13642.079 | BG25: =SUM(F25:BD25) -> 13642.079
B26: Upper garments | W26: =DB53 -> 104749.98 | X26: =CG53 -> 125553.26 | BG26: =SUM(F26:BD26) -> 230303.24
B27: Undergarments | AC27: =DO54 -> 72227.077 | BG27: =SUM(F27:BD27) -> 72227.077
B28: Other clothing | W28: =DB55 -> 43108.035 | X28: =CG55 -> 32427.858 | BG28: =SUM(F28:BD28) -> 75535.893
A30: Machinery | B30: Turbines / motors | C30: ton | D30: 2019 | E30: van Oorschot et al., 2021; van Straalen et al., 2022 | F30: ='2.8.'!CO57 -> 1947091.5 | N30: ='2.8.'!W57+'2.8.'!BP57+'2.8.'!BQ57+'2.8.'!BR57+'2.8.'!BS57 -> 374598.42 | O30: ='2.8.'!T57 -> 14068.676 | P30: ='2.8.'!G57+'2.8.'!BO57 -> 1724.0765 | X30: ='2.8.'!CA57+'2.8.'!CB57+'2.8.'!CC57+'2.8.'!CD57+'2.8.'!CE57+'2.8.'!CF57+'2.8.'!CH57+'2.8.'!CG57 -> 22947.869 | Z30: ='2.8.'!CI57+'2.8.'!DG57+'2.8.'!DH57+'2.8.'!DN57+'2.8.'!DJ57+'2.8.'!DK57+'2.8.'!DL57+'2.8.'!DM57+'2.8.'!DO57 -> 17439.85 | BG30: =SUM(F30:BD30) -> 2377870.4
B31: Pumps / compressors | N31: ='2.8.'!W58+'2.8.'!BP58+'2.8.'!BQ58+'2.8.'!BR58+'2.8.'!BS58 -> 434964.03 | O31: ='2.8.'!T58 -> 52580.221 | P31: ='2.8.'!G58+'2.8.'!BO58 -> 11198.888 | X31: ='2.8.'!CA58+'2.8.'!CB58+'2.8.'!CC58+'2.8.'!CD58+'2.8.'!CE58+'2.8.'!CF58+'2.8.'!CH58+'2.8.'!CG58 -> 8358.6409 | Z31: ='2.8.'!CI58+'2.8.'!DG58+'2.8.'!DH58+'2.8.'!DN58+'2.8.'!DJ58+'2.8.'!DK58+'2.8.'!DL58+'2.8.'!DM58+'2.8.'!DO58 -> 2252.2438 | BG31: =SUM(F31:BD31) -> 509354.02
B32: Taps and valves | N32: ='2.8.'!W59+'2.8.'!BP59+'2.8.'!BQ59+'2.8.'!BR59+'2.8.'!BS59 -> 965741.09 | P32: ='2.8.'!G59+'2.8.'!BO59 -> 18142.978 | Z32: ='2.8.'!CI59+'2.8.'!DG59+'2.8.'!DH59+'2.8.'!DN59+'2.8.'!DJ59+'2.8.'!DK59+'2.8.'!DL59+'2.8.'!DM59+'2.8.'!DO59 -> 329494.95 | BG32: =SUM(F32:BD32) -> 1313379
B33: Other machinery for general usage | N33: ='2.8.'!W60+'2.8.'!BP60+'2.8.'!BQ60+'2.8.'!BR60+'2.8.'!BS60 -> 481920 | O33: ='2.8.'!T60 -> 28741.933 | P33: ='2.8.'!G60+'2.8.'!BO60 -> 16526.427 | Z33: ='2.8.'!CI60+'2.8.'!DG60+'2.8.'!DH60+'2.8.'!DN60+'2.8.'!DJ60+'2.8.'!DK60+'2.8.'!DL60+'2.8.'!DM60+'2.8.'!DO60 -> 202089.05 | AD33: ='2.8.'!AJ60 -> 0.0078624217 | AE33: ='2.8.'!U60 -> 10.911049 | AG33: ='2.8.'!AB60 -> 0.33330902 | AN33: ='2.8.'!AO60 -> 0.0046280852 | AO33: ='2.8.'!R60 -> 0.11276992 | AQ33: ='2.8.'!AP60 -> 0.00014623794 | AR33: ='2.8.'!BB60 -> 1.8817722 | AW33: ='2.8.'!BH60 -> 23.947222 | AY33: ='2.8.'!AD60 -> 0.0029353807 | BB33: ='2.8.'!Q60 -> 0.0083307303 | BE33: =SUM(AD33:BD33) -> 37.210024 | BG33: =SUM(F33:BD33) -> 729314.62
B34: Equipment for hoisting, winching, lifting | N34: ='2.8.'!W61+'2.8.'!BP61+'2.8.'!BQ61+'2.8.'!BR61+'2.8.'!BS61 -> 599062.37 | BG34: =SUM(F34:BD34) -> 599062.37
B35: Office equipments | N35: ='2.8.'!W62+'2.8.'!BP62+'2.8.'!BQ62+'2.8.'!BR62+'2.8.'!BS62 -> 48792.305 | P35: ='2.8.'!G62+'2.8.'!BO62 -> 4697.3058 | Z35: ='2.8.'!CI62+'2.8.'!DG62+'2.8.'!DH62+'2.8.'!DN62+'2.8.'!DJ62+'2.8.'!DK62+'2.8.'!DL62+'2.8.'!DM62+'2.8.'!DO62 -> 60339.84 | AD35: ='2.8.'!AJ62 -> 0.19166318 | AE35: ='2.8.'!U62 -> 0.31257689 | AG35: ='2.8.'!AB62 -> 0.49981494 | AI35: ='2.8.'!Z62 -> 0.15657168 | AN35: ='2.8.'!AO62 -> 3.2359562 | AO35: ='2.8.'!R62 -> 0.27478136 | AQ35: ='2.8.'!AP62 -> 0.080507291 | AR35: ='2.8.'!BB62 -> 0.26781308 | AW35: ='2.8.'!BH62 -> 57.749697 | AY35: ='2.8.'!AD62 -> 0.055945537 | AZ35: ='2.8.'!AI62 -> 0.4949481 | BB35: ='2.8.'!Q62 -> 0.056668222 | BE35: =SUM(AD35:BD35) -> 63.376943 | BG35: =SUM(F35:BD35) -> 113892.83
B36: Mechanical tools | N36: ='2.8.'!W63+'2.8.'!BP63+'2.8.'!BQ63+'2.8.'!BR63+'2.8.'!BS63 -> 69669.767 | T36: ='2.8.'!BU63+'2.8.'!BT63+'2.8.'!BV63 -> 13936.775 | X36: ='2.8.'!CA63+'2.8.'!CB63+'2.8.'!CC63+'2.8.'!CD63+'2.8.'!CE63+'2.8.'!CF63+'2.8.'!CH63+'2.8.'!CG63 -> 34834.883 | BG36: =SUM(F36:BD36) -> 118441.42
B37: Climate control machines | N37: ='2.8.'!W64+'2.8.'!BP64+'2.8.'!BQ64+'2.8.'!BR64+'2.8.'!BS64 -> 245563.76 | O37: ='2.8.'!T64 -> 16190.011 | P37: ='2.8.'!G64+'2.8.'!BO64 -> 15475.839 | Z37: ='2.8.'!CI64+'2.8.'!DG64+'2.8.'!DH64+'2.8.'!DN64+'2.8.'!DJ64+'2.8.'!DK64+'2.8.'!DL64+'2.8.'!DM64+'2.8.'!DO64 -> 92022.25 | AD37: ='2.8.'!AJ64 -> 4.8335524 | AE37: ='2.8.'!U64 -> 14.93117 | AG37: ='2.8.'!AB64 -> 0.005296163 | AN37: ='2.8.'!AO64 -> 0.00071294381 | AO37: ='2.8.'!R64 -> 183.16307 | AQ37: ='2.8.'!AP64 -> 0.011073698 | AW37: ='2.8.'!BH64 -> 28.855227 | BE37: =SUM(AD37:BD37) -> 231.8001 | BG37: =SUM(F37:BD37) -> 369483.66
B38: Filtering equipment | N38: ='2.8.'!W65+'2.8.'!BP65+'2.8.'!BQ65+'2.8.'!BR65+'2.8.'!BS65 -> 29145.888 | O38: ='2.8.'!T65 -> 378.96494 | P38: ='2.8.'!G65+'2.8.'!BO65 -> 636.20721 | Z38: ='2.8.'!CI65+'2.8.'!DG65+'2.8.'!DH65+'2.8.'!DN65+'2.8.'!DJ65+'2.8.'!DK65+'2.8.'!DL65+'2.8.'!DM65+'2.8.'!DO65 -> 7466.72 | BG38: =SUM(F38:BD38) -> 37627.78
B39: Bottle cleaning equipment | N39: ='2.8.'!W66+'2.8.'!BP66+'2.8.'!BQ66+'2.8.'!BR66+'2.8.'!BS66 -> 9692.5974 | P39: ='2.8.'!G66+'2.8.'!BO66 -> 211.44025 | Z39: ='2.8.'!CI66+'2.8.'!DG66+'2.8.'!DH66+'2.8.'!DN66+'2.8.'!DJ66+'2.8.'!DK66+'2.8.'!DL66+'2.8.'!DM66+'2.8.'!DO66 -> 4481.62 | AN39: ='2.8.'!AO66 -> 0.00088042763 | AQ39: ='2.8.'!AP66 -> 4.1601923e-05 | BE39: =SUM(AD39:BD39) -> 0.00092202955 | BG39: =SUM(F39:BD39) -> 14385.659
B40: Agricultural equipment | N40: ='2.8.'!W67+'2.8.'!BP67+'2.8.'!BQ67+'2.8.'!BR67+'2.8.'!BS67 -> 1450479.6 | O40: ='2.8.'!T67 -> 9758.7199 | P40: ='2.8.'!G67+'2.8.'!BO67 -> 50912.336 | Q40: ='2.8.'!BK67 -> 4835.9567 | R40: ='2.8.'!AN67 -> 15619.402 | T40: ='2.8.'!BU67+'2.8.'!BT67+'2.8.'!BV67 -> 1109.2077 | X40: ='2.8.'!CA67+'2.8.'!CB67+'2.8.'!CC67+'2.8.'!CD67+'2.8.'!CE67+'2.8.'!CF67+'2.8.'!CH67+'2.8.'!CG67 -> 35996.668 | Z40: ='2.8.'!CI67+'2.8.'!DG67+'2.8.'!DH67+'2.8.'!DN67+'2.8.'!DJ67+'2.8.'!DK67+'2.8.'!DL67+'2.8.'!DM67+'2.8.'!DO67 -> 113929.83 | AA40: ='2.8.'!CQ67 -> 10527.514 | BG40: =SUM(F40:BD40) -> 1693169.2
B41: Electric tools | N41: ='2.8.'!W68+'2.8.'!BP68+'2.8.'!BQ68+'2.8.'!BR68+'2.8.'!BS68 -> 2098919 | O41: ='2.8.'!T68 -> 133458.3 | P41: ='2.8.'!G68+'2.8.'!BO68 -> 33194.418 | T41: ='2.8.'!BU68+'2.8.'!BT68+'2.8.'!BV68 -> 6621.9164 | X41: ='2.8.'!CA68+'2.8.'!CB68+'2.8.'!CC68+'2.8.'!CD68+'2.8.'!CE68+'2.8.'!CF68+'2.8.'!CH68+'2.8.'!CG68 -> 133460.58 | Z41: ='2.8.'!CI68+'2.8.'!DG68+'2.8.'!DH68+'2.8.'!DN68+'2.8.'!DJ68+'2.8.'!DK68+'2.8.'!DL68+'2.8.'!DM68+'2.8.'!DO68 -> 45800.204 | AA41: ='2.8.'!CQ68 -> 5420.4168 | BG41: =SUM(F41:BD41) -> 2456874.8
A43: Background data from CBS Materiaalmonitor
A44: MM_code | B44: MM_description (Dutch) | C44: Year | D44: Stock (unit?) | E44: Source for material intensity | F44: Ag | G44: Al | H44: As | I44: Au | J44: Ba | K44: B | L44: Be | M44: Bi | N44: Bo | O44: C | P44: Cd | Q44: Ce | R44: Co | S44: Cr | T44: Cu | U44: Dy | V44: Eu | W44: Fe | X44: Ga | Y44: Gd | Z44: Ge | AA44: Hf | AB44: In | AC44: Ir | AD44: La | AE44: Li | AF44: Mg | AG44: Mn | AH44: Mo | AI44: Nb | AJ44: Nd | AK44: Ni | AL44: Os | AM44: P | AN44: Pb | AO44: Pd | AP44: Pt | AQ44: Pr | AR44: Re | AS44: Rh | AT44: Ru | AU44: Sb | AV44: Sc | AW44: Si | AX44: Se | AY44: Sm | AZ44: Sn | BA44: Sr | BB44: Ta | BC44: Tb | BD44: Te | BE44: Ti | BF44: U | BG44: V | BH44: W | BI44: Y | BJ44: Yb | BK44: Zn | BL44: Zr | BM44: metals, precious, unspecified | BN44: Rare Earth Elements | BO44: aluminium, alloy | BP44: Steel, low alloy | BQ44: steel, reinforcing | BR44: steel, unalloyed | BS44: Chromium steel | BT44: Metals excl. Steel & Aluminium | BU44: brass | BV44: bronze | BW44: graphite | BX44: LiPF6 | BY44: LiMn2O4 | BZ44: lithium compounds | CA44: PE | CB44: PC | CC44: PS | CD44: PU/PUR | CE44: PVC | CF44: PP | CG44: plastic, other polymers | CH44: GFRP or CFRP | CI44: Rubber | CJ44: asbest cement | CK44: building minerals, unspecified | CL44: Clay, Bentonite | CM44: Clay, Kaoline | CN44: cement | CO44: concrete | CP44: Diatomite | CQ44: glass | CR44: Graphite, natural | CS44: Gypsum | CT44: Feldspar | CU44: Fluorspar | CV44: Limestone | CW44: Perlite | CX44: sand, Silicasand | CY44: stone, granulate | CZ44: Talcum | DA44: textiles and leather | DB44: biomass, unspecified | DC44: food | DD44: wood | DE44: MDF | DF44: paper and cardboard | DG44: chemicals | DH44: coatings | DI44: Coking/ coal | DJ44: cable | DK44: electronics, for control units | DL44: epoxy resin | DM44: printed wiring board | DN44: silicone | DO44: unspecified
F45: ton | G45: ton | H45: ton | I45: ton | J45: ton | K45: ton | L45: ton | M45: ton | N45: ton | O45: ton | P45: ton | Q45: ton | R45: ton | S45: ton | T45: ton | U45: ton | V45: ton | W45: ton | X45: ton | Y45: ton | Z45: ton | AA45: ton | AB45: ton | AC45: ton | AD45: ton | AE45: ton | AF45: ton | AG45: ton | AH45: ton | AI45: ton | AJ45: ton | AK45: ton | AL45: ton | AM45: ton | AN45: ton | AO45: ton | AP45: ton | AQ45: ton | AR45: ton | AS45: ton | AT45: ton | AU45: ton | AV45: ton | AW45: ton | AX45: ton | AY45: ton | AZ45: ton | BA45: ton | BB45: ton | BC45: ton | BD45: ton | BE45: ton | BF45: ton | BG45: ton | BH45: ton | BI45: ton | BJ45: ton | BK45: ton | BL45: ton | BM45: ton | BN45: ton | BO45: ton | BP45: ton | BQ45: ton | BR45: ton | BS45: ton | BT45: ton | BU45: ton | BV45: ton | BW45: ton | BX45: ton | BY45: ton | BZ45: ton | CA45: ton | CB45: ton | CC45: ton | CD45: ton | CE45: ton | CF45: ton | CG45: ton | CH45: ton | CI45: ton | CJ45: ton | CK45: ton | CL45: ton | CM45: ton | CN45: ton | CO45: ton | CP45: ton | CQ45: ton | CR45: ton | CS45: ton | CT45: ton | CU45: ton | CV45: ton | CW45: ton | CX45: ton | CY45: ton | CZ45: ton | DA45: ton | DB45: ton | DC45: ton | DD45: ton | DE45: ton | DF45: ton | DG45: ton | DH45: ton | DI45: ton | DJ45: ton | DK45: ton | DL45: ton | DM45: ton | DN45: ton | DO45: ton
A46: 1320000 | B46: Weefsels | C46: 2019 | D46: 534269 | E46: EAP | CG46: 281198.35 | DB46: 253070.64
A47: 1392110 | B47: Beddengoed | C47: 2019 | D47: 256293.83 | E47: EAP | CG47: 25052.516 | DB47: 231241.32
A48: 1392500 | B48: Woningtextiel | C48: 2019 | D48: 131449.1 | E48: EAP | BT48: 5989.5769 | CG48: 50033.736 | DB48: 75425.79
A49: 1393000 | B49: Tapijten | C49: 2019 | D49: 1448481.7 | E49: EAP | CG49: 1094337.9 | DB49: 354143.8
A50: 1395100 | B50: Textielvlies | C50: 2019 | D50: 1071180.1 | E50: Geen bron beschikbaar | DO50: 1071180.1
A51: 1399000 | B51: Ov.textielwaren | C51: 2019 | D51: 2135370.6 | E51: PANORAMA | G51: 1415048.3 | W51: 317316.12 | DO51: 403006.16
A52: 1412000 | B52: Werkkleding | C52: 2019 | D52: 13642.079 | E52: Geen bron beschikbaar | DO52: 13642.079
A53: 1413939 | B53: Bovenkleding/Trui | C53: 2019 | D53: 230303.24 | E53: EAP | CG53: 125553.26 | DB53: 104749.98
A54: 1414931 | B54: Onderkleding/Sok | C54: 2019 | D54: 72227.077 | E54: Geen bron beschikbaar | DO54: 72227.077
A55: 1419000 | B55: Overige kleding | C55: 2019 | D55: 79426.66 | E55: EAP | BP55: 3890.7666 | CG55: 32427.858 | DB55: 43108.035
A56: 2752000 | B56: Hh.VerwKook(nt-elek) | C56: 2020 | D56: 1246777.7 | E56: EAP | BP56: 1179815.2 | BT56: 53524.437 | CQ56: 13438.05
A57: 2811000 | B57: Turbine/motor | C57: 2019 | D57: 2377870.4 | E57: ECOINVENT | T57: 14068.676 | W57: 96357.161 | BO57: 1724.0765 | BP57: 71006.999 | BQ57: 205721.21 | BS57: 1513.0463 | CA57: 4101.1519 | CH57: 18846.717 | CO57: 1947091.5 | DK57: 583.9828 | DL57: 16855.867
A58: 2812000 | B58: Pomp/compressor | C58: 2019 | D58: 509354.02 | E58: ECOINVENT | T58: 52580.221 | W58: 235689.64 | BO58: 11198.888 | BP58: 29748.372 | BS58: 169526.01 | CC58: 3046.0468 | CE58: 5312.5941 | CI58: 2178.2664 | DM58: 73.977385
A59: 2814000 | B59: KraanKlepAfsluiter | C59: 2019 | D59: 1313379 | E59: PANORAMA | G59: 18142.978 | W59: 965741.09 | DO59: 329494.95
A60: 2820900 | B60: Ov.mach.v.alg.gebr. | C60: 2019 | D60: 729314.62 | E60: PANORAMA | G60: 16526.427 | Q60: 0.0083307303 | R60: 0.11276992 | T60: 28741.933 | U60: 10.911049 | W60: 481920 | AB60: 0.33330902 | AD60: 0.0029353807 | AJ60: 0.0078624217 | AO60: 0.0046280852 | AP60: 0.00014623794 | BB60: 1.8817722 | BH60: 23.947222 | DO60: 202089.05
A61: 2822100 | B61: Takel/lier/Lift e.d. | C61: 2019 | D61: 599062.37 | E61: ECOINVENT | BP61: 179718.71 | BQ61: 419343.66
A62: 2823000 | B62: Kantoormachines | C62: 2019 | D62: 113892.83 | E62: PANORAMA | G62: 4697.3058 | Q62: 0.056668222 | R62: 0.27478136 | U62: 0.31257689 | W62: 48792.305 | Z62: 0.15657168 | AB62: 0.49981494 | AD62: 0.055945537 | AI62: 0.4949481 | AJ62: 0.19166318 | AO62: 3.2359562 | AP62: 0.080507291 | BB62: 0.26781308 | BH62: 57.749697 | DO62: 60339.84
A63: 2824000 | B63: Mech.handgereedsch. | C63: 2019 | D63: 118441.42 | E63: EAP | BP63: 69669.767 | BT63: 13936.775 | CG63: 34834.883
A64: 2825000 | B64: Machine koel/klimaat | C64: 2019 | D64: 369483.66 | E64: PANORAMA | G64: 15475.839 | R64: 183.16307 | T64: 16190.011 | U64: 14.93117 | W64: 245563.76 | AB64: 0.005296163 | AJ64: 4.8335524 | AO64: 0.00071294381 | AP64: 0.011073698 | BH64: 28.855227 | DO64: 92022.25
A65: 2829129 | B65: Filtertoestel | C65: 2019 | D65: 37627.785 | E65: PANORAMA | G65: 636.20721 | T65: 378.96494 | W65: 29145.888 | DO65: 7466.72
A66: 2829210 | B66: Mach.rein./verp.fles | C66: 2019 | D66: 14385.662 | E66: PANORAMA | G66: 211.44025 | W66: 9692.5974 | AO66: 0.00088042763 | AP66: 4.1601923e-05 | DO66: 4481.62
A67: 2830000 | B67: Mach.v.landbouw | C67: 2019 | D67: 1693169.2 | E67: ECOINVENT | T67: 9758.7199 | W67: 81483.441 | AN67: 15619.402 | BK67: 4835.9567 | BO67: 50912.336 | BP67: 82138.321 | BR67: 1167903.9 | BS67: 118953.96 | BU67: 1109.2077 | CF67: 35996.668 | CI67: 108280.82 | CQ67: 10527.514 | DH67: 2786.8541 | DK67: 2862.1571
A68: 2840000 | B68: Gereedschapswerktuig | C68: 2019 | D68: 2456874.8 | E68: ECOINVENT | T68: 133458.3 | W68: 118766.05 | BO68: 33194.418 | BP68: 1370015.1 | BQ68: 242008.16 | BS68: 368129.71 | BU68: 12.504293 | BV68: 6609.4121 | CA68: 112998.86 | CB68: 300.03351 | CD68: 11987.188 | CE68: 1074.1766 | CF68: 802.44812 | CG68: 6297.8733 | CI68: 13204.305 | CQ68: 5420.4168 | DH68: 703.38045 | DJ68: 4827.9878 | DL68: 1563.0366 | DM68: 19401.756 | DN68: 6099.7379
A69: 3100100 | B69: Zitmeubelen | C69: 2020 | D69: 1584088.8 | E69: UrbanMine | G69: 119960.83 | BP69: 359478.05 | BT69: 31835.337 | CG69: 343823.82 | CQ69: 20861.982 | DA69: 61412.014 | DD69: 529924.12 | DE69: 92199.289 | DF69: 7643.9056 | DH69: 16949.442
A70: 3101000 | B70: Bedrijfsmeubelen | C70: 2020 | D70: 1405794 | E70: UrbanMine | G70: 5220.7038 | BP70: 731585.03 | BT70: 1564.1929 | CG70: 32318.351 | CO70: 153944.64 | DD70: 230255.68 | DE70: 198549.25 | DF70: 31915.779 | DH70: 20440.377
A71: 3102000 | B71: Keukenmeubelen | C71: 2020 | D71: 1697387 | E71: UrbanMine | G71: 77122.119 | BP71: 97607.783 | BT71: 15493.68 | CG71: 3926.0992 | CQ71: 255556.89 | DA71: 640.62727 | DD71: 1082233.2 | DE71: 126872.67 | DF71: 11415.622 | DH71: 26518.341
A72: 3103000 | B72: Matrassen | C72: 2020 | D72: 443952.92 | E72: UrbanMine | BP72: 154082.7 | BT72: 149.0594 | CG72: 170065.59 | DA72: 78235.687 | DD72: 34283.661 | DF72: 7136.2186
A73: 3109120 | B73: Slaapkamermeubel. | C73: 2020 | D73: 2408621.6 | E73: PANORAMA | G73: 23300.57 | DO73: 2385321
A74: 3109900 | B74: Overige meubelen | C74: 2020 | D74: 3309818.9 | E74: UrbanMine | BP74: 303409.19 | CG74: 87137.329 | DA74: 20444.267 | DE74: 2886042.9 | DF74: 12785.295
A75: 3210000 | B75: Sieraden/munten | C75: 2020 | D75: 18533.35 | E75: EAP | BM75: 18486.425 | CG75: 46.924824
A76: 3220000 | B76: Muziekinstrum. | C76: 2020 | D76: 103574.74 | E76: EAP | BP76: 38857.415 | BT76: 4931.487 | CG76: 59785.835
A77: 3230000 | B77: Sportartik.&-mater. | C77: 2020 | D77: 592174.63 | E77: EAP | BP77: 0.00013159203 | BT77: 118431.61 | CG77: 296090.69 | DB77: 177647.41 | DD77: 4.3843683e-05 | DO77: 4.92
A78: 3240000 | B78: Spel/speelgoed | C78: 2020 | D78: 361738.36 | E78: EAP | BT78: 318.3842 | CG78: 52192.427 | DD78: 18177.278 | DO78: 291050.28
A79: 3250400 | B79: Bril/contactlenzen | C79: 2020 | D79: 1947.8149 | E79: PANORAMA | G79: 47.022435 | W79: 1098.5819 | BB79: 1.5503614 | DO79: 800.66
A80: 3250900 | B80: Medische instrum/app | C80: 2020 | D80: 108796.22 | E80: PANORAMA | G80: 2686.1997 | Q80: 0.00058341505 | R80: 2646.2805 | W80: 56070.297 | AB80: 153.61096 | AJ80: 8.8032534e-06 | AO80: 0.0014663684 | BB80: 388.7636 | BH80: 9.2271473 | DO80: 46841.84
A81: 3299010 | B81: Teken-/schrijfartik. | C81: 2020 | D81: 14681.017 | E81: EAP | BP81: 2935.9684 | CG81: 2935.9684 | DF81: 5137.9448 | DO81: 3671.14
A82: 3299020 | B82: Ov.artikelen neg | C82: 2020 | D82: 59415.197 | E82: EAP | BP82: 46533.854 | CG82: 7084.739 | DG82: 5796.6046

Sheet 3.
A1: Hbernating stocks | B1: NB: the values in this table are highly uncertain
A2: Category | B2: Product | C2: Unit | D2: Year | E2: Source | F2: Concrete | G2: Brick | H2: Asphalt | I2: Sand, gravel, clay | J2: Gypsum | K2: Stone | L2: Recycled CDW | M2: Other construction materials | N2: Iron and steel | O2: Copper | P2: Aluminium | Q2: Zinc | R2: Lead | S2: Alloying elements (non critical) | T2: Other metals (non critical) | U2: Wood | V2: Other biobased materials | W2: Textile, biobased | X2: Plastics | Y2: Insulation materials | Z2: Other materials | AA2: Glass | AB2: Ceramics | AC2: Textile, unspec. | AD2: Nd | AE2: Dy | AF2: Pr | AG2: In | AH2: Ga | AI2: Ge | AJ2: Ag | AK2: Li | AL2: Tb | AM2: Si | AN2: Pd | AO2: Co | AP2: Au | AQ2: Pt | AR2: Ta | AS2: Mg | AT2: Ti | AU2: Graphite | AV2: Sr | AW2: W | AX2: Y | AY2: La | AZ2: Nb | BA2: V | BB2: Ce | BC2: Hf | BD2: Unspecified CRM | BE2: Total CRM | BG2: Total
A3: Road, rail and waterways infrastructure | B3: Rail infrastructure | C3: ton | D3: 2020 | E3: EIB & Metabolic, 2022 | F3: 380357.31 | I3: 293077.69 | N3: 23375.984 | O3: 192.71528 | P3: 86.322741 | S3: 172.63348 | V3: 142.22379 | BG3: =SUM(F3:BD3) -> 697404.87
A4: Electricity system | B4: Electricity cables | C4: ton | E4: van Oorschot et al., 2022 | O4: =1334+76498 -> 77832 | P4: =57256 -> 57256 | BG4: =SUM(F4:BD4) -> 135088
B5: Monopiles | C5: ton | E5: van Oorschot et al., 2022 | N5: 1831 | BG5: =SUM(F5:BD5) -> 1831
A6: Water infrastructure | B6: Water and sewage pipes | C6: ton | E6: van der Bent, 2022 | F6: =0.08*'[1]1.'!F32+0.02*'[1]1.'!F33 -> 261380.46 | M6: =0.08*'[1]1.'!M32+0.02*'[1]1.'!M33 -> 23645.7 | N6: =0.08*'[1]1.'!N32+0.02*'[1]1.'!N33 -> 26965.92 | V6: =0.08*'[1]1.'!X32+0.02*'[1]1.'!X33 -> 127319.06 | BG6: =SUM(F6:BD6) -> 439311.14
A7: Total (ton) | F7: =SUM(F3:F6) -> 641737.77 | G7: =SUM(G3:G6) -> 0 | H7: =SUM(H3:H6) -> 0 | I7: =SUM(I3:I6) -> 293077.69 | J7: =SUM(J3:J6) -> 0 | K7: =SUM(K3:K6) -> 0 | L7: =SUM(L3:L6) -> 0 | M7: =SUM(M3:M6) -> 23645.7 | ... BF7: =SUM(BF3:BF6) -> 0 | BG7: =SUM(F7:BD7) -> 1273635
A8: Total (%) | F8: =F7/$BG$7 -> 0.50386316 | G8: =G7/$BG$7 -> 0 | H8: =H7/$BG$7 -> 0 | I8: =I7/$BG$7 -> 0.23011121 | J8: =J7/$BG$7 -> 0 | K8: =K7/$BG$7 -> 0 | L8: =L7/$BG$7 -> 0 | M8: =M7/$BG$7 -> 0.018565523 | ... BG8: =BG7/$BG$7 -> 1

Sheet 4.
A1: Sources
A3: Van Straalen, V., R. Delahaye & K. Kersten (2022). Voorraden project. Conversie naar materialen - methodebeschrijving. Centraal Bureau voor de Statistiek, april 2022.
A4: EIB & Metabolic (2022). Materiaalstromen in de bouw & infra. https://www.eib.nl/publicaties/materiaalstromen-in-de-bouw-en-infra/
A5: van Oorschot, J., J. van der Zaag, E. van der Voet, V. van Straalen & R. Delahaye (2020a). Voorraden in de maatschappij; de grondstoffenbasis voor een circulaire economie. Universiteit Leiden en Centraal Bureau voor de Statistiek, januari 2020
A6: van Oorschot, J., E. van der Voet, V. van Straalen, V.S.C. Tunn & R. Delahaye (2020b). Voorraden in de maatschappij: de grondstoffenbasis voor een circulaire economie deel II, met case studies op gebied van gebouwen, electronische machines en textiel. Universiteit Leiden CML en Centraal Bureau voor de Statistiek, december 2020.
A7: van Oorschot, J., Sprecher, B., Roelofs, B., van der Horst - Verschelling, J., & van der Voet, E. (2022). Towards a low-carbon and circular economy: Scenarios for metal stocks and flows in the Dutch electricity system. Resources, Conservation and Recycling, 178, 106105.
A8: Pieters, L. I. (2021). Towards a Circular Economy: Material Changes in the Dutch Railway Infrastructure until 2050. MSc thesis, Universiteit Leiden & Technische Universiteit Delft.
A9: Van der Bent, E. (2021). Urban mining for a circular economy: A dynamic material flow analysis of the urban mine of the Dutch water cycle infrastructure. MSc thesis report, Universiteit Leiden & Technische Universiteit Delft.
A10: Van der Zaag, J. (2020). Material stocks and flows in the circular economy: a prospective material flow analysis for vehicles in the Netherlands for 2000-2050. MSc thesis report, Universiteit Leiden & Technische Universiteit Delft. https://repository.tudelft.nl/islandora/object/uuid%3A7dfc5c37-8200-47dc-b413-a8be3b03d140
A11: Verhagen, J., Pieters, L., van der Voet, V., van Straalen, V. & Tunn, V. (2022a). Voorraden in de maatschappij: de gronstoffenbasis voor een circulaire economie deel III, met case studies op het gebied van het gassysteem, de spoorinfrastructuur en consumentengoederen. Universiteit Leiden, centrum voor Milieuwetenschappen & Centraal Bureau voor de Statistiek, februari 2022.
A12: Verhagen, T. J., Cetinay, H., Van Der Voet, E., & Sprecher, B. (2022b). Transitioning to low-carbon residential heating: the impacts of material-related emissions. Environmental science & technology, 56(12), 8561-8570.
