Workbook

Sheet 3A
B1: Supplementary Table 3 A. Functional analysis of Arabidopsis genes containing ACGT cis-elements
A4: Condition | B4: Regulation | C4: Total number of genes regulated by the condition (Y x 33323) | D4: Total number of genes involved in the condition with acgt element/ Total number of genes in the genome with acgt element (X) | E4: Percentage of genes with ACGT cis-element in Arabidopsis thaliana genome | F4: Spacer wise distribution (Total number of genes involved in the condition with acgt element/ Total number of genes in the genome with acgt element (X) for a particular N)
F5: 0 | G5: 1 | H5: 2 | I5: 3 | J5: 4 | K5: 5 | L5: 6 | M5: 7 | N5: 8 | O5: 9 | P5: 10 | Q5: 11 | R5: 12 | S5: 13 | T5: 14 | U5: 15 | V5: 16 | W5: 17 | X5: 18 | Y5: 19 | Z5: 20 | AA5: 21 | AB5: 22 | AC5: 23 | AD5: 24 | AE5: 25 | AF5: 26 | AG5: 27 | AH5: 28 | AI5: 29 | AJ5: 30
A7: By Developmental Stage
A9: Embryo | B9: Up | C9: 4288 | D9: 990/8668 | E9: =LEFT(D9, FIND("/",D9)-1)/C9*100 -> 23.087687 | F9: 39/405 | G9: 41/295 | H9: 43/356 | I9: 23/241 | J9: 22/276 | K9: 25/244 | L9: 32/218 | M9: 45/335 | N9: 33/295 | O9: 24/252 | P9: 30/238 | Q9: 23/241 | R9: 30/274 | S9: 39/241 | T9: 39/312 | U9: 25/256 | V9: 37/294 | W9: 35/283 | X9: 23/277 | Y9: 32/281 | Z9: 26/316 | AA9: 30/244 | AB9: 36/300 | AC9: 29/239 | AD9: 30/312 | AE9: 34/253 | AF9: 39/308 | AG9: 34/307 | AH9: 37/284 | AI9: 31/242 | AJ9: 24/249
B10: Down | C10: 3115 | D10: 926/8668 | E10: =LEFT(D10, FIND("/",D10)-1)/C10*100 -> 29.727127 | F10: 42/405 | G10: 38/295 | H10: 39/356 | I10: 39/241 | J10: 27/276 | K10: 27/244 | L10: 19/218 | M10: 30/335 | N10: 25/295 | O10: 26/252 | P10: 21/238 | Q10: 29/241 | R10: 24/274 | S10: 30/241 | T10: 20/312 | U10: 30/256 | V10: 24/294 | W10: 33/283 | X10: 33/277 | Y10: 34/281 | Z10: 38/316 | AA10: 26/244 | AB10: 29/300 | AC10: 24/239 | AD10: 33/312 | AE10: 28/253 | AF10: 33/308 | AG10: 30/307 | AH10: 25/284 | AI10: 27/242 | AJ10: 43/249
B11: Down/Up | C11: 7310 | D11: 1890/8668 | E11: =LEFT(D11, FIND("/",D11)-1)/C11*100 -> 25.854993 | F11: 80/405 | G11: 78/295 | H11: 81/356 | I11: 61/241 | J11: 49/276 | K11: 52/244 | L11: 50/218 | M11: 75/335 | N11: 57/295 | O11: 50/252 | P11: 50/238 | Q11: 52/241 | R11: 54/274 | S11: 68/241 | T11: 57/312 | U11: 55/256 | V11: 59/294 | W11: 66/283 | X11: 53/277 | Y11: 64/281 | Z11: 61/316 | AA11: 55/244 | AB11: 65/300 | AC11: 53/239 | AD11: 63/312 | AE11: 62/253 | AF11: 72/308 | AG11: 64/307 | AH11: 61/284 | AI11: 56/242 | AJ11: 67/249
A12: Seedling | B12: Up | C12: 15377 | D12: 4355/8668 | E12: =LEFT(D12, FIND("/",D12)-1)/C12*100 -> 28.321519 | F12: 188/405 | G12: 159/295 | H12: 191/356 | I12: 135/241 | J12: 158/276 | K12: 115/244 | L12: 114/218 | M12: 162/335 | N12: 147/295 | O12: 121/252 | P12: 115/238 | Q12: 121/241 | R12: 147/274 | S12: 129/241 | T12: 129/312 | U12: 125/256 | V12: 140/294 | W12: 131/283 | X12: 130/277 | Y12: 158/281 | Z12: 182/316 | AA12: 122/244 | AB12: 151/300 | AC12: 104/239 | AD12: 157/312 | AE12: 118/253 | AF12: 156/308 | AG12: 143/307 | AH12: 146/284 | AI12: 130/242 | AJ12: 131/249
B13: Down | C13: 17591 | D13: 4611/8668 | E13: =LEFT(D13, FIND("/",D13)-1)/C13*100 -> 26.212268 | F13: 209/405 | G13: 170/295 | H13: 184/356 | I13: 132/241 | J13: 157/276 | K13: 126/244 | L13: 129/218 | M13: 183/335 | N13: 153/295 | O13: 131/252 | P13: 118/238 | Q13: 122/241 | R13: 146/274 | S13: 135/241 | T13: 130/312 | U13: 151/256 | V13: 151/294 | W13: 158/283 | X13: 150/277 | Y13: 157/281 | Z13: 171/316 | AA13: 139/244 | AB13: 146/300 | AC13: 132/239 | AD13: 163/312 | AE13: 125/253 | AF13: 175/308 | AG13: 156/307 | AH13: 148/284 | AI13: 131/242 | AJ13: 133/249
B14: Down/Up | C14: 22043 | D14: 5896/8668 | E14: =LEFT(D14, FIND("/",D14)-1)/C14*100 -> 26.74772 | F14: 270/405 | G14: 218/295 | H14: 242/356 | I14: 179/241 | J14: 200/276 | K14: 156/244 | L14: 161/218 | M14: 230/335 | N14: 198/295 | O14: 157/252 | P14: 153/238 | Q14: 157/241 | R14: 187/274 | S14: 173/241 | T14: 174/312 | U14: 182/256 | V14: 197/294 | W14: 195/283 | X14: 189/277 | Y14: 206/281 | Z14: 222/316 | AA14: 168/244 | AB14: 202/300 | AC14: 163/239 | AD14: 208/312 | AE14: 159/253 | AF14: 212/308 | AG14: 199/307 | AH14: 197/284 | AI14: 171/242 | AJ14: 171/249
A16: Regulated by hormones
A17: ABA | B17: Up | C17: 11263 | D17: 3460/8668 | E17: =LEFT(D17, FIND("/",D17)-1)/C17*100 -> 30.720057 | F17: 152/405 | G17: 131/295 | H17: 128/356 | I17: 114/241 | J17: 113/276 | K17: 94/244 | L17: 89/218 | M17: 130/335 | N17: 129/295 | O17: 90/252 | P17: 75/238 | Q17: 89/241 | R17: 125/274 | S17: 102/241 | T17: 95/312 | U17: 117/256 | V17: 112/294 | W17: 111/283 | X17: 105/277 | Y17: 124/281 | Z17: 137/316 | AA17: 105/244 | AB17: 115/300 | AC17: 95/239 | AD17: 120/312 | AE17: 83/253 | AF17: 126/308 | AG17: 122/307 | AH17: 121/284 | AI17: 108/242 | AJ17: 103/249
B18: Down | C18: 9158 | D18: 2105/8668 | E18: =LEFT(D18, FIND("/",D18)-1)/C18*100 -> 22.985368 | F18: 99/405 | G18: 83/295 | H18: 71/356 | I18: 58/241 | J18: 71/276 | K18: 57/244 | L18: 58/218 | M18: 94/335 | N18: 66/295 | O18: 57/252 | P18: 57/238 | Q18: 68/241 | R18: 70/274 | S18: 58/241 | T18: 59/312 | U18: 58/256 | V18: 78/294 | W18: 78/283 | X18: 68/277 | Y18: 67/281 | Z18: 77/316 | AA18: 52/244 | AB18: 73/300 | AC18: 65/239 | AD18: 74/312 | AE18: 59/253 | AF18: 72/308 | AG18: 74/307 | AH18: 61/284 | AI18: 58/242 | AJ18: 65/249
B19: Down/Up | C19: 14936 | D19: 4275/8668 | E19: =LEFT(D19, FIND("/",D19)-1)/C19*100 -> 28.622121 | F19: 190/405 | G19: 154/295 | H19: 167/356 | I19: 128/241 | J19: 141/276 | K19: 122/244 | L19: 124/218 | M19: 167/335 | N19: 157/295 | O19: 110/252 | P19: 104/238 | Q19: 120/241 | R19: 145/274 | S19: 126/241 | T19: 116/312 | U19: 127/256 | V19: 145/294 | W19: 138/283 | X19: 135/277 | Y19: 149/281 | Z19: 163/316 | AA19: 122/244 | AB19: 146/300 | AC19: 119/239 | AD19: 140/312 | AE19: 113/253 | AF19: 151/308 | AG19: 155/307 | AH19: 147/284 | AI19: 128/242 | AJ19: 126/249
A20: Auxin | B20: Up | C20: 7423 | D20: 1887/8668 | E20: =LEFT(D20, FIND("/",D20)-1)/C20*100 -> 25.420989 | F20: 82/405 | G20: 71/295 | H20: 59/356 | I20: 55/241 | J20: 56/276 | K20: 51/244 | L20: 62/218 | M20: 68/335 | N20: 58/295 | O20: 49/252 | P20: 45/238 | Q20: 50/241 | R20: 59/274 | S20: 61/241 | T20: 52/312 | U20: 62/256 | V20: 69/294 | W20: 70/283 | X20: 59/277 | Y20: 64/281 | Z20: 60/316 | AA20: 58/244 | AB20: 60/300 | AC20: 56/239 | AD20: 70/312 | AE20: 50/253 | AF20: 77/308 | AG20: 70/307 | AH20: 67/284 | AI20: 55/242 | AJ20: 62/249
B21: Down | C21: 6073 | D21: 1697/8668 | E21: =LEFT(D21, FIND("/",D21)-1)/C21*100 -> 27.943356 | F21: 74/405 | G21: 64/295 | H21: 77/356 | I21: 55/241 | J21: 59/276 | K21: 41/244 | L21: 39/218 | M21: 71/335 | N21: 52/295 | O21: 52/252 | P21: 39/238 | Q21: 46/241 | R21: 65/274 | S21: 54/241 | T21: 59/312 | U21: 47/256 | V21: 61/294 | W21: 59/283 | X21: 46/277 | Y21: 68/281 | Z21: 66/316 | AA21: 42/244 | AB21: 53/300 | AC21: 47/239 | AD21: 54/312 | AE21: 53/253 | AF21: 47/308 | AG21: 57/307 | AH21: 61/284 | AI21: 47/242 | AJ21: 42/249
B22: Down/Up | C22: 12726 | D22: 3376/8668 | E22: =LEFT(D22, FIND("/",D22)-1)/C22*100 -> 26.528367 | F22: 145/405 | G22: 126/295 | H22: 133/356 | I22: 105/241 | J22: 110/276 | K22: 89/244 | L22: 92/218 | M22: 129/335 | N22: 107/295 | O22: 91/252 | P22: 80/238 | Q22: 93/241 | R22: 117/274 | S22: 107/241 | T22: 105/312 | U22: 103/256 | V22: 119/294 | W22: 123/283 | X22: 100/277 | Y22: 123/281 | Z22: 118/316 | AA22: 98/244 | AB22: 106/300 | AC22: 95/239 | AD22: 113/312 | AE22: 96/253 | AF22: 118/308 | AG22: 119/307 | AH22: 120/284 | AI22: 99/242 | AJ22: 97/249
A23: Ethylene | B23: Up | C23: 5455 | D23: 1665/8668 | E23: =LEFT(D23, FIND("/",D23)-1)/C23*100 -> 30.522456 | F23: 68/405 | G23: 63/295 | H23: 72/356 | I23: 58/241 | J23: 57/276 | K23: 47/244 | L23: 40/218 | M23: 74/335 | N23: 55/295 | O23: 47/252 | P23: 50/238 | Q23: 32/241 | R23: 65/274 | S23: 42/241 | T23: 57/312 | U23: 48/256 | V23: 54/294 | W23: 54/283 | X23: 43/277 | Y23: 58/281 | Z23: 73/316 | AA23: 50/244 | AB23: 55/300 | AC23: 46/239 | AD23: 52/312 | AE23: 44/253 | AF23: 49/308 | AG23: 54/307 | AH23: 61/284 | AI23: 51/242 | AJ23: 46/249
B24: Down | C24: 5144 | D24: 1386/8668 | E24: =LEFT(D24, FIND("/",D24)-1)/C24*100 -> 26.944012 | F24: 65/405 | G24: 53/295 | H24: 51/356 | I24: 37/241 | J24: 50/276 | K24: 43/244 | L24: 44/218 | M24: 56/335 | N24: 43/295 | O24: 43/252 | P24: 27/238 | Q24: 32/241 | R24: 45/274 | S24: 48/241 | T24: 34/312 | U24: 41/256 | V24: 60/294 | W24: 56/283 | X24: 49/277 | Y24: 48/281 | Z24: 46/316 | AA24: 37/244 | AB24: 50/300 | AC24: 34/239 | AD24: 49/312 | AE24: 35/253 | AF24: 46/308 | AG24: 49/307 | AH24: 29/284 | AI24: 45/242 | AJ24: 41/249
B25: Down/Up | C25: 10218 | D25: 2929/8668 | E25: =LEFT(D25, FIND("/",D25)-1)/C25*100 -> 28.665101 | F25: 129/405 | G25: 111/295 | H25: 116/356 | I25: 91/241 | J25: 100/276 | K25: 84/244 | L25: 81/218 | M25: 127/335 | N25: 93/295 | O25: 87/252 | P25: 75/238 | Q25: 63/241 | R25: 107/274 | S25: 86/241 | T25: 88/312 | U25: 86/256 | V25: 110/294 | W25: 103/283 | X25: 90/277 | Y25: 101/281 | Z25: 113/316 | AA25: 83/244 | AB25: 99/300 | AC25: 77/239 | AD25: 96/312 | AE25: 77/253 | AF25: 91/308 | AG25: 100/307 | AH25: 89/284 | AI25: 93/242 | AJ25: 83/249
A26: Gibberellin | B26: Up | C26: 2552 | D26: 727/8668 | E26: =LEFT(D26, FIND("/",D26)-1)/C26*100 -> 28.487461 | F26: 30/405 | G26: 27/295 | H26: 32/356 | I26: 27/241 | J26: 27/276 | K26: 17/244 | L26: 20/218 | M26: 25/335 | N26: 27/295 | O26: 18/252 | P26: 16/238 | Q26: 24/241 | R26: 21/274 | S26: 25/241 | T26: 23/312 | U26: 23/256 | V26: 20/294 | W26: 23/283 | X26: 15/277 | Y26: 23/281 | Z26: 32/316 | AA26: 24/244 | AB26: 22/300 | AC26: 20/239 | AD26: 27/312 | AE26: 16/253 | AF26: 28/308 | AG26: 25/307 | AH26: 24/284 | AI26: 27/242 | AJ26: 19/249
B27: Down | C27: 1982 | D27: 635/8668 | E27: =LEFT(D27, FIND("/",D27)-1)/C27*100 -> 32.038345 | F27: 29/405 | G27: 23/295 | H27: 24/356 | I27: 19/241 | J27: 25/276 | K27: 18/244 | L27: 22/218 | M27: 25/335 | N27: 14/295 | O27: 13/252 | P27: 16/238 | Q27: 17/241 | R27: 23/274 | S27: 21/241 | T27: 15/312 | U27: 19/256 | V27: 19/294 | W27: 24/283 | X27: 18/277 | Y27: 24/281 | Z27: 24/316 | AA27: 21/244 | AB27: 21/300 | AC27: 17/239 | AD27: 23/312 | AE27: 21/253 | AF27: 16/308 | AG27: 23/307 | AH27: 25/284 | AI27: 17/242 | AJ27: 19/249
B28: Down/Up | C28: 4427 | D28: 1330/8668 | E28: =LEFT(D28, FIND("/",D28)-1)/C28*100 -> 30.042918 | F28: 58/405 | G28: 48/295 | H28: 52/356 | I28: 45/241 | J28: 51/276 | K28: 35/244 | L28: 40/218 | M28: 49/335 | N28: 39/295 | O28: 31/252 | P28: 32/238 | Q28: 40/241 | R28: 43/274 | S28: 45/241 | T28: 36/312 | U28: 42/256 | V28: 39/294 | W28: 45/283 | X28: 33/277 | Y28: 47/281 | Z28: 53/316 | AA28: 45/244 | AB28: 41/300 | AC28: 37/239 | AD28: 50/312 | AE28: 36/253 | AF28: 42/308 | AG28: 46/307 | AH28: 49/284 | AI28: 44/242 | AJ28: 37/249
A29: Jasmonic Acid | B29: Up | C29: 147 | D29: 42/8668 | E29: =LEFT(D29, FIND("/",D29)-1)/C29*100 -> 28.571429 | F29: 1/405 | G29: 1/295 | H29: 0/356 | I29: 1/241 | J29: 1/276 | K29: 3/244 | L29: 2/218 | M29: 5/335 | N29: 0/295 | O29: 1/252 | P29: 0/238 | Q29: 0/241 | R29: 1/274 | S29: 1/241 | T29: 0/312 | U29: 2/256 | V29: 0/294 | W29: 1/283 | X29: 1/277 | Y29: 0/281 | Z29: 1/316 | AA29: 2/244 | AB29: 2/300 | AC29: 1/239 | AD29: 5/312 | AE29: 1/253 | AF29: 3/308 | AG29: 1/307 | AH29: 2/284 | AI29: 0/242 | AJ29: 3/249
B30: Down | C30: 74 | D30: 32/8668 | E30: =LEFT(D30, FIND("/",D30)-1)/C30*100 -> 43.243243 | F30: 4/405 | G30: 0/295 | H30: 0/356 | I30: 1/241 | J30: 1/276 | K30: 0/244 | L30: 1/218 | M30: 2/335 | N30: 2/295 | O30: 1/252 | P30: 3/238 | Q30: 1/241 | R30: 0/274 | S30: 2/241 | T30: 1/312 | U30: 0/256 | V30: 0/294 | W30: 1/283 | X30: 1/277 | Y30: 1/281 | Z30: 1/316 | AA30: 1/244 | AB30: 1/300 | AC30: 0/239 | AD30: 1/312 | AE30: 0/253 | AF30: 2/308 | AG30: 0/307 | AH30: 0/284 | AI30: 1/242 | AJ30: 3/249
B31: Down/Up | C31: 221 | D31: 74/8668 | E31: =LEFT(D31, FIND("/",D31)-1)/C31*100 -> 33.484163 | F31: 5/405 | G31: 1/295 | H31: 0/356 | I31: 2/241 | J31: 2/276 | K31: 3/244 | L31: 3/218 | M31: 7/335 | N31: 2/295 | O31: 2/252 | P31: 3/238 | Q31: 1/241 | R31: 1/274 | S31: 3/241 | T31: 1/312 | U31: 2/256 | V31: 0/294 | W31: 2/283 | X31: 2/277 | Y31: 1/281 | Z31: 2/316 | AA31: 3/244 | AB31: 3/300 | AC31: 1/239 | AD31: 6/312 | AE31: 1/253 | AF31: 5/308 | AG31: 1/307 | AH31: 2/284 | AI31: 1/242 | AJ31: 6/249
A32: Salicyclic Acid | B32: Up | C32: 5513 | D32: 1734/8668 | E32: =LEFT(D32, FIND("/",D32)-1)/C32*100 -> 31.452929 | F32: 76/405 | G32: 62/295 | H32: 68/356 | I32: 58/241 | J32: 57/276 | K32: 43/244 | L32: 46/218 | M32: 60/335 | N32: 62/295 | O32: 41/252 | P32: 50/238 | Q32: 45/241 | R32: 64/274 | S32: 46/241 | T32: 50/312 | U32: 50/256 | V32: 59/294 | W32: 64/283 | X32: 47/277 | Y32: 68/281 | Z32: 66/316 | AA32: 51/244 | AB32: 60/300 | AC32: 47/239 | AD32: 58/312 | AE32: 45/253 | AF32: 62/308 | AG32: 51/307 | AH32: 60/284 | AI32: 60/242 | AJ32: 58/249
B33: Down | C33: 7463 | D33: 1991/8668 | E33: =LEFT(D33, FIND("/",D33)-1)/C33*100 -> 26.67828 | F33: 98/405 | G33: 73/295 | H33: 83/356 | I33: 59/241 | J33: 66/276 | K33: 52/244 | L33: 60/218 | M33: 80/335 | N33: 64/295 | O33: 60/252 | P33: 53/238 | Q33: 51/241 | R33: 71/274 | S33: 66/241 | T33: 49/312 | U33: 61/256 | V33: 65/294 | W33: 74/283 | X33: 66/277 | Y33: 59/281 | Z33: 77/316 | AA33: 55/244 | AB33: 65/300 | AC33: 54/239 | AD33: 73/312 | AE33: 58/253 | AF33: 57/308 | AG33: 74/307 | AH33: 58/284 | AI33: 60/242 | AJ33: 50/249
B34: Down/Up | C34: 12057 | D34: 3411/8668 | E34: =LEFT(D34, FIND("/",D34)-1)/C34*100 -> 28.29062 | F34: 151/405 | G34: 129/295 | H34: 140/356 | I34: 110/241 | J34: 115/276 | K34: 90/244 | L34: 93/218 | M34: 130/335 | N34: 113/295 | O34: 93/252 | P34: 95/238 | Q34: 91/241 | R34: 125/274 | S34: 106/241 | T34: 89/312 | U34: 99/256 | V34: 112/294 | W34: 123/283 | X34: 100/277 | Y34: 115/281 | Z34: 128/316 | AA34: 96/244 | AB34: 115/300 | AC34: 97/239 | AD34: 121/312 | AE34: 92/253 | AF34: 110/308 | AG34: 112/307 | AH34: 110/284 | AI34: 109/242 | AJ34: 102/249
A36: By Morphology
A38: Cambium | B38: Up | C38: 268 | D38: 62/8668 | E38: =LEFT(D38, FIND("/",D38)-1)/C38*100 -> 23.134328 | F38: 2/405 | G38: 0/295 | H38: 3/356 | I38: 3/241 | J38: 2/276 | K38: 2/244 | L38: 1/218 | M38: 5/335 | N38: 0/295 | O38: 1/252 | P38: 1/238 | Q38: 1/241 | R38: 0/274 | S38: 1/241 | T38: 2/312 | U38: 4/256 | V38: 2/294 | W38: 3/283 | X38: 5/277 | Y38: 1/281 | Z38: 0/316 | AA38: 3/244 | AB38: 3/300 | AC38: 1/239 | AD38: 2/312 | AE38: 3/253 | AF38: 5/308 | AG38: 4/307 | AH38: 1/284 | AI38: 0/242 | AJ38: 1/249
B39: Down | C39: 17 | D39: 4/8668 | E39: =LEFT(D39, FIND("/",D39)-1)/C39*100 -> 23.529412 | F39: 0/405 | G39: 0/295 | H39: 0/356 | I39: 0/241 | J39: 0/276 | K39: 1/244 | L39: 0/218 | M39: 1/335 | N39: 0/295 | O39: 0/252 | P39: 0/238 | Q39: 0/241 | R39: 0/274 | S39: 0/241 | T39: 0/312 | U39: 0/256 | V39: 0/294 | W39: 0/283 | X39: 0/277 | Y39: 0/281 | Z39: 1/316 | AA39: 0/244 | AB39: 0/300 | AC39: 0/239 | AD39: 0/312 | AE39: 1/253 | AF39: 0/308 | AG39: 0/307 | AH39: 0/284 | AI39: 0/242 | AJ39: 0/249
B40: Down/Up | C40: 285 | D40: 66/8668 | E40: =LEFT(D40, FIND("/",D40)-1)/C40*100 -> 23.157895 | F40: 2/405 | G40: 0/295 | H40: 3/356 | I40: 3/241 | J40: 2/276 | K40: 3/244 | L40: 1/218 | M40: 6/335 | N40: 0/295 | O40: 1/252 | P40: 1/238 | Q40: 1/241 | R40: 0/274 | S40: 1/241 | T40: 2/312 | U40: 4/256 | V40: 2/294 | W40: 3/283 | X40: 5/277 | Y40: 1/281 | Z40: 1/316 | AA40: 3/244 | AB40: 3/300 | AC40: 1/239 | AD40: 2/312 | AE40: 4/253 | AF40: 5/308 | AG40: 4/307 | AH40: 1/284 | AI40: 0/242 | AJ40: 1/249
A41: Flower | B41: Up | C41: 22081 | D41: 5920/8668 | E41: =LEFT(D41, FIND("/",D41)-1)/C41*100 -> 26.81038 | F41: 270/405 | G41: 221/295 | H41: 246/356 | I41: 179/241 | J41: 199/276 | K41: 157/244 | L41: 161/218 | M41: 230/335 | N41: 199/295 | O41: 156/252 | P41: 153/238 | Q41: 156/241 | R41: 188/274 | S41: 173/241 | T41: 175/312 | U41: 184/256 | V41: 200/294 | W41: 197/283 | X41: 190/277 | Y41: 207/281 | Z41: 223/316 | AA41: 171/244 | AB41: 202/300 | AC41: 165/239 | AD41: 207/312 | AE41: 159/253 | AF41: 212/308 | AG41: 203/307 | AH41: 197/284 | AI41: 171/242 | AJ41: 169/249
B42: Down | C42: 22227 | D42: 5945/8668 | E42: =LEFT(D42, FIND("/",D42)-1)/C42*100 -> 26.746749 | F42: 271/405 | G42: 221/295 | H42: 246/356 | I42: 181/241 | J42: 200/276 | K42: 157/244 | L42: 161/218 | M42: 231/335 | N42: 200/295 | O42: 157/252 | P42: 154/238 | Q42: 157/241 | R42: 189/274 | S42: 174/241 | T42: 176/312 | U42: 184/256 | V42: 200/294 | W42: 197/283 | X42: 192/277 | Y42: 205/281 | Z42: 224/316 | AA42: 171/244 | AB42: 203/300 | AC42: 165/239 | AD42: 210/312 | AE42: 161/253 | AF42: 212/308 | AG42: 204/307 | AH42: 199/284 | AI42: 172/242 | AJ42: 171/249
B43: Down/Up | C43: 22243 | D43: 5948/8668 | E43: =LEFT(D43, FIND("/",D43)-1)/C43*100 -> 26.740997 | F43: 271/405 | G43: 221/295 | H43: 246/356 | I43: 181/241 | J43: 200/276 | K43: 157/244 | L43: 161/218 | M43: 231/335 | N43: 200/295 | O43: 157/252 | P43: 154/238 | Q43: 157/241 | R43: 189/274 | S43: 174/241 | T43: 176/312 | U43: 184/256 | V43: 200/294 | W43: 197/283 | X43: 192/277 | Y43: 207/281 | Z43: 224/316 | AA43: 171/244 | AB43: 203/300 | AC43: 165/239 | AD43: 210/312 | AE43: 161/253 | AF43: 212/308 | AG43: 204/307 | AH43: 199/284 | AI43: 172/242 | AJ43: 172/249
A44: Leaf | B44: Up | C44: 19028 | D44: 5084/8668 | E44: =LEFT(D44, FIND("/",D44)-1)/C44*100 -> 26.71852 | F44: 222/405 | G44: 197/295 | H44: 217/356 | I44: 162/241 | J44: 170/276 | K44: 133/244 | L44: 145/218 | M44: 194/335 | N44: 171/295 | O44: 137/252 | P44: 137/238 | Q44: 131/241 | R44: 165/274 | S44: 153/241 | T44: 148/312 | U44: 157/256 | V44: 173/294 | W44: 162/283 | X44: 158/277 | Y44: 173/281 | Z44: 188/316 | AA44: 148/244 | AB44: 174/300 | AC44: 134/239 | AD44: 180/312 | AE44: 139/253 | AF44: 183/308 | AG44: 170/307 | AH44: 165/284 | AI44: 151/242 | AJ44: 147/249
B45: Down | C45: 20894 | D45: 5581/8668 | E45: =LEFT(D45, FIND("/",D45)-1)/C45*100 -> 26.711018 | F45: 256/405 | G45: 205/295 | H45: 231/356 | I45: 174/241 | J45: 182/276 | K45: 146/244 | L45: 150/218 | M45: 210/335 | N45: 190/295 | O45: 147/252 | P45: 147/238 | Q45: 147/241 | R45: 181/274 | S45: 156/241 | T45: 167/312 | U45: 175/256 | V45: 189/294 | W45: 189/283 | X45: 182/277 | Y45: 189/281 | Z45: 208/316 | AA45: 159/244 | AB45: 196/300 | AC45: 156/239 | AD45: 195/312 | AE45: 152/253 | AF45: 203/308 | AG45: 191/307 | AH45: 183/284 | AI45: 159/242 | AJ45: 166/249
B46: Down/Up | C46: 22170 | D46: 5939/8668 | E46: =LEFT(D46, FIND("/",D46)-1)/C46*100 -> 26.788453 | F46: 271/405 | G46: 221/295 | H46: 245/356 | I46: 181/241 | J46: 200/276 | K46: 157/244 | L46: 161/218 | M46: 230/335 | N46: 199/295 | O46: 157/252 | P46: 154/238 | Q46: 157/241 | R46: 189/274 | S46: 174/241 | T46: 176/312 | U46: 183/256 | V46: 200/294 | W46: 197/283 | X46: 191/277 | Y46: 207/281 | Z46: 224/316 | AA46: 170/244 | AB46: 203/300 | AC46: 165/239 | AD46: 210/312 | AE46: 160/253 | AF46: 212/308 | AG46: 203/307 | AH46: 198/284 | AI46: 172/242 | AJ46: 172/249
A47: Pollen | B47: Up | C47: 10770 | D47: 2817/8668 | E47: =LEFT(D47, FIND("/",D47)-1)/C47*100 -> 26.155989 | F47: 129/405 | G47: 91/295 | H47: 116/356 | I47: 96/241 | J47: 98/276 | K47: 65/244 | L47: 79/218 | M47: 113/335 | N47: 116/295 | O47: 63/252 | P47: 74/238 | Q47: 65/241 | R47: 73/274 | S47: 71/241 | T47: 85/312 | U47: 89/256 | V47: 101/294 | W47: 82/283 | X47: 94/277 | Y47: 97/281 | Z47: 113/316 | AA47: 83/244 | AB47: 103/300 | AC47: 79/239 | AD47: 104/312 | AE47: 83/253 | AF47: 111/308 | AG47: 106/307 | AH47: 87/284 | AI47: 76/242 | AJ47: 75/249
...

Sheet 3B
B1: Supplementary Table 3 B. Likelihood of involvment of genes with ACGT cis elements with given conditions
A4: Condition | B4: Regulation | C4: Likelihood of involvement (overall) = X/Y | D4: Likelihood of involvement for particular spacer distance = X/Y
D5: 0 | E5: 1 | F5: 2 | G5: 3 | H5: 4 | I5: 5 | J5: 6 | K5: 7 | L5: 8 | M5: 9 | N5: 10 | O5: 11 | P5: 12 | Q5: 13 | R5: 14 | S5: 15 | T5: 16 | U5: 17 | V5: 18 | W5: 19 | X5: 20 | Y5: 21 | Z5: 22 | AA5: 23 | AB5: 24 | AC5: 25 | AD5: 26 | AE5: 27 | AF5: 28 | AG5: 29 | AH5: 30
A7: By Developmental Stage
A9: Embryo | B9: Up | C9: 0.89450136 | D9: 0.75417876 | E9: 1.0884953 | F9: 0.94598265 | G9: 0.74743857 | H9: 0.6242784 | I9: 0.8024443 | J9: 1.1496303 | K9: 1.0520404 | L9: 0.87610596 | M9: 0.74589108 | N9: 0.98720878 | O9: 0.74743857 | P9: 0.85750252 | Q9: 1.2673958 | R9: 0.97898204 | S9: 0.76482972 | T9: 0.98564178 | U9: 0.96860414 | V9: 0.65029854 | W9: 0.891884 | X9: 0.64439324 | Y9: 0.96293316 | Z9: 0.93982276 | AA9: 0.95030893 | AB9: 0.75306311 | AC9: 1.0525024 | AD9: 0.9916961 | AE9: 0.86737171 | AF9: 1.0203475 | AG9: 1.0032543 | AH9: 0.75487772
B10: Down | C10: 1.1517375 | D10: 1.1180358 | E10: 1.3887466 | F10: 1.1810711 | G10: 1.7446528 | H10: 1.0546689 | I10: 1.1929861 | J10: 0.93963362 | K10: 0.96546801 | L10: 0.9136491 | M10: 1.1123315 | N10: 0.95126995 | O10: 1.2973059 | P10: 0.94432637 | Q10: 1.3420406 | R10: 0.69109355 | S10: 1.2634054 | T10: 0.88008648 | U10: 1.2571553 | V10: 1.2843861 | W10: 1.3044698 | X10: 1.2964565 | Y10: 1.1488014 | Z10: 1.0421691 | AA10: 1.0826168 | AB10: 1.1403044 | AC10: 1.1931607 | AD10: 1.1551135 | AE10: 1.0535237 | AF10: 0.94903692 | AG10: 1.2028455 | AH10: 1.8617894
B11: Down/Up | C11: 1.0017169 | D11: 0.90748003 | E11: 1.2147159 | F11: 1.0452908 | G11: 1.1628265 | H11: 0.81562234 | I11: 0.97907425 | J11: 1.0536967 | K11: 1.0285338 | L11: 0.88767697 | M11: 0.91153128 | N11: 0.96515077 | O11: 0.9912619 | P11: 0.90541005 | Q11: 1.2962656 | R11: 0.83930995 | S11: 0.98701746 | T11: 0.92194878 | U11: 1.0714197 | V11: 0.8790189 | W11: 1.0463471 | X11: 0.88683917 | Y11: 1.0355593 | Z11: 0.99539216 | AA11: 1.0187792 | AB11: 0.92765837 | AC11: 1.1258312 | AD11: 1.0739496 | AE11: 0.95773137 | AF11: 0.98676471 | AG11: 1.0631016 | AH11: 1.2361682
A12: Seedling | B12: Up | C12: 1.0972792 | D12: 1.0137963 | E12: 1.1771261 | F12: 1.17174 | G12: 1.2233891 | H12: 1.2502472 | I12: 1.029333 | J12: 1.1420792 | K12: 1.0561317 | L12: 1.0882864 | M12: 1.0486552 | N12: 1.0552826 | O12: 1.0965191 | P12: 1.1716952 | Q12: 1.1690162 | R12: 0.90299011 | S12: 1.0663946 | T12: 1.0399886 | U12: 1.0109571 | V12: 1.0249707 | W12: 1.2280008 | X12: 1.2578596 | Y12: 1.091988 | Z12: 1.099268 | AA12: 0.95034942 | AB12: 1.098988 | AC12: 1.0186133 | AD12: 1.1061697 | AE12: 1.0172918 | AF12: 1.1227483 | AG12: 1.1732103 | AH12: 1.1489995
B13: Down | C13: 1.015559 | D13: 0.98519052 | E13: 1.10016 | F13: 0.98672649 | G13: 1.0456488 | H13: 1.0859743 | I13: 0.98584736 | J13: 1.1296975 | K13: 1.0428822 | L13: 0.99014404 | M13: 0.99242962 | N13: 0.94652919 | O13: 0.966433 | P13: 1.0172583 | Q13: 1.0694136 | R13: 0.79545885 | S13: 1.1260714 | T13: 0.98052479 | U13: 1.0658586 | V13: 1.0338093 | W13: 1.0666509 | X13: 1.0330896 | Y13: 1.0875618 | Z13: 0.92909594 | AA13: 1.054399 | AB13: 0.99738302 | AC13: 0.94323184 | AD13: 1.0847166 | AE13: 0.97009705 | AF13: 0.99488375 | AG13: 1.0334391 | AH13: 1.0197207
B14: Down/Up | C14: 1.0363044 | D14: 1.0156815 | E14: 1.1258571 | F14: 1.0356527 | G14: 1.1315787 | H14: 1.1040016 | I14: 0.97405518 | J14: 1.1251701 | K14: 1.0460003 | L14: 1.0225674 | M14: 0.94917852 | N14: 0.97940713 | O14: 0.99250202 | P14: 1.0397761 | Q14: 1.0936487 | R14: 0.84965662 | S14: 1.0831291 | T14: 1.0208635 | U14: 1.0497768 | V14: 1.0395152 | W14: 1.1168882 | X14: 1.0703226 | Y14: 1.0489825 | Z14: 1.0258383 | AA14: 1.0390549 | AB14: 1.0156815 | AC14: 0.95747048 | AD14: 1.0486581 | AE14: 0.98756 | AF14: 1.0568094 | AG14: 1.0765384 | AH14: 1.0462743
A16: Regulated by hormones
A18: ABA | B18: Up | C18: 1.1902073 | D18: 1.1190615 | E18: 1.3240814 | F18: 1.0720755 | G18: 1.4104354 | H18: 1.2207726 | I18: 1.1486916 | J18: 1.2173036 | K18: 1.1570815 | L18: 1.3038664 | M18: 1.0648964 | N18: 0.9396145 | O18: 1.1011294 | P18: 1.3602692 | Q18: 1.2619686 | R18: 0.90789248 | S18: 1.3627347 | T18: 1.1358895 | U18: 1.1695046 | V18: 1.1302511 | W18: 1.3157724 | X18: 1.2927034 | Y18: 1.2831129 | Z18: 1.1429888 | AA18: 1.1851985 | AB18: 1.1468115 | AC18: 0.97818945 | AD18: 1.2197905 | AE18: 1.1849141 | AF18: 1.2703765 | AG18: 1.3306805 | AH18: 1.2333981
B19: Down | C19: 0.89053716 | D19: 0.89639417 | E19: 1.0317511 | F19: 0.73135326 | G19: 0.88253066 | H19: 0.94333971 | I19: 0.85665091 | J19: 0.97564169 | K19: 1.0289681 | L19: 0.82042856 | M19: 0.82945564 | N19: 0.87824715 | O19: 1.0346911 | P19: 0.93684195 | Q19: 0.88253066 | R19: 0.69345178 | S19: 0.83081988 | T19: 0.97289534 | U19: 1.0107111 | V19: 0.90021862 | W19: 0.87435406 | X19: 0.89355748 | Y19: 0.78150609 | Z19: 0.89231965 | AA19: 0.99731949 | AB19: 0.86975308 | AC19: 0.85516583 | AD19: 0.85723645 | AE19: 0.88391844 | AF19: 0.78764468 | AG19: 0.87888384 | AH19: 0.9572665
B20: Down/Up | C20: 1.1089256 | D20: 1.0548331 | E20: 1.1737724 | F20: 1.0547552 | G20: 1.1942029 | H20: 1.1486698 | I20: 1.12423 | J20: 1.2789406 | K20: 1.1208741 | L20: 1.1966381 | M20: 0.98147068 | N20: 0.98252038 | O20: 1.1195652 | P20: 1.1898785 | Q20: 1.1755435 | R20: 0.83596593 | S20: 1.115447 | T20: 1.1089344 | U20: 1.0964222 | V20: 1.0958199 | W20: 1.192244 | X20: 1.1598069 | Y20: 1.12423 | Z20: 1.0942506 | AA20: 1.1195262 | AB20: 1.0089244 | AC20: 1.0042529 | AD20: 1.1023295 | AE20: 1.135216 | AF20: 1.1638156 | AG20: 1.1892682 | AH20: 1.137775
A21: Auxin | B21: Up | C21: 0.98490202 | D21: 0.91600714 | E21: 1.0888708 | F21: 0.74979414 | G21: 1.0324896 | H21: 0.91794989 | I21: 0.94562812 | J21: 1.2866938 | K21: 0.91834134 | L21: 0.88950011 | M21: 0.87970198 | N21: 0.85541249 | O21: 0.93862689 | P21: 0.97418509 | Q21: 1.1451248 | R21: 0.75403027 | S21: 1.0957002 | T21: 1.0617977 | U21: 1.1190555 | V21: 0.96363435 | W21: 1.0304186 | X21: 0.85902182 | Y21: 1.0754202 | Z21: 0.90483632 | AA21: 1.0600593 | AB21: 1.0150407 | AC21: 0.89410704 | AD21: 1.1310454 | AE21: 1.0315724 | AF21: 1.0673245 | AG21: 1.0282231 | AH21: 1.126503
B22: Down | C22: 1.0826277 | D22: 1.010399 | E22: 1.1997042 | F22: 1.1960709 | G22: 1.2620073 | H22: 1.1821134 | I22: 0.92920222 | J22: 0.9892916 | K22: 1.1720058 | L22: 0.97475963 | M22: 1.1410877 | N22: 0.90615785 | O22: 1.055497 | P22: 1.3118344 | Q22: 1.2390617 | R22: 1.0457157 | S22: 1.0152526 | T22: 1.1473574 | U22: 1.1528738 | V22: 0.91832048 | W22: 1.3381931 | X22: 1.1549763 | Y22: 0.95186569 | Z22: 0.97694659 | AA22: 1.0874672 | AB22: 0.95709572 | AC22: 1.1584347 | AD22: 0.8438463 | AE22: 1.0267216 | AF22: 1.1877573 | AG22: 1.0739862 | AH22: 0.93275192
B23: Down/Up | C23: 1.0278059 | D23: 0.94480145 | E23: 1.1271354 | F23: 0.98589171 | G23: 1.1497405 | H23: 1.0517467 | I23: 0.96255987 | J23: 1.1136761 | K23: 1.0161843 | L23: 0.95717056 | M23: 0.95294629 | N23: 0.88703468 | O23: 1.0183416 | P23: 1.1268416 | Q23: 1.1716403 | R23: 0.88810083 | S23: 1.0617563 | T23: 1.0681376 | U23: 1.1469547 | V23: 0.95268165 | W23: 1.155118 | X23: 0.98542255 | Y23: 1.0598974 | Z23: 0.93242129 | AA23: 1.0489463 | AB23: 0.95576565 | AC23: 1.0013324 | AD23: 1.0110179 | AE23: 1.022907 | AF23: 1.1150401 | AG23: 1.0795615 | AH23: 1.0280162
A24: Ethylene | B24: Up | C24: 1.1825515 | D24: 1.0336622 | E24: 1.3147503 | F24: 1.2451086 | G24: 1.4816161 | H24: 1.2714243 | I24: 1.1858582 | J24: 1.1296092 | K24: 1.3599146 | L24: 1.1477979 | M24: 1.1482119 | N24: 1.2933551 | O24: 0.81744336 | P24: 1.4604528 | Q24: 1.0728944 | R24: 1.1247215 | S24: 1.1543194 | T24: 1.1307619 | U24: 1.1747138 | V24: 0.95568203 | W24: 1.2707099 | X24: 1.4221995 | Y24: 1.2615513 | Z24: 1.1286679 | AA24: 1.1849081 | AB24: 1.0260617 | AC24: 1.0706731 | AD24: 0.97942255 | AE24: 1.0828795 | AF24: 1.322319 | AG24: 1.2974169 | AH24: 1.1373214
B25: Down | C25: 1.0439095 | D25: 1.0477963 | E25: 1.1729308 | F25: 0.93527367 | G25: 1.0023126 | H25: 1.1827132 | I25: 1.1505279 | J25: 1.3176944 | K25: 1.0913442 | L25: 0.95162309 | M25: 1.1140032 | N25: 0.74063688 | O25: 0.86686499 | P25: 1.0722115 | Q25: 1.3002975 | R25: 0.71144749 | S25: 1.0455924 | T25: 1.3323626 | U25: 1.2918739 | V25: 1.1548746 | W25: 1.1152018 | X25: 0.95036247 | Y25: 0.98998913 | Z25: 1.0880962 | AA25: 0.92875154 | AB25: 1.0253214 | AC25: 0.90316282 | AD25: 0.97504721 | AE25: 1.0420204 | AF25: 0.66665047 | AG25: 1.2139916 | AH25: 1.0749866
B26: Down/Up | C26: 1.1105908 | D26: 1.0468592 | E26: 1.2366721 | F26: 1.0709312 | G26: 1.2410176 | H26: 1.1908156 | I26: 1.13147 | J26: 1.2211868 | K26: 1.2459841 | L26: 1.0361307 | M26: 1.1346771 | N26: 1.0357094 | O26: 0.85916603 | P26: 1.2834732 | Q26: 1.1728298 | R26: 0.92700413 | S26: 1.1041093 | T26: 1.2296994 | U26: 1.1962016 | V26: 1.0678649 | W26: 1.181323 | X26: 1.1752898 | Y26: 1.1180001 | Z26: 1.0845948 | AA26: 1.0588792 | AB26: 1.0112772 | AC26: 1.0002851 | AD26: 0.97105598 | AE26: 1.0705704 | AF26: 1.0299716 | AG26: 1.2630518 | AH26: 1.0955503
A27: Gibberellin | B27: Up | C27: 1.1037083 | D27: 0.9747765 | E27: 1.2044272 | F27: 1.1828749 | G27: 1.4742989 | H27: 1.2873407 | I27: 0.91684921 | J27: 1.207292 | K27: 0.98205095 | L27: 1.2044272 | M27: 0.93996305 | N27: 0.88467111 | O27: 1.3104879 | P27: 1.0085735 | Q27: 1.3650916 | R27: 0.97009008 | S27: 1.1822973 | T27: 0.89520291 | U27: 1.0694986 | V27: 0.71260737 | W27: 1.0771107 | X27: 1.3326058 | Y27: 1.2943754 | Z27: 0.96502874 | AA27: 1.1012119 | AB27: 1.1388014 | AC27: 0.83222025 | AD27: 1.1963166 | AE27: 1.0716191 | AF27: 1.112069 | AG27: 1.4682068 | AH27: 1.0041372
B28: Down | C28: 1.2412826 | D28: 1.2132738 | E28: 1.3210573 | F28: 1.1422919 | G28: 1.3358337 | H28: 1.5347822 | I28: 1.2499669 | J28: 1.7099445 | K28: 1.2644773 | L28: 0.80412184 | M28: 0.87409503 | N28: 1.1390922 | O28: 1.1952196 | P28: 1.4223062 | Q28: 1.4764478 | R28: 0.81461519 | S28: 1.2575622 | T28: 1.0950201 | U28: 1.4369467 | V28: 1.1010539 | W28: 1.447174 | X28: 1.2868858 | Y28: 1.4582947 | Z28: 1.1860797 | AA28: 1.2052215 | AB28: 1.2490766 | AC28: 1.4064186 | AD28: 0.88020758 | AE28: 1.2694199 | AF28: 1.4915489 | AG28: 1.1902807 | AH28: 1.2929154
B29: Down/Up | C29: 1.1639725 | D29: 1.0863829 | E29: 1.234324 | F29: 1.1080601 | G29: 1.4164637 | H29: 1.4017516 | I29: 1.0881485 | J29: 1.3919174 | K29: 1.1095867 | L29: 1.0028883 | M29: 0.93319224 | N29: 1.0199596 | O29: 1.2590788 | P29: 1.1904958 | Q29: 1.4164637 | R29: 0.87530191 | S29: 1.2445699 | T29: 1.0062995 | U29: 1.2062464 | V29: 0.90374132 | W29: 1.2688244 | X29: 1.272327 | Y29: 1.3990481 | Z29: 1.0367465 | AA29: 1.1743939 | AB29: 1.2156971 | AC29: 1.0794237 | AD29: 1.0344477 | AE29: 1.136657 | AF29: 1.3088435 | AG29: 1.3792636 | AH29: 1.1272295
A30: Jasmonic Acid | B30: Up | C30: 1.1069616 | D30: 0.56408835 | E30: 0.77442638 | F30: 0 | G30: 0.9479493 | H30: 0.82773834 | I30: 2.8088826 | J30: 2.0959246 | K30: 3.4097878 | L30: 0 | M30: 0.90657056 | N30: 0 | O30: 0 | P30: 0.83378023 | Q30: 0.9479493 | R30: 0 | S30: 1.7848108 | T30: 0 | U30: 0.80726425 | V30: 0.82475012 | W30: 0 | X30: 0.72296134 | Y30: 1.8725884 | Z30: 1.5230385 | AA30: 0.95588193 | AB30: 3.6611504 | AC30: 0.90298728 | AD30: 2.2252187 | AE30: 0.74415564 | AF30: 1.6088435 | AG30: 0 | AH30: 2.7524793
B31: Down | C31: 1.6754013 | D31: 4.4822155 | E31: 0 | F31: 0 | G31: 1.8830885 | H31: 1.644291 | I31: 0 | J31: 2.081763 | K31: 2.709399 | L31: 3.0767751 | M31: 1.8008902 | N31: 5.7204747 | O31: 1.8830885 | P31: 0 | Q31: 3.766177 | R31: 1.4545651 | S31: 0 | T31: 0 | U31: 1.6036195 | V31: 1.638355 | W31: 1.6150332 | X31: 1.4361529 | Y31: 1.8599358 | Z31: 1.5127477 | AA31: 0 | AB31: 1.4545651 | AC31: 0 | AD31: 2.9469112 | AE31: 0 | AF31: 0 | AG31: 1.8753071 | AH31: 5.4677629
B32: Down/Up | C32: 1.2972988 | D32: 1.8760404 | E32: 0.51511619 | F32: 0 | G32: 1.2610728 | H32: 1.1011542 | I32: 1.8683518 | J32: 2.0911827 | K32: 3.1752685 | L32: 1.0302324 | M32: 1.206026 | N32: 1.9154531 | O32: 0.63053642 | P32: 0.5545959 | Q32: 1.8916092 | R32: 0.48704896 | S32: 1.1871818 | T32: 0 | U32: 1.0739171 | V32: 1.0971789 | W32: 0.54078034 | X32: 0.96176757 | Y32: 1.8683518 | Z32: 1.5195928 | AA32: 0.63581287 | AB32: 2.9222938 | AC32: 0.60062955 | AD32: 2.4668714 | AE32: 0.49498136 | AF32: 1.0701357 | AG32: 0.62793089 | AH32: 3.6616693
A33: Salicyclic Acid | B33: Up | C33: 1.2186014 | D33: 1.1431154 | E33: 1.2802688 | F33: 1.1635644 | G33: 1.4660286 | H33: 1.2580482 | I33: 1.07352 | J33: 1.2853838 | K33: 1.0910331 | L33: 1.2802688 | M33: 0.99109392 | N33: 1.2797482 | O33: 1.137436 | P33: 1.4228559 | Q33: 1.1627124 | R33: 0.97621822 | S33: 1.189766 | T33: 1.2224643 | U33: 1.377606 | V33: 1.0335931 | W33: 1.4741242 | X33: 1.2722966 | Y33: 1.2732446 | Z33: 1.2183203 | AA33: 1.19793 | AB33: 1.1324131 | AC33: 1.0834865 | AD33: 1.2262315 | AE33: 1.0119599 | AF33: 1.2869581 | AG33: 1.5103145 | AH33: 1.4189273
B34: Down | C34: 1.0336141 | D34: 1.0888727 | E34: 1.1135427 | F34: 1.0491417 | G34: 1.1016433 | H34: 1.0760709 | I34: 0.95900212 | J34: 1.2385137 | K34: 1.0746109 | L34: 0.97625665 | M34: 1.0714126 | N34: 1.0020859 | O34: 0.95226798 | P34: 1.166041 | Q34: 1.2323468 | R34: 0.70672025 | S34: 1.0722497 | T34: 0.99488315 | U34: 1.1766609 | V34: 1.0721862 | W34: 0.94482579 | X34: 1.0965027 | Y34: 1.0143292 | Z34: 0.97498548 | AA34: 1.0167213 | AB34: 1.0528689 | AC34: 1.0316052 | AD34: 0.83277981 | AE34: 1.0846744 | AF34: 0.9190004 | AG34: 1.1156859 | AH34: 0.903601
B35: Down/Up | C35: 1.096082 | D35: 1.0384896 | E35: 1.2180018 | F35: 1.0953635 | G35: 1.2713229 | H35: 1.1605637 | I35: 1.0273843 | J35: 1.1882469 | K35: 1.0808832 | L35: 1.0669318 | M35: 1.0279279 | N35: 1.1118005 | O35: 1.0517308 | P35: 1.2706902 | Q35: 1.225093 | R35: 0.79453977 | S35: 1.0771482 | T35: 1.0610868 | U35: 1.2105951 | V35: 1.0055426 | W35: 1.1399131 | X35: 1.1282442 | Y35: 1.0958766 | Z35: 1.0677186 | AA35: 1.130457 | AB35: 1.080217 | AC35: 1.0128556 | AD35: 0.9947689 | AE35: 1.0161548 | AF35: 1.0788339 | AG35: 1.2545598 | AH35: 1.1409879
A37: By Morphology
A39: Cambium | B39: Up | C39: 0.89630843 | D39: 0.61881334 | E39: 0 | F39: 1.0559806 | G39: 1.5598718 | H39: 0.90804132 | I39: 1.0271287 | J39: 0.57481514 | K39: 1.8702941 | L39: 0 | M39: 0.49726072 | N39: 0.52651135 | O39: 0.51995727 | P39: 0 | Q39: 0.51995727 | R39: 0.80326732 | S39: 1.9579641 | T39: 0.85244695 | U39: 1.3283714 | V39: 2.261908 | W39: 0.445942 | X39: 0 | Y39: 1.5406931 | Z39: 1.253097 | AA39: 0.52430837 | AB39: 0.80326732 | AC39: 1.4858858 | AD39: 2.0342484 | AE39: 1.6326997 | AF39: 0.44123134 | AG39: 0 | AH39: 0.50325181
B40: Down | C40: 0.91161541 | D40: 0 | E40: 0 | F40: 0 | G40: 0 | H40: 0 | I40: 8.0961909 | J40: 0 | K40: 5.8969271 | L40: 0 | M40: 0 | N40: 0 | O40: 0 | P40: 0 | Q40: 0 | R40: 0 | S40: 0 | T40: 0 | U40: 0 | V40: 0 | W40: 0 | X40: 6.2514892 | Y40: 0 | Z40: 0 | AA40: 0 | AB40: 0 | AC40: 7.8081841 | AD40: 0 | AE40: 0 | AF40: 0 | AG40: 0 | AH40: 0
B41: Down/Up | C41: 0.89722148 | D41: 0.58190167 | E41: 0 | F41: 0.99299231 | G41: 1.4668268 | H41: 0.85387745 | I41: 1.4487921 | J41: 0.54052793 | K41: 2.1104792 | L41: 0 | M41: 0.46759955 | N41: 0.49510541 | O41: 0.48894227 | P41: 0 | Q41: 0.48894227 | R41: 0.75535313 | S41: 1.8411732 | T41: 0.80159924 | U41: 1.2491352 | V41: 2.1269871 | W41: 0.41934195 | X41: 0.37289585 | Y41: 1.4487921 | Z41: 1.1783509 | AA41: 0.49303384 | AB41: 0.75535313 | AC41: 1.8630053 | AD41: 1.9129073 | AE41: 1.5353106 | AF41: 0.41491228 | AG41: 0 | AH41: 0.47323328
A42: Flower | B42: Up | C42: 1.0387321 | D42: 1.0139335 | E42: 1.1393863 | F42: 1.0509592 | G42: 1.1296314 | H42: 1.0965912 | I42: 0.97861209 | J42: 1.1232337 | K42: 1.0442002 | L42: 1.0259633 | M42: 0.94150972 | N42: 0.97772164 | O42: 0.9844832 | P42: 1.0435374 | Q42: 1.0917666 | R42: 0.85306909 | S42: 1.0931471 | T42: 1.0346261 | U42: 1.0587186 | V42: 1.0432168 | W42: 1.1203785 | X42: 1.0732936 | Y42: 1.0658769 | Z42: 1.0240729 | AA42: 1.0499939 | AB42: 1.0090589 | AC42: 0.95582273 | AD42: 1.0468535 | AE42: 1.0056768 | AF42: 1.0549907 | AG42: 1.0746858 | AH42: 1.0322576
B43: Down | C43: 1.0362668 | D43: 1.0110041 | E43: 1.1319022 | F43: 1.0440559 | G43: 1.1347499 | H43: 1.0948624 | I43: 0.97218399 | J43: 1.1158557 | K43: 1.0418515 | L43: 1.0243459 | M43: 0.94132101 | N43: 0.97764775 | O43: 0.98428587 | P43: 1.0421972 | Q43: 1.0908646 | R43: 0.85230829 | S43: 1.0859667 | T43: 1.02783 | U43: 1.0517643 | V43: 1.0472735 | W43: 1.1022654 | X43: 1.0710249 | Y43: 1.0588756 | Z43: 1.0223825 | AA43: 1.043097 | AB43: 1.0169588 | AC43: 0.96148828 | AD43: 1.0399771 | AE43: 1.0039924 | AF43: 1.0587011 | AG43: 1.07387 | AH43: 1.037613
B44: Down/Up | C44: 1.036044 | D44: 1.0102768 | E44: 1.131088 | F44: 1.0433049 | G44: 1.1339337 | H44: 1.0940749 | I44: 0.97148467 | J44: 1.115053 | K44: 1.041102 | L44: 1.023609 | M44: 0.94064389 | N44: 0.9769445 | O44: 0.98357784 | P44: 1.0414475 | Q44: 1.0900799 | R44: 0.8516952 | S44: 1.0851855 | T44: 1.0270907 | U44: 1.0510077 | V44: 1.0465201 | W44: 1.1122186 | X44: 1.0702545 | Y44: 1.0581139 | Z44: 1.0216471 | AA44: 1.0423466 | AB44: 1.0162272 | AC44: 0.96079666 | AD44: 1.039229 | AE44: 1.0032702 | AF44: 1.0579396 | AG44: 1.0730976 | AH44: 1.0429302
A45: Leaf | B45: Up | C45: 1.0351731 | D45: 0.96744057 | E45: 1.1786112 | F45: 1.0758113 | G45: 1.1863814 | H45: 1.0870917 | I45: 0.96202899 | J45: 1.1739183 | K45: 1.0220762 | L45: 1.0230584 | M45: 0.95950308 | N45: 1.0159444 | O45: 0.95935778 | P45: 1.06282 | Q45: 1.1204713 | R45: 0.83720819 | S45: 1.0823956 | T45: 1.0385445 | U45: 1.0103106 | V45: 1.0067083 | W45: 1.0865911 | X45: 1.0500189 | Y45: 1.0705285 | Z45: 1.0236567 | AA45: 0.98953975 | AB45: 1.0182262 | AC45: 0.96966256 | AD45: 1.0486407 | AE45: 0.97732024 | AF45: 1.0253968 | AG45: 1.1012551 | AH45: 1.0419439
B46: Down | C46: 1.0348824 | D46: 1.0159746 | E46: 1.1169397 | F46: 1.0429413 | G46: 1.1604598 | H46: 1.0598886 | I46: 0.9617472 | J46: 1.1059428 | K46: 1.0075634 | L46: 1.0352124 | M46: 0.93759373 | N46: 0.9927463 | O46: 0.98038846 | P46: 1.0617589 | Q46: 1.0404122 | R46: 0.86031952 | S46: 1.0987426 | T46: 1.0332666 | U46: 1.0734289 | V46: 1.0560622 | W46: 1.0810689 | X46: 1.0579719 | Y46: 1.0473822 | Z46: 1.050105 | AA46: 1.0491186 | AB46: 1.0045647 | AC46: 0.96565271 | AD46: 1.0593591 | AE46: 0.99998363 | AF46: 1.0356921 | AG46: 1.0560383 | AH46: 1.0715357
B47: Down/Up | C47: 1.0378826 | D47: 1.0136034 | E47: 1.1348124 | F47: 1.0424852 | G47: 1.1376674 | H47: 1.0976774 | I47: 0.97468352 | J47: 1.1187246 | K47: 1.0400083 | L47: 1.0218446 | M47: 0.94374118 | N47: 0.98016132 | O47: 0.98681651 | P47: 1.0448767 | Q47: 1.0936693 | R47: 0.85449961 | S47: 1.0828416 | T47: 1.0304726 | U47: 1.0544684 | V47: 1.0444975 | W47: 1.1158808 | X47: 1.0737786 | Y47: 1.0553898 | Z47: 1.0250111 | AA47: 1.0457788 | AB47: 1.0195734 | AC47: 0.95797298 | AD47: 1.0426509 | AE47: 1.0016395 | AF47: 1.0560893 | AG47: 1.076631 | AH47: 1.0463643
A48: Pollen | B48: Up | C48: 1.0133786 | D48: 0.99320403 | E48: 0.96188502 | F48: 1.0160423 | G48: 1.242104 | H48: 1.1071865 | I48: 0.83066769 | J48: 1.1299894 | K48: 1.0518103 | L48: 1.2261391 | M48: 0.77954968 | N48: 0.96952397 | O48: 0.84100795 | P48: 0.83076097 | Q48: 0.91863945 | R48: 0.84950926 | S48: 1.0840613 | T48: 1.0712179 | U48: 0.90350634 | V48: 1.0581613 | W48: 1.0763889 | X48: 1.1150521 | Y48: 1.0606987 | Z48: 1.0705816 | AA48: 1.0307017 | AB48: 1.0393996 | AC48: 1.0229664 | AD48: 1.1237664 | AE48: 1.0766419 | AF48: 0.95522284 | AG48: 0.97926901 | AH48: 0.93921648
...

Sheet 3C
B1: Supplementary Table 3 C. Functional analysis of Arabidopsis genes containing control cis-elements for selected conditions
A4: Condition | B4: Total number of genes regulated by the condition (out of 33323) | C4: cis- element | D4: Probability that a gene is regulated by a given condition: Y = (B/33323) | E4: No. of genes involved in the condition with cis-element/ Total number of genes in the genome with cis element: X | F4: Spacer wise distribution (No. of genes involved in the condition with cis-element/ Total number of genes in the genome with cis element: X for a particular N)
F5: 0 | G5: 1 | H5: 2 | I5: 3 | J5: 4 | K5: 5 | L5: 6 | M5: 7 | N5: 8 | O5: 9 | P5: 10 | Q5: 11 | R5: 12 | S5: 13 | T5: 14 | U5: 15 | V5: 16 | W5: 17 | X5: 18 | Y5: 19 | Z5: 20 | AA5: 21 | AB5: 22 | AC5: 23 | AD5: 24 | AE5: 25 | AF5: 26 | AG5: 27 | AH5: 28 | AI5: 29 | AJ5: 30
A6: Salt-All | B6: 4614 | C6: ACGT | D6: 0.13846292 | E6: 0.17224273 | F6: 0.14320988 | G6: 0.14915254 | H6: 0.16011236 | I6: 0.21161826 | J6: 0.1557971 | K6: 0.18442623 | L6: 0.17889908 | M6: 0.17910448 | N6: 0.16610169 | O6: 0.16666667 | P6: 0.16386555 | Q6: 0.2033195 | R6: 0.2080292 | S6: 0.21576763 | T6: 0.14102564 | U6: 0.1875 | V6: 0.15646259 | W6: 0.16961131 | X6: 0.1732852 | Y6: 0.1886121 | Z6: 0.18987342 | AA6: 0.18442623 | AB6: 0.12333333 | AC6: 0.17573222 | AD6: 0.16346154 | AE6: 0.16996047 | AF6: 0.18181818 | AG6: 0.14983713 | AH6: 0.22535211 | AI6: 0.15702479 | AJ6: 0.15662651
B7: 4614 | C7: AGCT | D7: 0.13846292 | E7: 0.13558544 | F7: 0.13559322 | G7: 0.16326531 | H7: 0.13782051 | I7: 0.13173653 | J7: 0.13814433 | K7: 0.15151515 | L7: 0.16738197 | M7: 0.10412148 | N7: 0.14768683 | O7: 0.1654321 | P7: 0.12383178 | Q7: 0.12830957 | R7: 0.11919192 | S7: 0.13291139 | T7: 0.13027523 | U7: 0.11752577 | V7: 0.11405295 | W7: 0.12547529 | X7: 0.13878327 | Y7: 0.11157895 | Z7: 0.13627255 | AA7: 0.14975845 | AB7: 0.17317073 | AC7: 0.12291667 | AD7: 0.11034483 | AE7: 0.14840183 | AF7: 0.12815884 | AG7: 0.12601626 | AH7: 0.14508929 | AI7: 0.13472486 | AJ7: 0.15
B8: 4614 | C8: TAGC | D8: 0.13846292 | E8: 0.13812805 | F8: 0.1328125 | G8: 0.11640212 | H8: 0.1417004 | I8: 0.19341564 | J8: 0.098591549 | K8: 0.17156863 | L8: 0.15333333 | M8: 0.10191083 | N8: 0.13989637 | O8: 0.10795455 | P8: 0.1257485 | Q8: 0.17171717 | R8: 0.13664596 | S8: 0.10778443 | T8: 0.13120567 | U8: 0.16993464 | V8: 0.13772455 | W8: 0.13978495 | X8: 0.16763006 | Y8: 0.18881119 | Z8: 0.14146341 | AA8: 0.1011236 | AB8: 0.14814815 | AC8: 0.13567839 | AD8: 0.12258065 | AE8: 0.14044944 | AF8: 0.13551402 | AG8: 0.15151515 | AH8: 0.10884354 | AI8: 0.16 | AJ8: 0.097435897
B9: 4614 | C9: CGTA | D9: 0.13846292 | E9: 0.14700855 | F9: 0.18149466 | G9: 0.17575758 | H9: 0.18348624 | I9: 0.15068493 | J9: 0.13181818 | K9: 0.17355372 | L9: 0.1984127 | M9: 0.12195122 | N9: 0.13571429 | O9: 0.15841584 | P9: 0.13669065 | Q9: 0.2 | R9: 0.18421053 | S9: 0.12686567 | T9: 0.192 | U9: 0.10273973 | V9: 0.10695187 | W9: 0.16463415 | X9: 0.11111111 | Y9: 0.11811024 | Z9: 0.15976331 | AA9: 0.10769231 | AB9: 0.109375 | AC9: 0.15 | AD9: 0.089552239 | AE9: 0.12837838 | AF9: 0.13173653 | AG9: 0.11688312 | AH9: 0.20155039 | AI9: 0.13953488 | AJ9: 0.14049587
B10: 4614 | C10: GCTA | D10: 0.13846292 | E10: 0.12691863 | F10: 0.11796247 | G10: 0.19021739 | H10: 0.11504425 | I10: 0.13253012 | J10: 0.12446352 | K10: 0.10280374 | L10: 0.074712644 | M10: 0.12169312 | N10: 0.14285714 | O10: 0.17714286 | P10: 0.13815789 | Q10: 0.092682927 | R10: 0.1509434 | S10: 0.16058394 | T10: 0.12195122 | U10: 0.12352941 | V10: 0.11585366 | W10: 0.11344538 | X10: 0.13636364 | Y10: 0.091463415 | Z10: 0.15837104 | AA10: 0.14814815 | AB10: 0.10160428 | AC10: 0.11794872 | AD10: 0.095959596 | AE10: 0.13291139 | AF10: 0.10280374 | AG10: 0.15384615 | AH10: 0.12727273 | AI10: 0.12376238 | AJ10: 0.16384181
B11: 4614 | C11: ATGC | D11: 0.13846292 | E11: 0.12743323 | F11: 0.12345679 | G11: 0.10546875 | H11: 0.12626263 | I11: 0.10509554 | J11: 0.15542522 | K11: 0.11578947 | L11: 0.12692308 | M11: 0.1 | N11: 0.13333333 | O11: 0.13414634 | P11: 0.15384615 | Q11: 0.14876033 | R11: 0.16371681 | S11: 0.11538462 | T11: 0.092307692 | U11: 0.15948276 | V11: 0.13011152 | W11: 0.13357401 | X11: 0.12781955 | Y11: 0.11419753 | Z11: 0.11654135 | AA11: 0.11328125 | AB11: 0.12267658 | AC11: 0.14396887 | AD11: 0.11960133 | AE11: 0.12890625 | AF11: 0.14141414 | AG11: 0.1254902 | AH11: 0.15044248 | AI11: 0.13103448 | AJ11: 0.12556054
B12: 4614 | C12: TGCA | D12: 0.13846292 | E12: 0.1245951 | F12: 0.10904255 | G12: 0.12135922 | H12: 0.13513514 | I12: 0.12479201 | J12: 0.13267327 | K12: 0.1402439 | L12: 0.099489796 | M12: 0.10141509 | N12: 0.11832947 | O12: 0.16569767 | P12: 0.12462006 | Q12: 0.12121212 | R12: 0.1283293 | S12: 0.14792899 | T12: 0.14507772 | U12: 0.10757946 | V12: 0.12285714 | W12: 0.11049724 | X12: 0.12972973 | Y12: 0.1353211 | Z12: 0.10687023 | AA12: 0.12068966 | AB12: 0.12466125 | AC12: 0.13023256 | AD12: 0.083003953 | AE12: 0.15656566 | AF12: 0.12072893 | AG12: 0.14719626 | AH12: 0.1182266 | AI12: 0.147343 | AJ12: 0.10242588
B13: 4614 | C13: CTAG | D13: 0.13846292 | E13: 0.10692732 | F13: 0.13174603 | G13: 0.094736842 | H13: 0.073170732 | I13: 0.14018692 | J13: 0.1270903 | K13: 0.10583942 | L13: 0.11870504 | M13: 0.084158416 | N13: 0.1147541 | O13: 0.083916084 | P13: 0.16568047 | Q13: 0.11872146 | R13: 0.11656442 | S13: 0.16756757 | T13: 0.07518797 | U13: 0.064615385 | V13: 0.085106383 | W13: 0.10160428 | X13: 0.11428571 | Y13: 0.094736842 | Z13: 0.12315271 | AA13: 0.097826087 | AB13: 0.14871795 | AC13: 0.10599078 | AD13: 0.11518325 | AE13: 0.082524272 | AF13: 0.090128755 | AG13: 0.10382514 | AH13: 0.067924528 | AI13: 0.094488189 | AJ13: 0.12886598
B14: 4614 | C14: GATC | D14: 0.13846292 | E14: 0.12587986 | F14: 0.11919192 | G14: 0.15442561 | H14: 0.14595661 | I14: 0.12527473 | J14: 0.13406593 | K14: 0.13242009 | L14: 0.10917031 | M14: 0.12064965 | N14: 0.14110429 | O14: 0.12731481 | P14: 0.13842482 | Q14: 0.12695312 | R14: 0.13625304 | S14: 0.12264151 | T14: 0.1284585 | U14: 0.11797753 | V14: 0.11195446 | W14: 0.08566108 | X14: 0.10851064 | Y14: 0.14316703 | Z14: 0.109375 | AA14: 0.10947368 | AB14: 0.15116279 | AC14: 0.10572687 | AD14: 0.11856823 | AE14: 0.13686534 | AF14: 0.14097744 | AG14: 0.14230019 | AH14: 0.12658228 | AI14: 0.112 | AJ14: 0.12289157
A15: Salt-Up | B15: 2482 | C15: ACGT | D15: 0.07448309 | E15: 0.11952007 | F15: 0.086419753 | G15: 0.10847458 | H15: 0.11797753 | I15: 0.13278008 | J15: 0.11231884 | K15: 0.12704918 | L15: 0.12844037 | M15: 0.12238806 | N15: 0.1220339 | O15: 0.095238095 | P15: 0.11344538 | Q15: 0.13278008 | R15: 0.14233577 | S15: 0.15767635 | T15: 0.11538462 | U15: 0.09765625 | V15: 0.12244898 | W15: 0.1130742 | X15: 0.10830325 | Y15: 0.14590747 | Z15: 0.12341772 | AA15: 0.11065574 | AB15: 0.083333333 | AC15: 0.11297071 | AD15: 0.13461538 | AE15: 0.11857708 | AF15: 0.13961039 | AG15: 0.11400651 | AH15: 0.17253521 | AI15: 0.11570248 | AJ15: 0.092369478
B16: 2482 | C16: AGCT | D16: 0.07448309 | E16: 0.068940636 | F16: 0.069679849 | G16: 0.075510204 | H16: 0.070512821 | I16: 0.065868263 | J16: 0.07628866 | K16: 0.074960128 | L16: 0.08583691 | M16: 0.052060738 | N16: 0.060498221 | O16: 0.079012346 | P16: 0.060747664 | Q16: 0.077393075 | R16: 0.072727273 | S16: 0.056962025 | T16: 0.055045872 | U16: 0.055670103 | V16: 0.048879837 | W16: 0.077946768 | X16: 0.076045627 | Y16: 0.065263158 | Z16: 0.076152305 | AA16: 0.070048309 | AB16: 0.090243902 | AC16: 0.060416667 | AD16: 0.059770115 | AE16: 0.091324201 | AF16: 0.059566787 | AG16: 0.06097561 | AH16: 0.066964286 | AI16: 0.072106262 | AJ16: 0.07826087
B17: 2482 | C17: TAGC | D17: 0.07448309 | E17: 0.067215594 | F17: 0.0703125 | G17: 0.052910053 | H17: 0.056680162 | I17: 0.098765432 | J17: 0.051643192 | K17: 0.068627451 | L17: 0.093333333 | M17: 0.057324841 | N17: 0.056994819 | O17: 0.0625 | P17: 0.053892216 | Q17: 0.075757576 | R17: 0.049689441 | S17: 0.053892216 | T17: 0.060283688 | U17: 0.045751634 | V17: 0.053892216 | W17: 0.069892473 | X17: 0.092485549 | Y17: 0.11188811 | Z17: 0.092682927 | AA17: 0.050561798 | AB17: 0.086419753 | AC17: 0.065326633 | AD17: 0.070967742 | AE17: 0.050561798 | AF17: 0.079439252 | AG17: 0.054545455 | AH17: 0.06122449 | AI17: 0.075 | AJ17: 0.056410256
B18: 2482 | C18: CGTA | D18: 0.07448309 | E18: 0.08974359 | F18: 0.099644128 | G18: 0.14545455 | H18: 0.11926606 | I18: 0.082191781 | J18: 0.086363636 | K18: 0.1322314 | L18: 0.11111111 | M18: 0.06097561 | N18: 0.092857143 | O18: 0.089108911 | P18: 0.086330935 | Q18: 0.12857143 | R18: 0.098684211 | S18: 0.082089552 | T18: 0.128 | U18: 0.089041096 | V18: 0.07486631 | W18: 0.079268293 | X18: 0.066666667 | Y18: 0.070866142 | Z18: 0.10650888 | AA18: 0.038461538 | AB18: 0.078125 | AC18: 0.071428571 | AD18: 0.037313433 | AE18: 0.067567568 | AF18: 0.095808383 | AG18: 0.064935065 | AH18: 0.10852713 | AI18: 0.07751938 | AJ18: 0.090909091
B19: 2482 | C19: GCTA | D19: 0.07448309 | E19: 0.068493151 | F19: 0.050938338 | G19: 0.11956522 | H19: 0.07079646 | I19: 0.052208835 | J19: 0.051502146 | K19: 0.056074766 | L19: 0.034482759 | M19: 0.074074074 | N19: 0.076190476 | O19: 0.12 | P19: 0.072368421 | Q19: 0.053658537 | R19: 0.081761006 | S19: 0.072992701 | T19: 0.073170732 | U19: 0.076470588 | V19: 0.073170732 | W19: 0.050420168 | X19: 0.079545455 | Y19: 0.048780488 | Z19: 0.095022624 | AA19: 0.084656085 | AB19: 0.058823529 | AC19: 0.071794872 | AD19: 0.055555556 | AE19: 0.082278481 | AF19: 0.037383178 | AG19: 0.076923077 | AH19: 0.054545455 | AI19: 0.074257426 | AJ19: 0.084745763
B20: 2482 | C20: ATGC | D20: 0.07448309 | E20: 0.062358533 | F20: 0.064814815 | G20: 0.05859375 | H20: 0.058080808 | I20: 0.050955414 | J20: 0.070381232 | K20: 0.056140351 | L20: 0.053846154 | M20: 0.05483871 | N20: 0.054901961 | O20: 0.085365854 | P20: 0.055555556 | Q20: 0.090909091 | R20: 0.07079646 | S20: 0.047008547 | T20: 0.036923077 | U20: 0.086206897 | V20: 0.07063197 | W20: 0.057761733 | X20: 0.067669173 | Y20: 0.055555556 | Z20: 0.060150376 | AA20: 0.05078125 | AB20: 0.048327138 | AC20: 0.089494163 | AD20: 0.066445183 | AE20: 0.078125 | AF20: 0.080808081 | AG20: 0.043137255 | AH20: 0.044247788 | AI20: 0.068965517 | AJ20: 0.062780269
B21: 2482 | C21: TGCA | D21: 0.07448309 | E21: 0.061845574 | F21: 0.0625 | G21: 0.07038835 | H21: 0.067567568 | I21: 0.048252912 | J21: 0.069306931 | K21: 0.077235772 | L21: 0.045918367 | M21: 0.04245283 | N21: 0.055684455 | O21: 0.10174419 | P21: 0.060790274 | Q21: 0.068870523 | R21: 0.072639225 | S21: 0.068047337 | T21: 0.07253886 | U21: 0.051344743 | V21: 0.074285714 | W21: 0.035911602 | X21: 0.045945946 | Y21: 0.061926606 | Z21: 0.048346056 | AA21: 0.037356322 | AB21: 0.054200542 | AC21: 0.08372093 | AD21: 0.049407115 | AE21: 0.078282828 | AF21: 0.050113895 | AG21: 0.063084112 | AH21: 0.07635468 | AI21: 0.074879227 | AJ21: 0.04851752
B22: 2482 | C22: CTAG | D22: 0.07448309 | E22: 0.054841249 | F22: 0.061904762 | G22: 0.052631579 | H22: 0.026829268 | I22: 0.074766355 | J22: 0.076923077 | K22: 0.054744526 | L22: 0.061151079 | M22: 0.03960396 | N22: 0.059016393 | O22: 0.031468531 | P22: 0.11242604 | Q22: 0.063926941 | R22: 0.067484663 | S22: 0.075675676 | T22: 0.030075188 | U22: 0.033846154 | V22: 0.037234043 | W22: 0.064171123 | X22: 0.071428571 | Y22: 0.047368421 | Z22: 0.083743842 | AA22: 0.038043478 | AB22: 0.071794872 | AC22: 0.050691244 | AD22: 0.052356021 | AE22: 0.04368932 | AF22: 0.055793991 | AG22: 0.049180328 | AH22: 0.037735849 | AI22: 0.039370079 | AJ22: 0.072164948
B23: 2482 | C23: GATC | D23: 0.07448309 | E23: 0.063418301 | F23: 0.054545455 | G23: 0.088512241 | H23: 0.084812623 | I23: 0.07032967 | J23: 0.061538462 | K23: 0.066210046 | L23: 0.050218341 | M23: 0.051044084 | N23: 0.067484663 | O23: 0.05787037 | P23: 0.059665871 | Q23: 0.068359375 | R23: 0.065693431 | S23: 0.066037736 | T23: 0.055335968 | U23: 0.054307116 | V23: 0.064516129 | W23: 0.046554935 | X23: 0.059574468 | Y23: 0.080260304 | Z23: 0.053571429 | AA23: 0.056842105 | AB23: 0.076744186 | AC23: 0.057268722 | AD23: 0.062639821 | AE23: 0.06401766 | AF23: 0.058270677 | AG23: 0.072124756 | AH23: 0.069620253 | AI23: 0.064 | AJ23: 0.055421687
A24: Salt-Down | B24: 2191 | C24: ACGT | D24: 0.065750383 | E24: 0.054914629 | F24: 0.061728395 | G24: 0.044067797 | H24: 0.042134831 | I24: 0.078838174 | J24: 0.047101449 | K24: 0.057377049 | L24: 0.050458716 | M24: 0.059701493 | N24: 0.050847458 | O24: 0.075396825 | P24: 0.050420168 | Q24: 0.070539419 | R24: 0.065693431 | S24: 0.058091286 | T24: 0.032051282 | U24: 0.09765625 | V24: 0.034013605 | W24: 0.060070671 | X24: 0.064981949 | Y24: 0.046263345 | Z24: 0.069620253 | AA24: 0.077868852 | AB24: 0.04 | AC24: 0.062761506 | AD24: 0.032051282 | AE24: 0.055335968 | AF24: 0.045454545 | AG24: 0.035830619 | AH24: 0.052816901 | AI24: 0.041322314 | AJ24: 0.064257028
B25: 2191 | C25: AGCT | D25: 0.065750383 | E25: 0.068284684 | F25: 0.065913371 | G25: 0.089795918 | H25: 0.068910256 | I25: 0.065868263 | J25: 0.063917526 | K25: 0.07814992 | L25: 0.08583691 | M25: 0.054229935 | N25: 0.087188612 | O25: 0.086419753 | P25: 0.063084112 | Q25: 0.054989817 | R25: 0.048484848 | S25: 0.078059072 | T25: 0.07706422 | U25: 0.06185567 | V25: 0.069246436 | W25: 0.051330798 | X25: 0.064638783 | Y25: 0.048421053 | Z25: 0.062124248 | AA25: 0.082125604 | AB25: 0.085365854 | AC25: 0.064583333 | AD25: 0.050574713 | AE25: 0.057077626 | AF25: 0.072202166 | AG25: 0.06504065 | AH25: 0.078125 | AI25: 0.064516129 | AJ25: 0.07173913
B26: 2191 | C26: TAGC | D26: 0.065750383 | E26: 0.072760881 | F26: 0.0625 | G26: 0.068783069 | H26: 0.093117409 | I26: 0.094650206 | J26: 0.046948357 | K26: 0.10294118 | L26: 0.06 | M26: 0.044585987 | N26: 0.088082902 | O26: 0.051136364 | P26: 0.077844311 | Q26: 0.095959596 | R26: 0.086956522 | S26: 0.05988024 | T26: 0.074468085 | U26: 0.12418301 | V26: 0.083832335 | W26: 0.080645161 | X26: 0.075144509 | Y26: 0.076923077 | Z26: 0.053658537 | AA26: 0.050561798 | AB26: 0.061728395 | AC26: 0.070351759 | AD26: 0.051612903 | AE26: 0.08988764 | AF26: 0.056074766 | AG26: 0.096969697 | AH26: 0.047619048 | AI26: 0.085 | AJ26: 0.041025641
B27: 2191 | C27: CGTA | D27: 0.065750383 | E27: 0.061324786 | F27: 0.085409253 | G27: 0.03030303 | H27: 0.068807339 | I27: 0.068493151 | J27: 0.045454545 | K27: 0.05785124 | L27: 0.095238095 | M27: 0.06097561 | N27: 0.042857143 | O27: 0.069306931 | P27: 0.057553957 | Q27: 0.078571429 | R27: 0.092105263 | S27: 0.044776119 | T27: 0.064 | U27: 0.020547945 | V27: 0.042780749 | W27: 0.097560976 | X27: 0.044444444 | Y27: 0.047244094 | Z27: 0.053254438 | AA27: 0.069230769 | AB27: 0.03125 | AC27: 0.085714286 | AD27: 0.052238806 | AE27: 0.060810811 | AF27: 0.053892216 | AG27: 0.064935065 | AH27: 0.093023256 | AI27: 0.062015504 | AJ27: 0.049586777
B28: 2191 | C28: GCTA | D28: 0.065750383 | E28: 0.060901139 | F28: 0.069705094 | G28: 0.070652174 | H28: 0.044247788 | I28: 0.080321285 | J28: 0.077253219 | K28: 0.046728972 | L28: 0.040229885 | M28: 0.052910053 | N28: 0.066666667 | O28: 0.057142857 | P28: 0.065789474 | Q28: 0.03902439 | R28: 0.075471698 | S28: 0.087591241 | T28: 0.053658537 | U28: 0.047058824 | V28: 0.042682927 | W28: 0.06302521 | X28: 0.0625 | Y28: 0.042682927 | Z28: 0.07239819 | AA28: 0.074074074 | AB28: 0.048128342 | AC28: 0.046153846 | AD28: 0.045454545 | AE28: 0.050632911 | AF28: 0.065420561 | AG28: 0.083333333 | AH28: 0.072727273 | AI28: 0.054455446 | AJ28: 0.084745763
B29: 2191 | C29: ATGC | D29: 0.065750383 | E29: 0.066885469 | F29: 0.060185185 | G29: 0.046875 | H29: 0.068181818 | I29: 0.057324841 | J29: 0.08797654 | K29: 0.063157895 | L29: 0.073076923 | M29: 0.048387097 | N29: 0.078431373 | O29: 0.052845528 | P29: 0.098290598 | Q29: 0.061983471 | R29: 0.097345133 | S29: 0.068376068 | T29: 0.055384615 | U29: 0.077586207 | V29: 0.059479554 | W29: 0.079422383 | X29: 0.063909774 | Y29: 0.058641975 | Z29: 0.060150376 | AA29: 0.0625 | AB29: 0.074349442 | AC29: 0.054474708 | AD29: 0.053156146 | AE29: 0.05859375 | AF29: 0.063973064 | AG29: 0.082352941 | AH29: 0.11061947 | AI29: 0.062068966 | AJ29: 0.062780269
B30: 2191 | C30: TGCA | D30: 0.065750383 | E30: 0.063954802 | F30: 0.046542553 | G30: 0.053398058 | H30: 0.069069069 | I30: 0.076539101 | J30: 0.063366337 | K30: 0.069105691 | L30: 0.053571429 | M30: 0.058962264 | N30: 0.062645012 | O30: 0.069767442 | P30: 0.066869301 | Q30: 0.052341598 | R30: 0.060532688 | S30: 0.082840237 | T30: 0.07253886 | U30: 0.056234719 | V30: 0.048571429 | W30: 0.074585635 | X30: 0.083783784 | Y30: 0.077981651 | Z30: 0.061068702 | AA30: 0.083333333 | AB30: 0.070460705 | AC30: 0.046511628 | AD30: 0.033596838 | AE30: 0.080808081 | AF30: 0.070615034 | AG30: 0.08411215 | AH30: 0.044334975 | AI30: 0.072463768 | AJ30: 0.053908356
B31: 2191 | C31: CTAG | D31: 0.065750383 | E31: 0.053398058 | F31: 0.071428571 | G31: 0.042105263 | H31: 0.046341463 | I31: 0.068535826 | J31: 0.053511706 | K31: 0.051094891 | L31: 0.057553957 | M31: 0.04950495 | N31: 0.055737705 | O31: 0.052447552 | P31: 0.059171598 | Q31: 0.054794521 | R31: 0.049079755 | S31: 0.091891892 | T31: 0.04887218 | U31: 0.030769231 | V31: 0.04787234 | W31: 0.037433155 | X31: 0.047619048 | Y31: 0.047368421 | Z31: 0.044334975 | AA31: 0.059782609 | AB31: 0.076923077 | AC31: 0.055299539 | AD31: 0.073298429 | AE31: 0.038834951 | AF31: 0.034334764 | AG31: 0.054644809 | AH31: 0.030188679 | AI31: 0.05511811 | AJ31: 0.056701031
B32: 2191 | C32: GATC | D32: 0.065750383 | E32: 0.063965011 | F32: 0.066666667 | G32: 0.065913371 | H32: 0.069033531 | I32: 0.054945055 | J32: 0.076923077 | K32: 0.066210046 | L32: 0.058951965 | M32: 0.069605568 | N32: 0.073619632 | O32: 0.074074074 | P32: 0.081145585 | Q32: 0.060546875 | R32: 0.072992701 | S32: 0.058962264 | T32: 0.07312253 | U32: 0.063670412 | V32: 0.049335863 | W32: 0.040968343 | X32: 0.05106383 | Y32: 0.067245119 | Z32: 0.055803571 | AA32: 0.052631579 | AB32: 0.074418605 | AC32: 0.04845815 | AD32: 0.055928412 | AE32: 0.075055188 | AF32: 0.082706767 | AG32: 0.072124756 | AH32: 0.061181435 | AI32: 0.048 | AJ32: 0.06746988
A33: Jasmonic Acid-All | B33: 221 | C33: ACGT | D33: 0.0066320559 | E33: 0.0085371481 | F33: 0.012345679 | G33: 0.0033898305 | H33: 0 | I33: 0.0082987552 | J33: 0.0072463768 | K33: 0.012295082 | L33: 0.013761468 | M33: 0.020895522 | N33: 0.006779661 | O33: 0.0079365079 | P33: 0.012605042 | Q33: 0.0041493776 | R33: 0.003649635 | S33: 0.012448133 | T33: 0.0032051282 | U33: 0.0078125 | V33: 0 | W33: 0.0070671378 | X33: 0.0072202166 | Y33: 0.0035587189 | Z33: 0.0063291139 | AA33: 0.012295082 | AB33: 0.01 | AC33: 0.0041841004 | AD33: 0.019230769 | AE33: 0.0039525692 | AF33: 0.016233766 | AG33: 0.003257329 | AH33: 0.0070422535 | AI33: 0.0041322314 | AJ33: 0.024096386
B34: 221 | C34: AGCT | D34: 0.0066320559 | E34: 0.0045916694 | F34: 0.0056497175 | G34: 0.0081632653 | H34: 0.0032051282 | I34: 0.001996008 | J34: 0.0020618557 | K34: 0.0063795853 | L34: 0.0042918455 | M34: 0.0086767896 | N34: 0.0035587189 | O34: 0.0049382716 | P34: 0 | Q34: 0.0040733198 | R34: 0.0060606061 | S34: 0.0021097046 | T34: 0.012844037 | U34: 0 | V34: 0.0040733198 | W34: 0.0019011407 | X34: 0.0038022814 | Y34: 0.0084210526 | Z34: 0.01002004 | AA34: 0.0048309179 | AB34: 0 | AC34: 0.0041666667 | AD34: 0.0022988506 | AE34: 0 | AF34: 0.0036101083 | AG34: 0.0040650407 | AH34: 0.0044642857 | AI34: 0.009487666 | AJ34: 0.0043478261
B35: 221 | C35: TAGC | D35: 0.0066320559 | E35: 0.0048731306 | F35: 0.0078125 | G35: 0.010582011 | H35: 0.004048583 | I35: 0.012345679 | J35: 0 | K35: 0.0049019608 | L35: 0.013333333 | M35: 0.0063694268 | N35: 0.010362694 | O35: 0.011363636 | P35: 0 | Q35: 0 | R35: 0.0062111801 | S35: 0 | T35: 0.0035460993 | U35: 0 | V35: 0.005988024 | W35: 0 | X35: 0 | Y35: 0.006993007 | Z35: 0 | AA35: 0.0056179775 | AB35: 0 | AC35: 0.010050251 | AD35: 0.0064516129 | AE35: 0 | AF35: 0 | AG35: 0.0060606061 | AH35: 0.0068027211 | AI35: 0.01 | AJ35: 0
B36: 221 | C36: CGTA | D36: 0.0066320559 | E36: 0.0064102564 | F36: 0.0035587189 | G36: 0 | H36: 0.0091743119 | I36: 0.0068493151 | J36: 0.0045454545 | K36: 0 | L36: 0 | M36: 0.006097561 | N36: 0.014285714 | O36: 0 | P36: 0.014388489 | Q36: 0.0071428571 | R36: 0 | S36: 0.0074626866 | T36: 0.032 | U36: 0 | V36: 0 | W36: 0.012195122 | X36: 0 | Y36: 0 | Z36: 0.01183432 | AA36: 0.0076923077 | AB36: 0.0078125 | AC36: 0.0071428571 | AD36: 0 | AE36: 0.0067567568 | AF36: 0.011976048 | AG36: 0 | AH36: 0.007751938 | AI36: 0.007751938 | AJ36: 0.016528926
