Workbook

Sheet 3A
B1: Supplementary Table 3 A. Functional analysis of Arabidopsis genes containing ACGT cis-elements
A4: Condition | B4: Regulation | C4: Total number of genes regulated by the condition (Y x 33323) | D4: Total number of genes involved in the condition with acgt element/ Total number of genes in the genome with acgt element (X) | E4: Percentage of genes with ACGT cis-element in Arabidopsis thaliana genome | F4: Spacer wise distribution (Total number of genes involved in the condition with acgt element/ Total number of genes in the genome with acgt element (X) for a particular N)
F5: 0 | G5: 1 | H5: 2 | I5: 3 | J5: 4 | K5: 5 | L5: 6 | M5: 7 | N5: 8 | O5: 9 | P5: 10 | Q5: 11 | R5: 12 | S5: 13 | T5: 14 | U5: 15 | V5: 16 | W5: 17 | X5: 18 | Y5: 19 | Z5: 20 | AA5: 21 | AB5: 22 | AC5: 23 | AD5: 24 | AE5: 25 | AF5: 26 | AG5: 27 | AH5: 28 | AI5: 29 | AJ5: 30
A7: By Developmental Stage
A9: Embryo | B9: Up | C9: 4288 | D9: 990/8668 | E9: =LEFT(D9, FIND("/",D9)-1)/C9*100 -> 23.087687 | F9: 39/405 | G9: 41/295 | H9: 43/356 | I9: 23/241 | J9: 22/276 | K9: 25/244 | L9: 32/218 | M9: 45/335 | N9: 33/295 | O9: 24/252 | P9: 30/238 | Q9: 23/241 | R9: 30/274 | S9: 39/241 | T9: 39/312 | U9: 25/256 | V9: 37/294 | W9: 35/283 | X9: 23/277 | Y9: 32/281 | Z9: 26/316 | AA9: 30/244 | AB9: 36/300 | AC9: 29/239 | AD9: 30/312 | AE9: 34/253 | AF9: 39/308 | AG9: 34/307 | AH9: 37/284 | AI9: 31/242 | AJ9: 24/249
B10: Down | C10: 3115 | D10: 926/8668 | E10: =LEFT(D10, FIND("/",D10)-1)/C10*100 -> 29.727127 | F10: 42/405 | G10: 38/295 | H10: 39/356 | I10: 39/241 | J10: 27/276 | K10: 27/244 | L10: 19/218 | M10: 30/335 | N10: 25/295 | O10: 26/252 | P10: 21/238 | Q10: 29/241 | R10: 24/274 | S10: 30/241 | T10: 20/312 | U10: 30/256 | V10: 24/294 | W10: 33/283 | X10: 33/277 | Y10: 34/281 | Z10: 38/316 | AA10: 26/244 | AB10: 29/300 | AC10: 24/239 | AD10: 33/312 | AE10: 28/253 | AF10: 33/308 | AG10: 30/307 | AH10: 25/284 | AI10: 27/242 | AJ10: 43/249
B11: Down/Up | C11: 7310 | D11: 1890/8668 | E11: =LEFT(D11, FIND("/",D11)-1)/C11*100 -> 25.854993 | F11: 80/405 | G11: 78/295 | H11: 81/356 | I11: 61/241 | J11: 49/276 | K11: 52/244 | L11: 50/218 | M11: 75/335 | N11: 57/295 | O11: 50/252 | P11: 50/238 | Q11: 52/241 | R11: 54/274 | S11: 68/241 | T11: 57/312 | U11: 55/256 | V11: 59/294 | W11: 66/283 | X11: 53/277 | Y11: 64/281 | Z11: 61/316 | AA11: 55/244 | AB11: 65/300 | AC11: 53/239 | AD11: 63/312 | AE11: 62/253 | AF11: 72/308 | AG11: 64/307 | AH11: 61/284 | AI11: 56/242 | AJ11: 67/249
A12: Seedling | B12: Up | C12: 15377 | D12: 4355/8668 | E12: =LEFT(D12, FIND("/",D12)-1)/C12*100 -> 28.321519 | F12: 188/405 | G12: 159/295 | H12: 191/356 | I12: 135/241 | J12: 158/276 | K12: 115/244 | L12: 114/218 | M12: 162/335 | N12: 147/295 | O12: 121/252 | P12: 115/238 | Q12: 121/241 | R12: 147/274 | S12: 129/241 | T12: 129/312 | U12: 125/256 | V12: 140/294 | W12: 131/283 | X12: 130/277 | Y12: 158/281 | Z12: 182/316 | AA12: 122/244 | AB12: 151/300 | AC12: 104/239 | AD12: 157/312 | AE12: 118/253 | AF12: 156/308 | AG12: 143/307 | AH12: 146/284 | AI12: 130/242 | AJ12: 131/249
B13: Down | C13: 17591 | D13: 4611/8668 | E13: =LEFT(D13, FIND("/",D13)-1)/C13*100 -> 26.212268 | F13: 209/405 | G13: 170/295 | H13: 184/356 | I13: 132/241 | J13: 157/276 | K13: 126/244 | L13: 129/218 | M13: 183/335 | N13: 153/295 | O13: 131/252 | P13: 118/238 | Q13: 122/241 | R13: 146/274 | S13: 135/241 | T13: 130/312 | U13: 151/256 | V13: 151/294 | W13: 158/283 | X13: 150/277 | Y13: 157/281 | Z13: 171/316 | AA13: 139/244 | AB13: 146/300 | AC13: 132/239 | AD13: 163/312 | AE13: 125/253 | AF13: 175/308 | AG13: 156/307 | AH13: 148/284 | AI13: 131/242 | AJ13: 133/249
B14: Down/Up | C14: 22043 | D14: 5896/8668 | E14: =LEFT(D14, FIND("/",D14)-1)/C14*100 -> 26.74772 | F14: 270/405 | G14: 218/295 | H14: 242/356 | I14: 179/241 | J14: 200/276 | K14: 156/244 | L14: 161/218 | M14: 230/335 | N14: 198/295 | O14: 157/252 | P14: 153/238 | Q14: 157/241 | R14: 187/274 | S14: 173/241 | T14: 174/312 | U14: 182/256 | V14: 197/294 | W14: 195/283 | X14: 189/277 | Y14: 206/281 | Z14: 222/316 | AA14: 168/244 | AB14: 202/300 | AC14: 163/239 | AD14: 208/312 | AE14: 159/253 | AF14: 212/308 | AG14: 199/307 | AH14: 197/284 | AI14: 171/242 | AJ14: 171/249
A16: Regulated by hormones
A17: ABA | B17: Up | C17: 11263 | D17: 3460/8668 | E17: =LEFT(D17, FIND("/",D17)-1)/C17*100 -> 30.720057 | F17: 152/405 | G17: 131/295 | H17: 128/356 | I17: 114/241 | J17: 113/276 | K17: 94/244 | L17: 89/218 | M17: 130/335 | N17: 129/295 | O17: 90/252 | P17: 75/238 | Q17: 89/241 | R17: 125/274 | S17: 102/241 | T17: 95/312 | U17: 117/256 | V17: 112/294 | W17: 111/283 | X17: 105/277 | Y17: 124/281 | Z17: 137/316 | AA17: 105/244 | AB17: 115/300 | AC17: 95/239 | AD17: 120/312 | AE17: 83/253 | AF17: 126/308 | AG17: 122/307 | AH17: 121/284 | AI17: 108/242 | AJ17: 103/249
B18: Down | C18: 9158 | D18: 2105/8668 | E18: =LEFT(D18, FIND("/",D18)-1)/C18*100 -> 22.985368 | F18: 99/405 | G18: 83/295 | H18: 71/356 | I18: 58/241 | J18: 71/276 | K18: 57/244 | L18: 58/218 | M18: 94/335 | N18: 66/295 | O18: 57/252 | P18: 57/238 | Q18: 68/241 | R18: 70/274 | S18: 58/241 | T18: 59/312 | U18: 58/256 | V18: 78/294 | W18: 78/283 | X18: 68/277 | Y18: 67/281 | Z18: 77/316 | AA18: 52/244 | AB18: 73/300 | AC18: 65/239 | AD18: 74/312 | AE18: 59/253 | AF18: 72/308 | AG18: 74/307 | AH18: 61/284 | AI18: 58/242 | AJ18: 65/249
B19: Down/Up | C19: 14936 | D19: 4275/8668 | E19: =LEFT(D19, FIND("/",D19)-1)/C19*100 -> 28.622121 | F19: 190/405 | G19: 154/295 | H19: 167/356 | I19: 128/241 | J19: 141/276 | K19: 122/244 | L19: 124/218 | M19: 167/335 | N19: 157/295 | O19: 110/252 | P19: 104/238 | Q19: 120/241 | R19: 145/274 | S19: 126/241 | T19: 116/312 | U19: 127/256 | V19: 145/294 | W19: 138/283 | X19: 135/277 | Y19: 149/281 | Z19: 163/316 | AA19: 122/244 | AB19: 146/300 | AC19: 119/239 | AD19: 140/312 | AE19: 113/253 | AF19: 151/308 | AG19: 155/307 | AH19: 147/284 | AI19: 128/242 | AJ19: 126/249
A20: Auxin | B20: Up | C20: 7423 | D20: 1887/8668 | E20: =LEFT(D20, FIND("/",D20)-1)/C20*100 -> 25.420989 | F20: 82/405 | G20: 71/295 | H20: 59/356 | I20: 55/241 | J20: 56/276 | K20: 51/244 | L20: 62/218 | M20: 68/335 | N20: 58/295 | O20: 49/252 | P20: 45/238 | Q20: 50/241 | R20: 59/274 | S20: 61/241 | T20: 52/312 | U20: 62/256 | V20: 69/294 | W20: 70/283 | X20: 59/277 | Y20: 64/281 | Z20: 60/316 | AA20: 58/244 | AB20: 60/300 | AC20: 56/239 | AD20: 70/312 | AE20: 50/253 | AF20: 77/308 | AG20: 70/307 | AH20: 67/284 | AI20: 55/242 | AJ20: 62/249
B21: Down | C21: 6073 | D21: 1697/8668 | E21: =LEFT(D21, FIND("/",D21)-1)/C21*100 -> 27.943356 | F21: 74/405 | G21: 64/295 | H21: 77/356 | I21: 55/241 | J21: 59/276 | K21: 41/244 | L21: 39/218 | M21: 71/335 | N21: 52/295 | O21: 52/252 | P21: 39/238 | Q21: 46/241 | R21: 65/274 | S21: 54/241 | T21: 59/312 | U21: 47/256 | V21: 61/294 | W21: 59/283 | X21: 46/277 | Y21: 68/281 | Z21: 66/316 | AA21: 42/244 | AB21: 53/300 | AC21: 47/239 | AD21: 54/312 | AE21: 53/253 | AF21: 47/308 | AG21: 57/307 | AH21: 61/284 | AI21: 47/242 | AJ21: 42/249
B22: Down/Up | C22: 12726 | D22: 3376/8668 | E22: =LEFT(D22, FIND("/",D22)-1)/C22*100 -> 26.528367 | F22: 145/405 | G22: 126/295 | H22: 133/356 | I22: 105/241 | J22: 110/276 | K22: 89/244 | L22: 92/218 | M22: 129/335 | N22: 107/295 | O22: 91/252 | P22: 80/238 | Q22: 93/241 | R22: 117/274 | S22: 107/241 | T22: 105/312 | U22: 103/256 | V22: 119/294 | W22: 123/283 | X22: 100/277 | Y22: 123/281 | Z22: 118/316 | AA22: 98/244 | AB22: 106/300 | AC22: 95/239 | AD22: 113/312 | AE22: 96/253 | AF22: 118/308 | AG22: 119/307 | AH22: 120/284 | AI22: 99/242 | AJ22: 97/249
A23: Ethylene | B23: Up | C23: 5455 | D23: 1665/8668 | E23: =LEFT(D23, FIND("/",D23)-1)/C23*100 -> 30.522456 | F23: 68/405 | G23: 63/295 | H23: 72/356 | I23: 58/241 | J23: 57/276 | K23: 47/244 | L23: 40/218 | M23: 74/335 | N23: 55/295 | O23: 47/252 | P23: 50/238 | Q23: 32/241 | R23: 65/274 | S23: 42/241 | T23: 57/312 | U23: 48/256 | V23: 54/294 | W23: 54/283 | X23: 43/277 | Y23: 58/281 | Z23: 73/316 | AA23: 50/244 | AB23: 55/300 | AC23: 46/239 | AD23: 52/312 | AE23: 44/253 | AF23: 49/308 | AG23: 54/307 | AH23: 61/284 | AI23: 51/242 | AJ23: 46/249
B24: Down | C24: 5144 | D24: 1386/8668 | E24: =LEFT(D24, FIND("/",D24)-1)/C24*100 -> 26.944012 | F24: 65/405 | G24: 53/295 | H24: 51/356 | I24: 37/241 | J24: 50/276 | K24: 43/244 | L24: 44/218 | M24: 56/335 | N24: 43/295 | O24: 43/252 | P24: 27/238 | Q24: 32/241 | R24: 45/274 | S24: 48/241 | T24: 34/312 | U24: 41/256 | V24: 60/294 | W24: 56/283 | X24: 49/277 | Y24: 48/281 | Z24: 46/316 | AA24: 37/244 | AB24: 50/300 | AC24: 34/239 | AD24: 49/312 | AE24: 35/253 | AF24: 46/308 | AG24: 49/307 | AH24: 29/284 | AI24: 45/242 | AJ24: 41/249
B25: Down/Up | C25: 10218 | D25: 2929/8668 | E25: =LEFT(D25, FIND("/",D25)-1)/C25*100 -> 28.665101 | F25: 129/405 | G25: 111/295 | H25: 116/356 | I25: 91/241 | J25: 100/276 | K25: 84/244 | L25: 81/218 | M25: 127/335 | N25: 93/295 | O25: 87/252 | P25: 75/238 | Q25: 63/241 | R25: 107/274 | S25: 86/241 | T25: 88/312 | U25: 86/256 | V25: 110/294 | W25: 103/283 | X25: 90/277 | Y25: 101/281 | Z25: 113/316 | AA25: 83/244 | AB25: 99/300 | AC25: 77/239 | AD25: 96/312 | AE25: 77/253 | AF25: 91/308 | AG25: 100/307 | AH25: 89/284 | AI25: 93/242 | AJ25: 83/249
A26: Gibberellin | B26: Up | C26: 2552 | D26: 727/8668 | E26: =LEFT(D26, FIND("/",D26)-1)/C26*100 -> 28.487461 | F26: 30/405 | G26: 27/295 | H26: 32/356 | I26: 27/241 | J26: 27/276 | K26: 17/244 | L26: 20/218 | M26: 25/335 | N26: 27/295 | O26: 18/252 | P26: 16/238 | Q26: 24/241 | R26: 21/274 | S26: 25/241 | T26: 23/312 | U26: 23/256 | V26: 20/294 | W26: 23/283 | X26: 15/277 | Y26: 23/281 | Z26: 32/316 | AA26: 24/244 | AB26: 22/300 | AC26: 20/239 | AD26: 27/312 | AE26: 16/253 | AF26: 28/308 | AG26: 25/307 | AH26: 24/284 | AI26: 27/242 | AJ26: 19/249
B27: Down | C27: 1982 | D27: 635/8668 | E27: =LEFT(D27, FIND("/",D27)-1)/C27*100 -> 32.038345 | F27: 29/405 | G27: 23/295 | H27: 24/356 | I27: 19/241 | J27: 25/276 | K27: 18/244 | L27: 22/218 | M27: 25/335 | N27: 14/295 | O27: 13/252 | P27: 16/238 | Q27: 17/241 | R27: 23/274 | S27: 21/241 | T27: 15/312 | U27: 19/256 | V27: 19/294 | W27: 24/283 | X27: 18/277 | Y27: 24/281 | Z27: 24/316 | AA27: 21/244 | AB27: 21/300 | AC27: 17/239 | AD27: 23/312 | AE27: 21/253 | AF27: 16/308 | AG27: 23/307 | AH27: 25/284 | AI27: 17/242 | AJ27: 19/249
B28: Down/Up | C28: 4427 | D28: 1330/8668 | E28: =LEFT(D28, FIND("/",D28)-1)/C28*100 -> 30.042918 | F28: 58/405 | G28: 48/295 | H28: 52/356 | I28: 45/241 | J28: 51/276 | K28: 35/244 | L28: 40/218 | M28: 49/335 | N28: 39/295 | O28: 31/252 | P28: 32/238 | Q28: 40/241 | R28: 43/274 | S28: 45/241 | T28: 36/312 | U28: 42/256 | V28: 39/294 | W28: 45/283 | X28: 33/277 | Y28: 47/281 | Z28: 53/316 | AA28: 45/244 | AB28: 41/300 | AC28: 37/239 | AD28: 50/312 | AE28: 36/253 | AF28: 42/308 | AG28: 46/307 | AH28: 49/284 | AI28: 44/242 | AJ28: 37/249
A29: Jasmonic Acid | B29: Up | C29: 147 | D29: 42/8668 | E29: =LEFT(D29, FIND("/",D29)-1)/C29*100 -> 28.571429 | F29: 1/405 | G29: 1/295 | H29: 0/356 | I29: 1/241 | J29: 1/276 | K29: 3/244 | L29: 2/218 | M29: 5/335 | N29: 0/295 | O29: 1/252 | P29: 0/238 | Q29: 0/241 | R29: 1/274 | S29: 1/241 | T29: 0/312 | U29: 2/256 | V29: 0/294 | W29: 1/283 | X29: 1/277 | Y29: 0/281 | Z29: 1/316 | AA29: 2/244 | AB29: 2/300 | AC29: 1/239 | AD29: 5/312 | AE29: 1/253 | AF29: 3/308 | AG29: 1/307 | AH29: 2/284 | AI29: 0/242 | AJ29: 3/249
B30: Down | C30: 74 | D30: 32/8668 | E30: =LEFT(D30, FIND("/",D30)-1)/C30*100 -> 43.243243 | F30: 4/405 | G30: 0/295 | H30: 0/356 | I30: 1/241 | J30: 1/276 | K30: 0/244 | L30: 1/218 | M30: 2/335 | N30: 2/295 | O30: 1/252 | P30: 3/238 | Q30: 1/241 | R30: 0/274 | S30: 2/241 | T30: 1/312 | U30: 0/256 | V30: 0/294 | W30: 1/283 | X30: 1/277 | Y30: 1/281 | Z30: 1/316 | AA30: 1/244 | AB30: 1/300 | AC30: 0/239 | AD30: 1/312 | AE30: 0/253 | AF30: 2/308 | AG30: 0/307 | AH30: 0/284 | AI30: 1/242 | AJ30: 3/249
B31: Down/Up | C31: 221 | D31: 74/8668 | E31: =LEFT(D31, FIND("/",D31)-1)/C31*100 -> 33.484163 | F31: 5/405 | G31: 1/295 | H31: 0/356 | I31: 2/241 | J31: 2/276 | K31: 3/244 | L31: 3/218 | M31: 7/335 | N31: 2/295 | O31: 2/252 | P31: 3/238 | Q31: 1/241 | R31: 1/274 | S31: 3/241 | T31: 1/312 | U31: 2/256 | V31: 0/294 | W31: 2/283 | X31: 2/277 | Y31: 1/281 | Z31: 2/316 | AA31: 3/244 | AB31: 3/300 | AC31: 1/239 | AD31: 6/312 | AE31: 1/253 | AF31: 5/308 | AG31: 1/307 | AH31: 2/284 | AI31: 1/242 | AJ31: 6/249
A32: Salicyclic Acid | B32: Up | C32: 5513 | D32: 1734/8668 | E32: =LEFT(D32, FIND("/",D32)-1)/C32*100 -> 31.452929 | F32: 76/405 | G32: 62/295 | H32: 68/356 | I32: 58/241 | J32: 57/276 | K32: 43/244 | L32: 46/218 | M32: 60/335 | N32: 62/295 | O32: 41/252 | P32: 50/238 | Q32: 45/241 | R32: 64/274 | S32: 46/241 | T32: 50/312 | U32: 50/256 | V32: 59/294 | W32: 64/283 | X32: 47/277 | Y32: 68/281 | Z32: 66/316 | AA32: 51/244 | AB32: 60/300 | AC32: 47/239 | AD32: 58/312 | AE32: 45/253 | AF32: 62/308 | AG32: 51/307 | AH32: 60/284 | AI32: 60/242 | AJ32: 58/249
B33: Down | C33: 7463 | D33: 1991/8668 | E33: =LEFT(D33, FIND("/",D33)-1)/C33*100 -> 26.67828 | F33: 98/405 | G33: 73/295 | H33: 83/356 | I33: 59/241 | J33: 66/276 | K33: 52/244 | L33: 60/218 | M33: 80/335 | N33: 64/295 | O33: 60/252 | P33: 53/238 | Q33: 51/241 | R33: 71/274 | S33: 66/241 | T33: 49/312 | U33: 61/256 | V33: 65/294 | W33: 74/283 | X33: 66/277 | Y33: 59/281 | Z33: 77/316 | AA33: 55/244 | AB33: 65/300 | AC33: 54/239 | AD33: 73/312 | AE33: 58/253 | AF33: 57/308 | AG33: 74/307 | AH33: 58/284 | AI33: 60/242 | AJ33: 50/249
B34: Down/Up | C34: 12057 | D34: 3411/8668 | E34: =LEFT(D34, FIND("/",D34)-1)/C34*100 -> 28.29062 | F34: 151/405 | G34: 129/295 | H34: 140/356 | I34: 110/241 | J34: 115/276 | K34: 90/244 | L34: 93/218 | M34: 130/335 | N34: 113/295 | O34: 93/252 | P34: 95/238 | Q34: 91/241 | R34: 125/274 | S34: 106/241 | T34: 89/312 | U34: 99/256 | V34: 112/294 | W34: 123/283 | X34: 100/277 | Y34: 115/281 | Z34: 128/316 | AA34: 96/244 | AB34: 115/300 | AC34: 97/239 | AD34: 121/312 | AE34: 92/253 | AF34: 110/308 | AG34: 112/307 | AH34: 110/284 | AI34: 109/242 | AJ34: 102/249
A36: By Morphology
A38: Cambium | B38: Up | C38: 268 | D38: 62/8668 | E38: =LEFT(D38, FIND("/",D38)-1)/C38*100 -> 23.134328 | F38: 2/405 | G38: 0/295 | H38: 3/356 | I38: 3/241 | J38: 2/276 | K38: 2/244 | L38: 1/218 | M38: 5/335 | N38: 0/295 | O38: 1/252 | P38: 1/238 | Q38: 1/241 | R38: 0/274 | S38: 1/241 | T38: 2/312 | U38: 4/256 | V38: 2/294 | W38: 3/283 | X38: 5/277 | Y38: 1/281 | Z38: 0/316 | AA38: 3/244 | AB38: 3/300 | AC38: 1/239 | AD38: 2/312 | AE38: 3/253 | AF38: 5/308 | AG38: 4/307 | AH38: 1/284 | AI38: 0/242 | AJ38: 1/249
B39: Down | C39: 17 | D39: 4/8668 | E39: =LEFT(D39, FIND("/",D39)-1)/C39*100 -> 23.529412 | F39: 0/405 | G39: 0/295 | H39: 0/356 | I39: 0/241 | J39: 0/276 | K39: 1/244 | L39: 0/218 | M39: 1/335 | N39: 0/295 | O39: 0/252 | P39: 0/238 | Q39: 0/241 | R39: 0/274 | S39: 0/241 | T39: 0/312 | U39: 0/256 | V39: 0/294 | W39: 0/283 | X39: 0/277 | Y39: 0/281 | Z39: 1/316 | AA39: 0/244 | AB39: 0/300 | AC39: 0/239 | AD39: 0/312 | AE39: 1/253 | AF39: 0/308 | AG39: 0/307 | AH39: 0/284 | AI39: 0/242 | AJ39: 0/249
B40: Down/Up | C40: 285 | D40: 66/8668 | E40: =LEFT(D40, FIND("/",D40)-1)/C40*100 -> 23.157895 | F40: 2/405 | G40: 0/295 | H40: 3/356 | I40: 3/241 | J40: 2/276 | K40: 3/244 | L40: 1/218 | M40: 6/335 | N40: 0/295 | O40: 1/252 | P40: 1/238 | Q40: 1/241 | R40: 0/274 | S40: 1/241 | T40: 2/312 | U40: 4/256 | V40: 2/294 | W40: 3/283 | X40: 5/277 | Y40: 1/281 | Z40: 1/316 | AA40: 3/244 | AB40: 3/300 | AC40: 1/239 | AD40: 2/312 | AE40: 4/253 | AF40: 5/308 | AG40: 4/307 | AH40: 1/284 | AI40: 0/242 | AJ40: 1/249
A41: Flower | B41: Up | C41: 22081 | D41: 5920/8668 | E41: =LEFT(D41, FIND("/",D41)-1)/C41*100 -> 26.81038 | F41: 270/405 | G41: 221/295 | H41: 246/356 | I41: 179/241 | J41: 199/276 | K41: 157/244 | L41: 161/218 | M41: 230/335 | N41: 199/295 | O41: 156/252 | P41: 153/238 | Q41: 156/241 | R41: 188/274 | S41: 173/241 | T41: 175/312 | U41: 184/256 | V41: 200/294 | W41: 197/283 | X41: 190/277 | Y41: 207/281 | Z41: 223/316 | AA41: 171/244 | AB41: 202/300 | AC41: 165/239 | AD41: 207/312 | AE41: 159/253 | AF41: 212/308 | AG41: 203/307 | AH41: 197/284 | AI41: 171/242 | AJ41: 169/249
B42: Down | C42: 22227 | D42: 5945/8668 | E42: =LEFT(D42, FIND("/",D42)-1)/C42*100 -> 26.746749 | F42: 271/405 | G42: 221/295 | H42: 246/356 | I42: 181/241 | J42: 200/276 | K42: 157/244 | L42: 161/218 | M42: 231/335 | N42: 200/295 | O42: 157/252 | P42: 154/238 | Q42: 157/241 | R42: 189/274 | S42: 174/241 | T42: 176/312 | U42: 184/256 | V42: 200/294 | W42: 197/283 | X42: 192/277 | Y42: 205/281 | Z42: 224/316 | AA42: 171/244 | AB42: 203/300 | AC42: 165/239 | AD42: 210/312 | AE42: 161/253 | AF42: 212/308 | AG42: 204/307 | AH42: 199/284 | AI42: 172/242 | AJ42: 171/249
B43: Down/Up | C43: 22243 | D43: 5948/8668 | E43: =LEFT(D43, FIND("/",D43)-1)/C43*100 -> 26.740997 | F43: 271/405 | G43: 221/295 | H43: 246/356 | I43: 181/241 | J43: 200/276 | K43: 157/244 | L43: 161/218 | M43: 231/335 | N43: 200/295 | O43: 157/252 | P43: 154/238 | Q43: 157/241 | R43: 189/274 | S43: 174/241 | T43: 176/312 | U43: 184/256 | V43: 200/294 | W43: 197/283 | X43: 192/277 | Y43: 207/281 | Z43: 224/316 | AA43: 171/244 | AB43: 203/300 | AC43: 165/239 | AD43: 210/312 | AE43: 161/253 | AF43: 212/308 | AG43: 204/307 | AH43: 199/284 | AI43: 172/242 | AJ43: 172/249
A44: Leaf | B44: Up | C44: 19028 | D44: 5084/8668 | E44: =LEFT(D44, FIND("/",D44)-1)/C44*100 -> 26.71852 | F44: 222/405 | G44: 197/295 | H44: 217/356 | I44: 162/241 | J44: 170/276 | K44: 133/244 | L44: 145/218 | M44: 194/335 | N44: 171/295 | O44: 137/252 | P44: 137/238 | Q44: 131/241 | R44: 165/274 | S44: 153/241 | T44: 148/312 | U44: 157/256 | V44: 173/294 | W44: 162/283 | X44: 158/277 | Y44: 173/281 | Z44: 188/316 | AA44: 148/244 | AB44: 174/300 | AC44: 134/239 | AD44: 180/312 | AE44: 139/253 | AF44: 183/308 | AG44: 170/307 | AH44: 165/284 | AI44: 151/242 | AJ44: 147/249
B45: Down | C45: 20894 | D45: 5581/8668 | E45: =LEFT(D45, FIND("/",D45)-1)/C45*100 -> 26.711018 | F45: 256/405 | G45: 205/295 | H45: 231/356 | I45: 174/241 | J45: 182/276 | K45: 146/244 | L45: 150/218 | M45: 210/335 | N45: 190/295 | O45: 147/252 | P45: 147/238 | Q45: 147/241 | R45: 181/274 | S45: 156/241 | T45: 167/312 | U45: 175/256 | V45: 189/294 | W45: 189/283 | X45: 182/277 | Y45: 189/281 | Z45: 208/316 | AA45: 159/244 | AB45: 196/300 | AC45: 156/239 | AD45: 195/312 | AE45: 152/253 | AF45: 203/308 | AG45: 191/307 | AH45: 183/284 | AI45: 159/242 | AJ45: 166/249
B46: Down/Up | C46: 22170 | D46: 5939/8668 | E46: =LEFT(D46, FIND("/",D46)-1)/C46*100 -> 26.788453 | F46: 271/405 | G46: 221/295 | H46: 245/356 | I46: 181/241 | J46: 200/276 | K46: 157/244 | L46: 161/218 | M46: 230/335 | N46: 199/295 | O46: 157/252 | P46: 154/238 | Q46: 157/241 | R46: 189/274 | S46: 174/241 | T46: 176/312 | U46: 183/256 | V46: 200/294 | W46: 197/283 | X46: 191/277 | Y46: 207/281 | Z46: 224/316 | AA46: 170/244 | AB46: 203/300 | AC46: 165/239 | AD46: 210/312 | AE46: 160/253 | AF46: 212/308 | AG46: 203/307 | AH46: 198/284 | AI46: 172/242 | AJ46: 172/249
A47: Pollen | B47: Up | C47: 10770 | D47: 2817/8668 | E47: =LEFT(D47, FIND("/",D47)-1)/C47*100 -> 26.155989 | F47: 129/405 | G47: 91/295 | H47: 116/356 | I47: 96/241 | J47: 98/276 | K47: 65/244 | L47: 79/218 | M47: 113/335 | N47: 116/295 | O47: 63/252 | P47: 74/238 | Q47: 65/241 | R47: 73/274 | S47: 71/241 | T47: 85/312 | U47: 89/256 | V47: 101/294 | W47: 82/283 | X47: 94/277 | Y47: 97/281 | Z47: 113/316 | AA47: 83/244 | AB47: 103/300 | AC47: 79/239 | AD47: 104/312 | AE47: 83/253 | AF47: 111/308 | AG47: 106/307 | AH47: 87/284 | AI47: 76/242 | AJ47: 75/249
B48: Down | C48: 9565 | D48: 2611/8668 | E48: =LEFT(D48, FIND("/",D48)-1)/C48*100 -> 27.297439 | F48: 114/405 | G48: 119/295 | H48: 108/356 | I48: 70/241 | J48: 85/276 | K48: 79/244 | L48: 69/218 | M48: 99/335 | N48: 73/295 | O48: 78/252 | P48: 61/238 | Q48: 78/241 | R48: 89/274 | S48: 82/241 | T48: 71/312 | U48: 89/256 | V48: 88/294 | W48: 93/283 | X48: 81/277 | Y48: 86/281 | Z48: 91/316 | AA48: 83/244 | AB48: 84/300 | AC48: 65/239 | AD48: 75/312 | AE48: 69/253 | AF48: 87/308 | AG48: 96/307 | AH48: 94/284 | AI48: 83/242 | AJ48: 72/249
B49: Down/Up | C49: 19870 | D49: 5304/8668 | E49: =LEFT(D49, FIND("/",D49)-1)/C49*100 -> 26.693508 | F49: 241/405 | G49: 200/295 | H49: 216/356 | I49: 162/241 | J49: 179/276 | K49: 140/244 | L49: 147/218 | M49: 208/335 | N49: 182/295 | O49: 140/252 | P49: 134/238 | Q49: 136/241 | R49: 158/274 | S49: 150/241 | T49: 154/312 | U49: 172/256 | V49: 183/294 | W49: 171/283 | X49: 173/277 | Y49: 180/281 | Z49: 201/316 | AA49: 162/244 | AB49: 183/300 | AC49: 143/239 | AD49: 178/312 | AE49: 148/253 | AF49: 193/308 | AG49: 193/307 | AH49: 177/284 | AI49: 158/242 | AJ49: 142/249
A50: Root | B50: Up | C50: 20089 | D50: 4915/8668 | E50: =LEFT(D50, FIND("/",D50)-1)/C50*100 -> 24.466126 | F50: 225/405 | G50: 173/295 | H50: 199/356 | I50: 141/241 | J50: 166/276 | K50: 131/244 | L50: 131/218 | M50: 191/335 | N50: 160/295 | O50: 129/252 | P50: 119/238 | Q50: 129/241 | R50: 160/274 | S50: 134/241 | T50: 146/312 | U50: 154/256 | V50: 167/294 | W50: 161/283 | X50: 166/277 | Y50: 176/281 | Z50: 179/316 | AA50: 151/244 | AB50: 173/300 | AC50: 139/239 | AD50: 171/312 | AE50: 131/253 | AF50: 182/308 | AG50: 167/307 | AH50: 172/284 | AI50: 147/242 | AJ50: 145/249
B51: Down | C51: 18859 | D51: 4665/8668 | E51: =LEFT(D51, FIND("/",D51)-1)/C51*100 -> 24.7362 | F51: 218/405 | G51: 180/295 | H51: 199/356 | I51: 144/241 | J51: 156/276 | K51: 128/244 | L51: 131/218 | M51: 179/335 | N51: 145/295 | O51: 123/252 | P51: 119/238 | Q51: 124/241 | R51: 152/274 | S51: 145/241 | T51: 135/312 | U51: 145/256 | V51: 150/294 | W51: 156/283 | X51: 149/277 | Y51: 156/281 | Z51: 179/316 | AA51: 136/244 | AB51: 161/300 | AC51: 132/239 | AD51: 157/312 | AE51: 129/253 | AF51: 171/308 | AG51: 150/307 | AH51: 156/284 | AI51: 130/242 | AJ51: 130/249
B52: Down/Up | C52: 25419 | D52: 5946/8668 | E52: =LEFT(D52, FIND("/",D52)-1)/C52*100 -> 23.391951 | F52: 271/405 | G52: 221/295 | H52: 246/356 | I52: 181/241 | J52: 200/276 | K52: 157/244 | L52: 161/218 | M52: 231/335 | N52: 200/295 | O52: 157/252 | P52: 154/238 | Q52: 157/241 | R52: 189/274 | S52: 174/241 | T52: 176/312 | U52: 184/256 | V52: 200/294 | W52: 197/283 | X52: 192/277 | Y52: 207/281 | Z52: 224/316 | AA52: 171/244 | AB52: 203/300 | AC52: 165/239 | AD52: 209/312 | AE52: 161/253 | AF52: 212/308 | AG52: 204/307 | AH52: 199/284 | AI52: 172/242 | AJ52: 171/249
A53: Seed | B53: Up | C53: 11566 | D53: 3280/8668 | E53: =LEFT(D53, FIND("/",D53)-1)/C53*100 -> 28.358983 | F53: 141/405 | G53: 117/295 | H53: 136/356 | I53: 103/241 | J53: 122/276 | K53: 87/244 | L53: 91/218 | M53: 126/335 | N53: 126/295 | O53: 87/252 | P53: 74/238 | Q53: 86/241 | R53: 103/274 | S53: 97/241 | T53: 84/312 | U53: 104/256 | V53: 115/294 | W53: 114/283 | X53: 92/277 | Y53: 124/281 | Z53: 125/316 | AA53: 89/244 | AB53: 121/300 | AC53: 94/239 | AD53: 113/312 | AE53: 91/253 | AF53: 110/308 | AG53: 104/307 | AH53: 109/284 | AI53: 92/242 | AJ53: 103/249
B54: Down | C54: 13637 | D54: 3616/8668 | E54: =LEFT(D54, FIND("/",D54)-1)/C54*100 -> 26.516096 | F54: 165/405 | G54: 137/295 | H54: 148/356 | I54: 93/241 | J54: 124/276 | K54: 106/244 | L54: 95/218 | M54: 131/335 | N54: 121/295 | O54: 96/252 | P54: 83/238 | Q54: 94/241 | R54: 118/274 | S54: 112/241 | T54: 114/312 | U54: 116/256 | V54: 119/294 | W54: 135/283 | X54: 110/277 | Y54: 130/281 | Z54: 136/316 | AA54: 106/244 | AB54: 112/300 | AC54: 108/239 | AD54: 131/312 | AE54: 94/253 | AF54: 132/308 | AG54: 123/307 | AH54: 123/284 | AI54: 103/242 | AJ54: 101/249
B55: Down/Up | C55: 18558 | D55: 5035/8668 | E55: =LEFT(D55, FIND("/",D55)-1)/C55*100 -> 27.131156 | F55: 225/405 | G55: 177/295 | H55: 210/356 | I55: 149/241 | J55: 175/276 | K55: 135/244 | L55: 137/218 | M55: 190/335 | N55: 171/295 | O55: 137/252 | P55: 121/238 | Q55: 136/241 | R55: 161/274 | S55: 147/241 | T55: 150/312 | U55: 156/256 | V55: 171/294 | W55: 172/283 | X55: 154/277 | Y55: 179/281 | Z55: 186/316 | AA55: 142/244 | AB55: 175/300 | AC55: 149/239 | AD55: 182/312 | AE55: 131/253 | AF55: 180/308 | AG55: 170/307 | AH55: 171/284 | AI55: 146/242 | AJ55: 150/249
A56: Sperm Cell | B56: Up | C56: 7024 | D56: 1908/8668 | E56: =LEFT(D56, FIND("/",D56)-1)/C56*100 -> 27.164009 | F56: 84/405 | G56: 81/295 | H56: 57/356 | I56: 60/241 | J56: 72/276 | K56: 51/244 | L56: 44/218 | M56: 73/335 | N56: 64/295 | O56: 45/252 | P56: 52/238 | Q56: 54/241 | R56: 58/274 | S56: 52/241 | T56: 69/312 | U56: 61/256 | V56: 59/294 | W56: 54/283 | X56: 68/277 | Y56: 72/281 | Z56: 68/316 | AA56: 54/244 | AB56: 67/300 | AC56: 55/239 | AD56: 67/312 | AE56: 49/253 | AF56: 63/308 | AG56: 69/307 | AH56: 76/284 | AI56: 55/242 | AJ56: 55/249
B57: Down | C57: 7362 | D57: 2074/8668 | E57: =LEFT(D57, FIND("/",D57)-1)/C57*100 -> 28.171692 | F57: 93/405 | G57: 79/295 | H57: 90/356 | I57: 67/241 | J57: 67/276 | K57: 57/244 | L57: 55/218 | M57: 82/335 | N57: 75/295 | O57: 63/252 | P57: 43/238 | Q57: 53/241 | R57: 73/274 | S57: 70/241 | T57: 55/312 | U57: 58/256 | V57: 65/294 | W57: 73/283 | X57: 58/277 | Y57: 76/281 | Z57: 80/316 | AA57: 60/244 | AB57: 70/300 | AC57: 64/239 | AD57: 68/312 | AE57: 56/253 | AF57: 78/308 | AG57: 64/307 | AH57: 65/284 | AI57: 63/242 | AJ57: 54/249
B58: Down/Up | C58: 14386 | D58: 3982/8668 | E58: =LEFT(D58, FIND("/",D58)-1)/C58*100 -> 27.679689 | F58: 177/405 | G58: 160/295 | H58: 147/356 | I58: 127/241 | J58: 139/276 | K58: 108/244 | L58: 99/218 | M58: 155/335 | N58: 139/295 | O58: 108/252 | P58: 95/238 | Q58: 107/241 | R58: 131/274 | S58: 122/241 | T58: 124/312 | U58: 119/256 | V58: 124/294 | W58: 127/283 | X58: 126/277 | Y58: 148/281 | Z58: 148/316 | AA58: 114/244 | AB58: 137/300 | AC58: 119/239 | AD58: 135/312 | AE58: 105/253 | AF58: 141/308 | AG58: 133/307 | AH58: 141/284 | AI58: 118/242 | AJ58: 109/249
A59: Stem | B59: Up | C59: 6366 | D59: 1736/8668 | E59: =LEFT(D59, FIND("/",D59)-1)/C59*100 -> 27.269871 | F59: 66/405 | G59: 66/295 | H59: 83/356 | I59: 53/241 | J59: 59/276 | K59: 46/244 | L59: 35/218 | M59: 71/335 | N59: 55/295 | O59: 45/252 | P59: 46/238 | Q59: 50/241 | R59: 54/274 | S59: 51/241 | T59: 60/312 | U59: 42/256 | V59: 52/294 | W59: 52/283 | X59: 48/277 | Y59: 78/281 | Z59: 65/316 | AA59: 43/244 | AB59: 76/300 | AC59: 39/239 | AD59: 63/312 | AE59: 54/253 | AF59: 59/308 | AG59: 62/307 | AH59: 67/284 | AI59: 55/242 | AJ59: 41/249
B60: Down | C60: 8594 | D60: 2479/8668 | E60: =LEFT(D60, FIND("/",D60)-1)/C60*100 -> 28.845706 | F60: 120/405 | G60: 95/295 | H60: 100/356 | I60: 64/241 | J60: 82/276 | K60: 81/244 | L60: 74/218 | M60: 87/335 | N60: 84/295 | O60: 71/252 | P60: 66/238 | Q60: 56/241 | R60: 66/274 | S60: 66/241 | T60: 70/312 | U60: 79/256 | V60: 78/294 | W60: 101/283 | X60: 74/277 | Y60: 83/281 | Z60: 83/316 | AA60: 77/244 | AB60: 73/300 | AC60: 86/239 | AD60: 98/312 | AE60: 68/253 | AF60: 87/308 | AG60: 85/307 | AH60: 83/284 | AI60: 68/242 | AJ60: 74/249
B61: Down/Up | C61: 13233 | D61: 3676/8668 | E61: =LEFT(D61, FIND("/",D61)-1)/C61*100 -> 27.779037 | F61: 161/405 | G61: 139/295 | H61: 154/356 | I61: 103/241 | J61: 124/276 | K61: 108/244 | L61: 95/218 | M61: 137/335 | N61: 120/295 | O61: 102/252 | P61: 99/238 | Q61: 95/241 | R61: 99/274 | S61: 102/241 | T61: 111/312 | U61: 108/256 | V61: 112/294 | W61: 137/283 | X61: 112/277 | Y61: 139/281 | Z61: 130/316 | AA61: 106/244 | AB61: 132/300 | AC61: 112/239 | AD61: 139/312 | AE61: 102/253 | AF61: 130/308 | AG61: 132/307 | AH61: 127/284 | AI61: 109/242 | AJ61: 100/249
A62: Vegetative Apex | B62: Up | C62: 785 | D62: 208/8668 | E62: =LEFT(D62, FIND("/",D62)-1)/C62*100 -> 26.496815 | F62: 8/405 | G62: 11/295 | H62: 10/356 | I62: 4/241 | J62: 2/276 | K62: 6/244 | L62: 5/218 | M62: 7/335 | N62: 4/295 | O62: 5/252 | P62: 3/238 | Q62: 8/241 | R62: 12/274 | S62: 6/241 | T62: 5/312 | U62: 6/256 | V62: 7/294 | W62: 6/283 | X62: 11/277 | Y62: 9/281 | Z62: 7/316 | AA62: 8/244 | AB62: 6/300 | AC62: 7/239 | AD62: 8/312 | AE62: 5/253 | AF62: 7/308 | AG62: 3/307 | AH62: 6/284 | AI62: 7/242 | AJ62: 9/249
B63: Down | C63: 664 | D63: 224/8668 | E63: =LEFT(D63, FIND("/",D63)-1)/C63*100 -> 33.73494 | F63: 10/405 | G63: 11/295 | H63: 11/356 | I63: 8/241 | J63: 10/276 | K63: 5/244 | L63: 8/218 | M63: 5/335 | N63: 8/295 | O63: 8/252 | P63: 4/238 | Q63: 6/241 | R63: 7/274 | S63: 8/241 | T63: 6/312 | U63: 6/256 | V63: 5/294 | W63: 5/283 | X63: 11/277 | Y63: 7/281 | Z63: 12/316 | AA63: 6/244 | AB63: 4/300 | AC63: 5/239 | AD63: 4/312 | AE63: 6/253 | AF63: 6/308 | AG63: 4/307 | AH63: 9/284 | AI63: 11/242 | AJ63: 8/249
B64: Down/Up | C64: 1449 | D64: 432/8668 | E64: =LEFT(D64, FIND("/",D64)-1)/C64*100 -> 29.813665 | F64: 18/405 | G64: 22/295 | H64: 21/356 | I64: 12/241 | J64: 12/276 | K64: 11/244 | L64: 13/218 | M64: 12/335 | N64: 12/295 | O64: 13/252 | P64: 7/238 | Q64: 14/241 | R64: 19/274 | S64: 14/241 | T64: 11/312 | U64: 12/256 | V64: 12/294 | W64: 11/283 | X64: 22/277 | Y64: 16/281 | Z64: 19/316 | AA64: 14/244 | AB64: 10/300 | AC64: 12/239 | AD64: 12/312 | AE64: 11/253 | AF64: 13/308 | AG64: 7/307 | AH64: 15/284 | AI64: 18/242 | AJ64: 17/249
A65: Apical Root meristem | B65: Up | C65: 6890 | D65: 1742/8668 | E65: =LEFT(D65, FIND("/",D65)-1)/C65*100 -> 25.283019 | F65: 71/405 | G65: 71/295 | H65: 63/356 | I65: 35/241 | J65: 55/276 | K65: 58/244 | L65: 49/218 | M65: 79/335 | N65: 59/295 | O65: 44/252 | P65: 41/238 | Q65: 44/241 | R65: 73/274 | S65: 56/241 | T65: 56/312 | U65: 54/256 | V65: 62/294 | W65: 76/283 | X65: 56/277 | Y65: 51/281 | Z65: 55/316 | AA65: 56/244 | AB65: 48/300 | AC65: 51/239 | AD65: 54/312 | AE65: 38/253 | AF65: 73/308 | AG65: 61/307 | AH65: 56/284 | AI65: 47/242 | AJ65: 50/249
B66: Down | C66: 5109 | D66: 1481/8668 | E66: =LEFT(D66, FIND("/",D66)-1)/C66*100 -> 28.98806 | F66: 70/405 | G66: 46/295 | H66: 69/356 | I66: 52/241 | J66: 54/276 | K66: 36/244 | L66: 41/218 | M66: 57/335 | N66: 49/295 | O66: 42/252 | P66: 34/238 | Q66: 47/241 | R66: 40/274 | S66: 44/241 | T66: 39/312 | U66: 41/256 | V66: 55/294 | W66: 43/283 | X66: 43/277 | Y66: 59/281 | Z66: 65/316 | AA66: 37/244 | AB66: 58/300 | AC66: 39/239 | AD66: 48/312 | AE66: 40/253 | AF66: 41/308 | AG66: 49/307 | AH66: 50/284 | AI66: 41/242 | AJ66: 52/249
B67: Down/Up | C67: 11999 | D67: 3223/8668 | E67: =LEFT(D67, FIND("/",D67)-1)/C67*100 -> 26.860572 | F67: 141/405 | G67: 117/295 | H67: 132/356 | I67: 87/241 | J67: 109/276 | K67: 94/244 | L67: 90/218 | M67: 136/335 | N67: 108/295 | O67: 86/252 | P67: 75/238 | Q67: 91/241 | R67: 113/274 | S67: 100/241 | T67: 95/312 | U67: 95/256 | V67: 117/294 | W67: 119/283 | X67: 99/277 | Y67: 110/281 | Z67: 120/316 | AA67: 93/244 | AB67: 106/300 | AC67: 90/239 | AD67: 102/312 | AE67: 78/253 | AF67: 114/308 | AG67: 110/307 | AH67: 106/284 | AI67: 88/242 | AJ67: 102/249
A69: By environmental Conditions
A71: At Baseline Growth Temperature | B71: Up | C71: 5264 | D71: 1299/8668 | E71: =LEFT(D71, FIND("/",D71)-1)/C71*100 -> 24.677052 | F71: 56/405 | G71: 50/295 | H71: 53/356 | I71: 51/241 | J71: 42/276 | K71: 35/244 | L71: 36/218 | M71: 47/335 | N71: 44/295 | O71: 34/252 | P71: 24/238 | Q71: 41/241 | R71: 43/274 | S71: 39/241 | T71: 34/312 | U71: 40/256 | V71: 37/294 | W71: 45/283 | X71: 47/277 | Y71: 44/281 | Z71: 46/316 | AA71: 34/244 | AB71: 47/300 | AC71: 31/239 | AD71: 34/312 | AE71: 44/253 | AF71: 46/308 | AG71: 39/307 | AH71: 41/284 | AI71: 47/242 | AJ71: 48/249
B72: Down | C72: 3969 | D72: 1177/8668 | E72: =LEFT(D72, FIND("/",D72)-1)/C72*100 -> 29.654825 | F72: 37/405 | G72: 47/295 | H72: 53/356 | I72: 32/241 | J72: 36/276 | K72: 32/244 | L72: 35/218 | M72: 57/335 | N72: 32/295 | O72: 29/252 | P72: 34/238 | Q72: 35/241 | R72: 44/274 | S72: 38/241 | T72: 41/312 | U72: 34/256 | V72: 36/294 | W72: 36/283 | X72: 26/277 | Y72: 38/281 | Z72: 43/316 | AA72: 40/244 | AB72: 28/300 | AC72: 36/239 | AD72: 52/312 | AE72: 31/253 | AF72: 46/308 | AG72: 36/307 | AH72: 46/284 | AI72: 34/242 | AJ72: 33/249
B73: Down/Up | C73: 9233 | D73: 2476/8668 | E73: =LEFT(D73, FIND("/",D73)-1)/C73*100 -> 26.816853 | F73: 93/405 | G73: 97/295 | H73: 106/356 | I73: 83/241 | J73: 78/276 | K73: 67/244 | L73: 71/218 | M73: 104/335 | N73: 76/295 | O73: 63/252 | P73: 58/238 | Q73: 76/241 | R73: 87/274 | S73: 77/241 | T73: 75/312 | U73: 74/256 | V73: 73/294 | W73: 81/283 | X73: 73/277 | Y73: 82/281 | Z73: 89/316 | AA73: 74/244 | AB73: 75/300 | AC73: 67/239 | AD73: 86/312 | AE73: 75/253 | AF73: 92/308 | AG73: 75/307 | AH73: 87/284 | AI73: 81/242 | AJ73: 81/249
A74: Disease | B74: Up | C74: 7851 | D74: 2022/8668 | E74: =LEFT(D74, FIND("/",D74)-1)/C74*100 -> 25.754681 | F74: 103/405 | G74: 74/295 | H74: 62/356 | I74: 73/241 | J74: 73/276 | K74: 49/244 | L74: 55/218 | M74: 74/335 | N74: 68/295 | O74: 56/252 | P74: 55/238 | Q74: 44/241 | R74: 57/274 | S74: 64/241 | T74: 56/312 | U74: 59/256 | V74: 72/294 | W74: 76/283 | X74: 64/277 | Y74: 66/281 | Z74: 64/316 | AA74: 64/244 | AB74: 69/300 | AC74: 56/239 | AD74: 76/312 | AE74: 56/253 | AF74: 76/308 | AG74: 72/307 | AH74: 65/284 | AI74: 58/242 | AJ74: 66/249
B75: Down | C75: 5212 | D75: 1502/8668 | E75: =LEFT(D75, FIND("/",D75)-1)/C75*100 -> 28.818112 | F75: 61/405 | G75: 60/295 | H75: 79/356 | I75: 43/241 | J75: 49/276 | K75: 42/244 | L75: 41/218 | M75: 67/335 | N75: 45/295 | O75: 40/252 | P75: 41/238 | Q75: 41/241 | R75: 48/274 | S75: 47/241 | T75: 43/312 | U75: 38/256 | V75: 58/294 | W75: 48/283 | X75: 47/277 | Y75: 56/281 | Z75: 64/316 | AA75: 37/244 | AB75: 49/300 | AC75: 38/239 | AD75: 50/312 | AE75: 36/253 | AF75: 39/308 | AG75: 52/307 | AH75: 57/284 | AI75: 47/242 | AJ75: 39/249
B76: Down/Up | C76: 12957 | D76: 3504/8668 | E76: =LEFT(D76, FIND("/",D76)-1)/C76*100 -> 27.043297 | F76: 164/405 | G76: 134/295 | H76: 141/356 | I76: 115/241 | J76: 122/276 | K76: 91/244 | L76: 96/218 | M76: 139/335 | N76: 112/295 | O76: 96/252 | P76: 96/238 | Q76: 85/241 | R76: 105/274 | S76: 110/241 | T76: 99/312 | U76: 97/256 | V76: 129/294 | W76: 124/283 | X76: 111/277 | Y76: 122/281 | Z76: 128/316 | AA76: 101/244 | AB76: 117/300 | AC76: 92/239 | AD76: 123/312 | AE76: 92/253 | AF76: 115/308 | AG76: 122/307 | AH76: 119/284 | AI76: 104/242 | AJ76: 103/249
A77: Drought | B77: Up | C77: 3471 | D77: 1219/8668 | E77: =LEFT(D77, FIND("/",D77)-1)/C77*100 -> 35.119562 | F77: 53/405 | G77: 37/295 | H77: 49/356 | I77: 35/241 | J77: 48/276 | K77: 34/244 | L77: 32/218 | M77: 53/335 | N77: 41/295 | O77: 30/252 | P77: 34/238 | Q77: 34/241 | R77: 43/274 | S77: 42/241 | T77: 33/312 | U77: 25/256 | V77: 40/294 | W77: 47/283 | X77: 32/277 | Y77: 45/281 | Z77: 52/316 | AA77: 38/244 | AB77: 41/300 | AC77: 31/239 | AD77: 44/312 | AE77: 30/253 | AF77: 39/308 | AG77: 36/307 | AH77: 52/284 | AI77: 32/242 | AJ77: 37/249
B78: Down | C78: 4726 | D78: 1072/8668 | E78: =LEFT(D78, FIND("/",D78)-1)/C78*100 -> 22.68303 | F78: 58/405 | G78: 53/295 | H78: 50/356 | I78: 30/241 | J78: 42/276 | K78: 26/244 | L78: 22/218 | M78: 44/335 | N78: 26/295 | O78: 29/252 | P78: 30/238 | Q78: 30/241 | R78: 35/274 | S78: 23/241 | T78: 29/312 | U78: 35/256 | V78: 37/294 | W78: 33/283 | X78: 30/277 | Y78: 42/281 | Z78: 36/316 | AA78: 28/244 | AB78: 36/300 | AC78: 29/239 | AD78: 36/312 | AE78: 25/253 | AF78: 43/308 | AG78: 44/307 | AH78: 29/284 | AI78: 28/242 | AJ78: 34/249
B79: Down/Up | C79: 8197 | D79: 2291/8668 | E79: =LEFT(D79, FIND("/",D79)-1)/C79*100 -> 27.94925 | F79: 111/405 | G79: 90/295 | H79: 99/356 | I79: 65/241 | J79: 90/276 | K79: 60/244 | L79: 54/218 | M79: 97/335 | N79: 67/295 | O79: 59/252 | P79: 64/238 | Q79: 64/241 | R79: 78/274 | S79: 65/241 | T79: 62/312 | U79: 60/256 | V79: 77/294 | W79: 80/283 | X79: 62/277 | Y79: 87/281 | Z79: 88/316 | AA79: 66/244 | AB79: 77/300 | AC79: 60/239 | AD79: 80/312 | AE79: 55/253 | AF79: 82/308 | AG79: 80/307 | AH79: 81/284 | AI79: 60/242 | AJ79: 71/249
A80: Low Water Potential | B80: Up | C80: 5276 | D80: 1798/8668 | E80: =LEFT(D80, FIND("/",D80)-1)/C80*100 -> 34.078848 | F80: 75/405 | G80: 64/295 | H80: 77/356 | I80: 61/241 | J80: 65/276 | K80: 57/244 | L80: 50/218 | M80: 68/335 | N80: 64/295 | O80: 51/252 | P80: 41/238 | Q80: 40/241 | R80: 63/274 | S80: 55/241 | T80: 48/312 | U80: 48/256 | V80: 59/294 | W80: 61/283 | X80: 60/277 | Y80: 60/281 | Z80: 79/316 | AA80: 49/244 | AB80: 53/300 | AC80: 40/239 | AD80: 66/312 | AE80: 47/253 | AF80: 59/308 | AG80: 58/307 | AH80: 69/284 | AI80: 59/242 | AJ80: 52/249
B81: Down | C81: 3854 | D81: 982/8668 | E81: =LEFT(D81, FIND("/",D81)-1)/C81*100 -> 25.480021 | F81: 41/405 | G81: 42/295 | H81: 40/356 | I81: 29/241 | J81: 30/276 | K81: 24/244 | L81: 27/218 | M81: 44/335 | N81: 25/295 | O81: 28/252 | P81: 33/238 | Q81: 32/241 | R81: 30/274 | S81: 36/241 | T81: 29/312 | U81: 29/256 | V81: 28/294 | W81: 36/283 | X81: 23/277 | Y81: 34/281 | Z81: 47/316 | AA81: 19/244 | AB81: 28/300 | AC81: 23/239 | AD81: 41/312 | AE81: 31/253 | AF81: 27/308 | AG81: 38/307 | AH81: 31/284 | AI81: 28/242 | AJ81: 29/249
B82: Down/Up | C82: 9130 | D82: 2780/8668 | E82: =LEFT(D82, FIND("/",D82)-1)/C82*100 -> 30.449069 | F82: 116/405 | G82: 106/295 | H82: 117/356 | I82: 90/241 | J82: 95/276 | K82: 81/244 | L82: 77/218 | M82: 112/335 | N82: 89/295 | O82: 79/252 | P82: 74/238 | Q82: 72/241 | R82: 93/274 | S82: 91/241 | T82: 77/312 | U82: 77/256 | V82: 87/294 | W82: 97/283 | X82: 83/277 | Y82: 94/281 | Z82: 126/316 | AA82: 68/244 | AB82: 81/300 | AC82: 63/239 | AD82: 107/312 | AE82: 78/253 | AF82: 86/308 | AG82: 96/307 | AH82: 100/284 | AI82: 87/242 | AJ82: 81/249
A83: Optimum Photosynthetic Temperature | B83: Up | C83: 4282 | D83: 1095/8668 | E83: =LEFT(D83, FIND("/",D83)-1)/C83*100 -> 25.572163 | F83: 39/405 | G83: 45/295 | H83: 41/356 | I83: 37/241 | J83: 27/276 | K83: 32/244 | L83: 31/218 | M83: 45/335 | N83: 37/295 | O83: 36/252 | P83: 26/238 | Q83: 36/241 | R83: 36/274 | S83: 32/241 | T83: 32/312 | U83: 37/256 | V83: 32/294 | W83: 43/283 | X83: 36/277 | Y83: 39/281 | Z83: 36/316 | AA83: 28/244 | AB83: 41/300 | AC83: 18/239 | AD83: 38/312 | AE83: 30/253 | AF83: 40/308 | AG83: 39/307 | AH83: 40/284 | AI83: 27/242 | AJ83: 39/249
B84: Down | C84: 3474 | D84: 995/8668 | E84: =LEFT(D84, FIND("/",D84)-1)/C84*100 -> 28.641336 | F84: 33/405 | G84: 33/295 | H84: 40/356 | I84: 21/241 | J84: 39/276 | K84: 26/244 | L84: 33/218 | M84: 46/335 | N84: 18/295 | O84: 25/252 | P84: 27/238 | Q84: 29/241 | R84: 31/274 | S84: 26/241 | T84: 33/312 | U84: 34/256 | V84: 29/294 | W84: 34/283 | X84: 36/277 | Y84: 36/281 | Z84: 42/316 | AA84: 39/244 | AB84: 27/300 | AC84: 29/239 | AD84: 35/312 | AE84: 26/253 | AF84: 38/308 | AG84: 39/307 | AH84: 37/284 | AI84: 28/242 | AJ84: 26/249
B85: Down/Up | C85: 7756 | D85: 2090/8668 | E85: =LEFT(D85, FIND("/",D85)-1)/C85*100 -> 26.94688 | F85: 72/405 | G85: 78/295 | H85: 81/356 | I85: 58/241 | J85: 66/276 | K85: 58/244 | L85: 64/218 | M85: 91/335 | N85: 55/295 | O85: 61/252 | P85: 53/238 | Q85: 65/241 | R85: 67/274 | S85: 58/241 | T85: 65/312 | U85: 71/256 | V85: 61/294 | W85: 77/283 | X85: 72/277 | Y85: 75/281 | Z85: 78/316 | AA85: 67/244 | AB85: 68/300 | AC85: 47/239 | AD85: 73/312 | AE85: 56/253 | AF85: 78/308 | AG85: 78/307 | AH85: 77/284 | AI85: 55/242 | AJ85: 65/249
A86: By Salt | B86: Up | C86: 2482 | D86: 1036/8668 | E86: =LEFT(D86, FIND("/",D86)-1)/C86*100 -> 41.740532 | F86: 35/405 | G86: 32/295 | H86: 42/356 | I86: 32/241 | J86: 31/276 | K86: 31/244 | L86: 28/218 | M86: 41/335 | N86: 36/295 | O86: 24/252 | P86: 27/238 | Q86: 32/241 | R86: 39/274 | S86: 38/241 | T86: 36/312 | U86: 25/256 | V86: 36/294 | W86: 32/283 | X86: 30/277 | Y86: 41/281 | Z86: 39/316 | AA86: 27/244 | AB86: 25/300 | AC86: 27/239 | AD86: 42/312 | AE86: 30/253 | AF86: 43/308 | AG86: 35/307 | AH86: 49/284 | AI86: 28/242 | AJ86: 23/249
B87: Down | C87: 2191 | D87: 476/8668 | E87: =LEFT(D87, FIND("/",D87)-1)/C87*100 -> 21.72524 | F87: 25/405 | G87: 13/295 | H87: 15/356 | I87: 19/241 | J87: 13/276 | K87: 14/244 | L87: 11/218 | M87: 20/335 | N87: 15/295 | O87: 19/252 | P87: 12/238 | Q87: 17/241 | R87: 18/274 | S87: 14/241 | T87: 10/312 | U87: 25/256 | V87: 10/294 | W87: 17/283 | X87: 18/277 | Y87: 13/281 | Z87: 22/316 | AA87: 19/244 | AB87: 12/300 | AC87: 15/239 | AD87: 10/312 | AE87: 14/253 | AF87: 14/308 | AG87: 11/307 | AH87: 15/284 | AI87: 10/242 | AJ87: 16/249
B88: Down/Up | C88: 4614 | D88: 1493/8668 | E88: =LEFT(D88, FIND("/",D88)-1)/C88*100 -> 32.358041 | F88: 58/405 | G88: 44/295 | H88: 57/356 | I88: 51/241 | J88: 43/276 | K88: 45/244 | L88: 39/218 | M88: 60/335 | N88: 49/295 | O88: 42/252 | P88: 39/238 | Q88: 49/241 | R88: 57/274 | S88: 52/241 | T88: 44/312 | U88: 48/256 | V88: 46/294 | W88: 48/283 | X88: 48/277 | Y88: 53/281 | Z88: 60/316 | AA88: 45/244 | AB88: 37/300 | AC88: 42/239 | AD88: 51/312 | AE88: 43/253 | AF88: 56/308 | AG88: 46/307 | AH88: 64/284 | AI88: 38/242 | AJ88: 39/249
A89: 20% inhibition from Optimum Photosynthetic Temperature | B89: Up | C89: 3438 | D89: 1083/8668 | E89: =LEFT(D89, FIND("/",D89)-1)/C89*100 -> 31.500873 | F89: 36/405 | G89: 35/295 | H89: 39/356 | I89: 31/241 | J89: 39/276 | K89: 31/244 | L89: 28/218 | M89: 51/335 | N89: 31/295 | O89: 29/252 | P89: 28/238 | Q89: 37/241 | R89: 36/274 | S89: 31/241 | T89: 38/312 | U89: 33/256 | V89: 35/294 | W89: 39/283 | X89: 33/277 | Y89: 35/281 | Z89: 46/316 | AA89: 42/244 | AB89: 24/300 | AC89: 31/239 | AD89: 45/312 | AE89: 31/253 | AF89: 39/308 | AG89: 37/307 | AH89: 36/284 | AI89: 31/242 | AJ89: 26/249
B90: Down | C90: 4709 | D90: 1198/8668 | E90: =LEFT(D90, FIND("/",D90)-1)/C90*100 -> 25.440646 | F90: 51/405 | G90: 43/295 | H90: 41/356 | I90: 42/241 | J90: 35/276 | K90: 34/244 | L90: 36/218 | M90: 47/335 | N90: 38/295 | O90: 38/252 | P90: 22/238 | Q90: 43/241 | R90: 40/274 | S90: 32/241 | T90: 31/312 | U90: 42/256 | V90: 37/294 | W90: 42/283 | X90: 44/277 | Y90: 45/281 | Z90: 42/316 | AA90: 29/244 | AB90: 39/300 | AC90: 23/239 | AD90: 38/312 | AE90: 38/253 | AF90: 49/308 | AG90: 40/307 | AH90: 35/284 | AI90: 37/242 | AJ90: 45/249
B91: Down/Up | C91: 8147 | D91: 2281/8668 | E91: =LEFT(D91, FIND("/",D91)-1)/C91*100 -> 27.998036 | F91: 87/405 | G91: 78/295 | H91: 80/356 | I91: 73/241 | J91: 74/276 | K91: 65/244 | L91: 64/218 | M91: 98/335 | N91: 69/295 | O91: 67/252 | P91: 50/238 | Q91: 80/241 | R91: 76/274 | S91: 63/241 | T91: 69/312 | U91: 75/256 | V91: 72/294 | W91: 81/283 | X91: 77/277 | Y91: 80/281 | Z91: 88/316 | AA91: 71/244 | AB91: 63/300 | AC91: 54/239 | AD91: 83/312 | AE91: 69/253 | AF91: 88/308 | AG91: 77/307 | AH91: 71/284 | AI91: 68/242 | AJ91: 71/249
A92: 30% inhibition from Optimum Photosynthetic Temperature | B92: Up | C92: 3708 | D92: 1075/8668 | E92: =LEFT(D92, FIND("/",D92)-1)/C92*100 -> 28.99137 | F92: 36/405 | G92: 37/295 | H92: 53/356 | I92: 24/241 | J92: 38/276 | K92: 34/244 | L92: 34/218 | M92: 44/335 | N92: 24/295 | O92: 27/252 | P92: 27/238 | Q92: 30/241 | R92: 41/274 | S92: 31/241 | T92: 32/312 | U92: 34/256 | V92: 34/294 | W92: 28/283 | X92: 29/277 | Y92: 37/281 | Z92: 46/316 | AA92: 36/244 | AB92: 30/300 | AC92: 36/239 | AD92: 42/312 | AE92: 28/253 | AF92: 44/308 | AG92: 39/307 | AH92: 38/284 | AI92: 33/242 | AJ92: 29/249
B93: Down | C93: 4624 | D93: 1178/8668 | E93: =LEFT(D93, FIND("/",D93)-1)/C93*100 -> 25.475779 | F93: 44/405 | G93: 44/295 | H93: 49/356 | I93: 54/241 | J93: 35/276 | K93: 33/244 | L93: 28/218 | M93: 44/335 | N93: 40/295 | O93: 37/252 | P93: 25/238 | Q93: 34/241 | R93: 38/274 | S93: 39/241 | T93: 30/312 | U93: 32/256 | V93: 38/294 | W93: 42/283 | X93: 39/277 | Y93: 40/281 | Z93: 44/316 | AA93: 30/244 | AB93: 49/300 | AC93: 22/239 | AD93: 35/312 | AE93: 41/253 | AF93: 37/308 | AG93: 37/307 | AH93: 38/284 | AI93: 38/242 | AJ93: 42/249
B94: Down/Up | C94: 8332 | D94: 2253/8668 | E94: =LEFT(D94, FIND("/",D94)-1)/C94*100 -> 27.040326 | F94: 80/405 | G94: 81/295 | H94: 102/356 | I94: 78/241 | J94: 73/276 | K94: 67/244 | L94: 62/218 | M94: 88/335 | N94: 64/295 | O94: 64/252 | P94: 52/238 | Q94: 64/241 | R94: 79/274 | S94: 70/241 | T94: 62/312 | U94: 66/256 | V94: 72/294 | W94: 70/283 | X94: 68/277 | Y94: 77/281 | Z94: 90/316 | AA94: 66/244 | AB94: 79/300 | AC94: 58/239 | AD94: 77/312 | AE94: 69/253 | AF94: 81/308 | AG94: 76/307 | AH94: 76/284 | AI94: 71/242 | AJ94: 71/249

Sheet 3B
B1: Supplementary Table 3 B. Likelihood of involvment of genes with ACGT cis elements with given conditions
A4: Condition | B4: Regulation | C4: Likelihood of involvement (overall) = X/Y | D4: Likelihood of involvement for particular spacer distance = X/Y
D5: 0 | E5: 1 | F5: 2 | G5: 3 | H5: 4 | I5: 5 | J5: 6 | K5: 7 | L5: 8 | M5: 9 | N5: 10 | O5: 11 | P5: 12 | Q5: 13 | R5: 14 | S5: 15 | T5: 16 | U5: 17 | V5: 18 | W5: 19 | X5: 20 | Y5: 21 | Z5: 22 | AA5: 23 | AB5: 24 | AC5: 25 | AD5: 26 | AE5: 27 | AF5: 28 | AG5: 29 | AH5: 30
A7: By Developmental Stage
A9: Embryo | B9: Up | C9: 0.89450136 | D9: 0.75417876 | E9: 1.0884953 | F9: 0.94598265 | G9: 0.74743857 | H9: 0.6242784 | I9: 0.8024443 | J9: 1.1496303 | K9: 1.0520404 | L9: 0.87610596 | M9: 0.74589108 | N9: 0.98720878 | O9: 0.74743857 | P9: 0.85750252 | Q9: 1.2673958 | R9: 0.97898204 | S9: 0.76482972 | T9: 0.98564178 | U9: 0.96860414 | V9: 0.65029854 | W9: 0.891884 | X9: 0.64439324 | Y9: 0.96293316 | Z9: 0.93982276 | AA9: 0.95030893 | AB9: 0.75306311 | AC9: 1.0525024 | AD9: 0.9916961 | AE9: 0.86737171 | AF9: 1.0203475 | AG9: 1.0032543 | AH9: 0.75487772
B10: Down | C10: 1.1517375 | D10: 1.1180358 | E10: 1.3887466 | F10: 1.1810711 | G10: 1.7446528 | H10: 1.0546689 | I10: 1.1929861 | J10: 0.93963362 | K10: 0.96546801 | L10: 0.9136491 | M10: 1.1123315 | N10: 0.95126995 | O10: 1.2973059 | P10: 0.94432637 | Q10: 1.3420406 | R10: 0.69109355 | S10: 1.2634054 | T10: 0.88008648 | U10: 1.2571553 | V10: 1.2843861 | W10: 1.3044698 | X10: 1.2964565 | Y10: 1.1488014 | Z10: 1.0421691 | AA10: 1.0826168 | AB10: 1.1403044 | AC10: 1.1931607 | AD10: 1.1551135 | AE10: 1.0535237 | AF10: 0.94903692 | AG10: 1.2028455 | AH10: 1.8617894
B11: Down/Up | C11: 1.0017169 | D11: 0.90748003 | E11: 1.2147159 | F11: 1.0452908 | G11: 1.1628265 | H11: 0.81562234 | I11: 0.97907425 | J11: 1.0536967 | K11: 1.0285338 | L11: 0.88767697 | M11: 0.91153128 | N11: 0.96515077 | O11: 0.9912619 | P11: 0.90541005 | Q11: 1.2962656 | R11: 0.83930995 | S11: 0.98701746 | T11: 0.92194878 | U11: 1.0714197 | V11: 0.8790189 | W11: 1.0463471 | X11: 0.88683917 | Y11: 1.0355593 | Z11: 0.99539216 | AA11: 1.0187792 | AB11: 0.92765837 | AC11: 1.1258312 | AD11: 1.0739496 | AE11: 0.95773137 | AF11: 0.98676471 | AG11: 1.0631016 | AH11: 1.2361682
A12: Seedling | B12: Up | C12: 1.0972792 | D12: 1.0137963 | E12: 1.1771261 | F12: 1.17174 | G12: 1.2233891 | H12: 1.2502472 | I12: 1.029333 | J12: 1.1420792 | K12: 1.0561317 | L12: 1.0882864 | M12: 1.0486552 | N12: 1.0552826 | O12: 1.0965191 | P12: 1.1716952 | Q12: 1.1690162 | R12: 0.90299011 | S12: 1.0663946 | T12: 1.0399886 | U12: 1.0109571 | V12: 1.0249707 | W12: 1.2280008 | X12: 1.2578596 | Y12: 1.091988 | Z12: 1.099268 | AA12: 0.95034942 | AB12: 1.098988 | AC12: 1.0186133 | AD12: 1.1061697 | AE12: 1.0172918 | AF12: 1.1227483 | AG12: 1.1732103 | AH12: 1.1489995
B13: Down | C13: 1.015559 | D13: 0.98519052 | E13: 1.10016 | F13: 0.98672649 | G13: 1.0456488 | H13: 1.0859743 | I13: 0.98584736 | J13: 1.1296975 | K13: 1.0428822 | L13: 0.99014404 | M13: 0.99242962 | N13: 0.94652919 | O13: 0.966433 | P13: 1.0172583 | Q13: 1.0694136 | R13: 0.79545885 | S13: 1.1260714 | T13: 0.98052479 | U13: 1.0658586 | V13: 1.0338093 | W13: 1.0666509 | X13: 1.0330896 | Y13: 1.0875618 | Z13: 0.92909594 | AA13: 1.054399 | AB13: 0.99738302 | AC13: 0.94323184 | AD13: 1.0847166 | AE13: 0.97009705 | AF13: 0.99488375 | AG13: 1.0334391 | AH13: 1.0197207
B14: Down/Up | C14: 1.0363044 | D14: 1.0156815 | E14: 1.1258571 | F14: 1.0356527 | G14: 1.1315787 | H14: 1.1040016 | I14: 0.97405518 | J14: 1.1251701 | K14: 1.0460003 | L14: 1.0225674 | M14: 0.94917852 | N14: 0.97940713 | O14: 0.99250202 | P14: 1.0397761 | Q14: 1.0936487 | R14: 0.84965662 | S14: 1.0831291 | T14: 1.0208635 | U14: 1.0497768 | V14: 1.0395152 | W14: 1.1168882 | X14: 1.0703226 | Y14: 1.0489825 | Z14: 1.0258383 | AA14: 1.0390549 | AB14: 1.0156815 | AC14: 0.95747048 | AD14: 1.0486581 | AE14: 0.98756 | AF14: 1.0568094 | AG14: 1.0765384 | AH14: 1.0462743
A16: Regulated by hormones
A18: ABA | B18: Up | C18: 1.1902073 | D18: 1.1190615 | E18: 1.3240814 | F18: 1.0720755 | G18: 1.4104354 | H18: 1.2207726 | I18: 1.1486916 | J18: 1.2173036 | K18: 1.1570815 | L18: 1.3038664 | M18: 1.0648964 | N18: 0.9396145 | O18: 1.1011294 | P18: 1.3602692 | Q18: 1.2619686 | R18: 0.90789248 | S18: 1.3627347 | T18: 1.1358895 | U18: 1.1695046 | V18: 1.1302511 | W18: 1.3157724 | X18: 1.2927034 | Y18: 1.2831129 | Z18: 1.1429888 | AA18: 1.1851985 | AB18: 1.1468115 | AC18: 0.97818945 | AD18: 1.2197905 | AE18: 1.1849141 | AF18: 1.2703765 | AG18: 1.3306805 | AH18: 1.2333981
B19: Down | C19: 0.89053716 | D19: 0.89639417 | E19: 1.0317511 | F19: 0.73135326 | G19: 0.88253066 | H19: 0.94333971 | I19: 0.85665091 | J19: 0.97564169 | K19: 1.0289681 | L19: 0.82042856 | M19: 0.82945564 | N19: 0.87824715 | O19: 1.0346911 | P19: 0.93684195 | Q19: 0.88253066 | R19: 0.69345178 | S19: 0.83081988 | T19: 0.97289534 | U19: 1.0107111 | V19: 0.90021862 | W19: 0.87435406 | X19: 0.89355748 | Y19: 0.78150609 | Z19: 0.89231965 | AA19: 0.99731949 | AB19: 0.86975308 | AC19: 0.85516583 | AD19: 0.85723645 | AE19: 0.88391844 | AF19: 0.78764468 | AG19: 0.87888384 | AH19: 0.9572665
B20: Down/Up | C20: 1.1089256 | D20: 1.0548331 | E20: 1.1737724 | F20: 1.0547552 | G20: 1.1942029 | H20: 1.1486698 | I20: 1.12423 | J20: 1.2789406 | K20: 1.1208741 | L20: 1.1966381 | M20: 0.98147068 | N20: 0.98252038 | O20: 1.1195652 | P20: 1.1898785 | Q20: 1.1755435 | R20: 0.83596593 | S20: 1.115447 | T20: 1.1089344 | U20: 1.0964222 | V20: 1.0958199 | W20: 1.192244 | X20: 1.1598069 | Y20: 1.12423 | Z20: 1.0942506 | AA20: 1.1195262 | AB20: 1.0089244 | AC20: 1.0042529 | AD20: 1.1023295 | AE20: 1.135216 | AF20: 1.1638156 | AG20: 1.1892682 | AH20: 1.137775
A21: Auxin | B21: Up | C21: 0.98490202 | D21: 0.91600714 | E21: 1.0888708 | F21: 0.74979414 | G21: 1.0324896 | H21: 0.91794989 | I21: 0.94562812 | J21: 1.2866938 | K21: 0.91834134 | L21: 0.88950011 | M21: 0.87970198 | N21: 0.85541249 | O21: 0.93862689 | P21: 0.97418509 | Q21: 1.1451248 | R21: 0.75403027 | S21: 1.0957002 | T21: 1.0617977 | U21: 1.1190555 | V21: 0.96363435 | W21: 1.0304186 | X21: 0.85902182 | Y21: 1.0754202 | Z21: 0.90483632 | AA21: 1.0600593 | AB21: 1.0150407 | AC21: 0.89410704 | AD21: 1.1310454 | AE21: 1.0315724 | AF21: 1.0673245 | AG21: 1.0282231 | AH21: 1.126503
B22: Down | C22: 1.0826277 | D22: 1.010399 | E22: 1.1997042 | F22: 1.1960709 | G22: 1.2620073 | H22: 1.1821134 | I22: 0.92920222 | J22: 0.9892916 | K22: 1.1720058 | L22: 0.97475963 | M22: 1.1410877 | N22: 0.90615785 | O22: 1.055497 | P22: 1.3118344 | Q22: 1.2390617 | R22: 1.0457157 | S22: 1.0152526 | T22: 1.1473574 | U22: 1.1528738 | V22: 0.91832048 | W22: 1.3381931 | X22: 1.1549763 | Y22: 0.95186569 | Z22: 0.97694659 | AA22: 1.0874672 | AB22: 0.95709572 | AC22: 1.1584347 | AD22: 0.8438463 | AE22: 1.0267216 | AF22: 1.1877573 | AG22: 1.0739862 | AH22: 0.93275192
B23: Down/Up | C23: 1.0278059 | D23: 0.94480145 | E23: 1.1271354 | F23: 0.98589171 | G23: 1.1497405 | H23: 1.0517467 | I23: 0.96255987 | J23: 1.1136761 | K23: 1.0161843 | L23: 0.95717056 | M23: 0.95294629 | N23: 0.88703468 | O23: 1.0183416 | P23: 1.1268416 | Q23: 1.1716403 | R23: 0.88810083 | S23: 1.0617563 | T23: 1.0681376 | U23: 1.1469547 | V23: 0.95268165 | W23: 1.155118 | X23: 0.98542255 | Y23: 1.0598974 | Z23: 0.93242129 | AA23: 1.0489463 | AB23: 0.95576565 | AC23: 1.0013324 | AD23: 1.0110179 | AE23: 1.022907 | AF23: 1.1150401 | AG23: 1.0795615 | AH23: 1.0280162
A24: Ethylene | B24: Up | C24: 1.1825515 | D24: 1.0336622 | E24: 1.3147503 | F24: 1.2451086 | G24: 1.4816161 | H24: 1.2714243 | I24: 1.1858582 | J24: 1.1296092 | K24: 1.3599146 | L24: 1.1477979 | M24: 1.1482119 | N24: 1.2933551 | O24: 0.81744336 | P24: 1.4604528 | Q24: 1.0728944 | R24: 1.1247215 | S24: 1.1543194 | T24: 1.1307619 | U24: 1.1747138 | V24: 0.95568203 | W24: 1.2707099 | X24: 1.4221995 | Y24: 1.2615513 | Z24: 1.1286679 | AA24: 1.1849081 | AB24: 1.0260617 | AC24: 1.0706731 | AD24: 0.97942255 | AE24: 1.0828795 | AF24: 1.322319 | AG24: 1.2974169 | AH24: 1.1373214
B25: Down | C25: 1.0439095 | D25: 1.0477963 | E25: 1.1729308 | F25: 0.93527367 | G25: 1.0023126 | H25: 1.1827132 | I25: 1.1505279 | J25: 1.3176944 | K25: 1.0913442 | L25: 0.95162309 | M25: 1.1140032 | N25: 0.74063688 | O25: 0.86686499 | P25: 1.0722115 | Q25: 1.3002975 | R25: 0.71144749 | S25: 1.0455924 | T25: 1.3323626 | U25: 1.2918739 | V25: 1.1548746 | W25: 1.1152018 | X25: 0.95036247 | Y25: 0.98998913 | Z25: 1.0880962 | AA25: 0.92875154 | AB25: 1.0253214 | AC25: 0.90316282 | AD25: 0.97504721 | AE25: 1.0420204 | AF25: 0.66665047 | AG25: 1.2139916 | AH25: 1.0749866
B26: Down/Up | C26: 1.1105908 | D26: 1.0468592 | E26: 1.2366721 | F26: 1.0709312 | G26: 1.2410176 | H26: 1.1908156 | I26: 1.13147 | J26: 1.2211868 | K26: 1.2459841 | L26: 1.0361307 | M26: 1.1346771 | N26: 1.0357094 | O26: 0.85916603 | P26: 1.2834732 | Q26: 1.1728298 | R26: 0.92700413 | S26: 1.1041093 | T26: 1.2296994 | U26: 1.1962016 | V26: 1.0678649 | W26: 1.181323 | X26: 1.1752898 | Y26: 1.1180001 | Z26: 1.0845948 | AA26: 1.0588792 | AB26: 1.0112772 | AC26: 1.0002851 | AD26: 0.97105598 | AE26: 1.0705704 | AF26: 1.0299716 | AG26: 1.2630518 | AH26: 1.0955503
A27: Gibberellin | B27: Up | C27: 1.1037083 | D27: 0.9747765 | E27: 1.2044272 | F27: 1.1828749 | G27: 1.4742989 | H27: 1.2873407 | I27: 0.91684921 | J27: 1.207292 | K27: 0.98205095 | L27: 1.2044272 | M27: 0.93996305 | N27: 0.88467111 | O27: 1.3104879 | P27: 1.0085735 | Q27: 1.3650916 | R27: 0.97009008 | S27: 1.1822973 | T27: 0.89520291 | U27: 1.0694986 | V27: 0.71260737 | W27: 1.0771107 | X27: 1.3326058 | Y27: 1.2943754 | Z27: 0.96502874 | AA27: 1.1012119 | AB27: 1.1388014 | AC27: 0.83222025 | AD27: 1.1963166 | AE27: 1.0716191 | AF27: 1.112069 | AG27: 1.4682068 | AH27: 1.0041372
B28: Down | C28: 1.2412826 | D28: 1.2132738 | E28: 1.3210573 | F28: 1.1422919 | G28: 1.3358337 | H28: 1.5347822 | I28: 1.2499669 | J28: 1.7099445 | K28: 1.2644773 | L28: 0.80412184 | M28: 0.87409503 | N28: 1.1390922 | O28: 1.1952196 | P28: 1.4223062 | Q28: 1.4764478 | R28: 0.81461519 | S28: 1.2575622 | T28: 1.0950201 | U28: 1.4369467 | V28: 1.1010539 | W28: 1.447174 | X28: 1.2868858 | Y28: 1.4582947 | Z28: 1.1860797 | AA28: 1.2052215 | AB28: 1.2490766 | AC28: 1.4064186 | AD28: 0.88020758 | AE28: 1.2694199 | AF28: 1.4915489 | AG28: 1.1902807 | AH28: 1.2929154
B29: Down/Up | C29: 1.1639725 | D29: 1.0863829 | E29: 1.234324 | F29: 1.1080601 | G29: 1.4164637 | H29: 1.4017516 | I29: 1.0881485 | J29: 1.3919174 | K29: 1.1095867 | L29: 1.0028883 | M29: 0.93319224 | N29: 1.0199596 | O29: 1.2590788 | P29: 1.1904958 | Q29: 1.4164637 | R29: 0.87530191 | S29: 1.2445699 | T29: 1.0062995 | U29: 1.2062464 | V29: 0.90374132 | W29: 1.2688244 | X29: 1.272327 | Y29: 1.3990481 | Z29: 1.0367465 | AA29: 1.1743939 | AB29: 1.2156971 | AC29: 1.0794237 | AD29: 1.0344477 | AE29: 1.136657 | AF29: 1.3088435 | AG29: 1.3792636 | AH29: 1.1272295
A30: Jasmonic Acid | B30: Up | C30: 1.1069616 | D30: 0.56408835 | E30: 0.77442638 | F30: 0 | G30: 0.9479493 | H30: 0.82773834 | I30: 2.8088826 | J30: 2.0959246 | K30: 3.4097878 | L30: 0 | M30: 0.90657056 | N30: 0 | O30: 0 | P30: 0.83378023 | Q30: 0.9479493 | R30: 0 | S30: 1.7848108 | T30: 0 | U30: 0.80726425 | V30: 0.82475012 | W30: 0 | X30: 0.72296134 | Y30: 1.8725884 | Z30: 1.5230385 | AA30: 0.95588193 | AB30: 3.6611504 | AC30: 0.90298728 | AD30: 2.2252187 | AE30: 0.74415564 | AF30: 1.6088435 | AG30: 0 | AH30: 2.7524793
B31: Down | C31: 1.6754013 | D31: 4.4822155 | E31: 0 | F31: 0 | G31: 1.8830885 | H31: 1.644291 | I31: 0 | J31: 2.081763 | K31: 2.709399 | L31: 3.0767751 | M31: 1.8008902 | N31: 5.7204747 | O31: 1.8830885 | P31: 0 | Q31: 3.766177 | R31: 1.4545651 | S31: 0 | T31: 0 | U31: 1.6036195 | V31: 1.638355 | W31: 1.6150332 | X31: 1.4361529 | Y31: 1.8599358 | Z31: 1.5127477 | AA31: 0 | AB31: 1.4545651 | AC31: 0 | AD31: 2.9469112 | AE31: 0 | AF31: 0 | AG31: 1.8753071 | AH31: 5.4677629
B32: Down/Up | C32: 1.2972988 | D32: 1.8760404 | E32: 0.51511619 | F32: 0 | G32: 1.2610728 | H32: 1.1011542 | I32: 1.8683518 | J32: 2.0911827 | K32: 3.1752685 | L32: 1.0302324 | M32: 1.206026 | N32: 1.9154531 | O32: 0.63053642 | P32: 0.5545959 | Q32: 1.8916092 | R32: 0.48704896 | S32: 1.1871818 | T32: 0 | U32: 1.0739171 | V32: 1.0971789 | W32: 0.54078034 | X32: 0.96176757 | Y32: 1.8683518 | Z32: 1.5195928 | AA32: 0.63581287 | AB32: 2.9222938 | AC32: 0.60062955 | AD32: 2.4668714 | AE32: 0.49498136 | AF32: 1.0701357 | AG32: 0.62793089 | AH32: 3.6616693
A33: Salicyclic Acid | B33: Up | C33: 1.2186014 | D33: 1.1431154 | E33: 1.2802688 | F33: 1.1635644 | G33: 1.4660286 | H33: 1.2580482 | I33: 1.07352 | J33: 1.2853838 | K33: 1.0910331 | L33: 1.2802688 | M33: 0.99109392 | N33: 1.2797482 | O33: 1.137436 | P33: 1.4228559 | Q33: 1.1627124 | R33: 0.97621822 | S33: 1.189766 | T33: 1.2224643 | U33: 1.377606 | V33: 1.0335931 | W33: 1.4741242 | X33: 1.2722966 | Y33: 1.2732446 | Z33: 1.2183203 | AA33: 1.19793 | AB33: 1.1324131 | AC33: 1.0834865 | AD33: 1.2262315 | AE33: 1.0119599 | AF33: 1.2869581 | AG33: 1.5103145 | AH33: 1.4189273
B34: Down | C34: 1.0336141 | D34: 1.0888727 | E34: 1.1135427 | F34: 1.0491417 | G34: 1.1016433 | H34: 1.0760709 | I34: 0.95900212 | J34: 1.2385137 | K34: 1.0746109 | L34: 0.97625665 | M34: 1.0714126 | N34: 1.0020859 | O34: 0.95226798 | P34: 1.166041 | Q34: 1.2323468 | R34: 0.70672025 | S34: 1.0722497 | T34: 0.99488315 | U34: 1.1766609 | V34: 1.0721862 | W34: 0.94482579 | X34: 1.0965027 | Y34: 1.0143292 | Z34: 0.97498548 | AA34: 1.0167213 | AB34: 1.0528689 | AC34: 1.0316052 | AD34: 0.83277981 | AE34: 1.0846744 | AF34: 0.9190004 | AG34: 1.1156859 | AH34: 0.903601
B35: Down/Up | C35: 1.096082 | D35: 1.0384896 | E35: 1.2180018 | F35: 1.0953635 | G35: 1.2713229 | H35: 1.1605637 | I35: 1.0273843 | J35: 1.1882469 | K35: 1.0808832 | L35: 1.0669318 | M35: 1.0279279 | N35: 1.1118005 | O35: 1.0517308 | P35: 1.2706902 | Q35: 1.225093 | R35: 0.79453977 | S35: 1.0771482 | T35: 1.0610868 | U35: 1.2105951 | V35: 1.0055426 | W35: 1.1399131 | X35: 1.1282442 | Y35: 1.0958766 | Z35: 1.0677186 | AA35: 1.130457 | AB35: 1.080217 | AC35: 1.0128556 | AD35: 0.9947689 | AE35: 1.0161548 | AF35: 1.0788339 | AG35: 1.2545598 | AH35: 1.1409879
A37: By Morphology
A39: Cambium | B39: Up | C39: 0.89630843 | D39: 0.61881334 | E39: 0 | F39: 1.0559806 | G39: 1.5598718 | H39: 0.90804132 | I39: 1.0271287 | J39: 0.57481514 | K39: 1.8702941 | L39: 0 | M39: 0.49726072 | N39: 0.52651135 | O39: 0.51995727 | P39: 0 | Q39: 0.51995727 | R39: 0.80326732 | S39: 1.9579641 | T39: 0.85244695 | U39: 1.3283714 | V39: 2.261908 | W39: 0.445942 | X39: 0 | Y39: 1.5406931 | Z39: 1.253097 | AA39: 0.52430837 | AB39: 0.80326732 | AC39: 1.4858858 | AD39: 2.0342484 | AE39: 1.6326997 | AF39: 0.44123134 | AG39: 0 | AH39: 0.50325181
B40: Down | C40: 0.91161541 | D40: 0 | E40: 0 | F40: 0 | G40: 0 | H40: 0 | I40: 8.0961909 | J40: 0 | K40: 5.8969271 | L40: 0 | M40: 0 | N40: 0 | O40: 0 | P40: 0 | Q40: 0 | R40: 0 | S40: 0 | T40: 0 | U40: 0 | V40: 0 | W40: 0 | X40: 6.2514892 | Y40: 0 | Z40: 0 | AA40: 0 | AB40: 0 | AC40: 7.8081841 | AD40: 0 | AE40: 0 | AF40: 0 | AG40: 0 | AH40: 0
B41: Down/Up | C41: 0.89722148 | D41: 0.58190167 | E41: 0 | F41: 0.99299231 | G41: 1.4668268 | H41: 0.85387745 | I41: 1.4487921 | J41: 0.54052793 | K41: 2.1104792 | L41: 0 | M41: 0.46759955 | N41: 0.49510541 | O41: 0.48894227 | P41: 0 | Q41: 0.48894227 | R41: 0.75535313 | S41: 1.8411732 | T41: 0.80159924 | U41: 1.2491352 | V41: 2.1269871 | W41: 0.41934195 | X41: 0.37289585 | Y41: 1.4487921 | Z41: 1.1783509 | AA41: 0.49303384 | AB41: 0.75535313 | AC41: 1.8630053 | AD41: 1.9129073 | AE41: 1.5353106 | AF41: 0.41491228 | AG41: 0 | AH41: 0.47323328
A42: Flower | B42: Up | C42: 1.0387321 | D42: 1.0139335 | E42: 1.1393863 | F42: 1.0509592 | G42: 1.1296314 | H42: 1.0965912 | I42: 0.97861209 | J42: 1.1232337 | K42: 1.0442002 | L42: 1.0259633 | M42: 0.94150972 | N42: 0.97772164 | O42: 0.9844832 | P42: 1.0435374 | Q42: 1.0917666 | R42: 0.85306909 | S42: 1.0931471 | T42: 1.0346261 | U42: 1.0587186 | V42: 1.0432168 | W42: 1.1203785 | X42: 1.0732936 | Y42: 1.0658769 | Z42: 1.0240729 | AA42: 1.0499939 | AB42: 1.0090589 | AC42: 0.95582273 | AD42: 1.0468535 | AE42: 1.0056768 | AF42: 1.0549907 | AG42: 1.0746858 | AH42: 1.0322576
B43: Down | C43: 1.0362668 | D43: 1.0110041 | E43: 1.1319022 | F43: 1.0440559 | G43: 1.1347499 | H43: 1.0948624 | I43: 0.97218399 | J43: 1.1158557 | K43: 1.0418515 | L43: 1.0243459 | M43: 0.94132101 | N43: 0.97764775 | O43: 0.98428587 | P43: 1.0421972 | Q43: 1.0908646 | R43: 0.85230829 | S43: 1.0859667 | T43: 1.02783 | U43: 1.0517643 | V43: 1.0472735 | W43: 1.1022654 | X43: 1.0710249 | Y43: 1.0588756 | Z43: 1.0223825 | AA43: 1.043097 | AB43: 1.0169588 | AC43: 0.96148828 | AD43: 1.0399771 | AE43: 1.0039924 | AF43: 1.0587011 | AG43: 1.07387 | AH43: 1.037613
B44: Down/Up | C44: 1.036044 | D44: 1.0102768 | E44: 1.131088 | F44: 1.0433049 | G44: 1.1339337 | H44: 1.0940749 | I44: 0.97148467 | J44: 1.115053 | K44: 1.041102 | L44: 1.023609 | M44: 0.94064389 | N44: 0.9769445 | O44: 0.98357784 | P44: 1.0414475 | Q44: 1.0900799 | R44: 0.8516952 | S44: 1.0851855 | T44: 1.0270907 | U44: 1.0510077 | V44: 1.0465201 | W44: 1.1122186 | X44: 1.0702545 | Y44: 1.0581139 | Z44: 1.0216471 | AA44: 1.0423466 | AB44: 1.0162272 | AC44: 0.96079666 | AD44: 1.039229 | AE44: 1.0032702 | AF44: 1.0579396 | AG44: 1.0730976 | AH44: 1.0429302
A45: Leaf | B45: Up | C45: 1.0351731 | D45: 0.96744057 | E45: 1.1786112 | F45: 1.0758113 | G45: 1.1863814 | H45: 1.0870917 | I45: 0.96202899 | J45: 1.1739183 | K45: 1.0220762 | L45: 1.0230584 | M45: 0.95950308 | N45: 1.0159444 | O45: 0.95935778 | P45: 1.06282 | Q45: 1.1204713 | R45: 0.83720819 | S45: 1.0823956 | T45: 1.0385445 | U45: 1.0103106 | V45: 1.0067083 | W45: 1.0865911 | X45: 1.0500189 | Y45: 1.0705285 | Z45: 1.0236567 | AA45: 0.98953975 | AB45: 1.0182262 | AC45: 0.96966256 | AD45: 1.0486407 | AE45: 0.97732024 | AF45: 1.0253968 | AG45: 1.1012551 | AH45: 1.0419439
B46: Down | C46: 1.0348824 | D46: 1.0159746 | E46: 1.1169397 | F46: 1.0429413 | G46: 1.1604598 | H46: 1.0598886 | I46: 0.9617472 | J46: 1.1059428 | K46: 1.0075634 | L46: 1.0352124 | M46: 0.93759373 | N46: 0.9927463 | O46: 0.98038846 | P46: 1.0617589 | Q46: 1.0404122 | R46: 0.86031952 | S46: 1.0987426 | T46: 1.0332666 | U46: 1.0734289 | V46: 1.0560622 | W46: 1.0810689 | X46: 1.0579719 | Y46: 1.0473822 | Z46: 1.050105 | AA46: 1.0491186 | AB46: 1.0045647 | AC46: 0.96565271 | AD46: 1.0593591 | AE46: 0.99998363 | AF46: 1.0356921 | AG46: 1.0560383 | AH46: 1.0715357
B47: Down/Up | C47: 1.0378826 | D47: 1.0136034 | E47: 1.1348124 | F47: 1.0424852 | G47: 1.1376674 | H47: 1.0976774 | I47: 0.97468352 | J47: 1.1187246 | K47: 1.0400083 | L47: 1.0218446 | M47: 0.94374118 | N47: 0.98016132 | O47: 0.98681651 | P47: 1.0448767 | Q47: 1.0936693 | R47: 0.85449961 | S47: 1.0828416 | T47: 1.0304726 | U47: 1.0544684 | V47: 1.0444975 | W47: 1.1158808 | X47: 1.0737786 | Y47: 1.0553898 | Z47: 1.0250111 | AA47: 1.0457788 | AB47: 1.0195734 | AC47: 0.95797298 | AD47: 1.0426509 | AE47: 1.0016395 | AF47: 1.0560893 | AG47: 1.076631 | AH47: 1.0463643
A48: Pollen | B48: Up | C48: 1.0133786 | D48: 0.99320403 | E48: 0.96188502 | F48: 1.0160423 | G48: 1.242104 | H48: 1.1071865 | I48: 0.83066769 | J48: 1.1299894 | K48: 1.0518103 | L48: 1.2261391 | M48: 0.77954968 | N48: 0.96952397 | O48: 0.84100795 | P48: 0.83076097 | Q48: 0.91863945 | R48: 0.84950926 | S48: 1.0840613 | T48: 1.0712179 | U48: 0.90350634 | V48: 1.0581613 | W48: 1.0763889 | X48: 1.1150521 | Y48: 1.0606987 | Z48: 1.0705816 | AA48: 1.0307017 | AB48: 1.0393996 | AC48: 1.0229664 | AD48: 1.1237664 | AE48: 1.0766419 | AF48: 0.95522284 | AG48: 0.97926901 | AH48: 0.93921648
B49: Down | C49: 1.0576025 | D49: 0.98828987 | E49: 1.4163137 | F49: 1.0651439 | G49: 1.0198012 | H49: 1.0812954 | I49: 1.1367678 | J49: 1.1112892 | K49: 1.0375879 | L49: 0.8688311 | M49: 1.0867473 | N49: 0.89988579 | O49: 1.1363499 | P49: 1.140444 | Q49: 1.1946242 | R49: 0.79898434 | S49: 1.2206315 | T49: 1.0509205 | U49: 1.1538013 | V49: 1.026691 | W49: 1.07455 | X49: 1.0110877 | Y49: 1.1943257 | Z49: 0.98308834 | AA49: 0.95488258 | AB49: 0.84399755 | AC49: 0.95755358 | AD49: 0.99175192 | AE49: 1.0979116 | AF49: 1.1621014 | AG49: 1.2041962 | AH49: 1.0152375
B50: Down/Up | C50: 1.0342041 | D50: 1.0057352 | E50: 1.1458548 | F50: 1.0254757 | G50: 1.1361079 | H50: 1.0961389 | I50: 0.9697501 | J50: 1.1396788 | K50: 1.0493978 | L50: 1.0427279 | M50: 0.93896438 | N50: 0.95158911 | O50: 0.95376963 | P50: 0.9746039 | Q50: 1.0519518 | R50: 0.83423374 | S50: 1.13556 | T50: 1.0520234 | U50: 1.0212482 | V50: 1.0555722 | W50: 1.0826493 | X50: 1.0750548 | Y50: 1.1221394 | Z50: 1.0309829 | AA50: 1.0112529 | AB50: 0.96424419 | AC50: 0.98869609 | AD50: 1.0590787 | AE50: 1.0625284 | AF50: 1.0533593 | AG50: 1.1034771 | AH50: 0.96385259
A51: Root | B51: Up | C51: 0.94790713 | D51: 0.92872827 | E51: 0.98035927 | F51: 0.9344676 | G51: 0.97805492 | H51: 1.0054493 | I51: 0.89751691 | J51: 1.0045602 | K51: 0.95312471 | L51: 0.90669065 | M51: 0.85575676 | N51: 0.83585544 | O51: 0.8948162 | P51: 0.97618154 | Q51: 0.929499 | R51: 0.78227497 | S51: 1.0056386 | T51: 0.94957727 | U51: 0.951044 | V51: 1.0018195 | W51: 1.0470502 | X51: 0.94695015 | Y51: 1.0345424 | Z51: 0.96401994 | AA51: 0.97225026 | AB51: 0.91622616 | AC51: 0.86558943 | AD51: 0.98782916 | AE51: 0.90936716 | AF51: 1.0124446 | AG51: 1.0154607 | AH51: 0.97348626
B52: Down | C52: 0.9583708 | D52: 0.95852247 | E52: 1.086554 | F52: 0.99541437 | G52: 1.0640114 | H52: 1.0065059 | I52: 0.93415937 | J52: 1.0700785 | K52: 0.95150057 | L52: 0.87527962 | M52: 0.86917134 | N52: 0.89037065 | O52: 0.91623203 | P52: 0.98785648 | Q52: 1.0714004 | R52: 0.77051306 | S52: 1.008623 | T52: 0.90854147 | U52: 0.98161004 | V52: 0.95787167 | W52: 0.98859659 | X52: 1.008711 | Y52: 0.99254433 | Z52: 0.95566449 | AA52: 0.98350565 | AB52: 0.89607815 | AC52: 0.9079669 | AD52: 0.98865831 | AE52: 0.87006903 | AF52: 0.97815367 | AG52: 0.95659656 | AH52: 0.92970429
B53: Down/Up | C53: 0.90628967 | D53: 0.88404688 | E53: 0.98976316 | F53: 0.9129482 | G53: 0.99225332 | H53: 0.95737469 | I53: 0.85010164 | J53: 0.97573169 | K53: 0.91102061 | L53: 0.89571327 | M53: 0.82311429 | N53: 0.85487928 | O53: 0.86068382 | P53: 0.91132287 | Q53: 0.95387888 | R53: 0.74527937 | S53: 0.94959602 | T53: 0.89875991 | U53: 0.91968863 | V53: 0.91576173 | W53: 0.97325144 | X53: 0.93653058 | Y53: 0.92590688 | Z53: 0.89399649 | AA53: 0.91210969 | AB53: 0.88501926 | AC53: 0.84074905 | AD53: 0.90938162 | AE53: 0.87791571 | AF53: 0.92575436 | AG53: 0.93901842 | AH53: 0.90731437
A54: Seed | B54: Up | C54: 1.0987307 | D54: 1.0108818 | E54: 1.151596 | F54: 1.1092392 | G54: 1.2409563 | H54: 1.2834739 | I54: 1.0352988 | J54: 1.2120519 | K54: 1.0920991 | L54: 1.2401803 | M54: 1.0024322 | N54: 0.90279899 | O54: 1.0361383 | P54: 1.091498 | Q54: 1.1686676 | R54: 0.78173759 | S54: 1.1795862 | T54: 1.1357606 | U54: 1.1696467 | V54: 0.96437148 | W54: 1.2813025 | X54: 1.1485747 | Y54: 1.0590988 | Z54: 1.1711174 | AA54: 1.1420004 | AB54: 1.0516232 | AC54: 1.0443767 | AD54: 1.0369988 | AE54: 0.98362887 | AF54: 1.1144086 | AG54: 1.1038467 | AH54: 1.2010862
B55: Down | C55: 1.0273305 | D55: 1.0032971 | E55: 1.143666 | F55: 1.0237935 | G55: 0.95031275 | H55: 1.1064028 | I55: 1.0698347 | J55: 1.0731681 | K55: 0.96300189 | L55: 1.0100991 | M55: 0.93814797 | N55: 0.85881928 | O55: 0.96053116 | P55: 1.0605523 | Q55: 1.1444627 | R55: 0.89981019 | S55: 1.115883 | T55: 0.99678221 | U55: 1.1747568 | V55: 0.97794305 | W55: 1.1392989 | X55: 1.0598697 | Y55: 1.0698347 | Z55: 0.91938501 | AA55: 1.1128241 | AB55: 1.0339924 | AC55: 0.91497237 | AD55: 1.0554165 | AE55: 0.98665969 | AF55: 1.0665652 | AG55: 1.0481478 | AH55: 0.99890152
B56: Down/Up | C56: 1.0511602 | D56: 1.0053466 | E56: 1.0857743 | F56: 1.0674748 | G56: 1.1188131 | H56: 1.1474064 | I56: 1.0012263 | J56: 1.1372407 | K56: 1.0263538 | L56: 1.0489684 | M56: 0.98380346 | N56: 0.92001886 | O56: 1.0211985 | P56: 1.0633191 | Q56: 1.1037955 | R56: 0.87001148 | S56: 1.1027396 | T56: 1.0525363 | U56: 1.0998421 | V56: 1.0060725 | W56: 1.1527497 | X56: 1.0651584 | Y56: 1.0531418 | Z56: 1.0556139 | AA56: 1.1281756 | AB56: 1.0556139 | AC56: 0.93699893 | AD56: 1.0575724 | AE56: 1.0020719 | AF56: 1.0895975 | AG56: 1.0917566 | AH56: 1.0901349
A57: Sperm Cell | B57: Up | C57: 1.052433 | D57: 0.9916519 | E57: 1.3127983 | F57: 0.76552582 | G57: 1.190335 | H57: 1.247264 | I57: 0.99934475 | J57: 0.96500857 | K57: 1.0418688 | L57: 1.0372727 | M57: 0.85378193 | N57: 1.0446273 | O57: 1.0713015 | P57: 1.0120743 | Q57: 1.0316236 | R57: 1.0573761 | S57: 1.1392653 | T57: 0.95948827 | U57: 0.91230974 | V57: 1.173719 | W57: 1.2250707 | X57: 1.0288613 | Y57: 1.0581297 | Z57: 1.0677966 | AA57: 1.1002713 | AB57: 1.0267275 | AC57: 0.92599906 | AD57: 0.97796839 | AE57: 1.0745972 | AF57: 1.2794704 | AG57: 1.0866315 | AH57: 1.0560837
B58: Down | C58: 1.0914743 | D58: 1.0474941 | E58: 1.2215992 | F58: 1.1532307 | G58: 1.2681816 | H58: 1.1073614 | I58: 1.0656356 | J58: 1.1508795 | K58: 1.1165874 | L58: 1.1597461 | M58: 1.140417 | N58: 0.82416691 | O58: 1.0031884 | P58: 1.2153349 | Q58: 1.3249658 | R58: 0.8041402 | S58: 1.0335029 | T58: 1.008532 | U58: 1.1766847 | V58: 0.95515071 | W58: 1.2337607 | X58: 1.1548527 | Y58: 1.1217216 | Z58: 1.0643892 | AA58: 1.2215345 | AB58: 0.9942097 | AC58: 1.0096973 | AD58: 1.1552276 | AE58: 0.95096662 | AF58: 1.0440437 | AG58: 1.1875417 | AH58: 0.9892774
B59: Down/Up | C59: 1.0724123 | D59: 1.020229 | E59: 1.2661274 | F59: 0.96393283 | G59: 1.2301728 | H59: 1.1756692 | I59: 1.0332689 | J59: 1.0601276 | K59: 1.0801059 | L59: 1.0999482 | M59: 1.0004667 | N59: 0.93180724 | O59: 1.0364448 | P59: 1.1160924 | Q59: 1.1817408 | R59: 0.92778324 | S59: 1.0851416 | T59: 0.9845863 | U59: 1.047603 | V59: 1.0618672 | W59: 1.2295178 | X59: 1.0933371 | Y59: 1.0906727 | Z59: 1.0660529 | AA59: 1.1623274 | AB59: 1.0100866 | AC59: 0.96883141 | AD59: 1.0686804 | AE59: 1.0113296 | AF59: 1.1589914 | AG59: 1.1382721 | AH59: 1.0218957
A60: Stem | B60: Up | C60: 1.0565345 | D60: 0.85968979 | E60: 1.1802521 | F60: 1.2299316 | G60: 1.1601434 | H60: 1.1277057 | I60: 0.99453681 | J60: 0.84696294 | K60: 1.1180633 | L60: 0.9835434 | M60: 0.94203021 | N60: 1.0196092 | O60: 1.0944749 | P60: 1.0396713 | Q60: 1.1163644 | R60: 1.0144941 | S60: 0.86549025 | T60: 0.93305849 | U60: 0.96932578 | V60: 0.91414339 | W60: 1.4643373 | X60: 1.0851234 | Y60: 0.92967571 | Z60: 1.3364269 | AA60: 0.8608343 | AB60: 1.0652188 | AC60: 1.1259681 | AD60: 1.0105415 | AE60: 1.065384 | AF60: 1.2445413 | AG60: 1.1989475 | AH60: 0.86863508
B61: Down | C61: 1.1175881 | D61: 1.1578448 | E61: 1.2584203 | F61: 1.0976759 | G61: 1.0377365 | H61: 1.1609912 | I61: 1.297237 | J61: 1.3264759 | K61: 1.0148424 | L61: 1.1127085 | M61: 1.1009864 | N61: 1.0836552 | O61: 0.90801939 | P61: 0.94127714 | Q61: 1.0701657 | R61: 0.87673347 | S61: 1.2058999 | T61: 1.0367437 | U61: 1.3946302 | V61: 1.0439413 | W61: 1.1542394 | X61: 1.0263965 | Y61: 1.2331759 | Z61: 0.95088007 | AA61: 1.4061275 | AB61: 1.2274269 | AC61: 1.050298 | AD61: 1.1038058 | AE61: 1.0819438 | AF61: 1.1420468 | AG61: 1.0980388 | AH61: 1.1613323
B62: Down/Up | C62: 1.0762614 | D62: 1.0088626 | E62: 1.1957874 | F62: 1.0978219 | G62: 1.0846294 | H62: 1.1401809 | I62: 1.1232983 | J62: 1.1059317 | K62: 1.0378556 | L62: 1.0323344 | M62: 1.0272137 | N62: 1.0556487 | O62: 1.0003863 | P62: 0.91695032 | Q62: 1.074099 | R62: 0.90287902 | S62: 1.0706437 | T62: 0.96678938 | U62: 1.228557 | V62: 1.026123 | W62: 1.255364 | X62: 1.0440407 | Y62: 1.1024965 | Z62: 1.1166417 | AA62: 1.1892723 | AB62: 1.1306323 | AC62: 1.0231536 | AD62: 1.0711587 | AE62: 1.0911808 | AF62: 1.1348712 | AG62: 1.1430686 | AH62: 1.0192057
A63: Vegetative Apex | B63: Up | C63: 1.0265835 | D63: 0.84505465 | E63: 1.5952197 | F63: 1.2017104 | G63: 0.71005629 | H63: 0.31000646 | I63: 1.0519891 | J63: 0.98121311 | K63: 0.89392908 | L63: 0.58007989 | M63: 0.84882722 | N63: 0.53925494 | O63: 1.4201126 | P63: 1.8736157 | Q63: 1.0650844 | R63: 0.68559121 | S63: 1.0026771 | T63: 1.0185927 | U63: 0.90701537 | V63: 1.6988802 | W63: 1.3702065 | X63: 0.94767798 | Y63: 1.4026522 | Z63: 0.85561783 | AA63: 1.2529968 | AB63: 1.0969459 | AC63: 0.84547217 | AD63: 0.97229299 | AE63: 0.41805432 | AF63: 0.90382166 | AG63: 1.2374638 | AH63: 1.5462973
B64: Down | C64: 1.3070149 | D64: 1.2488101 | E64: 1.8859148 | F64: 1.5627665 | G64: 1.6788982 | H64: 1.832493 | I64: 1.03641 | J64: 1.8560296 | K64: 0.75487772 | L64: 1.3715744 | M64: 1.6056129 | N64: 0.85003037 | O64: 1.2591736 | P64: 1.2921082 | Q64: 1.6788982 | R64: 0.97263091 | S64: 1.1853939 | T64: 0.86014978 | U64: 0.89358317 | V64: 2.0084653 | W64: 1.2599205 | X64: 1.9206382 | Y64: 1.243692 | Z64: 0.67435743 | AA64: 1.0580922 | AB64: 0.64842061 | AC64: 1.19945 | AD64: 0.98526248 | AE64: 0.6589812 | AF64: 1.6027861 | AG64: 2.2989458 | AH64: 1.6249577
B65: Down/Up | C65: 1.1550903 | D65: 1.0300744 | E65: 1.7284299 | F65: 1.3671633 | G65: 1.1540252 | H65: 1.0076815 | I65: 1.04485 | J65: 1.3820952 | K65: 0.8302092 | L65: 0.94277994 | M65: 1.195622 | N65: 0.68166687 | O65: 1.3463628 | P65: 1.6071416 | Q65: 1.3463628 | R65: 0.81712631 | S65: 1.0864066 | T65: 0.94598668 | U65: 0.9008601 | V65: 1.8407466 | W65: 1.3196682 | X65: 1.3935342 | Y65: 1.3298091 | Z65: 0.77255579 | AA65: 1.1636824 | AB65: 0.89141052 | AC65: 1.0076815 | AD65: 0.97823622 | AE65: 0.52845835 | AF65: 1.2241201 | AG65: 1.7238848 | AH65: 1.5823432
A66: Apical Root meristem | B66: Up | C66: 0.97955656 | D66: 0.85448333 | E66: 1.1731042 | F66: 0.86256299 | G66: 0.70786635 | H66: 0.97130109 | I66: 1.1586131 | J66: 1.0955693 | K66: 1.1494301 | L66: 0.97483309 | M66: 0.85104476 | N66: 0.83966716 | O66: 0.88988913 | P66: 1.2985915 | Q66: 1.1325862 | R66: 0.87485021 | S66: 1.0281443 | T66: 1.0278852 | U66: 1.3089632 | V66: 0.98539085 | W66: 0.88463501 | X66: 0.84835158 | Y66: 1.1186609 | Z66: 0.77986647 | AA66: 1.0400939 | AB66: 0.84360556 | AC66: 0.73208809 | AD66: 1.1552405 | AE66: 0.96848239 | AF66: 0.96110305 | AG66: 0.94663544 | AH66: 0.97874808
B67: Down | C67: 1.1231034 | D67: 1.1361263 | E67: 1.0249895 | F67: 1.2740389 | G67: 1.4183058 | H67: 1.2860808 | I67: 0.96983144 | J67: 1.2362632 | K67: 1.1184424 | L67: 1.0918366 | M67: 1.0955503 | N67: 0.93904315 | O67: 1.2819303 | P67: 0.95960613 | Q67: 1.2001049 | R67: 0.82166275 | S67: 1.0527554 | T67: 1.2296994 | U67: 0.99877027 | V67: 1.0204043 | W67: 1.3801595 | X67: 1.3521033 | Y67: 0.99677121 | Z67: 1.2708384 | AA67: 1.0726309 | AB67: 1.0112772 | AC67: 1.0392572 | AD67: 0.87501748 | AE67: 1.049159 | AF67: 1.1572715 | AG67: 1.1136586 | AH67: 1.3727378
B68: Down/Up | C68: 1.0406767 | D68: 0.97440281 | E68: 1.1100391 | F68: 1.0377634 | G68: 1.0103612 | H68: 1.1053297 | I68: 1.0782326 | J68: 1.1554747 | K68: 1.136236 | L68: 1.0246515 | M68: 0.95515169 | N68: 0.88198001 | O68: 1.0568146 | P68: 1.1542565 | Q68: 1.1613347 | R68: 0.85220376 | S68: 1.0386233 | T68: 1.1138148 | U68: 1.1768875 | V68: 1.0002991 | W68: 1.0956221 | X68: 1.0628417 | Y68: 1.0667621 | Z68: 0.98891519 | AA68: 1.0539477 | AB68: 0.91499772 | AC68: 0.86287625 | AD68: 1.0359256 | AE68: 1.0028333 | AF68: 1.0446287 | AG68: 1.0177515 | AH68: 1.1465032
A70: By environmental Conditions
A72: At Baseline Growth Temperature | B72: Up | C72: 0.95607917 | D72: 0.88213817 | E72: 1.0813134 | F72: 0.94979413 | G72: 1.3500714 | H72: 0.97083141 | I72: 0.91512796 | J72: 1.0535366 | K72: 0.8950693 | L72: 0.95155582 | M72: 0.86075982 | N72: 0.64333606 | O72: 1.0853515 | P72: 1.0012015 | Q72: 1.0324076 | R72: 0.69522908 | S72: 0.99683582 | T72: 0.80289361 | U72: 1.0144478 | V72: 1.0824845 | W72: 0.99896429 | X72: 0.92869767 | Y72: 0.88898145 | Z72: 0.99949405 | AA72: 0.82749886 | AB72: 0.69522908 | AC72: 1.1095216 | AD72: 0.95281969 | AE72: 0.81045674 | AF72: 0.92102014 | AG72: 1.2390422 | AH72: 1.2298312
B73: Down | C73: 1.1489363 | D73: 0.77300996 | E73: 1.3480756 | F73: 1.2596917 | G73: 1.1234955 | H73: 1.1036511 | I73: 1.109682 | J73: 1.3584697 | K73: 1.4396882 | L73: 0.91783867 | M73: 0.97372394 | N73: 1.2087608 | O73: 1.2288232 | P73: 1.358753 | Q73: 1.3341509 | R73: 1.1119049 | S73: 1.1237698 | T73: 1.0360806 | U73: 1.0763523 | V73: 0.79420382 | W73: 1.1442362 | X73: 1.1513829 | Y73: 1.3871025 | Z73: 0.78972369 | AA73: 1.2745092 | AB73: 1.4102209 | AC73: 1.0367632 | AD73: 1.2637044 | AE73: 0.99220752 | AF73: 1.3704963 | AG73: 1.1887812 | AH73: 1.1213805
B74: Down/Up | C74: 1.0389829 | D74: 0.8352271 | E74: 1.1959868 | F74: 1.0830101 | G74: 1.252673 | H74: 1.0279268 | I74: 0.99876113 | J74: 1.1846185 | K74: 1.1291852 | L74: 0.93706179 | M74: 0.90931983 | N74: 0.8863958 | O74: 1.1470258 | P74: 1.1549026 | Q74: 1.1621183 | R74: 0.87434599 | S74: 1.0514011 | T74: 0.90313398 | U74: 1.0410587 | V74: 0.95856098 | W74: 1.0614125 | X74: 1.0244236 | Y74: 1.1031093 | Z74: 0.90931983 | AA74: 1.0196557 | AB74: 1.0025834 | AC74: 1.0782449 | AD74: 1.0864601 | AE74: 0.88858615 | AF74: 1.114237 | AG74: 1.2174365 | AH74: 1.1832113
A75: Disease | B75: Up | C75: 0.99783047 | D75: 1.0878693 | E75: 1.0730111 | F75: 0.74496557 | G75: 1.2956877 | H75: 1.1313795 | I75: 0.85901504 | J75: 1.0791969 | K75: 0.94489037 | L75: 0.9860102 | M75: 0.95056539 | N75: 0.98850813 | O75: 0.78096244 | P75: 0.8898541 | Q75: 1.1359454 | R75: 0.76776435 | S75: 0.98584028 | T75: 1.0475619 | U75: 1.1487398 | V75: 0.98831348 | W75: 1.0046901 | X75: 0.86633808 | Y75: 1.1219788 | Z75: 0.98383518 | AA75: 1.0022698 | AB75: 1.0419659 | AC75: 0.94680822 | AD75: 1.0554979 | AE75: 1.0032026 | AF75: 0.97901541 | AG75: 1.0251966 | AH75: 1.1338069
B76: Down | C76: 1.116519 | D76: 0.97048738 | E76: 1.310522 | F76: 1.4298556 | G76: 1.1496523 | H76: 1.1439369 | I76: 1.1091098 | J76: 1.2118321 | K76: 1.28868 | L76: 0.9828915 | M76: 1.0227619 | N76: 1.1099975 | O76: 1.0961801 | P76: 1.1287708 | Q76: 1.2565967 | R76: 0.88803267 | S76: 0.95644216 | T76: 1.2711469 | U76: 1.0928735 | V76: 1.0932845 | W76: 1.2840939 | X76: 1.3049924 | Y76: 0.97707293 | Z76: 1.052422 | AA76: 1.0244736 | AB76: 1.0325961 | AC76: 0.91684741 | AD76: 0.81588505 | AE76: 1.0913902 | AF76: 1.2932176 | AG76: 1.2514041 | AH76: 1.0092072
B77: Down/Up | C77: 1.0477562 | D77: 1.0495517 | E77: 1.1773289 | F77: 1.0265595 | G77: 1.2367896 | H77: 1.1456865 | I77: 0.96664408 | J77: 1.1413787 | K77: 1.0754371 | L77: 0.98403611 | M77: 0.98738318 | N77: 1.0454645 | O77: 0.91414884 | P77: 0.99323901 | Q77: 1.1830161 | R77: 0.82242373 | S77: 0.98207985 | T77: 1.1372538 | U77: 1.1356651 | V77: 1.0386237 | W77: 1.1253006 | X77: 1.0498758 | Y77: 1.0728687 | Z77: 1.0108335 | AA77: 0.99771145 | AB77: 1.0217992 | AC77: 0.94250212 | AD77: 0.96774771 | AE77: 1.0299982 | AF77: 1.0860346 | AG77: 1.1138661 | AH77: 1.0721435
A78: Drought | B78: Up | C78: 1.3606602 | D78: 1.2661516 | E78: 1.2135134 | F78: 1.331714 | G78: 1.405128 | H78: 1.6826626 | I78: 1.3481989 | J78: 1.4202289 | K78: 1.5307206 | L78: 1.3447041 | M78: 1.1518226 | N78: 1.3821871 | O78: 1.3649815 | P78: 1.518388 | Q78: 1.6861536 | R78: 1.0233501 | S78: 0.94485446 | T78: 1.3163687 | U78: 1.6068536 | V78: 1.1177253 | W78: 1.5494268 | X78: 1.5921396 | Y78: 1.5068105 | Z78: 1.3222923 | AA78: 1.2549565 | AB78: 1.3644668 | AC78: 1.1472699 | AD78: 1.2251204 | AE78: 1.134564 | AF78: 1.7715356 | AG78: 1.2793798 | AH78: 1.4376966
B79: Down | C79: 0.87882349 | D79: 1.0176507 | E79: 1.2766729 | F79: 0.99803502 | G79: 0.88456547 | H79: 1.0813492 | I79: 0.75719771 | J79: 0.71712021 | K79: 0.9333266 | L79: 0.62629235 | M79: 0.81775504 | N79: 0.89571546 | O79: 0.88456547 | P79: 0.90770192 | Q79: 0.67816686 | R79: 0.66049446 | S79: 0.97152471 | T79: 0.89429369 | U79: 0.82861593 | V79: 0.7696039 | W79: 1.0621082 | X79: 0.80954536 | Y79: 0.81544369 | Z79: 0.85272112 | AA79: 0.86223544 | AB79: 0.81992415 | AC79: 0.70217483 | AD79: 0.99207273 | AE79: 1.0184508 | AF79: 0.72561363 | AG79: 0.8221829 | AH79: 0.97029846
B80: Down/Up | C80: 1.0828561 | D80: 1.1228778 | E80: 1.2499281 | F80: 1.1393306 | G80: 1.1049964 | H80: 1.3359739 | I80: 1.0074557 | J80: 1.0148499 | K80: 1.1862917 | L80: 0.93050206 | M80: 0.95921514 | N80: 1.1017107 | O80: 1.0879965 | P80: 1.1662955 | Q80: 1.1049964 | R80: 0.81414479 | S80: 0.96023126 | T80: 1.0730203 | U80: 1.1581588 | V80: 0.91701507 | W80: 1.2684621 | X80: 1.140933 | Y80: 1.1082013 | Z80: 1.0515599 | AA80: 1.0285322 | AB80: 1.0505094 | AC80: 0.89064928 | AD80: 1.0907562 | AE80: 1.0676187 | AF80: 1.1685068 | AG80: 1.0157818 | AH80: 1.1682171
A81: Low Water Potential | B81: Up | C81: 1.3203391 | D81: 1.1787479 | E81: 1.3809332 | F81: 1.3767511 | G81: 1.6111185 | H81: 1.4990599 | I81: 1.4869615 | J81: 1.4599172 | K81: 1.2920485 | L81: 1.3809332 | M81: 1.2882031 | N81: 1.0965327 | O81: 1.0564712 | P81: 1.4635403 | Q81: 1.4526479 | R81: 0.97926751 | S81: 1.1934823 | T81: 1.2773779 | U81: 1.3720126 | V81: 1.3787521 | W81: 1.3591257 | X81: 1.5913097 | Y81: 1.2782652 | Z81: 1.1245255 | AA81: 1.0653119 | AB81: 1.3464928 | AC81: 1.1824752 | AD81: 1.2193152 | AE81: 1.2025533 | AF81: 1.5464841 | AG81: 1.5518557 | AH81: 1.3292868
B82: Down | C82: 0.98718913 | D82: 0.88213817 | E82: 1.2406094 | F82: 0.97907908 | G82: 1.048549 | H82: 0.94715259 | I82: 0.85709546 | J82: 1.0792326 | K82: 1.1444996 | L82: 0.73845795 | M82: 0.96820043 | N82: 1.2082165 | O82: 1.1570196 | P82: 0.95406611 | Q82: 1.301647 | R82: 0.8099369 | S82: 0.98711059 | T82: 0.82988608 | U82: 1.1084697 | V82: 0.72352884 | W82: 1.0543393 | X82: 1.2960404 | Y82: 0.67853391 | Z82: 0.81328836 | AA82: 0.8385669 | AB82: 1.1450832 | AC82: 1.0676993 | AD82: 0.76387241 | AE82: 1.0785816 | AF82: 0.95115464 | AG82: 1.0082087 | AH82: 1.0148607
B83: Down/Up | C83: 1.1797082 | D83: 1.0535416 | E83: 1.321699 | F83: 1.2088839 | G83: 1.373644 | H83: 1.2660861 | I83: 1.2210794 | J83: 1.2992207 | K83: 1.2297644 | L83: 1.1097284 | M83: 1.153122 | N83: 1.1436772 | O83: 1.0989152 | P83: 1.2484786 | Q83: 1.3889067 | R83: 0.90778885 | S83: 1.1063677 | T83: 1.0884805 | U83: 1.2607646 | V83: 1.1021661 | W83: 1.2304678 | X83: 1.4666692 | Y83: 1.0251037 | Z83: 0.99314458 | AA83: 0.96959722 | AB83: 1.2614728 | AC83: 1.1340254 | AD83: 1.0270615 | AE83: 1.1502217 | AF83: 1.2951807 | AG83: 1.3223688 | AH83: 1.1965597
A84: Optimum Photosynthetic Temperature | B84: Up | C84: 0.99075904 | D84: 0.75523553 | E84: 1.196364 | F84: 0.90324733 | G84: 1.204086 | H84: 0.76723341 | I84: 1.0285679 | J84: 1.1152649 | K84: 1.0535145 | L84: 0.98367704 | M84: 1.1204044 | N84: 0.8567798 | O84: 1.1715431 | P84: 1.0304449 | Q84: 1.0413717 | R84: 0.80439287 | S84: 1.1335341 | T84: 0.85364141 | U84: 1.1916668 | V84: 1.0192848 | W84: 1.0885067 | X84: 0.89348701 | Y84: 0.89999694 | Z84: 1.0718535 | AA84: 0.59067342 | AB84: 0.95521653 | AC84: 0.9299799 | AD84: 1.0185494 | AE84: 0.99632048 | AF84: 1.104624 | AG84: 0.87502654 | AH84: 1.2283951
B85: Down | C85: 1.10967 | D85: 0.78767778 | E85: 1.0813881 | F85: 1.0861747 | G85: 0.84234873 | H85: 1.3659827 | I85: 1.0300853 | J85: 1.4633463 | K85: 1.3274027 | L85: 0.58984807 | M85: 0.95902327 | N85: 1.0966713 | O85: 1.1632435 | P85: 1.0937065 | Q85: 1.042908 | R85: 1.0224663 | S85: 1.2838924 | T85: 0.95354313 | U85: 1.1614009 | V85: 1.2563551 | W85: 1.238471 | X85: 1.2848484 | Y85: 1.545128 | Z85: 0.87002591 | AA85: 1.1729777 | AB85: 1.084434 | AC85: 0.99344197 | AD85: 1.1926762 | AE85: 1.2280496 | AF85: 1.2594272 | AG85: 1.1184906 | AH85: 1.0094009
B86: Down/Up | C86: 1.0440206 | D86: 0.76976678 | E86: 1.144865 | F86: 0.98518255 | G86: 1.0420598 | H86: 1.03542 | I86: 1.0292476 | J86: 1.2711745 | K86: 1.1761921 | L86: 0.8072766 | M86: 1.0481199 | N86: 0.96422992 | O86: 1.1678256 | P86: 1.0587805 | Q86: 1.0420598 | R86: 0.90207044 | S86: 1.2008813 | T86: 0.89838852 | U86: 1.1781104 | V86: 1.1254713 | W86: 1.1556774 | X86: 1.0687822 | Y86: 1.1889584 | Z86: 0.98145264 | AA86: 0.85149411 | AB86: 1.0130945 | AC86: 0.95840527 | AD86: 1.0965428 | AE86: 1.1001146 | AF86: 1.1739621 | AG86: 0.98407684 | AH86: 1.1303051
A87: By Salt | B87: Up | C87: 1.6171808 | D87: 1.1693129 | E87: 1.4677283 | F87: 1.5963092 | G87: 1.7965969 | H87: 1.5197436 | I87: 1.7190542 | J87: 1.7378779 | K87: 1.6559864 | L87: 1.6511944 | M87: 1.2886305 | N87: 1.5349864 | O87: 1.7965969 | P87: 1.9258912 | Q87: 2.1334588 | R87: 1.5612254 | S87: 1.3213497 | T87: 1.6568107 | U87: 1.5299642 | V87: 1.4654102 | W87: 1.9742186 | X87: 1.6699183 | Y87: 1.4972408 | Z87: 1.1275517 | AA87: 1.5285638 | AB87: 1.8214297 | AC87: 1.6044214 | AD87: 1.8890152 | AE87: 1.5425789 | AF87: 2.3345085 | AG87: 1.5655263 | AH87: 1.2498163
B88: Down | C88: 0.84171518 | D88: 0.94615458 | E88: 0.67545815 | F88: 0.64583024 | G88: 1.2084082 | H88: 0.72195708 | I88: 0.87945844 | J88: 0.77341627 | K88: 0.91508682 | L88: 0.77937479 | M88: 1.1556602 | N88: 0.77282542 | O88: 1.0812074 | P88: 1.0069295 | Q88: 0.89040606 | R88: 0.49127257 | S88: 1.4968461 | T88: 0.52135048 | U88: 0.92074548 | V88: 0.9960241 | W88: 0.70911087 | X88: 1.0671186 | Y88: 1.1935507 | Z88: 0.61310817 | AA88: 0.96198981 | AB88: 0.49127257 | AC88: 0.84817336 | AD88: 0.69671383 | AE88: 0.54920113 | AF88: 0.80956184 | AG88: 0.63337621 | AH88: 0.98491272
B89: Down/Up | C89: 1.2536688 | D89: 1.0423531 | E89: 1.0856068 | F89: 1.1653778 | G89: 1.5402635 | H89: 1.1339692 | I89: 1.3423464 | J89: 1.302117 | K89: 1.303612 | L89: 1.2089712 | M89: 1.2130834 | N89: 1.1926954 | O89: 1.479861 | P89: 1.5141406 | Q89: 1.5704648 | R89: 1.0264552 | S89: 1.3647188 | T89: 1.138813 | U89: 1.2345159 | V89: 1.2612564 | W89: 1.3728132 | X89: 1.3819937 | Y89: 1.3423464 | Z89: 0.89768169 | AA89: 1.279067 | AB89: 1.1897548 | AC89: 1.2370573 | AD89: 1.3233637 | AE89: 1.0905896 | AF89: 1.6402254 | AG89: 1.142905 | AH89: 1.1400061
A90: 20% inhibition from Optimum Photosynthetic Temperature | B90: Up | C90: 1.2204589 | D90: 0.86828259 | E90: 1.1589365 | F90: 1.0701095 | G90: 1.2564878 | H90: 1.3802862 | I90: 1.2410392 | J90: 1.2546285 | K90: 1.4870959 | L90: 1.0264866 | M90: 1.1241159 | N90: 1.1491975 | O90: 1.499679 | P90: 1.2834104 | Q90: 1.2564878 | R90: 1.1897141 | S90: 1.2591793 | T90: 1.1628785 | U90: 1.3461448 | V90: 1.1637181 | W90: 1.2166771 | X90: 1.4219501 | Y90: 1.6814079 | Z90: 0.78145433 | AA90: 1.2670023 | AB90: 1.408872 | AC90: 1.1968915 | AD90: 1.2368798 | AE90: 1.1772724 | AF90: 1.2382199 | AG90: 1.2512957 | AH90: 1.0199705
B91: Down | C91: 0.98566359 | D91: 0.89806124 | E91: 1.0395305 | F91: 0.82134318 | G91: 1.2428624 | H91: 0.90437753 | I91: 0.99375629 | J91: 1.1777058 | K91: 1.0005616 | L91: 0.91865487 | M91: 1.0754095 | N91: 0.65922933 | O91: 1.2724544 | P91: 1.0411187 | Q91: 0.94694277 | R91: 0.7085947 | S91: 1.1700384 | T91: 0.89752219 | U91: 1.0584093 | V91: 1.1328273 | W91: 1.1420812 | X91: 0.94787923 | Y91: 0.84761566 | Z91: 0.92711616 | AA91: 0.68631064 | AB91: 0.86859995 | AC91: 1.0711588 | AD91: 1.1345827 | AE91: 0.92920688 | AF91: 0.8789021 | AG91: 1.0903782 | AH91: 1.2888547
B92: Down/Up | C92: 1.0847462 | D92: 0.88549477 | E92: 1.0899193 | F92: 0.92632154 | G92: 1.2486122 | H92: 1.105209 | I92: 1.0981086 | J92: 1.2101669 | K92: 1.2058771 | L92: 0.96415942 | M92: 1.0959634 | N92: 0.86599388 | O92: 1.3683422 | P92: 1.1433648 | Q92: 1.0775695 | R92: 0.91162509 | S92: 1.2076555 | T92: 1.0095014 | U92: 1.1798325 | V92: 1.1458631 | W92: 1.1735604 | X92: 1.1479352 | Y92: 1.1994725 | Z92: 0.86564748 | AA92: 0.93136011 | AB92: 1.0965925 | AC92: 1.1242175 | AD92: 1.1777517 | AE92: 1.0338895 | AF92: 1.0305327 | AG92: 1.1582847 | AH92: 1.1753867
A93: 30% inhibition from Optimum Photosynthetic Temperature | B93: Up | C93: 1.1232316 | D93: 0.80505813 | E93: 1.1359507 | F93: 1.3483593 | G93: 0.90193235 | H93: 1.246965 | I93: 1.2620276 | J93: 1.4125447 | K93: 1.1895635 | L93: 0.73683287 | M93: 0.97038257 | N93: 1.0274639 | O93: 1.1274154 | P93: 1.3552302 | Q93: 1.1649959 | R93: 0.92891323 | S93: 1.2028701 | T93: 1.0473971 | U93: 0.89608944 | V93: 0.94819572 | W93: 1.1925461 | X93: 1.3184101 | Y93: 1.3362645 | Z93: 0.9056904 | AA93: 1.3642198 | AB93: 1.2191986 | AC93: 1.0023451 | AD93: 1.2938434 | AE93: 1.1505513 | AF93: 1.2118393 | AG93: 1.2350324 | AH93: 1.0548201
B94: Down | C94: 0.98702477 | D94: 0.78904054 | E94: 1.083259 | F94: 0.99964948 | G94: 1.6273403 | H94: 0.92100211 | I94: 0.98225846 | J94: 0.9328315 | K94: 0.95391468 | L94: 0.98478095 | M94: 1.0663575 | N94: 0.76289491 | O94: 1.0246217 | P94: 1.007244 | Q94: 1.1753013 | R94: 0.69834226 | S94: 0.90784494 | T94: 0.93872402 | U94: 1.0778654 | V94: 1.0225546 | W94: 1.0338448 | X94: 1.0112703 | Y94: 0.89296224 | Z94: 1.1862507 | AA94: 0.66853853 | AB94: 0.81473264 | AC94: 1.1769689 | AD94: 0.87247436 | AE94: 0.87531629 | AF94: 0.97177768 | AG94: 1.1404333 | AH94: 1.2250438
B95: Down/Up | C95: 1.0476411 | D95: 0.79616887 | E95: 1.1067085 | F95: 1.1548362 | G95: 1.3045111 | H95: 1.0660658 | I95: 1.1067645 | J95: 1.1463188 | K95: 1.0587858 | L95: 0.87443632 | M95: 1.0236457 | N95: 0.88063636 | O95: 1.0703681 | P95: 1.1621087 | Q95: 1.1707151 | R95: 0.80095354 | S95: 1.0391403 | T95: 0.98708691 | U95: 0.99696941 | V95: 0.98946257 | W95: 1.1044718 | X95: 1.1479571 | Y95: 1.0902456 | Z95: 1.0613926 | AA95: 0.97813843 | AB95: 0.99473262 | AC95: 1.0992559 | AD95: 1.0599967 | AE95: 0.99780447 | AF95: 1.0786126 | AG95: 1.1825328 | AH95: 1.1492889

Sheet 3C
B1: Supplementary Table 3 C. Functional analysis of Arabidopsis genes containing control cis-elements for selected conditions
A4: Condition | B4: Total number of genes regulated by the condition (out of 33323) | C4: cis- element | D4: Probability that a gene is regulated by a given condition: Y = (B/33323) | E4: No. of genes involved in the condition with cis-element/ Total number of genes in the genome with cis element: X | F4: Spacer wise distribution (No. of genes involved in the condition with cis-element/ Total number of genes in the genome with cis element: X for a particular N)
F5: 0 | G5: 1 | H5: 2 | I5: 3 | J5: 4 | K5: 5 | L5: 6 | M5: 7 | N5: 8 | O5: 9 | P5: 10 | Q5: 11 | R5: 12 | S5: 13 | T5: 14 | U5: 15 | V5: 16 | W5: 17 | X5: 18 | Y5: 19 | Z5: 20 | AA5: 21 | AB5: 22 | AC5: 23 | AD5: 24 | AE5: 25 | AF5: 26 | AG5: 27 | AH5: 28 | AI5: 29 | AJ5: 30
A6: Salt-All | B6: 4614 | C6: ACGT | D6: 0.13846292 | E6: 0.17224273 | F6: 0.14320988 | G6: 0.14915254 | H6: 0.16011236 | I6: 0.21161826 | J6: 0.1557971 | K6: 0.18442623 | L6: 0.17889908 | M6: 0.17910448 | N6: 0.16610169 | O6: 0.16666667 | P6: 0.16386555 | Q6: 0.2033195 | R6: 0.2080292 | S6: 0.21576763 | T6: 0.14102564 | U6: 0.1875 | V6: 0.15646259 | W6: 0.16961131 | X6: 0.1732852 | Y6: 0.1886121 | Z6: 0.18987342 | AA6: 0.18442623 | AB6: 0.12333333 | AC6: 0.17573222 | AD6: 0.16346154 | AE6: 0.16996047 | AF6: 0.18181818 | AG6: 0.14983713 | AH6: 0.22535211 | AI6: 0.15702479 | AJ6: 0.15662651
B7: 4614 | C7: AGCT | D7: 0.13846292 | E7: 0.13558544 | F7: 0.13559322 | G7: 0.16326531 | H7: 0.13782051 | I7: 0.13173653 | J7: 0.13814433 | K7: 0.15151515 | L7: 0.16738197 | M7: 0.10412148 | N7: 0.14768683 | O7: 0.1654321 | P7: 0.12383178 | Q7: 0.12830957 | R7: 0.11919192 | S7: 0.13291139 | T7: 0.13027523 | U7: 0.11752577 | V7: 0.11405295 | W7: 0.12547529 | X7: 0.13878327 | Y7: 0.11157895 | Z7: 0.13627255 | AA7: 0.14975845 | AB7: 0.17317073 | AC7: 0.12291667 | AD7: 0.11034483 | AE7: 0.14840183 | AF7: 0.12815884 | AG7: 0.12601626 | AH7: 0.14508929 | AI7: 0.13472486 | AJ7: 0.15
B8: 4614 | C8: TAGC | D8: 0.13846292 | E8: 0.13812805 | F8: 0.1328125 | G8: 0.11640212 | H8: 0.1417004 | I8: 0.19341564 | J8: 0.098591549 | K8: 0.17156863 | L8: 0.15333333 | M8: 0.10191083 | N8: 0.13989637 | O8: 0.10795455 | P8: 0.1257485 | Q8: 0.17171717 | R8: 0.13664596 | S8: 0.10778443 | T8: 0.13120567 | U8: 0.16993464 | V8: 0.13772455 | W8: 0.13978495 | X8: 0.16763006 | Y8: 0.18881119 | Z8: 0.14146341 | AA8: 0.1011236 | AB8: 0.14814815 | AC8: 0.13567839 | AD8: 0.12258065 | AE8: 0.14044944 | AF8: 0.13551402 | AG8: 0.15151515 | AH8: 0.10884354 | AI8: 0.16 | AJ8: 0.097435897
B9: 4614 | C9: CGTA | D9: 0.13846292 | E9: 0.14700855 | F9: 0.18149466 | G9: 0.17575758 | H9: 0.18348624 | I9: 0.15068493 | J9: 0.13181818 | K9: 0.17355372 | L9: 0.1984127 | M9: 0.12195122 | N9: 0.13571429 | O9: 0.15841584 | P9: 0.13669065 | Q9: 0.2 | R9: 0.18421053 | S9: 0.12686567 | T9: 0.192 | U9: 0.10273973 | V9: 0.10695187 | W9: 0.16463415 | X9: 0.11111111 | Y9: 0.11811024 | Z9: 0.15976331 | AA9: 0.10769231 | AB9: 0.109375 | AC9: 0.15 | AD9: 0.089552239 | AE9: 0.12837838 | AF9: 0.13173653 | AG9: 0.11688312 | AH9: 0.20155039 | AI9: 0.13953488 | AJ9: 0.14049587
B10: 4614 | C10: GCTA | D10: 0.13846292 | E10: 0.12691863 | F10: 0.11796247 | G10: 0.19021739 | H10: 0.11504425 | I10: 0.13253012 | J10: 0.12446352 | K10: 0.10280374 | L10: 0.074712644 | M10: 0.12169312 | N10: 0.14285714 | O10: 0.17714286 | P10: 0.13815789 | Q10: 0.092682927 | R10: 0.1509434 | S10: 0.16058394 | T10: 0.12195122 | U10: 0.12352941 | V10: 0.11585366 | W10: 0.11344538 | X10: 0.13636364 | Y10: 0.091463415 | Z10: 0.15837104 | AA10: 0.14814815 | AB10: 0.10160428 | AC10: 0.11794872 | AD10: 0.095959596 | AE10: 0.13291139 | AF10: 0.10280374 | AG10: 0.15384615 | AH10: 0.12727273 | AI10: 0.12376238 | AJ10: 0.16384181
B11: 4614 | C11: ATGC | D11: 0.13846292 | E11: 0.12743323 | F11: 0.12345679 | G11: 0.10546875 | H11: 0.12626263 | I11: 0.10509554 | J11: 0.15542522 | K11: 0.11578947 | L11: 0.12692308 | M11: 0.1 | N11: 0.13333333 | O11: 0.13414634 | P11: 0.15384615 | Q11: 0.14876033 | R11: 0.16371681 | S11: 0.11538462 | T11: 0.092307692 | U11: 0.15948276 | V11: 0.13011152 | W11: 0.13357401 | X11: 0.12781955 | Y11: 0.11419753 | Z11: 0.11654135 | AA11: 0.11328125 | AB11: 0.12267658 | AC11: 0.14396887 | AD11: 0.11960133 | AE11: 0.12890625 | AF11: 0.14141414 | AG11: 0.1254902 | AH11: 0.15044248 | AI11: 0.13103448 | AJ11: 0.12556054
B12: 4614 | C12: TGCA | D12: 0.13846292 | E12: 0.1245951 | F12: 0.10904255 | G12: 0.12135922 | H12: 0.13513514 | I12: 0.12479201 | J12: 0.13267327 | K12: 0.1402439 | L12: 0.099489796 | M12: 0.10141509 | N12: 0.11832947 | O12: 0.16569767 | P12: 0.12462006 | Q12: 0.12121212 | R12: 0.1283293 | S12: 0.14792899 | T12: 0.14507772 | U12: 0.10757946 | V12: 0.12285714 | W12: 0.11049724 | X12: 0.12972973 | Y12: 0.1353211 | Z12: 0.10687023 | AA12: 0.12068966 | AB12: 0.12466125 | AC12: 0.13023256 | AD12: 0.083003953 | AE12: 0.15656566 | AF12: 0.12072893 | AG12: 0.14719626 | AH12: 0.1182266 | AI12: 0.147343 | AJ12: 0.10242588
B13: 4614 | C13: CTAG | D13: 0.13846292 | E13: 0.10692732 | F13: 0.13174603 | G13: 0.094736842 | H13: 0.073170732 | I13: 0.14018692 | J13: 0.1270903 | K13: 0.10583942 | L13: 0.11870504 | M13: 0.084158416 | N13: 0.1147541 | O13: 0.083916084 | P13: 0.16568047 | Q13: 0.11872146 | R13: 0.11656442 | S13: 0.16756757 | T13: 0.07518797 | U13: 0.064615385 | V13: 0.085106383 | W13: 0.10160428 | X13: 0.11428571 | Y13: 0.094736842 | Z13: 0.12315271 | AA13: 0.097826087 | AB13: 0.14871795 | AC13: 0.10599078 | AD13: 0.11518325 | AE13: 0.082524272 | AF13: 0.090128755 | AG13: 0.10382514 | AH13: 0.067924528 | AI13: 0.094488189 | AJ13: 0.12886598
B14: 4614 | C14: GATC | D14: 0.13846292 | E14: 0.12587986 | F14: 0.11919192 | G14: 0.15442561 | H14: 0.14595661 | I14: 0.12527473 | J14: 0.13406593 | K14: 0.13242009 | L14: 0.10917031 | M14: 0.12064965 | N14: 0.14110429 | O14: 0.12731481 | P14: 0.13842482 | Q14: 0.12695312 | R14: 0.13625304 | S14: 0.12264151 | T14: 0.1284585 | U14: 0.11797753 | V14: 0.11195446 | W14: 0.08566108 | X14: 0.10851064 | Y14: 0.14316703 | Z14: 0.109375 | AA14: 0.10947368 | AB14: 0.15116279 | AC14: 0.10572687 | AD14: 0.11856823 | AE14: 0.13686534 | AF14: 0.14097744 | AG14: 0.14230019 | AH14: 0.12658228 | AI14: 0.112 | AJ14: 0.12289157
A15: Salt-Up | B15: 2482 | C15: ACGT | D15: 0.07448309 | E15: 0.11952007 | F15: 0.086419753 | G15: 0.10847458 | H15: 0.11797753 | I15: 0.13278008 | J15: 0.11231884 | K15: 0.12704918 | L15: 0.12844037 | M15: 0.12238806 | N15: 0.1220339 | O15: 0.095238095 | P15: 0.11344538 | Q15: 0.13278008 | R15: 0.14233577 | S15: 0.15767635 | T15: 0.11538462 | U15: 0.09765625 | V15: 0.12244898 | W15: 0.1130742 | X15: 0.10830325 | Y15: 0.14590747 | Z15: 0.12341772 | AA15: 0.11065574 | AB15: 0.083333333 | AC15: 0.11297071 | AD15: 0.13461538 | AE15: 0.11857708 | AF15: 0.13961039 | AG15: 0.11400651 | AH15: 0.17253521 | AI15: 0.11570248 | AJ15: 0.092369478
B16: 2482 | C16: AGCT | D16: 0.07448309 | E16: 0.068940636 | F16: 0.069679849 | G16: 0.075510204 | H16: 0.070512821 | I16: 0.065868263 | J16: 0.07628866 | K16: 0.074960128 | L16: 0.08583691 | M16: 0.052060738 | N16: 0.060498221 | O16: 0.079012346 | P16: 0.060747664 | Q16: 0.077393075 | R16: 0.072727273 | S16: 0.056962025 | T16: 0.055045872 | U16: 0.055670103 | V16: 0.048879837 | W16: 0.077946768 | X16: 0.076045627 | Y16: 0.065263158 | Z16: 0.076152305 | AA16: 0.070048309 | AB16: 0.090243902 | AC16: 0.060416667 | AD16: 0.059770115 | AE16: 0.091324201 | AF16: 0.059566787 | AG16: 0.06097561 | AH16: 0.066964286 | AI16: 0.072106262 | AJ16: 0.07826087
B17: 2482 | C17: TAGC | D17: 0.07448309 | E17: 0.067215594 | F17: 0.0703125 | G17: 0.052910053 | H17: 0.056680162 | I17: 0.098765432 | J17: 0.051643192 | K17: 0.068627451 | L17: 0.093333333 | M17: 0.057324841 | N17: 0.056994819 | O17: 0.0625 | P17: 0.053892216 | Q17: 0.075757576 | R17: 0.049689441 | S17: 0.053892216 | T17: 0.060283688 | U17: 0.045751634 | V17: 0.053892216 | W17: 0.069892473 | X17: 0.092485549 | Y17: 0.11188811 | Z17: 0.092682927 | AA17: 0.050561798 | AB17: 0.086419753 | AC17: 0.065326633 | AD17: 0.070967742 | AE17: 0.050561798 | AF17: 0.079439252 | AG17: 0.054545455 | AH17: 0.06122449 | AI17: 0.075 | AJ17: 0.056410256
B18: 2482 | C18: CGTA | D18: 0.07448309 | E18: 0.08974359 | F18: 0.099644128 | G18: 0.14545455 | H18: 0.11926606 | I18: 0.082191781 | J18: 0.086363636 | K18: 0.1322314 | L18: 0.11111111 | M18: 0.06097561 | N18: 0.092857143 | O18: 0.089108911 | P18: 0.086330935 | Q18: 0.12857143 | R18: 0.098684211 | S18: 0.082089552 | T18: 0.128 | U18: 0.089041096 | V18: 0.07486631 | W18: 0.079268293 | X18: 0.066666667 | Y18: 0.070866142 | Z18: 0.10650888 | AA18: 0.038461538 | AB18: 0.078125 | AC18: 0.071428571 | AD18: 0.037313433 | AE18: 0.067567568 | AF18: 0.095808383 | AG18: 0.064935065 | AH18: 0.10852713 | AI18: 0.07751938 | AJ18: 0.090909091
B19: 2482 | C19: GCTA | D19: 0.07448309 | E19: 0.068493151 | F19: 0.050938338 | G19: 0.11956522 | H19: 0.07079646 | I19: 0.052208835 | J19: 0.051502146 | K19: 0.056074766 | L19: 0.034482759 | M19: 0.074074074 | N19: 0.076190476 | O19: 0.12 | P19: 0.072368421 | Q19: 0.053658537 | R19: 0.081761006 | S19: 0.072992701 | T19: 0.073170732 | U19: 0.076470588 | V19: 0.073170732 | W19: 0.050420168 | X19: 0.079545455 | Y19: 0.048780488 | Z19: 0.095022624 | AA19: 0.084656085 | AB19: 0.058823529 | AC19: 0.071794872 | AD19: 0.055555556 | AE19: 0.082278481 | AF19: 0.037383178 | AG19: 0.076923077 | AH19: 0.054545455 | AI19: 0.074257426 | AJ19: 0.084745763
B20: 2482 | C20: ATGC | D20: 0.07448309 | E20: 0.062358533 | F20: 0.064814815 | G20: 0.05859375 | H20: 0.058080808 | I20: 0.050955414 | J20: 0.070381232 | K20: 0.056140351 | L20: 0.053846154 | M20: 0.05483871 | N20: 0.054901961 | O20: 0.085365854 | P20: 0.055555556 | Q20: 0.090909091 | R20: 0.07079646 | S20: 0.047008547 | T20: 0.036923077 | U20: 0.086206897 | V20: 0.07063197 | W20: 0.057761733 | X20: 0.067669173 | Y20: 0.055555556 | Z20: 0.060150376 | AA20: 0.05078125 | AB20: 0.048327138 | AC20: 0.089494163 | AD20: 0.066445183 | AE20: 0.078125 | AF20: 0.080808081 | AG20: 0.043137255 | AH20: 0.044247788 | AI20: 0.068965517 | AJ20: 0.062780269
B21: 2482 | C21: TGCA | D21: 0.07448309 | E21: 0.061845574 | F21: 0.0625 | G21: 0.07038835 | H21: 0.067567568 | I21: 0.048252912 | J21: 0.069306931 | K21: 0.077235772 | L21: 0.045918367 | M21: 0.04245283 | N21: 0.055684455 | O21: 0.10174419 | P21: 0.060790274 | Q21: 0.068870523 | R21: 0.072639225 | S21: 0.068047337 | T21: 0.07253886 | U21: 0.051344743 | V21: 0.074285714 | W21: 0.035911602 | X21: 0.045945946 | Y21: 0.061926606 | Z21: 0.048346056 | AA21: 0.037356322 | AB21: 0.054200542 | AC21: 0.08372093 | AD21: 0.049407115 | AE21: 0.078282828 | AF21: 0.050113895 | AG21: 0.063084112 | AH21: 0.07635468 | AI21: 0.074879227 | AJ21: 0.04851752
B22: 2482 | C22: CTAG | D22: 0.07448309 | E22: 0.054841249 | F22: 0.061904762 | G22: 0.052631579 | H22: 0.026829268 | I22: 0.074766355 | J22: 0.076923077 | K22: 0.054744526 | L22: 0.061151079 | M22: 0.03960396 | N22: 0.059016393 | O22: 0.031468531 | P22: 0.11242604 | Q22: 0.063926941 | R22: 0.067484663 | S22: 0.075675676 | T22: 0.030075188 | U22: 0.033846154 | V22: 0.037234043 | W22: 0.064171123 | X22: 0.071428571 | Y22: 0.047368421 | Z22: 0.083743842 | AA22: 0.038043478 | AB22: 0.071794872 | AC22: 0.050691244 | AD22: 0.052356021 | AE22: 0.04368932 | AF22: 0.055793991 | AG22: 0.049180328 | AH22: 0.037735849 | AI22: 0.039370079 | AJ22: 0.072164948
B23: 2482 | C23: GATC | D23: 0.07448309 | E23: 0.063418301 | F23: 0.054545455 | G23: 0.088512241 | H23: 0.084812623 | I23: 0.07032967 | J23: 0.061538462 | K23: 0.066210046 | L23: 0.050218341 | M23: 0.051044084 | N23: 0.067484663 | O23: 0.05787037 | P23: 0.059665871 | Q23: 0.068359375 | R23: 0.065693431 | S23: 0.066037736 | T23: 0.055335968 | U23: 0.054307116 | V23: 0.064516129 | W23: 0.046554935 | X23: 0.059574468 | Y23: 0.080260304 | Z23: 0.053571429 | AA23: 0.056842105 | AB23: 0.076744186 | AC23: 0.057268722 | AD23: 0.062639821 | AE23: 0.06401766 | AF23: 0.058270677 | AG23: 0.072124756 | AH23: 0.069620253 | AI23: 0.064 | AJ23: 0.055421687
A24: Salt-Down | B24: 2191 | C24: ACGT | D24: 0.065750383 | E24: 0.054914629 | F24: 0.061728395 | G24: 0.044067797 | H24: 0.042134831 | I24: 0.078838174 | J24: 0.047101449 | K24: 0.057377049 | L24: 0.050458716 | M24: 0.059701493 | N24: 0.050847458 | O24: 0.075396825 | P24: 0.050420168 | Q24: 0.070539419 | R24: 0.065693431 | S24: 0.058091286 | T24: 0.032051282 | U24: 0.09765625 | V24: 0.034013605 | W24: 0.060070671 | X24: 0.064981949 | Y24: 0.046263345 | Z24: 0.069620253 | AA24: 0.077868852 | AB24: 0.04 | AC24: 0.062761506 | AD24: 0.032051282 | AE24: 0.055335968 | AF24: 0.045454545 | AG24: 0.035830619 | AH24: 0.052816901 | AI24: 0.041322314 | AJ24: 0.064257028
B25: 2191 | C25: AGCT | D25: 0.065750383 | E25: 0.068284684 | F25: 0.065913371 | G25: 0.089795918 | H25: 0.068910256 | I25: 0.065868263 | J25: 0.063917526 | K25: 0.07814992 | L25: 0.08583691 | M25: 0.054229935 | N25: 0.087188612 | O25: 0.086419753 | P25: 0.063084112 | Q25: 0.054989817 | R25: 0.048484848 | S25: 0.078059072 | T25: 0.07706422 | U25: 0.06185567 | V25: 0.069246436 | W25: 0.051330798 | X25: 0.064638783 | Y25: 0.048421053 | Z25: 0.062124248 | AA25: 0.082125604 | AB25: 0.085365854 | AC25: 0.064583333 | AD25: 0.050574713 | AE25: 0.057077626 | AF25: 0.072202166 | AG25: 0.06504065 | AH25: 0.078125 | AI25: 0.064516129 | AJ25: 0.07173913
B26: 2191 | C26: TAGC | D26: 0.065750383 | E26: 0.072760881 | F26: 0.0625 | G26: 0.068783069 | H26: 0.093117409 | I26: 0.094650206 | J26: 0.046948357 | K26: 0.10294118 | L26: 0.06 | M26: 0.044585987 | N26: 0.088082902 | O26: 0.051136364 | P26: 0.077844311 | Q26: 0.095959596 | R26: 0.086956522 | S26: 0.05988024 | T26: 0.074468085 | U26: 0.12418301 | V26: 0.083832335 | W26: 0.080645161 | X26: 0.075144509 | Y26: 0.076923077 | Z26: 0.053658537 | AA26: 0.050561798 | AB26: 0.061728395 | AC26: 0.070351759 | AD26: 0.051612903 | AE26: 0.08988764 | AF26: 0.056074766 | AG26: 0.096969697 | AH26: 0.047619048 | AI26: 0.085 | AJ26: 0.041025641
B27: 2191 | C27: CGTA | D27: 0.065750383 | E27: 0.061324786 | F27: 0.085409253 | G27: 0.03030303 | H27: 0.068807339 | I27: 0.068493151 | J27: 0.045454545 | K27: 0.05785124 | L27: 0.095238095 | M27: 0.06097561 | N27: 0.042857143 | O27: 0.069306931 | P27: 0.057553957 | Q27: 0.078571429 | R27: 0.092105263 | S27: 0.044776119 | T27: 0.064 | U27: 0.020547945 | V27: 0.042780749 | W27: 0.097560976 | X27: 0.044444444 | Y27: 0.047244094 | Z27: 0.053254438 | AA27: 0.069230769 | AB27: 0.03125 | AC27: 0.085714286 | AD27: 0.052238806 | AE27: 0.060810811 | AF27: 0.053892216 | AG27: 0.064935065 | AH27: 0.093023256 | AI27: 0.062015504 | AJ27: 0.049586777
B28: 2191 | C28: GCTA | D28: 0.065750383 | E28: 0.060901139 | F28: 0.069705094 | G28: 0.070652174 | H28: 0.044247788 | I28: 0.080321285 | J28: 0.077253219 | K28: 0.046728972 | L28: 0.040229885 | M28: 0.052910053 | N28: 0.066666667 | O28: 0.057142857 | P28: 0.065789474 | Q28: 0.03902439 | R28: 0.075471698 | S28: 0.087591241 | T28: 0.053658537 | U28: 0.047058824 | V28: 0.042682927 | W28: 0.06302521 | X28: 0.0625 | Y28: 0.042682927 | Z28: 0.07239819 | AA28: 0.074074074 | AB28: 0.048128342 | AC28: 0.046153846 | AD28: 0.045454545 | AE28: 0.050632911 | AF28: 0.065420561 | AG28: 0.083333333 | AH28: 0.072727273 | AI28: 0.054455446 | AJ28: 0.084745763
B29: 2191 | C29: ATGC | D29: 0.065750383 | E29: 0.066885469 | F29: 0.060185185 | G29: 0.046875 | H29: 0.068181818 | I29: 0.057324841 | J29: 0.08797654 | K29: 0.063157895 | L29: 0.073076923 | M29: 0.048387097 | N29: 0.078431373 | O29: 0.052845528 | P29: 0.098290598 | Q29: 0.061983471 | R29: 0.097345133 | S29: 0.068376068 | T29: 0.055384615 | U29: 0.077586207 | V29: 0.059479554 | W29: 0.079422383 | X29: 0.063909774 | Y29: 0.058641975 | Z29: 0.060150376 | AA29: 0.0625 | AB29: 0.074349442 | AC29: 0.054474708 | AD29: 0.053156146 | AE29: 0.05859375 | AF29: 0.063973064 | AG29: 0.082352941 | AH29: 0.11061947 | AI29: 0.062068966 | AJ29: 0.062780269
B30: 2191 | C30: TGCA | D30: 0.065750383 | E30: 0.063954802 | F30: 0.046542553 | G30: 0.053398058 | H30: 0.069069069 | I30: 0.076539101 | J30: 0.063366337 | K30: 0.069105691 | L30: 0.053571429 | M30: 0.058962264 | N30: 0.062645012 | O30: 0.069767442 | P30: 0.066869301 | Q30: 0.052341598 | R30: 0.060532688 | S30: 0.082840237 | T30: 0.07253886 | U30: 0.056234719 | V30: 0.048571429 | W30: 0.074585635 | X30: 0.083783784 | Y30: 0.077981651 | Z30: 0.061068702 | AA30: 0.083333333 | AB30: 0.070460705 | AC30: 0.046511628 | AD30: 0.033596838 | AE30: 0.080808081 | AF30: 0.070615034 | AG30: 0.08411215 | AH30: 0.044334975 | AI30: 0.072463768 | AJ30: 0.053908356
B31: 2191 | C31: CTAG | D31: 0.065750383 | E31: 0.053398058 | F31: 0.071428571 | G31: 0.042105263 | H31: 0.046341463 | I31: 0.068535826 | J31: 0.053511706 | K31: 0.051094891 | L31: 0.057553957 | M31: 0.04950495 | N31: 0.055737705 | O31: 0.052447552 | P31: 0.059171598 | Q31: 0.054794521 | R31: 0.049079755 | S31: 0.091891892 | T31: 0.04887218 | U31: 0.030769231 | V31: 0.04787234 | W31: 0.037433155 | X31: 0.047619048 | Y31: 0.047368421 | Z31: 0.044334975 | AA31: 0.059782609 | AB31: 0.076923077 | AC31: 0.055299539 | AD31: 0.073298429 | AE31: 0.038834951 | AF31: 0.034334764 | AG31: 0.054644809 | AH31: 0.030188679 | AI31: 0.05511811 | AJ31: 0.056701031
B32: 2191 | C32: GATC | D32: 0.065750383 | E32: 0.063965011 | F32: 0.066666667 | G32: 0.065913371 | H32: 0.069033531 | I32: 0.054945055 | J32: 0.076923077 | K32: 0.066210046 | L32: 0.058951965 | M32: 0.069605568 | N32: 0.073619632 | O32: 0.074074074 | P32: 0.081145585 | Q32: 0.060546875 | R32: 0.072992701 | S32: 0.058962264 | T32: 0.07312253 | U32: 0.063670412 | V32: 0.049335863 | W32: 0.040968343 | X32: 0.05106383 | Y32: 0.067245119 | Z32: 0.055803571 | AA32: 0.052631579 | AB32: 0.074418605 | AC32: 0.04845815 | AD32: 0.055928412 | AE32: 0.075055188 | AF32: 0.082706767 | AG32: 0.072124756 | AH32: 0.061181435 | AI32: 0.048 | AJ32: 0.06746988
A33: Jasmonic Acid-All | B33: 221 | C33: ACGT | D33: 0.0066320559 | E33: 0.0085371481 | F33: 0.012345679 | G33: 0.0033898305 | H33: 0 | I33: 0.0082987552 | J33: 0.0072463768 | K33: 0.012295082 | L33: 0.013761468 | M33: 0.020895522 | N33: 0.006779661 | O33: 0.0079365079 | P33: 0.012605042 | Q33: 0.0041493776 | R33: 0.003649635 | S33: 0.012448133 | T33: 0.0032051282 | U33: 0.0078125 | V33: 0 | W33: 0.0070671378 | X33: 0.0072202166 | Y33: 0.0035587189 | Z33: 0.0063291139 | AA33: 0.012295082 | AB33: 0.01 | AC33: 0.0041841004 | AD33: 0.019230769 | AE33: 0.0039525692 | AF33: 0.016233766 | AG33: 0.003257329 | AH33: 0.0070422535 | AI33: 0.0041322314 | AJ33: 0.024096386
B34: 221 | C34: AGCT | D34: 0.0066320559 | E34: 0.0045916694 | F34: 0.0056497175 | G34: 0.0081632653 | H34: 0.0032051282 | I34: 0.001996008 | J34: 0.0020618557 | K34: 0.0063795853 | L34: 0.0042918455 | M34: 0.0086767896 | N34: 0.0035587189 | O34: 0.0049382716 | P34: 0 | Q34: 0.0040733198 | R34: 0.0060606061 | S34: 0.0021097046 | T34: 0.012844037 | U34: 0 | V34: 0.0040733198 | W34: 0.0019011407 | X34: 0.0038022814 | Y34: 0.0084210526 | Z34: 0.01002004 | AA34: 0.0048309179 | AB34: 0 | AC34: 0.0041666667 | AD34: 0.0022988506 | AE34: 0 | AF34: 0.0036101083 | AG34: 0.0040650407 | AH34: 0.0044642857 | AI34: 0.009487666 | AJ34: 0.0043478261
B35: 221 | C35: TAGC | D35: 0.0066320559 | E35: 0.0048731306 | F35: 0.0078125 | G35: 0.010582011 | H35: 0.004048583 | I35: 0.012345679 | J35: 0 | K35: 0.0049019608 | L35: 0.013333333 | M35: 0.0063694268 | N35: 0.010362694 | O35: 0.011363636 | P35: 0 | Q35: 0 | R35: 0.0062111801 | S35: 0 | T35: 0.0035460993 | U35: 0 | V35: 0.005988024 | W35: 0 | X35: 0 | Y35: 0.006993007 | Z35: 0 | AA35: 0.0056179775 | AB35: 0 | AC35: 0.010050251 | AD35: 0.0064516129 | AE35: 0 | AF35: 0 | AG35: 0.0060606061 | AH35: 0.0068027211 | AI35: 0.01 | AJ35: 0
B36: 221 | C36: CGTA | D36: 0.0066320559 | E36: 0.0064102564 | F36: 0.0035587189 | G36: 0 | H36: 0.0091743119 | I36: 0.0068493151 | J36: 0.0045454545 | K36: 0 | L36: 0 | M36: 0.006097561 | N36: 0.014285714 | O36: 0 | P36: 0.014388489 | Q36: 0.0071428571 | R36: 0 | S36: 0.0074626866 | T36: 0.032 | U36: 0 | V36: 0 | W36: 0.012195122 | X36: 0 | Y36: 0 | Z36: 0.01183432 | AA36: 0.0076923077 | AB36: 0.0078125 | AC36: 0.0071428571 | AD36: 0 | AE36: 0.0067567568 | AF36: 0.011976048 | AG36: 0 | AH36: 0.007751938 | AI36: 0.007751938 | AJ36: 0.016528926
B37: 221 | C37: GCTA | D37: 0.0066320559 | E37: 0.0057765308 | F37: 0.0053619303 | G37: 0.0054347826 | H37: 0 | I37: 0.0040160643 | J37: 0.008583691 | K37: 0.0046728972 | L37: 0 | M37: 0.015873016 | N37: 0.0047619048 | O37: 0.0057142857 | P37: 0.0065789474 | Q37: 0 | R37: 0 | S37: 0 | T37: 0.014634146 | U37: 0.0058823529 | V37: 0.006097561 | W37: 0.0042016807 | X37: 0 | Y37: 0 | Z37: 0 | AA37: 0.0052910053 | AB37: 0.010695187 | AC37: 0.01025641 | AD37: 0 | AE37: 0 | AF37: 0.0093457944 | AG37: 0.012820513 | AH37: 0.018181818 | AI37: 0.0099009901 | AJ37: 0.011299435
B38: 221 | C38: ATGC | D38: 0.0066320559 | E38: 0.0063377094 | F38: 0.0046296296 | G38: 0.00390625 | H38: 0.0050505051 | I38: 0 | J38: 0.0029325513 | K38: 0.0070175439 | L38: 0.0076923077 | M38: 0 | N38: 0.0078431373 | O38: 0.020325203 | P38: 0.012820513 | Q38: 0.0082644628 | R38: 0.0044247788 | S38: 0 | T38: 0.0061538462 | U38: 0.012931034 | V38: 0.0074349442 | W38: 0.0072202166 | X38: 0.007518797 | Y38: 0 | Z38: 0.0037593985 | AA38: 0.01171875 | AB38: 0.0074349442 | AC38: 0 | AD38: 0.0099667774 | AE38: 0.00390625 | AF38: 0.02020202 | AG38: 0 | AH38: 0 | AI38: 0.013793103 | AJ38: 0.0044843049
B39: 221 | C39: TGCA | D39: 0.0066320559 | E39: 0.0057250471 | F39: 0.0026595745 | G39: 0.0024271845 | H39: 0.006006006 | I39: 0.006655574 | J39: 0.003960396 | K39: 0.006097561 | L39: 0.0076530612 | M39: 0 | N39: 0.0069605568 | O39: 0.023255814 | P39: 0.009118541 | Q39: 0.011019284 | R39: 0.016949153 | S39: 0.0059171598 | T39: 0.0025906736 | U39: 0.0048899756 | V39: 0.0057142857 | W39: 0 | X39: 0.0054054054 | Y39: 0.002293578 | Z39: 0.0076335878 | AA39: 0.0057471264 | AB39: 0.010840108 | AC39: 0.0023255814 | AD39: 0.0019762846 | AE39: 0.0050505051 | AF39: 0.0022779043 | AG39: 0.0070093458 | AH39: 0.0024630542 | AI39: 0.0048309179 | AJ39: 0.0053908356
B40: 221 | C40: CTAG | D40: 0.0066320559 | E40: 0.0043295723 | F40: 0.0079365079 | G40: 0.0052631579 | H40: 0 | I40: 0.0062305296 | J40: 0.0033444816 | K40: 0.0072992701 | L40: 0.0035971223 | M40: 0 | N40: 0.006557377 | O40: 0 | P40: 0 | Q40: 0 | R40: 0.0061349693 | S40: 0.0054054054 | T40: 0.007518797 | U40: 0 | V40: 0.010638298 | W40: 0.010695187 | X40: 0.0047619048 | Y40: 0.0052631579 | Z40: 0 | AA40: 0 | AB40: 0.01025641 | AC40: 0.0046082949 | AD40: 0.010471204 | AE40: 0.0048543689 | AF40: 0 | AG40: 0.010928962 | AH40: 0.0037735849 | AI40: 0 | AJ40: 0
B41: 221 | C41: GATC | D41: 0.0066320559 | E41: 0.0051254015 | F41: 0.002020202 | G41: 0.0056497175 | H41: 0.0059171598 | I41: 0.010989011 | J41: 0.0065934066 | K41: 0 | L41: 0 | M41: 0.0092807425 | N41: 0.0020449898 | O41: 0.0069444444 | P41: 0.011933174 | Q41: 0.005859375 | R41: 0 | S41: 0.0023584906 | T41: 0.0039525692 | U41: 0.0074906367 | V41: 0.0075901328 | W41: 0.0074487896 | X41: 0.0042553191 | Y41: 0.0065075922 | Z41: 0.0022321429 | AA41: 0.0042105263 | AB41: 0.0069767442 | AC41: 0.0022026432 | AD41: 0.0067114094 | AE41: 0.004415011 | AF41: 0.0093984962 | AG41: 0.0019493177 | AH41: 0.0063291139 | AI41: 0.002 | AJ41: 0.0048192771
A42: Jasmonic Acid-Up | B42: 147 | C42: ACGT | D42: 0.0044113675 | E42: 0.0048454084 | F42: 0.0024691358 | G42: 0.0033898305 | H42: 0 | I42: 0.0041493776 | J42: 0.0036231884 | K42: 0.012295082 | L42: 0.0091743119 | M42: 0.014925373 | N42: 0 | O42: 0.003968254 | P42: 0 | Q42: 0 | R42: 0.003649635 | S42: 0.0041493776 | T42: 0 | U42: 0.0078125 | V42: 0 | W42: 0.0035335689 | X42: 0.0036101083 | Y42: 0 | Z42: 0.003164557 | AA42: 0.0081967213 | AB42: 0.0066666667 | AC42: 0.0041841004 | AD42: 0.016025641 | AE42: 0.0039525692 | AF42: 0.0097402597 | AG42: 0.003257329 | AH42: 0.0070422535 | AI42: 0 | AJ42: 0.012048193
B43: 147 | C43: AGCT | D43: 0.0044113675 | E43: 0.0036077402 | F43: 0.0056497175 | G43: 0.0040816327 | H43: 0.0032051282 | I43: 0.001996008 | J43: 0.0020618557 | K43: 0.0031897927 | L43: 0 | M43: 0.0086767896 | N43: 0.0035587189 | O43: 0.0049382716 | P43: 0 | Q43: 0.0040733198 | R43: 0.0060606061 | S43: 0.0021097046 | T43: 0.0091743119 | U43: 0 | V43: 0.0040733198 | W43: 0.0019011407 | X43: 0.0019011407 | Y43: 0.0063157895 | Z43: 0.0080160321 | AA43: 0.0048309179 | AB43: 0 | AC43: 0.0041666667 | AD43: 0 | AE43: 0 | AF43: 0.0018050542 | AG43: 0.0040650407 | AH43: 0.0044642857 | AI43: 0.0075901328 | AJ43: 0.002173913
B44: 147 | C44: TAGC | D44: 0.0044113675 | E44: 0.0035288187 | F44: 0.0078125 | G44: 0.0052910053 | H44: 0.004048583 | I44: 0.0082304527 | J44: 0 | K44: 0.0049019608 | L44: 0.0066666667 | M44: 0 | N44: 0.0051813472 | O44: 0.011363636 | P44: 0 | Q44: 0 | R44: 0.0062111801 | S44: 0 | T44: 0.0035460993 | U44: 0 | V44: 0.005988024 | W44: 0 | X44: 0 | Y44: 0.006993007 | Z44: 0 | AA44: 0.0056179775 | AB44: 0 | AC44: 0.010050251 | AD44: 0 | AE44: 0 | AF44: 0 | AG44: 0 | AH44: 0.0068027211 | AI44: 0.005 | AJ44: 0
B45: 147 | C45: CGTA | D45: 0.0044113675 | E45: 0.0034188034 | F45: 0 | G45: 0 | H45: 0.004587156 | I45: 0.0068493151 | J45: 0 | K45: 0 | L45: 0 | M45: 0.006097561 | N45: 0 | O45: 0 | P45: 0.0071942446 | Q45: 0 | R45: 0 | S45: 0 | T45: 0.024 | U45: 0 | V45: 0 | W45: 0.006097561 | X45: 0 | Y45: 0 | Z45: 0.0059171598 | AA45: 0 | AB45: 0 | AC45: 0 | AD45: 0 | AE45: 0.0067567568 | AF45: 0.011976048 | AG45: 0 | AH45: 0.007751938 | AI45: 0.007751938 | AJ45: 0.016528926
B46: 147 | C46: GCTA | D46: 0.0044113675 | E46: 0.0041260934 | F46: 0.0053619303 | G46: 0 | H46: 0 | I46: 0.0040160643 | J46: 0.008583691 | K46: 0.0046728972 | L46: 0 | M46: 0.010582011 | N46: 0.0047619048 | O46: 0.0057142857 | P46: 0.0065789474 | Q46: 0 | R46: 0 | S46: 0 | T46: 0 | U46: 0.0058823529 | V46: 0.006097561 | W46: 0.0042016807 | X46: 0 | Y46: 0 | Z46: 0 | AA46: 0 | AB46: 0.010695187 | AC46: 0.0051282051 | AD46: 0 | AE46: 0 | AF46: 0.0093457944 | AG46: 0.012820513 | AH46: 0.0060606061 | AI46: 0.0099009901 | AJ46: 0.0056497175
B47: 147 | C47: ATGC | D47: 0.0044113675 | E47: 0.0045269353 | F47: 0.0030864198 | G47: 0.00390625 | H47: 0.0050505051 | I47: 0 | J47: 0.0029325513 | K47: 0.0035087719 | L47: 0.0076923077 | M47: 0 | N47: 0.0039215686 | O47: 0.012195122 | P47: 0.012820513 | Q47: 0.0082644628 | R47: 0.0044247788 | S47: 0 | T47: 0.0061538462 | U47: 0 | V47: 0.0037174721 | W47: 0.0072202166 | X47: 0.007518797 | Y47: 0 | Z47: 0.0037593985 | AA47: 0.00390625 | AB47: 0.0074349442 | AC47: 0 | AD47: 0.0066445183 | AE47: 0.00390625 | AF47: 0.01010101 | AG47: 0 | AH47: 0 | AI47: 0.010344828 | AJ47: 0.0044843049
B48: 147 | C48: TGCA | D48: 0.0044113675 | E48: 0.003992467 | F48: 0.0013297872 | G48: 0.0024271845 | H48: 0.0045045045 | I48: 0.0049916805 | J48: 0.001980198 | K48: 0.0040650407 | L48: 0.0076530612 | M48: 0 | N48: 0.0023201856 | O48: 0.014534884 | P48: 0.0060790274 | Q48: 0.011019284 | R48: 0.012106538 | S48: 0.0029585799 | T48: 0 | U48: 0 | V48: 0.0057142857 | W48: 0 | X48: 0.0027027027 | Y48: 0.002293578 | Z48: 0.0025445293 | AA48: 0.0028735632 | AB48: 0.010840108 | AC48: 0.0023255814 | AD48: 0.0019762846 | AE48: 0.0050505051 | AF48: 0 | AG48: 0.0046728972 | AH48: 0.0024630542 | AI48: 0.0048309179 | AJ48: 0.0053908356
B49: 147 | C49: CTAG | D49: 0.0044113675 | E49: 0.0028863815 | F49: 0.0047619048 | G49: 0.0052631579 | H49: 0 | I49: 0.0031152648 | J49: 0.0033444816 | K49: 0.0072992701 | L49: 0 | M49: 0 | N49: 0.0032786885 | O49: 0 | P49: 0 | Q49: 0 | R49: 0.0061349693 | S49: 0.0054054054 | T49: 0.007518797 | U49: 0 | V49: 0 | W49: 0.010695187 | X49: 0 | Y49: 0 | Z49: 0 | AA49: 0 | AB49: 0.01025641 | AC49: 0.0046082949 | AD49: 0.0052356021 | AE49: 0 | AF49: 0 | AG49: 0.010928962 | AH49: 0.0037735849 | AI49: 0 | AJ49: 0
B50: 147 | C50: GATC | D50: 0.0044113675 | E50: 0.0034169343 | F50: 0.002020202 | G50: 0.0018832392 | H50: 0.0039447732 | I50: 0.0021978022 | J50: 0.0043956044 | K50: 0 | L50: 0 | M50: 0.0092807425 | N50: 0 | O50: 0.0046296296 | P50: 0.0071599045 | Q50: 0.00390625 | R50: 0 | S50: 0.0023584906 | T50: 0.0019762846 | U50: 0.0056179775 | V50: 0.0056925996 | W50: 0.0055865922 | X50: 0.0021276596 | Y50: 0.0043383948 | Z50: 0.0022321429 | AA50: 0.0021052632 | AB50: 0.0046511628 | AC50: 0 | AD50: 0.0044742729 | AE50: 0.004415011 | AF50: 0.0093984962 | AG50: 0 | AH50: 0.0042194093 | AI50: 0.002 | AJ50: 0.0048192771
A51: Jasmonic Acid-Down | B51: 74 | C51: ACGT | D51: 0.0022206884 | E51: 0.0036917397 | F51: 0.0098765432 | G51: 0 | H51: 0 | I51: 0.0041493776 | J51: 0.0036231884 | K51: 0 | L51: 0.004587156 | M51: 0.0059701493 | N51: 0.006779661 | O51: 0.003968254 | P51: 0.012605042 | Q51: 0.0041493776 | R51: 0 | S51: 0.0082987552 | T51: 0.0032051282 | U51: 0 | V51: 0 | W51: 0.0035335689 | X51: 0.0036101083 | Y51: 0.0035587189 | Z51: 0.003164557 | AA51: 0.0040983607 | AB51: 0.0033333333 | AC51: 0 | AD51: 0.0032051282 | AE51: 0 | AF51: 0.0064935065 | AG51: 0 | AH51: 0 | AI51: 0.0041322314 | AJ51: 0.012048193
B52: 74 | C52: AGCT | D52: 0.0022206884 | E52: 0.00098392916 | F52: 0 | G52: 0.0040816327 | H52: 0 | I52: 0 | J52: 0 | K52: 0.0031897927 | L52: 0.0042918455 | M52: 0 | N52: 0 | O52: 0 | P52: 0 | Q52: 0 | R52: 0 | S52: 0 | T52: 0.0036697248 | U52: 0 | V52: 0 | W52: 0 | X52: 0.0019011407 | Y52: 0.0021052632 | Z52: 0.002004008 | AA52: 0 | AB52: 0 | AC52: 0 | AD52: 0.0022988506 | AE52: 0 | AF52: 0.0018050542 | AG52: 0 | AH52: 0 | AI52: 0.0018975332 | AJ52: 0.002173913
B53: 74 | C53: TAGC | D53: 0.0022206884 | E53: 0.0013443119 | F53: 0 | G53: 0.0052910053 | H53: 0 | I53: 0.0041152263 | J53: 0 | K53: 0 | L53: 0.0066666667 | M53: 0.0063694268 | N53: 0.0051813472 | O53: 0 | P53: 0 | Q53: 0 | R53: 0 | S53: 0 | T53: 0 | U53: 0 | V53: 0 | W53: 0 | X53: 0 | Y53: 0 | Z53: 0 | AA53: 0 | AB53: 0 | AC53: 0 | AD53: 0.0064516129 | AE53: 0 | AF53: 0 | AG53: 0.0060606061 | AH53: 0 | AI53: 0.005 | AJ53: 0
B54: 74 | C54: CGTA | D54: 0.0022206884 | E54: 0.002991453 | F54: 0.0035587189 | G54: 0 | H54: 0.004587156 | I54: 0 | J54: 0.0045454545 | K54: 0 | L54: 0 | M54: 0 | N54: 0.014285714 | O54: 0 | P54: 0.0071942446 | Q54: 0.0071428571 | R54: 0 | S54: 0.0074626866 | T54: 0.008 | U54: 0 | V54: 0 | W54: 0.006097561 | X54: 0 | Y54: 0 | Z54: 0.0059171598 | AA54: 0.0076923077 | AB54: 0.0078125 | AC54: 0.0071428571 | AD54: 0 | AE54: 0 | AF54: 0 | AG54: 0 | AH54: 0 | AI54: 0 | AJ54: 0
B55: 74 | C55: GCTA | D55: 0.0022206884 | E55: 0.0016504374 | F55: 0 | G55: 0.0054347826 | H55: 0 | I55: 0 | J55: 0 | K55: 0 | L55: 0 | M55: 0.0052910053 | N55: 0 | O55: 0 | P55: 0 | Q55: 0 | R55: 0 | S55: 0 | T55: 0.014634146 | U55: 0 | V55: 0 | W55: 0 | X55: 0 | Y55: 0 | Z55: 0 | AA55: 0.0052910053 | AB55: 0 | AC55: 0.0051282051 | AD55: 0 | AE55: 0 | AF55: 0 | AG55: 0 | AH55: 0.012121212 | AI55: 0 | AJ55: 0.0056497175
B56: 74 | C56: ATGC | D56: 0.0022206884 | E56: 0.0018107741 | F56: 0.0015432099 | G56: 0 | H56: 0 | I56: 0 | J56: 0 | K56: 0.0035087719 | L56: 0 | M56: 0 | N56: 0.0039215686 | O56: 0.0081300813 | P56: 0 | Q56: 0 | R56: 0 | S56: 0 | T56: 0 | U56: 0.012931034 | V56: 0.0037174721 | W56: 0 | X56: 0 | Y56: 0 | Z56: 0 | AA56: 0.0078125 | AB56: 0 | AC56: 0 | AD56: 0.0033222591 | AE56: 0 | AF56: 0.01010101 | AG56: 0 | AH56: 0 | AI56: 0.0034482759 | AJ56: 0
B57: 74 | C57: TGCA | D57: 0.0022206884 | E57: 0.00173258 | F57: 0.0013297872 | G57: 0 | H57: 0.0015015015 | I57: 0.0016638935 | J57: 0.001980198 | K57: 0.0020325203 | L57: 0 | M57: 0 | N57: 0.0046403712 | O57: 0.0087209302 | P57: 0.0030395137 | Q57: 0 | R57: 0.004842615 | S57: 0.0029585799 | T57: 0.0025906736 | U57: 0.0048899756 | V57: 0 | W57: 0 | X57: 0.0027027027 | Y57: 0 | Z57: 0.0050890585 | AA57: 0.0028735632 | AB57: 0 | AC57: 0 | AD57: 0 | AE57: 0 | AF57: 0.0022779043 | AG57: 0.0023364486 | AH57: 0 | AI57: 0 | AJ57: 0
B58: 74 | C58: CTAG | D58: 0.0022206884 | E58: 0.0014431908 | F58: 0.0031746032 | G58: 0 | H58: 0 | I58: 0.0031152648 | J58: 0 | K58: 0 | L58: 0.0035971223 | M58: 0 | N58: 0.0032786885 | O58: 0 | P58: 0 | Q58: 0 | R58: 0 | S58: 0 | T58: 0 | U58: 0 | V58: 0.010638298 | W58: 0 | X58: 0.0047619048 | Y58: 0.0052631579 | Z58: 0 | AA58: 0 | AB58: 0 | AC58: 0 | AD58: 0.0052356021 | AE58: 0.0048543689 | AF58: 0 | AG58: 0 | AH58: 0 | AI58: 0 | AJ58: 0
B59: 74 | C59: GATC | D59: 0.0022206884 | E59: 0.0017084672 | F59: 0 | G59: 0.0037664783 | H59: 0.0019723866 | I59: 0.0087912088 | J59: 0.0021978022 | K59: 0 | L59: 0 | M59: 0 | N59: 0.0020449898 | O59: 0.0023148148 | P59: 0.0047732697 | Q59: 0.001953125 | R59: 0 | S59: 0 | T59: 0.0019762846 | U59: 0.0018726592 | V59: 0.0018975332 | W59: 0.0018621974 | X59: 0.0021276596 | Y59: 0.0021691974 | Z59: 0 | AA59: 0.0021052632 | AB59: 0.0023255814 | AC59: 0.0022026432 | AD59: 0.0022371365 | AE59: 0 | AF59: 0 | AG59: 0.0019493177 | AH59: 0.0021097046 | AI59: 0 | AJ59: 0
A60: Drought-All | B60: 8197 | C60: ACGT | D60: 0.24598626 | E60: 0.26430549 | F60: 0.27407407 | G60: 0.30508475 | H60: 0.27808989 | I60: 0.26970954 | J60: 0.32608696 | K60: 0.24590164 | L60: 0.24770642 | M60: 0.28955224 | N60: 0.22711864 | O60: 0.23412698 | P60: 0.26890756 | Q60: 0.26556017 | R60: 0.28467153 | S60: 0.26970954 | T60: 0.19871795 | U60: 0.234375 | V60: 0.26190476 | W60: 0.28268551 | X60: 0.22382671 | Y60: 0.30960854 | Z60: 0.27848101 | AA60: 0.2704918 | AB60: 0.25666667 | AC60: 0.25104603 | AD60: 0.25641026 | AE60: 0.2173913 | AF60: 0.26623377 | AG60: 0.26058632 | AH60: 0.28521127 | AI60: 0.24793388 | AJ60: 0.28514056
B61: 8197 | C61: AGCT | D61: 0.24598626 | E61: 0.23358478 | F61: 0.2165725 | G61: 0.24489796 | H61: 0.25961538 | I61: 0.24151697 | J61: 0.26597938 | K61: 0.22647528 | L61: 0.24463519 | M61: 0.23644252 | N61: 0.22419929 | O61: 0.27160494 | P61: 0.20794393 | Q61: 0.23014257 | R61: 0.24444444 | S61: 0.22151899 | T61: 0.23302752 | U61: 0.23092784 | V61: 0.20773931 | W61: 0.21673004 | X61: 0.22813688 | Y61: 0.22105263 | Z61: 0.26452906 | AA61: 0.24154589 | AB61: 0.22926829 | AC61: 0.21041667 | AD61: 0.24597701 | AE61: 0.21004566 | AF61: 0.23285199 | AG61: 0.19715447 | AH61: 0.25892857 | AI61: 0.20872865 | AJ61: 0.27608696
B62: 8197 | C62: TAGC | D62: 0.24598626 | E62: 0.22567636 | F62: 0.21354167 | G62: 0.18518519 | H62: 0.21052632 | I62: 0.32510288 | J62: 0.23474178 | K62: 0.23529412 | L62: 0.21333333 | M62: 0.28025478 | N62: 0.1761658 | O62: 0.21590909 | P62: 0.20359281 | Q62: 0.23737374 | R62: 0.26708075 | S62: 0.19760479 | T62: 0.18439716 | U62: 0.26143791 | V62: 0.24550898 | W62: 0.24731183 | X62: 0.26589595 | Y62: 0.3006993 | Z62: 0.2195122 | AA62: 0.20224719 | AB62: 0.18518519 | AC62: 0.23115578 | AD62: 0.26451613 | AE62: 0.24719101 | AF62: 0.21962617 | AG62: 0.17575758 | AH62: 0.2244898 | AI62: 0.16 | AJ62: 0.21025641
B63: 8197 | C63: CGTA | D63: 0.24598626 | E63: 0.25662393 | F63: 0.28825623 | G63: 0.25454545 | H63: 0.27522936 | I63: 0.26712329 | J63: 0.29545455 | K63: 0.23966942 | L63: 0.23809524 | M63: 0.24390244 | N63: 0.19285714 | O63: 0.27722772 | P63: 0.28776978 | Q63: 0.23571429 | R63: 0.23684211 | S63: 0.26865672 | T63: 0.312 | U63: 0.2260274 | V63: 0.21925134 | W63: 0.19512195 | X63: 0.19259259 | Y63: 0.27559055 | Z63: 0.28402367 | AA63: 0.25384615 | AB63: 0.2890625 | AC63: 0.28571429 | AD63: 0.20149254 | AE63: 0.2027027 | AF63: 0.25149701 | AG63: 0.2012987 | AH63: 0.33333333 | AI63: 0.34108527 | AJ63: 0.28099174
B64: 8197 | C64: GCTA | D64: 0.24598626 | E64: 0.24079881 | F64: 0.23592493 | G64: 0.25543478 | H64: 0.27433628 | I64: 0.31325301 | J64: 0.27467811 | K64: 0.21028037 | L64: 0.24712644 | M64: 0.28042328 | N64: 0.22857143 | O64: 0.20571429 | P64: 0.20394737 | Q64: 0.19512195 | R64: 0.23899371 | S64: 0.18248175 | T64: 0.26341463 | U64: 0.21176471 | V64: 0.17073171 | W64: 0.22268908 | X64: 0.23295455 | Y64: 0.23170732 | Z64: 0.28506787 | AA64: 0.24867725 | AB64: 0.19786096 | AC64: 0.23589744 | AD64: 0.22727273 | AE64: 0.25949367 | AF64: 0.19158879 | AG64: 0.30128205 | AH64: 0.27272727 | AI64: 0.27722772 | AJ64: 0.24293785
B65: 8197 | C65: ATGC | D65: 0.24598626 | E65: 0.22940244 | F65: 0.25925926 | G65: 0.171875 | H65: 0.25 | I65: 0.20700637 | J65: 0.23753666 | K65: 0.21754386 | L65: 0.24615385 | M65: 0.19677419 | N65: 0.2627451 | O65: 0.22764228 | P65: 0.26923077 | Q65: 0.29752066 | R65: 0.2920354 | S65: 0.14957265 | T65: 0.18153846 | U65: 0.21551724 | V65: 0.23420074 | W65: 0.20216606 | X65: 0.20300752 | Y65: 0.19444444 | Z65: 0.27067669 | AA65: 0.26171875 | AB65: 0.20074349 | AC65: 0.25291829 | AD65: 0.23920266 | AE65: 0.23828125 | AF65: 0.19191919 | AG65: 0.23921569 | AH65: 0.25663717 | AI65: 0.19655172 | AJ65: 0.24663677
B66: 8197 | C66: TGCA | D66: 0.24598626 | E66: 0.22990584 | F66: 0.26462766 | G66: 0.24271845 | H66: 0.25975976 | I66: 0.24459235 | J66: 0.24554455 | K66: 0.20934959 | L66: 0.2372449 | M66: 0.1745283 | N66: 0.22273782 | O66: 0.27325581 | P66: 0.21580547 | Q66: 0.22589532 | R66: 0.23970944 | S66: 0.26035503 | T66: 0.2253886 | U66: 0.18581907 | V66: 0.21428571 | W66: 0.23480663 | X66: 0.21891892 | Y66: 0.2293578 | Z66: 0.19847328 | AA66: 0.23275862 | AB66: 0.21138211 | AC66: 0.20232558 | AD66: 0.20948617 | AE66: 0.22222222 | AF66: 0.20045558 | AG66: 0.2453271 | AH66: 0.23399015 | AI66: 0.23429952 | AJ66: 0.27493261
B67: 8197 | C67: CTAG | D67: 0.24598626 | E67: 0.1880084 | F67: 0.24285714 | G67: 0.17368421 | H67: 0.15609756 | I67: 0.20560748 | J67: 0.24414716 | K67: 0.18248175 | L67: 0.17625899 | M67: 0.14356436 | N67: 0.18360656 | O67: 0.17482517 | P67: 0.23076923 | Q67: 0.20091324 | R67: 0.2208589 | S67: 0.24324324 | T67: 0.15037594 | U67: 0.11692308 | V67: 0.17553191 | W67: 0.22994652 | X67: 0.15238095 | Y67: 0.18421053 | Z67: 0.21674877 | AA67: 0.19565217 | AB67: 0.23076923 | AC67: 0.20276498 | AD67: 0.18848168 | AE67: 0.17961165 | AF67: 0.17596567 | AG67: 0.20218579 | AH67: 0.14339623 | AI67: 0.12992126 | AJ67: 0.17525773
B68: 8197 | C68: GATC | D68: 0.24598626 | E68: 0.22585936 | F68: 0.22424242 | G68: 0.28248588 | H68: 0.28994083 | I68: 0.22417582 | J68: 0.23736264 | K68: 0.2260274 | L68: 0.22707424 | M68: 0.22041763 | N68: 0.21267894 | O68: 0.1712963 | P68: 0.23866348 | Q68: 0.203125 | R68: 0.24574209 | S68: 0.20990566 | T68: 0.18774704 | U68: 0.20037453 | V68: 0.23339658 | W68: 0.17877095 | X68: 0.24468085 | Y68: 0.24511931 | Z68: 0.20982143 | AA68: 0.20421053 | AB68: 0.22790698 | AC68: 0.25110132 | AD68: 0.23266219 | AE68: 0.22958057 | AF68: 0.22932331 | AG68: 0.22222222 | AH68: 0.20253165 | AI68: 0.242 | AJ68: 0.25060241
A69: Drought-Up | B69: 3471 | C69: ACGT | D69: 0.10416229 | E69: 0.14063221 | F69: 0.1308642 | G69: 0.12542373 | H69: 0.13764045 | I69: 0.14522822 | J69: 0.17391304 | K69: 0.13934426 | L69: 0.14678899 | M69: 0.15820896 | N69: 0.13898305 | O69: 0.11904762 | P69: 0.14285714 | Q69: 0.14107884 | R69: 0.15693431 | S69: 0.17427386 | T69: 0.10576923 | U69: 0.09765625 | V69: 0.13605442 | W69: 0.16607774 | X69: 0.11552347 | Y69: 0.16014235 | Z69: 0.16455696 | AA69: 0.1557377 | AB69: 0.13666667 | AC69: 0.12970711 | AD69: 0.14102564 | AE69: 0.11857708 | AF69: 0.12662338 | AG69: 0.11726384 | AH69: 0.18309859 | AI69: 0.1322314 | AJ69: 0.14859438
B70: 3471 | C70: AGCT | D70: 0.10416229 | E70: 0.091505412 | F70: 0.080979284 | G70: 0.079591837 | H70: 0.1025641 | I70: 0.091816367 | J70: 0.096907216 | K70: 0.082934609 | L70: 0.087982833 | M70: 0.088937093 | N70: 0.096085409 | O70: 0.11851852 | P70: 0.060747664 | Q70: 0.075356415 | R70: 0.11919192 | S70: 0.099156118 | T70: 0.088073394 | U70: 0.084536082 | V70: 0.079429735 | W70: 0.077946768 | X70: 0.089353612 | Y70: 0.082105263 | Z70: 0.11422846 | AA70: 0.074879227 | AB70: 0.097560976 | AC70: 0.091666667 | AD70: 0.11264368 | AE70: 0.091324201 | AF70: 0.09566787 | AG70: 0.077235772 | AH70: 0.10491071 | AI70: 0.077798861 | AJ70: 0.12173913
B71: 3471 | C71: TAGC | D71: 0.10416229 | E71: 0.092253403 | F71: 0.075520833 | G71: 0.084656085 | H71: 0.10121457 | I71: 0.1399177 | J71: 0.098591549 | K71: 0.10784314 | L71: 0.11333333 | M71: 0.082802548 | N71: 0.07253886 | O71: 0.073863636 | P71: 0.089820359 | Q71: 0.085858586 | R71: 0.080745342 | S71: 0.083832335 | T71: 0.081560284 | U71: 0.078431373 | V71: 0.077844311 | W71: 0.091397849 | X71: 0.13872832 | Y71: 0.13286713 | Z71: 0.10243902 | AA71: 0.078651685 | AB71: 0.074074074 | AC71: 0.090452261 | AD71: 0.12903226 | AE71: 0.1011236 | AF71: 0.088785047 | AG71: 0.090909091 | AH71: 0.10884354 | AI71: 0.05 | AJ71: 0.076923077
B72: 3471 | C72: CGTA | D72: 0.10416229 | E72: 0.11645299 | F72: 0.12811388 | G72: 0.13333333 | H72: 0.12385321 | I72: 0.11643836 | J72: 0.11363636 | K72: 0.099173554 | L72: 0.087301587 | M72: 0.12804878 | N72: 0.071428571 | O72: 0.18811881 | P72: 0.16546763 | Q72: 0.092857143 | R72: 0.092105263 | S72: 0.14179104 | T72: 0.12 | U72: 0.11643836 | V72: 0.07486631 | W72: 0.091463415 | X72: 0.1037037 | Y72: 0.11811024 | Z72: 0.13017751 | AA72: 0.13076923 | AB72: 0.125 | AC72: 0.11428571 | AD72: 0.089552239 | AE72: 0.12837838 | AF72: 0.11377246 | AG72: 0.084415584 | AH72: 0.17829457 | AI72: 0.13953488 | AJ72: 0.090909091
B73: 3471 | C73: GCTA | D73: 0.10416229 | E73: 0.10249216 | F73: 0.09383378 | G73: 0.11956522 | H73: 0.11946903 | I73: 0.12449799 | J73: 0.094420601 | K73: 0.079439252 | L73: 0.08045977 | M73: 0.13227513 | N73: 0.11904762 | O73: 0.10285714 | P73: 0.059210526 | Q73: 0.07804878 | R73: 0.12578616 | S73: 0.080291971 | T73: 0.11219512 | U73: 0.1 | V73: 0.091463415 | W73: 0.1092437 | X73: 0.085227273 | Y73: 0.1097561 | Z73: 0.11312217 | AA73: 0.10582011 | AB73: 0.10160428 | AC73: 0.076923077 | AD73: 0.075757576 | AE73: 0.13924051 | AF73: 0.079439252 | AG73: 0.14102564 | AH73: 0.084848485 | AI73: 0.12376238 | AJ73: 0.11864407
B74: 3471 | C74: ATGC | D74: 0.10416229 | E74: 0.090538705 | F74: 0.11265432 | G74: 0.08984375 | H74: 0.10858586 | I74: 0.085987261 | J74: 0.11143695 | K74: 0.077192982 | L74: 0.092307692 | M74: 0.074193548 | N74: 0.098039216 | O74: 0.11788618 | P74: 0.08974359 | Q74: 0.099173554 | R74: 0.092920354 | S74: 0.081196581 | T74: 0.055384615 | U74: 0.099137931 | V74: 0.092936803 | W74: 0.090252708 | X74: 0.086466165 | Y74: 0.092592593 | Z74: 0.090225564 | AA74: 0.09375 | AB74: 0.07063197 | AC74: 0.10894942 | AD74: 0.093023256 | AE74: 0.0859375 | AF74: 0.070707071 | AG74: 0.066666667 | AH74: 0.092920354 | AI74: 0.075862069 | AJ74: 0.080717489
B75: 3471 | C75: TGCA | D75: 0.10416229 | E75: 0.089190207 | F75: 0.13164894 | G75: 0.10194175 | H75: 0.093093093 | I75: 0.078202995 | J75: 0.10693069 | K75: 0.071138211 | L75: 0.084183673 | M75: 0.058962264 | N75: 0.067285383 | O75: 0.10755814 | P75: 0.072948328 | Q75: 0.096418733 | R75: 0.099273608 | S75: 0.094674556 | T75: 0.080310881 | U75: 0.075794621 | V75: 0.088571429 | W75: 0.080110497 | X75: 0.089189189 | Y75: 0.084862385 | Z75: 0.078880407 | AA75: 0.10057471 | AB75: 0.089430894 | AC75: 0.090697674 | AD75: 0.088932806 | AE75: 0.070707071 | AF75: 0.06833713 | AG75: 0.10046729 | AH75: 0.086206897 | AI75: 0.09178744 | AJ75: 0.10781671
B76: 3471 | C76: CTAG | D76: 0.10416229 | E76: 0.081999475 | F76: 0.10793651 | G76: 0.11052632 | H76: 0.058536585 | I76: 0.07788162 | J76: 0.11371237 | K76: 0.11678832 | L76: 0.061151079 | M76: 0.054455446 | N76: 0.091803279 | O76: 0.06993007 | P76: 0.11242604 | Q76: 0.077625571 | R76: 0.073619632 | S76: 0.10810811 | T76: 0.063909774 | U76: 0.043076923 | V76: 0.058510638 | W76: 0.10160428 | X76: 0.085714286 | Y76: 0.078947368 | Z76: 0.098522167 | AA76: 0.086956522 | AB76: 0.1025641 | AC76: 0.064516129 | AD76: 0.083769634 | AE76: 0.077669903 | AF76: 0.064377682 | AG76: 0.087431694 | AH76: 0.083018868 | AI76: 0.051181102 | AJ76: 0.077319588
B77: 3471 | C77: GATC | D77: 0.10416229 | E77: 0.089181986 | F77: 0.076767677 | G77: 0.12617702 | H77: 0.1025641 | I77: 0.094505495 | J77: 0.1010989 | K77: 0.10045662 | L77: 0.087336245 | M77: 0.076566125 | N77: 0.08997955 | O77: 0.069444444 | P77: 0.08353222 | Q77: 0.083984375 | R77: 0.085158151 | S77: 0.068396226 | T77: 0.065217391 | U77: 0.078651685 | V77: 0.096774194 | W77: 0.081936685 | X77: 0.095744681 | Y77: 0.09978308 | Z77: 0.089285714 | AA77: 0.075789474 | AB77: 0.08372093 | AC77: 0.11894273 | AD77: 0.089485459 | AE77: 0.090507726 | AF77: 0.086466165 | AG77: 0.099415205 | AH77: 0.10126582 | AI77: 0.086 | AJ77: 0.072289157
A78: Drought-Down | B78: 4726 | C78: ACGT | D78: 0.14182397 | E78: 0.12367328 | F78: 0.14320988 | G78: 0.17966102 | H78: 0.14044944 | I78: 0.12448133 | J78: 0.15217391 | K78: 0.10655738 | L78: 0.10091743 | M78: 0.13134328 | N78: 0.088135593 | O78: 0.11507937 | P78: 0.12605042 | Q78: 0.12448133 | R78: 0.12773723 | S78: 0.095435685 | T78: 0.092948718 | U78: 0.13671875 | V78: 0.12585034 | W78: 0.11660777 | X78: 0.10830325 | Y78: 0.14946619 | Z78: 0.11392405 | AA78: 0.1147541 | AB78: 0.12 | AC78: 0.12133891 | AD78: 0.11538462 | AE78: 0.098814229 | AF78: 0.13961039 | AG78: 0.14332248 | AH78: 0.10211268 | AI78: 0.11570248 | AJ78: 0.13654618
B79: 4726 | C79: AGCT | D79: 0.14182397 | E79: 0.14207937 | F79: 0.13559322 | G79: 0.16530612 | H79: 0.15705128 | I79: 0.1497006 | J79: 0.16907216 | K79: 0.14354067 | L79: 0.15665236 | M79: 0.14750542 | N79: 0.12811388 | O79: 0.15308642 | P79: 0.14719626 | Q79: 0.15478615 | R79: 0.12525253 | S79: 0.12236287 | T79: 0.14495413 | U79: 0.14639175 | V79: 0.12830957 | W79: 0.13878327 | X79: 0.13878327 | Y79: 0.13894737 | Z79: 0.1503006 | AA79: 0.16666667 | AB79: 0.13170732 | AC79: 0.11875 | AD79: 0.13333333 | AE79: 0.11872146 | AF79: 0.13718412 | AG79: 0.1199187 | AH79: 0.15401786 | AI79: 0.13092979 | AJ79: 0.15434783
B80: 4726 | C80: TAGC | D80: 0.14182397 | E80: 0.13342295 | F80: 0.13802083 | G80: 0.1005291 | H80: 0.10931174 | I80: 0.18518519 | J80: 0.13615023 | K80: 0.12745098 | L80: 0.1 | M80: 0.19745223 | N80: 0.10362694 | O80: 0.14204545 | P80: 0.11377246 | Q80: 0.15151515 | R80: 0.1863354 | S80: 0.11377246 | T80: 0.10283688 | U80: 0.18300654 | V80: 0.16766467 | W80: 0.15591398 | X80: 0.12716763 | Y80: 0.16783217 | Z80: 0.11707317 | AA80: 0.12359551 | AB80: 0.11111111 | AC80: 0.14070352 | AD80: 0.13548387 | AE80: 0.14606742 | AF80: 0.13084112 | AG80: 0.084848485 | AH80: 0.11564626 | AI80: 0.11 | AJ80: 0.13333333
B81: 4726 | C81: CGTA | D81: 0.14182397 | E81: 0.14017094 | F81: 0.16014235 | G81: 0.12121212 | H81: 0.15137615 | I81: 0.15068493 | J81: 0.18181818 | K81: 0.14049587 | L81: 0.15079365 | M81: 0.11585366 | N81: 0.12142857 | O81: 0.089108911 | P81: 0.12230216 | Q81: 0.14285714 | R81: 0.14473684 | S81: 0.12686567 | T81: 0.192 | U81: 0.10958904 | V81: 0.14438503 | W81: 0.10365854 | X81: 0.088888889 | Y81: 0.15748031 | Z81: 0.15384615 | AA81: 0.12307692 | AB81: 0.1640625 | AC81: 0.17142857 | AD81: 0.1119403 | AE81: 0.074324324 | AF81: 0.13772455 | AG81: 0.11688312 | AH81: 0.15503876 | AI81: 0.20155039 | AJ81: 0.19008264
B82: 4726 | C82: GCTA | D82: 0.14182397 | E82: 0.13830665 | F82: 0.14209115 | G82: 0.13586957 | H82: 0.15486726 | I82: 0.18875502 | J82: 0.18025751 | K82: 0.13084112 | L82: 0.16666667 | M82: 0.14814815 | N82: 0.10952381 | O82: 0.10285714 | P82: 0.14473684 | Q82: 0.11707317 | R82: 0.11320755 | S82: 0.10218978 | T82: 0.15121951 | U82: 0.11176471 | V82: 0.079268293 | W82: 0.11344538 | X82: 0.14772727 | Y82: 0.12195122 | Z82: 0.1719457 | AA82: 0.14285714 | AB82: 0.096256684 | AC82: 0.15897436 | AD82: 0.15151515 | AE82: 0.12025316 | AF82: 0.11214953 | AG82: 0.16025641 | AH82: 0.18787879 | AI82: 0.15346535 | AJ82: 0.12429379
B83: 4726 | C83: ATGC | D83: 0.14182397 | E83: 0.13886374 | F83: 0.14660494 | G83: 0.08203125 | H83: 0.14141414 | I83: 0.12101911 | J83: 0.12609971 | K83: 0.14035088 | L83: 0.15384615 | M83: 0.12258065 | N83: 0.16470588 | O83: 0.1097561 | P83: 0.17948718 | Q83: 0.19834711 | R83: 0.19911504 | S83: 0.068376068 | T83: 0.12615385 | U83: 0.11637931 | V83: 0.14126394 | W83: 0.11191336 | X83: 0.11654135 | Y83: 0.10185185 | Z83: 0.18045113 | AA83: 0.16796875 | AB83: 0.13011152 | AC83: 0.14396887 | AD83: 0.1461794 | AE83: 0.15234375 | AF83: 0.12121212 | AG83: 0.17254902 | AH83: 0.16371681 | AI83: 0.12068966 | AJ83: 0.16591928
B84: 4726 | C84: TGCA | D84: 0.14182397 | E84: 0.14071563 | F84: 0.13297872 | G84: 0.1407767 | H84: 0.16666667 | I84: 0.16638935 | J84: 0.13861386 | K84: 0.13821138 | L84: 0.15306122 | M84: 0.11556604 | N84: 0.15545244 | O84: 0.16569767 | P84: 0.14285714 | Q84: 0.12947658 | R84: 0.14043584 | S84: 0.16568047 | T84: 0.14507772 | U84: 0.11002445 | V84: 0.12571429 | W84: 0.15469613 | X84: 0.12972973 | Y84: 0.14449541 | Z84: 0.11959288 | AA84: 0.13218391 | AB84: 0.12195122 | AC84: 0.11162791 | AD84: 0.12055336 | AE84: 0.15151515 | AF84: 0.13211845 | AG84: 0.14485981 | AH84: 0.14778325 | AI84: 0.14251208 | AJ84: 0.1671159
B85: 4726 | C85: CTAG | D85: 0.14182397 | E85: 0.10600892 | F85: 0.13492063 | G85: 0.063157895 | H85: 0.097560976 | I85: 0.12772586 | J85: 0.13043478 | K85: 0.065693431 | L85: 0.11510791 | M85: 0.089108911 | N85: 0.091803279 | O85: 0.1048951 | P85: 0.1183432 | Q85: 0.12328767 | R85: 0.14723926 | S85: 0.13513514 | T85: 0.086466165 | U85: 0.073846154 | V85: 0.11702128 | W85: 0.12834225 | X85: 0.066666667 | Y85: 0.10526316 | Z85: 0.1182266 | AA85: 0.10869565 | AB85: 0.12820513 | AC85: 0.13824885 | AD85: 0.10471204 | AE85: 0.10194175 | AF85: 0.11158798 | AG85: 0.1147541 | AH85: 0.060377358 | AI85: 0.078740157 | AJ85: 0.097938144
B86: 4726 | C86: GATC | D86: 0.14182397 | E86: 0.13667737 | F86: 0.14747475 | G86: 0.15630885 | H86: 0.18737673 | I86: 0.12967033 | J86: 0.13626374 | K86: 0.12557078 | L86: 0.13973799 | M86: 0.14385151 | N86: 0.12269939 | O86: 0.10185185 | P86: 0.15513126 | Q86: 0.11914062 | R86: 0.16058394 | S86: 0.14150943 | T86: 0.12252964 | U86: 0.12172285 | V86: 0.13662239 | W86: 0.096834264 | X86: 0.14893617 | Y86: 0.14533623 | Z86: 0.12053571 | AA86: 0.12842105 | AB86: 0.14418605 | AC86: 0.13215859 | AD86: 0.14317673 | AE86: 0.13907285 | AF86: 0.14285714 | AG86: 0.12280702 | AH86: 0.10126582 | AI86: 0.156 | AJ86: 0.17831325

Sheet 3D
B1: Supplementary Table 3 D. Likelihood of occurence of Arabidopsis genes containing control cis-elements for selected conditions
A5: Condition | B5: Total number of genes regulated by the condition | C5: Element | D5: Likelihood of Occurrence = X/Y | E5: Spacer wise distribution (Likelihood of occurrence = X/Y for a particular N)
E6: 0 | F6: 1 | G6: 2 | H6: 3 | I6: 4 | J6: 5 | K6: 6 | L6: 7 | M6: 8 | N6: 9 | O6: 10 | P6: 11 | Q6: 12 | R6: 13 | S6: 14 | T6: 15 | U6: 16 | V6: 17 | W6: 18 | X6: 19 | Y6: 20 | Z6: 21 | AA6: 22 | AB6: 23 | AC6: 24 | AD6: 25 | AE6: 26 | AF6: 27 | AG6: 28 | AH6: 29 | AI6: 30
A7: Salt-All | B7: 4614 | C7: ACGT | D7: ='3C'!E6/'3C'!D6 -> 1.2439628 | E7: ='3C'!F6/'3C'!D6 -> 1.0342832 | F7: ='3C'!G6/'3C'!D6 -> 1.077202 | G7: ='3C'!H6/'3C'!D6 -> 1.1563555 | H7: ='3C'!I6/'3C'!D6 -> 1.5283388 | I7: ='3C'!J6/'3C'!D6 -> 1.12519 | J7: ='3C'!K6/'3C'!D6 -> 1.3319539 | K7: ='3C'!L6/'3C'!D6 -> 1.292036 | L7: ='3C'!M6/'3C'!D6 -> 1.2935194 | M7: ='3C'!N6/'3C'!D6 -> 1.1996114 | N7: ='3C'!O6/'3C'!D6 -> 1.2036917 | O7: ='3C'!P6/'3C'!D6 -> 1.1834616 | P7: ='3C'!Q6/'3C'!D6 -> 1.4684039 | Q7: ='3C'!R6/'3C'!D6 -> 1.5024181 | R7: ='3C'!S6/'3C'!D6 -> 1.5583062 | S7: ='3C'!T6/'3C'!D6 -> 1.0185083 | T7: ='3C'!U6/'3C'!D6 -> 1.3541531 | U7: ='3C'!V6/'3C'!D6 -> 1.1299963 | V7: ='3C'!W6/'3C'!D6 -> 1.2249583 | W7: ='3C'!X6/'3C'!D6 -> 1.2514917 | X7: ='3C'!Y6/'3C'!D6 -> 1.3621849 | Y7: ='3C'!Z6/'3C'!D6 -> 1.3712943 | Z7: ='3C'!AA6/'3C'!D6 -> 1.3319539 | AA7: ='3C'!AB6/'3C'!D6 -> 0.89073183 | AB7: ='3C'!AC6/'3C'!D6 -> 1.2691644 | AC7: ='3C'!AD6/'3C'!D6 -> 1.1805437 | AD7: ='3C'!AE6/'3C'!D6 -> 1.22748 | AE7: ='3C'!AF6/'3C'!D6 -> 1.3131182 | AF7: ='3C'!AG6/'3C'!D6 -> 1.0821463 | AG7: ='3C'!AH6/'3C'!D6 -> 1.6275268 | AH7: ='3C'!AI6/'3C'!D6 -> 1.1340566 | AI7: ='3C'!AJ6/'3C'!D6 -> 1.1311801
B8: 4614 | C8: AGCT | D8: ='3C'!E7/'3C'!D7 -> 0.97921837 | E8: ='3C'!F7/'3C'!D7 -> 0.97927457 | F8: ='3C'!G7/'3C'!D7 -> 1.1791265 | G8: ='3C'!H7/'3C'!D7 -> 0.99536041 | H8: ='3C'!I7/'3C'!D7 -> 0.95142096 | I8: ='3C'!J7/'3C'!D7 -> 0.99769907 | J8: ='3C'!K7/'3C'!D7 -> 1.0942651 | K8: ='3C'!L7/'3C'!D7 -> 1.2088577 | L8: ='3C'!M7/'3C'!D7 -> 0.75198091 | M8: ='3C'!N7/'3C'!D7 -> 1.0666165 | N8: ='3C'!O7/'3C'!D7 -> 1.1947754 | O8: ='3C'!P7/'3C'!D7 -> 0.89433166 | P8: ='3C'!Q7/'3C'!D7 -> 0.92667097 | Q8: ='3C'!R7/'3C'!D7 -> 0.86082192 | R8: ='3C'!S7/'3C'!D7 -> 0.95990601 | S8: ='3C'!T7/'3C'!D7 -> 0.94086724 | T8: ='3C'!U7/'3C'!D7 -> 0.84878876 | U8: ='3C'!V7/'3C'!D7 -> 0.82370753 | V8: ='3C'!W7/'3C'!D7 -> 0.90620133 | W8: ='3C'!X7/'3C'!D7 -> 1.0023136 | X8: ='3C'!Y7/'3C'!D7 -> 0.80583989 | Y8: ='3C'!Z7/'3C'!D7 -> 0.98418076 | Z8: ='3C'!AA7/'3C'!D7 -> 1.081578 | AA8: ='3C'!AB7/'3C'!D7 -> 1.250665 | AB8: ='3C'!AC7/'3C'!D7 -> 0.8877226 | AC8: ='3C'!AD7/'3C'!D7 -> 0.79692689 | AD8: ='3C'!AE7/'3C'!D7 -> 1.0717802 | AE8: ='3C'!AF7/'3C'!D7 -> 0.9255824 | AF8: ='3C'!AG7/'3C'!D7 -> 0.91010833 | AG8: ='3C'!AH7/'3C'!D7 -> 1.0478566 | AH8: ='3C'!AI7/'3C'!D7 -> 0.97300313 | AI8: ='3C'!AJ7/'3C'!D7 -> 1.0833225
B9: 4614 | C9: TAGC | D9: ='3C'!E8/'3C'!D8 -> 0.99758146 | E9: ='3C'!F8/'3C'!D8 -> 0.95919179 | F9: ='3C'!G8/'3C'!D8 -> 0.84067354 | G9: ='3C'!H8/'3C'!D8 -> 1.0233816 | H9: ='3C'!I8/'3C'!D8 -> 1.3968767 | I9: ='3C'!J8/'3C'!D8 -> 0.71204296 | J9: ='3C'!K8/'3C'!D8 -> 1.2390944 | K9: ='3C'!L8/'3C'!D8 -> 1.1073963 | L9: ='3C'!M8/'3C'!D8 -> 0.73601528 | M9: ='3C'!N8/'3C'!D8 -> 1.0103526 | N9: ='3C'!O8/'3C'!D8 -> 0.77966392 | O9: ='3C'!P8/'3C'!D8 -> 0.90817455 | P9: ='3C'!Q8/'3C'!D8 -> 1.2401672 | Q9: ='3C'!R8/'3C'!D8 -> 0.98687764 | R9: ='3C'!S8/'3C'!D8 -> 0.77843533 | S9: ='3C'!T8/'3C'!D8 -> 0.94758705 | T9: ='3C'!U8/'3C'!D8 -> 1.2272935 | U9: ='3C'!V8/'3C'!D8 -> 0.99466736 | V9: ='3C'!W8/'3C'!D8 -> 1.0095478 | W9: ='3C'!X8/'3C'!D8 -> 1.2106494 | X9: ='3C'!Y8/'3C'!D8 -> 1.3636227 | Y9: ='3C'!Z8/'3C'!D8 -> 1.02167 | Z9: ='3C'!AA8/'3C'!D8 -> 0.73032977 | AA9: ='3C'!AB8/'3C'!D8 -> 1.0699481 | AB9: ='3C'!AC8/'3C'!D8 -> 0.9798897 | AC9: ='3C'!AD8/'3C'!D8 -> 0.8852958 | AD9: ='3C'!AE8/'3C'!D8 -> 1.0143469 | AE9: ='3C'!AF8/'3C'!D8 -> 0.97870257 | AF9: ='3C'!AG8/'3C'!D8 -> 1.0942651 | AG9: ='3C'!AH8/'3C'!D8 -> 0.78608435 | AH9: ='3C'!AI8/'3C'!D8 -> 1.155544 | AI9: ='3C'!AJ8/'3C'!D8 -> 0.70369666
B10: 4614 | C10: CGTA | D10: ='3C'!E9/'3C'!D9 -> 1.0617178 | E10: ='3C'!F9/'3C'!D9 -> 1.3107817 | F10: ='3C'!G9/'3C'!D9 -> 1.2693476 | G10: ='3C'!H9/'3C'!D9 -> 1.3251651 | H10: ='3C'!I9/'3C'!D9 -> 1.0882692 | I10: ='3C'!J9/'3C'!D9 -> 0.95201068 | J10: ='3C'!K9/'3C'!D9 -> 1.253431 | K10: ='3C'!L9/'3C'!D9 -> 1.4329663 | L10: ='3C'!M9/'3C'!D9 -> 0.88075 | M10: ='3C'!N9/'3C'!D9 -> 0.98014893 | N10: ='3C'!O9/'3C'!D9 -> 1.144103 | O10: ='3C'!P9/'3C'!D9 -> 0.98720036 | P10: ='3C'!Q9/'3C'!D9 -> 1.44443 | Q10: ='3C'!R9/'3C'!D9 -> 1.330396 | R10: ='3C'!S9/'3C'!D9 -> 0.91624291 | S10: ='3C'!T9/'3C'!D9 -> 1.3866528 | T10: ='3C'!U9/'3C'!D9 -> 0.74200171 | U10: ='3C'!V9/'3C'!D9 -> 0.77242246 | V10: ='3C'!W9/'3C'!D9 -> 1.1890125 | W10: ='3C'!X9/'3C'!D9 -> 0.80246111 | X10: ='3C'!Y9/'3C'!D9 -> 0.85300984 | Y10: ='3C'!Z9/'3C'!D9 -> 1.1538346 | Z10: ='3C'!AA9/'3C'!D9 -> 0.77777 | AA10: ='3C'!AB9/'3C'!D9 -> 0.78992265 | AB10: ='3C'!AC9/'3C'!D9 -> 1.0833225 | AC10: ='3C'!AD9/'3C'!D9 -> 0.6467597 | AD10: ='3C'!AE9/'3C'!D9 -> 0.9271679 | AE10: ='3C'!AF9/'3C'!D9 -> 0.95142096 | AF10: ='3C'!AG9/'3C'!D9 -> 0.8441474 | AG10: ='3C'!AH9/'3C'!D9 -> 1.4556271 | AH10: ='3C'!AI9/'3C'!D9 -> 1.0077419 | AI10: ='3C'!AJ9/'3C'!D9 -> 1.0146822
B11: 4614 | C11: GCTA | D11: ='3C'!E10/'3C'!D10 -> 0.91662541 | E11: ='3C'!F10/'3C'!D10 -> 0.85194262 | F11: ='3C'!G10/'3C'!D10 -> 1.3737785 | G11: ='3C'!H10/'3C'!D10 -> 0.83086681 | H11: ='3C'!I10/'3C'!D10 -> 0.95715241 | I11: ='3C'!J10/'3C'!D10 -> 0.8988942 | J11: ='3C'!K10/'3C'!D10 -> 0.74246402 | K11: ='3C'!L10/'3C'!D10 -> 0.53958592 | L11: ='3C'!M10/'3C'!D10 -> 0.87888598 | M11: ='3C'!N10/'3C'!D10 -> 1.0317357 | N11: ='3C'!O10/'3C'!D10 -> 1.2793523 | O11: ='3C'!P10/'3C'!D10 -> 0.99779704 | P11: ='3C'!Q10/'3C'!D10 -> 0.66937 | Q11: ='3C'!R10/'3C'!D10 -> 1.0901358 | R11: ='3C'!S10/'3C'!D10 -> 1.1597613 | S11: ='3C'!T10/'3C'!D10 -> 0.88075 | T11: ='3C'!U10/'3C'!D10 -> 0.89214794 | U11: ='3C'!V10/'3C'!D10 -> 0.8367125 | V11: ='3C'!W10/'3C'!D10 -> 0.81931954 | W11: ='3C'!X10/'3C'!D10 -> 0.98483863 | X11: ='3C'!Y10/'3C'!D10 -> 0.6605625 | Y11: ='3C'!Z10/'3C'!D10 -> 1.1437794 | Z11: ='3C'!AA10/'3C'!D10 -> 1.0699481 | AA11: ='3C'!AB10/'3C'!D10 -> 0.73380133 | AB11: ='3C'!AC10/'3C'!D10 -> 0.85184333 | AC11: ='3C'!AD10/'3C'!D10 -> 0.69303459 | AD11: ='3C'!AE10/'3C'!D10 -> 0.95990601 | AE11: ='3C'!AF10/'3C'!D10 -> 0.74246402 | AF11: ='3C'!AG10/'3C'!D10 -> 1.1111 | AG11: ='3C'!AH10/'3C'!D10 -> 0.91918272 | AH11: ='3C'!AI10/'3C'!D10 -> 0.89383044 | AI11: ='3C'!AJ10/'3C'!D10 -> 1.1832901
B12: 4614 | C12: ATGC | D12: ='3C'!E11/'3C'!D11 -> 0.92034188 | E12: ='3C'!F11/'3C'!D11 -> 0.89162345 | F12: ='3C'!G11/'3C'!D11 -> 0.76171113 | G12: ='3C'!H11/'3C'!D11 -> 0.91188762 | H12: ='3C'!I11/'3C'!D11 -> 0.75901576 | I12: ='3C'!J11/'3C'!D11 -> 1.1225042 | J12: ='3C'!K11/'3C'!D11 -> 0.83624894 | K12: ='3C'!L11/'3C'!D11 -> 0.9166575 | L12: ='3C'!M11/'3C'!D11 -> 0.722215 | M12: ='3C'!N11/'3C'!D11 -> 0.96295333 | N12: ='3C'!O11/'3C'!D11 -> 0.968825 | O12: ='3C'!P11/'3C'!D11 -> 1.1111 | P12: ='3C'!Q11/'3C'!D11 -> 1.0743694 | Q12: ='3C'!R11/'3C'!D11 -> 1.1823874 | R12: ='3C'!S11/'3C'!D11 -> 0.833325 | S12: ='3C'!T11/'3C'!D11 -> 0.66666 | T12: ='3C'!U11/'3C'!D11 -> 1.1518084 | U12: ='3C'!V11/'3C'!D11 -> 0.93968494 | V12: ='3C'!W11/'3C'!D11 -> 0.96469151 | W12: ='3C'!X11/'3C'!D11 -> 0.92313195 | X12: ='3C'!Y11/'3C'!D11 -> 0.8247517 | Y12: ='3C'!Z11/'3C'!D11 -> 0.84167913 | Z12: ='3C'!AA11/'3C'!D11 -> 0.81813418 | AA12: ='3C'!AB11/'3C'!D11 -> 0.88598866 | AB12: ='3C'!AC11/'3C'!D11 -> 1.0397648 | AC12: ='3C'!AD11/'3C'!D11 -> 0.86377873 | AD12: ='3C'!AE11/'3C'!D11 -> 0.93098027 | AE12: ='3C'!AF11/'3C'!D11 -> 1.0213141 | AF12: ='3C'!AG11/'3C'!D11 -> 0.90630902 | AG12: ='3C'!AH11/'3C'!D11 -> 1.0865181 | AH12: ='3C'!AI11/'3C'!D11 -> 0.94635069 | AI12: ='3C'!AJ11/'3C'!D11 -> 0.90681704
B13: 4614 | C13: TGCA | D13: ='3C'!E12/'3C'!D12 -> 0.89984452 | E13: ='3C'!F12/'3C'!D12 -> 0.78752167 | F13: ='3C'!G12/'3C'!D12 -> 0.87647451 | G13: ='3C'!H12/'3C'!D12 -> 0.97596621 | H13: ='3C'!I12/'3C'!D12 -> 0.90126664 | I13: ='3C'!J12/'3C'!D12 -> 0.95818623 | J13: ='3C'!K12/'3C'!D12 -> 1.0128625 | K13: ='3C'!L12/'3C'!D12 -> 0.71853023 | L13: ='3C'!M12/'3C'!D12 -> 0.73243502 | M13: ='3C'!N12/'3C'!D12 -> 0.85459315 | N13: ='3C'!O12/'3C'!D12 -> 1.1966935 | O13: ='3C'!P12/'3C'!D12 -> 0.90002477 | P13: ='3C'!Q12/'3C'!D12 -> 0.87541212 | Q13: ='3C'!R12/'3C'!D12 -> 0.92681344 | R13: ='3C'!S12/'3C'!D12 -> 1.0683654 | S13: ='3C'!T12/'3C'!D12 -> 1.0477731 | T13: ='3C'!U12/'3C'!D12 -> 0.77695501 | U13: ='3C'!V12/'3C'!D12 -> 0.88729271 | V13: ='3C'!W12/'3C'!D12 -> 0.79802762 | W13: ='3C'!X12/'3C'!D12 -> 0.93692756 | X13: ='3C'!Y12/'3C'!D12 -> 0.97730929 | Y13: ='3C'!Z12/'3C'!D12 -> 0.77183282 | Z13: ='3C'!AA12/'3C'!D12 -> 0.87163879 | AA13: ='3C'!AB12/'3C'!D12 -> 0.90032222 | AB13: ='3C'!AC12/'3C'!D12 -> 0.94055907 | AC13: ='3C'!AD12/'3C'!D12 -> 0.59946699 | AD13: ='3C'!AE12/'3C'!D12 -> 1.1307407 | AE13: ='3C'!AF12/'3C'!D12 -> 0.87192243 | AF13: ='3C'!AG12/'3C'!D12 -> 1.0630735 | AG13: ='3C'!AH12/'3C'!D12 -> 0.85385024 | AH13: ='3C'!AI12/'3C'!D12 -> 1.0641332 | AI13: ='3C'!AJ12/'3C'!D12 -> 0.73973504
B14: 4614 | C14: CTAG | D14: ='3C'!E13/'3C'!D13 -> 0.77224511 | E14: ='3C'!F13/'3C'!D13 -> 0.9514896 | F14: ='3C'!G13/'3C'!D13 -> 0.68420368 | G14: ='3C'!H13/'3C'!D13 -> 0.52845 | H14: ='3C'!I13/'3C'!D13 -> 1.0124509 | I14: ='3C'!J13/'3C'!D13 -> 0.91786521 | J14: ='3C'!K13/'3C'!D13 -> 0.76438814 | K14: ='3C'!L13/'3C'!D13 -> 0.85730557 | L14: ='3C'!M13/'3C'!D13 -> 0.6078047 | M14: ='3C'!N13/'3C'!D13 -> 0.82877131 | N14: ='3C'!O13/'3C'!D13 -> 0.60605454 | O14: ='3C'!P13/'3C'!D13 -> 1.1965692 | P14: ='3C'!Q13/'3C'!D13 -> 0.8574242 | Q14: ='3C'!R13/'3C'!D13 -> 0.8418457 | R14: ='3C'!S13/'3C'!D13 -> 1.2101981 | S14: ='3C'!T13/'3C'!D13 -> 0.5430188 | T14: ='3C'!U13/'3C'!D13 -> 0.466662 | U14: ='3C'!V13/'3C'!D13 -> 0.61465106 | V14: ='3C'!W13/'3C'!D13 -> 0.73380133 | W14: ='3C'!X13/'3C'!D13 -> 0.82538857 | X14: ='3C'!Y13/'3C'!D13 -> 0.68420368 | Y14: ='3C'!Z13/'3C'!D13 -> 0.88942734 | Z14: ='3C'!AA13/'3C'!D13 -> 0.70651467 | AA14: ='3C'!AB13/'3C'!D13 -> 1.0740633 | AB14: ='3C'!AC13/'3C'!D13 -> 0.76548133 | AC14: ='3C'!AD13/'3C'!D13 -> 0.83187068 | AD14: ='3C'!AE13/'3C'!D13 -> 0.59600267 | AE14: ='3C'!AF13/'3C'!D13 -> 0.65092339 | AF14: ='3C'!AG13/'3C'!D13 -> 0.74984071 | AG14: ='3C'!AH13/'3C'!D13 -> 0.49056113 | AH14: ='3C'!AI13/'3C'!D13 -> 0.68240787 | AI14: ='3C'!AJ13/'3C'!D13 -> 0.93068943
B15: 4614 | C15: GATC | D15: ='3C'!E14/'3C'!D14 -> 0.90912323 | E15: ='3C'!F14/'3C'!D14 -> 0.86082192 | F15: ='3C'!G14/'3C'!D14 -> 1.1152849 | G15: ='3C'!H14/'3C'!D14 -> 1.0541205 | H15: ='3C'!I14/'3C'!D14 -> 0.90475285 | I15: ='3C'!J14/'3C'!D14 -> 0.96824428 | J15: ='3C'!K14/'3C'!D14 -> 0.95635776 | K15: ='3C'!L14/'3C'!D14 -> 0.78844432 | L15: ='3C'!M14/'3C'!D14 -> 0.87134988 | M15: ='3C'!N14/'3C'!D14 -> 1.0190764 | N15: ='3C'!O14/'3C'!D14 -> 0.91948669 | O15: ='3C'!P14/'3C'!D14 -> 0.99972482 | P15: ='3C'!Q14/'3C'!D14 -> 0.91687451 | Q15: ='3C'!R14/'3C'!D14 -> 0.9840399 | R15: ='3C'!S14/'3C'!D14 -> 0.88573537 | S15: ='3C'!T14/'3C'!D14 -> 0.92774654 | T15: ='3C'!U14/'3C'!D14 -> 0.8520514 | U15: ='3C'!V14/'3C'!D14 -> 0.8085519 | V15: ='3C'!W14/'3C'!D14 -> 0.61865717 | W15: ='3C'!X14/'3C'!D14 -> 0.7836801 | X15: ='3C'!Y14/'3C'!D14 -> 1.0339737 | Y15: ='3C'!Z14/'3C'!D14 -> 0.78992265 | Z15: ='3C'!AA14/'3C'!D14 -> 0.79063537 | AA15: ='3C'!AB14/'3C'!D14 -> 1.0917203 | AB15: ='3C'!AC14/'3C'!D14 -> 0.76357533 | AC15: ='3C'!AD14/'3C'!D14 -> 0.85631756 | AD15: ='3C'!AE14/'3C'!D14 -> 0.98846203 | AE15: ='3C'!AF14/'3C'!D14 -> 1.0181602 | AF15: ='3C'!AG14/'3C'!D14 -> 1.0277133 | AG15: ='3C'!AH14/'3C'!D14 -> 0.9141962 | AH15: ='3C'!AI14/'3C'!D14 -> 0.8088808 | AI15: ='3C'!AJ14/'3C'!D14 -> 0.88754132
A16: Salt-Up | B16: 2482 | C16: ACGT | D16: ='3C'!E15/'3C'!D15 -> 1.6046605 | E16: ='3C'!F15/'3C'!D15 -> 1.16026 | F16: ='3C'!G15/'3C'!D15 -> 1.4563652 | G16: ='3C'!H15/'3C'!D15 -> 1.5839505 | H16: ='3C'!I15/'3C'!D15 -> 1.7826876 | I16: ='3C'!J15/'3C'!D15 -> 1.5079777 | J16: ='3C'!K15/'3C'!D15 -> 1.7057453 | K16: ='3C'!L15/'3C'!D15 -> 1.7244232 | L16: ='3C'!M15/'3C'!D15 -> 1.6431657 | M16: ='3C'!N15/'3C'!D15 -> 1.6384108 | N16: ='3C'!O15/'3C'!D15 -> 1.2786539 | O16: ='3C'!P15/'3C'!D15 -> 1.5231025 | P16: ='3C'!Q15/'3C'!D15 -> 1.7826876 | Q16: ='3C'!R15/'3C'!D15 -> 1.910981 | R16: ='3C'!S15/'3C'!D15 -> 2.1169416 | S16: ='3C'!T15/'3C'!D15 -> 1.5491384 | T16: ='3C'!U15/'3C'!D15 -> 1.3111197 | U16: ='3C'!V15/'3C'!D15 -> 1.6439836 | V16: ='3C'!W15/'3C'!D15 -> 1.5181192 | W16: ='3C'!X15/'3C'!D15 -> 1.4540649 | X16: ='3C'!Y15/'3C'!D15 -> 1.9589342 | Y16: ='3C'!Z15/'3C'!D15 -> 1.6569898 | Z16: ='3C'!AA15/'3C'!D15 -> 1.4856491 | AA16: ='3C'!AB15/'3C'!D15 -> 1.1188222 | AB16: ='3C'!AC15/'3C'!D15 -> 1.5167297 | AC16: ='3C'!AD15/'3C'!D15 -> 1.8073281 | AD16: ='3C'!AE15/'3C'!D15 -> 1.5919999 | AE16: ='3C'!AF15/'3C'!D15 -> 1.8743904 | AF16: ='3C'!AG15/'3C'!D15 -> 1.5306362 | AG16: ='3C'!AH15/'3C'!D15 -> 2.3164347 | AH16: ='3C'!AI15/'3C'!D15 -> 1.553406 | AI16: ='3C'!AJ15/'3C'!D15 -> 1.2401403
B17: 2482 | C17: AGCT | D17: ='3C'!E16/'3C'!D16 -> 0.92558776 | E17: ='3C'!F16/'3C'!D16 -> 0.93551234 | F17: ='3C'!G16/'3C'!D16 -> 1.0137899 | G17: ='3C'!H16/'3C'!D16 -> 0.9466957 | H17: ='3C'!I16/'3C'!D16 -> 0.88433849 | I17: ='3C'!J16/'3C'!D16 -> 1.0242413 | J17: ='3C'!K16/'3C'!D16 -> 1.0064046 | K17: ='3C'!L16/'3C'!D16 -> 1.1524349 | L17: ='3C'!M16/'3C'!D16 -> 0.6989605 | M17: ='3C'!N16/'3C'!D16 -> 0.81224102 | N17: ='3C'!O16/'3C'!D16 -> 1.0608092 | O17: ='3C'!P16/'3C'!D16 -> 0.81559001 | P17: ='3C'!Q16/'3C'!D16 -> 1.0390691 | Q17: ='3C'!R16/'3C'!D16 -> 0.97642664 | R17: ='3C'!S16/'3C'!D16 -> 0.76476453 | S17: ='3C'!T16/'3C'!D16 -> 0.73903851 | T17: ='3C'!U16/'3C'!D16 -> 0.74741936 | U17: ='3C'!V16/'3C'!D16 -> 0.65625415 | V17: ='3C'!W16/'3C'!D16 -> 1.0465029 | W17: ='3C'!X16/'3C'!D16 -> 1.0209784 | X17: ='3C'!Y16/'3C'!D16 -> 0.87621443 | Y17: ='3C'!Z16/'3C'!D16 -> 1.0224107 | Z17: ='3C'!AA16/'3C'!D16 -> 0.94045923 | AA17: ='3C'!AB16/'3C'!D16 -> 1.2116026 | AB17: ='3C'!AC16/'3C'!D16 -> 0.81114609 | AC17: ='3C'!AD16/'3C'!D16 -> 0.80246557 | AD17: ='3C'!AE16/'3C'!D16 -> 1.2261065 | AE17: ='3C'!AF16/'3C'!D16 -> 0.79973571 | AF17: ='3C'!AG16/'3C'!D16 -> 0.81865038 | AG17: ='3C'!AH16/'3C'!D16 -> 0.89905354 | AH17: ='3C'!AI16/'3C'!D16 -> 0.96808903 | AI17: ='3C'!AJ16/'3C'!D16 -> 1.05072
B18: 2482 | C18: TAGC | D18: ='3C'!E17/'3C'!D17 -> 0.90242757 | E18: ='3C'!F17/'3C'!D17 -> 0.94400622 | F18: ='3C'!G17/'3C'!D17 -> 0.71036329 | G18: ='3C'!H17/'3C'!D17 -> 0.76098027 | H18: ='3C'!I17/'3C'!D17 -> 1.3260115 | I18: ='3C'!J17/'3C'!D17 -> 0.69335459 | J18: ='3C'!K17/'3C'!D17 -> 0.92138298 | K18: ='3C'!L17/'3C'!D17 -> 1.2530808 | L18: ='3C'!M17/'3C'!D17 -> 0.76963564 | M18: ='3C'!N17/'3C'!D17 -> 0.76520481 | N18: ='3C'!O17/'3C'!D17 -> 0.83911664 | O18: ='3C'!P17/'3C'!D17 -> 0.72354968 | P18: ='3C'!Q17/'3C'!D17 -> 1.0171111 | Q18: ='3C'!R17/'3C'!D17 -> 0.66712379 | R18: ='3C'!S17/'3C'!D17 -> 0.72354968 | S18: ='3C'!T17/'3C'!D17 -> 0.80936073 | T18: ='3C'!U17/'3C'!D17 -> 0.61425532 | U18: ='3C'!V17/'3C'!D17 -> 0.72354968 | V18: ='3C'!W17/'3C'!D17 -> 0.938367 | W18: ='3C'!X17/'3C'!D17 -> 1.2416986 | X18: ='3C'!Y17/'3C'!D17 -> 1.5021948 | Y18: ='3C'!Z17/'3C'!D17 -> 1.2443486 | Z18: ='3C'!AA17/'3C'!D17 -> 0.67883593 | AA18: ='3C'!AB17/'3C'!D17 -> 1.16026 | AB18: ='3C'!AC17/'3C'!D17 -> 0.87706664 | AC18: ='3C'!AD17/'3C'!D17 -> 0.95280341 | AD18: ='3C'!AE17/'3C'!D17 -> 0.67883593 | AE18: ='3C'!AF17/'3C'!D17 -> 1.0665408 | AF18: ='3C'!AG17/'3C'!D17 -> 0.73231998 | AG18: ='3C'!AH17/'3C'!D17 -> 0.82199181 | AH18: ='3C'!AI17/'3C'!D17 -> 1.00694 | AI18: ='3C'!AJ17/'3C'!D17 -> 0.75735656
B19: 2482 | C19: CGTA | D19: ='3C'!E18/'3C'!D18 -> 1.2048854 | E19: ='3C'!F18/'3C'!D18 -> 1.3378087 | F19: ='3C'!G18/'3C'!D18 -> 1.9528533 | G19: ='3C'!H18/'3C'!D18 -> 1.6012501 | H19: ='3C'!I18/'3C'!D18 -> 1.1034959 | I19: ='3C'!J18/'3C'!D18 -> 1.1595066 | J19: ='3C'!K18/'3C'!D18 -> 1.7753212 | K19: ='3C'!L18/'3C'!D18 -> 1.4917629 | L19: ='3C'!M18/'3C'!D18 -> 0.81865038 | M19: ='3C'!N18/'3C'!D18 -> 1.2466876 | N19: ='3C'!O18/'3C'!D18 -> 1.1963643 | O19: ='3C'!P18/'3C'!D18 -> 1.1590676 | P19: ='3C'!Q18/'3C'!D18 -> 1.7261828 | Q19: ='3C'!R18/'3C'!D18 -> 1.324921 | R19: ='3C'!S18/'3C'!D18 -> 1.1021233 | S19: ='3C'!T18/'3C'!D18 -> 1.7185109 | T19: ='3C'!U18/'3C'!D18 -> 1.1954538 | U19: ='3C'!V18/'3C'!D18 -> 1.0051451 | V19: ='3C'!W18/'3C'!D18 -> 1.0642455 | W19: ='3C'!X18/'3C'!D18 -> 0.89505775 | X19: ='3C'!Y18/'3C'!D18 -> 0.95143934 | Y19: ='3C'!Z18/'3C'!D18 -> 1.4299739 | Z19: ='3C'!AA18/'3C'!D18 -> 0.51637947 | AA19: ='3C'!AB18/'3C'!D18 -> 1.0488958 | AB19: ='3C'!AC18/'3C'!D18 -> 0.95899045 | AC19: ='3C'!AD18/'3C'!D18 -> 0.50096516 | AD19: ='3C'!AE18/'3C'!D18 -> 0.90715312 | AE19: ='3C'!AF18/'3C'!D18 -> 1.2863105 | AF19: ='3C'!AG18/'3C'!D18 -> 0.8718095 | AG19: ='3C'!AH18/'3C'!D18 -> 1.4570708 | AH19: ='3C'!AI18/'3C'!D18 -> 1.0407648 | AI19: ='3C'!AJ18/'3C'!D18 -> 1.2205333
B20: 2482 | C20: GCTA | D20: ='3C'!E19/'3C'!D19 -> 0.91957988 | E20: ='3C'!F19/'3C'!D19 -> 0.68389131 | F20: ='3C'!G19/'3C'!D19 -> 1.6052666 | G20: ='3C'!H19/'3C'!D19 -> 0.9505038 | H20: ='3C'!I19/'3C'!D19 -> 0.70094884 | I20: ='3C'!J19/'3C'!D19 -> 0.69146092 | J20: ='3C'!K19/'3C'!D19 -> 0.75285231 | K20: ='3C'!L19/'3C'!D19 -> 0.4629609 | L20: ='3C'!M19/'3C'!D19 -> 0.99450861 | M20: ='3C'!N19/'3C'!D19 -> 1.0229231 | N20: ='3C'!O19/'3C'!D19 -> 1.6111039 | O20: ='3C'!P19/'3C'!D19 -> 0.97160874 | P20: ='3C'!Q19/'3C'!D19 -> 0.72041233 | Q20: ='3C'!R19/'3C'!D19 -> 1.0977123 | R20: ='3C'!S19/'3C'!D19 -> 0.97999024 | S20: ='3C'!T19/'3C'!D19 -> 0.98238046 | T20: ='3C'!U19/'3C'!D19 -> 1.0266839 | U20: ='3C'!V19/'3C'!D19 -> 0.98238046 | V20: ='3C'!W19/'3C'!D19 -> 0.67693443 | W20: ='3C'!X19/'3C'!D19 -> 1.0679666 | X20: ='3C'!Y19/'3C'!D19 -> 0.6549203 | Y20: ='3C'!Z19/'3C'!D19 -> 1.275761 | Z20: ='3C'!AA19/'3C'!D19 -> 1.1365813 | AA20: ='3C'!AB19/'3C'!D19 -> 0.78975684 | AB20: ='3C'!AC19/'3C'!D19 -> 0.96390835 | AC20: ='3C'!AD19/'3C'!D19 -> 0.74588146 | AD20: ='3C'!AE19/'3C'!D19 -> 1.1046599 | AE20: ='3C'!AF19/'3C'!D19 -> 0.50190154 | AF20: ='3C'!AG19/'3C'!D19 -> 1.0327589 | AG20: ='3C'!AH19/'3C'!D19 -> 0.73231998 | AH20: ='3C'!AI19/'3C'!D19 -> 0.99697027 | AI20: ='3C'!AJ19/'3C'!D19 -> 1.1377853
B21: 2482 | C21: ATGC | D21: ='3C'!E20/'3C'!D20 -> 0.83721733 | E21: ='3C'!F20/'3C'!D20 -> 0.87019503 | F21: ='3C'!G20/'3C'!D20 -> 0.78667185 | G21: ='3C'!H20/'3C'!D20 -> 0.77978516 | H21: ='3C'!I20/'3C'!D20 -> 0.68412057 | I21: ='3C'!J20/'3C'!D20 -> 0.944929 | J21: ='3C'!K20/'3C'!D20 -> 0.75373284 | K21: ='3C'!L20/'3C'!D20 -> 0.72293126 | L21: ='3C'!M20/'3C'!D20 -> 0.73625718 | M21: ='3C'!N20/'3C'!D20 -> 0.73710638 | N21: ='3C'!O20/'3C'!D20 -> 1.1461105 | O21: ='3C'!P20/'3C'!D20 -> 0.74588146 | P21: ='3C'!Q20/'3C'!D20 -> 1.2205333 | Q21: ='3C'!R20/'3C'!D20 -> 0.9505038 | R21: ='3C'!S20/'3C'!D20 -> 0.63113046 | S21: ='3C'!T20/'3C'!D20 -> 0.49572429 | T21: ='3C'!U20/'3C'!D20 -> 1.1574023 | U21: ='3C'!V20/'3C'!D20 -> 0.94829538 | V21: ='3C'!W20/'3C'!D20 -> 0.7755013 | W21: ='3C'!X20/'3C'!D20 -> 0.90851726 | X21: ='3C'!Y20/'3C'!D20 -> 0.74588146 | Y21: ='3C'!Z20/'3C'!D20 -> 0.8075709 | Z21: ='3C'!AA20/'3C'!D20 -> 0.68178227 | AA21: ='3C'!AB20/'3C'!D20 -> 0.64883368 | AB21: ='3C'!AC20/'3C'!D20 -> 1.2015367 | AC21: ='3C'!AD20/'3C'!D20 -> 0.89208414 | AD21: ='3C'!AE20/'3C'!D20 -> 1.0488958 | AE21: ='3C'!AF20/'3C'!D20 -> 1.0849185 | AF21: ='3C'!AG20/'3C'!D20 -> 0.57915501 | AG21: ='3C'!AH20/'3C'!D20 -> 0.59406488 | AH21: ='3C'!AI20/'3C'!D20 -> 0.92592181 | AI21: ='3C'!AJ20/'3C'!D20 -> 0.84287949
B22: 2482 | C22: TGCA | D22: ='3C'!E21/'3C'!D21 -> 0.83033041 | E22: ='3C'!F21/'3C'!D21 -> 0.83911664 | F22: ='3C'!G21/'3C'!D21 -> 0.94502457 | G22: ='3C'!H21/'3C'!D21 -> 0.90715312 | H22: ='3C'!I21/'3C'!D21 -> 0.64783714 | I22: ='3C'!J21/'3C'!D21 -> 0.93050558 | J22: ='3C'!K21/'3C'!D21 -> 1.0369571 | K22: ='3C'!L21/'3C'!D21 -> 0.61649386 | L22: ='3C'!M21/'3C'!D21 -> 0.56996602 | M22: ='3C'!N21/'3C'!D21 -> 0.74761204 | N22: ='3C'!O21/'3C'!D21 -> 1.3660038 | O22: ='3C'!P21/'3C'!D21 -> 0.81616208 | P22: ='3C'!Q21/'3C'!D21 -> 0.92464644 | Q22: ='3C'!R21/'3C'!D21 -> 0.97524452 | R22: ='3C'!S21/'3C'!D21 -> 0.91359445 | S22: ='3C'!T21/'3C'!D21 -> 0.97389703 | T22: ='3C'!U21/'3C'!D21 -> 0.68934766 | U22: ='3C'!V21/'3C'!D21 -> 0.99735006 | V22: ='3C'!W21/'3C'!D21 -> 0.48214437 | W22: ='3C'!X21/'3C'!D21 -> 0.61686412 | X22: ='3C'!Y21/'3C'!D21 -> 0.83141832 | Y22: ='3C'!Z21/'3C'!D21 -> 0.64908768 | Z22: ='3C'!AA21/'3C'!D21 -> 0.50154098 | AA22: ='3C'!AB21/'3C'!D21 -> 0.72768923 | AB22: ='3C'!AC21/'3C'!D21 -> 1.124026 | AC22: ='3C'!AD21/'3C'!D21 -> 0.66333331 | AD22: ='3C'!AE21/'3C'!D21 -> 1.0510148 | AE22: ='3C'!AF21/'3C'!D21 -> 0.67282245 | AF22: ='3C'!AG21/'3C'!D21 -> 0.84695885 | AG22: ='3C'!AH21/'3C'!D21 -> 1.0251277 | AH22: ='3C'!AI21/'3C'!D21 -> 1.0053185 | AI22: ='3C'!AJ21/'3C'!D21 -> 0.65138974
B23: 2482 | C23: CTAG | D23: ='3C'!E22/'3C'!D22 -> 0.73629127 | E23: ='3C'!F22/'3C'!D22 -> 0.83112505 | F23: ='3C'!G22/'3C'!D22 -> 0.70662454 | G23: ='3C'!H22/'3C'!D22 -> 0.36020617 | H23: ='3C'!I22/'3C'!D22 -> 1.0038031 | I23: ='3C'!J22/'3C'!D22 -> 1.0327589 | J23: ='3C'!K22/'3C'!D22 -> 0.73499268 | K23: ='3C'!L22/'3C'!D22 -> 0.82100621 | L23: ='3C'!M22/'3C'!D22 -> 0.53171747 | M23: ='3C'!N22/'3C'!D22 -> 0.7923462 | N23: ='3C'!O22/'3C'!D22 -> 0.42249229 | O23: ='3C'!P22/'3C'!D22 -> 1.5094169 | P23: ='3C'!Q22/'3C'!D22 -> 0.85827455 | Q23: ='3C'!R22/'3C'!D22 -> 0.90604005 | R23: ='3C'!S22/'3C'!D22 -> 1.0160115 | S23: ='3C'!T22/'3C'!D22 -> 0.40378545 | T23: ='3C'!U22/'3C'!D22 -> 0.45441393 | U23: ='3C'!V22/'3C'!D22 -> 0.49989927 | V23: ='3C'!W22/'3C'!D22 -> 0.86155291 | W23: ='3C'!X22/'3C'!D22 -> 0.95899045 | X23: ='3C'!Y22/'3C'!D22 -> 0.63596208 | Y23: ='3C'!Z22/'3C'!D22 -> 1.1243336 | Z23: ='3C'!AA22/'3C'!D22 -> 0.51076665 | AA23: ='3C'!AB22/'3C'!D22 -> 0.96390835 | AB23: ='3C'!AC22/'3C'!D22 -> 0.68057386 | AC23: ='3C'!AD22/'3C'!D22 -> 0.70292493 | AD23: ='3C'!AE22/'3C'!D22 -> 0.58656697 | AE23: ='3C'!AF22/'3C'!D22 -> 0.74908267 | AF23: ='3C'!AG22/'3C'!D22 -> 0.6602885 | AG23: ='3C'!AH22/'3C'!D22 -> 0.50663646 | AH23: ='3C'!AI22/'3C'!D22 -> 0.52857741 | AI23: ='3C'!AJ22/'3C'!D22 -> 0.96887694
B24: 2482 | C24: GATC | D24: ='3C'!E23/'3C'!D23 -> 0.85144563 | E24: ='3C'!F23/'3C'!D23 -> 0.73231998 | F24: ='3C'!G23/'3C'!D23 -> 1.1883535 | G24: ='3C'!H23/'3C'!D23 -> 1.1386829 | H24: ='3C'!I23/'3C'!D23 -> 0.94423675 | I24: ='3C'!J23/'3C'!D23 -> 0.82620715 | J24: ='3C'!K23/'3C'!D23 -> 0.88892722 | K24: ='3C'!L23/'3C'!D23 -> 0.67422472 | L24: ='3C'!M23/'3C'!D23 -> 0.68531104 | M24: ='3C'!N23/'3C'!D23 -> 0.90604005 | N24: ='3C'!O23/'3C'!D23 -> 0.77695985 | O24: ='3C'!P23/'3C'!D23 -> 0.801066 | P24: ='3C'!Q23/'3C'!D23 -> 0.91778382 | Q24: ='3C'!R23/'3C'!D23 -> 0.88199121 | R24: ='3C'!S23/'3C'!D23 -> 0.88661381 | S24: ='3C'!T23/'3C'!D23 -> 0.74293331 | T24: ='3C'!U23/'3C'!D23 -> 0.72912008 | U24: ='3C'!V23/'3C'!D23 -> 0.86618492 | V24: ='3C'!W23/'3C'!D23 -> 0.62504033 | W24: ='3C'!X23/'3C'!D23 -> 0.79983884 | X24: ='3C'!Y23/'3C'!D23 -> 1.0775641 | Y24: ='3C'!Z23/'3C'!D23 -> 0.71924283 | Z24: ='3C'!AA23/'3C'!D23 -> 0.7631545 | AA24: ='3C'!AB23/'3C'!D23 -> 1.0303572 | AB24: ='3C'!AC23/'3C'!D23 -> 0.76888221 | AC24: ='3C'!AD23/'3C'!D23 -> 0.84099386 | AD24: ='3C'!AE23/'3C'!D23 -> 0.85949254 | AE24: ='3C'!AF23/'3C'!D23 -> 0.78233431 | AF24: ='3C'!AG23/'3C'!D23 -> 0.96833733 | AG24: ='3C'!AH23/'3C'!D23 -> 0.93471221 | AH24: ='3C'!AI23/'3C'!D23 -> 0.85925544 | AI24: ='3C'!AJ23/'3C'!D23 -> 0.74408415
A25: Salt-Down | B25: 2191 | C25: ACGT | D25: ='3C'!E24/'3C'!D24 -> 0.83519862 | E25: ='3C'!F24/'3C'!D24 -> 0.93882944 | F25: ='3C'!G24/'3C'!D24 -> 0.67022875 | G25: ='3C'!H24/'3C'!D24 -> 0.64083021 | H25: ='3C'!I24/'3C'!D24 -> 1.1990527 | I25: ='3C'!J24/'3C'!D24 -> 0.71636768 | J25: ='3C'!K24/'3C'!D24 -> 0.87264966 | K25: ='3C'!L24/'3C'!D24 -> 0.76742847 | L25: ='3C'!M24/'3C'!D24 -> 0.90800221 | M25: ='3C'!N24/'3C'!D24 -> 0.77334086 | N25: ='3C'!O24/'3C'!D24 -> 1.1467131 | O25: ='3C'!P24/'3C'!D24 -> 0.7668422 | P25: ='3C'!Q24/'3C'!D24 -> 1.0728366 | Q25: ='3C'!R24/'3C'!D24 -> 0.99913382 | R25: ='3C'!S24/'3C'!D24 -> 0.88351252 | S25: ='3C'!T24/'3C'!D24 -> 0.48746913 | T25: ='3C'!U24/'3C'!D24 -> 1.4852575 | U25: ='3C'!V24/'3C'!D24 -> 0.51731418 | V25: ='3C'!W24/'3C'!D24 -> 0.91361706 | W25: ='3C'!X24/'3C'!D24 -> 0.98831287 | X25: ='3C'!Y24/'3C'!D24 -> 0.70362093 | Y25: ='3C'!Z24/'3C'!D24 -> 1.058857 | Z25: ='3C'!AA24/'3C'!D24 -> 1.1843103 | AA25: ='3C'!AB24/'3C'!D24 -> 0.60836148 | AB25: ='3C'!AC24/'3C'!D24 -> 0.95454207 | AC25: ='3C'!AD24/'3C'!D24 -> 0.48746913 | AD25: ='3C'!AE24/'3C'!D24 -> 0.84160679 | AE25: ='3C'!AF24/'3C'!D24 -> 0.69131986 | AF25: ='3C'!AG24/'3C'!D24 -> 0.54494921 | AG25: ='3C'!AH24/'3C'!D24 -> 0.80329421 | AH25: ='3C'!AI24/'3C'!D24 -> 0.6284726 | AI25: ='3C'!AJ24/'3C'!D24 -> 0.97728752
B26: 2191 | C26: AGCT | D26: ='3C'!E25/'3C'!D25 -> 1.0385443 | E26: ='3C'!F25/'3C'!D25 -> 1.0024789 | F26: ='3C'!G25/'3C'!D25 -> 1.3657094 | G26: ='3C'!H25/'3C'!D25 -> 1.0480586 | H26: ='3C'!I25/'3C'!D25 -> 1.0017929 | I26: ='3C'!J25/'3C'!D25 -> 0.97212401 | J26: ='3C'!K25/'3C'!D25 -> 1.188585 | K26: ='3C'!L25/'3C'!D25 -> 1.3054967 | L26: ='3C'!M25/'3C'!D25 -> 0.82478509 | M26: ='3C'!N25/'3C'!D25 -> 1.3260548 | N26: ='3C'!O25/'3C'!D25 -> 1.3143612 | O26: ='3C'!P25/'3C'!D25 -> 0.95944859 | P26: ='3C'!Q25/'3C'!D25 -> 0.83634216 | Q26: ='3C'!R25/'3C'!D25 -> 0.73740785 | R26: ='3C'!S25/'3C'!D25 -> 1.1872033 | S26: ='3C'!T25/'3C'!D25 -> 1.1720726 | T26: ='3C'!U25/'3C'!D25 -> 0.94076517 | U26: ='3C'!V25/'3C'!D25 -> 1.0531716 | V26: ='3C'!W25/'3C'!D25 -> 0.78069201 | W26: ='3C'!X25/'3C'!D25 -> 0.98309364 | X26: ='3C'!Y25/'3C'!D25 -> 0.73643758 | Y26: ='3C'!Z25/'3C'!D25 -> 0.94484999 | Z26: ='3C'!AA25/'3C'!D25 -> 1.2490513 | AA26: ='3C'!AB25/'3C'!D25 -> 1.2983324 | AB26: ='3C'!AC25/'3C'!D25 -> 0.9822503 | AC26: ='3C'!AD25/'3C'!D25 -> 0.76919267 | AD26: ='3C'!AE25/'3C'!D25 -> 0.86809572 | AE26: ='3C'!AF25/'3C'!D25 -> 1.0981254 | AF26: ='3C'!AG25/'3C'!D25 -> 0.98920566 | AG26: ='3C'!AH25/'3C'!D25 -> 1.188206 | AH26: ='3C'!AI25/'3C'!D25 -> 0.98122819 | AI26: ='3C'!AJ25/'3C'!D25 -> 1.0910831
B27: 2191 | C27: TAGC | D27: ='3C'!E26/'3C'!D26 -> 1.1066229 | E27: ='3C'!F26/'3C'!D26 -> 0.95056481 | F27: ='3C'!G26/'3C'!D26 -> 1.0461242 | G27: ='3C'!H26/'3C'!D26 -> 1.4162261 | H27: ='3C'!I26/'3C'!D26 -> 1.4395385 | I27: ='3C'!J26/'3C'!D26 -> 0.71403929 | J27: ='3C'!K26/'3C'!D26 -> 1.5656362 | K27: ='3C'!L26/'3C'!D26 -> 0.91254222 | L27: ='3C'!M26/'3C'!D26 -> 0.67810993 | M27: ='3C'!N26/'3C'!D26 -> 1.3396561 | N27: ='3C'!O26/'3C'!D26 -> 0.77773485 | O27: ='3C'!P26/'3C'!D26 -> 1.183937 | P27: ='3C'!Q26/'3C'!D26 -> 1.459453 | Q27: ='3C'!R26/'3C'!D26 -> 1.322525 | R27: ='3C'!S26/'3C'!D26 -> 0.91072078 | S27: ='3C'!T26/'3C'!D26 -> 1.1325879 | T27: ='3C'!U26/'3C'!D26 -> 1.8887039 | U27: ='3C'!V26/'3C'!D26 -> 1.2750091 | V27: ='3C'!W26/'3C'!D26 -> 1.2265352 | W27: ='3C'!X26/'3C'!D26 -> 1.1428756 | X27: ='3C'!Y26/'3C'!D26 -> 1.1699259 | Y27: ='3C'!Z26/'3C'!D26 -> 0.81609467 | Z27: ='3C'!AA26/'3C'!D26 -> 0.76899625 | AA27: ='3C'!AB26/'3C'!D26 -> 0.93882944 | AB27: ='3C'!AC26/'3C'!D26 -> 1.0699825 | AC27: ='3C'!AD26/'3C'!D26 -> 0.78498255 | AD27: ='3C'!AE26/'3C'!D26 -> 1.3671044 | AE27: ='3C'!AF26/'3C'!D26 -> 0.85284319 | AF27: ='3C'!AG26/'3C'!D26 -> 1.4748157 | AG27: ='3C'!AH26/'3C'!D26 -> 0.72423986 | AH27: ='3C'!AI26/'3C'!D26 -> 1.2927681 | AI27: ='3C'!AJ26/'3C'!D26 -> 0.62396049
B28: 2191 | C28: CGTA | D28: ='3C'!E27/'3C'!D27 -> 0.93269094 | E28: ='3C'!F27/'3C'!D27 -> 1.2989925 | F28: ='3C'!G27/'3C'!D27 -> 0.46087991 | G28: ='3C'!H27/'3C'!D27 -> 1.0464934 | H28: ='3C'!I27/'3C'!D27 -> 1.0417149 | I28: ='3C'!J27/'3C'!D27 -> 0.69131986 | J28: ='3C'!K27/'3C'!D27 -> 0.87986164 | K28: ='3C'!L27/'3C'!D27 -> 1.4484797 | L28: ='3C'!M27/'3C'!D27 -> 0.9273803 | M28: ='3C'!N27/'3C'!D27 -> 0.65181587 | N28: ='3C'!O27/'3C'!D27 -> 1.0540917 | O28: ='3C'!P27/'3C'!D27 -> 0.87534026 | P28: ='3C'!Q27/'3C'!D27 -> 1.1949958 | Q28: ='3C'!R27/'3C'!D27 -> 1.4008324 | R28: ='3C'!S27/'3C'!D27 -> 0.68100166 | S28: ='3C'!T27/'3C'!D27 -> 0.97337837 | T28: ='3C'!U27/'3C'!D27 -> 0.31251446 | U28: ='3C'!V27/'3C'!D27 -> 0.65065399 | V28: ='3C'!W27/'3C'!D27 -> 1.4838085 | W28: ='3C'!X27/'3C'!D27 -> 0.6759572 | X28: ='3C'!Y27/'3C'!D27 -> 0.71853718 | Y28: ='3C'!Z27/'3C'!D27 -> 0.80994871 | Z28: ='3C'!AA27/'3C'!D27 -> 1.0529333 | AA28: ='3C'!AB27/'3C'!D27 -> 0.47528241 | AB28: ='3C'!AC27/'3C'!D27 -> 1.3036317 | AC28: ='3C'!AD27/'3C'!D27 -> 0.79450193 | AD28: ='3C'!AE27/'3C'!D27 -> 0.92487387 | AE28: ='3C'!AF27/'3C'!D27 -> 0.8196487 | AF28: ='3C'!AG27/'3C'!D27 -> 0.9875998 | AG28: ='3C'!AH27/'3C'!D27 -> 1.4147941 | AH28: ='3C'!AI27/'3C'!D27 -> 0.94319609 | AI28: ='3C'!AJ27/'3C'!D27 -> 0.75416712
B29: 2191 | C29: GCTA | D29: ='3C'!E28/'3C'!D28 -> 0.92624767 | E29: ='3C'!F28/'3C'!D28 -> 1.0601473 | F29: ='3C'!G28/'3C'!D28 -> 1.0745515 | G29: ='3C'!H28/'3C'!D28 -> 0.67296624 | H29: ='3C'!I28/'3C'!D28 -> 1.2216094 | I29: ='3C'!J28/'3C'!D28 -> 1.1749471 | J29: ='3C'!K28/'3C'!D28 -> 0.71070266 | K29: ='3C'!L28/'3C'!D28 -> 0.61185781 | L29: ='3C'!M28/'3C'!D28 -> 0.80471095 | M29: ='3C'!N28/'3C'!D28 -> 1.0139358 | N29: ='3C'!O28/'3C'!D28 -> 0.86908783 | O29: ='3C'!P28/'3C'!D28 -> 1.0005945 | P29: ='3C'!Q28/'3C'!D28 -> 0.59352339 | Q29: ='3C'!R28/'3C'!D28 -> 1.1478518 | R29: ='3C'!S28/'3C'!D28 -> 1.3321784 | S29: ='3C'!T28/'3C'!D28 -> 0.81609467 | T29: ='3C'!U28/'3C'!D28 -> 0.71571939 | U29: ='3C'!V28/'3C'!D28 -> 0.64916621 | V29: ='3C'!W28/'3C'!D28 -> 0.95855275 | W29: ='3C'!X28/'3C'!D28 -> 0.95056481 | X29: ='3C'!Y28/'3C'!D28 -> 0.64916621 | Y29: ='3C'!Z28/'3C'!D28 -> 1.1011067 | Z29: ='3C'!AA28/'3C'!D28 -> 1.1265953 | AA29: ='3C'!AB28/'3C'!D28 -> 0.73198574 | AB29: ='3C'!AC28/'3C'!D28 -> 0.70195555 | AC29: ='3C'!AD28/'3C'!D28 -> 0.69131986 | AD29: ='3C'!AE28/'3C'!D28 -> 0.77007782 | AE29: ='3C'!AF28/'3C'!D28 -> 0.99498373 | AF29: ='3C'!AG28/'3C'!D28 -> 1.2674197 | AG29: ='3C'!AH28/'3C'!D28 -> 1.1061118 | AH29: ='3C'!AI28/'3C'!D28 -> 0.82821488 | AI29: ='3C'!AJ28/'3C'!D28 -> 1.2889014
B30: 2191 | C30: ATGC | D30: ='3C'!E29/'3C'!D29 -> 1.0172636 | E30: ='3C'!F29/'3C'!D29 -> 0.91535871 | F30: ='3C'!G29/'3C'!D29 -> 0.71292361 | G30: ='3C'!H29/'3C'!D29 -> 1.0369798 | H30: ='3C'!I29/'3C'!D29 -> 0.87185562 | I30: ='3C'!J29/'3C'!D29 -> 1.3380384 | J30: ='3C'!K29/'3C'!D29 -> 0.96057076 | K30: ='3C'!L29/'3C'!D29 -> 1.1114296 | L30: ='3C'!M29/'3C'!D29 -> 0.73592114 | M30: ='3C'!N29/'3C'!D29 -> 1.1928656 | N30: ='3C'!O29/'3C'!D29 -> 0.8037296 | O30: ='3C'!P29/'3C'!D29 -> 1.4949053 | P30: ='3C'!Q29/'3C'!D29 -> 0.9427089 | Q30: ='3C'!R29/'3C'!D29 -> 1.4805257 | R30: ='3C'!S29/'3C'!D29 -> 1.0399342 | S30: ='3C'!T29/'3C'!D29 -> 0.84234666 | T30: ='3C'!U29/'3C'!D29 -> 1.1800115 | U30: ='3C'!V29/'3C'!D29 -> 0.90462673 | V30: ='3C'!W29/'3C'!D29 -> 1.207938 | W30: ='3C'!X29/'3C'!D29 -> 0.97200612 | X30: ='3C'!Y29/'3C'!D29 -> 0.89188797 | Y30: ='3C'!Z29/'3C'!D29 -> 0.91482929 | Z30: ='3C'!AA29/'3C'!D29 -> 0.95056481 | AA30: ='3C'!AB29/'3C'!D29 -> 1.1307834 | AB30: ='3C'!AC29/'3C'!D29 -> 0.82850785 | AC30: ='3C'!AD29/'3C'!D29 -> 0.80845379 | AD30: ='3C'!AE29/'3C'!D29 -> 0.89115451 | AE30: ='3C'!AF29/'3C'!D29 -> 0.9729687 | AF30: ='3C'!AG29/'3C'!D29 -> 1.2525089 | AG30: ='3C'!AH29/'3C'!D29 -> 1.6824156 | AH30: ='3C'!AI29/'3C'!D29 -> 0.94400919 | AI30: ='3C'!AJ29/'3C'!D29 -> 0.95482743
B31: 2191 | C31: TGCA | D31: ='3C'!E30/'3C'!D30 -> 0.97269095 | E31: ='3C'!F30/'3C'!D30 -> 0.70786741 | F31: ='3C'!G30/'3C'!D30 -> 0.81213304 | G31: ='3C'!H30/'3C'!D30 -> 1.050474 | H31: ='3C'!I30/'3C'!D30 -> 1.164086 | I31: ='3C'!J30/'3C'!D30 -> 0.96374096 | J31: ='3C'!K30/'3C'!D30 -> 1.051031 | K31: ='3C'!L30/'3C'!D30 -> 0.81476984 | L31: ='3C'!M30/'3C'!D30 -> 0.89675926 | M31: ='3C'!N30/'3C'!D30 -> 0.9527703 | N31: ='3C'!O30/'3C'!D30 -> 1.0610956 | O31: ='3C'!P30/'3C'!D30 -> 1.0170177 | P31: ='3C'!Q30/'3C'!D30 -> 0.7960653 | Q31: ='3C'!R30/'3C'!D30 -> 0.92064388 | R31: ='3C'!S30/'3C'!D30 -> 1.2599202 | S31: ='3C'!T30/'3C'!D30 -> 1.1032462 | T31: ='3C'!U30/'3C'!D30 -> 0.85527592 | U31: ='3C'!V30/'3C'!D30 -> 0.73872465 | V31: ='3C'!W30/'3C'!D30 -> 1.1343757 | W31: ='3C'!X30/'3C'!D30 -> 1.2742707 | X31: ='3C'!Y30/'3C'!D30 -> 1.1860258 | Y31: ='3C'!Z30/'3C'!D30 -> 0.92879615 | Z31: ='3C'!AA30/'3C'!D30 -> 1.2674197 | AA31: ='3C'!AB30/'3C'!D30 -> 1.0716395 | AB31: ='3C'!AC30/'3C'!D30 -> 0.70739707 | AC31: ='3C'!AD30/'3C'!D30 -> 0.51097555 | AD31: ='3C'!AE30/'3C'!D30 -> 1.2290131 | AE31: ='3C'!AF30/'3C'!D30 -> 1.0739867 | AF31: ='3C'!AG30/'3C'!D30 -> 1.2792648 | AG31: ='3C'!AH30/'3C'!D30 -> 0.67429228 | AH31: ='3C'!AI30/'3C'!D30 -> 1.1021041 | AI31: ='3C'!AJ30/'3C'!D30 -> 0.81989418
B32: 2191 | C32: CTAG | D32: ='3C'!E31/'3C'!D31 -> 0.81213304 | E32: ='3C'!F31/'3C'!D31 -> 1.0863598 | F32: ='3C'!G31/'3C'!D31 -> 0.6403805 | G32: ='3C'!H31/'3C'!D31 -> 0.70480903 | H32: ='3C'!I31/'3C'!D31 -> 1.0423639 | I32: ='3C'!J31/'3C'!D31 -> 0.81386151 | J32: ='3C'!K31/'3C'!D31 -> 0.77710408 | K32: ='3C'!L31/'3C'!D31 -> 0.87534026 | L32: ='3C'!M31/'3C'!D31 -> 0.75292262 | M32: ='3C'!N31/'3C'!D31 -> 0.84771681 | N32: ='3C'!O31/'3C'!D31 -> 0.79767676 | O32: ='3C'!P31/'3C'!D31 -> 0.89994302 | P32: ='3C'!Q31/'3C'!D31 -> 0.83337189 | Q32: ='3C'!R31/'3C'!D31 -> 0.7464558 | R32: ='3C'!S31/'3C'!D31 -> 1.3975872 | S32: ='3C'!T31/'3C'!D31 -> 0.7432988 | T32: ='3C'!U31/'3C'!D31 -> 0.46797037 | U32: ='3C'!V31/'3C'!D31 -> 0.7280922 | V32: ='3C'!W31/'3C'!D31 -> 0.56932224 | W32: ='3C'!X31/'3C'!D31 -> 0.72423986 | X32: ='3C'!Y31/'3C'!D31 -> 0.72042807 | Y32: ='3C'!Z31/'3C'!D31 -> 0.67429228 | Z32: ='3C'!AA31/'3C'!D31 -> 0.90923591 | AA32: ='3C'!AB31/'3C'!D31 -> 1.1699259 | AB32: ='3C'!AC31/'3C'!D31 -> 0.84105274 | AC32: ='3C'!AD31/'3C'!D31 -> 1.1147985 | AD32: ='3C'!AE31/'3C'!D31 -> 0.59064221 | AE32: ='3C'!AF31/'3C'!D31 -> 0.52219869 | AF32: ='3C'!AG31/'3C'!D31 -> 0.83109492 | AG32: ='3C'!AH31/'3C'!D31 -> 0.45914074 | AH32: ='3C'!AI31/'3C'!D31 -> 0.83829338 | AI32: ='3C'!AJ31/'3C'!D31 -> 0.86236808
B33: 2191 | C33: GATC | D33: ='3C'!E32/'3C'!D32 -> 0.97284621 | E33: ='3C'!F32/'3C'!D32 -> 1.0139358 | F33: ='3C'!G32/'3C'!D32 -> 1.0024789 | G33: ='3C'!H32/'3C'!D32 -> 1.0499335 | H33: ='3C'!I32/'3C'!D32 -> 0.83566137 | I33: ='3C'!J32/'3C'!D32 -> 1.1699259 | J33: ='3C'!K32/'3C'!D32 -> 1.006991 | K33: ='3C'!L32/'3C'!D32 -> 0.89660262 | L33: ='3C'!M32/'3C'!D32 -> 1.0586337 | M33: ='3C'!N32/'3C'!D32 -> 1.1196837 | N33: ='3C'!O32/'3C'!D32 -> 1.1265953 | O33: ='3C'!P32/'3C'!D32 -> 1.2341462 | P33: ='3C'!Q32/'3C'!D32 -> 0.92085966 | Q33: ='3C'!R32/'3C'!D32 -> 1.1101487 | R33: ='3C'!S32/'3C'!D32 -> 0.89675926 | S33: ='3C'!T32/'3C'!D32 -> 1.1121233 | T33: ='3C'!U32/'3C'!D32 -> 0.96836565 | U33: ='3C'!V32/'3C'!D32 -> 0.75035097 | V33: ='3C'!W32/'3C'!D32 -> 0.62308904 | W33: ='3C'!X32/'3C'!D32 -> 0.77663168 | X33: ='3C'!Y32/'3C'!D32 -> 1.0227335 | Y33: ='3C'!Z32/'3C'!D32 -> 0.84871858 | Z33: ='3C'!AA32/'3C'!D32 -> 0.80047563 | AA33: ='3C'!AB32/'3C'!D32 -> 1.1318353 | AB33: ='3C'!AC32/'3C'!D32 -> 0.73700179 | AC33: ='3C'!AD32/'3C'!D32 -> 0.85061728 | AD33: ='3C'!AE32/'3C'!D32 -> 1.1415171 | AE33: ='3C'!AF32/'3C'!D32 -> 1.2578903 | AF33: ='3C'!AG32/'3C'!D32 -> 1.0969481 | AG33: ='3C'!AH32/'3C'!D32 -> 0.9305107 | AH33: ='3C'!AI32/'3C'!D32 -> 0.73003377 | AI33: ='3C'!AJ32/'3C'!D32 -> 1.0261519
A34: Jasmonic Acid-All | B34: 221 | C34: ACGT | D34: ='3C'!E33/'3C'!D33 -> 1.2872551 | E34: ='3C'!F33/'3C'!D33 -> 1.8615161 | F34: ='3C'!G33/'3C'!D33 -> 0.51112815 | G34: ='3C'!H33/'3C'!D33 -> 0 | H34: ='3C'!I33/'3C'!D33 -> 1.2513096 | I34: ='3C'!J33/'3C'!D33 -> 1.092629 | J34: ='3C'!K33/'3C'!D33 -> 1.853887 | K34: ='3C'!L33/'3C'!D33 -> 2.0749927 | L34: ='3C'!M33/'3C'!D33 -> 3.1506855 | M34: ='3C'!N33/'3C'!D33 -> 1.0222563 | N34: ='3C'!O33/'3C'!D33 -> 1.1966889 | O34: ='3C'!P33/'3C'!D33 -> 1.9006236 | P34: ='3C'!Q33/'3C'!D33 -> 0.62565479 | Q34: ='3C'!R33/'3C'!D33 -> 0.55030221 | R34: ='3C'!S33/'3C'!D33 -> 1.8769644 | S34: ='3C'!T33/'3C'!D33 -> 0.48327822 | T34: ='3C'!U33/'3C'!D33 -> 1.1779907 | U34: ='3C'!V33/'3C'!D33 -> 0 | V34: ='3C'!W33/'3C'!D33 -> 1.0656029 | W34: ='3C'!X33/'3C'!D33 -> 1.0886845 | X34: ='3C'!Y33/'3C'!D33 -> 0.53659361 | Y34: ='3C'!Z33/'3C'!D33 -> 0.95432155 | Z34: ='3C'!AA33/'3C'!D33 -> 1.853887 | AA34: ='3C'!AB33/'3C'!D33 -> 1.5078281 | AB34: ='3C'!AC33/'3C'!D33 -> 0.6308904 | AC34: ='3C'!AD33/'3C'!D33 -> 2.8996693 | AD34: ='3C'!AE33/'3C'!D33 -> 0.59597947 | AE34: ='3C'!AF33/'3C'!D33 -> 2.4477728 | AF34: ='3C'!AG33/'3C'!D33 -> 0.4911492 | AG34: ='3C'!AH33/'3C'!D33 -> 1.0618507 | AH34: ='3C'!AI33/'3C'!D33 -> 0.62306944 | AI34: ='3C'!AJ33/'3C'!D33 -> 3.6333206
B35: 221 | C35: AGCT | D35: ='3C'!E34/'3C'!D34 -> 0.69234479 | E35: ='3C'!F34/'3C'!D34 -> 0.85188026 | F35: ='3C'!G34/'3C'!D34 -> 1.23088 | G35: ='3C'!H34/'3C'!D34 -> 0.48327822 | H35: ='3C'!I34/'3C'!D34 -> 0.30096368 | I35: ='3C'!J34/'3C'!D34 -> 0.31089238 | J35: ='3C'!K34/'3C'!D34 -> 0.96193177 | K35: ='3C'!L34/'3C'!D34 -> 0.6471365 | L35: ='3C'!M34/'3C'!D34 -> 1.3083107 | M35: ='3C'!N34/'3C'!D34 -> 0.53659361 | N35: ='3C'!O34/'3C'!D34 -> 0.74460645 | O35: ='3C'!P34/'3C'!D34 -> 0 | P35: ='3C'!Q34/'3C'!D34 -> 0.61418658 | Q35: ='3C'!R34/'3C'!D34 -> 0.91383518 | R35: ='3C'!S34/'3C'!D34 -> 0.31810718 | S35: ='3C'!T34/'3C'!D34 -> 1.9366599 | T35: ='3C'!U34/'3C'!D34 -> 0 | U35: ='3C'!V34/'3C'!D34 -> 0.61418658 | V35: ='3C'!W34/'3C'!D34 -> 0.28665933 | W35: ='3C'!X34/'3C'!D34 -> 0.57331865 | X35: ='3C'!Y34/'3C'!D34 -> 1.2697499 | Y35: ='3C'!Z34/'3C'!D34 -> 1.5108498 | Z35: ='3C'!AA34/'3C'!D34 -> 0.72841935 | AA35: ='3C'!AB34/'3C'!D34 -> 0 | AB35: ='3C'!AC34/'3C'!D34 -> 0.62826169 | AC35: ='3C'!AD34/'3C'!D34 -> 0.34662714 | AD35: ='3C'!AE34/'3C'!D34 -> 0 | AE35: ='3C'!AF34/'3C'!D34 -> 0.54434226 | AF35: ='3C'!AG34/'3C'!D34 -> 0.61293823 | AG35: ='3C'!AH34/'3C'!D34 -> 0.67313752 | AH35: ='3C'!AI34/'3C'!D34 -> 1.4305769 | AI35: ='3C'!AJ34/'3C'!D34 -> 0.65557741
B36: 221 | C36: TAGC | D36: ='3C'!E35/'3C'!D35 -> 0.7347843 | E36: ='3C'!F35/'3C'!D35 -> 1.1779907 | F36: ='3C'!G35/'3C'!D35 -> 1.5955852 | G36: ='3C'!H35/'3C'!D35 -> 0.6104567 | H36: ='3C'!I35/'3C'!D35 -> 1.8615161 | I36: ='3C'!J35/'3C'!D35 -> 0 | J36: ='3C'!K35/'3C'!D35 -> 0.7391314 | K36: ='3C'!L35/'3C'!D35 -> 2.0104374 | L36: ='3C'!M35/'3C'!D35 -> 0.96040003 | M36: ='3C'!N35/'3C'!D35 -> 1.5625161 | N36: ='3C'!O35/'3C'!D35 -> 1.713441 | O36: ='3C'!P35/'3C'!D35 -> 0 | P36: ='3C'!Q35/'3C'!D35 -> 0 | Q36: ='3C'!R35/'3C'!D35 -> 0.93653916 | R36: ='3C'!S35/'3C'!D35 -> 0 | S36: ='3C'!T35/'3C'!D35 -> 0.5346908 | T36: ='3C'!U35/'3C'!D35 -> 0 | U36: ='3C'!V35/'3C'!D35 -> 0.90289105 | V36: ='3C'!W35/'3C'!D35 -> 0 | W36: ='3C'!X35/'3C'!D35 -> 0 | X36: ='3C'!Y35/'3C'!D35 -> 1.0544252 | Y36: ='3C'!Z35/'3C'!D35 -> 0 | Z36: ='3C'!AA35/'3C'!D35 -> 0.84709441 | AA36: ='3C'!AB35/'3C'!D35 -> 0 | AB36: ='3C'!AC35/'3C'!D35 -> 1.5154051 | AC36: ='3C'!AD35/'3C'!D35 -> 0.97279229 | AD36: ='3C'!AE35/'3C'!D35 -> 0 | AE36: ='3C'!AF35/'3C'!D35 -> 0 | AF36: ='3C'!AG35/'3C'!D35 -> 0.91383518 | AG36: ='3C'!AH35/'3C'!D35 -> 1.0257334 | AH36: ='3C'!AI35/'3C'!D35 -> 1.5078281 | AI36: ='3C'!AJ35/'3C'!D35 -> 0
B37: 221 | C37: CGTA | D37: ='3C'!E36/'3C'!D36 -> 0.96655645 | E37: ='3C'!F36/'3C'!D36 -> 0.53659361 | F37: ='3C'!G36/'3C'!D36 -> 0 | G37: ='3C'!H36/'3C'!D36 -> 1.3833285 | H37: ='3C'!I36/'3C'!D36 -> 1.0327589 | I37: ='3C'!J36/'3C'!D36 -> 0.68537639 | J37: ='3C'!K36/'3C'!D36 -> 0 | K37: ='3C'!L36/'3C'!D36 -> 0 | L37: ='3C'!M36/'3C'!D36 -> 0.91940735 | M37: ='3C'!N36/'3C'!D36 -> 2.1540401 | N37: ='3C'!O36/'3C'!D36 -> 0 | O37: ='3C'!P36/'3C'!D36 -> 2.1695368 | P37: ='3C'!Q36/'3C'!D36 -> 1.07702 | Q37: ='3C'!R36/'3C'!D36 -> 0 | R37: ='3C'!S36/'3C'!D36 -> 1.1252448 | S37: ='3C'!T36/'3C'!D36 -> 4.8250498 | T37: ='3C'!U36/'3C'!D36 -> 0 | U37: ='3C'!V36/'3C'!D36 -> 0 | V37: ='3C'!W36/'3C'!D36 -> 1.8388147 | W37: ='3C'!X36/'3C'!D36 -> 0 | X37: ='3C'!Y36/'3C'!D36 -> 0 | Y37: ='3C'!Z36/'3C'!D36 -> 1.7844119 | Z37: ='3C'!AA36/'3C'!D36 -> 1.1598677 | AA37: ='3C'!AB36/'3C'!D36 -> 1.1779907 | AB37: ='3C'!AC36/'3C'!D36 -> 1.07702 | AC37: ='3C'!AD36/'3C'!D36 -> 0 | AD37: ='3C'!AE36/'3C'!D36 -> 1.0188027 | AE37: ='3C'!AF36/'3C'!D36 -> 1.8057821 | AF37: ='3C'!AG36/'3C'!D36 -> 0 | AG37: ='3C'!AH36/'3C'!D36 -> 1.168859 | AH37: ='3C'!AI36/'3C'!D36 -> 1.168859 | AI37: ='3C'!AJ36/'3C'!D36 -> 2.4922778
B38: 221 | C38: GCTA | D38: ='3C'!E37/'3C'!D37 -> 0.87100152 | E38: ='3C'!F37/'3C'!D37 -> 0.80848689 | F38: ='3C'!G37/'3C'!D37 -> 0.81947177 | G38: ='3C'!H37/'3C'!D37 -> 0 | H38: ='3C'!I37/'3C'!D37 -> 0.60555344 | I38: ='3C'!J37/'3C'!D37 -> 1.294273 | J38: ='3C'!K37/'3C'!D37 -> 0.70459255 | K38: ='3C'!L37/'3C'!D37 -> 0 | L38: ='3C'!M37/'3C'!D37 -> 2.3933779 | M38: ='3C'!N37/'3C'!D37 -> 0.71801336 | N38: ='3C'!O37/'3C'!D37 -> 0.86161603 | O38: ='3C'!P37/'3C'!D37 -> 0.99199214 | P38: ='3C'!Q37/'3C'!D37 -> 0 | Q38: ='3C'!R37/'3C'!D37 -> 0 | R38: ='3C'!S37/'3C'!D37 -> 0 | S38: ='3C'!T37/'3C'!D37 -> 2.2065776 | T38: ='3C'!U37/'3C'!D37 -> 0.88695768 | U38: ='3C'!V37/'3C'!D37 -> 0.91940735 | V38: ='3C'!W37/'3C'!D37 -> 0.6335412 | W38: ='3C'!X37/'3C'!D37 -> 0 | X38: ='3C'!Y37/'3C'!D37 -> 0 | Y38: ='3C'!Z37/'3C'!D37 -> 0 | Z38: ='3C'!AA37/'3C'!D37 -> 0.79779262 | AA38: ='3C'!AB37/'3C'!D37 -> 1.6126503 | AB38: ='3C'!AC37/'3C'!D37 -> 1.5464903 | AC38: ='3C'!AD37/'3C'!D37 -> 0 | AD38: ='3C'!AE37/'3C'!D37 -> 0 | AE38: ='3C'!AF37/'3C'!D37 -> 1.4091851 | AF38: ='3C'!AG37/'3C'!D37 -> 1.9331129 | AG38: ='3C'!AH37/'3C'!D37 -> 2.7415056 | AH38: ='3C'!AI37/'3C'!D37 -> 1.4928991 | AI38: ='3C'!AJ37/'3C'!D37 -> 1.7037605
B39: 221 | C39: ATGC | D39: ='3C'!E38/'3C'!D38 -> 0.9556176 | E39: ='3C'!F38/'3C'!D38 -> 0.69806854 | F39: ='3C'!G38/'3C'!D38 -> 0.58899533 | G39: ='3C'!H38/'3C'!D38 -> 0.76152932 | H39: ='3C'!I38/'3C'!D38 -> 0 | I39: ='3C'!J38/'3C'!D38 -> 0.44217832 | J39: ='3C'!K38/'3C'!D38 -> 1.058125 | K39: ='3C'!L38/'3C'!D38 -> 1.1598677 | L39: ='3C'!M38/'3C'!D38 -> 0 | M39: ='3C'!N38/'3C'!D38 -> 1.1826102 | N39: ='3C'!O38/'3C'!D38 -> 3.0646912 | O39: ='3C'!P38/'3C'!D38 -> 1.9331129 | P39: ='3C'!Q38/'3C'!D38 -> 1.2461389 | Q39: ='3C'!R38/'3C'!D38 -> 0.66718055 | R39: ='3C'!S38/'3C'!D38 -> 0 | S39: ='3C'!T38/'3C'!D38 -> 0.92789419 | T39: ='3C'!U38/'3C'!D38 -> 1.9497777 | U39: ='3C'!V38/'3C'!D38 -> 1.1210618 | V39: ='3C'!W38/'3C'!D38 -> 1.0886845 | W39: ='3C'!X38/'3C'!D38 -> 1.1337053 | X39: ='3C'!Y38/'3C'!D38 -> 0 | Y39: ='3C'!Z38/'3C'!D38 -> 0.56685265 | Z39: ='3C'!AA38/'3C'!D38 -> 1.766986 | AA39: ='3C'!AB38/'3C'!D38 -> 1.1210618 | AB39: ='3C'!AC38/'3C'!D38 -> 0 | AC39: ='3C'!AD38/'3C'!D38 -> 1.5028187 | AD39: ='3C'!AE38/'3C'!D38 -> 0.58899533 | AE39: ='3C'!AF38/'3C'!D38 -> 3.0461173 | AF39: ='3C'!AG38/'3C'!D38 -> 0 | AG39: ='3C'!AH38/'3C'!D38 -> 0 | AH39: ='3C'!AI38/'3C'!D38 -> 2.0797628 | AI39: ='3C'!AJ38/'3C'!D38 -> 0.67615608
B40: 221 | C40: TGCA | D40: ='3C'!E39/'3C'!D39 -> 0.86323866 | E40: ='3C'!F39/'3C'!D39 -> 0.4010181 | F40: ='3C'!G39/'3C'!D39 -> 0.36597768 | G40: ='3C'!H39/'3C'!D39 -> 0.90560244 | H40: ='3C'!I39/'3C'!D39 -> 1.0035461 | I40: ='3C'!J39/'3C'!D39 -> 0.59715963 | J40: ='3C'!K39/'3C'!D39 -> 0.91940735 | K40: ='3C'!L39/'3C'!D39 -> 1.15395 | L40: ='3C'!M39/'3C'!D39 -> 0 | M40: ='3C'!N39/'3C'!D39 -> 1.0495323 | N40: ='3C'!O39/'3C'!D39 -> 3.5065769 | O40: ='3C'!P39/'3C'!D39 -> 1.3749192 | P40: ='3C'!Q39/'3C'!D39 -> 1.6615185 | Q40: ='3C'!R39/'3C'!D39 -> 2.5556408 | R40: ='3C'!S39/'3C'!D39 -> 0.89220595 | S40: ='3C'!T39/'3C'!D39 -> 0.39062903 | T40: ='3C'!U39/'3C'!D39 -> 0.73732423 | U40: ='3C'!V39/'3C'!D39 -> 0.86161603 | V40: ='3C'!W39/'3C'!D39 -> 0 | W40: ='3C'!X39/'3C'!D39 -> 0.81504219 | X40: ='3C'!Y39/'3C'!D39 -> 0.34583212 | Y40: ='3C'!Z39/'3C'!D39 -> 1.1510138 | Z40: ='3C'!AA39/'3C'!D39 -> 0.86656785 | AA40: ='3C'!AB39/'3C'!D39 -> 1.634502 | AB40: ='3C'!AC39/'3C'!D39 -> 0.35065769 | AC40: ='3C'!AD39/'3C'!D39 -> 0.29798973 | AD40: ='3C'!AE39/'3C'!D39 -> 0.76152932 | AE40: ='3C'!AF39/'3C'!D39 -> 0.34346881 | AF40: ='3C'!AG39/'3C'!D39 -> 1.0568888 | AG40: ='3C'!AH39/'3C'!D39 -> 0.37138622 | AH40: ='3C'!AI39/'3C'!D39 -> 0.72841935 | AI40: ='3C'!AJ39/'3C'!D39 -> 0.81284531
B41: 221 | C41: CTAG | D41: ='3C'!E40/'3C'!D40 -> 0.65282506 | E41: ='3C'!F40/'3C'!D40 -> 1.1966889 | F41: ='3C'!G40/'3C'!D40 -> 0.79359371 | G41: ='3C'!H40/'3C'!D40 -> 0 | H41: ='3C'!I40/'3C'!D40 -> 0.93945673 | I41: ='3C'!J40/'3C'!D40 -> 0.50429032 | J41: ='3C'!K40/'3C'!D40 -> 1.1006044 | K41: ='3C'!L40/'3C'!D40 -> 0.54238419 | L41: ='3C'!M40/'3C'!D40 -> 0 | M41: ='3C'!N40/'3C'!D40 -> 0.98873971 | N41: ='3C'!O40/'3C'!D40 -> 0 | O41: ='3C'!P40/'3C'!D40 -> 0 | P41: ='3C'!Q40/'3C'!D40 -> 0 | Q41: ='3C'!R40/'3C'!D40 -> 0.92504789 | R41: ='3C'!S40/'3C'!D40 -> 0.81504219 | S41: ='3C'!T40/'3C'!D40 -> 1.1337053 | T41: ='3C'!U40/'3C'!D40 -> 0 | U41: ='3C'!V40/'3C'!D40 -> 1.6040724 | V41: ='3C'!W40/'3C'!D40 -> 1.6126503 | W41: ='3C'!X40/'3C'!D40 -> 0.71801336 | X41: ='3C'!Y40/'3C'!D40 -> 0.79359371 | Y41: ='3C'!Z40/'3C'!D40 -> 0 | Z41: ='3C'!AA40/'3C'!D40 -> 0 | AA41: ='3C'!AB40/'3C'!D40 -> 1.5464903 | AB41: ='3C'!AC40/'3C'!D40 -> 0.69485164 | AC41: ='3C'!AD40/'3C'!D40 -> 1.5788775 | AD41: ='3C'!AE40/'3C'!D40 -> 0.73195537 | AE41: ='3C'!AF40/'3C'!D40 -> 0 | AF41: ='3C'!AG40/'3C'!D40 -> 1.6478995 | AG41: ='3C'!AH40/'3C'!D40 -> 0.56899172 | AH41: ='3C'!AI40/'3C'!D40 -> 0 | AI41: ='3C'!AJ40/'3C'!D40 -> 0
B42: 221 | C42: GATC | D42: ='3C'!E41/'3C'!D41 -> 0.77282242 | E42: ='3C'!F41/'3C'!D41 -> 0.30461173 | F42: ='3C'!G41/'3C'!D41 -> 0.85188026 | G42: ='3C'!H41/'3C'!D41 -> 0.89220595 | H42: ='3C'!I41/'3C'!D41 -> 1.6569539 | I42: ='3C'!J41/'3C'!D41 -> 0.99417234 | J42: ='3C'!K41/'3C'!D41 -> 0 | K42: ='3C'!L41/'3C'!D41 -> 0 | L42: ='3C'!M41/'3C'!D41 -> 1.3993764 | M42: ='3C'!N41/'3C'!D41 -> 0.3083493 | N42: ='3C'!O41/'3C'!D41 -> 1.0471028 | O42: ='3C'!P41/'3C'!D41 -> 1.7993175 | P42: ='3C'!Q41/'3C'!D41 -> 0.883493 | Q42: ='3C'!R41/'3C'!D41 -> 0 | R42: ='3C'!S41/'3C'!D41 -> 0.35561982 | S42: ='3C'!T41/'3C'!D41 -> 0.59597947 | T42: ='3C'!U41/'3C'!D41 -> 1.1294592 | U42: ='3C'!V41/'3C'!D41 -> 1.1444615 | V42: ='3C'!W41/'3C'!D41 -> 1.1231494 | W42: ='3C'!X41/'3C'!D41 -> 0.64162896 | X42: ='3C'!Y41/'3C'!D41 -> 0.98123301 | Y42: ='3C'!Z41/'3C'!D41 -> 0.33656876 | Z42: ='3C'!AA41/'3C'!D41 -> 0.63487497 | AA42: ='3C'!AB41/'3C'!D41 -> 1.0519731 | AB42: ='3C'!AC41/'3C'!D41 -> 0.33212072 | AC42: ='3C'!AD41/'3C'!D41 -> 1.0119651 | AD42: ='3C'!AE41/'3C'!D41 -> 0.66570775 | AE42: ='3C'!AF41/'3C'!D41 -> 1.4171316 | AF42: ='3C'!AG41/'3C'!D41 -> 0.2939236 | AG42: ='3C'!AH41/'3C'!D41 -> 0.95432155 | AH42: ='3C'!AI41/'3C'!D41 -> 0.30156561 | AI42: ='3C'!AJ41/'3C'!D41 -> 0.72666412
A43: Jasmonic Acid-Up | B43: 147 | C43: ACGT | D43: ='3C'!E42/'3C'!D42 -> 1.0983915 | E43: ='3C'!F42/'3C'!D42 -> 0.55972117 | F43: ='3C'!G42/'3C'!D42 -> 0.76843076 | G43: ='3C'!H42/'3C'!D42 -> 0 | H43: ='3C'!I42/'3C'!D42 -> 0.94061027 | I43: ='3C'!J42/'3C'!D42 -> 0.82132998 | J43: ='3C'!K42/'3C'!D42 -> 2.7871362 | K43: ='3C'!L42/'3C'!D42 -> 2.0796979 | L43: ='3C'!M42/'3C'!D42 -> 3.3833892 | M43: ='3C'!N42/'3C'!D42 -> 0 | N43: ='3C'!O42/'3C'!D42 -> 0.89955188 | O43: ='3C'!P42/'3C'!D42 -> 0 | P43: ='3C'!Q42/'3C'!D42 -> 0 | Q43: ='3C'!R42/'3C'!D42 -> 0.82732509 | R43: ='3C'!S42/'3C'!D42 -> 0.94061027 | S43: ='3C'!T42/'3C'!D42 -> 0 | T43: ='3C'!U42/'3C'!D42 -> 1.7709928 | U43: ='3C'!V42/'3C'!D42 -> 0 | V43: ='3C'!W42/'3C'!D42 -> 0.8010144 | W43: ='3C'!X42/'3C'!D42 -> 0.81836489 | X43: ='3C'!Y42/'3C'!D42 -> 0 | Y43: ='3C'!Z42/'3C'!D42 -> 0.71736416 | Z43: ='3C'!AA42/'3C'!D42 -> 1.8580908 | AA43: ='3C'!AB42/'3C'!D42 -> 1.5112472 | AB43: ='3C'!AC42/'3C'!D42 -> 0.94848148 | AC43: ='3C'!AD42/'3C'!D42 -> 3.6328057 | AD43: ='3C'!AE42/'3C'!D42 -> 0.89599634 | AE43: ='3C'!AF42/'3C'!D42 -> 2.207991 | AF43: ='3C'!AG42/'3C'!D42 -> 0.73839438 | AG43: ='3C'!AH42/'3C'!D42 -> 1.5963879 | AH43: ='3C'!AI42/'3C'!D42 -> 0 | AI43: ='3C'!AJ42/'3C'!D42 -> 2.7311696
B44: 147 | C44: AGCT | D44: ='3C'!E43/'3C'!D43 -> 0.81782808 | E44: ='3C'!F43/'3C'!D43 -> 1.2807179 | F44: ='3C'!G43/'3C'!D43 -> 0.92525337 | G44: ='3C'!H43/'3C'!D43 -> 0.72656114 | H44: ='3C'!I43/'3C'!D43 -> 0.45246921 | I44: ='3C'!J43/'3C'!D43 -> 0.46739603 | J44: ='3C'!K43/'3C'!D43 -> 0.72308477 | K44: ='3C'!L43/'3C'!D43 -> 0 | L44: ='3C'!M43/'3C'!D43 -> 1.9669161 | M44: ='3C'!N43/'3C'!D43 -> 0.80671557 | N44: ='3C'!O43/'3C'!D43 -> 1.1194423 | O44: ='3C'!P43/'3C'!D43 -> 0 | P44: ='3C'!Q43/'3C'!D43 -> 0.92336894 | Q44: ='3C'!R43/'3C'!D43 -> 1.3738611 | R44: ='3C'!S43/'3C'!D43 -> 0.47824277 | S44: ='3C'!T43/'3C'!D43 -> 2.0796979 | T44: ='3C'!U43/'3C'!D43 -> 0 | U44: ='3C'!V43/'3C'!D43 -> 0.92336894 | V44: ='3C'!W43/'3C'!D43 -> 0.43096402 | W44: ='3C'!X43/'3C'!D43 -> 0.43096402 | X44: ='3C'!Y43/'3C'!D43 -> 1.4317078 | Y44: ='3C'!Z43/'3C'!D43 -> 1.8171309 | Z44: ='3C'!AA43/'3C'!D43 -> 1.0951066 | AA44: ='3C'!AB43/'3C'!D43 -> 0 | AB44: ='3C'!AC43/'3C'!D43 -> 0.94452948 | AC44: ='3C'!AD43/'3C'!D43 -> 0 | AD44: ='3C'!AE43/'3C'!D43 -> 0 | AE44: ='3C'!AF43/'3C'!D43 -> 0.40918245 | AF44: ='3C'!AG43/'3C'!D43 -> 0.92149217 | AG44: ='3C'!AH43/'3C'!D43 -> 1.0119959 | AH44: ='3C'!AI43/'3C'!D43 -> 1.720585 | AI44: ='3C'!AJ43/'3C'!D43 -> 0.49279799
B45: 147 | C45: TAGC | D45: ='3C'!E44/'3C'!D44 -> 0.79993759 | E45: ='3C'!F44/'3C'!D44 -> 1.7709928 | F45: ='3C'!G44/'3C'!D44 -> 1.1994025 | G45: ='3C'!H44/'3C'!D44 -> 0.91776144 | H45: ='3C'!I44/'3C'!D44 -> 1.8657372 | I45: ='3C'!J44/'3C'!D44 -> 0 | J45: ='3C'!K44/'3C'!D44 -> 1.1112112 | K45: ='3C'!L44/'3C'!D44 -> 1.5112472 | L45: ='3C'!M44/'3C'!D44 -> 0 | M45: ='3C'!N44/'3C'!D44 -> 1.1745444 | N45: ='3C'!O44/'3C'!D44 -> 2.5759895 | O45: ='3C'!P44/'3C'!D44 -> 0 | P45: ='3C'!Q44/'3C'!D44 -> 0 | Q45: ='3C'!R44/'3C'!D44 -> 1.4079943 | R45: ='3C'!S44/'3C'!D44 -> 0 | S45: ='3C'!T44/'3C'!D44 -> 0.80385488 | T45: ='3C'!U44/'3C'!D44 -> 0 | U45: ='3C'!V44/'3C'!D44 -> 1.3574076 | V45: ='3C'!W44/'3C'!D44 -> 0 | W45: ='3C'!X44/'3C'!D44 -> 0 | X45: ='3C'!Y44/'3C'!D44 -> 1.5852243 | Y45: ='3C'!Z44/'3C'!D44 -> 0 | Z45: ='3C'!AA44/'3C'!D44 -> 1.2735229 | AA45: ='3C'!AB44/'3C'!D44 -> 0 | AB45: ='3C'!AC44/'3C'!D44 -> 2.2782621 | AC45: ='3C'!AD44/'3C'!D44 -> 0 | AD45: ='3C'!AE44/'3C'!D44 -> 0 | AE45: ='3C'!AF44/'3C'!D44 -> 0 | AF45: ='3C'!AG44/'3C'!D44 -> 0 | AG45: ='3C'!AH44/'3C'!D44 -> 1.5420889 | AH45: ='3C'!AI44/'3C'!D44 -> 1.1334354 | AI45: ='3C'!AJ44/'3C'!D44 -> 0
B46: 147 | C46: CGTA | D46: ='3C'!E45/'3C'!D45 -> 0.77499855 | E46: ='3C'!F45/'3C'!D45 -> 0 | F46: ='3C'!G45/'3C'!D45 -> 0 | G46: ='3C'!H45/'3C'!D45 -> 1.039849 | H46: ='3C'!I45/'3C'!D45 -> 1.5526512 | I46: ='3C'!J45/'3C'!D45 -> 0 | J46: ='3C'!K45/'3C'!D45 -> 0 | K46: ='3C'!L45/'3C'!D45 -> 0 | L46: ='3C'!M45/'3C'!D45 -> 1.3822383 | M46: ='3C'!N45/'3C'!D45 -> 0 | N46: ='3C'!O45/'3C'!D45 -> 0 | O46: ='3C'!P45/'3C'!D45 -> 1.6308423 | P46: ='3C'!Q45/'3C'!D45 -> 0 | Q46: ='3C'!R45/'3C'!D45 -> 0 | R46: ='3C'!S45/'3C'!D45 -> 0 | S46: ='3C'!T45/'3C'!D45 -> 5.4404898 | T46: ='3C'!U45/'3C'!D45 -> 0 | U46: ='3C'!V45/'3C'!D45 -> 0 | V46: ='3C'!W45/'3C'!D45 -> 1.3822383 | W46: ='3C'!X45/'3C'!D45 -> 0 | X46: ='3C'!Y45/'3C'!D45 -> 0 | Y46: ='3C'!Z45/'3C'!D45 -> 1.3413436 | Z46: ='3C'!AA45/'3C'!D45 -> 0 | AA46: ='3C'!AB45/'3C'!D45 -> 0 | AB46: ='3C'!AC45/'3C'!D45 -> 0 | AC46: ='3C'!AD45/'3C'!D45 -> 0 | AD46: ='3C'!AE45/'3C'!D45 -> 1.5316694 | AE46: ='3C'!AF45/'3C'!D45 -> 2.7148153 | AF46: ='3C'!AG45/'3C'!D45 -> 0 | AG46: ='3C'!AH45/'3C'!D45 -> 1.7572641 | AH46: ='3C'!AI45/'3C'!D45 -> 1.7572641 | AI46: ='3C'!AJ45/'3C'!D45 -> 3.7468938
B47: 147 | C47: GCTA | D47: ='3C'!E46/'3C'!D46 -> 0.93533205 | E47: ='3C'!F46/'3C'!D46 -> 1.2154803 | F47: ='3C'!G46/'3C'!D46 -> 0 | G47: ='3C'!H46/'3C'!D46 -> 0 | H47: ='3C'!I46/'3C'!D46 -> 0.91038986 | I47: ='3C'!J46/'3C'!D46 -> 1.9458118 | J47: ='3C'!K46/'3C'!D46 -> 1.0592854 | K47: ='3C'!L46/'3C'!D46 -> 0 | L47: ='3C'!M46/'3C'!D46 -> 2.398805 | M47: ='3C'!N46/'3C'!D46 -> 1.0794623 | N47: ='3C'!O46/'3C'!D46 -> 1.2953547 | O47: ='3C'!P46/'3C'!D46 -> 1.4913623 | P47: ='3C'!Q46/'3C'!D46 -> 0 | Q47: ='3C'!R46/'3C'!D46 -> 0 | R47: ='3C'!S46/'3C'!D46 -> 0 | S47: ='3C'!T46/'3C'!D46 -> 0 | T47: ='3C'!U46/'3C'!D46 -> 1.3334534 | U47: ='3C'!V46/'3C'!D46 -> 1.3822383 | V47: ='3C'!W46/'3C'!D46 -> 0.9524667 | W47: ='3C'!X46/'3C'!D46 -> 0 | X47: ='3C'!Y46/'3C'!D46 -> 0 | Y47: ='3C'!Z46/'3C'!D46 -> 0 | Z47: ='3C'!AA46/'3C'!D46 -> 0 | AA47: ='3C'!AB46/'3C'!D46 -> 2.4244607 | AB47: ='3C'!AC46/'3C'!D46 -> 1.1624978 | AC47: ='3C'!AD46/'3C'!D46 -> 0 | AD47: ='3C'!AE46/'3C'!D46 -> 0 | AE47: ='3C'!AF46/'3C'!D46 -> 2.1185708 | AF47: ='3C'!AG46/'3C'!D46 -> 2.9062445 | AG47: ='3C'!AH46/'3C'!D46 -> 1.3738611 | AH47: ='3C'!AI46/'3C'!D46 -> 2.2444265 | AI47: ='3C'!AJ46/'3C'!D46 -> 1.2807179
B48: 147 | C48: ATGC | D48: ='3C'!E47/'3C'!D47 -> 1.0261977 | E48: ='3C'!F47/'3C'!D47 -> 0.69965147 | F48: ='3C'!G47/'3C'!D47 -> 0.88549639 | G48: ='3C'!H47/'3C'!D47 -> 1.1448842 | H48: ='3C'!I47/'3C'!D47 -> 0 | I48: ='3C'!J47/'3C'!D47 -> 0.66477148 | J48: ='3C'!K47/'3C'!D47 -> 0.79539325 | K48: ='3C'!L47/'3C'!D47 -> 1.7437467 | L48: ='3C'!M47/'3C'!D47 -> 0 | M48: ='3C'!N47/'3C'!D47 -> 0.88896892 | N48: ='3C'!O47/'3C'!D47 -> 2.7644765 | O48: ='3C'!P47/'3C'!D47 -> 2.9062445 | P48: ='3C'!Q47/'3C'!D47 -> 1.8734469 | Q48: ='3C'!R47/'3C'!D47 -> 1.0030402 | R48: ='3C'!S47/'3C'!D47 -> 0 | S48: ='3C'!T47/'3C'!D47 -> 1.3949974 | T48: ='3C'!U47/'3C'!D47 -> 0 | U48: ='3C'!V47/'3C'!D47 -> 0.84270288 | V48: ='3C'!W47/'3C'!D47 -> 1.6367298 | W48: ='3C'!X47/'3C'!D47 -> 1.7044141 | X48: ='3C'!Y47/'3C'!D47 -> 0 | Y48: ='3C'!Z47/'3C'!D47 -> 0.85220705 | Z48: ='3C'!AA47/'3C'!D47 -> 0.88549639 | AA48: ='3C'!AB47/'3C'!D47 -> 1.6854058 | AB48: ='3C'!AC47/'3C'!D47 -> 0 | AC48: ='3C'!AD47/'3C'!D47 -> 1.5062264 | AD48: ='3C'!AE47/'3C'!D47 -> 0.88549639 | AE48: ='3C'!AF47/'3C'!D47 -> 2.2897684 | AF48: ='3C'!AG47/'3C'!D47 -> 0 | AG48: ='3C'!AH47/'3C'!D47 -> 0 | AH48: ='3C'!AI47/'3C'!D47 -> 2.3450387 | AI48: ='3C'!AJ47/'3C'!D47 -> 1.016534
B49: 147 | C49: TGCA | D49: ='3C'!E48/'3C'!D48 -> 0.90504068 | E49: ='3C'!F48/'3C'!D48 -> 0.30144558 | F49: ='3C'!G48/'3C'!D48 -> 0.55021135 | G49: ='3C'!H48/'3C'!D48 -> 1.0211129 | H49: ='3C'!I48/'3C'!D48 -> 1.1315495 | I49: ='3C'!J48/'3C'!D48 -> 0.4488853 | J49: ='3C'!K48/'3C'!D48 -> 0.92149217 | K49: ='3C'!L48/'3C'!D48 -> 1.7348501 | L49: ='3C'!M48/'3C'!D48 -> 0 | M49: ='3C'!N48/'3C'!D48 -> 0.52595609 | N49: ='3C'!O48/'3C'!D48 -> 3.2948703 | O49: ='3C'!P48/'3C'!D48 -> 1.3780369 | P49: ='3C'!Q48/'3C'!D48 -> 2.4979292 | Q49: ='3C'!R48/'3C'!D48 -> 2.7443956 | R49: ='3C'!S48/'3C'!D48 -> 0.67067182 | S49: ='3C'!T48/'3C'!D48 -> 0 | T49: ='3C'!U48/'3C'!D48 -> 0 | U49: ='3C'!V48/'3C'!D48 -> 1.2953547 | V49: ='3C'!W48/'3C'!D48 -> 0 | W49: ='3C'!X48/'3C'!D48 -> 0.61266777 | X49: ='3C'!Y48/'3C'!D48 -> 0.51992448 | Y49: ='3C'!Z48/'3C'!D48 -> 0.5768119 | Z49: ='3C'!AA48/'3C'!D48 -> 0.65139964 | AA49: ='3C'!AB48/'3C'!D48 -> 2.4573125 | AB49: ='3C'!AC48/'3C'!D48 -> 0.52717924 | AC49: ='3C'!AD48/'3C'!D48 -> 0.44799817 | AD49: ='3C'!AE48/'3C'!D48 -> 1.1448842 | AE49: ='3C'!AF48/'3C'!D48 -> 0 | AF49: ='3C'!AG48/'3C'!D48 -> 1.0592854 | AG49: ='3C'!AH48/'3C'!D48 -> 0.55834255 | AH49: ='3C'!AI48/'3C'!D48 -> 1.0951066 | AI49: ='3C'!AJ48/'3C'!D48 -> 1.2220327
B50: 147 | C50: CTAG | D50: ='3C'!E49/'3C'!D49 -> 0.65430539 | E50: ='3C'!F49/'3C'!D49 -> 1.0794623 | F50: ='3C'!G49/'3C'!D49 -> 1.1930899 | G50: ='3C'!H49/'3C'!D49 -> 0 | H50: ='3C'!I49/'3C'!D49 -> 0.70619026 | I50: ='3C'!J49/'3C'!D49 -> 0.75815075 | J50: ='3C'!K49/'3C'!D49 -> 1.6546502 | K50: ='3C'!L49/'3C'!D49 -> 0 | L50: ='3C'!M49/'3C'!D49 -> 0 | M50: ='3C'!N49/'3C'!D49 -> 0.74323631 | N50: ='3C'!O49/'3C'!D49 -> 0 | O50: ='3C'!P49/'3C'!D49 -> 0 | P50: ='3C'!Q49/'3C'!D49 -> 0 | Q50: ='3C'!R49/'3C'!D49 -> 1.3907183 | R50: ='3C'!S49/'3C'!D49 -> 1.2253355 | S50: ='3C'!T49/'3C'!D49 -> 1.7044141 | T50: ='3C'!U49/'3C'!D49 -> 0 | U50: ='3C'!V49/'3C'!D49 -> 0 | V50: ='3C'!W49/'3C'!D49 -> 2.4244607 | W50: ='3C'!X49/'3C'!D49 -> 0 | X50: ='3C'!Y49/'3C'!D49 -> 0 | Y50: ='3C'!Z49/'3C'!D49 -> 0 | Z50: ='3C'!AA49/'3C'!D49 -> 0 | AA50: ='3C'!AB49/'3C'!D49 -> 2.3249956 | AB50: ='3C'!AC49/'3C'!D49 -> 1.0446409 | AC50: ='3C'!AD49/'3C'!D49 -> 1.1868433 | AD50: ='3C'!AE49/'3C'!D49 -> 0 | AE50: ='3C'!AF49/'3C'!D49 -> 0 | AF50: ='3C'!AG49/'3C'!D49 -> 2.4774544 | AG50: ='3C'!AH49/'3C'!D49 -> 0.85542292 | AH50: ='3C'!AI49/'3C'!D49 -> 0 | AI50: ='3C'!AJ49/'3C'!D49 -> 0
B51: 147 | C51: GATC | D51: ='3C'!E50/'3C'!D50 -> 0.77457485 | E51: ='3C'!F50/'3C'!D50 -> 0.45795369 | F51: ='3C'!G50/'3C'!D50 -> 0.42690598 | G51: ='3C'!H50/'3C'!D50 -> 0.89422909 | H51: ='3C'!I50/'3C'!D50 -> 0.49821335 | I51: ='3C'!J50/'3C'!D50 -> 0.9964267 | J51: ='3C'!K50/'3C'!D50 -> 0 | K51: ='3C'!L50/'3C'!D50 -> 0 | L51: ='3C'!M50/'3C'!D50 -> 2.1038244 | M51: ='3C'!N50/'3C'!D50 -> 0 | N51: ='3C'!O50/'3C'!D50 -> 1.0494772 | O51: ='3C'!P50/'3C'!D50 -> 1.6230578 | P51: ='3C'!Q50/'3C'!D50 -> 0.88549639 | Q51: ='3C'!R50/'3C'!D50 -> 0 | R51: ='3C'!S50/'3C'!D50 -> 0.53463933 | S51: ='3C'!T50/'3C'!D50 -> 0.44799817 | T51: ='3C'!U50/'3C'!D50 -> 1.2735229 | U51: ='3C'!V50/'3C'!D50 -> 1.2904388 | V51: ='3C'!W50/'3C'!D50 -> 1.2664082 | W51: ='3C'!X50/'3C'!D50 -> 0.48231293 | X51: ='3C'!Y50/'3C'!D50 -> 0.98345803 | Y51: ='3C'!Z50/'3C'!D50 -> 0.50599793 | Z51: ='3C'!AA50/'3C'!D50 -> 0.47723595 | AA51: ='3C'!AB50/'3C'!D50 -> 1.0543585 | AB51: ='3C'!AC50/'3C'!D50 -> 0 | AC51: ='3C'!AD50/'3C'!D50 -> 1.0142598 | AD51: ='3C'!AE50/'3C'!D50 -> 1.0008259 | AE51: ='3C'!AF50/'3C'!D50 -> 2.1305176 | AF51: ='3C'!AG50/'3C'!D50 -> 0 | AG51: ='3C'!AH50/'3C'!D50 -> 0.95648555 | AH51: ='3C'!AI50/'3C'!D50 -> 0.45337415 | AI51: ='3C'!AJ50/'3C'!D50 -> 1.0924678
A52: Jasmonic Acid-Down | B52: 74 | C52: ACGT | D52: ='3C'!E51/'3C'!D51 -> 1.6624303 | E52: ='3C'!F51/'3C'!D51 -> 4.4475142 | F52: ='3C'!G51/'3C'!D51 -> 0 | G52: ='3C'!H51/'3C'!D51 -> 0 | H52: ='3C'!I51/'3C'!D51 -> 1.8685096 | I52: ='3C'!J51/'3C'!D51 -> 1.6315609 | J52: ='3C'!K51/'3C'!D51 -> 0 | K52: ='3C'!L51/'3C'!D51 -> 2.0656459 | L52: ='3C'!M51/'3C'!D51 -> 2.6884228 | M52: ='3C'!N51/'3C'!D51 -> 3.0529546 | N52: ='3C'!O51/'3C'!D51 -> 1.7869477 | O52: ='3C'!P51/'3C'!D51 -> 5.6761867 | P52: ='3C'!Q51/'3C'!D51 -> 1.8685096 | Q52: ='3C'!R51/'3C'!D51 -> 0 | R52: ='3C'!S51/'3C'!D51 -> 3.7370192 | S52: ='3C'!T51/'3C'!D51 -> 1.4433039 | T52: ='3C'!U51/'3C'!D51 -> 0 | U52: ='3C'!V51/'3C'!D51 -> 0 | V52: ='3C'!W51/'3C'!D51 -> 1.5912043 | W52: ='3C'!X51/'3C'!D51 -> 1.6256708 | X52: ='3C'!Y51/'3C'!D51 -> 1.6025296 | Y52: ='3C'!Z51/'3C'!D51 -> 1.4250342 | Z52: ='3C'!AA51/'3C'!D51 -> 1.8455361 | AA52: ='3C'!AB51/'3C'!D51 -> 1.501036 | AB52: ='3C'!AC51/'3C'!D51 -> 0 | AC52: ='3C'!AD51/'3C'!D51 -> 1.4433039 | AD52: ='3C'!AE51/'3C'!D51 -> 0 | AE52: ='3C'!AF51/'3C'!D51 -> 2.9240962 | AF52: ='3C'!AG51/'3C'!D51 -> 0 | AG52: ='3C'!AH51/'3C'!D51 -> 0 | AH52: ='3C'!AI51/'3C'!D51 -> 1.8607885 | AI52: ='3C'!AJ51/'3C'!D51 -> 5.4254315
B53: 74 | C53: AGCT | D53: ='3C'!E52/'3C'!D52 -> 0.44307394 | E53: ='3C'!F52/'3C'!D52 -> 0 | F53: ='3C'!G52/'3C'!D52 -> 1.8380033 | G53: ='3C'!H52/'3C'!D52 -> 0 | H53: ='3C'!I52/'3C'!D52 -> 0 | I53: ='3C'!J52/'3C'!D52 -> 0 | J53: ='3C'!K52/'3C'!D52 -> 1.4363981 | K53: ='3C'!L52/'3C'!D52 -> 1.9326644 | L53: ='3C'!M52/'3C'!D52 -> 0 | M53: ='3C'!N52/'3C'!D52 -> 0 | N53: ='3C'!O52/'3C'!D52 -> 0 | O53: ='3C'!P52/'3C'!D52 -> 0 | P53: ='3C'!Q52/'3C'!D52 -> 0 | Q53: ='3C'!R52/'3C'!D52 -> 0 | R53: ='3C'!S52/'3C'!D52 -> 0 | S53: ='3C'!T52/'3C'!D52 -> 1.6525167 | T53: ='3C'!U52/'3C'!D52 -> 0 | U53: ='3C'!V52/'3C'!D52 -> 0 | V53: ='3C'!W52/'3C'!D52 -> 0 | W53: ='3C'!X52/'3C'!D52 -> 0.8561042 | X53: ='3C'!Y52/'3C'!D52 -> 0.94802276 | Y53: ='3C'!Z52/'3C'!D52 -> 0.90242647 | Z53: ='3C'!AA52/'3C'!D52 -> 0 | AA53: ='3C'!AB52/'3C'!D52 -> 0 | AB53: ='3C'!AC52/'3C'!D52 -> 0 | AC53: ='3C'!AD52/'3C'!D52 -> 1.0351973 | AD53: ='3C'!AE52/'3C'!D52 -> 0 | AE53: ='3C'!AF52/'3C'!D52 -> 0.8128354 | AF53: ='3C'!AG52/'3C'!D52 -> 0 | AG53: ='3C'!AH52/'3C'!D52 -> 0 | AH53: ='3C'!AI52/'3C'!D52 -> 0.85447972 | AI53: ='3C'!AJ52/'3C'!D52 -> 0.97893655
