Workbook

Sheet matrix
B1: AC-Namen | C1: phage T7 | D1: phage phiA1122 | E1: Berlin | F1: phage T3 | G1: phage phiYeO3-12 | H1: phage K1F | I1: phage VP4 | J1: phage gh-1 | K1: phage syn5 | L1: phage P-SSP7 | M1: phage P60 | N1: phage SP6 | O1: phage K1-5 | P1: Era103 | Q1: phage phiKMV | R1: phage LKD16 | S1: phage LKA1 | T1: phage P22 | U1: phage ST104 | V1: phage ST64T | W1: phage HK620 | X1: phage Sf6 | Y1: phage APSE-1 | Z1: phage BIP-1 | AA1: phage BMP-1 | AB1: phage BPP-1 | AC1: phage BcepC6B | AD1: Phage phiV10 | AE1: epsilon15 | AF1: virus P1 | AG1: phage GA-1 | AH1: phage B103 | AI1: phage phi29 | AJ1: phage Cp-1 | AK1: phage 44AHJD | AL1: phage phiP68 | AM1: phage 66 | AN1: phage C1 | AO1: phage PaP2 | AP1: phage 119X | AQ1: phage VP2 | AR1: phage VP5 | AS1: phage KS7 | AT1: phage setp3 | AU1: phage PaP3 | AV1: phage Mx8 | AW1: phage Pf-WMP4 | AX1: phage ST64B | AY1: phage F116 | AZ1: phage Bcep22 | BA1: phage VpV262 | BB1: phage SIO1 | BC1: phage N4 | BD1: phage 69 | BE1: phage phi 11 | BF1: phage 53 | BG1: phage phiETA2 | BH1: phage phiNM] | BI1: phage 85 | BJ1: phage 187 | BK1: phage 92 | BL1: phage 52A | BM1: phage phiETA3 | BN1: phage 88 | BO1: phage 29] | BP1: phage 55 | BQ1: phage X2 | BR1: phage 96 | BS1: phage 71] | BT1: phage 37 | BU1: phage CNPH82 | BV1: phage PH15 | BW1: phage EW | BX1: phage 77 | BY1: phage phiNM3 | BZ1: phage phiPVL108 | CA1: phage phi 13 | CB1: phage phiN315 | CC1: phage PVL | CD1: phage phi ETA] | CE1: phage 47 | CF1: phage phi 12 | CG1: phage phiSLT | CH1: phage 3A | CI1: phage 42e | CJ1: phage Tuc2009 | CK1: phage TP901-1 | CL1: phage ul36 | CM1: phage r1t | CN1: phage phi LC3 | CO1: phage bIL286 | CP1: phage BK5-T | CQ1: phage 4268 | CR1: phage bIL309 | CS1: phage bIL285 | CT1: phage O1205 | CU1: phage 2972 | CV1: phage Sfi11 | CW1: phage Sfi21 | CX1: phage Sfi19 | CY1: phage DT1 | CZ1: phage Orion | DA1: phage PG1 | DB1: phage Cooper | DC1: phage Qyrzula | DD1: phage Rosebush | DE1: phage 86 | DF1: Stx2 converting bacteriophage II | DG1: Stx1 converting bacteriophage | DH1: Phage phi 4795 | DI1: phage lambda | DJ1: phage L5 | DK1: phage Che12 | DL1: phage Bxz2 | DM1: phage Bxb1 | DN1: phage D29 | DO1: phage sk1 | DP1: phage 712 | DQ1: phage jj50 | DR1: phage P008 | DS1: phage bIL170 | DT1: phage PMC | DU1: phage Llij | DV1: phage Che9d | DW1: phage Che8 | DX1: phage Gamma | DY1: phage Cherry | DZ1: phage Fah | EA1: phage W beta | EB1: phage phi644-2 | EC1: phage phiE125 | ED1: phage phi1026b | EE1: phage T1 | EF1: phage RTP | EG1: phage JK06 | EH1: phage phi AT3 | EI1: phage Lc-Nu | EJ1: phage A2 | EK1: phage phiKO2 | EL1: phage PY54 | EM1: phage N15 | EN1: phage 244 | EO1: phage CJW1 | EP1: phage PLot | EQ1: phage PBI1 | ER1: phage D3112 | ES1: phage DMS3 | ET1: phage Bcep176 | EU1: phage psiM2 | EV1: phage 2638A | EW1: phage phiC31 | EX1: phiBT1 | EY1: phage BcepGomr | EZ1: phage Q54 | FA1: Phage phiJL001 | FB1: phage B3 | FC1: phage SPP1 | FD1: phage mu1/6 | FE1: phage A118 | FF1: phage MM1 | FG1: phage bIL312 | FH1: phage bIL311 | FI1: phage bIL310 | FJ1: phage phi3396 | FK1: phage 11b | FL1: Archaeal BJ1 | FM1: phage BCJA1c | FN1: phage phiAsp2 | FO1: phage phi-105 | FP1: phage Catera | FQ1: phage Wildcat | FR1: phage Halo | FS1: phage phig1e | FT1: phage BcepNazgul | FU1: phage VWB | FV1: phage Omega | FW1: phage Che9c | FX1: phage KC5a | FY1: phage phiHSIC | FZ1: phage ES18 | GA1: phage T5 | GB1: phage Lj965 | GC1: phage Lj928 | GD1: phage SM1 | GE1: phage Xp10 | GF1: phage Barnyard | GG1: phage Corndog | GH1: phage phi3626 | GI1: phage TM4 | GJ1: phage PSA | GK1: phage PhiNIH1.1 | GL1: phage D3] | GM1: phage 7201 | GN1: phage HK97 | GO1: phage HK022 | GP1: phage phi adh | GQ1: phage SPBc2 | GR1: phage c2 | GS1: phage SETP3 | GT1: phage RSA1 | GU1: phage phi52237 | GV1: phage phiE202 | GW1: phage phiE12-2 | GX1: phage 186 | GY1: phage WPhi | GZ1: phage PsP3 | HA1: phage P2] | HB1: phage L-413C | HC1: phage phi CTX | HD1: phage phi-MhaA1-PHL101 | HE1: phage VHML | HF1: phage VP882 | HG1: phage F108 | HH1: phage HP1] | HI1: phage HP2] | HJ1: phage K139 | HK1: phage Mu | HL1: phage phiE255 | HM1: phage BcepMu | HN1: phage P27 | HO1: phage V] | HP1: phage 25] | HQ1: phage 31] | HR1: phage 44RR2 | HS1: phage RB69 | HT1: phage RB32 | HU1: phage T4 | HV1: phage RB49 | HW1: phage Aeh1 | HX1: phage RB43 | HY1: phage KVP40 | HZ1: phage P-SSM4 | IA1: phage S-PM2 | IB1: phage Syn9 | IC1: phage P-SSM2 | ID1: phage Bcep1] | IE1: phage Bcep781] | IF1: phage Bcep43] | IG1: phage BcepB1A] | IH1: phage BcepF1] | II1: phage G1] | IJ1: phage K] | IK1: phage Twort | IL1: phage P100] | IM1: phage LP65] | IN1: phage EL] | IO1: phage phiKZ | IP1: phage Aaphi23 | IQ1: phage Felix 01 | IR1: phage Bxz1 | IS1: phage EJ-1 | IT1: phage GBSV1 | IU1: phage RM 378 | IV1: PhiCh1 | IW1: phage Ma-LMM01 | IX1: phage P1] | IY1: phage P4] | IZ1: phage phi CD119
A2: phage T7 | B2: NC_001604 | C2: 60 | D2: 53 | E2: 44 | F2: 44 | G2: 42 | H2: 39 | I2: 29 | J2: 33 | K2: 0 | L2: 13 | M2: 10 | N2: 10 | O2: 13 | P2: 10 | Q2: 6 | R2: 5 | S2: 7 | T2: 0 | U2: 0 | V2: 0 | W2: 0 | X2: 1 | Y2: 0 | Z2: 0 | AA2: 0 | AB2: 0 | AC2: 0 | AD2: 0 | AE2: 0 | AF2: 0 | AG2: 0 | AH2: 0 | AI2: 0 | AJ2: 0 | AK2: 0 | AL2: 0 | AM2: 0 | AN2: 0 | AO2: 0 | AP2: 0 | AQ2: 0 | AR2: 0 | AS2: 0 | AT2: 0 | AU2: 4 | AV2: 2 | AW2: 0 | AX2: 0 | AY2: 0 | AZ2: 0 | BA2: 1 | BB2: 5 | BC2: 2 | BD2: 0 | BE2: 0 | BF2: 0 | BG2: 0 | BH2: 0 | BI2: 0 | BJ2: 0 | BK2: 0 | BL2: 0 | BM2: 0 | BN2: 0 | BO2: 0 | BP2: 0 | BQ2: 0 | BR2: 0 | BS2: 0 | BT2: 0 | BU2: 0 | BV2: 0 | BW2: 0 | BX2: 0 | BY2: 0 | BZ2: 0 | CA2: 0 | CB2: 0 | CC2: 0 | CD2: 0 | CE2: 0 | CF2: 0 | CG2: 0 | CH2: 0 | CI2: 0 | CJ2: 0 | CK2: 0 | CL2: 0 | CM2: 0 | CN2: 0 | CO2: 0 | CP2: 0 | CQ2: 0 | CR2: 0 | CS2: 0 | CT2: 0 | CU2: 0 | CV2: 0 | CW2: 0 | CX2: 0 | CY2: 0 | CZ2: 1 | DA2: 1 | DB2: 0 | DC2: 0 | DD2: 0 | DE2: 0 | DF2: 0 | DG2: 0 | DH2: 0 | DI2: 0 | DJ2: 0 | DK2: 0 | DL2: 0 | DM2: 0 | DN2: 0 | DO2: 0 | DP2: 0 | DQ2: 0 | DR2: 0 | DS2: 0 | DT2: 0 | DU2: 0 | DV2: 0 | DW2: 0 | DX2: 0 | DY2: 0 | DZ2: 0 | EA2: 0 | EB2: 0 | EC2: 0 | ED2: 0 | EE2: 1 | EF2: 1 | EG2: 0 | EH2: 0 | EI2: 0 | EJ2: 0 | EK2: 0 | EL2: 0 | EM2: 0 | EN2: 0 | EO2: 0 | EP2: 0 | EQ2: 0 | ER2: 0 | ES2: 0 | ET2: 0 | EU2: 0 | EV2: 0 | EW2: 0 | EX2: 0 | EY2: 0 | EZ2: 0 | FA2: 0 | FB2: 0 | FC2: 0 | FD2: 0 | FE2: 0 | FF2: 1 | FG2: 0 | FH2: 0 | FI2: 0 | FJ2: 1 | FK2: 0 | FL2: 0 | FM2: 0 | FN2: 0 | FO2: 0 | FP2: 0 | FQ2: 2 | FR2: 0 | FS2: 0 | FT2: 0 | FU2: 0 | FV2: 0 | FW2: 0 | FX2: 0 | FY2: 0 | FZ2: 4 | GA2: 1 | GB2: 0 | GC2: 0 | GD2: 1 | GE2: 2 | GF2: 0 | GG2: 1 | GH2: 2 | GI2: 0 | GJ2: 0 | GK2: 0 | GL2: 0 | GM2: 0 | GN2: 0 | GO2: 1 | GP2: 0 | GQ2: 1 | GR2: 0 | GS2: 1 | GT2: 0 | GU2: 0 | GV2: 0 | GW2: 0 | GX2: 0 | GY2: 0 | GZ2: 0 | HA2: 0 | HB2: 0 | HC2: 0 | HD2: 0 | HE2: 0 | HF2: 0 | HG2: 0 | HH2: 0 | HI2: 0 | HJ2: 0 | HK2: 0 | HL2: 0 | HM2: 0 | HN2: 0 | HO2: 0 | HP2: 1 | HQ2: 1 | HR2: 1 | HS2: 1 | HT2: 0 | HU2: 0 | HV2: 0 | HW2: 2 | HX2: 0 | HY2: 0 | HZ2: 0 | IA2: 1 | IB2: 0 | IC2: 0 | ID2: 0 | IE2: 0 | IF2: 0 | IG2: 0 | IH2: 0 | II2: 0 | IJ2: 0 | IK2: 0 | IL2: 0 | IM2: 0 | IN2: 0 | IO2: 0 | IP2: 0 | IQ2: 5 | IR2: 0 | IS2: 1 | IT2: 0 | IU2: 0 | IV2: 0 | IW2: 0 | IX2: 3 | IY2: 0 | IZ2: 0 | JA2: =+MAX(A2:IZ2) -> 60
A3: phage phiA1122 | B3: NC_004777 | C3: 48 | D3: 49 | E3: 40 | F3: 40 | G3: 38 | H3: 37 | I3: 25 | J3: 30 | K3: 0 | L3: 11 | M3: 9 | N3: 9 | O3: 12 | P3: 10 | Q3: 5 | R3: 5 | S3: 6 | T3: 0 | U3: 0 | V3: 0 | W3: 0 | X3: 1 | Y3: 0 | Z3: 0 | AA3: 0 | AB3: 0 | AC3: 0 | AD3: 0 | AE3: 0 | AF3: 0 | AG3: 0 | AH3: 0 | AI3: 0 | AJ3: 0 | AK3: 0 | AL3: 0 | AM3: 0 | AN3: 0 | AO3: 0 | AP3: 0 | AQ3: 0 | AR3: 0 | AS3: 0 | AT3: 0 | AU3: 2 | AV3: 2 | AW3: 0 | AX3: 0 | AY3: 0 | AZ3: 0 | BA3: 1 | BB3: 3 | BC3: 2 | BD3: 0 | BE3: 0 | BF3: 1 | BG3: 1 | BH3: 0 | BI3: 1 | BJ3: 0 | BK3: 0 | BL3: 0 | BM3: 0 | BN3: 0 | BO3: 0 | BP3: 0 | BQ3: 0 | BR3: 1 | BS3: 0 | BT3: 0 | BU3: 1 | BV3: 1 | BW3: 0 | BX3: 1 | BY3: 0 | BZ3: 0 | CA3: 0 | CB3: 1 | CC3: 0 | CD3: 0 | CE3: 1 | CF3: 1 | CG3: 0 | CH3: 1 | CI3: 0 | CJ3: 0 | CK3: 0 | CL3: 0 | CM3: 0 | CN3: 0 | CO3: 0 | CP3: 0 | CQ3: 0 | CR3: 0 | CS3: 0 | CT3: 0 | CU3: 0 | CV3: 0 | CW3: 0 | CX3: 0 | CY3: 0 | CZ3: 1 | DA3: 1 | DB3: 0 | DC3: 0 | DD3: 0 | DE3: 0 | DF3: 0 | DG3: 0 | DH3: 0 | DI3: 0 | DJ3: 0 | DK3: 0 | DL3: 0 | DM3: 0 | DN3: 0 | DO3: 0 | DP3: 0 | DQ3: 0 | DR3: 0 | DS3: 0 | DT3: 0 | DU3: 0 | DV3: 0 | DW3: 0 | DX3: 0 | DY3: 0 | DZ3: 0 | EA3: 0 | EB3: 0 | EC3: 0 | ED3: 0 | EE3: 1 | EF3: 1 | EG3: 0 | EH3: 0 | EI3: 0 | EJ3: 0 | EK3: 0 | EL3: 0 | EM3: 0 | EN3: 0 | EO3: 0 | EP3: 0 | EQ3: 0 | ER3: 0 | ES3: 0 | ET3: 0 | EU3: 0 | EV3: 0 | EW3: 0 | EX3: 0 | EY3: 0 | EZ3: 0 | FA3: 0 | FB3: 0 | FC3: 0 | FD3: 0 | FE3: 0 | FF3: 1 | FG3: 0 | FH3: 0 | FI3: 0 | FJ3: 1 | FK3: 0 | FL3: 0 | FM3: 0 | FN3: 0 | FO3: 0 | FP3: 1 | FQ3: 1 | FR3: 0 | FS3: 0 | FT3: 0 | FU3: 0 | FV3: 0 | FW3: 0 | FX3: 0 | FY3: 0 | FZ3: 3 | GA3: 1 | GB3: 0 | GC3: 0 | GD3: 1 | GE3: 2 | GF3: 0 | GG3: 1 | GH3: 1 | GI3: 0 | GJ3: 1 | GK3: 1 | GL3: 0 | GM3: 0 | GN3: 0 | GO3: 1 | GP3: 0 | GQ3: 0 | GR3: 0 | GS3: 1 | GT3: 0 | GU3: 0 | GV3: 0 | GW3: 0 | GX3: 0 | GY3: 0 | GZ3: 0 | HA3: 0 | HB3: 0 | HC3: 0 | HD3: 0 | HE3: 0 | HF3: 0 | HG3: 0 | HH3: 0 | HI3: 0 | HJ3: 0 | HK3: 0 | HL3: 0 | HM3: 0 | HN3: 0 | HO3: 0 | HP3: 1 | HQ3: 0 | HR3: 0 | HS3: 0 | HT3: 0 | HU3: 0 | HV3: 0 | HW3: 0 | HX3: 0 | HY3: 0 | HZ3: 0 | IA3: 1 | IB3: 0 | IC3: 1 | ID3: 0 | IE3: 0 | IF3: 0 | IG3: 0 | IH3: 0 | II3: 0 | IJ3: 0 | IK3: 1 | IL3: 1 | IM3: 1 | IN3: 0 | IO3: 0 | IP3: 0 | IQ3: 4 | IR3: 1 | IS3: 1 | IT3: 0 | IU3: 0 | IV3: 0 | IW3: 0 | IX3: 1 | IY3: 0 | IZ3: 0 | JA3: =+MAX(A3:IZ3) -> 49
A4: Berlin | B4: NC_008694 | C4: 38 | D4: 37 | E4: 45 | F4: 38 | G4: 38 | H4: 34 | I4: 25 | J4: 28 | K4: 0 | L4: 12 | M4: 12 | N4: 8 | O4: 8 | P4: 9 | Q4: 6 | R4: 6 | S4: 5 | T4: 0 | U4: 0 | V4: 0 | W4: 0 | X4: 1 | Y4: 0 | Z4: 0 | AA4: 0 | AB4: 0 | AC4: 0 | AD4: 0 | AE4: 0 | AF4: 0 | AG4: 0 | AH4: 0 | AI4: 0 | AJ4: 0 | AK4: 0 | AL4: 0 | AM4: 0 | AN4: 0 | AO4: 0 | AP4: 0 | AQ4: 0 | AR4: 0 | AS4: 0 | AT4: 0 | AU4: 4 | AV4: 0 | AW4: 0 | AX4: 0 | AY4: 0 | AZ4: 0 | BA4: 1 | BB4: 5 | BC4: 1 | BD4: 0 | BE4: 0 | BF4: 0 | BG4: 0 | BH4: 0 | BI4: 0 | BJ4: 0 | BK4: 0 | BL4: 0 | BM4: 0 | BN4: 0 | BO4: 0 | BP4: 0 | BQ4: 0 | BR4: 0 | BS4: 0 | BT4: 0 | BU4: 0 | BV4: 0 | BW4: 0 | BX4: 0 | BY4: 0 | BZ4: 0 | CA4: 0 | CB4: 0 | CC4: 0 | CD4: 0 | CE4: 0 | CF4: 0 | CG4: 0 | CH4: 0 | CI4: 0 | CJ4: 0 | CK4: 0 | CL4: 0 | CM4: 0 | CN4: 0 | CO4: 0 | CP4: 0 | CQ4: 0 | CR4: 0 | CS4: 0 | CT4: 0 | CU4: 0 | CV4: 0 | CW4: 0 | CX4: 0 | CY4: 0 | CZ4: 0 | DA4: 0 | DB4: 0 | DC4: 0 | DD4: 0 | DE4: 0 | DF4: 0 | DG4: 0 | DH4: 0 | DI4: 0 | DJ4: 1 | DK4: 1 | DL4: 3 | DM4: 1 | DN4: 1 | DO4: 0 | DP4: 0 | DQ4: 0 | DR4: 0 | DS4: 0 | DT4: 0 | DU4: 0 | DV4: 0 | DW4: 0 | DX4: 0 | DY4: 0 | DZ4: 0 | EA4: 0 | EB4: 0 | EC4: 0 | ED4: 0 | EE4: 0 | EF4: 0 | EG4: 0 | EH4: 0 | EI4: 0 | EJ4: 0 | EK4: 0 | EL4: 0 | EM4: 0 | EN4: 1 | EO4: 0 | EP4: 0 | EQ4: 0 | ER4: 0 | ES4: 0 | ET4: 0 | EU4: 0 | EV4: 0 | EW4: 0 | EX4: 0 | EY4: 0 | EZ4: 0 | FA4: 0 | FB4: 0 | FC4: 0 | FD4: 0 | FE4: 0 | FF4: 0 | FG4: 0 | FH4: 0 | FI4: 0 | FJ4: 0 | FK4: 0 | FL4: 0 | FM4: 0 | FN4: 0 | FO4: 0 | FP4: 0 | FQ4: 1 | FR4: 0 | FS4: 0 | FT4: 0 | FU4: 0 | FV4: 1 | FW4: 0 | FX4: 0 | FY4: 0 | FZ4: 3 | GA4: 0 | GB4: 0 | GC4: 0 | GD4: 1 | GE4: 2 | GF4: 0 | GG4: 0 | GH4: 2 | GI4: 0 | GJ4: 0 | GK4: 0 | GL4: 0 | GM4: 0 | GN4: 0 | GO4: 0 | GP4: 0 | GQ4: 1 | GR4: 0 | GS4: 0 | GT4: 0 | GU4: 0 | GV4: 0 | GW4: 0 | GX4: 0 | GY4: 0 | GZ4: 0 | HA4: 0 | HB4: 0 | HC4: 0 | HD4: 0 | HE4: 0 | HF4: 0 | HG4: 0 | HH4: 0 | HI4: 0 | HJ4: 0 | HK4: 0 | HL4: 0 | HM4: 0 | HN4: 0 | HO4: 0 | HP4: 0 | HQ4: 0 | HR4: 0 | HS4: 0 | HT4: 0 | HU4: 0 | HV4: 0 | HW4: 0 | HX4: 0 | HY4: 0 | HZ4: 0 | IA4: 2 | IB4: 0 | IC4: 0 | ID4: 0 | IE4: 0 | IF4: 0 | IG4: 0 | IH4: 0 | II4: 0 | IJ4: 0 | IK4: 0 | IL4: 0 | IM4: 0 | IN4: 0 | IO4: 0 | IP4: 1 | IQ4: 3 | IR4: 0 | IS4: 0 | IT4: 0 | IU4: 0 | IV4: 0 | IW4: 0 | IX4: 2 | IY4: 0 | IZ4: 0 | JA4: =+MAX(A4:IZ4) -> 45
A5: phage T3 | B5: NC_003298 | C5: 43 | D5: 42 | E5: 43 | F5: 55 | G5: 53 | H5: 38 | I5: 30 | J5: 31 | K5: 0 | L5: 14 | M5: 14 | N5: 11 | O5: 11 | P5: 11 | Q5: 7 | R5: 7 | S5: 6 | T5: 0 | U5: 0 | V5: 0 | W5: 0 | X5: 1 | Y5: 0 | Z5: 0 | AA5: 0 | AB5: 0 | AC5: 0 | AD5: 0 | AE5: 0 | AF5: 0 | AG5: 0 | AH5: 0 | AI5: 0 | AJ5: 0 | AK5: 0 | AL5: 0 | AM5: 0 | AN5: 0 | AO5: 0 | AP5: 0 | AQ5: 0 | AR5: 0 | AS5: 0 | AT5: 0 | AU5: 4 | AV5: 0 | AW5: 0 | AX5: 0 | AY5: 0 | AZ5: 0 | BA5: 1 | BB5: 6 | BC5: 1 | BD5: 0 | BE5: 0 | BF5: 0 | BG5: 0 | BH5: 0 | BI5: 0 | BJ5: 0 | BK5: 0 | BL5: 0 | BM5: 0 | BN5: 0 | BO5: 0 | BP5: 0 | BQ5: 0 | BR5: 0 | BS5: 0 | BT5: 0 | BU5: 0 | BV5: 0 | BW5: 0 | BX5: 0 | BY5: 0 | BZ5: 0 | CA5: 0 | CB5: 0 | CC5: 0 | CD5: 0 | CE5: 0 | CF5: 0 | CG5: 0 | CH5: 0 | CI5: 0 | CJ5: 0 | CK5: 0 | CL5: 1 | CM5: 0 | CN5: 0 | CO5: 0 | CP5: 0 | CQ5: 0 | CR5: 0 | CS5: 0 | CT5: 0 | CU5: 0 | CV5: 0 | CW5: 0 | CX5: 0 | CY5: 0 | CZ5: 1 | DA5: 1 | DB5: 0 | DC5: 0 | DD5: 0 | DE5: 0 | DF5: 0 | DG5: 0 | DH5: 0 | DI5: 0 | DJ5: 0 | DK5: 0 | DL5: 2 | DM5: 0 | DN5: 0 | DO5: 0 | DP5: 0 | DQ5: 0 | DR5: 0 | DS5: 0 | DT5: 0 | DU5: 0 | DV5: 0 | DW5: 0 | DX5: 0 | DY5: 0 | DZ5: 0 | EA5: 0 | EB5: 0 | EC5: 0 | ED5: 0 | EE5: 1 | EF5: 1 | EG5: 0 | EH5: 0 | EI5: 0 | EJ5: 0 | EK5: 0 | EL5: 0 | EM5: 0 | EN5: 0 | EO5: 0 | EP5: 0 | EQ5: 0 | ER5: 0 | ES5: 0 | ET5: 0 | EU5: 0 | EV5: 0 | EW5: 0 | EX5: 0 | EY5: 0 | EZ5: 0 | FA5: 0 | FB5: 0 | FC5: 0 | FD5: 0 | FE5: 0 | FF5: 0 | FG5: 0 | FH5: 0 | FI5: 0 | FJ5: 0 | FK5: 0 | FL5: 0 | FM5: 0 | FN5: 0 | FO5: 0 | FP5: 0 | FQ5: 2 | FR5: 0 | FS5: 0 | FT5: 0 | FU5: 0 | FV5: 0 | FW5: 0 | FX5: 0 | FY5: 0 | FZ5: 2 | GA5: 0 | GB5: 0 | GC5: 0 | GD5: 0 | GE5: 1 | GF5: 0 | GG5: 0 | GH5: 2 | GI5: 0 | GJ5: 0 | GK5: 0 | GL5: 0 | GM5: 0 | GN5: 0 | GO5: 0 | GP5: 0 | GQ5: 0 | GR5: 0 | GS5: 0 | GT5: 0 | GU5: 0 | GV5: 0 | GW5: 0 | GX5: 0 | GY5: 0 | GZ5: 0 | HA5: 0 | HB5: 0 | HC5: 0 | HD5: 0 | HE5: 0 | HF5: 0 | HG5: 0 | HH5: 0 | HI5: 0 | HJ5: 0 | HK5: 0 | HL5: 0 | HM5: 0 | HN5: 0 | HO5: 0 | HP5: 1 | HQ5: 0 | HR5: 0 | HS5: 0 | HT5: 0 | HU5: 0 | HV5: 0 | HW5: 0 | HX5: 0 | HY5: 0 | HZ5: 0 | IA5: 1 | IB5: 0 | IC5: 0 | ID5: 0 | IE5: 0 | IF5: 0 | IG5: 0 | IH5: 0 | II5: 0 | IJ5: 0 | IK5: 0 | IL5: 0 | IM5: 0 | IN5: 0 | IO5: 0 | IP5: 1 | IQ5: 4 | IR5: 0 | IS5: 0 | IT5: 0 | IU5: 0 | IV5: 0 | IW5: 0 | IX5: 2 | IY5: 0 | IZ5: 0 | JA5: =+MAX(A5:IZ5) -> 55
A6: phage phiYeO3-12 | B6: NC_001271 | C6: 45 | D6: 44 | E6: 47 | F6: 56 | G6: 58 | H6: 41 | I6: 32 | J6: 33 | K6: 0 | L6: 15 | M6: 13 | N6: 10 | O6: 10 | P6: 13 | Q6: 8 | R6: 8 | S6: 6 | T6: 0 | U6: 0 | V6: 0 | W6: 0 | X6: 1 | Y6: 0 | Z6: 0 | AA6: 0 | AB6: 0 | AC6: 0 | AD6: 0 | AE6: 0 | AF6: 0 | AG6: 0 | AH6: 0 | AI6: 0 | AJ6: 0 | AK6: 0 | AL6: 0 | AM6: 0 | AN6: 0 | AO6: 0 | AP6: 0 | AQ6: 0 | AR6: 0 | AS6: 1 | AT6: 0 | AU6: 5 | AV6: 0 | AW6: 0 | AX6: 0 | AY6: 0 | AZ6: 1 | BA6: 1 | BB6: 6 | BC6: 1 | BD6: 0 | BE6: 0 | BF6: 0 | BG6: 0 | BH6: 0 | BI6: 0 | BJ6: 0 | BK6: 0 | BL6: 0 | BM6: 0 | BN6: 0 | BO6: 0 | BP6: 0 | BQ6: 0 | BR6: 0 | BS6: 0 | BT6: 0 | BU6: 0 | BV6: 0 | BW6: 0 | BX6: 0 | BY6: 0 | BZ6: 0 | CA6: 0 | CB6: 0 | CC6: 0 | CD6: 0 | CE6: 0 | CF6: 0 | CG6: 0 | CH6: 0 | CI6: 0 | CJ6: 0 | CK6: 0 | CL6: 0 | CM6: 0 | CN6: 0 | CO6: 0 | CP6: 0 | CQ6: 0 | CR6: 0 | CS6: 0 | CT6: 0 | CU6: 0 | CV6: 0 | CW6: 0 | CX6: 0 | CY6: 0 | CZ6: 1 | DA6: 1 | DB6: 0 | DC6: 0 | DD6: 0 | DE6: 0 | DF6: 0 | DG6: 0 | DH6: 0 | DI6: 0 | DJ6: 1 | DK6: 1 | DL6: 3 | DM6: 1 | DN6: 1 | DO6: 0 | DP6: 1 | DQ6: 0 | DR6: 1 | DS6: 1 | DT6: 0 | DU6: 0 | DV6: 0 | DW6: 0 | DX6: 0 | DY6: 0 | DZ6: 0 | EA6: 0 | EB6: 0 | EC6: 0 | ED6: 0 | EE6: 2 | EF6: 2 | EG6: 0 | EH6: 0 | EI6: 0 | EJ6: 0 | EK6: 0 | EL6: 0 | EM6: 0 | EN6: 1 | EO6: 0 | EP6: 0 | EQ6: 0 | ER6: 0 | ES6: 0 | ET6: 1 | EU6: 0 | EV6: 0 | EW6: 0 | EX6: 0 | EY6: 0 | EZ6: 0 | FA6: 0 | FB6: 0 | FC6: 0 | FD6: 0 | FE6: 0 | FF6: 0 | FG6: 0 | FH6: 0 | FI6: 0 | FJ6: 0 | FK6: 0 | FL6: 0 | FM6: 0 | FN6: 0 | FO6: 0 | FP6: 0 | FQ6: 3 | FR6: 0 | FS6: 0 | FT6: 0 | FU6: 0 | FV6: 1 | FW6: 0 | FX6: 0 | FY6: 0 | FZ6: 4 | GA6: 1 | GB6: 0 | GC6: 0 | GD6: 0 | GE6: 3 | GF6: 0 | GG6: 2 | GH6: 2 | GI6: 0 | GJ6: 0 | GK6: 0 | GL6: 0 | GM6: 0 | GN6: 0 | GO6: 1 | GP6: 0 | GQ6: 1 | GR6: 0 | GS6: 1 | GT6: 0 | GU6: 0 | GV6: 0 | GW6: 0 | GX6: 0 | GY6: 0 | GZ6: 0 | HA6: 0 | HB6: 0 | HC6: 0 | HD6: 0 | HE6: 0 | HF6: 0 | HG6: 0 | HH6: 0 | HI6: 0 | HJ6: 0 | HK6: 0 | HL6: 0 | HM6: 0 | HN6: 0 | HO6: 0 | HP6: 1 | HQ6: 1 | HR6: 1 | HS6: 0 | HT6: 1 | HU6: 1 | HV6: 1 | HW6: 0 | HX6: 1 | HY6: 0 | HZ6: 0 | IA6: 1 | IB6: 0 | IC6: 0 | ID6: 0 | IE6: 0 | IF6: 0 | IG6: 0 | IH6: 1 | II6: 0 | IJ6: 0 | IK6: 0 | IL6: 0 | IM6: 1 | IN6: 0 | IO6: 0 | IP6: 1 | IQ6: 5 | IR6: 0 | IS6: 0 | IT6: 0 | IU6: 0 | IV6: 0 | IW6: 0 | IX6: 3 | IY6: 0 | IZ6: 0 | JA6: =+MAX(A6:IZ6) -> 58
A7: phage K1F | B7: NC_007456 | C7: 31 | D7: 31 | E7: 30 | F7: 29 | G7: 30 | H7: 43 | I7: 22 | J7: 26 | K7: 0 | L7: 9 | M7: 9 | N7: 9 | O7: 10 | P7: 9 | Q7: 5 | R7: 5 | S7: 5 | T7: 0 | U7: 0 | V7: 0 | W7: 0 | X7: 1 | Y7: 0 | Z7: 0 | AA7: 0 | AB7: 0 | AC7: 0 | AD7: 1 | AE7: 1 | AF7: 0 | AG7: 1 | AH7: 0 | AI7: 0 | AJ7: 0 | AK7: 0 | AL7: 0 | AM7: 0 | AN7: 0 | AO7: 0 | AP7: 0 | AQ7: 0 | AR7: 0 | AS7: 1 | AT7: 0 | AU7: 2 | AV7: 0 | AW7: 1 | AX7: 0 | AY7: 0 | AZ7: 0 | BA7: 1 | BB7: 3 | BC7: 1 | BD7: 0 | BE7: 0 | BF7: 0 | BG7: 0 | BH7: 0 | BI7: 0 | BJ7: 0 | BK7: 0 | BL7: 0 | BM7: 0 | BN7: 0 | BO7: 0 | BP7: 0 | BQ7: 0 | BR7: 0 | BS7: 0 | BT7: 0 | BU7: 0 | BV7: 0 | BW7: 0 | BX7: 0 | BY7: 0 | BZ7: 0 | CA7: 0 | CB7: 0 | CC7: 0 | CD7: 0 | CE7: 0 | CF7: 0 | CG7: 0 | CH7: 0 | CI7: 0 | CJ7: 0 | CK7: 0 | CL7: 0 | CM7: 0 | CN7: 0 | CO7: 0 | CP7: 0 | CQ7: 0 | CR7: 0 | CS7: 0 | CT7: 0 | CU7: 0 | CV7: 0 | CW7: 0 | CX7: 0 | CY7: 0 | CZ7: 1 | DA7: 1 | DB7: 0 | DC7: 0 | DD7: 0 | DE7: 0 | DF7: 0 | DG7: 0 | DH7: 0 | DI7: 0 | DJ7: 0 | DK7: 0 | DL7: 0 | DM7: 0 | DN7: 0 | DO7: 0 | DP7: 0 | DQ7: 0 | DR7: 0 | DS7: 0 | DT7: 0 | DU7: 0 | DV7: 0 | DW7: 0 | DX7: 0 | DY7: 0 | DZ7: 0 | EA7: 0 | EB7: 0 | EC7: 0 | ED7: 0 | EE7: 1 | EF7: 2 | EG7: 1 | EH7: 0 | EI7: 0 | EJ7: 0 | EK7: 0 | EL7: 0 | EM7: 0 | EN7: 0 | EO7: 0 | EP7: 0 | EQ7: 0 | ER7: 1 | ES7: 1 | ET7: 0 | EU7: 0 | EV7: 0 | EW7: 0 | EX7: 0 | EY7: 1 | EZ7: 0 | FA7: 0 | FB7: 0 | FC7: 0 | FD7: 0 | FE7: 0 | FF7: 0 | FG7: 0 | FH7: 0 | FI7: 0 | FJ7: 0 | FK7: 0 | FL7: 0 | FM7: 0 | FN7: 0 | FO7: 0 | FP7: 0 | FQ7: 0 | FR7: 0 | FS7: 0 | FT7: 0 | FU7: 0 | FV7: 0 | FW7: 0 | FX7: 0 | FY7: 0 | FZ7: 2 | GA7: 1 | GB7: 0 | GC7: 0 | GD7: 1 | GE7: 1 | GF7: 0 | GG7: 1 | GH7: 0 | GI7: 0 | GJ7: 0 | GK7: 0 | GL7: 0 | GM7: 0 | GN7: 0 | GO7: 0 | GP7: 0 | GQ7: 0 | GR7: 0 | GS7: 1 | GT7: 0 | GU7: 0 | GV7: 0 | GW7: 0 | GX7: 0 | GY7: 0 | GZ7: 0 | HA7: 0 | HB7: 0 | HC7: 0 | HD7: 0 | HE7: 0 | HF7: 0 | HG7: 0 | HH7: 0 | HI7: 0 | HJ7: 0 | HK7: 1 | HL7: 0 | HM7: 0 | HN7: 0 | HO7: 0 | HP7: 0 | HQ7: 0 | HR7: 0 | HS7: 0 | HT7: 0 | HU7: 0 | HV7: 0 | HW7: 0 | HX7: 0 | HY7: 0 | HZ7: 0 | IA7: 1 | IB7: 0 | IC7: 0 | ID7: 0 | IE7: 0 | IF7: 0 | IG7: 0 | IH7: 0 | II7: 0 | IJ7: 0 | IK7: 0 | IL7: 0 | IM7: 0 | IN7: 0 | IO7: 0 | IP7: 1 | IQ7: 1 | IR7: 0 | IS7: 0 | IT7: 0 | IU7: 0 | IV7: 0 | IW7: 0 | IX7: 1 | IY7: 0 | IZ7: 0 | JA7: =+MAX(A7:IZ7) -> 43
A8: phage VP4 | B8: NC_007149 | C8: 22 | D8: 22 | E8: 22 | F8: 24 | G8: 23 | H8: 22 | I8: 31 | J8: 25 | K8: 0 | L8: 9 | M8: 8 | N8: 8 | O8: 6 | P8: 7 | Q8: 5 | R8: 5 | S8: 6 | T8: 0 | U8: 0 | V8: 0 | W8: 0 | X8: 1 | Y8: 0 | Z8: 0 | AA8: 0 | AB8: 0 | AC8: 0 | AD8: 0 | AE8: 0 | AF8: 0 | AG8: 0 | AH8: 0 | AI8: 0 | AJ8: 0 | AK8: 0 | AL8: 0 | AM8: 0 | AN8: 0 | AO8: 0 | AP8: 0 | AQ8: 0 | AR8: 0 | AS8: 0 | AT8: 0 | AU8: 2 | AV8: 0 | AW8: 2 | AX8: 0 | AY8: 0 | AZ8: 0 | BA8: 1 | BB8: 3 | BC8: 0 | BD8: 0 | BE8: 0 | BF8: 0 | BG8: 0 | BH8: 0 | BI8: 0 | BJ8: 0 | BK8: 0 | BL8: 0 | BM8: 0 | BN8: 0 | BO8: 0 | BP8: 0 | BQ8: 0 | BR8: 0 | BS8: 0 | BT8: 0 | BU8: 0 | BV8: 0 | BW8: 0 | BX8: 0 | BY8: 0 | BZ8: 0 | CA8: 0 | CB8: 0 | CC8: 0 | CD8: 0 | CE8: 0 | CF8: 0 | CG8: 0 | CH8: 0 | CI8: 0 | CJ8: 0 | CK8: 0 | CL8: 0 | CM8: 0 | CN8: 0 | CO8: 0 | CP8: 0 | CQ8: 0 | CR8: 0 | CS8: 0 | CT8: 0 | CU8: 0 | CV8: 0 | CW8: 0 | CX8: 0 | CY8: 0 | CZ8: 0 | DA8: 0 | DB8: 0 | DC8: 0 | DD8: 0 | DE8: 0 | DF8: 0 | DG8: 0 | DH8: 0 | DI8: 0 | DJ8: 0 | DK8: 0 | DL8: 0 | DM8: 0 | DN8: 0 | DO8: 0 | DP8: 0 | DQ8: 0 | DR8: 0 | DS8: 0 | DT8: 0 | DU8: 0 | DV8: 0 | DW8: 0 | DX8: 0 | DY8: 0 | DZ8: 0 | EA8: 0 | EB8: 0 | EC8: 0 | ED8: 0 | EE8: 0 | EF8: 0 | EG8: 0 | EH8: 0 | EI8: 0 | EJ8: 0 | EK8: 0 | EL8: 0 | EM8: 0 | EN8: 0 | EO8: 0 | EP8: 0 | EQ8: 0 | ER8: 0 | ES8: 0 | ET8: 0 | EU8: 0 | EV8: 0 | EW8: 0 | EX8: 0 | EY8: 0 | EZ8: 0 | FA8: 0 | FB8: 0 | FC8: 0 | FD8: 0 | FE8: 0 | FF8: 0 | FG8: 0 | FH8: 0 | FI8: 0 | FJ8: 0 | FK8: 0 | FL8: 0 | FM8: 0 | FN8: 0 | FO8: 0 | FP8: 0 | FQ8: 0 | FR8: 0 | FS8: 0 | FT8: 0 | FU8: 0 | FV8: 0 | FW8: 0 | FX8: 0 | FY8: 0 | FZ8: 1 | GA8: 0 | GB8: 0 | GC8: 0 | GD8: 0 | GE8: 1 | GF8: 0 | GG8: 0 | GH8: 0 | GI8: 0 | GJ8: 0 | GK8: 0 | GL8: 1 | GM8: 0 | GN8: 1 | GO8: 0 | GP8: 0 | GQ8: 0 | GR8: 0 | GS8: 0 | GT8: 0 | GU8: 0 | GV8: 0 | GW8: 0 | GX8: 0 | GY8: 0 | GZ8: 0 | HA8: 0 | HB8: 0 | HC8: 0 | HD8: 0 | HE8: 0 | HF8: 0 | HG8: 0 | HH8: 1 | HI8: 1 | HJ8: 1 | HK8: 0 | HL8: 0 | HM8: 0 | HN8: 0 | HO8: 0 | HP8: 0 | HQ8: 1 | HR8: 1 | HS8: 1 | HT8: 1 | HU8: 3 | HV8: 1 | HW8: 1 | HX8: 1 | HY8: 3 | HZ8: 0 | IA8: 0 | IB8: 0 | IC8: 0 | ID8: 0 | IE8: 0 | IF8: 0 | IG8: 0 | IH8: 0 | II8: 0 | IJ8: 0 | IK8: 0 | IL8: 0 | IM8: 0 | IN8: 0 | IO8: 0 | IP8: 1 | IQ8: 1 | IR8: 0 | IS8: 0 | IT8: 0 | IU8: 0 | IV8: 0 | IW8: 0 | IX8: 1 | IY8: 0 | IZ8: 0 | JA8: =+MAX(A8:IZ8) -> 31
A9: phage gh-1 | B9: NC_004665 | C9: 25 | D9: 25 | E9: 24 | F9: 24 | G9: 25 | H9: 23 | I9: 24 | J9: 41 | K9: 0 | L9: 9 | M9: 9 | N9: 7 | O9: 6 | P9: 8 | Q9: 7 | R9: 6 | S9: 7 | T9: 0 | U9: 0 | V9: 0 | W9: 0 | X9: 1 | Y9: 0 | Z9: 0 | AA9: 0 | AB9: 0 | AC9: 0 | AD9: 0 | AE9: 0 | AF9: 0 | AG9: 0 | AH9: 0 | AI9: 0 | AJ9: 0 | AK9: 0 | AL9: 0 | AM9: 0 | AN9: 0 | AO9: 0 | AP9: 0 | AQ9: 0 | AR9: 0 | AS9: 0 | AT9: 0 | AU9: 2 | AV9: 0 | AW9: 0 | AX9: 0 | AY9: 0 | AZ9: 0 | BA9: 2 | BB9: 3 | BC9: 1 | BD9: 0 | BE9: 0 | BF9: 0 | BG9: 0 | BH9: 0 | BI9: 0 | BJ9: 0 | BK9: 0 | BL9: 0 | BM9: 0 | BN9: 0 | BO9: 0 | BP9: 0 | BQ9: 0 | BR9: 0 | BS9: 0 | BT9: 0 | BU9: 0 | BV9: 0 | BW9: 0 | BX9: 0 | BY9: 0 | BZ9: 0 | CA9: 0 | CB9: 0 | CC9: 0 | CD9: 0 | CE9: 0 | CF9: 0 | CG9: 0 | CH9: 0 | CI9: 0 | CJ9: 0 | CK9: 0 | CL9: 0 | CM9: 0 | CN9: 0 | CO9: 0 | CP9: 0 | CQ9: 0 | CR9: 0 | CS9: 0 | CT9: 0 | CU9: 0 | CV9: 0 | CW9: 0 | CX9: 0 | CY9: 0 | CZ9: 0 | DA9: 0 | DB9: 0 | DC9: 0 | DD9: 0 | DE9: 0 | DF9: 0 | DG9: 0 | DH9: 0 | DI9: 0 | DJ9: 0 | DK9: 0 | DL9: 0 | DM9: 0 | DN9: 0 | DO9: 0 | DP9: 0 | DQ9: 0 | DR9: 0 | DS9: 0 | DT9: 0 | DU9: 0 | DV9: 0 | DW9: 0 | DX9: 0 | DY9: 0 | DZ9: 0 | EA9: 0 | EB9: 0 | EC9: 0 | ED9: 0 | EE9: 1 | EF9: 1 | EG9: 0 | EH9: 0 | EI9: 0 | EJ9: 0 | EK9: 0 | EL9: 0 | EM9: 0 | EN9: 0 | EO9: 0 | EP9: 0 | EQ9: 0 | ER9: 0 | ES9: 0 | ET9: 0 | EU9: 0 | EV9: 0 | EW9: 0 | EX9: 0 | EY9: 0 | EZ9: 0 | FA9: 0 | FB9: 0 | FC9: 0 | FD9: 0 | FE9: 0 | FF9: 0 | FG9: 0 | FH9: 0 | FI9: 0 | FJ9: 0 | FK9: 0 | FL9: 0 | FM9: 0 | FN9: 0 | FO9: 0 | FP9: 0 | FQ9: 0 | FR9: 0 | FS9: 0 | FT9: 0 | FU9: 0 | FV9: 0 | FW9: 0 | FX9: 0 | FY9: 0 | FZ9: 1 | GA9: 1 | GB9: 0 | GC9: 0 | GD9: 0 | GE9: 3 | GF9: 0 | GG9: 0 | GH9: 0 | GI9: 0 | GJ9: 0 | GK9: 0 | GL9: 0 | GM9: 0 | GN9: 0 | GO9: 1 | GP9: 0 | GQ9: 0 | GR9: 0 | GS9: 1 | GT9: 0 | GU9: 0 | GV9: 0 | GW9: 0 | GX9: 0 | GY9: 0 | GZ9: 0 | HA9: 0 | HB9: 0 | HC9: 0 | HD9: 0 | HE9: 0 | HF9: 0 | HG9: 0 | HH9: 0 | HI9: 0 | HJ9: 0 | HK9: 0 | HL9: 0 | HM9: 0 | HN9: 0 | HO9: 0 | HP9: 0 | HQ9: 0 | HR9: 0 | HS9: 0 | HT9: 0 | HU9: 1 | HV9: 0 | HW9: 0 | HX9: 1 | HY9: 0 | HZ9: 0 | IA9: 0 | IB9: 0 | IC9: 0 | ID9: 0 | IE9: 0 | IF9: 0 | IG9: 0 | IH9: 0 | II9: 0 | IJ9: 0 | IK9: 0 | IL9: 0 | IM9: 1 | IN9: 0 | IO9: 0 | IP9: 1 | IQ9: 2 | IR9: 0 | IS9: 0 | IT9: 0 | IU9: 0 | IV9: 0 | IW9: 0 | IX9: 0 | IY9: 0 | IZ9: 0 | JA9: =+MAX(A9:IZ9) -> 41
A10: phage syn5 | B10: NC_009531 | C10: 10 | D10: 10 | E10: 10 | F10: 10 | G10: 10 | H10: 10 | I10: 10 | J10: 10 | K10: 0 | L10: 20 | M10: 27 | N10: 8 | O10: 8 | P10: 9 | Q10: 6 | R10: 6 | S10: 5 | T10: 0 | U10: 0 | V10: 0 | W10: 0 | X10: 1 | Y10: 0 | Z10: 0 | AA10: 0 | AB10: 0 | AC10: 0 | AD10: 0 | AE10: 1 | AF10: 0 | AG10: 0 | AH10: 0 | AI10: 0 | AJ10: 0 | AK10: 0 | AL10: 0 | AM10: 0 | AN10: 0 | AO10: 0 | AP10: 0 | AQ10: 0 | AR10: 0 | AS10: 0 | AT10: 0 | AU10: 3 | AV10: 0 | AW10: 1 | AX10: 0 | AY10: 0 | AZ10: 0 | BA10: 2 | BB10: 4 | BC10: 1 | BD10: 0 | BE10: 0 | BF10: 1 | BG10: 1 | BH10: 0 | BI10: 1 | BJ10: 0 | BK10: 0 | BL10: 0 | BM10: 0 | BN10: 0 | BO10: 0 | BP10: 0 | BQ10: 0 | BR10: 1 | BS10: 0 | BT10: 0 | BU10: 1 | BV10: 1 | BW10: 0 | BX10: 1 | BY10: 0 | BZ10: 0 | CA10: 0 | CB10: 1 | CC10: 0 | CD10: 0 | CE10: 1 | CF10: 1 | CG10: 0 | CH10: 1 | CI10: 0 | CJ10: 0 | CK10: 0 | CL10: 0 | CM10: 0 | CN10: 0 | CO10: 0 | CP10: 0 | CQ10: 0 | CR10: 0 | CS10: 0 | CT10: 0 | CU10: 0 | CV10: 0 | CW10: 0 | CX10: 0 | CY10: 0 | CZ10: 0 | DA10: 0 | DB10: 0 | DC10: 0 | DD10: 0 | DE10: 0 | DF10: 0 | DG10: 0 | DH10: 0 | DI10: 0 | DJ10: 1 | DK10: 2 | DL10: 1 | DM10: 1 | DN10: 1 | DO10: 0 | DP10: 0 | DQ10: 0 | DR10: 0 | DS10: 0 | DT10: 1 | DU10: 2 | DV10: 0 | DW10: 0 | DX10: 0 | DY10: 0 | DZ10: 0 | EA10: 0 | EB10: 0 | EC10: 0 | ED10: 0 | EE10: 0 | EF10: 0 | EG10: 0 | EH10: 0 | EI10: 0 | EJ10: 0 | EK10: 0 | EL10: 0 | EM10: 0 | EN10: 0 | EO10: 0 | EP10: 0 | EQ10: 0 | ER10: 0 | ES10: 0 | ET10: 0 | EU10: 0 | EV10: 0 | EW10: 3 | EX10: 1 | EY10: 0 | EZ10: 0 | FA10: 2 | FB10: 0 | FC10: 0 | FD10: 0 | FE10: 0 | FF10: 0 | FG10: 0 | FH10: 0 | FI10: 0 | FJ10: 0 | FK10: 0 | FL10: 0 | FM10: 0 | FN10: 0 | FO10: 0 | FP10: 0 | FQ10: 0 | FR10: 0 | FS10: 0 | FT10: 0 | FU10: 0 | FV10: 0 | FW10: 0 | FX10: 0 | FY10: 1 | FZ10: 0 | GA10: 0 | GB10: 0 | GC10: 0 | GD10: 1 | GE10: 1 | GF10: 0 | GG10: 0 | GH10: 1 | GI10: 0 | GJ10: 1 | GK10: 0 | GL10: 2 | GM10: 0 | GN10: 0 | GO10: 0 | GP10: 0 | GQ10: 0 | GR10: 0 | GS10: 0 | GT10: 1 | GU10: 0 | GV10: 0 | GW10: 0 | GX10: 1 | GY10: 1 | GZ10: 0 | HA10: 1 | HB10: 0 | HC10: 0 | HD10: 0 | HE10: 0 | HF10: 0 | HG10: 1 | HH10: 0 | HI10: 0 | HJ10: 0 | HK10: 0 | HL10: 0 | HM10: 0 | HN10: 0 | HO10: 0 | HP10: 0 | HQ10: 0 | HR10: 0 | HS10: 0 | HT10: 0 | HU10: 0 | HV10: 0 | HW10: 0 | HX10: 0 | HY10: 0 | HZ10: 1 | IA10: 1 | IB10: 2 | IC10: 2 | ID10: 0 | IE10: 0 | IF10: 0 | IG10: 0 | IH10: 0 | II10: 1 | IJ10: 1 | IK10: 1 | IL10: 1 | IM10: 0 | IN10: 0 | IO10: 0 | IP10: 0 | IQ10: 1 | IR10: 0 | IS10: 0 | IT10: 0 | IU10: 0 | IV10: 0 | IW10: 0 | IX10: 1 | IY10: 0 | IZ10: 0 | JA10: =+MAX(A10:IZ10) -> 27
A11: phage P-SSP7 | B11: NC_006882 | C11: 9 | D11: 9 | E11: 9 | F11: 9 | G11: 10 | H11: 9 | I11: 10 | J11: 9 | K11: 0 | L11: 52 | M11: 15 | N11: 7 | O11: 8 | P11: 7 | Q11: 6 | R11: 6 | S11: 6 | T11: 0 | U11: 0 | V11: 0 | W11: 0 | X11: 1 | Y11: 0 | Z11: 1 | AA11: 1 | AB11: 1 | AC11: 0 | AD11: 0 | AE11: 0 | AF11: 0 | AG11: 0 | AH11: 0 | AI11: 0 | AJ11: 0 | AK11: 0 | AL11: 0 | AM11: 0 | AN11: 0 | AO11: 0 | AP11: 0 | AQ11: 0 | AR11: 0 | AS11: 0 | AT11: 0 | AU11: 1 | AV11: 0 | AW11: 1 | AX11: 0 | AY11: 0 | AZ11: 0 | BA11: 1 | BB11: 3 | BC11: 1 | BD11: 0 | BE11: 1 | BF11: 0 | BG11: 0 | BH11: 0 | BI11: 0 | BJ11: 1 | BK11: 0 | BL11: 0 | BM11: 0 | BN11: 1 | BO11: 2 | BP11: 0 | BQ11: 1 | BR11: 1 | BS11: 1 | BT11: 0 | BU11: 0 | BV11: 1 | BW11: 1 | BX11: 0 | BY11: 0 | BZ11: 0 | CA11: 0 | CB11: 0 | CC11: 0 | CD11: 0 | CE11: 0 | CF11: 0 | CG11: 0 | CH11: 0 | CI11: 1 | CJ11: 0 | CK11: 0 | CL11: 0 | CM11: 0 | CN11: 0 | CO11: 0 | CP11: 0 | CQ11: 0 | CR11: 0 | CS11: 0 | CT11: 0 | CU11: 0 | CV11: 0 | CW11: 0 | CX11: 0 | CY11: 0 | CZ11: 0 | DA11: 0 | DB11: 0 | DC11: 0 | DD11: 0 | DE11: 0 | DF11: 0 | DG11: 0 | DH11: 0 | DI11: 1 | DJ11: 1 | DK11: 0 | DL11: 0 | DM11: 1 | DN11: 0 | DO11: 0 | DP11: 0 | DQ11: 0 | DR11: 0 | DS11: 0 | DT11: 0 | DU11: 1 | DV11: 0 | DW11: 1 | DX11: 0 | DY11: 0 | DZ11: 0 | EA11: 0 | EB11: 0 | EC11: 0 | ED11: 0 | EE11: 0 | EF11: 0 | EG11: 0 | EH11: 1 | EI11: 0 | EJ11: 0 | EK11: 1 | EL11: 0 | EM11: 0 | EN11: 0 | EO11: 0 | EP11: 0 | EQ11: 0 | ER11: 0 | ES11: 0 | ET11: 0 | EU11: 0 | EV11: 0 | EW11: 1 | EX11: 1 | EY11: 0 | EZ11: 0 | FA11: 1 | FB11: 0 | FC11: 0 | FD11: 0 | FE11: 0 | FF11: 1 | FG11: 0 | FH11: 0 | FI11: 0 | FJ11: 0 | FK11: 0 | FL11: 0 | FM11: 0 | FN11: 0 | FO11: 0 | FP11: 0 | FQ11: 0 | FR11: 0 | FS11: 0 | FT11: 0 | FU11: 0 | FV11: 0 | FW11: 0 | FX11: 0 | FY11: 0 | FZ11: 1 | GA11: 0 | GB11: 0 | GC11: 0 | GD11: 2 | GE11: 1 | GF11: 0 | GG11: 0 | GH11: 0 | GI11: 0 | GJ11: 0 | GK11: 0 | GL11: 1 | GM11: 0 | GN11: 0 | GO11: 0 | GP11: 0 | GQ11: 0 | GR11: 0 | GS11: 0 | GT11: 0 | GU11: 1 | GV11: 1 | GW11: 0 | GX11: 0 | GY11: 0 | GZ11: 0 | HA11: 1 | HB11: 0 | HC11: 0 | HD11: 0 | HE11: 0 | HF11: 0 | HG11: 1 | HH11: 0 | HI11: 0 | HJ11: 0 | HK11: 0 | HL11: 0 | HM11: 0 | HN11: 0 | HO11: 0 | HP11: 0 | HQ11: 0 | HR11: 0 | HS11: 0 | HT11: 0 | HU11: 0 | HV11: 1 | HW11: 0 | HX11: 0 | HY11: 0 | HZ11: 5 | IA11: 2 | IB11: 4 | IC11: 6 | ID11: 1 | IE11: 0 | IF11: 0 | IG11: 0 | IH11: 0 | II11: 1 | IJ11: 1 | IK11: 0 | IL11: 0 | IM11: 1 | IN11: 0 | IO11: 0 | IP11: 1 | IQ11: 1 | IR11: 0 | IS11: 0 | IT11: 0 | IU11: 0 | IV11: 0 | IW11: 0 | IX11: 0 | IY11: 0 | IZ11: 0 | JA11: =+MAX(A11:IZ11) -> 52
A12: phage P60 | B12: NC_003390 | C12: 13 | D12: 12 | E12: 11 | F12: 12 | G12: 12 | H12: 12 | I12: 11 | J12: 12 | K12: 0 | L12: 23 | M12: 79 | N12: 8 | O12: 8 | P12: 9 | Q12: 6 | R12: 6 | S12: 5 | T12: 0 | U12: 0 | V12: 0 | W12: 0 | X12: 1 | Y12: 0 | Z12: 1 | AA12: 1 | AB12: 1 | AC12: 0 | AD12: 0 | AE12: 0 | AF12: 0 | AG12: 0 | AH12: 0 | AI12: 0 | AJ12: 0 | AK12: 0 | AL12: 0 | AM12: 0 | AN12: 0 | AO12: 0 | AP12: 0 | AQ12: 0 | AR12: 0 | AS12: 0 | AT12: 0 | AU12: 3 | AV12: 0 | AW12: 0 | AX12: 0 | AY12: 0 | AZ12: 0 | BA12: 1 | BB12: 7 | BC12: 2 | BD12: 0 | BE12: 0 | BF12: 1 | BG12: 1 | BH12: 0 | BI12: 1 | BJ12: 0 | BK12: 0 | BL12: 0 | BM12: 0 | BN12: 0 | BO12: 0 | BP12: 0 | BQ12: 1 | BR12: 2 | BS12: 1 | BT12: 0 | BU12: 1 | BV12: 0 | BW12: 1 | BX12: 1 | BY12: 0 | BZ12: 0 | CA12: 0 | CB12: 1 | CC12: 0 | CD12: 0 | CE12: 1 | CF12: 1 | CG12: 0 | CH12: 1 | CI12: 0 | CJ12: 0 | CK12: 0 | CL12: 0 | CM12: 0 | CN12: 0 | CO12: 0 | CP12: 0 | CQ12: 0 | CR12: 0 | CS12: 0 | CT12: 0 | CU12: 0 | CV12: 0 | CW12: 0 | CX12: 0 | CY12: 0 | CZ12: 0 | DA12: 0 | DB12: 0 | DC12: 1 | DD12: 1 | DE12: 1 | DF12: 0 | DG12: 0 | DH12: 0 | DI12: 1 | DJ12: 3 | DK12: 3 | DL12: 4 | DM12: 1 | DN12: 4 | DO12: 0 | DP12: 0 | DQ12: 0 | DR12: 0 | DS12: 0 | DT12: 0 | DU12: 0 | DV12: 0 | DW12: 0 | DX12: 0 | DY12: 0 | DZ12: 0 | EA12: 0 | EB12: 0 | EC12: 0 | ED12: 0 | EE12: 0 | EF12: 0 | EG12: 0 | EH12: 0 | EI12: 0 | EJ12: 0 | EK12: 0 | EL12: 0 | EM12: 0 | EN12: 0 | EO12: 0 | EP12: 0 | EQ12: 0 | ER12: 0 | ES12: 0 | ET12: 0 | EU12: 0 | EV12: 0 | EW12: 2 | EX12: 1 | EY12: 0 | EZ12: 0 | FA12: 1 | FB12: 0 | FC12: 0 | FD12: 0 | FE12: 0 | FF12: 0 | FG12: 0 | FH12: 0 | FI12: 0 | FJ12: 0 | FK12: 1 | FL12: 0 | FM12: 0 | FN12: 0 | FO12: 0 | FP12: 1 | FQ12: 1 | FR12: 0 | FS12: 0 | FT12: 0 | FU12: 0 | FV12: 0 | FW12: 0 | FX12: 0 | FY12: 1 | FZ12: 1 | GA12: 0 | GB12: 0 | GC12: 0 | GD12: 0 | GE12: 1 | GF12: 0 | GG12: 0 | GH12: 0 | GI12: 0 | GJ12: 1 | GK12: 0 | GL12: 1 | GM12: 0 | GN12: 0 | GO12: 0 | GP12: 0 | GQ12: 0 | GR12: 0 | GS12: 0 | GT12: 0 | GU12: 0 | GV12: 0 | GW12: 0 | GX12: 0 | GY12: 0 | GZ12: 0 | HA12: 0 | HB12: 0 | HC12: 0 | HD12: 0 | HE12: 0 | HF12: 0 | HG12: 0 | HH12: 0 | HI12: 0 | HJ12: 0 | HK12: 0 | HL12: 0 | HM12: 0 | HN12: 0 | HO12: 0 | HP12: 0 | HQ12: 0 | HR12: 0 | HS12: 0 | HT12: 0 | HU12: 0 | HV12: 0 | HW12: 0 | HX12: 0 | HY12: 1 | HZ12: 3 | IA12: 1 | IB12: 4 | IC12: 4 | ID12: 0 | IE12: 0 | IF12: 0 | IG12: 0 | IH12: 0 | II12: 0 | IJ12: 0 | IK12: 0 | IL12: 1 | IM12: 0 | IN12: 0 | IO12: 0 | IP12: 0 | IQ12: 1 | IR12: 1 | IS12: 0 | IT12: 0 | IU12: 2 | IV12: 0 | IW12: 2 | IX12: 0 | IY12: 0 | IZ12: 0 | JA12: =+MAX(A12:IZ12) -> 79
A13: phage SP6 | B13: NC_004831 | C13: 8 | D13: 8 | E13: 7 | F13: 7 | G13: 7 | H13: 10 | I13: 7 | J13: 7 | K13: 0 | L13: 8 | M13: 7 | N13: 52 | O13: 42 | P13: 24 | Q13: 8 | R13: 8 | S13: 9 | T13: 1 | U13: 1 | V13: 1 | W13: 0 | X13: 1 | Y13: 0 | Z13: 1 | AA13: 1 | AB13: 1 | AC13: 0 | AD13: 0 | AE13: 0 | AF13: 0 | AG13: 0 | AH13: 0 | AI13: 0 | AJ13: 0 | AK13: 0 | AL13: 0 | AM13: 0 | AN13: 0 | AO13: 0 | AP13: 0 | AQ13: 0 | AR13: 0 | AS13: 1 | AT13: 0 | AU13: 3 | AV13: 0 | AW13: 1 | AX13: 0 | AY13: 0 | AZ13: 0 | BA13: 1 | BB13: 3 | BC13: 0 | BD13: 0 | BE13: 0 | BF13: 0 | BG13: 0 | BH13: 0 | BI13: 0 | BJ13: 0 | BK13: 0 | BL13: 0 | BM13: 0 | BN13: 0 | BO13: 0 | BP13: 0 | BQ13: 0 | BR13: 0 | BS13: 0 | BT13: 1 | BU13: 0 | BV13: 0 | BW13: 0 | BX13: 0 | BY13: 0 | BZ13: 0 | CA13: 0 | CB13: 0 | CC13: 0 | CD13: 0 | CE13: 0 | CF13: 0 | CG13: 0 | CH13: 0 | CI13: 0 | CJ13: 0 | CK13: 0 | CL13: 0 | CM13: 0 | CN13: 0 | CO13: 0 | CP13: 0 | CQ13: 0 | CR13: 0 | CS13: 0 | CT13: 0 | CU13: 0 | CV13: 0 | CW13: 0 | CX13: 0 | CY13: 0 | CZ13: 0 | DA13: 0 | DB13: 0 | DC13: 0 | DD13: 0 | DE13: 0 | DF13: 0 | DG13: 0 | DH13: 0 | DI13: 0 | DJ13: 0 | DK13: 0 | DL13: 1 | DM13: 1 | DN13: 0 | DO13: 0 | DP13: 0 | DQ13: 0 | DR13: 0 | DS13: 0 | DT13: 0 | DU13: 0 | DV13: 0 | DW13: 0 | DX13: 0 | DY13: 0 | DZ13: 0 | EA13: 0 | EB13: 0 | EC13: 0 | ED13: 0 | EE13: 0 | EF13: 0 | EG13: 0 | EH13: 0 | EI13: 0 | EJ13: 0 | EK13: 0 | EL13: 0 | EM13: 0 | EN13: 0 | EO13: 0 | EP13: 0 | EQ13: 0 | ER13: 0 | ES13: 0 | ET13: 0 | EU13: 0 | EV13: 0 | EW13: 0 | EX13: 0 | EY13: 0 | EZ13: 0 | FA13: 0 | FB13: 0 | FC13: 0 | FD13: 0 | FE13: 0 | FF13: 1 | FG13: 0 | FH13: 0 | FI13: 0 | FJ13: 1 | FK13: 1 | FL13: 0 | FM13: 0 | FN13: 0 | FO13: 0 | FP13: 0 | FQ13: 0 | FR13: 0 | FS13: 0 | FT13: 0 | FU13: 0 | FV13: 0 | FW13: 0 | FX13: 0 | FY13: 0 | FZ13: 0 | GA13: 0 | GB13: 0 | GC13: 0 | GD13: 1 | GE13: 4 | GF13: 0 | GG13: 0 | GH13: 0 | GI13: 0 | GJ13: 0 | GK13: 1 | GL13: 0 | GM13: 0 | GN13: 0 | GO13: 0 | GP13: 0 | GQ13: 0 | GR13: 0 | GS13: 1 | GT13: 0 | GU13: 0 | GV13: 0 | GW13: 0 | GX13: 0 | GY13: 0 | GZ13: 0 | HA13: 0 | HB13: 0 | HC13: 0 | HD13: 0 | HE13: 0 | HF13: 0 | HG13: 0 | HH13: 0 | HI13: 0 | HJ13: 0 | HK13: 0 | HL13: 0 | HM13: 0 | HN13: 0 | HO13: 0 | HP13: 0 | HQ13: 0 | HR13: 0 | HS13: 1 | HT13: 1 | HU13: 1 | HV13: 1 | HW13: 0 | HX13: 0 | HY13: 0 | HZ13: 0 | IA13: 0 | IB13: 0 | IC13: 0 | ID13: 0 | IE13: 0 | IF13: 0 | IG13: 0 | IH13: 0 | II13: 0 | IJ13: 0 | IK13: 0 | IL13: 0 | IM13: 0 | IN13: 0 | IO13: 0 | IP13: 0 | IQ13: 3 | IR13: 0 | IS13: 1 | IT13: 0 | IU13: 0 | IV13: 0 | IW13: 1 | IX13: 1 | IY13: 0 | IZ13: 0 | JA13: =+MAX(A13:IZ13) -> 52
... A259: phage phi CD119 | B259: NC_007917 | C259: 0 | D259: 0 | E259: 0 | F259: 0 | G259: 0 | H259: 0 | I259: 0 | J259: 0 | K259: 0 | L259: 0 | M259: 0 | N259: 0 | O259: 0 | P259: 0 | Q259: 0 | R259: 0 | S259: 0 | T259: 2 | U259: 0 | V259: 0 | W259: 1 | X259: 1 | Y259: 0 | Z259: 0 | AA259: 0 | AB259: 0 | AC259: 1 | AD259: 0 | AE259: 0 | AF259: 0 | AG259: 1 | AH259: 0 | AI259: 0 | AJ259: 0 | AK259: 0 | AL259: 0 | AM259: 0 | AN259: 0 | AO259: 0 | AP259: 0 | AQ259: 0 | AR259: 0 | AS259: 1 | AT259: 0 | AU259: 0 | AV259: 0 | AW259: 0 | AX259: 1 | AY259: 1 | AZ259: 0 | BA259: 0 | BB259: 0 | BC259: 0 | BD259: 5 | BE259: 4 | BF259: 7 | BG259: 4 | BH259: 5 | BI259: 5 | BJ259: 7 | BK259: 6 | BL259: 4 | BM259: 5 | BN259: 5 | BO259: 5 | BP259: 5 | BQ259: 5 | BR259: 4 | BS259: 5 | BT259: 9 | BU259: 6 | BV259: 7 | BW259: 7 | BX259: 3 | BY259: 4 | BZ259: 3 | CA259: 4 | CB259: 5 | CC259: 5 | CD259: 6 | CE259: 0 | CF259: 0 | CG259: 2 | CH259: 0 | CI259: 2 | CJ259: 10 | CK259: 7 | CL259: 9 | CM259: 3 | CN259: 3 | CO259: 3 | CP259: 1 | CQ259: 2 | CR259: 3 | CS259: 2 | CT259: 3 | CU259: 4 | CV259: 3 | CW259: 3 | CX259: 2 | CY259: 1 | CZ259: 0 | DA259: 0 | DB259: 1 | DC259: 2 | DD259: 2 | DE259: 2 | DF259: 2 | DG259: 1 | DH259: 1 | DI259: 7 | DJ259: 4 | DK259: 1 | DL259: 0 | DM259: 0 | DN259: 1 | DO259: 1 | DP259: 1 | DQ259: 1 | DR259: 1 | DS259: 1 | DT259: 1 | DU259: 1 | DV259: 2 | DW259: 1 | DX259: 1 | DY259: 1 | DZ259: 2 | EA259: 0 | EB259: 0 | EC259: 1 | ED259: 2 | EE259: 0 | EF259: 1 | EG259: 0 | EH259: 3 | EI259: 4 | EJ259: 1 | EK259: 0 | EL259: 0 | EM259: 0 | EN259: 0 | EO259: 0 | EP259: 0 | EQ259: 0 | ER259: 0 | ES259: 0 | ET259: 0 | EU259: 0 | EV259: 1 | EW259: 0 | EX259: 1 | EY259: 0 | EZ259: 2 | FA259: 0 | FB259: 1 | FC259: 5 | FD259: 0 | FE259: 5 | FF259: 7 | FG259: 1 | FH259: 2 | FI259: 2 | FJ259: 0 | FK259: 2 | FL259: 0 | FM259: 4 | FN259: 0 | FO259: 1 | FP259: 1 | FQ259: 1 | FR259: 1 | FS259: 4 | FT259: 0 | FU259: 2 | FV259: 2 | FW259: 1 | FX259: 7 | FY259: 0 | FZ259: 0 | GA259: 0 | GB259: 5 | GC259: 7 | GD259: 3 | GE259: 0 | GF259: 0 | GG259: 1 | GH259: 3 | GI259: 0 | GJ259: 6 | GK259: 4 | GL259: 0 | GM259: 5 | GN259: 2 | GO259: 1 | GP259: 2 | GQ259: 4 | GR259: 1 | GS259: 1 | GT259: 3 | GU259: 0 | GV259: 0 | GW259: 0 | GX259: 1 | GY259: 2 | GZ259: 1 | HA259: 1 | HB259: 1 | HC259: 2 | HD259: 1 | HE259: 0 | HF259: 1 | HG259: 0 | HH259: 1 | HI259: 1 | HJ259: 1 | HK259: 2 | HL259: 0 | HM259: 0 | HN259: 1 | HO259: 1 | HP259: 0 | HQ259: 0 | HR259: 0 | HS259: 0 | HT259: 0 | HU259: 0 | HV259: 0 | HW259: 0 | HX259: 2 | HY259: 0 | HZ259: 0 | IA259: 0 | IB259: 0 | IC259: 0 | ID259: 0 | IE259: 0 | IF259: 0 | IG259: 0 | IH259: 0 | II259: 1 | IJ259: 1 | IK259: 2 | IL259: 1 | IM259: 0 | IN259: 0 | IO259: 0 | IP259: 3 | IQ259: 1 | IR259: 2 | IS259: 7 | IT259: 6 | IU259: 0 | IV259: 1 | IW259: 0 | IX259: 2 | IY259: 0 | IZ259: 69 | JA259: =+MAX(A259:IZ259) -> 69

Sheet Sheet1
B1: AC-Namen | C1: phage T7 | D1: phage phiA1122 | E1: Berlin | F1: phage T3 | G1: phage phiYeO3-12 | H1: phage K1F | I1: phage VP4 | J1: phage gh-1 | K1: phage syn5 | L1: phage P-SSP7 | M1: phage P60 | N1: phage SP6 | O1: phage K1-5 | P1: Era103 | Q1: phage phiKMV | R1: phage LKD16 | S1: phage LKA1 | T1: phage P22 | U1: phage ST104 | V1: phage ST64T | W1: phage HK620 | X1: phage Sf6 | Y1: phage APSE-1 | Z1: phage BIP-1 | AA1: phage BMP-1 | AB1: phage BPP-1 | AC1: phage BcepC6B | AD1: Phage phiV10 | AE1: epsilon15 | AF1: virus P1 | AG1: phage GA-1 | AH1: phage B103 | AI1: phage phi29 | AJ1: phage Cp-1 | AK1: phage 44AHJD | AL1: phage phiP68 | AM1: phage 66 | AN1: phage C1 | AO1: phage PaP2 | AP1: phage 119X | AQ1: phage VP2 | AR1: phage VP5 | AS1: phage KS7 | AT1: phage setp3 | AU1: phage PaP3 | AV1: phage Mx8 | AW1: phage Pf-WMP4 | AX1: phage ST64B | AY1: phage F116 | AZ1: phage Bcep22 | BA1: phage VpV262 | BB1: phage SIO1 | BC1: phage N4 | BD1: phage 69 | BE1: phage phi 11 | BF1: phage 53 | BG1: phage phiETA2 | BH1: phage phiNM] | BI1: phage 85 | BJ1: phage 187 | BK1: phage 92 | BL1: phage 52A | BM1: phage phiETA3 | BN1: phage 88 | BO1: phage 29] | BP1: phage 55 | BQ1: phage X2 | BR1: phage 96 | BS1: phage 71] | BT1: phage 37 | BU1: phage CNPH82 | BV1: phage PH15 | BW1: phage EW | BX1: phage 77 | BY1: phage phiNM3 | BZ1: phage phiPVL108 | CA1: phage phi 13 | CB1: phage phiN315 | CC1: phage PVL | CD1: phage phi ETA] | CE1: phage 47 | CF1: phage phi 12 | CG1: phage phiSLT | CH1: phage 3A | CI1: phage 42e | CJ1: phage Tuc2009 | CK1: phage TP901-1 | CL1: phage ul36 | CM1: phage r1t | CN1: phage phi LC3 | CO1: phage bIL286 | CP1: phage BK5-T | CQ1: phage 4268 | CR1: phage bIL309 | CS1: phage bIL285 | CT1: phage O1205 | CU1: phage 2972 | CV1: phage Sfi11 | CW1: phage Sfi21 | CX1: phage Sfi19 | CY1: phage DT1 | CZ1: phage Orion | DA1: phage PG1 | DB1: phage Cooper | DC1: phage Qyrzula | DD1: phage Rosebush | DE1: phage 86 | DF1: Stx2 converting bacteriophage II | DG1: Stx1 converting bacteriophage | DH1: Phage phi 4795 | DI1: phage lambda | DJ1: phage L5 | DK1: phage Che12 | DL1: phage Bxz2 | DM1: phage Bxb1 | DN1: phage D29 | DO1: phage sk1 | DP1: phage 712 | DQ1: phage jj50 | DR1: phage P008 | DS1: phage bIL170 | DT1: phage PMC | DU1: phage Llij | DV1: phage Che9d | DW1: phage Che8 | DX1: phage Gamma | DY1: phage Cherry | DZ1: phage Fah | EA1: phage W beta | EB1: phage phi644-2 | EC1: phage phiE125 | ED1: phage phi1026b | EE1: phage T1 | EF1: phage RTP | EG1: phage JK06 | EH1: phage phi AT3 | EI1: phage Lc-Nu | EJ1: phage A2 | EK1: phage phiKO2 | EL1: phage PY54 | EM1: phage N15 | EN1: phage 244 | EO1: phage CJW1 | EP1: phage PLot | EQ1: phage PBI1 | ER1: phage D3112 | ES1: phage DMS3 | ET1: phage Bcep176 | EU1: phage psiM2 | EV1: phage 2638A | EW1: phage phiC31 | EX1: phiBT1 | EY1: phage BcepGomr | EZ1: phage Q54 | FA1: Phage phiJL001 | FB1: phage B3 | FC1: phage SPP1 | FD1: phage mu1/6 | FE1: phage A118 | FF1: phage MM1 | FG1: phage bIL312 | FH1: phage bIL311 | FI1: phage bIL310 | FJ1: phage phi3396 | FK1: phage 11b | FL1: Archaeal BJ1 | FM1: phage BCJA1c | FN1: phage phiAsp2 | FO1: phage phi-105 | FP1: phage Catera | FQ1: phage Wildcat | FR1: phage Halo | FS1: phage phig1e | FT1: phage BcepNazgul | FU1: phage VWB | FV1: phage Omega | FW1: phage Che9c | FX1: phage KC5a | FY1: phage phiHSIC | FZ1: phage ES18 | GA1: phage T5 | GB1: phage Lj965 | GC1: phage Lj928 | GD1: phage SM1 | GE1: phage Xp10 | GF1: phage Barnyard | GG1: phage Corndog | GH1: phage phi3626 | GI1: phage TM4 | GJ1: phage PSA | GK1: phage PhiNIH1.1 | GL1: phage D3] | GM1: phage 7201 | GN1: phage HK97 | GO1: phage HK022 | GP1: phage phi adh | GQ1: phage SPBc2 | GR1: phage c2 | GS1: phage SETP3 | GT1: phage RSA1 | GU1: phage phi52237 | GV1: phage phiE202 | GW1: phage phiE12-2 | GX1: phage 186 | GY1: phage WPhi | GZ1: phage PsP3 | HA1: phage P2] | HB1: phage L-413C | HC1: phage phi CTX | HD1: phage phi-MhaA1-PHL101 | HE1: phage VHML | HF1: phage VP882 | HG1: phage F108 | HH1: phage HP1] | HI1: phage HP2] | HJ1: phage K139 | HK1: phage Mu | HL1: phage phiE255 | HM1: phage BcepMu | HN1: phage P27 | HO1: phage V] | HP1: phage 25] | HQ1: phage 31] | HR1: phage 44RR2 | HS1: phage RB69 | HT1: phage RB32 | HU1: phage T4 | HV1: phage RB49 | HW1: phage Aeh1 | HX1: phage RB43 | HY1: phage KVP40 | HZ1: phage P-SSM4 | IA1: phage S-PM2 | IB1: phage Syn9 | IC1: phage P-SSM2 | ID1: phage Bcep1] | IE1: phage Bcep781] | IF1: phage Bcep43] | IG1: phage BcepB1A] | IH1: phage BcepF1] | II1: phage G1] | IJ1: phage K] | IK1: phage Twort | IL1: phage P100] | IM1: phage LP65] | IN1: phage EL] | IO1: phage phiKZ | IP1: phage Aaphi23 | IQ1: phage Felix 01 | IR1: phage Bxz1 | IS1: phage EJ-1 | IT1: phage GBSV1 | IU1: phage RM 378 | IV1: PhiCh1 | IW1: phage Ma-LMM01 | IX1: phage P1] | IY1: phage P4] | IZ1: phage phi CD119
A2: phage T7 | B2: NC_001604 | C2: =+matrix!C2/matrix!$JA2*100 -> 100 | D2: =+matrix!D2/matrix!$JA2*100 -> 88.333333 | E2: =+matrix!E2/matrix!$JA2*100 -> 73.333333 | F2: =+matrix!F2/matrix!$JA2*100 -> 73.333333 | G2: =+matrix!G2/matrix!$JA2*100 -> 70 | H2: =+matrix!H2/matrix!$JA2*100 -> 65 | I2: =+matrix!I2/matrix!$JA2*100 -> 48.333333 | J2: =+matrix!J2/matrix!$JA2*100 -> 55 | ... IZ2: =+matrix!IZ2/matrix!$JA2*100 -> 0
A3: phage phiA1122 | B3: NC_004777 | C3: =+matrix!C3/matrix!$JA3*100 -> 97.959184 | D3: =+matrix!D3/matrix!$JA3*100 -> 100 | E3: =+matrix!E3/matrix!$JA3*100 -> 81.632653 | F3: =+matrix!F3/matrix!$JA3*100 -> 81.632653 | G3: =+matrix!G3/matrix!$JA3*100 -> 77.55102 | H3: =+matrix!H3/matrix!$JA3*100 -> 75.510204 | I3: =+matrix!I3/matrix!$JA3*100 -> 51.020408 | J3: =+matrix!J3/matrix!$JA3*100 -> 61.22449 | ... IZ3: =+matrix!IZ3/matrix!$JA3*100 -> 0
A4: Berlin | B4: NC_008694 | C4: =+matrix!C4/matrix!$JA4*100 -> 84.444444 | D4: =+matrix!D4/matrix!$JA4*100 -> 82.222222 | E4: =+matrix!E4/matrix!$JA4*100 -> 100 | F4: =+matrix!F4/matrix!$JA4*100 -> 84.444444 | G4: =+matrix!G4/matrix!$JA4*100 -> 84.444444 | H4: =+matrix!H4/matrix!$JA4*100 -> 75.555556 | I4: =+matrix!I4/matrix!$JA4*100 -> 55.555556 | J4: =+matrix!J4/matrix!$JA4*100 -> 62.222222 | ... IZ4: =+matrix!IZ4/matrix!$JA4*100 -> 0
A5: phage T3 | B5: NC_003298 | C5: =+matrix!C5/matrix!$JA5*100 -> 78.181818 | D5: =+matrix!D5/matrix!$JA5*100 -> 76.363636 | E5: =+matrix!E5/matrix!$JA5*100 -> 78.181818 | F5: =+matrix!F5/matrix!$JA5*100 -> 100 | G5: =+matrix!G5/matrix!$JA5*100 -> 96.363636 | H5: =+matrix!H5/matrix!$JA5*100 -> 69.090909 | I5: =+matrix!I5/matrix!$JA5*100 -> 54.545455 | J5: =+matrix!J5/matrix!$JA5*100 -> 56.363636 | ... IZ5: =+matrix!IZ5/matrix!$JA5*100 -> 0
A6: phage phiYeO3-12 | B6: NC_001271 | C6: =+matrix!C6/matrix!$JA6*100 -> 77.586207 | D6: =+matrix!D6/matrix!$JA6*100 -> 75.862069 | E6: =+matrix!E6/matrix!$JA6*100 -> 81.034483 | F6: =+matrix!F6/matrix!$JA6*100 -> 96.551724 | G6: =+matrix!G6/matrix!$JA6*100 -> 100 | H6: =+matrix!H6/matrix!$JA6*100 -> 70.689655 | I6: =+matrix!I6/matrix!$JA6*100 -> 55.172414 | J6: =+matrix!J6/matrix!$JA6*100 -> 56.896552 | ... IZ6: =+matrix!IZ6/matrix!$JA6*100 -> 0
A7: phage K1F | B7: NC_007456 | C7: =+matrix!C7/matrix!$JA7*100 -> 72.093023 | D7: =+matrix!D7/matrix!$JA7*100 -> 72.093023 | E7: =+matrix!E7/matrix!$JA7*100 -> 69.767442 | F7: =+matrix!F7/matrix!$JA7*100 -> 67.44186 | G7: =+matrix!G7/matrix!$JA7*100 -> 69.767442 | H7: =+matrix!H7/matrix!$JA7*100 -> 100 | I7: =+matrix!I7/matrix!$JA7*100 -> 51.162791 | J7: =+matrix!J7/matrix!$JA7*100 -> 60.465116 | ... IZ7: =+matrix!IZ7/matrix!$JA7*100 -> 0
A8: phage VP4 | B8: NC_007149 | C8: =+matrix!C8/matrix!$JA8*100 -> 70.967742 | D8: =+matrix!D8/matrix!$JA8*100 -> 70.967742 | E8: =+matrix!E8/matrix!$JA8*100 -> 70.967742 | F8: =+matrix!F8/matrix!$JA8*100 -> 77.419355 | G8: =+matrix!G8/matrix!$JA8*100 -> 74.193548 | H8: =+matrix!H8/matrix!$JA8*100 -> 70.967742 | I8: =+matrix!I8/matrix!$JA8*100 -> 100 | J8: =+matrix!J8/matrix!$JA8*100 -> 80.645161 | ... IZ8: =+matrix!IZ8/matrix!$JA8*100 -> 0
A9: phage gh-1 | B9: NC_004665 | C9: =+matrix!C9/matrix!$JA9*100 -> 60.97561 | D9: =+matrix!D9/matrix!$JA9*100 -> 60.97561 | E9: =+matrix!E9/matrix!$JA9*100 -> 58.536585 | F9: =+matrix!F9/matrix!$JA9*100 -> 58.536585 | G9: =+matrix!G9/matrix!$JA9*100 -> 60.97561 | H9: =+matrix!H9/matrix!$JA9*100 -> 56.097561 | I9: =+matrix!I9/matrix!$JA9*100 -> 58.536585 | J9: =+matrix!J9/matrix!$JA9*100 -> 100 | ... IZ9: =+matrix!IZ9/matrix!$JA9*100 -> 0
A10: phage syn5 | B10: NC_009531 | C10: =+matrix!C10/matrix!$JA10*100 -> 37.037037 | D10: =+matrix!D10/matrix!$JA10*100 -> 37.037037 | E10: =+matrix!E10/matrix!$JA10*100 -> 37.037037 | F10: =+matrix!F10/matrix!$JA10*100 -> 37.037037 | G10: =+matrix!G10/matrix!$JA10*100 -> 37.037037 | H10: =+matrix!H10/matrix!$JA10*100 -> 37.037037 | I10: =+matrix!I10/matrix!$JA10*100 -> 37.037037 | J10: =+matrix!J10/matrix!$JA10*100 -> 37.037037 | ... IZ10: =+matrix!IZ10/matrix!$JA10*100 -> 0
A11: phage P-SSP7 | B11: NC_006882 | C11: =+matrix!C11/matrix!$JA11*100 -> 17.307692 | D11: =+matrix!D11/matrix!$JA11*100 -> 17.307692 | E11: =+matrix!E11/matrix!$JA11*100 -> 17.307692 | F11: =+matrix!F11/matrix!$JA11*100 -> 17.307692 | G11: =+matrix!G11/matrix!$JA11*100 -> 19.230769 | H11: =+matrix!H11/matrix!$JA11*100 -> 17.307692 | I11: =+matrix!I11/matrix!$JA11*100 -> 19.230769 | J11: =+matrix!J11/matrix!$JA11*100 -> 17.307692 | ... IZ11: =+matrix!IZ11/matrix!$JA11*100 -> 0
A12: phage P60 | B12: NC_003390 | C12: =+matrix!C12/matrix!$JA12*100 -> 16.455696 | D12: =+matrix!D12/matrix!$JA12*100 -> 15.189873 | E12: =+matrix!E12/matrix!$JA12*100 -> 13.924051 | F12: =+matrix!F12/matrix!$JA12*100 -> 15.189873 | G12: =+matrix!G12/matrix!$JA12*100 -> 15.189873 | H12: =+matrix!H12/matrix!$JA12*100 -> 15.189873 | I12: =+matrix!I12/matrix!$JA12*100 -> 13.924051 | J12: =+matrix!J12/matrix!$JA12*100 -> 15.189873 | ... IZ12: =+matrix!IZ12/matrix!$JA12*100 -> 0
A13: phage SP6 | B13: NC_004831 | C13: =+matrix!C13/matrix!$JA13*100 -> 15.384615 | D13: =+matrix!D13/matrix!$JA13*100 -> 15.384615 | E13: =+matrix!E13/matrix!$JA13*100 -> 13.461538 | F13: =+matrix!F13/matrix!$JA13*100 -> 13.461538 | G13: =+matrix!G13/matrix!$JA13*100 -> 13.461538 | H13: =+matrix!H13/matrix!$JA13*100 -> 19.230769 | I13: =+matrix!I13/matrix!$JA13*100 -> 13.461538 | J13: =+matrix!J13/matrix!$JA13*100 -> 13.461538 | ... IZ13: =+matrix!IZ13/matrix!$JA13*100 -> 0
... A259: phage phi CD119 | B259: NC_007917 | C259: =+matrix!C259/matrix!$JA259*100 -> 0 | D259: =+matrix!D259/matrix!$JA259*100 -> 0 | E259: =+matrix!E259/matrix!$JA259*100 -> 0 | F259: =+matrix!F259/matrix!$JA259*100 -> 0 | G259: =+matrix!G259/matrix!$JA259*100 -> 0 | H259: =+matrix!H259/matrix!$JA259*100 -> 0 | I259: =+matrix!I259/matrix!$JA259*100 -> 0 | J259: =+matrix!J259/matrix!$JA259*100 -> 0 | ... IZ259: =+matrix!IZ259/matrix!$JA259*100 -> 100

Sheet Sheet2
A1: 10 | B1: AC-Namen | C1: Catera | D1: Bxz1 | E1: P27 | F1: V | G1: φE255 | H1: BcepMu | I1: Mu | J1: RSA1 | K1: φ52237 | L1: φE202 | M1: φE12-2 | N1: 186 | O1: Wφ | P1: PsP3 | Q1: P2 | R1: L-413C | S1: φ CTX | T1: φ-MhaA1-PHL101 | U1: VHML | V1: VP882 | W1: F108 | X1: HP1 | Y1: HP2 | Z1: K139 | AA1: 25 | AB1: 31 | AC1: 44RR2 | AD1: RB69 | AE1: RB32 | AF1: T4 | AG1: RB49 | AH1: Aeh1 | AI1: RB43 | AJ1: KVP40 | AK1: P-SSM4 | AL1: S-PM2 | AM1: Syn9 | AN1: P-SSM2 | AO1: Bcep1 | AP1: Bcep781 | AQ1: Bcep43 | AR1: BcepB1A | AS1: BcepF1 | AT1: G1 | AU1: K | AV1: Twort | AW1: P100 | AX1: LP65 | AY1: EL | AZ1: φKZ | BA1: Aaφ23 | BB1: Felix 01 | BC1: EJ-1 | BD1: GBSV1 | BE1: RM 378 | BF1: φCh1 | BG1: Ma-LMM01 | BH1: P1 | BI1: P4 | BJ1: φ CD119
A2: Catera | B2: NC_008207 | C2: =+IF(Sheet1!FP171>Sheet2!$A$1,Sheet1!FP171,"") -> 100 | D2: =+IF(Sheet1!IR171>Sheet2!$A$1,Sheet1!IR171,"") -> 95.412844 | E2: =+IF(Sheet1!HN171>Sheet2!$A$1,Sheet1!HN171,"") | F2: =+IF(Sheet1!HO171>Sheet2!$A$1,Sheet1!HO171,"") | G2: =+IF(Sheet1!HL171>Sheet2!$A$1,Sheet1!HL171,"") | H2: =+IF(Sheet1!HM171>Sheet2!$A$1,Sheet1!HM171,"") | I2: =+IF(Sheet1!HK171>Sheet2!$A$1,Sheet1!HK171,"") | J2: =+IF(Sheet1!GT171>Sheet2!$A$1,Sheet1!GT171,"") | K2: =+IF(Sheet1!GU171>Sheet2!$A$1,Sheet1!GU171,"") | L2: =+IF(Sheet1!GV171>Sheet2!$A$1,Sheet1!GV171,"") | M2: =+IF(Sheet1!GW171>Sheet2!$A$1,Sheet1!GW171,"") | N2: =+IF(Sheet1!GX171>Sheet2!$A$1,Sheet1!GX171,"") | O2: =+IF(Sheet1!GY171>Sheet2!$A$1,Sheet1!GY171,"") | P2: =+IF(Sheet1!GZ171>Sheet2!$A$1,Sheet1!GZ171,"") | Q2: =+IF(Sheet1!HA171>Sheet2!$A$1,Sheet1!HA171,"") | ... Z2: =+IF(Sheet1!HJ171>Sheet2!$A$1,Sheet1!HJ171,"") | AA2: =+IF(Sheet1!HP171>Sheet2!$A$1,Sheet1!HP171,"") | AB2: =+IF(Sheet1!HQ171>Sheet2!$A$1,Sheet1!HQ171,"") | AC2: =+IF(Sheet1!HR171>Sheet2!$A$1,Sheet1!HR171,"") | AD2: =+IF(Sheet1!HS171>Sheet2!$A$1,Sheet1!HS171,"") | AE2: =+IF(Sheet1!HT171>Sheet2!$A$1,Sheet1!HT171,"") | AF2: =+IF(Sheet1!HU171>Sheet2!$A$1,Sheet1!HU171,"") | AG2: =+IF(Sheet1!HV171>Sheet2!$A$1,Sheet1!HV171,"") | AH2: =+IF(Sheet1!HW171>Sheet2!$A$1,Sheet1!HW171,"") | ... BB2: =+IF(Sheet1!IQ171>Sheet2!$A$1,Sheet1!IQ171,"") | BC2: =+IF(Sheet1!IS171>Sheet2!$A$1,Sheet1!IS171,"") | BD2: =+IF(Sheet1!IT171>Sheet2!$A$1,Sheet1!IT171,"") | BE2: =+IF(Sheet1!IU171>Sheet2!$A$1,Sheet1!IU171,"") | BF2: =+IF(Sheet1!IV171>Sheet2!$A$1,Sheet1!IV171,"") | BG2: =+IF(Sheet1!IW171>Sheet2!$A$1,Sheet1!IW171,"") | BH2: =+IF(Sheet1!IX171>Sheet2!$A$1,Sheet1!IX171,"") | BI2: =+IF(Sheet1!IY171>Sheet2!$A$1,Sheet1!IY171,"") | BJ2: =+IF(Sheet1!IZ171>Sheet2!$A$1,Sheet1!IZ171,"")
A3: Bxz1 | B3: NC_004687 | C3: =+IF(Sheet1!FP251>Sheet2!$A$1,Sheet1!FP251,"") -> 92.792793 | D3: =+IF(Sheet1!IR251>Sheet2!$A$1,Sheet1!IR251,"") -> 100 | E3: =+IF(Sheet1!HN251>Sheet2!$A$1,Sheet1!HN251,"") | F3: =+IF(Sheet1!HO251>Sheet2!$A$1,Sheet1!HO251,"") | G3: =+IF(Sheet1!HL251>Sheet2!$A$1,Sheet1!HL251,"") | H3: =+IF(Sheet1!HM251>Sheet2!$A$1,Sheet1!HM251,"") | I3: =+IF(Sheet1!HK251>Sheet2!$A$1,Sheet1!HK251,"") | J3: =+IF(Sheet1!GT251>Sheet2!$A$1,Sheet1!GT251,"") | K3: =+IF(Sheet1!GU251>Sheet2!$A$1,Sheet1!GU251,"") | L3: =+IF(Sheet1!GV251>Sheet2!$A$1,Sheet1!GV251,"") | M3: =+IF(Sheet1!GW251>Sheet2!$A$1,Sheet1!GW251,"") | N3: =+IF(Sheet1!GX251>Sheet2!$A$1,Sheet1!GX251,"") | O3: =+IF(Sheet1!GY251>Sheet2!$A$1,Sheet1!GY251,"") | P3: =+IF(Sheet1!GZ251>Sheet2!$A$1,Sheet1!GZ251,"") | Q3: =+IF(Sheet1!HA251>Sheet2!$A$1,Sheet1!HA251,"") | ... Z3: =+IF(Sheet1!HJ251>Sheet2!$A$1,Sheet1!HJ251,"") | AA3: =+IF(Sheet1!HP251>Sheet2!$A$1,Sheet1!HP251,"") | AB3: =+IF(Sheet1!HQ251>Sheet2!$A$1,Sheet1!HQ251,"") | AC3: =+IF(Sheet1!HR251>Sheet2!$A$1,Sheet1!HR251,"") | AD3: =+IF(Sheet1!HS251>Sheet2!$A$1,Sheet1!HS251,"") | AE3: =+IF(Sheet1!HT251>Sheet2!$A$1,Sheet1!HT251,"") | AF3: =+IF(Sheet1!HU251>Sheet2!$A$1,Sheet1!HU251,"") | AG3: =+IF(Sheet1!HV251>Sheet2!$A$1,Sheet1!HV251,"") | AH3: =+IF(Sheet1!HW251>Sheet2!$A$1,Sheet1!HW251,"") | ... BB3: =+IF(Sheet1!IQ251>Sheet2!$A$1,Sheet1!IQ251,"") | BC3: =+IF(Sheet1!IS251>Sheet2!$A$1,Sheet1!IS251,"") | BD3: =+IF(Sheet1!IT251>Sheet2!$A$1,Sheet1!IT251,"") | BE3: =+IF(Sheet1!IU251>Sheet2!$A$1,Sheet1!IU251,"") | BF3: =+IF(Sheet1!IV251>Sheet2!$A$1,Sheet1!IV251,"") | BG3: =+IF(Sheet1!IW251>Sheet2!$A$1,Sheet1!IW251,"") | BH3: =+IF(Sheet1!IX251>Sheet2!$A$1,Sheet1!IX251,"") | BI3: =+IF(Sheet1!IY251>Sheet2!$A$1,Sheet1!IY251,"") | BJ3: =+IF(Sheet1!IZ251>Sheet2!$A$1,Sheet1!IZ251,"")
A4: P27 | B4: NC_003356 | C4: =+IF(Sheet1!FP221>Sheet2!$A$1,Sheet1!FP221,"") | D4: =+IF(Sheet1!IR221>Sheet2!$A$1,Sheet1!IR221,"") | E4: =+IF(Sheet1!HN221>Sheet2!$A$1,Sheet1!HN221,"") -> 100 | F4: =+IF(Sheet1!HO221>Sheet2!$A$1,Sheet1!HO221,"") -> 42.105263 | G4: =+IF(Sheet1!HL221>Sheet2!$A$1,Sheet1!HL221,"") | H4: =+IF(Sheet1!HM221>Sheet2!$A$1,Sheet1!HM221,"") | I4: =+IF(Sheet1!HK221>Sheet2!$A$1,Sheet1!HK221,"") -> 15.789474 | J4: =+IF(Sheet1!GT221>Sheet2!$A$1,Sheet1!GT221,"") | K4: =+IF(Sheet1!GU221>Sheet2!$A$1,Sheet1!GU221,"") | L4: =+IF(Sheet1!GV221>Sheet2!$A$1,Sheet1!GV221,"") | M4: =+IF(Sheet1!GW221>Sheet2!$A$1,Sheet1!GW221,"") | N4: =+IF(Sheet1!GX221>Sheet2!$A$1,Sheet1!GX221,"") | O4: =+IF(Sheet1!GY221>Sheet2!$A$1,Sheet1!GY221,"") | P4: =+IF(Sheet1!GZ221>Sheet2!$A$1,Sheet1!GZ221,"") | Q4: =+IF(Sheet1!HA221>Sheet2!$A$1,Sheet1!HA221,"") | ... Z4: =+IF(Sheet1!HJ221>Sheet2!$A$1,Sheet1!HJ221,"") | AA4: =+IF(Sheet1!HP221>Sheet2!$A$1,Sheet1!HP221,"") | AB4: =+IF(Sheet1!HQ221>Sheet2!$A$1,Sheet1!HQ221,"") | AC4: =+IF(Sheet1!HR221>Sheet2!$A$1,Sheet1!HR221,"") | AD4: =+IF(Sheet1!HS221>Sheet2!$A$1,Sheet1!HS221,"") | AE4: =+IF(Sheet1!HT221>Sheet2!$A$1,Sheet1!HT221,"") | AF4: =+IF(Sheet1!HU221>Sheet2!$A$1,Sheet1!HU221,"") | AG4: =+IF(Sheet1!HV221>Sheet2!$A$1,Sheet1!HV221,"") | AH4: =+IF(Sheet1!HW221>Sheet2!$A$1,Sheet1!HW221,"") | ... BB4: =+IF(Sheet1!IQ221>Sheet2!$A$1,Sheet1!IQ221,"") | BC4: =+IF(Sheet1!IS221>Sheet2!$A$1,Sheet1!IS221,"") | BD4: =+IF(Sheet1!IT221>Sheet2!$A$1,Sheet1!IT221,"") | BE4: =+IF(Sheet1!IU221>Sheet2!$A$1,Sheet1!IU221,"") | BF4: =+IF(Sheet1!IV221>Sheet2!$A$1,Sheet1!IV221,"") | BG4: =+IF(Sheet1!IW221>Sheet2!$A$1,Sheet1!IW221,"") | BH4: =+IF(Sheet1!IX221>Sheet2!$A$1,Sheet1!IX221,"") | BI4: =+IF(Sheet1!IY221>Sheet2!$A$1,Sheet1!IY221,"") | BJ4: =+IF(Sheet1!IZ221>Sheet2!$A$1,Sheet1!IZ221,"")
A5: V | B5: NC_003444 | C5: =+IF(Sheet1!FP222>Sheet2!$A$1,Sheet1!FP222,"") | D5: =+IF(Sheet1!IR222>Sheet2!$A$1,Sheet1!IR222,"") | E5: =+IF(Sheet1!HN222>Sheet2!$A$1,Sheet1!HN222,"") -> 45.283019 | F5: =+IF(Sheet1!HO222>Sheet2!$A$1,Sheet1!HO222,"") -> 100 | G5: =+IF(Sheet1!HL222>Sheet2!$A$1,Sheet1!HL222,"") | H5: =+IF(Sheet1!HM222>Sheet2!$A$1,Sheet1!HM222,"") | I5: =+IF(Sheet1!HK222>Sheet2!$A$1,Sheet1!HK222,"") -> 18.867925 | J5: =+IF(Sheet1!GT222>Sheet2!$A$1,Sheet1!GT222,"") | K5: =+IF(Sheet1!GU222>Sheet2!$A$1,Sheet1!GU222,"") | L5: =+IF(Sheet1!GV222>Sheet2!$A$1,Sheet1!GV222,"") | M5: =+IF(Sheet1!GW222>Sheet2!$A$1,Sheet1!GW222,"") | N5: =+IF(Sheet1!GX222>Sheet2!$A$1,Sheet1!GX222,"") | O5: =+IF(Sheet1!GY222>Sheet2!$A$1,Sheet1!GY222,"") | P5: =+IF(Sheet1!GZ222>Sheet2!$A$1,Sheet1!GZ222,"") | Q5: =+IF(Sheet1!HA222>Sheet2!$A$1,Sheet1!HA222,"") | ... Z5: =+IF(Sheet1!HJ222>Sheet2!$A$1,Sheet1!HJ222,"") | AA5: =+IF(Sheet1!HP222>Sheet2!$A$1,Sheet1!HP222,"") | AB5: =+IF(Sheet1!HQ222>Sheet2!$A$1,Sheet1!HQ222,"") | AC5: =+IF(Sheet1!HR222>Sheet2!$A$1,Sheet1!HR222,"") | AD5: =+IF(Sheet1!HS222>Sheet2!$A$1,Sheet1!HS222,"") | AE5: =+IF(Sheet1!HT222>Sheet2!$A$1,Sheet1!HT222,"") | AF5: =+IF(Sheet1!HU222>Sheet2!$A$1,Sheet1!HU222,"") | AG5: =+IF(Sheet1!HV222>Sheet2!$A$1,Sheet1!HV222,"") | AH5: =+IF(Sheet1!HW222>Sheet2!$A$1,Sheet1!HW222,"") | ... BB5: =+IF(Sheet1!IQ222>Sheet2!$A$1,Sheet1!IQ222,"") | BC5: =+IF(Sheet1!IS222>Sheet2!$A$1,Sheet1!IS222,"") | BD5: =+IF(Sheet1!IT222>Sheet2!$A$1,Sheet1!IT222,"") | BE5: =+IF(Sheet1!IU222>Sheet2!$A$1,Sheet1!IU222,"") | BF5: =+IF(Sheet1!IV222>Sheet2!$A$1,Sheet1!IV222,"") | BG5: =+IF(Sheet1!IW222>Sheet2!$A$1,Sheet1!IW222,"") | BH5: =+IF(Sheet1!IX222>Sheet2!$A$1,Sheet1!IX222,"") | BI5: =+IF(Sheet1!IY222>Sheet2!$A$1,Sheet1!IY222,"") | BJ5: =+IF(Sheet1!IZ222>Sheet2!$A$1,Sheet1!IZ222,"")
A6: φ E255 | B6: NC_009237 | C6: =+IF(Sheet1!FP219>Sheet2!$A$1,Sheet1!FP219,"") | D6: =+IF(Sheet1!IR219>Sheet2!$A$1,Sheet1!IR219,"") | E6: =+IF(Sheet1!HN219>Sheet2!$A$1,Sheet1!HN219,"") | F6: =+IF(Sheet1!HO219>Sheet2!$A$1,Sheet1!HO219,"") | G6: =+IF(Sheet1!HL219>Sheet2!$A$1,Sheet1!HL219,"") -> 100 | H6: =+IF(Sheet1!HM219>Sheet2!$A$1,Sheet1!HM219,"") -> 88.679245 | I6: =+IF(Sheet1!HK219>Sheet2!$A$1,Sheet1!HK219,"") -> 33.962264 | J6: =+IF(Sheet1!GT219>Sheet2!$A$1,Sheet1!GT219,"") -> 13.207547 | K6: =+IF(Sheet1!GU219>Sheet2!$A$1,Sheet1!GU219,"") -> 15.09434 | L6: =+IF(Sheet1!GV219>Sheet2!$A$1,Sheet1!GV219,"") -> 15.09434 | M6: =+IF(Sheet1!GW219>Sheet2!$A$1,Sheet1!GW219,"") | N6: =+IF(Sheet1!GX219>Sheet2!$A$1,Sheet1!GX219,"") -> 11.320755 | O6: =+IF(Sheet1!GY219>Sheet2!$A$1,Sheet1!GY219,"") -> 13.207547 | P6: =+IF(Sheet1!GZ219>Sheet2!$A$1,Sheet1!GZ219,"") -> 11.320755 | Q6: =+IF(Sheet1!HA219>Sheet2!$A$1,Sheet1!HA219,"") -> 13.207547 | ... Z6: =+IF(Sheet1!HJ219>Sheet2!$A$1,Sheet1!HJ219,"") | AA6: =+IF(Sheet1!HP219>Sheet2!$A$1,Sheet1!HP219,"") | AB6: =+IF(Sheet1!HQ219>Sheet2!$A$1,Sheet1!HQ219,"") | AC6: =+IF(Sheet1!HR219>Sheet2!$A$1,Sheet1!HR219,"") | AD6: =+IF(Sheet1!HS219>Sheet2!$A$1,Sheet1!HS219,"") | AE6: =+IF(Sheet1!HT219>Sheet2!$A$1,Sheet1!HT219,"") | AF6: =+IF(Sheet1!HU219>Sheet2!$A$1,Sheet1!HU219,"") | AG6: =+IF(Sheet1!HV219>Sheet2!$A$1,Sheet1!HV219,"") | AH6: =+IF(Sheet1!HW219>Sheet2!$A$1,Sheet1!HW219,"") | ... BB6: =+IF(Sheet1!IQ219>Sheet2!$A$1,Sheet1!IQ219,"") | BC6: =+IF(Sheet1!IS219>Sheet2!$A$1,Sheet1!IS219,"") | BD6: =+IF(Sheet1!IT219>Sheet2!$A$1,Sheet1!IT219,"") | BE6: =+IF(Sheet1!IU219>Sheet2!$A$1,Sheet1!IU219,"") | BF6: =+IF(Sheet1!IV219>Sheet2!$A$1,Sheet1!IV219,"") | BG6: =+IF(Sheet1!IW219>Sheet2!$A$1,Sheet1!IW219,"") | BH6: =+IF(Sheet1!IX219>Sheet2!$A$1,Sheet1!IX219,"") | BI6: =+IF(Sheet1!IY219>Sheet2!$A$1,Sheet1!IY219,"") | BJ6: =+IF(Sheet1!IZ219>Sheet2!$A$1,Sheet1!IZ219,"")
A7: BcepMu | B7: NC_005882 | C7: =+IF(Sheet1!FP220>Sheet2!$A$1,Sheet1!FP220,"") | D7: =+IF(Sheet1!IR220>Sheet2!$A$1,Sheet1!IR220,"") | E7: =+IF(Sheet1!HN220>Sheet2!$A$1,Sheet1!HN220,"") | F7: =+IF(Sheet1!HO220>Sheet2!$A$1,Sheet1!HO220,"") | G7: =+IF(Sheet1!HL220>Sheet2!$A$1,Sheet1!HL220,"") -> 94.230769 | H7: =+IF(Sheet1!HM220>Sheet2!$A$1,Sheet1!HM220,"") -> 100 | I7: =+IF(Sheet1!HK220>Sheet2!$A$1,Sheet1!HK220,"") -> 32.692308 | J7: =+IF(Sheet1!GT220>Sheet2!$A$1,Sheet1!GT220,"") -> 15.384615 | K7: =+IF(Sheet1!GU220>Sheet2!$A$1,Sheet1!GU220,"") -> 15.384615 | L7: =+IF(Sheet1!GV220>Sheet2!$A$1,Sheet1!GV220,"") -> 15.384615 | M7: =+IF(Sheet1!GW220>Sheet2!$A$1,Sheet1!GW220,"") | N7: =+IF(Sheet1!GX220>Sheet2!$A$1,Sheet1!GX220,"") -> 13.461538 | O7: =+IF(Sheet1!GY220>Sheet2!$A$1,Sheet1!GY220,"") -> 13.461538 | P7: =+IF(Sheet1!GZ220>Sheet2!$A$1,Sheet1!GZ220,"") -> 11.538462 | Q7: =+IF(Sheet1!HA220>Sheet2!$A$1,Sheet1!HA220,"") -> 13.461538 | ... Z7: =+IF(Sheet1!HJ220>Sheet2!$A$1,Sheet1!HJ220,"") | AA7: =+IF(Sheet1!HP220>Sheet2!$A$1,Sheet1!HP220,"") | AB7: =+IF(Sheet1!HQ220>Sheet2!$A$1,Sheet1!HQ220,"") | AC7: =+IF(Sheet1!HR220>Sheet2!$A$1,Sheet1!HR220,"") | AD7: =+IF(Sheet1!HS220>Sheet2!$A$1,Sheet1!HS220,"") | AE7: =+IF(Sheet1!HT220>Sheet2!$A$1,Sheet1!HT220,"") | AF7: =+IF(Sheet1!HU220>Sheet2!$A$1,Sheet1!HU220,"") | AG7: =+IF(Sheet1!HV220>Sheet2!$A$1,Sheet1!HV220,"") | AH7: =+IF(Sheet1!HW220>Sheet2!$A$1,Sheet1!HW220,"") | ... BB7: =+IF(Sheet1!IQ220>Sheet2!$A$1,Sheet1!IQ220,"") | BC7: =+IF(Sheet1!IS220>Sheet2!$A$1,Sheet1!IS220,"") | BD7: =+IF(Sheet1!IT220>Sheet2!$A$1,Sheet1!IT220,"") | BE7: =+IF(Sheet1!IU220>Sheet2!$A$1,Sheet1!IU220,"") | BF7: =+IF(Sheet1!IV220>Sheet2!$A$1,Sheet1!IV220,"") | BG7: =+IF(Sheet1!IW220>Sheet2!$A$1,Sheet1!IW220,"") | BH7: =+IF(Sheet1!IX220>Sheet2!$A$1,Sheet1!IX220,"") | BI7: =+IF(Sheet1!IY220>Sheet2!$A$1,Sheet1!IY220,"") | BJ7: =+IF(Sheet1!IZ220>Sheet2!$A$1,Sheet1!IZ220,"")
