Workbook

Sheet matrix
B1: AC-Namen | C1: phage T7 | D1: phage phiA1122 | E1: Berlin | F1: phage T3 | G1: phage phiYeO3-12 | H1: phage K1F | I1: phage VP4 | J1: phage gh-1 | K1: phage syn5 | L1: phage P-SSP7 | M1: phage P60 | N1: phage SP6 | O1: phage K1-5 | P1: Era103 | Q1: phage phiKMV | R1: phage LKD16 | S1: phage LKA1 | T1: phage P22 | U1: phage ST104 | V1: phage ST64T | W1: phage HK620 | X1: phage Sf6 | Y1: phage APSE-1 | Z1: phage BIP-1 | AA1: phage BMP-1 | AB1: phage BPP-1 | AC1: phage BcepC6B | AD1: Phage phiV10 | AE1: epsilon15 | AF1: virus P1 | AG1: phage GA-1 | AH1: phage B103 | AI1: phage phi29 | AJ1: phage Cp-1 | AK1: phage 44AHJD | AL1: phage phiP68 | AM1: phage 66 | AN1: phage C1 | AO1: phage PaP2 | AP1: phage 119X | AQ1: phage VP2 | AR1: phage VP5 | AS1: phage KS7 | AT1: phage setp3 | AU1: phage PaP3 | AV1: phage Mx8 | AW1: phage Pf-WMP4 | AX1: phage ST64B | AY1: phage F116 | AZ1: phage Bcep22 | BA1: phage VpV262 | BB1: phage SIO1 | BC1: phage N4 | BD1: phage 69 | BE1: phage phi 11 | BF1: phage 53 | BG1: phage phiETA2 | BH1: phage phiNM] | BI1: phage 85 | BJ1: phage 187 | BK1: phage 92 | BL1: phage 52A | BM1: phage phiETA3 | BN1: phage 88 | BO1: phage 29] | BP1: phage 55 | BQ1: phage X2 | BR1: phage 96 | BS1: phage 71] | BT1: phage 37 | BU1: phage CNPH82 | BV1: phage PH15 | BW1: phage EW | BX1: phage 77 | BY1: phage phiNM3 | BZ1: phage phiPVL108 | CA1: phage phi 13 | CB1: phage phiN315 | CC1: phage PVL | CD1: phage phi ETA] | CE1: phage 47 | CF1: phage phi 12 | CG1: phage phiSLT | CH1: phage 3A | CI1: phage 42e | CJ1: phage Tuc2009 | CK1: phage TP901-1 | CL1: phage ul36 | CM1: phage r1t | CN1: phage phi LC3 | CO1: phage bIL286 | CP1: phage BK5-T | CQ1: phage 4268 | CR1: phage bIL309 | CS1: phage bIL285 | CT1: phage O1205 | CU1: phage 2972 | CV1: phage Sfi11 | CW1: phage Sfi21 | CX1: phage Sfi19 | CY1: phage DT1 | CZ1: phage Orion | DA1: phage PG1 | DB1: phage Cooper | DC1: phage Qyrzula | DD1: phage Rosebush | DE1: phage 86 | DF1: Stx2 converting bacteriophage II | DG1: Stx1 converting bacteriophage | DH1: Phage phi 4795 | DI1: phage lambda | DJ1: phage L5 | DK1: phage Che12 | DL1: phage Bxz2 | DM1: phage Bxb1 | DN1: phage D29 | DO1: phage sk1 | DP1: phage 712 | DQ1: phage jj50 | DR1: phage P008 | DS1: phage bIL170 | DT1: phage PMC | DU1: phage Llij | DV1: phage Che9d | DW1: phage Che8 | DX1: phage Gamma | DY1: phage Cherry | DZ1: phage Fah | EA1: phage W beta | EB1: phage phi644-2 | EC1: phage phiE125 | ED1: phage phi1026b | EE1: phage T1 | EF1: phage RTP | EG1: phage JK06 | EH1: phage phi AT3 | EI1: phage Lc-Nu | EJ1: phage A2 | EK1: phage phiKO2 | EL1: phage PY54 | EM1: phage N15 | EN1: phage 244 | EO1: phage CJW1 | EP1: phage PLot | EQ1: phage PBI1 | ER1: phage D3112 | ES1: phage DMS3 | ET1: phage Bcep176 | EU1: phage psiM2 | EV1: phage 2638A | EW1: phage phiC31 | EX1: phiBT1 | EY1: phage BcepGomr | EZ1: phage Q54 | FA1: Phage phiJL001 | FB1: phage B3 | FC1: phage SPP1 | FD1: phage mu1/6 | FE1: phage A118 | FF1: phage MM1 | FG1: phage bIL312 | FH1: phage bIL311 | FI1: phage bIL310 | FJ1: phage phi3396 | FK1: phage 11b | FL1: Archaeal BJ1 | FM1: phage BCJA1c | FN1: phage phiAsp2 | FO1: phage phi-105 | FP1: phage Catera | FQ1: phage Wildcat | FR1: phage Halo | FS1: phage phig1e | FT1: phage BcepNazgul | FU1: phage VWB | FV1: phage Omega | FW1: phage Che9c | FX1: phage KC5a | FY1: phage phiHSIC | FZ1: phage ES18 | GA1: phage T5 | GB1: phage Lj965 | GC1: phage Lj928 | GD1: phage SM1 | GE1: phage Xp10 | GF1: phage Barnyard | GG1: phage Corndog | GH1: phage phi3626 | GI1: phage TM4 | GJ1: phage PSA | GK1: phage PhiNIH1.1 | GL1: phage D3] | GM1: phage 7201 | GN1: phage HK97 | GO1: phage HK022 | GP1: phage phi adh | GQ1: phage SPBc2 | GR1: phage c2 | GS1: phage SETP3 | GT1: phage RSA1 | GU1: phage phi52237 | GV1: phage phiE202 | GW1: phage phiE12-2 | GX1: phage 186 | GY1: phage WPhi | GZ1: phage PsP3 | HA1: phage P2] | HB1: phage L-413C | HC1: phage phi CTX | HD1: phage phi-MhaA1-PHL101 | HE1: phage VHML | HF1: phage VP882 | HG1: phage F108 | HH1: phage HP1] | HI1: phage HP2] | HJ1: phage K139 | HK1: phage Mu | HL1: phage phiE255 | HM1: phage BcepMu | HN1: phage P27 | HO1: phage V] | HP1: phage 25] | HQ1: phage 31] | HR1: phage 44RR2 | HS1: phage RB69 | HT1: phage RB32 | HU1: phage T4 | HV1: phage RB49 | HW1: phage Aeh1 | HX1: phage RB43 | HY1: phage KVP40 | HZ1: phage P-SSM4 | IA1: phage S-PM2 | IB1: phage Syn9 | IC1: phage P-SSM2 | ID1: phage Bcep1] | IE1: phage Bcep781] | IF1: phage Bcep43] | IG1: phage BcepB1A] | IH1: phage BcepF1] | II1: phage G1] | IJ1: phage K] | IK1: phage Twort | IL1: phage P100] | IM1: phage LP65] | IN1: phage EL] | IO1: phage phiKZ | IP1: phage Aaphi23 | IQ1: phage Felix 01 | IR1: phage Bxz1 | IS1: phage EJ-1 | IT1: phage GBSV1 | IU1: phage RM 378 | IV1: PhiCh1 | IW1: phage Ma-LMM01 | IX1: phage P1] | IY1: phage P4] | IZ1: phage phi CD119
A2: phage T7 | B2: NC_001604 | C2: 60 | D2: 53 | E2: 44 | F2: 44 | G2: 42 | H2: 39 | I2: 29 | J2: 33 | K2: 0 | L2: 13 | M2: 10 | N2: 10 | O2: 13 | P2: 10 | Q2: 6 | R2: 5 | S2: 7 | T2: 0 | U2: 0 | V2: 0 | W2: 0 | X2: 1 | Y2: 0 | Z2: 0 | AA2: 0 | AB2: 0 | AC2: 0 | AD2: 0 | AE2: 0 | AF2: 0 | AG2: 0 | AH2: 0 | AI2: 0 | AJ2: 0 | AK2: 0 | AL2: 0 | AM2: 0 | AN2: 0 | AO2: 0 | AP2: 0 | AQ2: 0 | AR2: 0 | AS2: 0 | AT2: 0 | AU2: 4 | AV2: 2 | AW2: 0 | AX2: 0 | AY2: 0 | AZ2: 0 | BA2: 1 | BB2: 5 | BC2: 2 | BD2: 0 | BE2: 0 | BF2: 0 | BG2: 0 | BH2: 0 | BI2: 0 | BJ2: 0 | BK2: 0 | BL2: 0 | BM2: 0 | BN2: 0 | BO2: 0 | BP2: 0 | BQ2: 0 | BR2: 0 | BS2: 0 | BT2: 0 | BU2: 0 | BV2: 0 | BW2: 0 | BX2: 0 | BY2: 0 | BZ2: 0 | CA2: 0 | CB2: 0 | CC2: 0 | CD2: 0 | CE2: 0 | CF2: 0 | CG2: 0 | CH2: 0 | CI2: 0 | CJ2: 0 | CK2: 0 | CL2: 0 | CM2: 0 | CN2: 0 | CO2: 0 | CP2: 0 | CQ2: 0 | CR2: 0 | CS2: 0 | CT2: 0 | CU2: 0 | CV2: 0 | CW2: 0 | CX2: 0 | CY2: 0 | CZ2: 1 | DA2: 1 | DB2: 0 | DC2: 0 | DD2: 0 | DE2: 0 | DF2: 0 | DG2: 0 | DH2: 0 | DI2: 0 | DJ2: 0 | DK2: 0 | DL2: 0 | DM2: 0 | DN2: 0 | DO2: 0 | DP2: 0 | DQ2: 0 | DR2: 0 | DS2: 0 | DT2: 0 | DU2: 0 | DV2: 0 | DW2: 0 | DX2: 0 | DY2: 0 | DZ2: 0 | EA2: 0 | EB2: 0 | EC2: 0 | ED2: 0 | EE2: 1 | EF2: 1 | EG2: 0 | EH2: 0 | EI2: 0 | EJ2: 0 | EK2: 0 | EL2: 0 | EM2: 0 | EN2: 0 | EO2: 0 | EP2: 0 | EQ2: 0 | ER2: 0 | ES2: 0 | ET2: 0 | EU2: 0 | EV2: 0 | EW2: 0 | EX2: 0 | EY2: 0 | EZ2: 0 | FA2: 0 | FB2: 0 | FC2: 0 | FD2: 0 | FE2: 0 | FF2: 1 | FG2: 0 | FH2: 0 | FI2: 0 | FJ2: 1 | FK2: 0 | FL2: 0 | FM2: 0 | FN2: 0 | FO2: 0 | FP2: 0 | FQ2: 2 | FR2: 0 | FS2: 0 | FT2: 0 | FU2: 0 | FV2: 0 | FW2: 0 | FX2: 0 | FY2: 0 | FZ2: 4 | GA2: 1 | GB2: 0 | GC2: 0 | GD2: 1 | GE2: 2 | GF2: 0 | GG2: 1 | GH2: 2 | GI2: 0 | GJ2: 0 | GK2: 0 | GL2: 0 | GM2: 0 | GN2: 0 | GO2: 1 | GP2: 0 | GQ2: 1 | GR2: 0 | GS2: 1 | GT2: 0 | GU2: 0 | GV2: 0 | GW2: 0 | GX2: 0 | GY2: 0 | GZ2: 0 | HA2: 0 | HB2: 0 | HC2: 0 | HD2: 0 | HE2: 0 | HF2: 0 | HG2: 0 | HH2: 0 | HI2: 0 | HJ2: 0 | HK2: 0 | HL2: 0 | HM2: 0 | HN2: 0 | HO2: 0 | HP2: 1 | HQ2: 1 | HR2: 1 | HS2: 1 | HT2: 0 | HU2: 0 | HV2: 0 | HW2: 2 | HX2: 0 | HY2: 0 | HZ2: 0 | IA2: 1 | IB2: 0 | IC2: 0 | ID2: 0 | IE2: 0 | IF2: 0 | IG2: 0 | IH2: 0 | II2: 0 | IJ2: 0 | IK2: 0 | IL2: 0 | IM2: 0 | IN2: 0 | IO2: 0 | IP2: 0 | IQ2: 5 | IR2: 0 | IS2: 1 | IT2: 0 | IU2: 0 | IV2: 0 | IW2: 0 | IX2: 3 | IY2: 0 | IZ2: 0 | JA2: =+MAX(A2:IZ2) -> 60
A3: phage phiA1122 | B3: NC_004777 | C3: 48 | D3: 49 | E3: 40 | F3: 40 | G3: 38 | H3: 37 | I3: 25 | J3: 30 | K3: 0 | L3: 11 | M3: 9 | N3: 9 | O3: 12 | P3: 10 | Q3: 5 | R3: 5 | S3: 6 | T3: 0 | U3: 0 | V3: 0 | W3: 0 | X3: 1 | Y3: 0 | Z3: 0 | AA3: 0 | AB3: 0 | AC3: 0 | AD3: 0 | AE3: 0 | AF3: 0 | AG3: 0 | AH3: 0 | AI3: 0 | AJ3: 0 | AK3: 0 | AL3: 0 | AM3: 0 | AN3: 0 | AO3: 0 | AP3: 0 | AQ3: 0 | AR3: 0 | AS3: 0 | AT3: 0 | AU3: 2 | AV3: 2 | AW3: 0 | AX3: 0 | AY3: 0 | AZ3: 0 | BA3: 1 | BB3: 3 | BC3: 2 | BD3: 0 | BE3: 0 | BF3: 1 | BG3: 1 | BH3: 0 | BI3: 1 | BJ3: 0 | BK3: 0 | BL3: 0 | BM3: 0 | BN3: 0 | BO3: 0 | BP3: 0 | BQ3: 0 | BR3: 1 | BS3: 0 | BT3: 0 | BU3: 1 | BV3: 1 | BW3: 0 | BX3: 1 | BY3: 0 | BZ3: 0 | CA3: 0 | CB3: 1 | CC3: 0 | CD3: 0 | CE3: 1 | CF3: 1 | CG3: 0 | CH3: 1 | CI3: 0 | CJ3: 0 | CK3: 0 | CL3: 0 | CM3: 0 | CN3: 0 | CO3: 0 | CP3: 0 | CQ3: 0 | CR3: 0 | CS3: 0 | CT3: 0 | CU3: 0 | CV3: 0 | CW3: 0 | CX3: 0 | CY3: 0 | CZ3: 1 | DA3: 1 | DB3: 0 | DC3: 0 | DD3: 0 | DE3: 0 | DF3: 0 | DG3: 0 | DH3: 0 | DI3: 0 | DJ3: 0 | DK3: 0 | DL3: 0 | DM3: 0 | DN3: 0 | DO3: 0 | DP3: 0 | DQ3: 0 | DR3: 0 | DS3: 0 | DT3: 0 | DU3: 0 | DV3: 0 | DW3: 0 | DX3: 0 | DY3: 0 | DZ3: 0 | EA3: 0 | EB3: 0 | EC3: 0 | ED3: 0 | EE3: 1 | EF3: 1 | EG3: 0 | EH3: 0 | EI3: 0 | EJ3: 0 | EK3: 0 | EL3: 0 | EM3: 0 | EN3: 0 | EO3: 0 | EP3: 0 | EQ3: 0 | ER3: 0 | ES3: 0 | ET3: 0 | EU3: 0 | EV3: 0 | EW3: 0 | EX3: 0 | EY3: 0 | EZ3: 0 | FA3: 0 | FB3: 0 | FC3: 0 | FD3: 0 | FE3: 0 | FF3: 1 | FG3: 0 | FH3: 0 | FI3: 0 | FJ3: 1 | FK3: 0 | FL3: 0 | FM3: 0 | FN3: 0 | FO3: 0 | FP3: 1 | FQ3: 1 | FR3: 0 | FS3: 0 | FT3: 0 | FU3: 0 | FV3: 0 | FW3: 0 | FX3: 0 | FY3: 0 | FZ3: 3 | GA3: 1 | GB3: 0 | GC3: 0 | GD3: 1 | GE3: 2 | GF3: 0 | GG3: 1 | GH3: 1 | GI3: 0 | GJ3: 1 | GK3: 1 | GL3: 0 | GM3: 0 | GN3: 0 | GO3: 1 | GP3: 0 | GQ3: 0 | GR3: 0 | GS3: 1 | GT3: 0 | GU3: 0 | GV3: 0 | GW3: 0 | GX3: 0 | GY3: 0 | GZ3: 0 | HA3: 0 | HB3: 0 | HC3: 0 | HD3: 0 | HE3: 0 | HF3: 0 | HG3: 0 | HH3: 0 | HI3: 0 | HJ3: 0 | HK3: 0 | HL3: 0 | HM3: 0 | HN3: 0 | HO3: 0 | HP3: 1 | HQ3: 0 | HR3: 0 | HS3: 0 | HT3: 0 | HU3: 0 | HV3: 0 | HW3: 0 | HX3: 0 | HY3: 0 | HZ3: 0 | IA3: 1 | IB3: 0 | IC3: 1 | ID3: 0 | IE3: 0 | IF3: 0 | IG3: 0 | IH3: 0 | II3: 0 | IJ3: 0 | IK3: 1 | IL3: 1 | IM3: 1 | IN3: 0 | IO3: 0 | IP3: 0 | IQ3: 4 | IR3: 1 | IS3: 1 | IT3: 0 | IU3: 0 | IV3: 0 | IW3: 0 | IX3: 1 | IY3: 0 | IZ3: 0 | JA3: =+MAX(A3:IZ3) -> 49
A4: Berlin | B4: NC_008694 | C4: 38 | D4: 37 | E4: 45 | F4: 38 | G4: 38 | H4: 34 | I4: 25 | J4: 28 | K4: 0 | L4: 12 | M4: 12 | N4: 8 | O4: 8 | P4: 9 | Q4: 6 | R4: 6 | S4: 5 | T4: 0 | U4: 0 | V4: 0 | W4: 0 | X4: 1 | Y4: 0 | Z4: 0 | AA4: 0 | AB4: 0 | AC4: 0 | AD4: 0 | AE4: 0 | AF4: 0 | AG4: 0 | AH4: 0 | AI4: 0 | AJ4: 0 | AK4: 0 | AL4: 0 | AM4: 0 | AN4: 0 | AO4: 0 | AP4: 0 | AQ4: 0 | AR4: 0 | AS4: 0 | AT4: 0 | AU4: 4 | AV4: 0 | AW4: 0 | AX4: 0 | AY4: 0 | AZ4: 0 | BA4: 1 | BB4: 5 | BC4: 1 | BD4: 0 | BE4: 0 | BF4: 0 | BG4: 0 | BH4: 0 | BI4: 0 | BJ4: 0 | BK4: 0 | BL4: 0 | BM4: 0 | BN4: 0 | BO4: 0 | BP4: 0 | BQ4: 0 | BR4: 0 | BS4: 0 | BT4: 0 | BU4: 0 | BV4: 0 | BW4: 0 | BX4: 0 | BY4: 0 | BZ4: 0 | CA4: 0 | CB4: 0 | CC4: 0 | CD4: 0 | CE4: 0 | CF4: 0 | CG4: 0 | CH4: 0 | CI4: 0 | CJ4: 0 | CK4: 0 | CL4: 0 | CM4: 0 | CN4: 0 | CO4: 0 | CP4: 0 | CQ4: 0 | CR4: 0 | CS4: 0 | CT4: 0 | CU4: 0 | CV4: 0 | CW4: 0 | CX4: 0 | CY4: 0 | CZ4: 0 | DA4: 0 | DB4: 0 | DC4: 0 | DD4: 0 | DE4: 0 | DF4: 0 | DG4: 0 | DH4: 0 | DI4: 0 | DJ4: 1 | DK4: 1 | DL4: 3 | DM4: 1 | DN4: 1 | DO4: 0 | DP4: 0 | DQ4: 0 | DR4: 0 | DS4: 0 | DT4: 0 | DU4: 0 | DV4: 0 | DW4: 0 | DX4: 0 | DY4: 0 | DZ4: 0 | EA4: 0 | EB4: 0 | EC4: 0 | ED4: 0 | EE4: 0 | EF4: 0 | EG4: 0 | EH4: 0 | EI4: 0 | EJ4: 0 | EK4: 0 | EL4: 0 | EM4: 0 | EN4: 1 | EO4: 0 | EP4: 0 | EQ4: 0 | ER4: 0 | ES4: 0 | ET4: 0 | EU4: 0 | EV4: 0 | EW4: 0 | EX4: 0 | EY4: 0 | EZ4: 0 | FA4: 0 | FB4: 0 | FC4: 0 | FD4: 0 | FE4: 0 | FF4: 0 | FG4: 0 | FH4: 0 | FI4: 0 | FJ4: 0 | FK4: 0 | FL4: 0 | FM4: 0 | FN4: 0 | FO4: 0 | FP4: 0 | FQ4: 1 | FR4: 0 | FS4: 0 | FT4: 0 | FU4: 0 | FV4: 1 | FW4: 0 | FX4: 0 | FY4: 0 | FZ4: 3 | GA4: 0 | GB4: 0 | GC4: 0 | GD4: 1 | GE4: 2 | GF4: 0 | GG4: 0 | GH4: 2 | GI4: 0 | GJ4: 0 | GK4: 0 | GL4: 0 | GM4: 0 | GN4: 0 | GO4: 0 | GP4: 0 | GQ4: 1 | GR4: 0 | GS4: 0 | GT4: 0 | GU4: 0 | GV4: 0 | GW4: 0 | GX4: 0 | GY4: 0 | GZ4: 0 | HA4: 0 | HB4: 0 | HC4: 0 | HD4: 0 | HE4: 0 | HF4: 0 | HG4: 0 | HH4: 0 | HI4: 0 | HJ4: 0 | HK4: 0 | HL4: 0 | HM4: 0 | HN4: 0 | HO4: 0 | HP4: 0 | HQ4: 0 | HR4: 0 | HS4: 0 | HT4: 0 | HU4: 0 | HV4: 0 | HW4: 0 | HX4: 0 | HY4: 0 | HZ4: 0 | IA4: 2 | IB4: 0 | IC4: 0 | ID4: 0 | IE4: 0 | IF4: 0 | IG4: 0 | IH4: 0 | II4: 0 | IJ4: 0 | IK4: 0 | IL4: 0 | IM4: 0 | IN4: 0 | IO4: 0 | IP4: 1 | IQ4: 3 | IR4: 0 | IS4: 0 | IT4: 0 | IU4: 0 | IV4: 0 | IW4: 0 | IX4: 2 | IY4: 0 | IZ4: 0 | JA4: =+MAX(A4:IZ4) -> 45
A5: phage T3 | B5: NC_003298 | C5: 43 | D5: 42 | E5: 43 | F5: 55 | G5: 53 | H5: 38 | I5: 30 | J5: 31 | K5: 0 | L5: 14 | M5: 14 | N5: 11 | O5: 11 | P5: 11 | Q5: 7 | R5: 7 | S5: 6 | T5: 0 | U5: 0 | V5: 0 | W5: 0 | X5: 1 | Y5: 0 | Z5: 0 | AA5: 0 | AB5: 0 | AC5: 0 | AD5: 0 | AE5: 0 | AF5: 0 | AG5: 0 | AH5: 0 | AI5: 0 | AJ5: 0 | AK5: 0 | AL5: 0 | AM5: 0 | AN5: 0 | AO5: 0 | AP5: 0 | AQ5: 0 | AR5: 0 | AS5: 0 | AT5: 0 | AU5: 4 | AV5: 0 | AW5: 0 | AX5: 0 | AY5: 0 | AZ5: 0 | BA5: 1 | BB5: 6 | BC5: 1 | BD5: 0 | BE5: 0 | BF5: 0 | BG5: 0 | BH5: 0 | BI5: 0 | BJ5: 0 | BK5: 0 | BL5: 0 | BM5: 0 | BN5: 0 | BO5: 0 | BP5: 0 | BQ5: 0 | BR5: 0 | BS5: 0 | BT5: 0 | BU5: 0 | BV5: 0 | BW5: 0 | BX5: 0 | BY5: 0 | BZ5: 0 | CA5: 0 | CB5: 0 | CC5: 0 | CD5: 0 | CE5: 0 | CF5: 0 | CG5: 0 | CH5: 0 | CI5: 0 | CJ5: 0 | CK5: 0 | CL5: 1 | CM5: 0 | CN5: 0 | CO5: 0 | CP5: 0 | CQ5: 0 | CR5: 0 | CS5: 0 | CT5: 0 | CU5: 0 | CV5: 0 | CW5: 0 | CX5: 0 | CY5: 0 | CZ5: 1 | DA5: 1 | DB5: 0 | DC5: 0 | DD5: 0 | DE5: 0 | DF5: 0 | DG5: 0 | DH5: 0 | DI5: 0 | DJ5: 0 | DK5: 0 | DL5: 2 | DM5: 0 | DN5: 0 | DO5: 0 | DP5: 0 | DQ5: 0 | DR5: 0 | DS5: 0 | DT5: 0 | DU5: 0 | DV5: 0 | DW5: 0 | DX5: 0 | DY5: 0 | DZ5: 0 | EA5: 0 | EB5: 0 | EC5: 0 | ED5: 0 | EE5: 1 | EF5: 1 | EG5: 0 | EH5: 0 | EI5: 0 | EJ5: 0 | EK5: 0 | EL5: 0 | EM5: 0 | EN5: 0 | EO5: 0 | EP5: 0 | EQ5: 0 | ER5: 0 | ES5: 0 | ET5: 0 | EU5: 0 | EV5: 0 | EW5: 0 | EX5: 0 | EY5: 0 | EZ5: 0 | FA5: 0 | FB5: 0 | FC5: 0 | FD5: 0 | FE5: 0 | FF5: 0 | FG5: 0 | FH5: 0 | FI5: 0 | FJ5: 0 | FK5: 0 | FL5: 0 | FM5: 0 | FN5: 0 | FO5: 0 | FP5: 0 | FQ5: 2 | FR5: 0 | FS5: 0 | FT5: 0 | FU5: 0 | FV5: 0 | FW5: 0 | FX5: 0 | FY5: 0 | FZ5: 2 | GA5: 0 | GB5: 0 | GC5: 0 | GD5: 0 | GE5: 1 | GF5: 0 | GG5: 0 | GH5: 2 | GI5: 0 | GJ5: 0 | GK5: 0 | GL5: 0 | GM5: 0 | GN5: 0 | GO5: 0 | GP5: 0 | GQ5: 0 | GR5: 0 | GS5: 0 | GT5: 0 | GU5: 0 | GV5: 0 | GW5: 0 | GX5: 0 | GY5: 0 | GZ5: 0 | HA5: 0 | HB5: 0 | HC5: 0 | HD5: 0 | HE5: 0 | HF5: 0 | HG5: 0 | HH5: 0 | HI5: 0 | HJ5: 0 | HK5: 0 | HL5: 0 | HM5: 0 | HN5: 0 | HO5: 0 | HP5: 1 | HQ5: 0 | HR5: 0 | HS5: 0 | HT5: 0 | HU5: 0 | HV5: 0 | HW5: 0 | HX5: 0 | HY5: 0 | HZ5: 0 | IA5: 1 | IB5: 0 | IC5: 0 | ID5: 0 | IE5: 0 | IF5: 0 | IG5: 0 | IH5: 0 | II5: 0 | IJ5: 0 | IK5: 0 | IL5: 0 | IM5: 0 | IN5: 0 | IO5: 0 | IP5: 1 | IQ5: 4 | IR5: 0 | IS5: 0 | IT5: 0 | IU5: 0 | IV5: 0 | IW5: 0 | IX5: 2 | IY5: 0 | IZ5: 0 | JA5: =+MAX(A5:IZ5) -> 55
A6: phage phiYeO3-12 | B6: NC_001271 | C6: 45 | D6: 44 | E6: 47 | F6: 56 | G6: 58 | H6: 41 | I6: 32 | J6: 33 | K6: 0 | L6: 15 | M6: 13 | N6: 10 | O6: 10 | P6: 13 | Q6: 8 | R6: 8 | S6: 6 | T6: 0 | U6: 0 | V6: 0 | W6: 0 | X6: 1 | Y6: 0 | Z6: 0 | AA6: 0 | AB6: 0 | AC6: 0 | AD6: 0 | AE6: 0 | AF6: 0 | AG6: 0 | AH6: 0 | AI6: 0 | AJ6: 0 | AK6: 0 | AL6: 0 | AM6: 0 | AN6: 0 | AO6: 0 | AP6: 0 | AQ6: 0 | AR6: 0 | AS6: 1 | AT6: 0 | AU6: 5 | AV6: 0 | AW6: 0 | AX6: 0 | AY6: 0 | AZ6: 1 | BA6: 1 | BB6: 6 | BC6: 1 | BD6: 0 | BE6: 0 | BF6: 0 | BG6: 0 | BH6: 0 | BI6: 0 | BJ6: 0 | BK6: 0 | BL6: 0 | BM6: 0 | BN6: 0 | BO6: 0 | BP6: 0 | BQ6: 0 | BR6: 0 | BS6: 0 | BT6: 0 | BU6: 0 | BV6: 0 | BW6: 0 | BX6: 0 | BY6: 0 | BZ6: 0 | CA6: 0 | CB6: 0 | CC6: 0 | CD6: 0 | CE6: 0 | CF6: 0 | CG6: 0 | CH6: 0 | CI6: 0 | CJ6: 0 | CK6: 0 | CL6: 0 | CM6: 0 | CN6: 0 | CO6: 0 | CP6: 0 | CQ6: 0 | CR6: 0 | CS6: 0 | CT6: 0 | CU6: 0 | CV6: 0 | CW6: 0 | CX6: 0 | CY6: 0 | CZ6: 1 | DA6: 1 | DB6: 0 | DC6: 0 | DD6: 0 | DE6: 0 | DF6: 0 | DG6: 0 | DH6: 0 | DI6: 0 | DJ6: 1 | DK6: 1 | DL6: 3 | DM6: 1 | DN6: 1 | DO6: 0 | DP6: 1 | DQ6: 0 | DR6: 1 | DS6: 1 | DT6: 0 | DU6: 0 | DV6: 0 | DW6: 0 | DX6: 0 | DY6: 0 | DZ6: 0 | EA6: 0 | EB6: 0 | EC6: 0 | ED6: 0 | EE6: 2 | EF6: 2 | EG6: 0 | EH6: 0 | EI6: 0 | EJ6: 0 | EK6: 0 | EL6: 0 | EM6: 0 | EN6: 1 | EO6: 0 | EP6: 0 | EQ6: 0 | ER6: 0 | ES6: 0 | ET6: 1 | EU6: 0 | EV6: 0 | EW6: 0 | EX6: 0 | EY6: 0 | EZ6: 0 | FA6: 0 | FB6: 0 | FC6: 0 | FD6: 0 | FE6: 0 | FF6: 0 | FG6: 0 | FH6: 0 | FI6: 0 | FJ6: 0 | FK6: 0 | FL6: 0 | FM6: 0 | FN6: 0 | FO6: 0 | FP6: 0 | FQ6: 3 | FR6: 0 | FS6: 0 | FT6: 0 | FU6: 0 | FV6: 1 | FW6: 0 | FX6: 0 | FY6: 0 | FZ6: 4 | GA6: 1 | GB6: 0 | GC6: 0 | GD6: 0 | GE6: 3 | GF6: 0 | GG6: 2 | GH6: 2 | GI6: 0 | GJ6: 0 | GK6: 0 | GL6: 0 | GM6: 0 | GN6: 0 | GO6: 1 | GP6: 0 | GQ6: 1 | GR6: 0 | GS6: 1 | GT6: 0 | GU6: 0 | GV6: 0 | GW6: 0 | GX6: 0 | GY6: 0 | GZ6: 0 | HA6: 0 | HB6: 0 | HC6: 0 | HD6: 0 | HE6: 0 | HF6: 0 | HG6: 0 | HH6: 0 | HI6: 0 | HJ6: 0 | HK6: 0 | HL6: 0 | HM6: 0 | HN6: 0 | HO6: 0 | HP6: 1 | HQ6: 1 | HR6: 1 | HS6: 0 | HT6: 1 | HU6: 1 | HV6: 1 | HW6: 0 | HX6: 1 | HY6: 0 | HZ6: 0 | IA6: 1 | IB6: 0 | IC6: 0 | ID6: 0 | IE6: 0 | IF6: 0 | IG6: 0 | IH6: 1 | II6: 0 | IJ6: 0 | IK6: 0 | IL6: 0 | IM6: 1 | IN6: 0 | IO6: 0 | IP6: 1 | IQ6: 5 | IR6: 0 | IS6: 0 | IT6: 0 | IU6: 0 | IV6: 0 | IW6: 0 | IX6: 3 | IY6: 0 | IZ6: 0 | JA6: =+MAX(A6:IZ6) -> 58
A7: phage K1F | B7: NC_007456 | C7: 31 | D7: 31 | E7: 30 | F7: 29 | G7: 30 | H7: 43 | I7: 22 | J7: 26 | K7: 0 | L7: 9 | M7: 9 | N7: 9 | O7: 10 | P7: 9 | Q7: 5 | R7: 5 | S7: 5 | T7: 0 | U7: 0 | V7: 0 | W7: 0 | X7: 1 | Y7: 0 | Z7: 0 | AA7: 0 | AB7: 0 | AC7: 0 | AD7: 1 | AE7: 1 | AF7: 0 | AG7: 1 | AH7: 0 | AI7: 0 | AJ7: 0 | AK7: 0 | AL7: 0 | AM7: 0 | AN7: 0 | AO7: 0 | AP7: 0 | AQ7: 0 | AR7: 0 | AS7: 1 | AT7: 0 | AU7: 2 | AV7: 0 | AW7: 1 | AX7: 0 | AY7: 0 | AZ7: 0 | BA7: 1 | BB7: 3 | BC7: 1 | BD7: 0 | BE7: 0 | BF7: 0 | BG7: 0 | BH7: 0 | BI7: 0 | BJ7: 0 | BK7: 0 | BL7: 0 | BM7: 0 | BN7: 0 | BO7: 0 | BP7: 0 | BQ7: 0 | BR7: 0 | BS7: 0 | BT7: 0 | BU7: 0 | BV7: 0 | BW7: 0 | BX7: 0 | BY7: 0 | BZ7: 0 | CA7: 0 | CB7: 0 | CC7: 0 | CD7: 0 | CE7: 0 | CF7: 0 | CG7: 0 | CH7: 0 | CI7: 0 | CJ7: 0 | CK7: 0 | CL7: 0 | CM7: 0 | CN7: 0 | CO7: 0 | CP7: 0 | CQ7: 0 | CR7: 0 | CS7: 0 | CT7: 0 | CU7: 0 | CV7: 0 | CW7: 0 | CX7: 0 | CY7: 0 | CZ7: 1 | DA7: 1 | DB7: 0 | DC7: 0 | DD7: 0 | DE7: 0 | DF7: 0 | DG7: 0 | DH7: 0 | DI7: 0 | DJ7: 0 | DK7: 0 | DL7: 0 | DM7: 0 | DN7: 0 | DO7: 0 | DP7: 0 | DQ7: 0 | DR7: 0 | DS7: 0 | DT7: 0 | DU7: 0 | DV7: 0 | DW7: 0 | DX7: 0 | DY7: 0 | DZ7: 0 | EA7: 0 | EB7: 0 | EC7: 0 | ED7: 0 | EE7: 1 | EF7: 2 | EG7: 1 | EH7: 0 | EI7: 0 | EJ7: 0 | EK7: 0 | EL7: 0 | EM7: 0 | EN7: 0 | EO7: 0 | EP7: 0 | EQ7: 0 | ER7: 1 | ES7: 1 | ET7: 0 | EU7: 0 | EV7: 0 | EW7: 0 | EX7: 0 | EY7: 1 | EZ7: 0 | FA7: 0 | FB7: 0 | FC7: 0 | FD7: 0 | FE7: 0 | FF7: 0 | FG7: 0 | FH7: 0 | FI7: 0 | FJ7: 0 | FK7: 0 | FL7: 0 | FM7: 0 | FN7: 0 | FO7: 0 | FP7: 0 | FQ7: 0 | FR7: 0 | FS7: 0 | FT7: 0 | FU7: 0 | FV7: 0 | FW7: 0 | FX7: 0 | FY7: 0 | FZ7: 2 | GA7: 1 | GB7: 0 | GC7: 0 | GD7: 1 | GE7: 1 | GF7: 0 | GG7: 1 | GH7: 0 | GI7: 0 | GJ7: 0 | GK7: 0 | GL7: 0 | GM7: 0 | GN7: 0 | GO7: 0 | GP7: 0 | GQ7: 0 | GR7: 0 | GS7: 1 | GT7: 0 | GU7: 0 | GV7: 0 | GW7: 0 | GX7: 0 | GY7: 0 | GZ7: 0 | HA7: 0 | HB7: 0 | HC7: 0 | HD7: 0 | HE7: 0 | HF7: 0 | HG7: 0 | HH7: 0 | HI7: 0 | HJ7: 0 | HK7: 1 | HL7: 0 | HM7: 0 | HN7: 0 | HO7: 0 | HP7: 0 | HQ7: 0 | HR7: 0 | HS7: 0 | HT7: 0 | HU7: 0 | HV7: 0 | HW7: 0 | HX7: 0 | HY7: 0 | HZ7: 0 | IA7: 1 | IB7: 0 | IC7: 0 | ID7: 0 | IE7: 0 | IF7: 0 | IG7: 0 | IH7: 0 | II7: 0 | IJ7: 0 | IK7: 0 | IL7: 0 | IM7: 0 | IN7: 0 | IO7: 0 | IP7: 1 | IQ7: 1 | IR7: 0 | IS7: 0 | IT7: 0 | IU7: 0 | IV7: 0 | IW7: 0 | IX7: 1 | IY7: 0 | IZ7: 0 | JA7: =+MAX(A7:IZ7) -> 43
A8: phage VP4 | B8: NC_007149 | C8: 22 | D8: 22 | E8: 22 | F8: 24 | G8: 23 | H8: 22 | I8: 31 | J8: 25 | K8: 0 | L8: 9 | M8: 8 | N8: 8 | O8: 6 | P8: 7 | Q8: 5 | R8: 5 | S8: 6 | T8: 0 | U8: 0 | V8: 0 | W8: 0 | X8: 1 | Y8: 0 | Z8: 0 | AA8: 0 | AB8: 0 | AC8: 0 | AD8: 0 | AE8: 0 | AF8: 0 | AG8: 0 | AH8: 0 | AI8: 0 | AJ8: 0 | AK8: 0 | AL8: 0 | AM8: 0 | AN8: 0 | AO8: 0 | AP8: 0 | AQ8: 0 | AR8: 0 | AS8: 0 | AT8: 0 | AU8: 2 | AV8: 0 | AW8: 2 | AX8: 0 | AY8: 0 | AZ8: 0 | BA8: 1 | BB8: 3 | BC8: 0 | BD8: 0 | BE8: 0 | BF8: 0 | BG8: 0 | BH8: 0 | BI8: 0 | BJ8: 0 | BK8: 0 | BL8: 0 | BM8: 0 | BN8: 0 | BO8: 0 | BP8: 0 | BQ8: 0 | BR8: 0 | BS8: 0 | BT8: 0 | BU8: 0 | BV8: 0 | BW8: 0 | BX8: 0 | BY8: 0 | BZ8: 0 | CA8: 0 | CB8: 0 | CC8: 0 | CD8: 0 | CE8: 0 | CF8: 0 | CG8: 0 | CH8: 0 | CI8: 0 | CJ8: 0 | CK8: 0 | CL8: 0 | CM8: 0 | CN8: 0 | CO8: 0 | CP8: 0 | CQ8: 0 | CR8: 0 | CS8: 0 | CT8: 0 | CU8: 0 | CV8: 0 | CW8: 0 | CX8: 0 | CY8: 0 | CZ8: 0 | DA8: 0 | DB8: 0 | DC8: 0 | DD8: 0 | DE8: 0 | DF8: 0 | DG8: 0 | DH8: 0 | DI8: 0 | DJ8: 0 | DK8: 0 | DL8: 0 | DM8: 0 | DN8: 0 | DO8: 0 | DP8: 0 | DQ8: 0 | DR8: 0 | DS8: 0 | DT8: 0 | DU8: 0 | DV8: 0 | DW8: 0 | DX8: 0 | DY8: 0 | DZ8: 0 | EA8: 0 | EB8: 0 | EC8: 0 | ED8: 0 | EE8: 0 | EF8: 0 | EG8: 0 | EH8: 0 | EI8: 0 | EJ8: 0 | EK8: 0 | EL8: 0 | EM8: 0 | EN8: 0 | EO8: 0 | EP8: 0 | EQ8: 0 | ER8: 0 | ES8: 0 | ET8: 0 | EU8: 0 | EV8: 0 | EW8: 0 | EX8: 0 | EY8: 0 | EZ8: 0 | FA8: 0 | FB8: 0 | FC8: 0 | FD8: 0 | FE8: 0 | FF8: 0 | FG8: 0 | FH8: 0 | FI8: 0 | FJ8: 0 | FK8: 0 | FL8: 0 | FM8: 0 | FN8: 0 | FO8: 0 | FP8: 0 | FQ8: 0 | FR8: 0 | FS8: 0 | FT8: 0 | FU8: 0 | FV8: 0 | FW8: 0 | FX8: 0 | FY8: 0 | FZ8: 1 | GA8: 0 | GB8: 0 | GC8: 0 | GD8: 0 | GE8: 1 | GF8: 0 | GG8: 0 | GH8: 0 | GI8: 0 | GJ8: 0 | GK8: 0 | GL8: 1 | GM8: 0 | GN8: 1 | GO8: 0 | GP8: 0 | GQ8: 0 | GR8: 0 | GS8: 0 | GT8: 0 | GU8: 0 | GV8: 0 | GW8: 0 | GX8: 0 | GY8: 0 | GZ8: 0 | HA8: 0 | HB8: 0 | HC8: 0 | HD8: 0 | HE8: 0 | HF8: 0 | HG8: 0 | HH8: 1 | HI8: 1 | HJ8: 1 | HK8: 0 | HL8: 0 | HM8: 0 | HN8: 0 | HO8: 0 | HP8: 0 | HQ8: 1 | HR8: 1 | HS8: 1 | HT8: 1 | HU8: 3 | HV8: 1 | HW8: 1 | HX8: 1 | HY8: 3 | HZ8: 0 | IA8: 0 | IB8: 0 | IC8: 0 | ID8: 0 | IE8: 0 | IF8: 0 | IG8: 0 | IH8: 0 | II8: 0 | IJ8: 0 | IK8: 0 | IL8: 0 | IM8: 0 | IN8: 0 | IO8: 0 | IP8: 1 | IQ8: 1 | IR8: 0 | IS8: 0 | IT8: 0 | IU8: 0 | IV8: 0 | IW8: 0 | IX8: 1 | IY8: 0 | IZ8: 0 | JA8: =+MAX(A8:IZ8) -> 31
A9: phage gh-1 | B9: NC_004665 | C9: 25 | D9: 25 | E9: 24 | F9: 24 | G9: 25 | H9: 23 | I9: 24 | J9: 41 | K9: 0 | L9: 9 | M9: 9 | N9: 7 | O9: 6 | P9: 8 | Q9: 7 | R9: 6 | S9: 7 | T9: 0 | U9: 0 | V9: 0 | W9: 0 | X9: 1 | Y9: 0 | Z9: 0 | AA9: 0 | AB9: 0 | AC9: 0 | AD9: 0 | AE9: 0 | AF9: 0 | AG9: 0 | AH9: 0 | AI9: 0 | AJ9: 0 | AK9: 0 | AL9: 0 | AM9: 0 | AN9: 0 | AO9: 0 | AP9: 0 | AQ9: 0 | AR9: 0 | AS9: 0 | AT9: 0 | AU9: 2 | AV9: 0 | AW9: 0 | AX9: 0 | AY9: 0 | AZ9: 0 | BA9: 2 | BB9: 3 | BC9: 1 | BD9: 0 | BE9: 0 | BF9: 0 | BG9: 0 | BH9: 0 | BI9: 0 | BJ9: 0 | BK9: 0 | BL9: 0 | BM9: 0 | BN9: 0 | BO9: 0 | BP9: 0 | BQ9: 0 | BR9: 0 | BS9: 0 | BT9: 0 | BU9: 0 | BV9: 0 | BW9: 0 | BX9: 0 | BY9: 0 | BZ9: 0 | CA9: 0 | CB9: 0 | CC9: 0 | CD9: 0 | CE9: 0 | CF9: 0 | CG9: 0 | CH9: 0 | CI9: 0 | CJ9: 0 | CK9: 0 | CL9: 0 | CM9: 0 | CN9: 0 | CO9: 0 | CP9: 0 | CQ9: 0 | CR9: 0 | CS9: 0 | CT9: 0 | CU9: 0 | CV9: 0 | CW9: 0 | CX9: 0 | CY9: 0 | CZ9: 0 | DA9: 0 | DB9: 0 | DC9: 0 | DD9: 0 | DE9: 0 | DF9: 0 | DG9: 0 | DH9: 0 | DI9: 0 | DJ9: 0 | DK9: 0 | DL9: 0 | DM9: 0 | DN9: 0 | DO9: 0 | DP9: 0 | DQ9: 0 | DR9: 0 | DS9: 0 | DT9: 0 | DU9: 0 | DV9: 0 | DW9: 0 | DX9: 0 | DY9: 0 | DZ9: 0 | EA9: 0 | EB9: 0 | EC9: 0 | ED9: 0 | EE9: 1 | EF9: 1 | EG9: 0 | EH9: 0 | EI9: 0 | EJ9: 0 | EK9: 0 | EL9: 0 | EM9: 0 | EN9: 0 | EO9: 0 | EP9: 0 | EQ9: 0 | ER9: 0 | ES9: 0 | ET9: 0 | EU9: 0 | EV9: 0 | EW9: 0 | EX9: 0 | EY9: 0 | EZ9: 0 | FA9: 0 | FB9: 0 | FC9: 0 | FD9: 0 | FE9: 0 | FF9: 0 | FG9: 0 | FH9: 0 | FI9: 0 | FJ9: 0 | FK9: 0 | FL9: 0 | FM9: 0 | FN9: 0 | FO9: 0 | FP9: 0 | FQ9: 0 | FR9: 0 | FS9: 0 | FT9: 0 | FU9: 0 | FV9: 0 | FW9: 0 | FX9: 0 | FY9: 0 | FZ9: 1 | GA9: 1 | GB9: 0 | GC9: 0 | GD9: 0 | GE9: 3 | GF9: 0 | GG9: 0 | GH9: 0 | GI9: 0 | GJ9: 0 | GK9: 0 | GL9: 0 | GM9: 0 | GN9: 0 | GO9: 1 | GP9: 0 | GQ9: 0 | GR9: 0 | GS9: 1 | GT9: 0 | GU9: 0 | GV9: 0 | GW9: 0 | GX9: 0 | GY9: 0 | GZ9: 0 | HA9: 0 | HB9: 0 | HC9: 0 | HD9: 0 | HE9: 0 | HF9: 0 | HG9: 0 | HH9: 0 | HI9: 0 | HJ9: 0 | HK9: 0 | HL9: 0 | HM9: 0 | HN9: 0 | HO9: 0 | HP9: 0 | HQ9: 0 | HR9: 0 | HS9: 0 | HT9: 0 | HU9: 1 | HV9: 0 | HW9: 0 | HX9: 1 | HY9: 0 | HZ9: 0 | IA9: 0 | IB9: 0 | IC9: 0 | ID9: 0 | IE9: 0 | IF9: 0 | IG9: 0 | IH9: 0 | II9: 0 | IJ9: 0 | IK9: 0 | IL9: 0 | IM9: 1 | IN9: 0 | IO9: 0 | IP9: 1 | IQ9: 2 | IR9: 0 | IS9: 0 | IT9: 0 | IU9: 0 | IV9: 0 | IW9: 0 | IX9: 0 | IY9: 0 | IZ9: 0 | JA9: =+MAX(A9:IZ9) -> 41
A10: phage syn5 | B10: NC_009531 | C10: 10 | D10: 10 | E10: 10 | F10: 10 | G10: 10 | H10: 10 | I10: 10 | J10: 10 | K10: 0 | L10: 20 | M10: 27 | N10: 8 | O10: 8 | P10: 9 | Q10: 6 | R10: 6 | S10: 5 | T10: 0 | U10: 0 | V10: 0 | W10: 0 | X10: 1 | Y10: 0 | Z10: 0 | AA10: 0 | AB10: 0 | AC10: 0 | AD10: 0 | AE10: 1 | AF10: 0 | AG10: 0 | AH10: 0 | AI10: 0 | AJ10: 0 | AK10: 0 | AL10: 0 | AM10: 0 | AN10: 0 | AO10: 0 | AP10: 0 | AQ10: 0 | AR10: 0 | AS10: 0 | AT10: 0 | AU10: 3 | AV10: 0 | AW10: 1 | AX10: 0 | AY10: 0 | AZ10: 0 | BA10: 2 | BB10: 4 | BC10: 1 | BD10: 0 | BE10: 0 | BF10: 1 | BG10: 1 | BH10: 0 | BI10: 1 | BJ10: 0 | BK10: 0 | BL10: 0 | BM10: 0 | BN10: 0 | BO10: 0 | BP10: 0 | BQ10: 0 | BR10: 1 | BS10: 0 | BT10: 0 | BU10: 1 | BV10: 1 | BW10: 0 | BX10: 1 | BY10: 0 | BZ10: 0 | CA10: 0 | CB10: 1 | CC10: 0 | CD10: 0 | CE10: 1 | CF10: 1 | CG10: 0 | CH10: 1 | CI10: 0 | CJ10: 0 | CK10: 0 | CL10: 0 | CM10: 0 | CN10: 0 | CO10: 0 | CP10: 0 | CQ10: 0 | CR10: 0 | CS10: 0 | CT10: 0 | CU10: 0 | CV10: 0 | CW10: 0 | CX10: 0 | CY10: 0 | CZ10: 0 | DA10: 0 | DB10: 0 | DC10: 0 | DD10: 0 | DE10: 0 | DF10: 0 | DG10: 0 | DH10: 0 | DI10: 0 | DJ10: 1 | DK10: 2 | DL10: 1 | DM10: 1 | DN10: 1 | DO10: 0 | DP10: 0 | DQ10: 0 | DR10: 0 | DS10: 0 | DT10: 1 | DU10: 2 | DV10: 0 | DW10: 0 | DX10: 0 | DY10: 0 | DZ10: 0 | EA10: 0 | EB10: 0 | EC10: 0 | ED10: 0 | EE10: 0 | EF10: 0 | EG10: 0 | EH10: 0 | EI10: 0 | EJ10: 0 | EK10: 0 | EL10: 0 | EM10: 0 | EN10: 0 | EO10: 0 | EP10: 0 | EQ10: 0 | ER10: 0 | ES10: 0 | ET10: 0 | EU10: 0 | EV10: 0 | EW10: 3 | EX10: 1 | EY10: 0 | EZ10: 0 | FA10: 2 | FB10: 0 | FC10: 0 | FD10: 0 | FE10: 0 | FF10: 0 | FG10: 0 | FH10: 0 | FI10: 0 | FJ10: 0 | FK10: 0 | FL10: 0 | FM10: 0 | FN10: 0 | FO10: 0 | FP10: 0 | FQ10: 0 | FR10: 0 | FS10: 0 | FT10: 0 | FU10: 0 | FV10: 0 | FW10: 0 | FX10: 0 | FY10: 1 | FZ10: 0 | GA10: 0 | GB10: 0 | GC10: 0 | GD10: 1 | GE10: 1 | GF10: 0 | GG10: 0 | GH10: 1 | GI10: 0 | GJ10: 1 | GK10: 0 | GL10: 2 | GM10: 0 | GN10: 0 | GO10: 0 | GP10: 0 | GQ10: 0 | GR10: 0 | GS10: 0 | GT10: 1 | GU10: 0 | GV10: 0 | GW10: 0 | GX10: 1 | GY10: 1 | GZ10: 0 | HA10: 1 | HB10: 0 | HC10: 0 | HD10: 0 | HE10: 0 | HF10: 0 | HG10: 1 | HH10: 0 | HI10: 0 | HJ10: 0 | HK10: 0 | HL10: 0 | HM10: 0 | HN10: 0 | HO10: 0 | HP10: 0 | HQ10: 0 | HR10: 0 | HS10: 0 | HT10: 0 | HU10: 0 | HV10: 0 | HW10: 0 | HX10: 0 | HY10: 0 | HZ10: 1 | IA10: 1 | IB10: 2 | IC10: 2 | ID10: 0 | IE10: 0 | IF10: 0 | IG10: 0 | IH10: 0 | II10: 1 | IJ10: 1 | IK10: 1 | IL10: 1 | IM10: 0 | IN10: 0 | IO10: 0 | IP10: 0 | IQ10: 1 | IR10: 0 | IS10: 0 | IT10: 0 | IU10: 0 | IV10: 0 | IW10: 0 | IX10: 1 | IY10: 0 | IZ10: 0 | JA10: =+MAX(A10:IZ10) -> 27
A11: phage P-SSP7 | B11: NC_006882 | C11: 9 | D11: 9 | E11: 9 | F11: 9 | G11: 10 | H11: 9 | I11: 10 | J11: 9 | K11: 0 | L11: 52 | M11: 15 | N11: 7 | O11: 8 | P11: 7 | Q11: 6 | R11: 6 | S11: 6 | T11: 0 | U11: 0 | V11: 0 | W11: 0 | X11: 1 | Y11: 0 | Z11: 1 | AA11: 1 | AB11: 1 | AC11: 0 | AD11: 0 | AE11: 0 | AF11: 0 | AG11: 0 | AH11: 0 | AI11: 0 | AJ11: 0 | AK11: 0 | AL11: 0 | AM11: 0 | AN11: 0 | AO11: 0 | AP11: 0 | AQ11: 0 | AR11: 0 | AS11: 0 | AT11: 0 | AU11: 1 | AV11: 0 | AW11: 1 | AX11: 0 | AY11: 0 | AZ11: 0 | BA11: 1 | BB11: 3 | BC11: 1 | BD11: 0 | BE11: 1 | BF11: 0 | BG11: 0 | BH11: 0 | BI11: 0 | BJ11: 1 | BK11: 0 | BL11: 0 | BM11: 0 | BN11: 1 | BO11: 2 | BP11: 0 | BQ11: 1 | BR11: 1 | BS11: 1 | BT11: 0 | BU11: 0 | BV11: 1 | BW11: 1 | BX11: 0 | BY11: 0 | BZ11: 0 | CA11: 0 | CB11: 0 | CC11: 0 | CD11: 0 | CE11: 0 | CF11: 0 | CG11: 0 | CH11: 0 | CI11: 1 | CJ11: 0 | CK11: 0 | CL11: 0 | CM11: 0 | CN11: 0 | CO11: 0 | CP11: 0 | CQ11: 0 | CR11: 0 | CS11: 0 | CT11: 0 | CU11: 0 | CV11: 0 | CW11: 0 | CX11: 0 | CY11: 0 | CZ11: 0 | DA11: 0 | DB11: 0 | DC11: 0 | DD11: 0 | DE11: 0 | DF11: 0 | DG11: 0 | DH11: 0 | DI11: 1 | DJ11: 1 | DK11: 0 | DL11: 0 | DM11: 1 | DN11: 0 | DO11: 0 | DP11: 0 | DQ11: 0 | DR11: 0 | DS11: 0 | DT11: 0 | DU11: 1 | DV11: 0 | DW11: 1 | DX11: 0 | DY11: 0 | DZ11: 0 | EA11: 0 | EB11: 0 | EC11: 0 | ED11: 0 | EE11: 0 | EF11: 0 | EG11: 0 | EH11: 1 | EI11: 0 | EJ11: 0 | EK11: 1 | EL11: 0 | EM11: 0 | EN11: 0 | EO11: 0 | EP11: 0 | EQ11: 0 | ER11: 0 | ES11: 0 | ET11: 0 | EU11: 0 | EV11: 0 | EW11: 1 | EX11: 1 | EY11: 0 | EZ11: 0 | FA11: 1 | FB11: 0 | FC11: 0 | FD11: 0 | FE11: 0 | FF11: 1 | FG11: 0 | FH11: 0 | FI11: 0 | FJ11: 0 | FK11: 0 | FL11: 0 | FM11: 0 | FN11: 0 | FO11: 0 | FP11: 0 | FQ11: 0 | FR11: 0 | FS11: 0 | FT11: 0 | FU11: 0 | FV11: 0 | FW11: 0 | FX11: 0 | FY11: 0 | FZ11: 1 | GA11: 0 | GB11: 0 | GC11: 0 | GD11: 2 | GE11: 1 | GF11: 0 | GG11: 0 | GH11: 0 | GI11: 0 | GJ11: 0 | GK11: 0 | GL11: 1 | GM11: 0 | GN11: 0 | GO11: 0 | GP11: 0 | GQ11: 0 | GR11: 0 | GS11: 0 | GT11: 0 | GU11: 1 | GV11: 1 | GW11: 0 | GX11: 0 | GY11: 0 | GZ11: 0 | HA11: 1 | HB11: 0 | HC11: 0 | HD11: 0 | HE11: 0 | HF11: 0 | HG11: 1 | HH11: 0 | HI11: 0 | HJ11: 0 | HK11: 0 | HL11: 0 | HM11: 0 | HN11: 0 | HO11: 0 | HP11: 0 | HQ11: 0 | HR11: 0 | HS11: 0 | HT11: 0 | HU11: 0 | HV11: 1 | HW11: 0 | HX11: 0 | HY11: 0 | HZ11: 5 | IA11: 2 | IB11: 4 | IC11: 6 | ID11: 1 | IE11: 0 | IF11: 0 | IG11: 0 | IH11: 0 | II11: 1 | IJ11: 1 | IK11: 0 | IL11: 0 | IM11: 1 | IN11: 0 | IO11: 0 | IP11: 1 | IQ11: 1 | IR11: 0 | IS11: 0 | IT11: 0 | IU11: 0 | IV11: 0 | IW11: 0 | IX11: 0 | IY11: 0 | IZ11: 0 | JA11: =+MAX(A11:IZ11) -> 52
A12: phage P60 | B12: NC_003390 | C12: 13 | D12: 12 | E12: 11 | F12: 12 | G12: 12 | H12: 12 | I12: 11 | J12: 12 | K12: 0 | L12: 23 | M12: 79 | N12: 8 | O12: 8 | P12: 9 | Q12: 6 | R12: 6 | S12: 5 | T12: 0 | U12: 0 | V12: 0 | W12: 0 | X12: 1 | Y12: 0 | Z12: 1 | AA12: 1 | AB12: 1 | AC12: 0 | AD12: 0 | AE12: 0 | AF12: 0 | AG12: 0 | AH12: 0 | AI12: 0 | AJ12: 0 | AK12: 0 | AL12: 0 | AM12: 0 | AN12: 0 | AO12: 0 | AP12: 0 | AQ12: 0 | AR12: 0 | AS12: 0 | AT12: 0 | AU12: 3 | AV12: 0 | AW12: 0 | AX12: 0 | AY12: 0 | AZ12: 0 | BA12: 1 | BB12: 7 | BC12: 2 | BD12: 0 | BE12: 0 | BF12: 1 | BG12: 1 | BH12: 0 | BI12: 1 | BJ12: 0 | BK12: 0 | BL12: 0 | BM12: 0 | BN12: 0 | BO12: 0 | BP12: 0 | BQ12: 1 | BR12: 2 | BS12: 1 | BT12: 0 | BU12: 1 | BV12: 0 | BW12: 1 | BX12: 1 | BY12: 0 | BZ12: 0 | CA12: 0 | CB12: 1 | CC12: 0 | CD12: 0 | CE12: 1 | CF12: 1 | CG12: 0 | CH12: 1 | CI12: 0 | CJ12: 0 | CK12: 0 | CL12: 0 | CM12: 0 | CN12: 0 | CO12: 0 | CP12: 0 | CQ12: 0 | CR12: 0 | CS12: 0 | CT12: 0 | CU12: 0 | CV12: 0 | CW12: 0 | CX12: 0 | CY12: 0 | CZ12: 0 | DA12: 0 | DB12: 0 | DC12: 1 | DD12: 1 | DE12: 1 | DF12: 0 | DG12: 0 | DH12: 0 | DI12: 1 | DJ12: 3 | DK12: 3 | DL12: 4 | DM12: 1 | DN12: 4 | DO12: 0 | DP12: 0 | DQ12: 0 | DR12: 0 | DS12: 0 | DT12: 0 | DU12: 0 | DV12: 0 | DW12: 0 | DX12: 0 | DY12: 0 | DZ12: 0 | EA12: 0 | EB12: 0 | EC12: 0 | ED12: 0 | EE12: 0 | EF12: 0 | EG12: 0 | EH12: 0 | EI12: 0 | EJ12: 0 | EK12: 0 | EL12: 0 | EM12: 0 | EN12: 0 | EO12: 0 | EP12: 0 | EQ12: 0 | ER12: 0 | ES12: 0 | ET12: 0 | EU12: 0 | EV12: 0 | EW12: 2 | EX12: 1 | EY12: 0 | EZ12: 0 | FA12: 1 | FB12: 0 | FC12: 0 | FD12: 0 | FE12: 0 | FF12: 0 | FG12: 0 | FH12: 0 | FI12: 0 | FJ12: 0 | FK12: 1 | FL12: 0 | FM12: 0 | FN12: 0 | FO12: 0 | FP12: 1 | FQ12: 1 | FR12: 0 | FS12: 0 | FT12: 0 | FU12: 0 | FV12: 0 | FW12: 0 | FX12: 0 | FY12: 1 | FZ12: 1 | GA12: 0 | GB12: 0 | GC12: 0 | GD12: 0 | GE12: 1 | GF12: 0 | GG12: 0 | GH12: 0 | GI12: 0 | GJ12: 1 | GK12: 0 | GL12: 1 | GM12: 0 | GN12: 0 | GO12: 0 | GP12: 0 | GQ12: 0 | GR12: 0 | GS12: 0 | GT12: 0 | GU12: 0 | GV12: 0 | GW12: 0 | GX12: 0 | GY12: 0 | GZ12: 0 | HA12: 0 | HB12: 0 | HC12: 0 | HD12: 0 | HE12: 0 | HF12: 0 | HG12: 0 | HH12: 0 | HI12: 0 | HJ12: 0 | HK12: 0 | HL12: 0 | HM12: 0 | HN12: 0 | HO12: 0 | HP12: 0 | HQ12: 0 | HR12: 0 | HS12: 0 | HT12: 0 | HU12: 0 | HV12: 0 | HW12: 0 | HX12: 0 | HY12: 1 | HZ12: 3 | IA12: 1 | IB12: 4 | IC12: 4 | ID12: 0 | IE12: 0 | IF12: 0 | IG12: 0 | IH12: 0 | II12: 0 | IJ12: 0 | IK12: 0 | IL12: 1 | IM12: 0 | IN12: 0 | IO12: 0 | IP12: 0 | IQ12: 1 | IR12: 1 | IS12: 0 | IT12: 0 | IU12: 2 | IV12: 0 | IW12: 2 | IX12: 0 | IY12: 0 | IZ12: 0 | JA12: =+MAX(A12:IZ12) -> 79
A13: phage SP6 | B13: NC_004831 | C13: 8 | D13: 8 | E13: 7 | F13: 7 | G13: 7 | H13: 10 | I13: 7 | J13: 7 | K13: 0 | L13: 8 | M13: 7 | N13: 52 | O13: 42 | P13: 24 | Q13: 8 | R13: 8 | S13: 9 | T13: 1 | U13: 1 | V13: 1 | W13: 0 | X13: 1 | Y13: 0 | Z13: 1 | AA13: 1 | AB13: 1 | AC13: 0 | AD13: 0 | AE13: 0 | AF13: 0 | AG13: 0 | AH13: 0 | AI13: 0 | AJ13: 0 | AK13: 0 | AL13: 0 | AM13: 0 | AN13: 0 | AO13: 0 | AP13: 0 | AQ13: 0 | AR13: 0 | AS13: 1 | AT13: 0 | AU13: 3 | AV13: 0 | AW13: 1 | AX13: 0 | AY13: 0 | AZ13: 0 | BA13: 1 | BB13: 3 | BC13: 0 | BD13: 0 | BE13: 0 | BF13: 0 | BG13: 0 | BH13: 0 | BI13: 0 | BJ13: 0 | BK13: 0 | BL13: 0 | BM13: 0 | BN13: 0 | BO13: 0 | BP13: 0 | BQ13: 0 | BR13: 0 | BS13: 0 | BT13: 1 | BU13: 0 | BV13: 0 | BW13: 0 | BX13: 0 | BY13: 0 | BZ13: 0 | CA13: 0 | CB13: 0 | CC13: 0 | CD13: 0 | CE13: 0 | CF13: 0 | CG13: 0 | CH13: 0 | CI13: 0 | CJ13: 0 | CK13: 0 | CL13: 0 | CM13: 0 | CN13: 0 | CO13: 0 | CP13: 0 | CQ13: 0 | CR13: 0 | CS13: 0 | CT13: 0 | CU13: 0 | CV13: 0 | CW13: 0 | CX13: 0 | CY13: 0 | CZ13: 0 | DA13: 0 | DB13: 0 | DC13: 0 | DD13: 0 | DE13: 0 | DF13: 0 | DG13: 0 | DH13: 0 | DI13: 0 | DJ13: 0 | DK13: 0 | DL13: 1 | DM13: 1 | DN13: 0 | DO13: 0 | DP13: 0 | DQ13: 0 | DR13: 0 | DS13: 0 | DT13: 0 | DU13: 0 | DV13: 0 | DW13: 0 | DX13: 0 | DY13: 0 | DZ13: 0 | EA13: 0 | EB13: 0 | EC13: 0 | ED13: 0 | EE13: 0 | EF13: 0 | EG13: 0 | EH13: 0 | EI13: 0 | EJ13: 0 | EK13: 0 | EL13: 0 | EM13: 0 | EN13: 0 | EO13: 0 | EP13: 0 | EQ13: 0 | ER13: 0 | ES13: 0 | ET13: 0 | EU13: 0 | EV13: 0 | EW13: 0 | EX13: 0 | EY13: 0 | EZ13: 0 | FA13: 0 | FB13: 0 | FC13: 0 | FD13: 0 | FE13: 0 | FF13: 1 | FG13: 0 | FH13: 0 | FI13: 0 | FJ13: 1 | FK13: 1 | FL13: 0 | FM13: 0 | FN13: 0 | FO13: 0 | FP13: 0 | FQ13: 0 | FR13: 0 | FS13: 0 | FT13: 0 | FU13: 0 | FV13: 0 | FW13: 0 | FX13: 0 | FY13: 0 | FZ13: 0 | GA13: 0 | GB13: 0 | GC13: 0 | GD13: 1 | GE13: 4 | GF13: 0 | GG13: 0 | GH13: 0 | GI13: 0 | GJ13: 0 | GK13: 1 | GL13: 0 | GM13: 0 | GN13: 0 | GO13: 0 | GP13: 0 | GQ13: 0 | GR13: 0 | GS13: 1 | GT13: 0 | GU13: 0 | GV13: 0 | GW13: 0 | GX13: 0 | GY13: 0 | GZ13: 0 | HA13: 0 | HB13: 0 | HC13: 0 | HD13: 0 | HE13: 0 | HF13: 0 | HG13: 0 | HH13: 0 | HI13: 0 | HJ13: 0 | HK13: 0 | HL13: 0 | HM13: 0 | HN13: 0 | HO13: 0 | HP13: 0 | HQ13: 0 | HR13: 0 | HS13: 1 | HT13: 1 | HU13: 1 | HV13: 1 | HW13: 0 | HX13: 0 | HY13: 0 | HZ13: 0 | IA13: 0 | IB13: 0 | IC13: 0 | ID13: 0 | IE13: 0 | IF13: 0 | IG13: 0 | IH13: 0 | II13: 0 | IJ13: 0 | IK13: 0 | IL13: 0 | IM13: 0 | IN13: 0 | IO13: 0 | IP13: 0 | IQ13: 3 | IR13: 0 | IS13: 1 | IT13: 0 | IU13: 0 | IV13: 0 | IW13: 1 | IX13: 1 | IY13: 0 | IZ13: 0 | JA13: =+MAX(A13:IZ13) -> 52
... A259: phage phi CD119 | B259: NC_007917 | C259: 0 | D259: 0 | E259: 0 | F259: 0 | G259: 0 | H259: 0 | I259: 0 | J259: 0 | K259: 0 | L259: 0 | M259: 0 | N259: 0 | O259: 0 | P259: 0 | Q259: 0 | R259: 0 | S259: 0 | T259: 2 | U259: 0 | V259: 0 | W259: 1 | X259: 1 | Y259: 0 | Z259: 0 | AA259: 0 | AB259: 0 | AC259: 1 | AD259: 0 | AE259: 0 | AF259: 0 | AG259: 1 | AH259: 0 | AI259: 0 | AJ259: 0 | AK259: 0 | AL259: 0 | AM259: 0 | AN259: 0 | AO259: 0 | AP259: 0 | AQ259: 0 | AR259: 0 | AS259: 1 | AT259: 0 | AU259: 0 | AV259: 0 | AW259: 0 | AX259: 1 | AY259: 1 | AZ259: 0 | BA259: 0 | BB259: 0 | BC259: 0 | BD259: 5 | BE259: 4 | BF259: 7 | BG259: 4 | BH259: 5 | BI259: 5 | BJ259: 7 | BK259: 6 | BL259: 4 | BM259: 5 | BN259: 5 | BO259: 5 | BP259: 5 | BQ259: 5 | BR259: 4 | BS259: 5 | BT259: 9 | BU259: 6 | BV259: 7 | BW259: 7 | BX259: 3 | BY259: 4 | BZ259: 3 | CA259: 4 | CB259: 5 | CC259: 5 | CD259: 6 | CE259: 0 | CF259: 0 | CG259: 2 | CH259: 0 | CI259: 2 | CJ259: 10 | CK259: 7 | CL259: 9 | CM259: 3 | CN259: 3 | CO259: 3 | CP259: 1 | CQ259: 2 | CR259: 3 | CS259: 2 | CT259: 3 | CU259: 4 | CV259: 3 | CW259: 3 | CX259: 2 | CY259: 1 | CZ259: 0 | DA259: 0 | DB259: 1 | DC259: 2 | DD259: 2 | DE259: 2 | DF259: 2 | DG259: 1 | DH259: 1 | DI259: 7 | DJ259: 4 | DK259: 1 | DL259: 0 | DM259: 0 | DN259: 1 | DO259: 1 | DP259: 1 | DQ259: 1 | DR259: 1 | DS259: 1 | DT259: 1 | DU259: 1 | DV259: 2 | DW259: 1 | DX259: 1 | DY259: 1 | DZ259: 2 | EA259: 0 | EB259: 0 | EC259: 1 | ED259: 2 | EE259: 0 | EF259: 1 | EG259: 0 | EH259: 3 | EI259: 4 | EJ259: 1 | EK259: 0 | EL259: 0 | EM259: 0 | EN259: 0 | EO259: 0 | EP259: 0 | EQ259: 0 | ER259: 0 | ES259: 0 | ET259: 0 | EU259: 0 | EV259: 1 | EW259: 0 | EX259: 1 | EY259: 0 | EZ259: 2 | FA259: 0 | FB259: 1 | FC259: 5 | FD259: 0 | FE259: 5 | FF259: 7 | FG259: 1 | FH259: 2 | FI259: 2 | FJ259: 0 | FK259: 2 | FL259: 0 | FM259: 4 | FN259: 0 | FO259: 1 | FP259: 1 | FQ259: 1 | FR259: 1 | FS259: 4 | FT259: 0 | FU259: 2 | FV259: 2 | FW259: 1 | FX259: 7 | FY259: 0 | FZ259: 0 | GA259: 0 | GB259: 5 | GC259: 7 | GD259: 3 | GE259: 0 | GF259: 0 | GG259: 1 | GH259: 3 | GI259: 0 | GJ259: 6 | GK259: 4 | GL259: 0 | GM259: 5 | GN259: 2 | GO259: 1 | GP259: 2 | GQ259: 4 | GR259: 1 | GS259: 1 | GT259: 3 | GU259: 0 | GV259: 0 | GW259: 0 | GX259: 1 | GY259: 2 | GZ259: 1 | HA259: 1 | HB259: 1 | HC259: 2 | HD259: 1 | HE259: 0 | HF259: 1 | HG259: 0 | HH259: 1 | HI259: 1 | HJ259: 1 | HK259: 2 | HL259: 0 | HM259: 0 | HN259: 1 | HO259: 1 | HP259: 0 | HQ259: 0 | HR259: 0 | HS259: 0 | HT259: 0 | HU259: 0 | HV259: 0 | HW259: 0 | HX259: 2 | HY259: 0 | HZ259: 0 | IA259: 0 | IB259: 0 | IC259: 0 | ID259: 0 | IE259: 0 | IF259: 0 | IG259: 0 | IH259: 0 | II259: 1 | IJ259: 1 | IK259: 2 | IL259: 1 | IM259: 0 | IN259: 0 | IO259: 0 | IP259: 3 | IQ259: 1 | IR259: 2 | IS259: 7 | IT259: 6 | IU259: 0 | IV259: 1 | IW259: 0 | IX259: 2 | IY259: 0 | IZ259: 69 | JA259: =+MAX(A259:IZ259) -> 69

Sheet Sheet1
B1: AC-Namen | C1: phage T7 | D1: phage phiA1122 | E1: Berlin | F1: phage T3 | G1: phage phiYeO3-12 | H1: phage K1F | I1: phage VP4 | J1: phage gh-1 | K1: phage syn5 | L1: phage P-SSP7 | M1: phage P60 | N1: phage SP6 | O1: phage K1-5 | P1: Era103 | Q1: phage phiKMV | R1: phage LKD16 | S1: phage LKA1 | T1: phage P22 | U1: phage ST104 | V1: phage ST64T | W1: phage HK620 | X1: phage Sf6 | Y1: phage APSE-1 | Z1: phage BIP-1 | AA1: phage BMP-1 | AB1: phage BPP-1 | AC1: phage BcepC6B | AD1: Phage phiV10 | AE1: epsilon15 | AF1: virus P1 | AG1: phage GA-1 | AH1: phage B103 | AI1: phage phi29 | AJ1: phage Cp-1 | AK1: phage 44AHJD | AL1: phage phiP68 | AM1: phage 66 | AN1: phage C1 | AO1: phage PaP2 | AP1: phage 119X | AQ1: phage VP2 | AR1: phage VP5 | AS1: phage KS7 | AT1: phage setp3 | AU1: phage PaP3 | AV1: phage Mx8 | AW1: phage Pf-WMP4 | AX1: phage ST64B | AY1: phage F116 | AZ1: phage Bcep22 | BA1: phage VpV262 | BB1: phage SIO1 | BC1: phage N4 | BD1: phage 69 | BE1: phage phi 11 | BF1: phage 53 | BG1: phage phiETA2 | BH1: phage phiNM] | BI1: phage 85 | BJ1: phage 187 | BK1: phage 92 | BL1: phage 52A | BM1: phage phiETA3 | BN1: phage 88 | BO1: phage 29] | BP1: phage 55 | BQ1: phage X2 | BR1: phage 96 | BS1: phage 71] | BT1: phage 37 | BU1: phage CNPH82 | BV1: phage PH15 | BW1: phage EW | BX1: phage 77 | BY1: phage phiNM3 | BZ1: phage phiPVL108 | CA1: phage phi 13 | CB1: phage phiN315 | CC1: phage PVL | CD1: phage phi ETA] | CE1: phage 47 | CF1: phage phi 12 | CG1: phage phiSLT | CH1: phage 3A | CI1: phage 42e | CJ1: phage Tuc2009 | CK1: phage TP901-1 | CL1: phage ul36 | CM1: phage r1t | CN1: phage phi LC3 | CO1: phage bIL286 | CP1: phage BK5-T | CQ1: phage 4268 | CR1: phage bIL309 | CS1: phage bIL285 | CT1: phage O1205 | CU1: phage 2972 | CV1: phage Sfi11 | CW1: phage Sfi21 | CX1: phage Sfi19 | CY1: phage DT1 | CZ1: phage Orion | DA1: phage PG1 | DB1: phage Cooper | DC1: phage Qyrzula | DD1: phage Rosebush | DE1: phage 86 | DF1: Stx2 converting bacteriophage II | DG1: Stx1 converting bacteriophage | DH1: Phage phi 4795 | DI1: phage lambda | DJ1: phage L5 | DK1: phage Che12 | DL1: phage Bxz2 | DM1: phage Bxb1 | DN1: phage D29 | DO1: phage sk1 | DP1: phage 712 | DQ1: phage jj50 | DR1: phage P008 | DS1: phage bIL170 | DT1: phage PMC | DU1: phage Llij | DV1: phage Che9d | DW1: phage Che8 | DX1: phage Gamma | DY1: phage Cherry | DZ1: phage Fah | EA1: phage W beta | EB1: phage phi644-2 | EC1: phage phiE125 | ED1: phage phi1026b | EE1: phage T1 | EF1: phage RTP | EG1: phage JK06 | EH1: phage phi AT3 | EI1: phage Lc-Nu | EJ1: phage A2 | EK1: phage phiKO2 | EL1: phage PY54 | EM1: phage N15 | EN1: phage 244 | EO1: phage CJW1 | EP1: phage PLot | EQ1: phage PBI1 | ER1: phage D3112 | ES1: phage DMS3 | ET1: phage Bcep176 | EU1: phage psiM2 | EV1: phage 2638A | EW1: phage phiC31 | EX1: phiBT1 | EY1: phage BcepGomr | EZ1: phage Q54 | FA1: Phage phiJL001 | FB1: phage B3 | FC1: phage SPP1 | FD1: phage mu1/6 | FE1: phage A118 | FF1: phage MM1 | FG1: phage bIL312 | FH1: phage bIL311 | FI1: phage bIL310 | FJ1: phage phi3396 | FK1: phage 11b | FL1: Archaeal BJ1 | FM1: phage BCJA1c | FN1: phage phiAsp2 | FO1: phage phi-105 | FP1: phage Catera | FQ1: phage Wildcat | FR1: phage Halo | FS1: phage phig1e | FT1: phage BcepNazgul | FU1: phage VWB | FV1: phage Omega | FW1: phage Che9c | FX1: phage KC5a | FY1: phage phiHSIC | FZ1: phage ES18 | GA1: phage T5 | GB1: phage Lj965 | GC1: phage Lj928 | GD1: phage SM1 | GE1: phage Xp10 | GF1: phage Barnyard | GG1: phage Corndog | GH1: phage phi3626 | GI1: phage TM4 | GJ1: phage PSA | GK1: phage PhiNIH1.1 | GL1: phage D3] | GM1: phage 7201 | GN1: phage HK97 | GO1: phage HK022 | GP1: phage phi adh | GQ1: phage SPBc2 | GR1: phage c2 | GS1: phage SETP3 | GT1: phage RSA1 | GU1: phage phi52237 | GV1: phage phiE202 | GW1: phage phiE12-2 | GX1: phage 186 | GY1: phage WPhi | GZ1: phage PsP3 | HA1: phage P2] | HB1: phage L-413C | HC1: phage phi CTX | HD1: phage phi-MhaA1-PHL101 | HE1: phage VHML | HF1: phage VP882 | HG1: phage F108 | HH1: phage HP1] | HI1: phage HP2] | HJ1: phage K139 | HK1: phage Mu | HL1: phage phiE255 | HM1: phage BcepMu | HN1: phage P27 | HO1: phage V] | HP1: phage 25] | HQ1: phage 31] | HR1: phage 44RR2 | HS1: phage RB69 | HT1: phage RB32 | HU1: phage T4 | HV1: phage RB49 | HW1: phage Aeh1 | HX1: phage RB43 | HY1: phage KVP40 | HZ1: phage P-SSM4 | IA1: phage S-PM2 | IB1: phage Syn9 | IC1: phage P-SSM2 | ID1: phage Bcep1] | IE1: phage Bcep781] | IF1: phage Bcep43] | IG1: phage BcepB1A] | IH1: phage BcepF1] | II1: phage G1] | IJ1: phage K] | IK1: phage Twort | IL1: phage P100] | IM1: phage LP65] | IN1: phage EL] | IO1: phage phiKZ | IP1: phage Aaphi23 | IQ1: phage Felix 01 | IR1: phage Bxz1 | IS1: phage EJ-1 | IT1: phage GBSV1 | IU1: phage RM 378 | IV1: PhiCh1 | IW1: phage Ma-LMM01 | IX1: phage P1] | IY1: phage P4] | IZ1: phage phi CD119
A2: phage T7 | B2: NC_001604 | C2: =+matrix!C2/matrix!$JA2*100 -> 100 | D2: =+matrix!D2/matrix!$JA2*100 -> 88.333333 | E2: =+matrix!E2/matrix!$JA2*100 -> 73.333333 | F2: =+matrix!F2/matrix!$JA2*100 -> 73.333333 | G2: =+matrix!G2/matrix!$JA2*100 -> 70 | H2: =+matrix!H2/matrix!$JA2*100 -> 65 | I2: =+matrix!I2/matrix!$JA2*100 -> 48.333333 | J2: =+matrix!J2/matrix!$JA2*100 -> 55 | ... IZ2: =+matrix!IZ2/matrix!$JA2*100 -> 0
A3: phage phiA1122 | B3: NC_004777 | C3: =+matrix!C3/matrix!$JA3*100 -> 97.959184 | D3: =+matrix!D3/matrix!$JA3*100 -> 100 | E3: =+matrix!E3/matrix!$JA3*100 -> 81.632653 | F3: =+matrix!F3/matrix!$JA3*100 -> 81.632653 | G3: =+matrix!G3/matrix!$JA3*100 -> 77.55102 | H3: =+matrix!H3/matrix!$JA3*100 -> 75.510204 | I3: =+matrix!I3/matrix!$JA3*100 -> 51.020408 | J3: =+matrix!J3/matrix!$JA3*100 -> 61.22449 | ... IZ3: =+matrix!IZ3/matrix!$JA3*100 -> 0
A4: Berlin | B4: NC_008694 | C4: =+matrix!C4/matrix!$JA4*100 -> 84.444444 | D4: =+matrix!D4/matrix!$JA4*100 -> 82.222222 | E4: =+matrix!E4/matrix!$JA4*100 -> 100 | F4: =+matrix!F4/matrix!$JA4*100 -> 84.444444 | G4: =+matrix!G4/matrix!$JA4*100 -> 84.444444 | H4: =+matrix!H4/matrix!$JA4*100 -> 75.555556 | I4: =+matrix!I4/matrix!$JA4*100 -> 55.555556 | J4: =+matrix!J4/matrix!$JA4*100 -> 62.222222 | ... IZ4: =+matrix!IZ4/matrix!$JA4*100 -> 0
A5: phage T3 | B5: NC_003298 | C5: =+matrix!C5/matrix!$JA5*100 -> 78.181818 | D5: =+matrix!D5/matrix!$JA5*100 -> 76.363636 | E5: =+matrix!E5/matrix!$JA5*100 -> 78.181818 | F5: =+matrix!F5/matrix!$JA5*100 -> 100 | G5: =+matrix!G5/matrix!$JA5*100 -> 96.363636 | H5: =+matrix!H5/matrix!$JA5*100 -> 69.090909 | I5: =+matrix!I5/matrix!$JA5*100 -> 54.545455 | J5: =+matrix!J5/matrix!$JA5*100 -> 56.363636 | ... IZ5: =+matrix!IZ5/matrix!$JA5*100 -> 0
A6: phage phiYeO3-12 | B6: NC_001271 | C6: =+matrix!C6/matrix!$JA6*100 -> 77.586207 | D6: =+matrix!D6/matrix!$JA6*100 -> 75.862069 | E6: =+matrix!E6/matrix!$JA6*100 -> 81.034483 | F6: =+matrix!F6/matrix!$JA6*100 -> 96.551724 | G6: =+matrix!G6/matrix!$JA6*100 -> 100 | H6: =+matrix!H6/matrix!$JA6*100 -> 70.689655 | I6: =+matrix!I6/matrix!$JA6*100 -> 55.172414 | J6: =+matrix!J6/matrix!$JA6*100 -> 56.896552 | ... IZ6: =+matrix!IZ6/matrix!$JA6*100 -> 0
A7: phage K1F | B7: NC_007456 | C7: =+matrix!C7/matrix!$JA7*100 -> 72.093023 | D7: =+matrix!D7/matrix!$JA7*100 -> 72.093023 | E7: =+matrix!E7/matrix!$JA7*100 -> 69.767442 | F7: =+matrix!F7/matrix!$JA7*100 -> 67.44186 | G7: =+matrix!G7/matrix!$JA7*100 -> 69.767442 | H7: =+matrix!H7/matrix!$JA7*100 -> 100 | I7: =+matrix!I7/matrix!$JA7*100 -> 51.162791 | J7: =+matrix!J7/matrix!$JA7*100 -> 60.465116 | ... IZ7: =+matrix!IZ7/matrix!$JA7*100 -> 0
A8: phage VP4 | B8: NC_007149 | C8: =+matrix!C8/matrix!$JA8*100 -> 70.967742 | D8: =+matrix!D8/matrix!$JA8*100 -> 70.967742 | E8: =+matrix!E8/matrix!$JA8*100 -> 70.967742 | F8: =+matrix!F8/matrix!$JA8*100 -> 77.419355 | G8: =+matrix!G8/matrix!$JA8*100 -> 74.193548 | H8: =+matrix!H8/matrix!$JA8*100 -> 70.967742 | I8: =+matrix!I8/matrix!$JA8*100 -> 100 | J8: =+matrix!J8/matrix!$JA8*100 -> 80.645161 | ... IZ8: =+matrix!IZ8/matrix!$JA8*100 -> 0
A9: phage gh-1 | B9: NC_004665 | C9: =+matrix!C9/matrix!$JA9*100 -> 60.97561 | D9: =+matrix!D9/matrix!$JA9*100 -> 60.97561 | E9: =+matrix!E9/matrix!$JA9*100 -> 58.536585 | F9: =+matrix!F9/matrix!$JA9*100 -> 58.536585 | G9: =+matrix!G9/matrix!$JA9*100 -> 60.97561 | H9: =+matrix!H9/matrix!$JA9*100 -> 56.097561 | I9: =+matrix!I9/matrix!$JA9*100 -> 58.536585 | J9: =+matrix!J9/matrix!$JA9*100 -> 100 | ... IZ9: =+matrix!IZ9/matrix!$JA9*100 -> 0
A10: phage syn5 | B10: NC_009531 | C10: =+matrix!C10/matrix!$JA10*100 -> 37.037037 | D10: =+matrix!D10/matrix!$JA10*100 -> 37.037037 | E10: =+matrix!E10/matrix!$JA10*100 -> 37.037037 | F10: =+matrix!F10/matrix!$JA10*100 -> 37.037037 | G10: =+matrix!G10/matrix!$JA10*100 -> 37.037037 | H10: =+matrix!H10/matrix!$JA10*100 -> 37.037037 | I10: =+matrix!I10/matrix!$JA10*100 -> 37.037037 | J10: =+matrix!J10/matrix!$JA10*100 -> 37.037037 | ... IZ10: =+matrix!IZ10/matrix!$JA10*100 -> 0
A11: phage P-SSP7 | B11: NC_006882 | C11: =+matrix!C11/matrix!$JA11*100 -> 17.307692 | D11: =+matrix!D11/matrix!$JA11*100 -> 17.307692 | E11: =+matrix!E11/matrix!$JA11*100 -> 17.307692 | F11: =+matrix!F11/matrix!$JA11*100 -> 17.307692 | G11: =+matrix!G11/matrix!$JA11*100 -> 19.230769 | H11: =+matrix!H11/matrix!$JA11*100 -> 17.307692 | I11: =+matrix!I11/matrix!$JA11*100 -> 19.230769 | J11: =+matrix!J11/matrix!$JA11*100 -> 17.307692 | ... IZ11: =+matrix!IZ11/matrix!$JA11*100 -> 0
A12: phage P60 | B12: NC_003390 | C12: =+matrix!C12/matrix!$JA12*100 -> 16.455696 | D12: =+matrix!D12/matrix!$JA12*100 -> 15.189873 | E12: =+matrix!E12/matrix!$JA12*100 -> 13.924051 | F12: =+matrix!F12/matrix!$JA12*100 -> 15.189873 | G12: =+matrix!G12/matrix!$JA12*100 -> 15.189873 | H12: =+matrix!H12/matrix!$JA12*100 -> 15.189873 | I12: =+matrix!I12/matrix!$JA12*100 -> 13.924051 | J12: =+matrix!J12/matrix!$JA12*100 -> 15.189873 | ... IZ12: =+matrix!IZ12/matrix!$JA12*100 -> 0
A13: phage SP6 | B13: NC_004831 | C13: =+matrix!C13/matrix!$JA13*100 -> 15.384615 | D13: =+matrix!D13/matrix!$JA13*100 -> 15.384615 | E13: =+matrix!E13/matrix!$JA13*100 -> 13.461538 | F13: =+matrix!F13/matrix!$JA13*100 -> 13.461538 | G13: =+matrix!G13/matrix!$JA13*100 -> 13.461538 | H13: =+matrix!H13/matrix!$JA13*100 -> 19.230769 | I13: =+matrix!I13/matrix!$JA13*100 -> 13.461538 | J13: =+matrix!J13/matrix!$JA13*100 -> 13.461538 | ... IZ13: =+matrix!IZ13/matrix!$JA13*100 -> 0
... A259: phage phi CD119 | B259: NC_007917 | C259: =+matrix!C259/matrix!$JA259*100 -> 0 | D259: =+matrix!D259/matrix!$JA259*100 -> 0 | E259: =+matrix!E259/matrix!$JA259*100 -> 0 | F259: =+matrix!F259/matrix!$JA259*100 -> 0 | G259: =+matrix!G259/matrix!$JA259*100 -> 0 | H259: =+matrix!H259/matrix!$JA259*100 -> 0 | I259: =+matrix!I259/matrix!$JA259*100 -> 0 | J259: =+matrix!J259/matrix!$JA259*100 -> 0 | ... IZ259: =+matrix!IZ259/matrix!$JA259*100 -> 100

Sheet Sheet2
A1: 10 | B1: AC-Namen | C1: Catera | D1: Bxz1 | E1: P27 | F1: V | G1: φE255 | H1: BcepMu | I1: Mu | J1: RSA1 | K1: φ52237 | L1: φE202 | M1: φE12-2 | N1: 186 | O1: Wφ | P1: PsP3 | Q1: P2 | R1: L-413C | S1: φ CTX | T1: φ-MhaA1-PHL101 | U1: VHML | V1: VP882 | W1: F108 | X1: HP1 | Y1: HP2 | Z1: K139 | AA1: 25 | AB1: 31 | AC1: 44RR2 | AD1: RB69 | AE1: RB32 | AF1: T4 | AG1: RB49 | AH1: Aeh1 | AI1: RB43 | AJ1: KVP40 | AK1: P-SSM4 | AL1: S-PM2 | AM1: Syn9 | AN1: P-SSM2 | AO1: Bcep1 | AP1: Bcep781 | AQ1: Bcep43 | AR1: BcepB1A | AS1: BcepF1 | AT1: G1 | AU1: K | AV1: Twort | AW1: P100 | AX1: LP65 | AY1: EL | AZ1: φKZ | BA1: Aaφ23 | BB1: Felix 01 | BC1: EJ-1 | BD1: GBSV1 | BE1: RM 378 | BF1: φCh1 | BG1: Ma-LMM01 | BH1: P1 | BI1: P4 | BJ1: φ CD119
A2: Catera | B2: NC_008207 | C2: =+IF(Sheet1!FP171>Sheet2!$A$1,Sheet1!FP171,"") -> 100 | D2: =+IF(Sheet1!IR171>Sheet2!$A$1,Sheet1!IR171,"") -> 95.412844 | E2: =+IF(Sheet1!HN171>Sheet2!$A$1,Sheet1!HN171,"") | F2: =+IF(Sheet1!HO171>Sheet2!$A$1,Sheet1!HO171,"") | G2: =+IF(Sheet1!HL171>Sheet2!$A$1,Sheet1!HL171,"") | H2: =+IF(Sheet1!HM171>Sheet2!$A$1,Sheet1!HM171,"") | I2: =+IF(Sheet1!HK171>Sheet2!$A$1,Sheet1!HK171,"") | J2: =+IF(Sheet1!GT171>Sheet2!$A$1,Sheet1!GT171,"") | K2: =+IF(Sheet1!GU171>Sheet2!$A$1,Sheet1!GU171,"") | L2: =+IF(Sheet1!GV171>Sheet2!$A$1,Sheet1!GV171,"") | M2: =+IF(Sheet1!GW171>Sheet2!$A$1,Sheet1!GW171,"") | N2: =+IF(Sheet1!GX171>Sheet2!$A$1,Sheet1!GX171,"") | O2: =+IF(Sheet1!GY171>Sheet2!$A$1,Sheet1!GY171,"") | P2: =+IF(Sheet1!GZ171>Sheet2!$A$1,Sheet1!GZ171,"") | Q2: =+IF(Sheet1!HA171>Sheet2!$A$1,Sheet1!HA171,"") | ... Z2: =+IF(Sheet1!HJ171>Sheet2!$A$1,Sheet1!HJ171,"") | AA2: =+IF(Sheet1!HP171>Sheet2!$A$1,Sheet1!HP171,"") | AB2: =+IF(Sheet1!HQ171>Sheet2!$A$1,Sheet1!HQ171,"") | AC2: =+IF(Sheet1!HR171>Sheet2!$A$1,Sheet1!HR171,"") | AD2: =+IF(Sheet1!HS171>Sheet2!$A$1,Sheet1!HS171,"") | AE2: =+IF(Sheet1!HT171>Sheet2!$A$1,Sheet1!HT171,"") | AF2: =+IF(Sheet1!HU171>Sheet2!$A$1,Sheet1!HU171,"") | AG2: =+IF(Sheet1!HV171>Sheet2!$A$1,Sheet1!HV171,"") | AH2: =+IF(Sheet1!HW171>Sheet2!$A$1,Sheet1!HW171,"") | ... BB2: =+IF(Sheet1!IQ171>Sheet2!$A$1,Sheet1!IQ171,"") | BC2: =+IF(Sheet1!IS171>Sheet2!$A$1,Sheet1!IS171,"") | BD2: =+IF(Sheet1!IT171>Sheet2!$A$1,Sheet1!IT171,"") | BE2: =+IF(Sheet1!IU171>Sheet2!$A$1,Sheet1!IU171,"") | BF2: =+IF(Sheet1!IV171>Sheet2!$A$1,Sheet1!IV171,"") | BG2: =+IF(Sheet1!IW171>Sheet2!$A$1,Sheet1!IW171,"") | BH2: =+IF(Sheet1!IX171>Sheet2!$A$1,Sheet1!IX171,"") | BI2: =+IF(Sheet1!IY171>Sheet2!$A$1,Sheet1!IY171,"") | BJ2: =+IF(Sheet1!IZ171>Sheet2!$A$1,Sheet1!IZ171,"")
A3: Bxz1 | B3: NC_004687 | C3: =+IF(Sheet1!FP251>Sheet2!$A$1,Sheet1!FP251,"") -> 92.792793 | D3: =+IF(Sheet1!IR251>Sheet2!$A$1,Sheet1!IR251,"") -> 100 | E3: =+IF(Sheet1!HN251>Sheet2!$A$1,Sheet1!HN251,"") | F3: =+IF(Sheet1!HO251>Sheet2!$A$1,Sheet1!HO251,"") | G3: =+IF(Sheet1!HL251>Sheet2!$A$1,Sheet1!HL251,"") | H3: =+IF(Sheet1!HM251>Sheet2!$A$1,Sheet1!HM251,"") | I3: =+IF(Sheet1!HK251>Sheet2!$A$1,Sheet1!HK251,"") | J3: =+IF(Sheet1!GT251>Sheet2!$A$1,Sheet1!GT251,"") | K3: =+IF(Sheet1!GU251>Sheet2!$A$1,Sheet1!GU251,"") | L3: =+IF(Sheet1!GV251>Sheet2!$A$1,Sheet1!GV251,"") | M3: =+IF(Sheet1!GW251>Sheet2!$A$1,Sheet1!GW251,"") | N3: =+IF(Sheet1!GX251>Sheet2!$A$1,Sheet1!GX251,"") | O3: =+IF(Sheet1!GY251>Sheet2!$A$1,Sheet1!GY251,"") | P3: =+IF(Sheet1!GZ251>Sheet2!$A$1,Sheet1!GZ251,"") | Q3: =+IF(Sheet1!HA251>Sheet2!$A$1,Sheet1!HA251,"") | ... Z3: =+IF(Sheet1!HJ251>Sheet2!$A$1,Sheet1!HJ251,"") | AA3: =+IF(Sheet1!HP251>Sheet2!$A$1,Sheet1!HP251,"") | AB3: =+IF(Sheet1!HQ251>Sheet2!$A$1,Sheet1!HQ251,"") | AC3: =+IF(Sheet1!HR251>Sheet2!$A$1,Sheet1!HR251,"") | AD3: =+IF(Sheet1!HS251>Sheet2!$A$1,Sheet1!HS251,"") | AE3: =+IF(Sheet1!HT251>Sheet2!$A$1,Sheet1!HT251,"") | AF3: =+IF(Sheet1!HU251>Sheet2!$A$1,Sheet1!HU251,"") | AG3: =+IF(Sheet1!HV251>Sheet2!$A$1,Sheet1!HV251,"") | AH3: =+IF(Sheet1!HW251>Sheet2!$A$1,Sheet1!HW251,"") | ... BB3: =+IF(Sheet1!IQ251>Sheet2!$A$1,Sheet1!IQ251,"") | BC3: =+IF(Sheet1!IS251>Sheet2!$A$1,Sheet1!IS251,"") | BD3: =+IF(Sheet1!IT251>Sheet2!$A$1,Sheet1!IT251,"") | BE3: =+IF(Sheet1!IU251>Sheet2!$A$1,Sheet1!IU251,"") | BF3: =+IF(Sheet1!IV251>Sheet2!$A$1,Sheet1!IV251,"") | BG3: =+IF(Sheet1!IW251>Sheet2!$A$1,Sheet1!IW251,"") | BH3: =+IF(Sheet1!IX251>Sheet2!$A$1,Sheet1!IX251,"") | BI3: =+IF(Sheet1!IY251>Sheet2!$A$1,Sheet1!IY251,"") | BJ3: =+IF(Sheet1!IZ251>Sheet2!$A$1,Sheet1!IZ251,"")
A4: P27 | B4: NC_003356 | C4: =+IF(Sheet1!FP221>Sheet2!$A$1,Sheet1!FP221,"") | D4: =+IF(Sheet1!IR221>Sheet2!$A$1,Sheet1!IR221,"") | E4: =+IF(Sheet1!HN221>Sheet2!$A$1,Sheet1!HN221,"") -> 100 | F4: =+IF(Sheet1!HO221>Sheet2!$A$1,Sheet1!HO221,"") -> 42.105263 | G4: =+IF(Sheet1!HL221>Sheet2!$A$1,Sheet1!HL221,"") | H4: =+IF(Sheet1!HM221>Sheet2!$A$1,Sheet1!HM221,"") | I4: =+IF(Sheet1!HK221>Sheet2!$A$1,Sheet1!HK221,"") -> 15.789474 | J4: =+IF(Sheet1!GT221>Sheet2!$A$1,Sheet1!GT221,"") | K4: =+IF(Sheet1!GU221>Sheet2!$A$1,Sheet1!GU221,"") | L4: =+IF(Sheet1!GV221>Sheet2!$A$1,Sheet1!GV221,"") | M4: =+IF(Sheet1!GW221>Sheet2!$A$1,Sheet1!GW221,"") | N4: =+IF(Sheet1!GX221>Sheet2!$A$1,Sheet1!GX221,"") | O4: =+IF(Sheet1!GY221>Sheet2!$A$1,Sheet1!GY221,"") | P4: =+IF(Sheet1!GZ221>Sheet2!$A$1,Sheet1!GZ221,"") | Q4: =+IF(Sheet1!HA221>Sheet2!$A$1,Sheet1!HA221,"") | ... Z4: =+IF(Sheet1!HJ221>Sheet2!$A$1,Sheet1!HJ221,"") | AA4: =+IF(Sheet1!HP221>Sheet2!$A$1,Sheet1!HP221,"") | AB4: =+IF(Sheet1!HQ221>Sheet2!$A$1,Sheet1!HQ221,"") | AC4: =+IF(Sheet1!HR221>Sheet2!$A$1,Sheet1!HR221,"") | AD4: =+IF(Sheet1!HS221>Sheet2!$A$1,Sheet1!HS221,"") | AE4: =+IF(Sheet1!HT221>Sheet2!$A$1,Sheet1!HT221,"") | AF4: =+IF(Sheet1!HU221>Sheet2!$A$1,Sheet1!HU221,"") | AG4: =+IF(Sheet1!HV221>Sheet2!$A$1,Sheet1!HV221,"") | AH4: =+IF(Sheet1!HW221>Sheet2!$A$1,Sheet1!HW221,"") | ... BB4: =+IF(Sheet1!IQ221>Sheet2!$A$1,Sheet1!IQ221,"") | BC4: =+IF(Sheet1!IS221>Sheet2!$A$1,Sheet1!IS221,"") | BD4: =+IF(Sheet1!IT221>Sheet2!$A$1,Sheet1!IT221,"") | BE4: =+IF(Sheet1!IU221>Sheet2!$A$1,Sheet1!IU221,"") | BF4: =+IF(Sheet1!IV221>Sheet2!$A$1,Sheet1!IV221,"") | BG4: =+IF(Sheet1!IW221>Sheet2!$A$1,Sheet1!IW221,"") | BH4: =+IF(Sheet1!IX221>Sheet2!$A$1,Sheet1!IX221,"") | BI4: =+IF(Sheet1!IY221>Sheet2!$A$1,Sheet1!IY221,"") | BJ4: =+IF(Sheet1!IZ221>Sheet2!$A$1,Sheet1!IZ221,"")
A5: V | B5: NC_003444 | C5: =+IF(Sheet1!FP222>Sheet2!$A$1,Sheet1!FP222,"") | D5: =+IF(Sheet1!IR222>Sheet2!$A$1,Sheet1!IR222,"") | E5: =+IF(Sheet1!HN222>Sheet2!$A$1,Sheet1!HN222,"") -> 45.283019 | F5: =+IF(Sheet1!HO222>Sheet2!$A$1,Sheet1!HO222,"") -> 100 | G5: =+IF(Sheet1!HL222>Sheet2!$A$1,Sheet1!HL222,"") | H5: =+IF(Sheet1!HM222>Sheet2!$A$1,Sheet1!HM222,"") | I5: =+IF(Sheet1!HK222>Sheet2!$A$1,Sheet1!HK222,"") -> 18.867925 | J5: =+IF(Sheet1!GT222>Sheet2!$A$1,Sheet1!GT222,"") | K5: =+IF(Sheet1!GU222>Sheet2!$A$1,Sheet1!GU222,"") | L5: =+IF(Sheet1!GV222>Sheet2!$A$1,Sheet1!GV222,"") | M5: =+IF(Sheet1!GW222>Sheet2!$A$1,Sheet1!GW222,"") | N5: =+IF(Sheet1!GX222>Sheet2!$A$1,Sheet1!GX222,"") | O5: =+IF(Sheet1!GY222>Sheet2!$A$1,Sheet1!GY222,"") | P5: =+IF(Sheet1!GZ222>Sheet2!$A$1,Sheet1!GZ222,"") | Q5: =+IF(Sheet1!HA222>Sheet2!$A$1,Sheet1!HA222,"") | ... Z5: =+IF(Sheet1!HJ222>Sheet2!$A$1,Sheet1!HJ222,"") | AA5: =+IF(Sheet1!HP222>Sheet2!$A$1,Sheet1!HP222,"") | AB5: =+IF(Sheet1!HQ222>Sheet2!$A$1,Sheet1!HQ222,"") | AC5: =+IF(Sheet1!HR222>Sheet2!$A$1,Sheet1!HR222,"") | AD5: =+IF(Sheet1!HS222>Sheet2!$A$1,Sheet1!HS222,"") | AE5: =+IF(Sheet1!HT222>Sheet2!$A$1,Sheet1!HT222,"") | AF5: =+IF(Sheet1!HU222>Sheet2!$A$1,Sheet1!HU222,"") | AG5: =+IF(Sheet1!HV222>Sheet2!$A$1,Sheet1!HV222,"") | AH5: =+IF(Sheet1!HW222>Sheet2!$A$1,Sheet1!HW222,"") | ... BB5: =+IF(Sheet1!IQ222>Sheet2!$A$1,Sheet1!IQ222,"") | BC5: =+IF(Sheet1!IS222>Sheet2!$A$1,Sheet1!IS222,"") | BD5: =+IF(Sheet1!IT222>Sheet2!$A$1,Sheet1!IT222,"") | BE5: =+IF(Sheet1!IU222>Sheet2!$A$1,Sheet1!IU222,"") | BF5: =+IF(Sheet1!IV222>Sheet2!$A$1,Sheet1!IV222,"") | BG5: =+IF(Sheet1!IW222>Sheet2!$A$1,Sheet1!IW222,"") | BH5: =+IF(Sheet1!IX222>Sheet2!$A$1,Sheet1!IX222,"") | BI5: =+IF(Sheet1!IY222>Sheet2!$A$1,Sheet1!IY222,"") | BJ5: =+IF(Sheet1!IZ222>Sheet2!$A$1,Sheet1!IZ222,"")
A6: φ E255 | B6: NC_009237 | C6: =+IF(Sheet1!FP219>Sheet2!$A$1,Sheet1!FP219,"") | D6: =+IF(Sheet1!IR219>Sheet2!$A$1,Sheet1!IR219,"") | E6: =+IF(Sheet1!HN219>Sheet2!$A$1,Sheet1!HN219,"") | F6: =+IF(Sheet1!HO219>Sheet2!$A$1,Sheet1!HO219,"") | G6: =+IF(Sheet1!HL219>Sheet2!$A$1,Sheet1!HL219,"") -> 100 | H6: =+IF(Sheet1!HM219>Sheet2!$A$1,Sheet1!HM219,"") -> 88.679245 | I6: =+IF(Sheet1!HK219>Sheet2!$A$1,Sheet1!HK219,"") -> 33.962264 | J6: =+IF(Sheet1!GT219>Sheet2!$A$1,Sheet1!GT219,"") -> 13.207547 | K6: =+IF(Sheet1!GU219>Sheet2!$A$1,Sheet1!GU219,"") -> 15.09434 | L6: =+IF(Sheet1!GV219>Sheet2!$A$1,Sheet1!GV219,"") -> 15.09434 | M6: =+IF(Sheet1!GW219>Sheet2!$A$1,Sheet1!GW219,"") | N6: =+IF(Sheet1!GX219>Sheet2!$A$1,Sheet1!GX219,"") -> 11.320755 | O6: =+IF(Sheet1!GY219>Sheet2!$A$1,Sheet1!GY219,"") -> 13.207547 | P6: =+IF(Sheet1!GZ219>Sheet2!$A$1,Sheet1!GZ219,"") -> 11.320755 | Q6: =+IF(Sheet1!HA219>Sheet2!$A$1,Sheet1!HA219,"") -> 13.207547 | ... Z6: =+IF(Sheet1!HJ219>Sheet2!$A$1,Sheet1!HJ219,"") | AA6: =+IF(Sheet1!HP219>Sheet2!$A$1,Sheet1!HP219,"") | AB6: =+IF(Sheet1!HQ219>Sheet2!$A$1,Sheet1!HQ219,"") | AC6: =+IF(Sheet1!HR219>Sheet2!$A$1,Sheet1!HR219,"") | AD6: =+IF(Sheet1!HS219>Sheet2!$A$1,Sheet1!HS219,"") | AE6: =+IF(Sheet1!HT219>Sheet2!$A$1,Sheet1!HT219,"") | AF6: =+IF(Sheet1!HU219>Sheet2!$A$1,Sheet1!HU219,"") | AG6: =+IF(Sheet1!HV219>Sheet2!$A$1,Sheet1!HV219,"") | AH6: =+IF(Sheet1!HW219>Sheet2!$A$1,Sheet1!HW219,"") | ... BB6: =+IF(Sheet1!IQ219>Sheet2!$A$1,Sheet1!IQ219,"") | BC6: =+IF(Sheet1!IS219>Sheet2!$A$1,Sheet1!IS219,"") | BD6: =+IF(Sheet1!IT219>Sheet2!$A$1,Sheet1!IT219,"") | BE6: =+IF(Sheet1!IU219>Sheet2!$A$1,Sheet1!IU219,"") | BF6: =+IF(Sheet1!IV219>Sheet2!$A$1,Sheet1!IV219,"") | BG6: =+IF(Sheet1!IW219>Sheet2!$A$1,Sheet1!IW219,"") | BH6: =+IF(Sheet1!IX219>Sheet2!$A$1,Sheet1!IX219,"") | BI6: =+IF(Sheet1!IY219>Sheet2!$A$1,Sheet1!IY219,"") | BJ6: =+IF(Sheet1!IZ219>Sheet2!$A$1,Sheet1!IZ219,"")
A7: BcepMu | B7: NC_005882 | C7: =+IF(Sheet1!FP220>Sheet2!$A$1,Sheet1!FP220,"") | D7: =+IF(Sheet1!IR220>Sheet2!$A$1,Sheet1!IR220,"") | E7: =+IF(Sheet1!HN220>Sheet2!$A$1,Sheet1!HN220,"") | F7: =+IF(Sheet1!HO220>Sheet2!$A$1,Sheet1!HO220,"") | G7: =+IF(Sheet1!HL220>Sheet2!$A$1,Sheet1!HL220,"") -> 94.230769 | H7: =+IF(Sheet1!HM220>Sheet2!$A$1,Sheet1!HM220,"") -> 100 | I7: =+IF(Sheet1!HK220>Sheet2!$A$1,Sheet1!HK220,"") -> 32.692308 | J7: =+IF(Sheet1!GT220>Sheet2!$A$1,Sheet1!GT220,"") -> 15.384615 | K7: =+IF(Sheet1!GU220>Sheet2!$A$1,Sheet1!GU220,"") -> 15.384615 | L7: =+IF(Sheet1!GV220>Sheet2!$A$1,Sheet1!GV220,"") -> 15.384615 | M7: =+IF(Sheet1!GW220>Sheet2!$A$1,Sheet1!GW220,"") | N7: =+IF(Sheet1!GX220>Sheet2!$A$1,Sheet1!GX220,"") -> 13.461538 | O7: =+IF(Sheet1!GY220>Sheet2!$A$1,Sheet1!GY220,"") -> 13.461538 | P7: =+IF(Sheet1!GZ220>Sheet2!$A$1,Sheet1!GZ220,"") -> 11.538462 | Q7: =+IF(Sheet1!HA220>Sheet2!$A$1,Sheet1!HA220,"") -> 13.461538 | ... Z7: =+IF(Sheet1!HJ220>Sheet2!$A$1,Sheet1!HJ220,"") | AA7: =+IF(Sheet1!HP220>Sheet2!$A$1,Sheet1!HP220,"") | AB7: =+IF(Sheet1!HQ220>Sheet2!$A$1,Sheet1!HQ220,"") | AC7: =+IF(Sheet1!HR220>Sheet2!$A$1,Sheet1!HR220,"") | AD7: =+IF(Sheet1!HS220>Sheet2!$A$1,Sheet1!HS220,"") | AE7: =+IF(Sheet1!HT220>Sheet2!$A$1,Sheet1!HT220,"") | AF7: =+IF(Sheet1!HU220>Sheet2!$A$1,Sheet1!HU220,"") | AG7: =+IF(Sheet1!HV220>Sheet2!$A$1,Sheet1!HV220,"") | AH7: =+IF(Sheet1!HW220>Sheet2!$A$1,Sheet1!HW220,"") | ... BB7: =+IF(Sheet1!IQ220>Sheet2!$A$1,Sheet1!IQ220,"") | BC7: =+IF(Sheet1!IS220>Sheet2!$A$1,Sheet1!IS220,"") | BD7: =+IF(Sheet1!IT220>Sheet2!$A$1,Sheet1!IT220,"") | BE7: =+IF(Sheet1!IU220>Sheet2!$A$1,Sheet1!IU220,"") | BF7: =+IF(Sheet1!IV220>Sheet2!$A$1,Sheet1!IV220,"") | BG7: =+IF(Sheet1!IW220>Sheet2!$A$1,Sheet1!IW220,"") | BH7: =+IF(Sheet1!IX220>Sheet2!$A$1,Sheet1!IX220,"") | BI7: =+IF(Sheet1!IY220>Sheet2!$A$1,Sheet1!IY220,"") | BJ7: =+IF(Sheet1!IZ220>Sheet2!$A$1,Sheet1!IZ220,"")
A8: Mu | B8: NC_000929 | C8: =+IF(Sheet1!FP218>Sheet2!$A$1,Sheet1!FP218,"") | D8: =+IF(Sheet1!IR218>Sheet2!$A$1,Sheet1!IR218,"") | E8: =+IF(Sheet1!HN218>Sheet2!$A$1,Sheet1!HN218,"") -> 16.981132 | F8: =+IF(Sheet1!HO218>Sheet2!$A$1,Sheet1!HO218,"") -> 16.981132 | G8: =+IF(Sheet1!HL218>Sheet2!$A$1,Sheet1!HL218,"") -> 15.09434 | H8: =+IF(Sheet1!HM218>Sheet2!$A$1,Sheet1!HM218,"") -> 16.981132 | I8: =+IF(Sheet1!HK218>Sheet2!$A$1,Sheet1!HK218,"") -> 100 | J8: =+IF(Sheet1!GT218>Sheet2!$A$1,Sheet1!GT218,"") | K8: =+IF(Sheet1!GU218>Sheet2!$A$1,Sheet1!GU218,"") | L8: =+IF(Sheet1!GV218>Sheet2!$A$1,Sheet1!GV218,"") | M8: =+IF(Sheet1!GW218>Sheet2!$A$1,Sheet1!GW218,"") | N8: =+IF(Sheet1!GX218>Sheet2!$A$1,Sheet1!GX218,"") | O8: =+IF(Sheet1!GY218>Sheet2!$A$1,Sheet1!GY218,"") | P8: =+IF(Sheet1!GZ218>Sheet2!$A$1,Sheet1!GZ218,"") | Q8: =+IF(Sheet1!HA218>Sheet2!$A$1,Sheet1!HA218,"") | ... Z8: =+IF(Sheet1!HJ218>Sheet2!$A$1,Sheet1!HJ218,"") | AA8: =+IF(Sheet1!HP218>Sheet2!$A$1,Sheet1!HP218,"") | AB8: =+IF(Sheet1!HQ218>Sheet2!$A$1,Sheet1!HQ218,"") | AC8: =+IF(Sheet1!HR218>Sheet2!$A$1,Sheet1!HR218,"") | AD8: =+IF(Sheet1!HS218>Sheet2!$A$1,Sheet1!HS218,"") | AE8: =+IF(Sheet1!HT218>Sheet2!$A$1,Sheet1!HT218,"") | AF8: =+IF(Sheet1!HU218>Sheet2!$A$1,Sheet1!HU218,"") | AG8: =+IF(Sheet1!HV218>Sheet2!$A$1,Sheet1!HV218,"") | AH8: =+IF(Sheet1!HW218>Sheet2!$A$1,Sheet1!HW218,"") | ... BB8: =+IF(Sheet1!IQ218>Sheet2!$A$1,Sheet1!IQ218,"") | BC8: =+IF(Sheet1!IS218>Sheet2!$A$1,Sheet1!IS218,"") | BD8: =+IF(Sheet1!IT218>Sheet2!$A$1,Sheet1!IT218,"") | BE8: =+IF(Sheet1!IU218>Sheet2!$A$1,Sheet1!IU218,"") | BF8: =+IF(Sheet1!IV218>Sheet2!$A$1,Sheet1!IV218,"") | BG8: =+IF(Sheet1!IW218>Sheet2!$A$1,Sheet1!IW218,"") | BH8: =+IF(Sheet1!IX218>Sheet2!$A$1,Sheet1!IX218,"") | BI8: =+IF(Sheet1!IY218>Sheet2!$A$1,Sheet1!IY218,"") | BJ8: =+IF(Sheet1!IZ218>Sheet2!$A$1,Sheet1!IZ218,"")
A9: RSA1 | B9: NC_009382 | C9: =+IF(Sheet1!FP201>Sheet2!$A$1,Sheet1!FP201,"") | D9: =+IF(Sheet1!IR201>Sheet2!$A$1,Sheet1!IR201,"") | E9: =+IF(Sheet1!HN201>Sheet2!$A$1,Sheet1!HN201,"") | F9: =+IF(Sheet1!HO201>Sheet2!$A$1,Sheet1!HO201,"") | G9: =+IF(Sheet1!HL201>Sheet2!$A$1,Sheet1!HL201,"") -> 15.686275 | H9: =+IF(Sheet1!HM201>Sheet2!$A$1,Sheet1!HM201,"") -> 15.686275 | I9: =+IF(Sheet1!HK201>Sheet2!$A$1,Sheet1!HK201,"") -> 17.647059 | J9: =+IF(Sheet1!GT201>Sheet2!$A$1,Sheet1!GT201,"") -> 100 | K9: =+IF(Sheet1!GU201>Sheet2!$A$1,Sheet1!GU201,"") -> 54.901961 | L9: =+IF(Sheet1!GV201>Sheet2!$A$1,Sheet1!GV201,"") -> 41.176471 | M9: =+IF(Sheet1!GW201>Sheet2!$A$1,Sheet1!GW201,"") -> 35.294118 | N9: =+IF(Sheet1!GX201>Sheet2!$A$1,Sheet1!GX201,"") -> 39.215686 | O9: =+IF(Sheet1!GY201>Sheet2!$A$1,Sheet1!GY201,"") -> 39.215686 | P9: =+IF(Sheet1!GZ201>Sheet2!$A$1,Sheet1!GZ201,"") -> 39.215686 | Q9: =+IF(Sheet1!HA201>Sheet2!$A$1,Sheet1!HA201,"") -> 39.215686 | ... Z9: =+IF(Sheet1!HJ201>Sheet2!$A$1,Sheet1!HJ201,"") -> 11.764706 | AA9: =+IF(Sheet1!HP201>Sheet2!$A$1,Sheet1!HP201,"") | AB9: =+IF(Sheet1!HQ201>Sheet2!$A$1,Sheet1!HQ201,"") | AC9: =+IF(Sheet1!HR201>Sheet2!$A$1,Sheet1!HR201,"") | AD9: =+IF(Sheet1!HS201>Sheet2!$A$1,Sheet1!HS201,"") | AE9: =+IF(Sheet1!HT201>Sheet2!$A$1,Sheet1!HT201,"") | AF9: =+IF(Sheet1!HU201>Sheet2!$A$1,Sheet1!HU201,"") | AG9: =+IF(Sheet1!HV201>Sheet2!$A$1,Sheet1!HV201,"") | AH9: =+IF(Sheet1!HW201>Sheet2!$A$1,Sheet1!HW201,"") | ... BB9: =+IF(Sheet1!IQ201>Sheet2!$A$1,Sheet1!IQ201,"") | BC9: =+IF(Sheet1!IS201>Sheet2!$A$1,Sheet1!IS201,"") | BD9: =+IF(Sheet1!IT201>Sheet2!$A$1,Sheet1!IT201,"") | BE9: =+IF(Sheet1!IU201>Sheet2!$A$1,Sheet1!IU201,"") | BF9: =+IF(Sheet1!IV201>Sheet2!$A$1,Sheet1!IV201,"") | BG9: =+IF(Sheet1!IW201>Sheet2!$A$1,Sheet1!IW201,"") | BH9: =+IF(Sheet1!IX201>Sheet2!$A$1,Sheet1!IX201,"") | BI9: =+IF(Sheet1!IY201>Sheet2!$A$1,Sheet1!IY201,"") | BJ9: =+IF(Sheet1!IZ201>Sheet2!$A$1,Sheet1!IZ201,"")
A10: φ52237 | B10: NC_007145 | C10: =+IF(Sheet1!FP202>Sheet2!$A$1,Sheet1!FP202,"") | D10: =+IF(Sheet1!IR202>Sheet2!$A$1,Sheet1!IR202,"") | E10: =+IF(Sheet1!HN202>Sheet2!$A$1,Sheet1!HN202,"") | F10: =+IF(Sheet1!HO202>Sheet2!$A$1,Sheet1!HO202,"") | G10: =+IF(Sheet1!HL202>Sheet2!$A$1,Sheet1!HL202,"") -> 17.777778 | H10: =+IF(Sheet1!HM202>Sheet2!$A$1,Sheet1!HM202,"") -> 17.777778 | I10: =+IF(Sheet1!HK202>Sheet2!$A$1,Sheet1!HK202,"") -> 20 | J10: =+IF(Sheet1!GT202>Sheet2!$A$1,Sheet1!GT202,"") -> 62.222222 | K10: =+IF(Sheet1!GU202>Sheet2!$A$1,Sheet1!GU202,"") -> 100 | L10: =+IF(Sheet1!GV202>Sheet2!$A$1,Sheet1!GV202,"") -> 73.333333 | M10: =+IF(Sheet1!GW202>Sheet2!$A$1,Sheet1!GW202,"") -> 48.888889 | N10: =+IF(Sheet1!GX202>Sheet2!$A$1,Sheet1!GX202,"") -> 46.666667 | O10: =+IF(Sheet1!GY202>Sheet2!$A$1,Sheet1!GY202,"") -> 46.666667 | P10: =+IF(Sheet1!GZ202>Sheet2!$A$1,Sheet1!GZ202,"") -> 46.666667 | Q10: =+IF(Sheet1!HA202>Sheet2!$A$1,Sheet1!HA202,"") -> 44.444444 | ... Z10: =+IF(Sheet1!HJ202>Sheet2!$A$1,Sheet1!HJ202,"") -> 13.333333 | AA10: =+IF(Sheet1!HP202>Sheet2!$A$1,Sheet1!HP202,"") | AB10: =+IF(Sheet1!HQ202>Sheet2!$A$1,Sheet1!HQ202,"") | AC10: =+IF(Sheet1!HR202>Sheet2!$A$1,Sheet1!HR202,"") | AD10: =+IF(Sheet1!HS202>Sheet2!$A$1,Sheet1!HS202,"") | AE10: =+IF(Sheet1!HT202>Sheet2!$A$1,Sheet1!HT202,"") | AF10: =+IF(Sheet1!HU202>Sheet2!$A$1,Sheet1!HU202,"") | AG10: =+IF(Sheet1!HV202>Sheet2!$A$1,Sheet1!HV202,"") | AH10: =+IF(Sheet1!HW202>Sheet2!$A$1,Sheet1!HW202,"") | ... BB10: =+IF(Sheet1!IQ202>Sheet2!$A$1,Sheet1!IQ202,"") | BC10: =+IF(Sheet1!IS202>Sheet2!$A$1,Sheet1!IS202,"") | BD10: =+IF(Sheet1!IT202>Sheet2!$A$1,Sheet1!IT202,"") | BE10: =+IF(Sheet1!IU202>Sheet2!$A$1,Sheet1!IU202,"") | BF10: =+IF(Sheet1!IV202>Sheet2!$A$1,Sheet1!IV202,"") | BG10: =+IF(Sheet1!IW202>Sheet2!$A$1,Sheet1!IW202,"") | BH10: =+IF(Sheet1!IX202>Sheet2!$A$1,Sheet1!IX202,"") | BI10: =+IF(Sheet1!IY202>Sheet2!$A$1,Sheet1!IY202,"") | BJ10: =+IF(Sheet1!IZ202>Sheet2!$A$1,Sheet1!IZ202,"")
A11: φE202 | B11: NC_009234 | C11: =+IF(Sheet1!FP203>Sheet2!$A$1,Sheet1!FP203,"") | D11: =+IF(Sheet1!IR203>Sheet2!$A$1,Sheet1!IR203,"") | E11: =+IF(Sheet1!HN203>Sheet2!$A$1,Sheet1!HN203,"") | F11: =+IF(Sheet1!HO203>Sheet2!$A$1,Sheet1!HO203,"") | G11: =+IF(Sheet1!HL203>Sheet2!$A$1,Sheet1!HL203,"") -> 20.454545 | H11: =+IF(Sheet1!HM203>Sheet2!$A$1,Sheet1!HM203,"") -> 18.181818 | I11: =+IF(Sheet1!HK203>Sheet2!$A$1,Sheet1!HK203,"") -> 18.181818 | J11: =+IF(Sheet1!GT203>Sheet2!$A$1,Sheet1!GT203,"") -> 63.636364 | K11: =+IF(Sheet1!GU203>Sheet2!$A$1,Sheet1!GU203,"") -> 100 | L11: =+IF(Sheet1!GV203>Sheet2!$A$1,Sheet1!GV203,"") -> 86.363636 | M11: =+IF(Sheet1!GW203>Sheet2!$A$1,Sheet1!GW203,"") -> 52.272727 | N11: =+IF(Sheet1!GX203>Sheet2!$A$1,Sheet1!GX203,"") -> 52.272727 | O11: =+IF(Sheet1!GY203>Sheet2!$A$1,Sheet1!GY203,"") -> 52.272727 | P11: =+IF(Sheet1!GZ203>Sheet2!$A$1,Sheet1!GZ203,"") -> 52.272727 | Q11: =+IF(Sheet1!HA203>Sheet2!$A$1,Sheet1!HA203,"") -> 50 | ... Z11: =+IF(Sheet1!HJ203>Sheet2!$A$1,Sheet1!HJ203,"") -> 13.636364 | AA11: =+IF(Sheet1!HP203>Sheet2!$A$1,Sheet1!HP203,"") | AB11: =+IF(Sheet1!HQ203>Sheet2!$A$1,Sheet1!HQ203,"") | AC11: =+IF(Sheet1!HR203>Sheet2!$A$1,Sheet1!HR203,"") | AD11: =+IF(Sheet1!HS203>Sheet2!$A$1,Sheet1!HS203,"") | AE11: =+IF(Sheet1!HT203>Sheet2!$A$1,Sheet1!HT203,"") | AF11: =+IF(Sheet1!HU203>Sheet2!$A$1,Sheet1!HU203,"") | AG11: =+IF(Sheet1!HV203>Sheet2!$A$1,Sheet1!HV203,"") | AH11: =+IF(Sheet1!HW203>Sheet2!$A$1,Sheet1!HW203,"") | ... BB11: =+IF(Sheet1!IQ203>Sheet2!$A$1,Sheet1!IQ203,"") | BC11: =+IF(Sheet1!IS203>Sheet2!$A$1,Sheet1!IS203,"") | BD11: =+IF(Sheet1!IT203>Sheet2!$A$1,Sheet1!IT203,"") | BE11: =+IF(Sheet1!IU203>Sheet2!$A$1,Sheet1!IU203,"") | BF11: =+IF(Sheet1!IV203>Sheet2!$A$1,Sheet1!IV203,"") | BG11: =+IF(Sheet1!IW203>Sheet2!$A$1,Sheet1!IW203,"") | BH11: =+IF(Sheet1!IX203>Sheet2!$A$1,Sheet1!IX203,"") | BI11: =+IF(Sheet1!IY203>Sheet2!$A$1,Sheet1!IY203,"") | BJ11: =+IF(Sheet1!IZ203>Sheet2!$A$1,Sheet1!IZ203,"")
A12: φE12-2 | B12: NC_009236 | C12: =+IF(Sheet1!FP204>Sheet2!$A$1,Sheet1!FP204,"") | D12: =+IF(Sheet1!IR204>Sheet2!$A$1,Sheet1!IR204,"") | E12: =+IF(Sheet1!HN204>Sheet2!$A$1,Sheet1!HN204,"") | F12: =+IF(Sheet1!HO204>Sheet2!$A$1,Sheet1!HO204,"") | G12: =+IF(Sheet1!HL204>Sheet2!$A$1,Sheet1!HL204,"") -> 17.5 | H12: =+IF(Sheet1!HM204>Sheet2!$A$1,Sheet1!HM204,"") -> 17.5 | I12: =+IF(Sheet1!HK204>Sheet2!$A$1,Sheet1!HK204,"") -> 22.5 | J12: =+IF(Sheet1!GT204>Sheet2!$A$1,Sheet1!GT204,"") -> 60 | K12: =+IF(Sheet1!GU204>Sheet2!$A$1,Sheet1!GU204,"") -> 72.5 | L12: =+IF(Sheet1!GV204>Sheet2!$A$1,Sheet1!GV204,"") -> 55 | M12: =+IF(Sheet1!GW204>Sheet2!$A$1,Sheet1!GW204,"") -> 100 | N12: =+IF(Sheet1!GX204>Sheet2!$A$1,Sheet1!GX204,"") -> 55 | O12: =+IF(Sheet1!GY204>Sheet2!$A$1,Sheet1!GY204,"") -> 55 | P12: =+IF(Sheet1!GZ204>Sheet2!$A$1,Sheet1!GZ204,"") -> 55 | Q12: =+IF(Sheet1!HA204>Sheet2!$A$1,Sheet1!HA204,"") -> 55 | ... Z12: =+IF(Sheet1!HJ204>Sheet2!$A$1,Sheet1!HJ204,"") -> 17.5 | AA12: =+IF(Sheet1!HP204>Sheet2!$A$1,Sheet1!HP204,"") | AB12: =+IF(Sheet1!HQ204>Sheet2!$A$1,Sheet1!HQ204,"") | AC12: =+IF(Sheet1!HR204>Sheet2!$A$1,Sheet1!HR204,"") | AD12: =+IF(Sheet1!HS204>Sheet2!$A$1,Sheet1!HS204,"") | AE12: =+IF(Sheet1!HT204>Sheet2!$A$1,Sheet1!HT204,"") | AF12: =+IF(Sheet1!HU204>Sheet2!$A$1,Sheet1!HU204,"") | AG12: =+IF(Sheet1!HV204>Sheet2!$A$1,Sheet1!HV204,"") | AH12: =+IF(Sheet1!HW204>Sheet2!$A$1,Sheet1!HW204,"") | ... BB12: =+IF(Sheet1!IQ204>Sheet2!$A$1,Sheet1!IQ204,"") | BC12: =+IF(Sheet1!IS204>Sheet2!$A$1,Sheet1!IS204,"") | BD12: =+IF(Sheet1!IT204>Sheet2!$A$1,Sheet1!IT204,"") | BE12: =+IF(Sheet1!IU204>Sheet2!$A$1,Sheet1!IU204,"") | BF12: =+IF(Sheet1!IV204>Sheet2!$A$1,Sheet1!IV204,"") | BG12: =+IF(Sheet1!IW204>Sheet2!$A$1,Sheet1!IW204,"") | BH12: =+IF(Sheet1!IX204>Sheet2!$A$1,Sheet1!IX204,"") | BI12: =+IF(Sheet1!IY204>Sheet2!$A$1,Sheet1!IY204,"") | BJ12: =+IF(Sheet1!IZ204>Sheet2!$A$1,Sheet1!IZ204,"")
A13: 186 | B13: NC_001317 | C13: =+IF(Sheet1!FP205>Sheet2!$A$1,Sheet1!FP205,"") | D13: =+IF(Sheet1!IR205>Sheet2!$A$1,Sheet1!IR205,"") | E13: =+IF(Sheet1!HN205>Sheet2!$A$1,Sheet1!HN205,"") | F13: =+IF(Sheet1!HO205>Sheet2!$A$1,Sheet1!HO205,"") | G13: =+IF(Sheet1!HL205>Sheet2!$A$1,Sheet1!HL205,"") -> 15.217391 | H13: =+IF(Sheet1!HM205>Sheet2!$A$1,Sheet1!HM205,"") -> 15.217391 | I13: =+IF(Sheet1!HK205>Sheet2!$A$1,Sheet1!HK205,"") -> 21.73913 | J13: =+IF(Sheet1!GT205>Sheet2!$A$1,Sheet1!GT205,"") -> 45.652174 | K13: =+IF(Sheet1!GU205>Sheet2!$A$1,Sheet1!GU205,"") -> 47.826087 | L13: =+IF(Sheet1!GV205>Sheet2!$A$1,Sheet1!GV205,"") -> 36.956522 | M13: =+IF(Sheet1!GW205>Sheet2!$A$1,Sheet1!GW205,"") -> 34.782609 | N13: =+IF(Sheet1!GX205>Sheet2!$A$1,Sheet1!GX205,"") -> 100 | O13: =+IF(Sheet1!GY205>Sheet2!$A$1,Sheet1!GY205,"") -> 69.565217 | P13: =+IF(Sheet1!GZ205>Sheet2!$A$1,Sheet1!GZ205,"") -> 84.782609 | Q13: =+IF(Sheet1!HA205>Sheet2!$A$1,Sheet1!HA205,"") -> 69.565217 | ... Z13: =+IF(Sheet1!HJ205>Sheet2!$A$1,Sheet1!HJ205,"") -> 23.913043 | AA13: =+IF(Sheet1!HP205>Sheet2!$A$1,Sheet1!HP205,"") | AB13: =+IF(Sheet1!HQ205>Sheet2!$A$1,Sheet1!HQ205,"") | AC13: =+IF(Sheet1!HR205>Sheet2!$A$1,Sheet1!HR205,"") | AD13: =+IF(Sheet1!HS205>Sheet2!$A$1,Sheet1!HS205,"") | AE13: =+IF(Sheet1!HT205>Sheet2!$A$1,Sheet1!HT205,"") | AF13: =+IF(Sheet1!HU205>Sheet2!$A$1,Sheet1!HU205,"") | AG13: =+IF(Sheet1!HV205>Sheet2!$A$1,Sheet1!HV205,"") | AH13: =+IF(Sheet1!HW205>Sheet2!$A$1,Sheet1!HW205,"") | ... BB13: =+IF(Sheet1!IQ205>Sheet2!$A$1,Sheet1!IQ205,"") | BC13: =+IF(Sheet1!IS205>Sheet2!$A$1,Sheet1!IS205,"") | BD13: =+IF(Sheet1!IT205>Sheet2!$A$1,Sheet1!IT205,"") | BE13: =+IF(Sheet1!IU205>Sheet2!$A$1,Sheet1!IU205,"") | BF13: =+IF(Sheet1!IV205>Sheet2!$A$1,Sheet1!IV205,"") | BG13: =+IF(Sheet1!IW205>Sheet2!$A$1,Sheet1!IW205,"") | BH13: =+IF(Sheet1!IX205>Sheet2!$A$1,Sheet1!IX205,"") | BI13: =+IF(Sheet1!IY205>Sheet2!$A$1,Sheet1!IY205,"") | BJ13: =+IF(Sheet1!IZ205>Sheet2!$A$1,Sheet1!IZ205,"")
A14: Wφ | B14: NC_005056 | C14: =+IF(Sheet1!FP206>Sheet2!$A$1,Sheet1!FP206,"") | D14: =+IF(Sheet1!IR206>Sheet2!$A$1,Sheet1!IR206,"") | E14: =+IF(Sheet1!HN206>Sheet2!$A$1,Sheet1!HN206,"") | F14: =+IF(Sheet1!HO206>Sheet2!$A$1,Sheet1!HO206,"") | G14: =+IF(Sheet1!HL206>Sheet2!$A$1,Sheet1!HL206,"") -> 11.363636 | H14: =+IF(Sheet1!HM206>Sheet2!$A$1,Sheet1!HM206,"") -> 13.636364 | I14: =+IF(Sheet1!HK206>Sheet2!$A$1,Sheet1!HK206,"") -> 22.727273 | J14: =+IF(Sheet1!GT206>Sheet2!$A$1,Sheet1!GT206,"") -> 47.727273 | K14: =+IF(Sheet1!GU206>Sheet2!$A$1,Sheet1!GU206,"") -> 47.727273 | L14: =+IF(Sheet1!GV206>Sheet2!$A$1,Sheet1!GV206,"") -> 36.363636 | M14: =+IF(Sheet1!GW206>Sheet2!$A$1,Sheet1!GW206,"") -> 36.363636 | N14: =+IF(Sheet1!GX206>Sheet2!$A$1,Sheet1!GX206,"") -> 70.454545 | O14: =+IF(Sheet1!GY206>Sheet2!$A$1,Sheet1!GY206,"") -> 100 | P14: =+IF(Sheet1!GZ206>Sheet2!$A$1,Sheet1!GZ206,"") -> 68.181818 | Q14: =+IF(Sheet1!HA206>Sheet2!$A$1,Sheet1!HA206,"") -> 88.636364 | ... Z14: =+IF(Sheet1!HJ206>Sheet2!$A$1,Sheet1!HJ206,"") -> 20.454545 | AA14: =+IF(Sheet1!HP206>Sheet2!$A$1,Sheet1!HP206,"") | AB14: =+IF(Sheet1!HQ206>Sheet2!$A$1,Sheet1!HQ206,"") | AC14: =+IF(Sheet1!HR206>Sheet2!$A$1,Sheet1!HR206,"") | AD14: =+IF(Sheet1!HS206>Sheet2!$A$1,Sheet1!HS206,"") | AE14: =+IF(Sheet1!HT206>Sheet2!$A$1,Sheet1!HT206,"") | AF14: =+IF(Sheet1!HU206>Sheet2!$A$1,Sheet1!HU206,"") | AG14: =+IF(Sheet1!HV206>Sheet2!$A$1,Sheet1!HV206,"") | AH14: =+IF(Sheet1!HW206>Sheet2!$A$1,Sheet1!HW206,"") | ... BB14: =+IF(Sheet1!IQ206>Sheet2!$A$1,Sheet1!IQ206,"") | BC14: =+IF(Sheet1!IS206>Sheet2!$A$1,Sheet1!IS206,"") | BD14: =+IF(Sheet1!IT206>Sheet2!$A$1,Sheet1!IT206,"") | BE14: =+IF(Sheet1!IU206>Sheet2!$A$1,Sheet1!IU206,"") | BF14: =+IF(Sheet1!IV206>Sheet2!$A$1,Sheet1!IV206,"") | BG14: =+IF(Sheet1!IW206>Sheet2!$A$1,Sheet1!IW206,"") | BH14: =+IF(Sheet1!IX206>Sheet2!$A$1,Sheet1!IX206,"") | BI14: =+IF(Sheet1!IY206>Sheet2!$A$1,Sheet1!IY206,"") | BJ14: =+IF(Sheet1!IZ206>Sheet2!$A$1,Sheet1!IZ206,"")
A15: PsP3 | B15: NC_005340 | C15: =+IF(Sheet1!FP207>Sheet2!$A$1,Sheet1!FP207,"") | D15: =+IF(Sheet1!IR207>Sheet2!$A$1,Sheet1!IR207,"") | E15: =+IF(Sheet1!HN207>Sheet2!$A$1,Sheet1!HN207,"") | F15: =+IF(Sheet1!HO207>Sheet2!$A$1,Sheet1!HO207,"") | G15: =+IF(Sheet1!HL207>Sheet2!$A$1,Sheet1!HL207,"") -> 15 | H15: =+IF(Sheet1!HM207>Sheet2!$A$1,Sheet1!HM207,"") -> 17.5 | I15: =+IF(Sheet1!HK207>Sheet2!$A$1,Sheet1!HK207,"") -> 22.5 | J15: =+IF(Sheet1!GT207>Sheet2!$A$1,Sheet1!GT207,"") -> 55 | K15: =+IF(Sheet1!GU207>Sheet2!$A$1,Sheet1!GU207,"") -> 60 | L15: =+IF(Sheet1!GV207>Sheet2!$A$1,Sheet1!GV207,"") -> 47.5 | M15: =+IF(Sheet1!GW207>Sheet2!$A$1,Sheet1!GW207,"") -> 42.5 | N15: =+IF(Sheet1!GX207>Sheet2!$A$1,Sheet1!GX207,"") -> 90 | O15: =+IF(Sheet1!GY207>Sheet2!$A$1,Sheet1!GY207,"") -> 77.5 | P15: =+IF(Sheet1!GZ207>Sheet2!$A$1,Sheet1!GZ207,"") -> 100 | Q15: =+IF(Sheet1!HA207>Sheet2!$A$1,Sheet1!HA207,"") -> 77.5 | ... Z15: =+IF(Sheet1!HJ207>Sheet2!$A$1,Sheet1!HJ207,"") -> 30 | AA15: =+IF(Sheet1!HP207>Sheet2!$A$1,Sheet1!HP207,"") | AB15: =+IF(Sheet1!HQ207>Sheet2!$A$1,Sheet1!HQ207,"") | AC15: =+IF(Sheet1!HR207>Sheet2!$A$1,Sheet1!HR207,"") | AD15: =+IF(Sheet1!HS207>Sheet2!$A$1,Sheet1!HS207,"") | AE15: =+IF(Sheet1!HT207>Sheet2!$A$1,Sheet1!HT207,"") | AF15: =+IF(Sheet1!HU207>Sheet2!$A$1,Sheet1!HU207,"") | AG15: =+IF(Sheet1!HV207>Sheet2!$A$1,Sheet1!HV207,"") | AH15: =+IF(Sheet1!HW207>Sheet2!$A$1,Sheet1!HW207,"") | ... BB15: =+IF(Sheet1!IQ207>Sheet2!$A$1,Sheet1!IQ207,"") | BC15: =+IF(Sheet1!IS207>Sheet2!$A$1,Sheet1!IS207,"") | BD15: =+IF(Sheet1!IT207>Sheet2!$A$1,Sheet1!IT207,"") | BE15: =+IF(Sheet1!IU207>Sheet2!$A$1,Sheet1!IU207,"") | BF15: =+IF(Sheet1!IV207>Sheet2!$A$1,Sheet1!IV207,"") | BG15: =+IF(Sheet1!IW207>Sheet2!$A$1,Sheet1!IW207,"") | BH15: =+IF(Sheet1!IX207>Sheet2!$A$1,Sheet1!IX207,"") | BI15: =+IF(Sheet1!IY207>Sheet2!$A$1,Sheet1!IY207,"") | BJ15: =+IF(Sheet1!IZ207>Sheet2!$A$1,Sheet1!IZ207,"")
A16: P2 | B16: NC_001895 | C16: =+IF(Sheet1!FP208>Sheet2!$A$1,Sheet1!FP208,"") | D16: =+IF(Sheet1!IR208>Sheet2!$A$1,Sheet1!IR208,"") | E16: =+IF(Sheet1!HN208>Sheet2!$A$1,Sheet1!HN208,"") | F16: =+IF(Sheet1!HO208>Sheet2!$A$1,Sheet1!HO208,"") | G16: =+IF(Sheet1!HL208>Sheet2!$A$1,Sheet1!HL208,"") -> 13.953488 | H16: =+IF(Sheet1!HM208>Sheet2!$A$1,Sheet1!HM208,"") -> 13.953488 | I16: =+IF(Sheet1!HK208>Sheet2!$A$1,Sheet1!HK208,"") -> 23.255814 | J16: =+IF(Sheet1!GT208>Sheet2!$A$1,Sheet1!GT208,"") -> 48.837209 | K16: =+IF(Sheet1!GU208>Sheet2!$A$1,Sheet1!GU208,"") -> 48.837209 | L16: =+IF(Sheet1!GV208>Sheet2!$A$1,Sheet1!GV208,"") -> 37.209302 | M16: =+IF(Sheet1!GW208>Sheet2!$A$1,Sheet1!GW208,"") -> 37.209302 | N16: =+IF(Sheet1!GX208>Sheet2!$A$1,Sheet1!GX208,"") -> 72.093023 | O16: =+IF(Sheet1!GY208>Sheet2!$A$1,Sheet1!GY208,"") -> 90.697674 | P16: =+IF(Sheet1!GZ208>Sheet2!$A$1,Sheet1!GZ208,"") -> 69.767442 | Q16: =+IF(Sheet1!HA208>Sheet2!$A$1,Sheet1!HA208,"") -> 100 | ... Z16: =+IF(Sheet1!HJ208>Sheet2!$A$1,Sheet1!HJ208,"") -> 18.604651 | AA16: =+IF(Sheet1!HP208>Sheet2!$A$1,Sheet1!HP208,"") | AB16: =+IF(Sheet1!HQ208>Sheet2!$A$1,Sheet1!HQ208,"") | AC16: =+IF(Sheet1!HR208>Sheet2!$A$1,Sheet1!HR208,"") | AD16: =+IF(Sheet1!HS208>Sheet2!$A$1,Sheet1!HS208,"") | AE16: =+IF(Sheet1!HT208>Sheet2!$A$1,Sheet1!HT208,"") | AF16: =+IF(Sheet1!HU208>Sheet2!$A$1,Sheet1!HU208,"") | AG16: =+IF(Sheet1!HV208>Sheet2!$A$1,Sheet1!HV208,"") | AH16: =+IF(Sheet1!HW208>Sheet2!$A$1,Sheet1!HW208,"") | ... BB16: =+IF(Sheet1!IQ208>Sheet2!$A$1,Sheet1!IQ208,"") | BC16: =+IF(Sheet1!IS208>Sheet2!$A$1,Sheet1!IS208,"") | BD16: =+IF(Sheet1!IT208>Sheet2!$A$1,Sheet1!IT208,"") | BE16: =+IF(Sheet1!IU208>Sheet2!$A$1,Sheet1!IU208,"") | BF16: =+IF(Sheet1!IV208>Sheet2!$A$1,Sheet1!IV208,"") | BG16: =+IF(Sheet1!IW208>Sheet2!$A$1,Sheet1!IW208,"") | BH16: =+IF(Sheet1!IX208>Sheet2!$A$1,Sheet1!IX208,"") | BI16: =+IF(Sheet1!IY208>Sheet2!$A$1,Sheet1!IY208,"") | BJ16: =+IF(Sheet1!IZ208>Sheet2!$A$1,Sheet1!IZ208,"")
A17: L-413C | B17: NC_004745 | C17: =+IF(Sheet1!FP209>Sheet2!$A$1,Sheet1!FP209,"") | D17: =+IF(Sheet1!IR209>Sheet2!$A$1,Sheet1!IR209,"") | E17: =+IF(Sheet1!HN209>Sheet2!$A$1,Sheet1!HN209,"") | F17: =+IF(Sheet1!HO209>Sheet2!$A$1,Sheet1!HO209,"") | G17: =+IF(Sheet1!HL209>Sheet2!$A$1,Sheet1!HL209,"") -> 15 | H17: =+IF(Sheet1!HM209>Sheet2!$A$1,Sheet1!HM209,"") -> 15 | I17: =+IF(Sheet1!HK209>Sheet2!$A$1,Sheet1!HK209,"") -> 22.5 | J17: =+IF(Sheet1!GT209>Sheet2!$A$1,Sheet1!GT209,"") -> 52.5 | K17: =+IF(Sheet1!GU209>Sheet2!$A$1,Sheet1!GU209,"") -> 50 | L17: =+IF(Sheet1!GV209>Sheet2!$A$1,Sheet1!GV209,"") -> 37.5 | M17: =+IF(Sheet1!GW209>Sheet2!$A$1,Sheet1!GW209,"") -> 37.5 | N17: =+IF(Sheet1!GX209>Sheet2!$A$1,Sheet1!GX209,"") -> 75 | O17: =+IF(Sheet1!GY209>Sheet2!$A$1,Sheet1!GY209,"") -> 97.5 | P17: =+IF(Sheet1!GZ209>Sheet2!$A$1,Sheet1!GZ209,"") -> 72.5 | Q17: =+IF(Sheet1!HA209>Sheet2!$A$1,Sheet1!HA209,"") -> 95 | ... Z17: =+IF(Sheet1!HJ209>Sheet2!$A$1,Sheet1!HJ209,"") -> 22.5 | AA17: =+IF(Sheet1!HP209>Sheet2!$A$1,Sheet1!HP209,"") | AB17: =+IF(Sheet1!HQ209>Sheet2!$A$1,Sheet1!HQ209,"") | AC17: =+IF(Sheet1!HR209>Sheet2!$A$1,Sheet1!HR209,"") | AD17: =+IF(Sheet1!HS209>Sheet2!$A$1,Sheet1!HS209,"") | AE17: =+IF(Sheet1!HT209>Sheet2!$A$1,Sheet1!HT209,"") | AF17: =+IF(Sheet1!HU209>Sheet2!$A$1,Sheet1!HU209,"") | AG17: =+IF(Sheet1!HV209>Sheet2!$A$1,Sheet1!HV209,"") | AH17: =+IF(Sheet1!HW209>Sheet2!$A$1,Sheet1!HW209,"") | ... BB17: =+IF(Sheet1!IQ209>Sheet2!$A$1,Sheet1!IQ209,"") | BC17: =+IF(Sheet1!IS209>Sheet2!$A$1,Sheet1!IS209,"") | BD17: =+IF(Sheet1!IT209>Sheet2!$A$1,Sheet1!IT209,"") | BE17: =+IF(Sheet1!IU209>Sheet2!$A$1,Sheet1!IU209,"") | BF17: =+IF(Sheet1!IV209>Sheet2!$A$1,Sheet1!IV209,"") | BG17: =+IF(Sheet1!IW209>Sheet2!$A$1,Sheet1!IW209,"") | BH17: =+IF(Sheet1!IX209>Sheet2!$A$1,Sheet1!IX209,"") | BI17: =+IF(Sheet1!IY209>Sheet2!$A$1,Sheet1!IY209,"") | BJ17: =+IF(Sheet1!IZ209>Sheet2!$A$1,Sheet1!IZ209,"")
A18: φ CTX | B18: NC_003278 | C18: =+IF(Sheet1!FP210>Sheet2!$A$1,Sheet1!FP210,"") | D18: =+IF(Sheet1!IR210>Sheet2!$A$1,Sheet1!IR210,"") | E18: =+IF(Sheet1!HN210>Sheet2!$A$1,Sheet1!HN210,"") | F18: =+IF(Sheet1!HO210>Sheet2!$A$1,Sheet1!HO210,"") | G18: =+IF(Sheet1!HL210>Sheet2!$A$1,Sheet1!HL210,"") -> 13.043478 | H18: =+IF(Sheet1!HM210>Sheet2!$A$1,Sheet1!HM210,"") -> 13.043478 | I18: =+IF(Sheet1!HK210>Sheet2!$A$1,Sheet1!HK210,"") -> 15.217391 | J18: =+IF(Sheet1!GT210>Sheet2!$A$1,Sheet1!GT210,"") -> 47.826087 | K18: =+IF(Sheet1!GU210>Sheet2!$A$1,Sheet1!GU210,"") -> 47.826087 | L18: =+IF(Sheet1!GV210>Sheet2!$A$1,Sheet1!GV210,"") -> 36.956522 | M18: =+IF(Sheet1!GW210>Sheet2!$A$1,Sheet1!GW210,"") -> 32.608696 | N18: =+IF(Sheet1!GX210>Sheet2!$A$1,Sheet1!GX210,"") -> 52.173913 | O18: =+IF(Sheet1!GY210>Sheet2!$A$1,Sheet1!GY210,"") -> 52.173913 | P18: =+IF(Sheet1!GZ210>Sheet2!$A$1,Sheet1!GZ210,"") -> 52.173913 | Q18: =+IF(Sheet1!HA210>Sheet2!$A$1,Sheet1!HA210,"") -> 52.173913 | ... Z18: =+IF(Sheet1!HJ210>Sheet2!$A$1,Sheet1!HJ210,"") -> 17.391304 | AA18: =+IF(Sheet1!HP210>Sheet2!$A$1,Sheet1!HP210,"") | AB18: =+IF(Sheet1!HQ210>Sheet2!$A$1,Sheet1!HQ210,"") | AC18: =+IF(Sheet1!HR210>Sheet2!$A$1,Sheet1!HR210,"") | AD18: =+IF(Sheet1!HS210>Sheet2!$A$1,Sheet1!HS210,"") | AE18: =+IF(Sheet1!HT210>Sheet2!$A$1,Sheet1!HT210,"") | AF18: =+IF(Sheet1!HU210>Sheet2!$A$1,Sheet1!HU210,"") | AG18: =+IF(Sheet1!HV210>Sheet2!$A$1,Sheet1!HV210,"") | AH18: =+IF(Sheet1!HW210>Sheet2!$A$1,Sheet1!HW210,"") | ... BB18: =+IF(Sheet1!IQ210>Sheet2!$A$1,Sheet1!IQ210,"") | BC18: =+IF(Sheet1!IS210>Sheet2!$A$1,Sheet1!IS210,"") | BD18: =+IF(Sheet1!IT210>Sheet2!$A$1,Sheet1!IT210,"") | BE18: =+IF(Sheet1!IU210>Sheet2!$A$1,Sheet1!IU210,"") | BF18: =+IF(Sheet1!IV210>Sheet2!$A$1,Sheet1!IV210,"") | BG18: =+IF(Sheet1!IW210>Sheet2!$A$1,Sheet1!IW210,"") | BH18: =+IF(Sheet1!IX210>Sheet2!$A$1,Sheet1!IX210,"") | BI18: =+IF(Sheet1!IY210>Sheet2!$A$1,Sheet1!IY210,"") | BJ18: =+IF(Sheet1!IZ210>Sheet2!$A$1,Sheet1!IZ210,"")
A19: φ-MhaA1-PHL101 | B19: NC_008201 | C19: =+IF(Sheet1!FP211>Sheet2!$A$1,Sheet1!FP211,"") | D19: =+IF(Sheet1!IR211>Sheet2!$A$1,Sheet1!IR211,"") | E19: =+IF(Sheet1!HN211>Sheet2!$A$1,Sheet1!HN211,"") | F19: =+IF(Sheet1!HO211>Sheet2!$A$1,Sheet1!HO211,"") | G19: =+IF(Sheet1!HL211>Sheet2!$A$1,Sheet1!HL211,"") -> 14.583333 | H19: =+IF(Sheet1!HM211>Sheet2!$A$1,Sheet1!HM211,"") -> 14.583333 | I19: =+IF(Sheet1!HK211>Sheet2!$A$1,Sheet1!HK211,"") -> 16.666667 | J19: =+IF(Sheet1!GT211>Sheet2!$A$1,Sheet1!GT211,"") -> 43.75 | K19: =+IF(Sheet1!GU211>Sheet2!$A$1,Sheet1!GU211,"") -> 37.5 | L19: =+IF(Sheet1!GV211>Sheet2!$A$1,Sheet1!GV211,"") -> 27.083333 | M19: =+IF(Sheet1!GW211>Sheet2!$A$1,Sheet1!GW211,"") -> 27.083333 | N19: =+IF(Sheet1!GX211>Sheet2!$A$1,Sheet1!GX211,"") -> 45.833333 | O19: =+IF(Sheet1!GY211>Sheet2!$A$1,Sheet1!GY211,"") -> 47.916667 | P19: =+IF(Sheet1!GZ211>Sheet2!$A$1,Sheet1!GZ211,"") -> 45.833333 | Q19: =+IF(Sheet1!HA211>Sheet2!$A$1,Sheet1!HA211,"") -> 45.833333 | ... Z19: =+IF(Sheet1!HJ211>Sheet2!$A$1,Sheet1!HJ211,"") -> 16.666667 | AA19: =+IF(Sheet1!HP211>Sheet2!$A$1,Sheet1!HP211,"") | AB19: =+IF(Sheet1!HQ211>Sheet2!$A$1,Sheet1!HQ211,"") | AC19: =+IF(Sheet1!HR211>Sheet2!$A$1,Sheet1!HR211,"") | AD19: =+IF(Sheet1!HS211>Sheet2!$A$1,Sheet1!HS211,"") | AE19: =+IF(Sheet1!HT211>Sheet2!$A$1,Sheet1!HT211,"") | AF19: =+IF(Sheet1!HU211>Sheet2!$A$1,Sheet1!HU211,"") | AG19: =+IF(Sheet1!HV211>Sheet2!$A$1,Sheet1!HV211,"") | AH19: =+IF(Sheet1!HW211>Sheet2!$A$1,Sheet1!HW211,"") | ... BB19: =+IF(Sheet1!IQ211>Sheet2!$A$1,Sheet1!IQ211,"") | BC19: =+IF(Sheet1!IS211>Sheet2!$A$1,Sheet1!IS211,"") | BD19: =+IF(Sheet1!IT211>Sheet2!$A$1,Sheet1!IT211,"") | BE19: =+IF(Sheet1!IU211>Sheet2!$A$1,Sheet1!IU211,"") | BF19: =+IF(Sheet1!IV211>Sheet2!$A$1,Sheet1!IV211,"") | BG19: =+IF(Sheet1!IW211>Sheet2!$A$1,Sheet1!IW211,"") | BH19: =+IF(Sheet1!IX211>Sheet2!$A$1,Sheet1!IX211,"") | BI19: =+IF(Sheet1!IY211>Sheet2!$A$1,Sheet1!IY211,"") | BJ19: =+IF(Sheet1!IZ211>Sheet2!$A$1,Sheet1!IZ211,"")
A20: VHML | B20: NC_004456 | C20: =+IF(Sheet1!FP212>Sheet2!$A$1,Sheet1!FP212,"") | D20: =+IF(Sheet1!IR212>Sheet2!$A$1,Sheet1!IR212,"") | E20: =+IF(Sheet1!HN212>Sheet2!$A$1,Sheet1!HN212,"") | F20: =+IF(Sheet1!HO212>Sheet2!$A$1,Sheet1!HO212,"") | G20: =+IF(Sheet1!HL212>Sheet2!$A$1,Sheet1!HL212,"") -> 12.5 | H20: =+IF(Sheet1!HM212>Sheet2!$A$1,Sheet1!HM212,"") -> 10.714286 | I20: =+IF(Sheet1!HK212>Sheet2!$A$1,Sheet1!HK212,"") -> 12.5 | J20: =+IF(Sheet1!GT212>Sheet2!$A$1,Sheet1!GT212,"") -> 19.642857 | K20: =+IF(Sheet1!GU212>Sheet2!$A$1,Sheet1!GU212,"") -> 19.642857 | L20: =+IF(Sheet1!GV212>Sheet2!$A$1,Sheet1!GV212,"") -> 19.642857 | M20: =+IF(Sheet1!GW212>Sheet2!$A$1,Sheet1!GW212,"") -> 16.071429 | N20: =+IF(Sheet1!GX212>Sheet2!$A$1,Sheet1!GX212,"") -> 23.214286 | O20: =+IF(Sheet1!GY212>Sheet2!$A$1,Sheet1!GY212,"") -> 21.428571 | P20: =+IF(Sheet1!GZ212>Sheet2!$A$1,Sheet1!GZ212,"") -> 19.642857 | Q20: =+IF(Sheet1!HA212>Sheet2!$A$1,Sheet1!HA212,"") -> 21.428571 | ... Z20: =+IF(Sheet1!HJ212>Sheet2!$A$1,Sheet1!HJ212,"") | AA20: =+IF(Sheet1!HP212>Sheet2!$A$1,Sheet1!HP212,"") | AB20: =+IF(Sheet1!HQ212>Sheet2!$A$1,Sheet1!HQ212,"") | AC20: =+IF(Sheet1!HR212>Sheet2!$A$1,Sheet1!HR212,"") | AD20: =+IF(Sheet1!HS212>Sheet2!$A$1,Sheet1!HS212,"") | AE20: =+IF(Sheet1!HT212>Sheet2!$A$1,Sheet1!HT212,"") | AF20: =+IF(Sheet1!HU212>Sheet2!$A$1,Sheet1!HU212,"") | AG20: =+IF(Sheet1!HV212>Sheet2!$A$1,Sheet1!HV212,"") | AH20: =+IF(Sheet1!HW212>Sheet2!$A$1,Sheet1!HW212,"") | ... BB20: =+IF(Sheet1!IQ212>Sheet2!$A$1,Sheet1!IQ212,"") | BC20: =+IF(Sheet1!IS212>Sheet2!$A$1,Sheet1!IS212,"") | BD20: =+IF(Sheet1!IT212>Sheet2!$A$1,Sheet1!IT212,"") | BE20: =+IF(Sheet1!IU212>Sheet2!$A$1,Sheet1!IU212,"") | BF20: =+IF(Sheet1!IV212>Sheet2!$A$1,Sheet1!IV212,"") | BG20: =+IF(Sheet1!IW212>Sheet2!$A$1,Sheet1!IW212,"") | BH20: =+IF(Sheet1!IX212>Sheet2!$A$1,Sheet1!IX212,"") | BI20: =+IF(Sheet1!IY212>Sheet2!$A$1,Sheet1!IY212,"") | BJ20: =+IF(Sheet1!IZ212>Sheet2!$A$1,Sheet1!IZ212,"")
A21: VP882 | B21: NC_009016 | C21: =+IF(Sheet1!FP213>Sheet2!$A$1,Sheet1!FP213,"") | D21: =+IF(Sheet1!IR213>Sheet2!$A$1,Sheet1!IR213,"") | E21: =+IF(Sheet1!HN213>Sheet2!$A$1,Sheet1!HN213,"") | F21: =+IF(Sheet1!HO213>Sheet2!$A$1,Sheet1!HO213,"") | G21: =+IF(Sheet1!HL213>Sheet2!$A$1,Sheet1!HL213,"") | H21: =+IF(Sheet1!HM213>Sheet2!$A$1,Sheet1!HM213,"") | I21: =+IF(Sheet1!HK213>Sheet2!$A$1,Sheet1!HK213,"") | J21: =+IF(Sheet1!GT213>Sheet2!$A$1,Sheet1!GT213,"") -> 12.676056 | K21: =+IF(Sheet1!GU213>Sheet2!$A$1,Sheet1!GU213,"") -> 12.676056 | L21: =+IF(Sheet1!GV213>Sheet2!$A$1,Sheet1!GV213,"") -> 12.676056 | M21: =+IF(Sheet1!GW213>Sheet2!$A$1,Sheet1!GW213,"") | N21: =+IF(Sheet1!GX213>Sheet2!$A$1,Sheet1!GX213,"") -> 15.492958 | O21: =+IF(Sheet1!GY213>Sheet2!$A$1,Sheet1!GY213,"") -> 12.676056 | P21: =+IF(Sheet1!GZ213>Sheet2!$A$1,Sheet1!GZ213,"") -> 14.084507 | Q21: =+IF(Sheet1!HA213>Sheet2!$A$1,Sheet1!HA213,"") -> 14.084507 | ... Z21: =+IF(Sheet1!HJ213>Sheet2!$A$1,Sheet1!HJ213,"") | AA21: =+IF(Sheet1!HP213>Sheet2!$A$1,Sheet1!HP213,"") | AB21: =+IF(Sheet1!HQ213>Sheet2!$A$1,Sheet1!HQ213,"") | AC21: =+IF(Sheet1!HR213>Sheet2!$A$1,Sheet1!HR213,"") | AD21: =+IF(Sheet1!HS213>Sheet2!$A$1,Sheet1!HS213,"") | AE21: =+IF(Sheet1!HT213>Sheet2!$A$1,Sheet1!HT213,"") | AF21: =+IF(Sheet1!HU213>Sheet2!$A$1,Sheet1!HU213,"") | AG21: =+IF(Sheet1!HV213>Sheet2!$A$1,Sheet1!HV213,"") | AH21: =+IF(Sheet1!HW213>Sheet2!$A$1,Sheet1!HW213,"") | ... BB21: =+IF(Sheet1!IQ213>Sheet2!$A$1,Sheet1!IQ213,"") | BC21: =+IF(Sheet1!IS213>Sheet2!$A$1,Sheet1!IS213,"") | BD21: =+IF(Sheet1!IT213>Sheet2!$A$1,Sheet1!IT213,"") | BE21: =+IF(Sheet1!IU213>Sheet2!$A$1,Sheet1!IU213,"") | BF21: =+IF(Sheet1!IV213>Sheet2!$A$1,Sheet1!IV213,"") | BG21: =+IF(Sheet1!IW213>Sheet2!$A$1,Sheet1!IW213,"") | BH21: =+IF(Sheet1!IX213>Sheet2!$A$1,Sheet1!IX213,"") | BI21: =+IF(Sheet1!IY213>Sheet2!$A$1,Sheet1!IY213,"") | BJ21: =+IF(Sheet1!IZ213>Sheet2!$A$1,Sheet1!IZ213,"")
A22: F108 | B22: NC_008193 | C22: =+IF(Sheet1!FP214>Sheet2!$A$1,Sheet1!FP214,"") | D22: =+IF(Sheet1!IR214>Sheet2!$A$1,Sheet1!IR214,"") | E22: =+IF(Sheet1!HN214>Sheet2!$A$1,Sheet1!HN214,"") | F22: =+IF(Sheet1!HO214>Sheet2!$A$1,Sheet1!HO214,"") | G22: =+IF(Sheet1!HL214>Sheet2!$A$1,Sheet1!HL214,"") | H22: =+IF(Sheet1!HM214>Sheet2!$A$1,Sheet1!HM214,"") | I22: =+IF(Sheet1!HK214>Sheet2!$A$1,Sheet1!HK214,"") | J22: =+IF(Sheet1!GT214>Sheet2!$A$1,Sheet1!GT214,"") -> 11.627907 | K22: =+IF(Sheet1!GU214>Sheet2!$A$1,Sheet1!GU214,"") -> 16.27907 | L22: =+IF(Sheet1!GV214>Sheet2!$A$1,Sheet1!GV214,"") | M22: =+IF(Sheet1!GW214>Sheet2!$A$1,Sheet1!GW214,"") | N22: =+IF(Sheet1!GX214>Sheet2!$A$1,Sheet1!GX214,"") -> 20.930233 | O22: =+IF(Sheet1!GY214>Sheet2!$A$1,Sheet1!GY214,"") -> 18.604651 | P22: =+IF(Sheet1!GZ214>Sheet2!$A$1,Sheet1!GZ214,"") -> 20.930233 | Q22: =+IF(Sheet1!HA214>Sheet2!$A$1,Sheet1!HA214,"") -> 16.27907 | ... Z22: =+IF(Sheet1!HJ214>Sheet2!$A$1,Sheet1!HJ214,"") -> 55.813953 | AA22: =+IF(Sheet1!HP214>Sheet2!$A$1,Sheet1!HP214,"") | AB22: =+IF(Sheet1!HQ214>Sheet2!$A$1,Sheet1!HQ214,"") | AC22: =+IF(Sheet1!HR214>Sheet2!$A$1,Sheet1!HR214,"") | AD22: =+IF(Sheet1!HS214>Sheet2!$A$1,Sheet1!HS214,"") | AE22: =+IF(Sheet1!HT214>Sheet2!$A$1,Sheet1!HT214,"") | AF22: =+IF(Sheet1!HU214>Sheet2!$A$1,Sheet1!HU214,"") | AG22: =+IF(Sheet1!HV214>Sheet2!$A$1,Sheet1!HV214,"") | AH22: =+IF(Sheet1!HW214>Sheet2!$A$1,Sheet1!HW214,"") | ... BB22: =+IF(Sheet1!IQ214>Sheet2!$A$1,Sheet1!IQ214,"") | BC22: =+IF(Sheet1!IS214>Sheet2!$A$1,Sheet1!IS214,"") | BD22: =+IF(Sheet1!IT214>Sheet2!$A$1,Sheet1!IT214,"") | BE22: =+IF(Sheet1!IU214>Sheet2!$A$1,Sheet1!IU214,"") | BF22: =+IF(Sheet1!IV214>Sheet2!$A$1,Sheet1!IV214,"") | BG22: =+IF(Sheet1!IW214>Sheet2!$A$1,Sheet1!IW214,"") | BH22: =+IF(Sheet1!IX214>Sheet2!$A$1,Sheet1!IX214,"") | BI22: =+IF(Sheet1!IY214>Sheet2!$A$1,Sheet1!IY214,"") | BJ22: =+IF(Sheet1!IZ214>Sheet2!$A$1,Sheet1!IZ214,"")
A23: HP1 | B23: NC_001697 | C23: =+IF(Sheet1!FP215>Sheet2!$A$1,Sheet1!FP215,"") | D23: =+IF(Sheet1!IR215>Sheet2!$A$1,Sheet1!IR215,"") | E23: =+IF(Sheet1!HN215>Sheet2!$A$1,Sheet1!HN215,"") | F23: =+IF(Sheet1!HO215>Sheet2!$A$1,Sheet1!HO215,"") | G23: =+IF(Sheet1!HL215>Sheet2!$A$1,Sheet1!HL215,"") | H23: =+IF(Sheet1!HM215>Sheet2!$A$1,Sheet1!HM215,"") | I23: =+IF(Sheet1!HK215>Sheet2!$A$1,Sheet1!HK215,"") | J23: =+IF(Sheet1!GT215>Sheet2!$A$1,Sheet1!GT215,"") -> 14.634146 | K23: =+IF(Sheet1!GU215>Sheet2!$A$1,Sheet1!GU215,"") -> 17.073171 | L23: =+IF(Sheet1!GV215>Sheet2!$A$1,Sheet1!GV215,"") | M23: =+IF(Sheet1!GW215>Sheet2!$A$1,Sheet1!GW215,"") | N23: =+IF(Sheet1!GX215>Sheet2!$A$1,Sheet1!GX215,"") -> 24.390244 | O23: =+IF(Sheet1!GY215>Sheet2!$A$1,Sheet1!GY215,"") -> 21.95122 | P23: =+IF(Sheet1!GZ215>Sheet2!$A$1,Sheet1!GZ215,"") -> 24.390244 | Q23: =+IF(Sheet1!HA215>Sheet2!$A$1,Sheet1!HA215,"") -> 21.95122 | ... Z23: =+IF(Sheet1!HJ215>Sheet2!$A$1,Sheet1!HJ215,"") -> 56.097561 | AA23: =+IF(Sheet1!HP215>Sheet2!$A$1,Sheet1!HP215,"") | AB23: =+IF(Sheet1!HQ215>Sheet2!$A$1,Sheet1!HQ215,"") | AC23: =+IF(Sheet1!HR215>Sheet2!$A$1,Sheet1!HR215,"") | AD23: =+IF(Sheet1!HS215>Sheet2!$A$1,Sheet1!HS215,"") | AE23: =+IF(Sheet1!HT215>Sheet2!$A$1,Sheet1!HT215,"") | AF23: =+IF(Sheet1!HU215>Sheet2!$A$1,Sheet1!HU215,"") | AG23: =+IF(Sheet1!HV215>Sheet2!$A$1,Sheet1!HV215,"") | AH23: =+IF(Sheet1!HW215>Sheet2!$A$1,Sheet1!HW215,"") | ... BB23: =+IF(Sheet1!IQ215>Sheet2!$A$1,Sheet1!IQ215,"") | BC23: =+IF(Sheet1!IS215>Sheet2!$A$1,Sheet1!IS215,"") | BD23: =+IF(Sheet1!IT215>Sheet2!$A$1,Sheet1!IT215,"") | BE23: =+IF(Sheet1!IU215>Sheet2!$A$1,Sheet1!IU215,"") | BF23: =+IF(Sheet1!IV215>Sheet2!$A$1,Sheet1!IV215,"") | BG23: =+IF(Sheet1!IW215>Sheet2!$A$1,Sheet1!IW215,"") | BH23: =+IF(Sheet1!IX215>Sheet2!$A$1,Sheet1!IX215,"") | BI23: =+IF(Sheet1!IY215>Sheet2!$A$1,Sheet1!IY215,"") | BJ23: =+IF(Sheet1!IZ215>Sheet2!$A$1,Sheet1!IZ215,"")
A24: HP2 | B24: NC_003315 | C24: =+IF(Sheet1!FP216>Sheet2!$A$1,Sheet1!FP216,"") | D24: =+IF(Sheet1!IR216>Sheet2!$A$1,Sheet1!IR216,"") | E24: =+IF(Sheet1!HN216>Sheet2!$A$1,Sheet1!HN216,"") | F24: =+IF(Sheet1!HO216>Sheet2!$A$1,Sheet1!HO216,"") | G24: =+IF(Sheet1!HL216>Sheet2!$A$1,Sheet1!HL216,"") | H24: =+IF(Sheet1!HM216>Sheet2!$A$1,Sheet1!HM216,"") | I24: =+IF(Sheet1!HK216>Sheet2!$A$1,Sheet1!HK216,"") | J24: =+IF(Sheet1!GT216>Sheet2!$A$1,Sheet1!GT216,"") -> 16.666667 | K24: =+IF(Sheet1!GU216>Sheet2!$A$1,Sheet1!GU216,"") -> 16.666667 | L24: =+IF(Sheet1!GV216>Sheet2!$A$1,Sheet1!GV216,"") | M24: =+IF(Sheet1!GW216>Sheet2!$A$1,Sheet1!GW216,"") | N24: =+IF(Sheet1!GX216>Sheet2!$A$1,Sheet1!GX216,"") -> 27.777778 | O24: =+IF(Sheet1!GY216>Sheet2!$A$1,Sheet1!GY216,"") -> 25 | P24: =+IF(Sheet1!GZ216>Sheet2!$A$1,Sheet1!GZ216,"") -> 27.777778 | Q24: =+IF(Sheet1!HA216>Sheet2!$A$1,Sheet1!HA216,"") -> 25 | ... Z24: =+IF(Sheet1!HJ216>Sheet2!$A$1,Sheet1!HJ216,"") -> 61.111111 | AA24: =+IF(Sheet1!HP216>Sheet2!$A$1,Sheet1!HP216,"") | AB24: =+IF(Sheet1!HQ216>Sheet2!$A$1,Sheet1!HQ216,"") | AC24: =+IF(Sheet1!HR216>Sheet2!$A$1,Sheet1!HR216,"") | AD24: =+IF(Sheet1!HS216>Sheet2!$A$1,Sheet1!HS216,"") | AE24: =+IF(Sheet1!HT216>Sheet2!$A$1,Sheet1!HT216,"") | AF24: =+IF(Sheet1!HU216>Sheet2!$A$1,Sheet1!HU216,"") | AG24: =+IF(Sheet1!HV216>Sheet2!$A$1,Sheet1!HV216,"") | AH24: =+IF(Sheet1!HW216>Sheet2!$A$1,Sheet1!HW216,"") | ... BB24: =+IF(Sheet1!IQ216>Sheet2!$A$1,Sheet1!IQ216,"") | BC24: =+IF(Sheet1!IS216>Sheet2!$A$1,Sheet1!IS216,"") | BD24: =+IF(Sheet1!IT216>Sheet2!$A$1,Sheet1!IT216,"") | BE24: =+IF(Sheet1!IU216>Sheet2!$A$1,Sheet1!IU216,"") | BF24: =+IF(Sheet1!IV216>Sheet2!$A$1,Sheet1!IV216,"") | BG24: =+IF(Sheet1!IW216>Sheet2!$A$1,Sheet1!IW216,"") | BH24: =+IF(Sheet1!IX216>Sheet2!$A$1,Sheet1!IX216,"") | BI24: =+IF(Sheet1!IY216>Sheet2!$A$1,Sheet1!IY216,"") | BJ24: =+IF(Sheet1!IZ216>Sheet2!$A$1,Sheet1!IZ216,"")
A25: K139 | B25: NC_003313 | C25: =+IF(Sheet1!FP217>Sheet2!$A$1,Sheet1!FP217,"") | D25: =+IF(Sheet1!IR217>Sheet2!$A$1,Sheet1!IR217,"") | E25: =+IF(Sheet1!HN217>Sheet2!$A$1,Sheet1!HN217,"") | F25: =+IF(Sheet1!HO217>Sheet2!$A$1,Sheet1!HO217,"") | G25: =+IF(Sheet1!HL217>Sheet2!$A$1,Sheet1!HL217,"") | H25: =+IF(Sheet1!HM217>Sheet2!$A$1,Sheet1!HM217,"") | I25: =+IF(Sheet1!HK217>Sheet2!$A$1,Sheet1!HK217,"") | J25: =+IF(Sheet1!GT217>Sheet2!$A$1,Sheet1!GT217,"") -> 16.27907 | K25: =+IF(Sheet1!GU217>Sheet2!$A$1,Sheet1!GU217,"") -> 16.27907 | L25: =+IF(Sheet1!GV217>Sheet2!$A$1,Sheet1!GV217,"") | M25: =+IF(Sheet1!GW217>Sheet2!$A$1,Sheet1!GW217,"") | N25: =+IF(Sheet1!GX217>Sheet2!$A$1,Sheet1!GX217,"") -> 23.255814 | O25: =+IF(Sheet1!GY217>Sheet2!$A$1,Sheet1!GY217,"") -> 18.604651 | P25: =+IF(Sheet1!GZ217>Sheet2!$A$1,Sheet1!GZ217,"") -> 27.906977 | Q25: =+IF(Sheet1!HA217>Sheet2!$A$1,Sheet1!HA217,"") -> 18.604651 | ... Z25: =+IF(Sheet1!HJ217>Sheet2!$A$1,Sheet1!HJ217,"") -> 100 | AA25: =+IF(Sheet1!HP217>Sheet2!$A$1,Sheet1!HP217,"") | AB25: =+IF(Sheet1!HQ217>Sheet2!$A$1,Sheet1!HQ217,"") | AC25: =+IF(Sheet1!HR217>Sheet2!$A$1,Sheet1!HR217,"") | AD25: =+IF(Sheet1!HS217>Sheet2!$A$1,Sheet1!HS217,"") | AE25: =+IF(Sheet1!HT217>Sheet2!$A$1,Sheet1!HT217,"") | AF25: =+IF(Sheet1!HU217>Sheet2!$A$1,Sheet1!HU217,"") | AG25: =+IF(Sheet1!HV217>Sheet2!$A$1,Sheet1!HV217,"") | AH25: =+IF(Sheet1!HW217>Sheet2!$A$1,Sheet1!HW217,"") | ... BB25: =+IF(Sheet1!IQ217>Sheet2!$A$1,Sheet1!IQ217,"") | BC25: =+IF(Sheet1!IS217>Sheet2!$A$1,Sheet1!IS217,"") | BD25: =+IF(Sheet1!IT217>Sheet2!$A$1,Sheet1!IT217,"") | BE25: =+IF(Sheet1!IU217>Sheet2!$A$1,Sheet1!IU217,"") | BF25: =+IF(Sheet1!IV217>Sheet2!$A$1,Sheet1!IV217,"") | BG25: =+IF(Sheet1!IW217>Sheet2!$A$1,Sheet1!IW217,"") | BH25: =+IF(Sheet1!IX217>Sheet2!$A$1,Sheet1!IX217,"") | BI25: =+IF(Sheet1!IY217>Sheet2!$A$1,Sheet1!IY217,"") | BJ25: =+IF(Sheet1!IZ217>Sheet2!$A$1,Sheet1!IZ217,"")
A26: 25 | B26: NC_008208 | C26: =+IF(Sheet1!FP223>Sheet2!$A$1,Sheet1!FP223,"") | D26: =+IF(Sheet1!IR223>Sheet2!$A$1,Sheet1!IR223,"") | E26: =+IF(Sheet1!HN223>Sheet2!$A$1,Sheet1!HN223,"") | F26: =+IF(Sheet1!HO223>Sheet2!$A$1,Sheet1!HO223,"") | G26: =+IF(Sheet1!HL223>Sheet2!$A$1,Sheet1!HL223,"") | H26: =+IF(Sheet1!HM223>Sheet2!$A$1,Sheet1!HM223,"") | I26: =+IF(Sheet1!HK223>Sheet2!$A$1,Sheet1!HK223,"") | J26: =+IF(Sheet1!GT223>Sheet2!$A$1,Sheet1!GT223,"") | K26: =+IF(Sheet1!GU223>Sheet2!$A$1,Sheet1!GU223,"") | L26: =+IF(Sheet1!GV223>Sheet2!$A$1,Sheet1!GV223,"") | M26: =+IF(Sheet1!GW223>Sheet2!$A$1,Sheet1!GW223,"") | N26: =+IF(Sheet1!GX223>Sheet2!$A$1,Sheet1!GX223,"") | O26: =+IF(Sheet1!GY223>Sheet2!$A$1,Sheet1!GY223,"") | P26: =+IF(Sheet1!GZ223>Sheet2!$A$1,Sheet1!GZ223,"") | Q26: =+IF(Sheet1!HA223>Sheet2!$A$1,Sheet1!HA223,"") | ... Z26: =+IF(Sheet1!HJ223>Sheet2!$A$1,Sheet1!HJ223,"") | AA26: =+IF(Sheet1!HP223>Sheet2!$A$1,Sheet1!HP223,"") -> 100 | AB26: =+IF(Sheet1!HQ223>Sheet2!$A$1,Sheet1!HQ223,"") -> 83.682008 | AC26: =+IF(Sheet1!HR223>Sheet2!$A$1,Sheet1!HR223,"") -> 78.242678 | AD26: =+IF(Sheet1!HS223>Sheet2!$A$1,Sheet1!HS223,"") -> 41.422594 | AE26: =+IF(Sheet1!HT223>Sheet2!$A$1,Sheet1!HT223,"") -> 43.096234 | AF26: =+IF(Sheet1!HU223>Sheet2!$A$1,Sheet1!HU223,"") -> 44.351464 | AG26: =+IF(Sheet1!HV223>Sheet2!$A$1,Sheet1!HV223,"") -> 38.912134 | AH26: =+IF(Sheet1!HW223>Sheet2!$A$1,Sheet1!HW223,"") -> 35.564854 | ... BB26: =+IF(Sheet1!IQ223>Sheet2!$A$1,Sheet1!IQ223,"") | BC26: =+IF(Sheet1!IS223>Sheet2!$A$1,Sheet1!IS223,"") | BD26: =+IF(Sheet1!IT223>Sheet2!$A$1,Sheet1!IT223,"") | BE26: =+IF(Sheet1!IU223>Sheet2!$A$1,Sheet1!IU223,"") | BF26: =+IF(Sheet1!IV223>Sheet2!$A$1,Sheet1!IV223,"") | BG26: =+IF(Sheet1!IW223>Sheet2!$A$1,Sheet1!IW223,"") | BH26: =+IF(Sheet1!IX223>Sheet2!$A$1,Sheet1!IX223,"") | BI26: =+IF(Sheet1!IY223>Sheet2!$A$1,Sheet1!IY223,"") | BJ26: =+IF(Sheet1!IZ223>Sheet2!$A$1,Sheet1!IZ223,"")
A27: 31 | B27: NC_007022 | C27: =+IF(Sheet1!FP224>Sheet2!$A$1,Sheet1!FP224,"") | D27: =+IF(Sheet1!IR224>Sheet2!$A$1,Sheet1!IR224,"") | E27: =+IF(Sheet1!HN224>Sheet2!$A$1,Sheet1!HN224,"") | F27: =+IF(Sheet1!HO224>Sheet2!$A$1,Sheet1!HO224,"") | G27: =+IF(Sheet1!HL224>Sheet2!$A$1,Sheet1!HL224,"") | H27: =+IF(Sheet1!HM224>Sheet2!$A$1,Sheet1!HM224,"") | I27: =+IF(Sheet1!HK224>Sheet2!$A$1,Sheet1!HK224,"") | J27: =+IF(Sheet1!GT224>Sheet2!$A$1,Sheet1!GT224,"") | K27: =+IF(Sheet1!GU224>Sheet2!$A$1,Sheet1!GU224,"") | L27: =+IF(Sheet1!GV224>Sheet2!$A$1,Sheet1!GV224,"") | M27: =+IF(Sheet1!GW224>Sheet2!$A$1,Sheet1!GW224,"") | N27: =+IF(Sheet1!GX224>Sheet2!$A$1,Sheet1!GX224,"") | O27: =+IF(Sheet1!GY224>Sheet2!$A$1,Sheet1!GY224,"") | P27: =+IF(Sheet1!GZ224>Sheet2!$A$1,Sheet1!GZ224,"") | Q27: =+IF(Sheet1!HA224>Sheet2!$A$1,Sheet1!HA224,"") | ... Z27: =+IF(Sheet1!HJ224>Sheet2!$A$1,Sheet1!HJ224,"") | AA27: =+IF(Sheet1!HP224>Sheet2!$A$1,Sheet1!HP224,"") -> 82.304527 | AB27: =+IF(Sheet1!HQ224>Sheet2!$A$1,Sheet1!HQ224,"") -> 100 | AC27: =+IF(Sheet1!HR224>Sheet2!$A$1,Sheet1!HR224,"") -> 93.82716 | AD27: =+IF(Sheet1!HS224>Sheet2!$A$1,Sheet1!HS224,"") -> 41.975309 | AE27: =+IF(Sheet1!HT224>Sheet2!$A$1,Sheet1!HT224,"") -> 43.209877 | AF27: =+IF(Sheet1!HU224>Sheet2!$A$1,Sheet1!HU224,"") -> 42.386831 | AG27: =+IF(Sheet1!HV224>Sheet2!$A$1,Sheet1!HV224,"") -> 39.506173 | AH27: =+IF(Sheet1!HW224>Sheet2!$A$1,Sheet1!HW224,"") -> 37.44856 | ... BB27: =+IF(Sheet1!IQ224>Sheet2!$A$1,Sheet1!IQ224,"") | BC27: =+IF(Sheet1!IS224>Sheet2!$A$1,Sheet1!IS224,"") | BD27: =+IF(Sheet1!IT224>Sheet2!$A$1,Sheet1!IT224,"") | BE27: =+IF(Sheet1!IU224>Sheet2!$A$1,Sheet1!IU224,"") | BF27: =+IF(Sheet1!IV224>Sheet2!$A$1,Sheet1!IV224,"") | BG27: =+IF(Sheet1!IW224>Sheet2!$A$1,Sheet1!IW224,"") | BH27: =+IF(Sheet1!IX224>Sheet2!$A$1,Sheet1!IX224,"") | BI27: =+IF(Sheet1!IY224>Sheet2!$A$1,Sheet1!IY224,"") | BJ27: =+IF(Sheet1!IZ224>Sheet2!$A$1,Sheet1!IZ224,"")
A28: 44RR2 | B28: NC_005135 | C28: =+IF(Sheet1!FP225>Sheet2!$A$1,Sheet1!FP225,"") | D28: =+IF(Sheet1!IR225>Sheet2!$A$1,Sheet1!IR225,"") | E28: =+IF(Sheet1!HN225>Sheet2!$A$1,Sheet1!HN225,"") | F28: =+IF(Sheet1!HO225>Sheet2!$A$1,Sheet1!HO225,"") | G28: =+IF(Sheet1!HL225>Sheet2!$A$1,Sheet1!HL225,"") | H28: =+IF(Sheet1!HM225>Sheet2!$A$1,Sheet1!HM225,"") | I28: =+IF(Sheet1!HK225>Sheet2!$A$1,Sheet1!HK225,"") | J28: =+IF(Sheet1!GT225>Sheet2!$A$1,Sheet1!GT225,"") | K28: =+IF(Sheet1!GU225>Sheet2!$A$1,Sheet1!GU225,"") | L28: =+IF(Sheet1!GV225>Sheet2!$A$1,Sheet1!GV225,"") | M28: =+IF(Sheet1!GW225>Sheet2!$A$1,Sheet1!GW225,"") | N28: =+IF(Sheet1!GX225>Sheet2!$A$1,Sheet1!GX225,"") | O28: =+IF(Sheet1!GY225>Sheet2!$A$1,Sheet1!GY225,"") | P28: =+IF(Sheet1!GZ225>Sheet2!$A$1,Sheet1!GZ225,"") | Q28: =+IF(Sheet1!HA225>Sheet2!$A$1,Sheet1!HA225,"") | ... Z28: =+IF(Sheet1!HJ225>Sheet2!$A$1,Sheet1!HJ225,"") | AA28: =+IF(Sheet1!HP225>Sheet2!$A$1,Sheet1!HP225,"") -> 83.057851 | AB28: =+IF(Sheet1!HQ225>Sheet2!$A$1,Sheet1!HQ225,"") -> 100 | AC28: =+IF(Sheet1!HR225>Sheet2!$A$1,Sheet1!HR225,"") -> 96.694215 | AD28: =+IF(Sheet1!HS225>Sheet2!$A$1,Sheet1!HS225,"") -> 42.14876 | AE28: =+IF(Sheet1!HT225>Sheet2!$A$1,Sheet1!HT225,"") -> 43.38843 | AF28: =+IF(Sheet1!HU225>Sheet2!$A$1,Sheet1!HU225,"") -> 42.561983 | AG28: =+IF(Sheet1!HV225>Sheet2!$A$1,Sheet1!HV225,"") -> 39.669421 | AH28: =+IF(Sheet1!HW225>Sheet2!$A$1,Sheet1!HW225,"") -> 37.603306 | ... BB28: =+IF(Sheet1!IQ225>Sheet2!$A$1,Sheet1!IQ225,"") | BC28: =+IF(Sheet1!IS225>Sheet2!$A$1,Sheet1!IS225,"") | BD28: =+IF(Sheet1!IT225>Sheet2!$A$1,Sheet1!IT225,"") | BE28: =+IF(Sheet1!IU225>Sheet2!$A$1,Sheet1!IU225,"") | BF28: =+IF(Sheet1!IV225>Sheet2!$A$1,Sheet1!IV225,"") | BG28: =+IF(Sheet1!IW225>Sheet2!$A$1,Sheet1!IW225,"") | BH28: =+IF(Sheet1!IX225>Sheet2!$A$1,Sheet1!IX225,"") | BI28: =+IF(Sheet1!IY225>Sheet2!$A$1,Sheet1!IY225,"") | BJ28: =+IF(Sheet1!IZ225>Sheet2!$A$1,Sheet1!IZ225,"")
A29: RB69 | B29: NC_004928 | C29: =+IF(Sheet1!FP226>Sheet2!$A$1,Sheet1!FP226,"") | D29: =+IF(Sheet1!IR226>Sheet2!$A$1,Sheet1!IR226,"") | E29: =+IF(Sheet1!HN226>Sheet2!$A$1,Sheet1!HN226,"") | F29: =+IF(Sheet1!HO226>Sheet2!$A$1,Sheet1!HO226,"") | G29: =+IF(Sheet1!HL226>Sheet2!$A$1,Sheet1!HL226,"") | H29: =+IF(Sheet1!HM226>Sheet2!$A$1,Sheet1!HM226,"") | I29: =+IF(Sheet1!HK226>Sheet2!$A$1,Sheet1!HK226,"") | J29: =+IF(Sheet1!GT226>Sheet2!$A$1,Sheet1!GT226,"") | K29: =+IF(Sheet1!GU226>Sheet2!$A$1,Sheet1!GU226,"") | L29: =+IF(Sheet1!GV226>Sheet2!$A$1,Sheet1!GV226,"") | M29: =+IF(Sheet1!GW226>Sheet2!$A$1,Sheet1!GW226,"") | N29: =+IF(Sheet1!GX226>Sheet2!$A$1,Sheet1!GX226,"") | O29: =+IF(Sheet1!GY226>Sheet2!$A$1,Sheet1!GY226,"") | P29: =+IF(Sheet1!GZ226>Sheet2!$A$1,Sheet1!GZ226,"") | Q29: =+IF(Sheet1!HA226>Sheet2!$A$1,Sheet1!HA226,"") | ... Z29: =+IF(Sheet1!HJ226>Sheet2!$A$1,Sheet1!HJ226,"") | AA29: =+IF(Sheet1!HP226>Sheet2!$A$1,Sheet1!HP226,"") -> 40.996169 | AB29: =+IF(Sheet1!HQ226>Sheet2!$A$1,Sheet1!HQ226,"") -> 41.762452 | AC29: =+IF(Sheet1!HR226>Sheet2!$A$1,Sheet1!HR226,"") -> 36.398467 | AD29: =+IF(Sheet1!HS226>Sheet2!$A$1,Sheet1!HS226,"") -> 100 | AE29: =+IF(Sheet1!HT226>Sheet2!$A$1,Sheet1!HT226,"") -> 80.45977 | AF29: =+IF(Sheet1!HU226>Sheet2!$A$1,Sheet1!HU226,"") -> 75.478927 | AG29: =+IF(Sheet1!HV226>Sheet2!$A$1,Sheet1!HV226,"") -> 39.463602 | AH29: =+IF(Sheet1!HW226>Sheet2!$A$1,Sheet1!HW226,"") -> 32.183908 | ... BB29: =+IF(Sheet1!IQ226>Sheet2!$A$1,Sheet1!IQ226,"") | BC29: =+IF(Sheet1!IS226>Sheet2!$A$1,Sheet1!IS226,"") | BD29: =+IF(Sheet1!IT226>Sheet2!$A$1,Sheet1!IT226,"") | BE29: =+IF(Sheet1!IU226>Sheet2!$A$1,Sheet1!IU226,"") | BF29: =+IF(Sheet1!IV226>Sheet2!$A$1,Sheet1!IV226,"") | BG29: =+IF(Sheet1!IW226>Sheet2!$A$1,Sheet1!IW226,"") | BH29: =+IF(Sheet1!IX226>Sheet2!$A$1,Sheet1!IX226,"") | BI29: =+IF(Sheet1!IY226>Sheet2!$A$1,Sheet1!IY226,"") | BJ29: =+IF(Sheet1!IZ226>Sheet2!$A$1,Sheet1!IZ226,"")
A30: RB32 | B30: NC_008515 | C30: =+IF(Sheet1!FP227>Sheet2!$A$1,Sheet1!FP227,"") | D30: =+IF(Sheet1!IR227>Sheet2!$A$1,Sheet1!IR227,"") | E30: =+IF(Sheet1!HN227>Sheet2!$A$1,Sheet1!HN227,"") | F30: =+IF(Sheet1!HO227>Sheet2!$A$1,Sheet1!HO227,"") | G30: =+IF(Sheet1!HL227>Sheet2!$A$1,Sheet1!HL227,"") | H30: =+IF(Sheet1!HM227>Sheet2!$A$1,Sheet1!HM227,"") | I30: =+IF(Sheet1!HK227>Sheet2!$A$1,Sheet1!HK227,"") | J30: =+IF(Sheet1!GT227>Sheet2!$A$1,Sheet1!GT227,"") | K30: =+IF(Sheet1!GU227>Sheet2!$A$1,Sheet1!GU227,"") | L30: =+IF(Sheet1!GV227>Sheet2!$A$1,Sheet1!GV227,"") | M30: =+IF(Sheet1!GW227>Sheet2!$A$1,Sheet1!GW227,"") | N30: =+IF(Sheet1!GX227>Sheet2!$A$1,Sheet1!GX227,"") | O30: =+IF(Sheet1!GY227>Sheet2!$A$1,Sheet1!GY227,"") | P30: =+IF(Sheet1!GZ227>Sheet2!$A$1,Sheet1!GZ227,"") | Q30: =+IF(Sheet1!HA227>Sheet2!$A$1,Sheet1!HA227,"") | ... Z30: =+IF(Sheet1!HJ227>Sheet2!$A$1,Sheet1!HJ227,"") | AA30: =+IF(Sheet1!HP227>Sheet2!$A$1,Sheet1!HP227,"") -> 42.145594 | AB30: =+IF(Sheet1!HQ227>Sheet2!$A$1,Sheet1!HQ227,"") -> 40.613027 | AC30: =+IF(Sheet1!HR227>Sheet2!$A$1,Sheet1!HR227,"") -> 35.632184 | AD30: =+IF(Sheet1!HS227>Sheet2!$A$1,Sheet1!HS227,"") -> 76.628352 | AE30: =+IF(Sheet1!HT227>Sheet2!$A$1,Sheet1!HT227,"") -> 100 | AF30: =+IF(Sheet1!HU227>Sheet2!$A$1,Sheet1!HU227,"") -> 90.038314 | AG30: =+IF(Sheet1!HV227>Sheet2!$A$1,Sheet1!HV227,"") -> 40.613027 | AH30: =+IF(Sheet1!HW227>Sheet2!$A$1,Sheet1!HW227,"") -> 33.716475 | ... BB30: =+IF(Sheet1!IQ227>Sheet2!$A$1,Sheet1!IQ227,"") | BC30: =+IF(Sheet1!IS227>Sheet2!$A$1,Sheet1!IS227,"") | BD30: =+IF(Sheet1!IT227>Sheet2!$A$1,Sheet1!IT227,"") | BE30: =+IF(Sheet1!IU227>Sheet2!$A$1,Sheet1!IU227,"") | BF30: =+IF(Sheet1!IV227>Sheet2!$A$1,Sheet1!IV227,"") | BG30: =+IF(Sheet1!IW227>Sheet2!$A$1,Sheet1!IW227,"") | BH30: =+IF(Sheet1!IX227>Sheet2!$A$1,Sheet1!IX227,"") | BI30: =+IF(Sheet1!IY227>Sheet2!$A$1,Sheet1!IY227,"") | BJ30: =+IF(Sheet1!IZ227>Sheet2!$A$1,Sheet1!IZ227,"")
A31: T4 | B31: NC_000866 | C31: =+IF(Sheet1!FP228>Sheet2!$A$1,Sheet1!FP228,"") | D31: =+IF(Sheet1!IR228>Sheet2!$A$1,Sheet1!IR228,"") | E31: =+IF(Sheet1!HN228>Sheet2!$A$1,Sheet1!HN228,"") | F31: =+IF(Sheet1!HO228>Sheet2!$A$1,Sheet1!HO228,"") | G31: =+IF(Sheet1!HL228>Sheet2!$A$1,Sheet1!HL228,"") | H31: =+IF(Sheet1!HM228>Sheet2!$A$1,Sheet1!HM228,"") | I31: =+IF(Sheet1!HK228>Sheet2!$A$1,Sheet1!HK228,"") | J31: =+IF(Sheet1!GT228>Sheet2!$A$1,Sheet1!GT228,"") | K31: =+IF(Sheet1!GU228>Sheet2!$A$1,Sheet1!GU228,"") | L31: =+IF(Sheet1!GV228>Sheet2!$A$1,Sheet1!GV228,"") | M31: =+IF(Sheet1!GW228>Sheet2!$A$1,Sheet1!GW228,"") | N31: =+IF(Sheet1!GX228>Sheet2!$A$1,Sheet1!GX228,"") | O31: =+IF(Sheet1!GY228>Sheet2!$A$1,Sheet1!GY228,"") | P31: =+IF(Sheet1!GZ228>Sheet2!$A$1,Sheet1!GZ228,"") | Q31: =+IF(Sheet1!HA228>Sheet2!$A$1,Sheet1!HA228,"") | ... Z31: =+IF(Sheet1!HJ228>Sheet2!$A$1,Sheet1!HJ228,"") | AA31: =+IF(Sheet1!HP228>Sheet2!$A$1,Sheet1!HP228,"") -> 44 | AB31: =+IF(Sheet1!HQ228>Sheet2!$A$1,Sheet1!HQ228,"") -> 41.818182 | AC31: =+IF(Sheet1!HR228>Sheet2!$A$1,Sheet1!HR228,"") -> 34.181818 | AD31: =+IF(Sheet1!HS228>Sheet2!$A$1,Sheet1!HS228,"") -> 72 | AE31: =+IF(Sheet1!HT228>Sheet2!$A$1,Sheet1!HT228,"") -> 87.636364 | AF31: =+IF(Sheet1!HU228>Sheet2!$A$1,Sheet1!HU228,"") -> 100 | AG31: =+IF(Sheet1!HV228>Sheet2!$A$1,Sheet1!HV228,"") -> 41.090909 | AH31: =+IF(Sheet1!HW228>Sheet2!$A$1,Sheet1!HW228,"") -> 34.181818 | ... BB31: =+IF(Sheet1!IQ228>Sheet2!$A$1,Sheet1!IQ228,"") | BC31: =+IF(Sheet1!IS228>Sheet2!$A$1,Sheet1!IS228,"") | BD31: =+IF(Sheet1!IT228>Sheet2!$A$1,Sheet1!IT228,"") | BE31: =+IF(Sheet1!IU228>Sheet2!$A$1,Sheet1!IU228,"") | BF31: =+IF(Sheet1!IV228>Sheet2!$A$1,Sheet1!IV228,"") | BG31: =+IF(Sheet1!IW228>Sheet2!$A$1,Sheet1!IW228,"") | BH31: =+IF(Sheet1!IX228>Sheet2!$A$1,Sheet1!IX228,"") | BI31: =+IF(Sheet1!IY228>Sheet2!$A$1,Sheet1!IY228,"") | BJ31: =+IF(Sheet1!IZ228>Sheet2!$A$1,Sheet1!IZ228,"")
A32: RB49 | B32: NC_005066 | C32: =+IF(Sheet1!FP229>Sheet2!$A$1,Sheet1!FP229,"") | D32: =+IF(Sheet1!IR229>Sheet2!$A$1,Sheet1!IR229,"") | E32: =+IF(Sheet1!HN229>Sheet2!$A$1,Sheet1!HN229,"") | F32: =+IF(Sheet1!HO229>Sheet2!$A$1,Sheet1!HO229,"") | G32: =+IF(Sheet1!HL229>Sheet2!$A$1,Sheet1!HL229,"") | H32: =+IF(Sheet1!HM229>Sheet2!$A$1,Sheet1!HM229,"") | I32: =+IF(Sheet1!HK229>Sheet2!$A$1,Sheet1!HK229,"") | J32: =+IF(Sheet1!GT229>Sheet2!$A$1,Sheet1!GT229,"") | K32: =+IF(Sheet1!GU229>Sheet2!$A$1,Sheet1!GU229,"") | L32: =+IF(Sheet1!GV229>Sheet2!$A$1,Sheet1!GV229,"") | M32: =+IF(Sheet1!GW229>Sheet2!$A$1,Sheet1!GW229,"") | N32: =+IF(Sheet1!GX229>Sheet2!$A$1,Sheet1!GX229,"") | O32: =+IF(Sheet1!GY229>Sheet2!$A$1,Sheet1!GY229,"") | P32: =+IF(Sheet1!GZ229>Sheet2!$A$1,Sheet1!GZ229,"") | Q32: =+IF(Sheet1!HA229>Sheet2!$A$1,Sheet1!HA229,"") | ... Z32: =+IF(Sheet1!HJ229>Sheet2!$A$1,Sheet1!HJ229,"") | AA32: =+IF(Sheet1!HP229>Sheet2!$A$1,Sheet1!HP229,"") -> 37.5 | AB32: =+IF(Sheet1!HQ229>Sheet2!$A$1,Sheet1!HQ229,"") -> 37.878788 | AC32: =+IF(Sheet1!HR229>Sheet2!$A$1,Sheet1!HR229,"") -> 33.333333 | AD32: =+IF(Sheet1!HS229>Sheet2!$A$1,Sheet1!HS229,"") -> 39.772727 | AE32: =+IF(Sheet1!HT229>Sheet2!$A$1,Sheet1!HT229,"") -> 42.045455 | AF32: =+IF(Sheet1!HU229>Sheet2!$A$1,Sheet1!HU229,"") -> 41.666667 | AG32: =+IF(Sheet1!HV229>Sheet2!$A$1,Sheet1!HV229,"") -> 100 | AH32: =+IF(Sheet1!HW229>Sheet2!$A$1,Sheet1!HW229,"") -> 33.333333 | ... BB32: =+IF(Sheet1!IQ229>Sheet2!$A$1,Sheet1!IQ229,"") | BC32: =+IF(Sheet1!IS229>Sheet2!$A$1,Sheet1!IS229,"") | BD32: =+IF(Sheet1!IT229>Sheet2!$A$1,Sheet1!IT229,"") | BE32: =+IF(Sheet1!IU229>Sheet2!$A$1,Sheet1!IU229,"") | BF32: =+IF(Sheet1!IV229>Sheet2!$A$1,Sheet1!IV229,"") | BG32: =+IF(Sheet1!IW229>Sheet2!$A$1,Sheet1!IW229,"") | BH32: =+IF(Sheet1!IX229>Sheet2!$A$1,Sheet1!IX229,"") | BI32: =+IF(Sheet1!IY229>Sheet2!$A$1,Sheet1!IY229,"") | BJ32: =+IF(Sheet1!IZ229>Sheet2!$A$1,Sheet1!IZ229,"")
A33: Aeh1 | B33: NC_005260 | C33: =+IF(Sheet1!FP230>Sheet2!$A$1,Sheet1!FP230,"") | D33: =+IF(Sheet1!IR230>Sheet2!$A$1,Sheet1!IR230,"") | E33: =+IF(Sheet1!HN230>Sheet2!$A$1,Sheet1!HN230,"") | F33: =+IF(Sheet1!HO230>Sheet2!$A$1,Sheet1!HO230,"") | G33: =+IF(Sheet1!HL230>Sheet2!$A$1,Sheet1!HL230,"") | H33: =+IF(Sheet1!HM230>Sheet2!$A$1,Sheet1!HM230,"") | I33: =+IF(Sheet1!HK230>Sheet2!$A$1,Sheet1!HK230,"") | J33: =+IF(Sheet1!GT230>Sheet2!$A$1,Sheet1!GT230,"") | K33: =+IF(Sheet1!GU230>Sheet2!$A$1,Sheet1!GU230,"") | L33: =+IF(Sheet1!GV230>Sheet2!$A$1,Sheet1!GV230,"") | M33: =+IF(Sheet1!GW230>Sheet2!$A$1,Sheet1!GW230,"") | N33: =+IF(Sheet1!GX230>Sheet2!$A$1,Sheet1!GX230,"") | O33: =+IF(Sheet1!GY230>Sheet2!$A$1,Sheet1!GY230,"") | P33: =+IF(Sheet1!GZ230>Sheet2!$A$1,Sheet1!GZ230,"") | Q33: =+IF(Sheet1!HA230>Sheet2!$A$1,Sheet1!HA230,"") | ... Z33: =+IF(Sheet1!HJ230>Sheet2!$A$1,Sheet1!HJ230,"") | AA33: =+IF(Sheet1!HP230>Sheet2!$A$1,Sheet1!HP230,"") -> 26.162791 | AB33: =+IF(Sheet1!HQ230>Sheet2!$A$1,Sheet1!HQ230,"") -> 26.453488 | AC33: =+IF(Sheet1!HR230>Sheet2!$A$1,Sheet1!HR230,"") -> 23.837209 | AD33: =+IF(Sheet1!HS230>Sheet2!$A$1,Sheet1!HS230,"") -> 25 | AE33: =+IF(Sheet1!HT230>Sheet2!$A$1,Sheet1!HT230,"") -> 27.034884 | AF33: =+IF(Sheet1!HU230>Sheet2!$A$1,Sheet1!HU230,"") -> 27.906977 | AG33: =+IF(Sheet1!HV230>Sheet2!$A$1,Sheet1!HV230,"") -> 25 | AH33: =+IF(Sheet1!HW230>Sheet2!$A$1,Sheet1!HW230,"") -> 100 | ... BB33: =+IF(Sheet1!IQ230>Sheet2!$A$1,Sheet1!IQ230,"") | BC33: =+IF(Sheet1!IS230>Sheet2!$A$1,Sheet1!IS230,"") | BD33: =+IF(Sheet1!IT230>Sheet2!$A$1,Sheet1!IT230,"") | BE33: =+IF(Sheet1!IU230>Sheet2!$A$1,Sheet1!IU230,"") | BF33: =+IF(Sheet1!IV230>Sheet2!$A$1,Sheet1!IV230,"") | BG33: =+IF(Sheet1!IW230>Sheet2!$A$1,Sheet1!IW230,"") | BH33: =+IF(Sheet1!IX230>Sheet2!$A$1,Sheet1!IX230,"") | BI33: =+IF(Sheet1!IY230>Sheet2!$A$1,Sheet1!IY230,"") | BJ33: =+IF(Sheet1!IZ230>Sheet2!$A$1,Sheet1!IZ230,"")
A34: RB43 | B34: Tulane
A35: KVP40 | B35: NC_005083 | C35: =+IF(Sheet1!FP232>Sheet2!$A$1,Sheet1!FP232,"") | D35: =+IF(Sheet1!IR232>Sheet2!$A$1,Sheet1!IR232,"") | E35: =+IF(Sheet1!HN232>Sheet2!$A$1,Sheet1!HN232,"") | F35: =+IF(Sheet1!HO232>Sheet2!$A$1,Sheet1!HO232,"") | G35: =+IF(Sheet1!HL232>Sheet2!$A$1,Sheet1!HL232,"") | H35: =+IF(Sheet1!HM232>Sheet2!$A$1,Sheet1!HM232,"") | I35: =+IF(Sheet1!HK232>Sheet2!$A$1,Sheet1!HK232,"") | J35: =+IF(Sheet1!GT232>Sheet2!$A$1,Sheet1!GT232,"") | K35: =+IF(Sheet1!GU232>Sheet2!$A$1,Sheet1!GU232,"") | L35: =+IF(Sheet1!GV232>Sheet2!$A$1,Sheet1!GV232,"") | M35: =+IF(Sheet1!GW232>Sheet2!$A$1,Sheet1!GW232,"") | N35: =+IF(Sheet1!GX232>Sheet2!$A$1,Sheet1!GX232,"") | O35: =+IF(Sheet1!GY232>Sheet2!$A$1,Sheet1!GY232,"") | P35: =+IF(Sheet1!GZ232>Sheet2!$A$1,Sheet1!GZ232,"") | Q35: =+IF(Sheet1!HA232>Sheet2!$A$1,Sheet1!HA232,"") | ... Z35: =+IF(Sheet1!HJ232>Sheet2!$A$1,Sheet1!HJ232,"") | AA35: =+IF(Sheet1!HP232>Sheet2!$A$1,Sheet1!HP232,"") -> 20.698925 | AB35: =+IF(Sheet1!HQ232>Sheet2!$A$1,Sheet1!HQ232,"") -> 20.967742 | AC35: =+IF(Sheet1!HR232>Sheet2!$A$1,Sheet1!HR232,"") -> 17.741935 | AD35: =+IF(Sheet1!HS232>Sheet2!$A$1,Sheet1!HS232,"") -> 19.354839 | AE35: =+IF(Sheet1!HT232>Sheet2!$A$1,Sheet1!HT232,"") -> 20.698925 | AF35: =+IF(Sheet1!HU232>Sheet2!$A$1,Sheet1!HU232,"") -> 22.043011 | AG35: =+IF(Sheet1!HV232>Sheet2!$A$1,Sheet1!HV232,"") -> 19.086022 | AH35: =+IF(Sheet1!HW232>Sheet2!$A$1,Sheet1!HW232,"") -> 23.11828 | ... BB35: =+IF(Sheet1!IQ232>Sheet2!$A$1,Sheet1!IQ232,"") | BC35: =+IF(Sheet1!IS232>Sheet2!$A$1,Sheet1!IS232,"") | BD35: =+IF(Sheet1!IT232>Sheet2!$A$1,Sheet1!IT232,"") | BE35: =+IF(Sheet1!IU232>Sheet2!$A$1,Sheet1!IU232,"") | BF35: =+IF(Sheet1!IV232>Sheet2!$A$1,Sheet1!IV232,"") | BG35: =+IF(Sheet1!IW232>Sheet2!$A$1,Sheet1!IW232,"") | BH35: =+IF(Sheet1!IX232>Sheet2!$A$1,Sheet1!IX232,"") | BI35: =+IF(Sheet1!IY232>Sheet2!$A$1,Sheet1!IY232,"") | BJ35: =+IF(Sheet1!IZ232>Sheet2!$A$1,Sheet1!IZ232,"")
A36: P-SSM4 | B36: NC_006884 | C36: =+IF(Sheet1!FP233>Sheet2!$A$1,Sheet1!FP233,"") | D36: =+IF(Sheet1!IR233>Sheet2!$A$1,Sheet1!IR233,"") | E36: =+IF(Sheet1!HN233>Sheet2!$A$1,Sheet1!HN233,"") | F36: =+IF(Sheet1!HO233>Sheet2!$A$1,Sheet1!HO233,"") | G36: =+IF(Sheet1!HL233>Sheet2!$A$1,Sheet1!HL233,"") | H36: =+IF(Sheet1!HM233>Sheet2!$A$1,Sheet1!HM233,"") | I36: =+IF(Sheet1!HK233>Sheet2!$A$1,Sheet1!HK233,"") | J36: =+IF(Sheet1!GT233>Sheet2!$A$1,Sheet1!GT233,"") | K36: =+IF(Sheet1!GU233>Sheet2!$A$1,Sheet1!GU233,"") | L36: =+IF(Sheet1!GV233>Sheet2!$A$1,Sheet1!GV233,"") | M36: =+IF(Sheet1!GW233>Sheet2!$A$1,Sheet1!GW233,"") | N36: =+IF(Sheet1!GX233>Sheet2!$A$1,Sheet1!GX233,"") | O36: =+IF(Sheet1!GY233>Sheet2!$A$1,Sheet1!GY233,"") | P36: =+IF(Sheet1!GZ233>Sheet2!$A$1,Sheet1!GZ233,"") | Q36: =+IF(Sheet1!HA233>Sheet2!$A$1,Sheet1!HA233,"") | ... Z36: =+IF(Sheet1!HJ233>Sheet2!$A$1,Sheet1!HJ233,"") | AA36: =+IF(Sheet1!HP233>Sheet2!$A$1,Sheet1!HP233,"") -> 14.358974 | AB36: =+IF(Sheet1!HQ233>Sheet2!$A$1,Sheet1!HQ233,"") -> 14.358974 | AC36: =+IF(Sheet1!HR233>Sheet2!$A$1,Sheet1!HR233,"") -> 11.282051 | AD36: =+IF(Sheet1!HS233>Sheet2!$A$1,Sheet1!HS233,"") -> 14.358974 | AE36: =+IF(Sheet1!HT233>Sheet2!$A$1,Sheet1!HT233,"") -> 16.923077 | AF36: =+IF(Sheet1!HU233>Sheet2!$A$1,Sheet1!HU233,"") -> 17.435897 | AG36: =+IF(Sheet1!HV233>Sheet2!$A$1,Sheet1!HV233,"") -> 15.897436 | AH36: =+IF(Sheet1!HW233>Sheet2!$A$1,Sheet1!HW233,"") -> 14.358974 | ... BB36: =+IF(Sheet1!IQ233>Sheet2!$A$1,Sheet1!IQ233,"") | BC36: =+IF(Sheet1!IS233>Sheet2!$A$1,Sheet1!IS233,"") | BD36: =+IF(Sheet1!IT233>Sheet2!$A$1,Sheet1!IT233,"") | BE36: =+IF(Sheet1!IU233>Sheet2!$A$1,Sheet1!IU233,"") | BF36: =+IF(Sheet1!IV233>Sheet2!$A$1,Sheet1!IV233,"") | BG36: =+IF(Sheet1!IW233>Sheet2!$A$1,Sheet1!IW233,"") | BH36: =+IF(Sheet1!IX233>Sheet2!$A$1,Sheet1!IX233,"") | BI36: =+IF(Sheet1!IY233>Sheet2!$A$1,Sheet1!IY233,"") | BJ36: =+IF(Sheet1!IZ233>Sheet2!$A$1,Sheet1!IZ233,"")
A37: S-PM2 | B37: NC_006820 | C37: =+IF(Sheet1!FP234>Sheet2!$A$1,Sheet1!FP234,"") | D37: =+IF(Sheet1!IR234>Sheet2!$A$1,Sheet1!IR234,"") | E37: =+IF(Sheet1!HN234>Sheet2!$A$1,Sheet1!HN234,"") | F37: =+IF(Sheet1!HO234>Sheet2!$A$1,Sheet1!HO234,"") | G37: =+IF(Sheet1!HL234>Sheet2!$A$1,Sheet1!HL234,"") | H37: =+IF(Sheet1!HM234>Sheet2!$A$1,Sheet1!HM234,"") | I37: =+IF(Sheet1!HK234>Sheet2!$A$1,Sheet1!HK234,"") | J37: =+IF(Sheet1!GT234>Sheet2!$A$1,Sheet1!GT234,"") | K37: =+IF(Sheet1!GU234>Sheet2!$A$1,Sheet1!GU234,"") | L37: =+IF(Sheet1!GV234>Sheet2!$A$1,Sheet1!GV234,"") | M37: =+IF(Sheet1!GW234>Sheet2!$A$1,Sheet1!GW234,"") | N37: =+IF(Sheet1!GX234>Sheet2!$A$1,Sheet1!GX234,"") | O37: =+IF(Sheet1!GY234>Sheet2!$A$1,Sheet1!GY234,"") | P37: =+IF(Sheet1!GZ234>Sheet2!$A$1,Sheet1!GZ234,"") | Q37: =+IF(Sheet1!HA234>Sheet2!$A$1,Sheet1!HA234,"") | ... Z37: =+IF(Sheet1!HJ234>Sheet2!$A$1,Sheet1!HJ234,"") | AA37: =+IF(Sheet1!HP234>Sheet2!$A$1,Sheet1!HP234,"") -> 13.274336 | AB37: =+IF(Sheet1!HQ234>Sheet2!$A$1,Sheet1!HQ234,"") -> 12.831858 | AC37: =+IF(Sheet1!HR234>Sheet2!$A$1,Sheet1!HR234,"") -> 10.619469 | AD37: =+IF(Sheet1!HS234>Sheet2!$A$1,Sheet1!HS234,"") -> 13.274336 | AE37: =+IF(Sheet1!HT234>Sheet2!$A$1,Sheet1!HT234,"") -> 14.60177 | AF37: =+IF(Sheet1!HU234>Sheet2!$A$1,Sheet1!HU234,"") -> 15.044248 | AG37: =+IF(Sheet1!HV234>Sheet2!$A$1,Sheet1!HV234,"") -> 14.159292 | AH37: =+IF(Sheet1!HW234>Sheet2!$A$1,Sheet1!HW234,"") -> 14.159292 | ... BB37: =+IF(Sheet1!IQ234>Sheet2!$A$1,Sheet1!IQ234,"") | BC37: =+IF(Sheet1!IS234>Sheet2!$A$1,Sheet1!IS234,"") | BD37: =+IF(Sheet1!IT234>Sheet2!$A$1,Sheet1!IT234,"") | BE37: =+IF(Sheet1!IU234>Sheet2!$A$1,Sheet1!IU234,"") | BF37: =+IF(Sheet1!IV234>Sheet2!$A$1,Sheet1!IV234,"") | BG37: =+IF(Sheet1!IW234>Sheet2!$A$1,Sheet1!IW234,"") | BH37: =+IF(Sheet1!IX234>Sheet2!$A$1,Sheet1!IX234,"") | BI37: =+IF(Sheet1!IY234>Sheet2!$A$1,Sheet1!IY234,"") | BJ37: =+IF(Sheet1!IZ234>Sheet2!$A$1,Sheet1!IZ234,"")
A38: Syn9 | B38: NC_008296 | C38: =+IF(Sheet1!FP235>Sheet2!$A$1,Sheet1!FP235,"") | D38: =+IF(Sheet1!IR235>Sheet2!$A$1,Sheet1!IR235,"") | E38: =+IF(Sheet1!HN235>Sheet2!$A$1,Sheet1!HN235,"") | F38: =+IF(Sheet1!HO235>Sheet2!$A$1,Sheet1!HO235,"") | G38: =+IF(Sheet1!HL235>Sheet2!$A$1,Sheet1!HL235,"") | H38: =+IF(Sheet1!HM235>Sheet2!$A$1,Sheet1!HM235,"") | I38: =+IF(Sheet1!HK235>Sheet2!$A$1,Sheet1!HK235,"") | J38: =+IF(Sheet1!GT235>Sheet2!$A$1,Sheet1!GT235,"") | K38: =+IF(Sheet1!GU235>Sheet2!$A$1,Sheet1!GU235,"") | L38: =+IF(Sheet1!GV235>Sheet2!$A$1,Sheet1!GV235,"") | M38: =+IF(Sheet1!GW235>Sheet2!$A$1,Sheet1!GW235,"") | N38: =+IF(Sheet1!GX235>Sheet2!$A$1,Sheet1!GX235,"") | O38: =+IF(Sheet1!GY235>Sheet2!$A$1,Sheet1!GY235,"") | P38: =+IF(Sheet1!GZ235>Sheet2!$A$1,Sheet1!GZ235,"") | Q38: =+IF(Sheet1!HA235>Sheet2!$A$1,Sheet1!HA235,"") | ... Z38: =+IF(Sheet1!HJ235>Sheet2!$A$1,Sheet1!HJ235,"") | AA38: =+IF(Sheet1!HP235>Sheet2!$A$1,Sheet1!HP235,"") -> 14.096916 | AB38: =+IF(Sheet1!HQ235>Sheet2!$A$1,Sheet1!HQ235,"") -> 13.656388 | AC38: =+IF(Sheet1!HR235>Sheet2!$A$1,Sheet1!HR235,"") -> 11.013216 | AD38: =+IF(Sheet1!HS235>Sheet2!$A$1,Sheet1!HS235,"") -> 14.096916 | AE38: =+IF(Sheet1!HT235>Sheet2!$A$1,Sheet1!HT235,"") -> 14.977974 | AF38: =+IF(Sheet1!HU235>Sheet2!$A$1,Sheet1!HU235,"") -> 15.418502 | AG38: =+IF(Sheet1!HV235>Sheet2!$A$1,Sheet1!HV235,"") -> 14.096916 | AH38: =+IF(Sheet1!HW235>Sheet2!$A$1,Sheet1!HW235,"") -> 13.656388 | ... BB38: =+IF(Sheet1!IQ235>Sheet2!$A$1,Sheet1!IQ235,"") | BC38: =+IF(Sheet1!IS235>Sheet2!$A$1,Sheet1!IS235,"") | BD38: =+IF(Sheet1!IT235>Sheet2!$A$1,Sheet1!IT235,"") | BE38: =+IF(Sheet1!IU235>Sheet2!$A$1,Sheet1!IU235,"") | BF38: =+IF(Sheet1!IV235>Sheet2!$A$1,Sheet1!IV235,"") | BG38: =+IF(Sheet1!IW235>Sheet2!$A$1,Sheet1!IW235,"") | BH38: =+IF(Sheet1!IX235>Sheet2!$A$1,Sheet1!IX235,"") | BI38: =+IF(Sheet1!IY235>Sheet2!$A$1,Sheet1!IY235,"") | BJ38: =+IF(Sheet1!IZ235>Sheet2!$A$1,Sheet1!IZ235,"")
A39: P-SSM2 | B39: NC_006883 | C39: =+IF(Sheet1!FP236>Sheet2!$A$1,Sheet1!FP236,"") | D39: =+IF(Sheet1!IR236>Sheet2!$A$1,Sheet1!IR236,"") | E39: =+IF(Sheet1!HN236>Sheet2!$A$1,Sheet1!HN236,"") | F39: =+IF(Sheet1!HO236>Sheet2!$A$1,Sheet1!HO236,"") | G39: =+IF(Sheet1!HL236>Sheet2!$A$1,Sheet1!HL236,"") | H39: =+IF(Sheet1!HM236>Sheet2!$A$1,Sheet1!HM236,"") | I39: =+IF(Sheet1!HK236>Sheet2!$A$1,Sheet1!HK236,"") | J39: =+IF(Sheet1!GT236>Sheet2!$A$1,Sheet1!GT236,"") | K39: =+IF(Sheet1!GU236>Sheet2!$A$1,Sheet1!GU236,"") | L39: =+IF(Sheet1!GV236>Sheet2!$A$1,Sheet1!GV236,"") | M39: =+IF(Sheet1!GW236>Sheet2!$A$1,Sheet1!GW236,"") | N39: =+IF(Sheet1!GX236>Sheet2!$A$1,Sheet1!GX236,"") | O39: =+IF(Sheet1!GY236>Sheet2!$A$1,Sheet1!GY236,"") | P39: =+IF(Sheet1!GZ236>Sheet2!$A$1,Sheet1!GZ236,"") | Q39: =+IF(Sheet1!HA236>Sheet2!$A$1,Sheet1!HA236,"") | ... Z39: =+IF(Sheet1!HJ236>Sheet2!$A$1,Sheet1!HJ236,"") | AA39: =+IF(Sheet1!HP236>Sheet2!$A$1,Sheet1!HP236,"") | AB39: =+IF(Sheet1!HQ236>Sheet2!$A$1,Sheet1!HQ236,"") | AC39: =+IF(Sheet1!HR236>Sheet2!$A$1,Sheet1!HR236,"") | AD39: =+IF(Sheet1!HS236>Sheet2!$A$1,Sheet1!HS236,"") | AE39: =+IF(Sheet1!HT236>Sheet2!$A$1,Sheet1!HT236,"") -> 10.280374 | AF39: =+IF(Sheet1!HU236>Sheet2!$A$1,Sheet1!HU236,"") -> 10.5919 | AG39: =+IF(Sheet1!HV236>Sheet2!$A$1,Sheet1!HV236,"") | AH39: =+IF(Sheet1!HW236>Sheet2!$A$1,Sheet1!HW236,"") | ... BB39: =+IF(Sheet1!IQ236>Sheet2!$A$1,Sheet1!IQ236,"") | BC39: =+IF(Sheet1!IS236>Sheet2!$A$1,Sheet1!IS236,"") | BD39: =+IF(Sheet1!IT236>Sheet2!$A$1,Sheet1!IT236,"") | BE39: =+IF(Sheet1!IU236>Sheet2!$A$1,Sheet1!IU236,"") | BF39: =+IF(Sheet1!IV236>Sheet2!$A$1,Sheet1!IV236,"") | BG39: =+IF(Sheet1!IW236>Sheet2!$A$1,Sheet1!IW236,"") | BH39: =+IF(Sheet1!IX236>Sheet2!$A$1,Sheet1!IX236,"") | BI39: =+IF(Sheet1!IY236>Sheet2!$A$1,Sheet1!IY236,"") | BJ39: =+IF(Sheet1!IZ236>Sheet2!$A$1,Sheet1!IZ236,"")
A40: Bcep1 | B40: NC_005263 | C40: =+IF(Sheet1!FP237>Sheet2!$A$1,Sheet1!FP237,"") | D40: =+IF(Sheet1!IR237>Sheet2!$A$1,Sheet1!IR237,"") | E40: =+IF(Sheet1!HN237>Sheet2!$A$1,Sheet1!HN237,"") | F40: =+IF(Sheet1!HO237>Sheet2!$A$1,Sheet1!HO237,"") | G40: =+IF(Sheet1!HL237>Sheet2!$A$1,Sheet1!HL237,"") | H40: =+IF(Sheet1!HM237>Sheet2!$A$1,Sheet1!HM237,"") | I40: =+IF(Sheet1!HK237>Sheet2!$A$1,Sheet1!HK237,"") | J40: =+IF(Sheet1!GT237>Sheet2!$A$1,Sheet1!GT237,"") | K40: =+IF(Sheet1!GU237>Sheet2!$A$1,Sheet1!GU237,"") | L40: =+IF(Sheet1!GV237>Sheet2!$A$1,Sheet1!GV237,"") | M40: =+IF(Sheet1!GW237>Sheet2!$A$1,Sheet1!GW237,"") | N40: =+IF(Sheet1!GX237>Sheet2!$A$1,Sheet1!GX237,"") | O40: =+IF(Sheet1!GY237>Sheet2!$A$1,Sheet1!GY237,"") | P40: =+IF(Sheet1!GZ237>Sheet2!$A$1,Sheet1!GZ237,"") | Q40: =+IF(Sheet1!HA237>Sheet2!$A$1,Sheet1!HA237,"") | ... Z40: =+IF(Sheet1!HJ237>Sheet2!$A$1,Sheet1!HJ237,"") | AA40: =+IF(Sheet1!HP237>Sheet2!$A$1,Sheet1!HP237,"") | AB40: =+IF(Sheet1!HQ237>Sheet2!$A$1,Sheet1!HQ237,"") | AC40: =+IF(Sheet1!HR237>Sheet2!$A$1,Sheet1!HR237,"") | AD40: =+IF(Sheet1!HS237>Sheet2!$A$1,Sheet1!HS237,"") | AE40: =+IF(Sheet1!HT237>Sheet2!$A$1,Sheet1!HT237,"") | AF40: =+IF(Sheet1!HU237>Sheet2!$A$1,Sheet1!HU237,"") | AG40: =+IF(Sheet1!HV237>Sheet2!$A$1,Sheet1!HV237,"") | AH40: =+IF(Sheet1!HW237>Sheet2!$A$1,Sheet1!HW237,"") | ... BB40: =+IF(Sheet1!IQ237>Sheet2!$A$1,Sheet1!IQ237,"") | BC40: =+IF(Sheet1!IS237>Sheet2!$A$1,Sheet1!IS237,"") | BD40: =+IF(Sheet1!IT237>Sheet2!$A$1,Sheet1!IT237,"") | BE40: =+IF(Sheet1!IU237>Sheet2!$A$1,Sheet1!IU237,"") | BF40: =+IF(Sheet1!IV237>Sheet2!$A$1,Sheet1!IV237,"") | BG40: =+IF(Sheet1!IW237>Sheet2!$A$1,Sheet1!IW237,"") | BH40: =+IF(Sheet1!IX237>Sheet2!$A$1,Sheet1!IX237,"") | BI40: =+IF(Sheet1!IY237>Sheet2!$A$1,Sheet1!IY237,"") | BJ40: =+IF(Sheet1!IZ237>Sheet2!$A$1,Sheet1!IZ237,"")
A41: Bcep781 | B41: NC_004333 | C41: =+IF(Sheet1!FP238>Sheet2!$A$1,Sheet1!FP238,"") | D41: =+IF(Sheet1!IR238>Sheet2!$A$1,Sheet1!IR238,"") | E41: =+IF(Sheet1!HN238>Sheet2!$A$1,Sheet1!HN238,"") | F41: =+IF(Sheet1!HO238>Sheet2!$A$1,Sheet1!HO238,"") | G41: =+IF(Sheet1!HL238>Sheet2!$A$1,Sheet1!HL238,"") | H41: =+IF(Sheet1!HM238>Sheet2!$A$1,Sheet1!HM238,"") | I41: =+IF(Sheet1!HK238>Sheet2!$A$1,Sheet1!HK238,"") | J41: =+IF(Sheet1!GT238>Sheet2!$A$1,Sheet1!GT238,"") | K41: =+IF(Sheet1!GU238>Sheet2!$A$1,Sheet1!GU238,"") | L41: =+IF(Sheet1!GV238>Sheet2!$A$1,Sheet1!GV238,"") | M41: =+IF(Sheet1!GW238>Sheet2!$A$1,Sheet1!GW238,"") | N41: =+IF(Sheet1!GX238>Sheet2!$A$1,Sheet1!GX238,"") | O41: =+IF(Sheet1!GY238>Sheet2!$A$1,Sheet1!GY238,"") | P41: =+IF(Sheet1!GZ238>Sheet2!$A$1,Sheet1!GZ238,"") | Q41: =+IF(Sheet1!HA238>Sheet2!$A$1,Sheet1!HA238,"") | ... Z41: =+IF(Sheet1!HJ238>Sheet2!$A$1,Sheet1!HJ238,"") | AA41: =+IF(Sheet1!HP238>Sheet2!$A$1,Sheet1!HP238,"") | AB41: =+IF(Sheet1!HQ238>Sheet2!$A$1,Sheet1!HQ238,"") | AC41: =+IF(Sheet1!HR238>Sheet2!$A$1,Sheet1!HR238,"") | AD41: =+IF(Sheet1!HS238>Sheet2!$A$1,Sheet1!HS238,"") | AE41: =+IF(Sheet1!HT238>Sheet2!$A$1,Sheet1!HT238,"") | AF41: =+IF(Sheet1!HU238>Sheet2!$A$1,Sheet1!HU238,"") | AG41: =+IF(Sheet1!HV238>Sheet2!$A$1,Sheet1!HV238,"") | AH41: =+IF(Sheet1!HW238>Sheet2!$A$1,Sheet1!HW238,"") | ... BB41: =+IF(Sheet1!IQ238>Sheet2!$A$1,Sheet1!IQ238,"") | BC41: =+IF(Sheet1!IS238>Sheet2!$A$1,Sheet1!IS238,"") | BD41: =+IF(Sheet1!IT238>Sheet2!$A$1,Sheet1!IT238,"") | BE41: =+IF(Sheet1!IU238>Sheet2!$A$1,Sheet1!IU238,"") | BF41: =+IF(Sheet1!IV238>Sheet2!$A$1,Sheet1!IV238,"") | BG41: =+IF(Sheet1!IW238>Sheet2!$A$1,Sheet1!IW238,"") | BH41: =+IF(Sheet1!IX238>Sheet2!$A$1,Sheet1!IX238,"") | BI41: =+IF(Sheet1!IY238>Sheet2!$A$1,Sheet1!IY238,"") | BJ41: =+IF(Sheet1!IZ238>Sheet2!$A$1,Sheet1!IZ238,"")
A42: Bcep43 | B42: NC_005342 | C42: =+IF(Sheet1!FP239>Sheet2!$A$1,Sheet1!FP239,"") | D42: =+IF(Sheet1!IR239>Sheet2!$A$1,Sheet1!IR239,"") | E42: =+IF(Sheet1!HN239>Sheet2!$A$1,Sheet1!HN239,"") | F42: =+IF(Sheet1!HO239>Sheet2!$A$1,Sheet1!HO239,"") | G42: =+IF(Sheet1!HL239>Sheet2!$A$1,Sheet1!HL239,"") | H42: =+IF(Sheet1!HM239>Sheet2!$A$1,Sheet1!HM239,"") | I42: =+IF(Sheet1!HK239>Sheet2!$A$1,Sheet1!HK239,"") | J42: =+IF(Sheet1!GT239>Sheet2!$A$1,Sheet1!GT239,"") | K42: =+IF(Sheet1!GU239>Sheet2!$A$1,Sheet1!GU239,"") | L42: =+IF(Sheet1!GV239>Sheet2!$A$1,Sheet1!GV239,"") | M42: =+IF(Sheet1!GW239>Sheet2!$A$1,Sheet1!GW239,"") | N42: =+IF(Sheet1!GX239>Sheet2!$A$1,Sheet1!GX239,"") | O42: =+IF(Sheet1!GY239>Sheet2!$A$1,Sheet1!GY239,"") | P42: =+IF(Sheet1!GZ239>Sheet2!$A$1,Sheet1!GZ239,"") | Q42: =+IF(Sheet1!HA239>Sheet2!$A$1,Sheet1!HA239,"") | ... Z42: =+IF(Sheet1!HJ239>Sheet2!$A$1,Sheet1!HJ239,"") | AA42: =+IF(Sheet1!HP239>Sheet2!$A$1,Sheet1!HP239,"") | AB42: =+IF(Sheet1!HQ239>Sheet2!$A$1,Sheet1!HQ239,"") | AC42: =+IF(Sheet1!HR239>Sheet2!$A$1,Sheet1!HR239,"") | AD42: =+IF(Sheet1!HS239>Sheet2!$A$1,Sheet1!HS239,"") | AE42: =+IF(Sheet1!HT239>Sheet2!$A$1,Sheet1!HT239,"") | AF42: =+IF(Sheet1!HU239>Sheet2!$A$1,Sheet1!HU239,"") | AG42: =+IF(Sheet1!HV239>Sheet2!$A$1,Sheet1!HV239,"") | AH42: =+IF(Sheet1!HW239>Sheet2!$A$1,Sheet1!HW239,"") | ... BB42: =+IF(Sheet1!IQ239>Sheet2!$A$1,Sheet1!IQ239,"") | BC42: =+IF(Sheet1!IS239>Sheet2!$A$1,Sheet1!IS239,"") | BD42: =+IF(Sheet1!IT239>Sheet2!$A$1,Sheet1!IT239,"") | BE42: =+IF(Sheet1!IU239>Sheet2!$A$1,Sheet1!IU239,"") | BF42: =+IF(Sheet1!IV239>Sheet2!$A$1,Sheet1!IV239,"") | BG42: =+IF(Sheet1!IW239>Sheet2!$A$1,Sheet1!IW239,"") | BH42: =+IF(Sheet1!IX239>Sheet2!$A$1,Sheet1!IX239,"") | BI42: =+IF(Sheet1!IY239>Sheet2!$A$1,Sheet1!IY239,"") | BJ42: =+IF(Sheet1!IZ239>Sheet2!$A$1,Sheet1!IZ239,"")
A43: BcepB1A | B43: NC_005886 | C43: =+IF(Sheet1!FP240>Sheet2!$A$1,Sheet1!FP240,"") | D43: =+IF(Sheet1!IR240>Sheet2!$A$1,Sheet1!IR240,"") | E43: =+IF(Sheet1!HN240>Sheet2!$A$1,Sheet1!HN240,"") | F43: =+IF(Sheet1!HO240>Sheet2!$A$1,Sheet1!HO240,"") | G43: =+IF(Sheet1!HL240>Sheet2!$A$1,Sheet1!HL240,"") | H43: =+IF(Sheet1!HM240>Sheet2!$A$1,Sheet1!HM240,"") | I43: =+IF(Sheet1!HK240>Sheet2!$A$1,Sheet1!HK240,"") | J43: =+IF(Sheet1!GT240>Sheet2!$A$1,Sheet1!GT240,"") | K43: =+IF(Sheet1!GU240>Sheet2!$A$1,Sheet1!GU240,"") | L43: =+IF(Sheet1!GV240>Sheet2!$A$1,Sheet1!GV240,"") | M43: =+IF(Sheet1!GW240>Sheet2!$A$1,Sheet1!GW240,"") | N43: =+IF(Sheet1!GX240>Sheet2!$A$1,Sheet1!GX240,"") | O43: =+IF(Sheet1!GY240>Sheet2!$A$1,Sheet1!GY240,"") | P43: =+IF(Sheet1!GZ240>Sheet2!$A$1,Sheet1!GZ240,"") | Q43: =+IF(Sheet1!HA240>Sheet2!$A$1,Sheet1!HA240,"") | ... Z43: =+IF(Sheet1!HJ240>Sheet2!$A$1,Sheet1!HJ240,"") | AA43: =+IF(Sheet1!HP240>Sheet2!$A$1,Sheet1!HP240,"") | AB43: =+IF(Sheet1!HQ240>Sheet2!$A$1,Sheet1!HQ240,"") | AC43: =+IF(Sheet1!HR240>Sheet2!$A$1,Sheet1!HR240,"") | AD43: =+IF(Sheet1!HS240>Sheet2!$A$1,Sheet1!HS240,"") | AE43: =+IF(Sheet1!HT240>Sheet2!$A$1,Sheet1!HT240,"") | AF43: =+IF(Sheet1!HU240>Sheet2!$A$1,Sheet1!HU240,"") | AG43: =+IF(Sheet1!HV240>Sheet2!$A$1,Sheet1!HV240,"") | AH43: =+IF(Sheet1!HW240>Sheet2!$A$1,Sheet1!HW240,"") | ... BB43: =+IF(Sheet1!IQ240>Sheet2!$A$1,Sheet1!IQ240,"") | BC43: =+IF(Sheet1!IS240>Sheet2!$A$1,Sheet1!IS240,"") | BD43: =+IF(Sheet1!IT240>Sheet2!$A$1,Sheet1!IT240,"") | BE43: =+IF(Sheet1!IU240>Sheet2!$A$1,Sheet1!IU240,"") | BF43: =+IF(Sheet1!IV240>Sheet2!$A$1,Sheet1!IV240,"") | BG43: =+IF(Sheet1!IW240>Sheet2!$A$1,Sheet1!IW240,"") | BH43: =+IF(Sheet1!IX240>Sheet2!$A$1,Sheet1!IX240,"") | BI43: =+IF(Sheet1!IY240>Sheet2!$A$1,Sheet1!IY240,"") | BJ43: =+IF(Sheet1!IZ240>Sheet2!$A$1,Sheet1!IZ240,"")
A44: BcepF1 | B44: NC_009015 | C44: =+IF(Sheet1!FP241>Sheet2!$A$1,Sheet1!FP241,"") | D44: =+IF(Sheet1!IR241>Sheet2!$A$1,Sheet1!IR241,"") | E44: =+IF(Sheet1!HN241>Sheet2!$A$1,Sheet1!HN241,"") | F44: =+IF(Sheet1!HO241>Sheet2!$A$1,Sheet1!HO241,"") | G44: =+IF(Sheet1!HL241>Sheet2!$A$1,Sheet1!HL241,"") | H44: =+IF(Sheet1!HM241>Sheet2!$A$1,Sheet1!HM241,"") | I44: =+IF(Sheet1!HK241>Sheet2!$A$1,Sheet1!HK241,"") | J44: =+IF(Sheet1!GT241>Sheet2!$A$1,Sheet1!GT241,"") | K44: =+IF(Sheet1!GU241>Sheet2!$A$1,Sheet1!GU241,"") | L44: =+IF(Sheet1!GV241>Sheet2!$A$1,Sheet1!GV241,"") | M44: =+IF(Sheet1!GW241>Sheet2!$A$1,Sheet1!GW241,"") | N44: =+IF(Sheet1!GX241>Sheet2!$A$1,Sheet1!GX241,"") | O44: =+IF(Sheet1!GY241>Sheet2!$A$1,Sheet1!GY241,"") | P44: =+IF(Sheet1!GZ241>Sheet2!$A$1,Sheet1!GZ241,"") | Q44: =+IF(Sheet1!HA241>Sheet2!$A$1,Sheet1!HA241,"") | ... Z44: =+IF(Sheet1!HJ241>Sheet2!$A$1,Sheet1!HJ241,"") | AA44: =+IF(Sheet1!HP241>Sheet2!$A$1,Sheet1!HP241,"") | AB44: =+IF(Sheet1!HQ241>Sheet2!$A$1,Sheet1!HQ241,"") | AC44: =+IF(Sheet1!HR241>Sheet2!$A$1,Sheet1!HR241,"") | AD44: =+IF(Sheet1!HS241>Sheet2!$A$1,Sheet1!HS241,"") | AE44: =+IF(Sheet1!HT241>Sheet2!$A$1,Sheet1!HT241,"") | AF44: =+IF(Sheet1!HU241>Sheet2!$A$1,Sheet1!HU241,"") | AG44: =+IF(Sheet1!HV241>Sheet2!$A$1,Sheet1!HV241,"") | AH44: =+IF(Sheet1!HW241>Sheet2!$A$1,Sheet1!HW241,"") | ... BB44: =+IF(Sheet1!IQ241>Sheet2!$A$1,Sheet1!IQ241,"") | BC44: =+IF(Sheet1!IS241>Sheet2!$A$1,Sheet1!IS241,"") | BD44: =+IF(Sheet1!IT241>Sheet2!$A$1,Sheet1!IT241,"") | BE44: =+IF(Sheet1!IU241>Sheet2!$A$1,Sheet1!IU241,"") | BF44: =+IF(Sheet1!IV241>Sheet2!$A$1,Sheet1!IV241,"") | BG44: =+IF(Sheet1!IW241>Sheet2!$A$1,Sheet1!IW241,"") | BH44: =+IF(Sheet1!IX241>Sheet2!$A$1,Sheet1!IX241,"") | BI44: =+IF(Sheet1!IY241>Sheet2!$A$1,Sheet1!IY241,"") | BJ44: =+IF(Sheet1!IZ241>Sheet2!$A$1,Sheet1!IZ241,"")
A45: G1 | B45: NC_007066 | C45: =+IF(Sheet1!FP242>Sheet2!$A$1,Sheet1!FP242,"") | D45: =+IF(Sheet1!IR242>Sheet2!$A$1,Sheet1!IR242,"") | E45: =+IF(Sheet1!HN242>Sheet2!$A$1,Sheet1!HN242,"") | F45: =+IF(Sheet1!HO242>Sheet2!$A$1,Sheet1!HO242,"") | G45: =+IF(Sheet1!HL242>Sheet2!$A$1,Sheet1!HL242,"") | H45: =+IF(Sheet1!HM242>Sheet2!$A$1,Sheet1!HM242,"") | I45: =+IF(Sheet1!HK242>Sheet2!$A$1,Sheet1!HK242,"") | J45: =+IF(Sheet1!GT242>Sheet2!$A$1,Sheet1!GT242,"") | K45: =+IF(Sheet1!GU242>Sheet2!$A$1,Sheet1!GU242,"") | L45: =+IF(Sheet1!GV242>Sheet2!$A$1,Sheet1!GV242,"") | M45: =+IF(Sheet1!GW242>Sheet2!$A$1,Sheet1!GW242,"") | N45: =+IF(Sheet1!GX242>Sheet2!$A$1,Sheet1!GX242,"") | O45: =+IF(Sheet1!GY242>Sheet2!$A$1,Sheet1!GY242,"") | P45: =+IF(Sheet1!GZ242>Sheet2!$A$1,Sheet1!GZ242,"") | Q45: =+IF(Sheet1!HA242>Sheet2!$A$1,Sheet1!HA242,"") | ... Z45: =+IF(Sheet1!HJ242>Sheet2!$A$1,Sheet1!HJ242,"") | AA45: =+IF(Sheet1!HP242>Sheet2!$A$1,Sheet1!HP242,"") | AB45: =+IF(Sheet1!HQ242>Sheet2!$A$1,Sheet1!HQ242,"") | AC45: =+IF(Sheet1!HR242>Sheet2!$A$1,Sheet1!HR242,"") | AD45: =+IF(Sheet1!HS242>Sheet2!$A$1,Sheet1!HS242,"") | AE45: =+IF(Sheet1!HT242>Sheet2!$A$1,Sheet1!HT242,"") | AF45: =+IF(Sheet1!HU242>Sheet2!$A$1,Sheet1!HU242,"") | AG45: =+IF(Sheet1!HV242>Sheet2!$A$1,Sheet1!HV242,"") | AH45: =+IF(Sheet1!HW242>Sheet2!$A$1,Sheet1!HW242,"") | ... BB45: =+IF(Sheet1!IQ242>Sheet2!$A$1,Sheet1!IQ242,"") | BC45: =+IF(Sheet1!IS242>Sheet2!$A$1,Sheet1!IS242,"") | BD45: =+IF(Sheet1!IT242>Sheet2!$A$1,Sheet1!IT242,"") | BE45: =+IF(Sheet1!IU242>Sheet2!$A$1,Sheet1!IU242,"") | BF45: =+IF(Sheet1!IV242>Sheet2!$A$1,Sheet1!IV242,"") | BG45: =+IF(Sheet1!IW242>Sheet2!$A$1,Sheet1!IW242,"") | BH45: =+IF(Sheet1!IX242>Sheet2!$A$1,Sheet1!IX242,"") | BI45: =+IF(Sheet1!IY242>Sheet2!$A$1,Sheet1!IY242,"") | BJ45: =+IF(Sheet1!IZ242>Sheet2!$A$1,Sheet1!IZ242,"")
A46: K | B46: NC_005880 | C46: =+IF(Sheet1!FP243>Sheet2!$A$1,Sheet1!FP243,"") | D46: =+IF(Sheet1!IR243>Sheet2!$A$1,Sheet1!IR243,"") | E46: =+IF(Sheet1!HN243>Sheet2!$A$1,Sheet1!HN243,"") | F46: =+IF(Sheet1!HO243>Sheet2!$A$1,Sheet1!HO243,"") | G46: =+IF(Sheet1!HL243>Sheet2!$A$1,Sheet1!HL243,"") | H46: =+IF(Sheet1!HM243>Sheet2!$A$1,Sheet1!HM243,"") | I46: =+IF(Sheet1!HK243>Sheet2!$A$1,Sheet1!HK243,"") | J46: =+IF(Sheet1!GT243>Sheet2!$A$1,Sheet1!GT243,"") | K46: =+IF(Sheet1!GU243>Sheet2!$A$1,Sheet1!GU243,"") | L46: =+IF(Sheet1!GV243>Sheet2!$A$1,Sheet1!GV243,"") | M46: =+IF(Sheet1!GW243>Sheet2!$A$1,Sheet1!GW243,"") | N46: =+IF(Sheet1!GX243>Sheet2!$A$1,Sheet1!GX243,"") | O46: =+IF(Sheet1!GY243>Sheet2!$A$1,Sheet1!GY243,"") | P46: =+IF(Sheet1!GZ243>Sheet2!$A$1,Sheet1!GZ243,"") | Q46: =+IF(Sheet1!HA243>Sheet2!$A$1,Sheet1!HA243,"") | ... Z46: =+IF(Sheet1!HJ243>Sheet2!$A$1,Sheet1!HJ243,"") | AA46: =+IF(Sheet1!HP243>Sheet2!$A$1,Sheet1!HP243,"") | AB46: =+IF(Sheet1!HQ243>Sheet2!$A$1,Sheet1!HQ243,"") | AC46: =+IF(Sheet1!HR243>Sheet2!$A$1,Sheet1!HR243,"") | AD46: =+IF(Sheet1!HS243>Sheet2!$A$1,Sheet1!HS243,"") | AE46: =+IF(Sheet1!HT243>Sheet2!$A$1,Sheet1!HT243,"") | AF46: =+IF(Sheet1!HU243>Sheet2!$A$1,Sheet1!HU243,"") | AG46: =+IF(Sheet1!HV243>Sheet2!$A$1,Sheet1!HV243,"") | AH46: =+IF(Sheet1!HW243>Sheet2!$A$1,Sheet1!HW243,"") | ... BB46: =+IF(Sheet1!IQ243>Sheet2!$A$1,Sheet1!IQ243,"") | BC46: =+IF(Sheet1!IS243>Sheet2!$A$1,Sheet1!IS243,"") | BD46: =+IF(Sheet1!IT243>Sheet2!$A$1,Sheet1!IT243,"") | BE46: =+IF(Sheet1!IU243>Sheet2!$A$1,Sheet1!IU243,"") | BF46: =+IF(Sheet1!IV243>Sheet2!$A$1,Sheet1!IV243,"") | BG46: =+IF(Sheet1!IW243>Sheet2!$A$1,Sheet1!IW243,"") | BH46: =+IF(Sheet1!IX243>Sheet2!$A$1,Sheet1!IX243,"") | BI46: =+IF(Sheet1!IY243>Sheet2!$A$1,Sheet1!IY243,"") | BJ46: =+IF(Sheet1!IZ243>Sheet2!$A$1,Sheet1!IZ243,"")
... A53: Felix 01 | B53: NC_005282 | C53: =+IF(Sheet1!FP250>Sheet2!$A$1,Sheet1!FP250,"") | D53: =+IF(Sheet1!IR250>Sheet2!$A$1,Sheet1!IR250,"") | E53: =+IF(Sheet1!HN250>Sheet2!$A$1,Sheet1!HN250,"") | F53: =+IF(Sheet1!HO250>Sheet2!$A$1,Sheet1!HO250,"") | G53: =+IF(Sheet1!HL250>Sheet2!$A$1,Sheet1!HL250,"") | H53: =+IF(Sheet1!HM250>Sheet2!$A$1,Sheet1!HM250,"") | I53: =+IF(Sheet1!HK250>Sheet2!$A$1,Sheet1!HK250,"") | J53: =+IF(Sheet1!GT250>Sheet2!$A$1,Sheet1!GT250,"") | K53: =+IF(Sheet1!GU250>Sheet2!$A$1,Sheet1!GU250,"") | L53: =+IF(Sheet1!GV250>Sheet2!$A$1,Sheet1!GV250,"") | M53: =+IF(Sheet1!GW250>Sheet2!$A$1,Sheet1!GW250,"") | N53: =+IF(Sheet1!GX250>Sheet2!$A$1,Sheet1!GX250,"") | O53: =+IF(Sheet1!GY250>Sheet2!$A$1,Sheet1!GY250,"") | P53: =+IF(Sheet1!GZ250>Sheet2!$A$1,Sheet1!GZ250,"") | Q53: =+IF(Sheet1!HA250>Sheet2!$A$1,Sheet1!HA250,"") | ... Z53: =+IF(Sheet1!HJ250>Sheet2!$A$1,Sheet1!HJ250,"") | AA53: =+IF(Sheet1!HP250>Sheet2!$A$1,Sheet1!HP250,"") | AB53: =+IF(Sheet1!HQ250>Sheet2!$A$1,Sheet1!HQ250,"") | AC53: =+IF(Sheet1!HR250>Sheet2!$A$1,Sheet1!HR250,"") | AD53: =+IF(Sheet1!HS250>Sheet2!$A$1,Sheet1!HS250,"") | AE53: =+IF(Sheet1!HT250>Sheet2!$A$1,Sheet1!HT250,"") | AF53: =+IF(Sheet1!HU250>Sheet2!$A$1,Sheet1!HU250,"") | AG53: =+IF(Sheet1!HV250>Sheet2!$A$1,Sheet1!HV250,"") | AH53: =+IF(Sheet1!HW250>Sheet2!$A$1,Sheet1!HW250,"") | ... BB53: =+IF(Sheet1!IQ250>Sheet2!$A$1,Sheet1!IQ250,"") -> 100 | BC53: =+IF(Sheet1!IS250>Sheet2!$A$1,Sheet1!IS250,"") | BD53: =+IF(Sheet1!IT250>Sheet2!$A$1,Sheet1!IT250,"") | BE53: =+IF(Sheet1!IU250>Sheet2!$A$1,Sheet1!IU250,"") | BF53: =+IF(Sheet1!IV250>Sheet2!$A$1,Sheet1!IV250,"") | BG53: =+IF(Sheet1!IW250>Sheet2!$A$1,Sheet1!IW250,"") | BH53: =+IF(Sheet1!IX250>Sheet2!$A$1,Sheet1!IX250,"") | BI53: =+IF(Sheet1!IY250>Sheet2!$A$1,Sheet1!IY250,"") | BJ53: =+IF(Sheet1!IZ250>Sheet2!$A$1,Sheet1!IZ250,"")
A54: EJ-1 | B54: NC_005294 | C54: =+IF(Sheet1!FP252>Sheet2!$A$1,Sheet1!FP252,"") | D54: =+IF(Sheet1!IR252>Sheet2!$A$1,Sheet1!IR252,"") | E54: =+IF(Sheet1!HN252>Sheet2!$A$1,Sheet1!HN252,"") | F54: =+IF(Sheet1!HO252>Sheet2!$A$1,Sheet1!HO252,"") | G54: =+IF(Sheet1!HL252>Sheet2!$A$1,Sheet1!HL252,"") | H54: =+IF(Sheet1!HM252>Sheet2!$A$1,Sheet1!HM252,"") | I54: =+IF(Sheet1!HK252>Sheet2!$A$1,Sheet1!HK252,"") | J54: =+IF(Sheet1!GT252>Sheet2!$A$1,Sheet1!GT252,"") | K54: =+IF(Sheet1!GU252>Sheet2!$A$1,Sheet1!GU252,"") | L54: =+IF(Sheet1!GV252>Sheet2!$A$1,Sheet1!GV252,"") | M54: =+IF(Sheet1!GW252>Sheet2!$A$1,Sheet1!GW252,"") | N54: =+IF(Sheet1!GX252>Sheet2!$A$1,Sheet1!GX252,"") | O54: =+IF(Sheet1!GY252>Sheet2!$A$1,Sheet1!GY252,"") | P54: =+IF(Sheet1!GZ252>Sheet2!$A$1,Sheet1!GZ252,"") | Q54: =+IF(Sheet1!HA252>Sheet2!$A$1,Sheet1!HA252,"") | ... Z54: =+IF(Sheet1!HJ252>Sheet2!$A$1,Sheet1!HJ252,"") | AA54: =+IF(Sheet1!HP252>Sheet2!$A$1,Sheet1!HP252,"") | AB54: =+IF(Sheet1!HQ252>Sheet2!$A$1,Sheet1!HQ252,"") | AC54: =+IF(Sheet1!HR252>Sheet2!$A$1,Sheet1!HR252,"") | AD54: =+IF(Sheet1!HS252>Sheet2!$A$1,Sheet1!HS252,"") | AE54: =+IF(Sheet1!HT252>Sheet2!$A$1,Sheet1!HT252,"") | AF54: =+IF(Sheet1!HU252>Sheet2!$A$1,Sheet1!HU252,"") | AG54: =+IF(Sheet1!HV252>Sheet2!$A$1,Sheet1!HV252,"") | AH54: =+IF(Sheet1!HW252>Sheet2!$A$1,Sheet1!HW252,"") | ... BB54: =+IF(Sheet1!IQ252>Sheet2!$A$1,Sheet1!IQ252,"") | BC54: =+IF(Sheet1!IS252>Sheet2!$A$1,Sheet1!IS252,"") -> 100 | BD54: =+IF(Sheet1!IT252>Sheet2!$A$1,Sheet1!IT252,"") | BE54: =+IF(Sheet1!IU252>Sheet2!$A$1,Sheet1!IU252,"") | BF54: =+IF(Sheet1!IV252>Sheet2!$A$1,Sheet1!IV252,"") | BG54: =+IF(Sheet1!IW252>Sheet2!$A$1,Sheet1!IW252,"") | BH54: =+IF(Sheet1!IX252>Sheet2!$A$1,Sheet1!IX252,"") | BI54: =+IF(Sheet1!IY252>Sheet2!$A$1,Sheet1!IY252,"") | BJ54: =+IF(Sheet1!IZ252>Sheet2!$A$1,Sheet1!IZ252,"")
A55: GBSV1 | B55: NC_008376 | C55: =+IF(Sheet1!FP253>Sheet2!$A$1,Sheet1!FP253,"") | D55: =+IF(Sheet1!IR253>Sheet2!$A$1,Sheet1!IR253,"") | E55: =+IF(Sheet1!HN253>Sheet2!$A$1,Sheet1!HN253,"") | F55: =+IF(Sheet1!HO253>Sheet2!$A$1,Sheet1!HO253,"") | G55: =+IF(Sheet1!HL253>Sheet2!$A$1,Sheet1!HL253,"") | H55: =+IF(Sheet1!HM253>Sheet2!$A$1,Sheet1!HM253,"") | I55: =+IF(Sheet1!HK253>Sheet2!$A$1,Sheet1!HK253,"") | J55: =+IF(Sheet1!GT253>Sheet2!$A$1,Sheet1!GT253,"") | K55: =+IF(Sheet1!GU253>Sheet2!$A$1,Sheet1!GU253,"") | L55: =+IF(Sheet1!GV253>Sheet2!$A$1,Sheet1!GV253,"") | M55: =+IF(Sheet1!GW253>Sheet2!$A$1,Sheet1!GW253,"") | N55: =+IF(Sheet1!GX253>Sheet2!$A$1,Sheet1!GX253,"") | O55: =+IF(Sheet1!GY253>Sheet2!$A$1,Sheet1!GY253,"") | P55: =+IF(Sheet1!GZ253>Sheet2!$A$1,Sheet1!GZ253,"") | Q55: =+IF(Sheet1!HA253>Sheet2!$A$1,Sheet1!HA253,"") | ... Z55: =+IF(Sheet1!HJ253>Sheet2!$A$1,Sheet1!HJ253,"") | AA55: =+IF(Sheet1!HP253>Sheet2!$A$1,Sheet1!HP253,"") | AB55: =+IF(Sheet1!HQ253>Sheet2!$A$1,Sheet1!HQ253,"") | AC55: =+IF(Sheet1!HR253>Sheet2!$A$1,Sheet1!HR253,"") | AD55: =+IF(Sheet1!HS253>Sheet2!$A$1,Sheet1!HS253,"") | AE55: =+IF(Sheet1!HT253>Sheet2!$A$1,Sheet1!HT253,"") | AF55: =+IF(Sheet1!HU253>Sheet2!$A$1,Sheet1!HU253,"") | AG55: =+IF(Sheet1!HV253>Sheet2!$A$1,Sheet1!HV253,"") | AH55: =+IF(Sheet1!HW253>Sheet2!$A$1,Sheet1!HW253,"") | ... BB55: =+IF(Sheet1!IQ253>Sheet2!$A$1,Sheet1!IQ253,"") | BC55: =+IF(Sheet1!IS253>Sheet2!$A$1,Sheet1!IS253,"") | BD55: =+IF(Sheet1!IT253>Sheet2!$A$1,Sheet1!IT253,"") -> 100 | BE55: =+IF(Sheet1!IU253>Sheet2!$A$1,Sheet1!IU253,"") | BF55: =+IF(Sheet1!IV253>Sheet2!$A$1,Sheet1!IV253,"") | BG55: =+IF(Sheet1!IW253>Sheet2!$A$1,Sheet1!IW253,"") | BH55: =+IF(Sheet1!IX253>Sheet2!$A$1,Sheet1!IX253,"") | BI55: =+IF(Sheet1!IY253>Sheet2!$A$1,Sheet1!IY253,"") | BJ55: =+IF(Sheet1!IZ253>Sheet2!$A$1,Sheet1!IZ253,"")
A56: RM 378 | B56: NC_004735 | C56: =+IF(Sheet1!FP254>Sheet2!$A$1,Sheet1!FP254,"") | D56: =+IF(Sheet1!IR254>Sheet2!$A$1,Sheet1!IR254,"") | E56: =+IF(Sheet1!HN254>Sheet2!$A$1,Sheet1!HN254,"") | F56: =+IF(Sheet1!HO254>Sheet2!$A$1,Sheet1!HO254,"") | G56: =+IF(Sheet1!HL254>Sheet2!$A$1,Sheet1!HL254,"") | H56: =+IF(Sheet1!HM254>Sheet2!$A$1,Sheet1!HM254,"") | I56: =+IF(Sheet1!HK254>Sheet2!$A$1,Sheet1!HK254,"") | J56: =+IF(Sheet1!GT254>Sheet2!$A$1,Sheet1!GT254,"") | K56: =+IF(Sheet1!GU254>Sheet2!$A$1,Sheet1!GU254,"") | L56: =+IF(Sheet1!GV254>Sheet2!$A$1,Sheet1!GV254,"") | M56: =+IF(Sheet1!GW254>Sheet2!$A$1,Sheet1!GW254,"") | N56: =+IF(Sheet1!GX254>Sheet2!$A$1,Sheet1!GX254,"") | O56: =+IF(Sheet1!GY254>Sheet2!$A$1,Sheet1!GY254,"") | P56: =+IF(Sheet1!GZ254>Sheet2!$A$1,Sheet1!GZ254,"") | Q56: =+IF(Sheet1!HA254>Sheet2!$A$1,Sheet1!HA254,"") | ... Z56: =+IF(Sheet1!HJ254>Sheet2!$A$1,Sheet1!HJ254,"") | AA56: =+IF(Sheet1!HP254>Sheet2!$A$1,Sheet1!HP254,"") | AB56: =+IF(Sheet1!HQ254>Sheet2!$A$1,Sheet1!HQ254,"") | AC56: =+IF(Sheet1!HR254>Sheet2!$A$1,Sheet1!HR254,"") | AD56: =+IF(Sheet1!HS254>Sheet2!$A$1,Sheet1!HS254,"") | AE56: =+IF(Sheet1!HT254>Sheet2!$A$1,Sheet1!HT254,"") | AF56: =+IF(Sheet1!HU254>Sheet2!$A$1,Sheet1!HU254,"") | AG56: =+IF(Sheet1!HV254>Sheet2!$A$1,Sheet1!HV254,"") | AH56: =+IF(Sheet1!HW254>Sheet2!$A$1,Sheet1!HW254,"") | ... BB56: =+IF(Sheet1!IQ254>Sheet2!$A$1,Sheet1!IQ254,"") | BC56: =+IF(Sheet1!IS254>Sheet2!$A$1,Sheet1!IS254,"") | BD56: =+IF(Sheet1!IT254>Sheet2!$A$1,Sheet1!IT254,"") | BE56: =+IF(Sheet1!IU254>Sheet2!$A$1,Sheet1!IU254,"") -> 100 | BF56: =+IF(Sheet1!IV254>Sheet2!$A$1,Sheet1!IV254,"") | BG56: =+IF(Sheet1!IW254>Sheet2!$A$1,Sheet1!IW254,"") | BH56: =+IF(Sheet1!IX254>Sheet2!$A$1,Sheet1!IX254,"") | BI56: =+IF(Sheet1!IY254>Sheet2!$A$1,Sheet1!IY254,"") | BJ56: =+IF(Sheet1!IZ254>Sheet2!$A$1,Sheet1!IZ254,"")
A57: φCh1 | B57: NC_004084 | C57: =+IF(Sheet1!FP255>Sheet2!$A$1,Sheet1!FP255,"") | D57: =+IF(Sheet1!IR255>Sheet2!$A$1,Sheet1!IR255,"") | E57: =+IF(Sheet1!HN255>Sheet2!$A$1,Sheet1!HN255,"") | F57: =+IF(Sheet1!HO255>Sheet2!$A$1,Sheet1!HO255,"") | G57: =+IF(Sheet1!HL255>Sheet2!$A$1,Sheet1!HL255,"") | H57: =+IF(Sheet1!HM255>Sheet2!$A$1,Sheet1!HM255,"") | I57: =+IF(Sheet1!HK255>Sheet2!$A$1,Sheet1!HK255,"") | J57: =+IF(Sheet1!GT255>Sheet2!$A$1,Sheet1!GT255,"") | K57: =+IF(Sheet1!GU255>Sheet2!$A$1,Sheet1!GU255,"") | L57: =+IF(Sheet1!GV255>Sheet2!$A$1,Sheet1!GV255,"") | M57: =+IF(Sheet1!GW255>Sheet2!$A$1,Sheet1!GW255,"") | N57: =+IF(Sheet1!GX255>Sheet2!$A$1,Sheet1!GX255,"") | O57: =+IF(Sheet1!GY255>Sheet2!$A$1,Sheet1!GY255,"") | P57: =+IF(Sheet1!GZ255>Sheet2!$A$1,Sheet1!GZ255,"") | Q57: =+IF(Sheet1!HA255>Sheet2!$A$1,Sheet1!HA255,"") | ... Z57: =+IF(Sheet1!HJ255>Sheet2!$A$1,Sheet1!HJ255,"") | AA57: =+IF(Sheet1!HP255>Sheet2!$A$1,Sheet1!HP255,"") | AB57: =+IF(Sheet1!HQ255>Sheet2!$A$1,Sheet1!HQ255,"") | AC57: =+IF(Sheet1!HR255>Sheet2!$A$1,Sheet1!HR255,"") | AD57: =+IF(Sheet1!HS255>Sheet2!$A$1,Sheet1!HS255,"") | AE57: =+IF(Sheet1!HT255>Sheet2!$A$1,Sheet1!HT255,"") | AF57: =+IF(Sheet1!HU255>Sheet2!$A$1,Sheet1!HU255,"") | AG57: =+IF(Sheet1!HV255>Sheet2!$A$1,Sheet1!HV255,"") | AH57: =+IF(Sheet1!HW255>Sheet2!$A$1,Sheet1!HW255,"") | ... BB57: =+IF(Sheet1!IQ255>Sheet2!$A$1,Sheet1!IQ255,"") | BC57: =+IF(Sheet1!IS255>Sheet2!$A$1,Sheet1!IS255,"") | BD57: =+IF(Sheet1!IT255>Sheet2!$A$1,Sheet1!IT255,"") | BE57: =+IF(Sheet1!IU255>Sheet2!$A$1,Sheet1!IU255,"") | BF57: =+IF(Sheet1!IV255>Sheet2!$A$1,Sheet1!IV255,"") -> 100 | BG57: =+IF(Sheet1!IW255>Sheet2!$A$1,Sheet1!IW255,"") | BH57: =+IF(Sheet1!IX255>Sheet2!$A$1,Sheet1!IX255,"") | BI57: =+IF(Sheet1!IY255>Sheet2!$A$1,Sheet1!IY255,"") | BJ57: =+IF(Sheet1!IZ255>Sheet2!$A$1,Sheet1!IZ255,"")
A58: Ma-LMM01 | B58: NC_008562 | C58: =+IF(Sheet1!FP256>Sheet2!$A$1,Sheet1!FP256,"") | D58: =+IF(Sheet1!IR256>Sheet2!$A$1,Sheet1!IR256,"") | E58: =+IF(Sheet1!HN256>Sheet2!$A$1,Sheet1!HN256,"") | F58: =+IF(Sheet1!HO256>Sheet2!$A$1,Sheet1!HO256,"") | G58: =+IF(Sheet1!HL256>Sheet2!$A$1,Sheet1!HL256,"") | H58: =+IF(Sheet1!HM256>Sheet2!$A$1,Sheet1!HM256,"") | I58: =+IF(Sheet1!HK256>Sheet2!$A$1,Sheet1!HK256,"") | J58: =+IF(Sheet1!GT256>Sheet2!$A$1,Sheet1!GT256,"") | K58: =+IF(Sheet1!GU256>Sheet2!$A$1,Sheet1!GU256,"") | L58: =+IF(Sheet1!GV256>Sheet2!$A$1,Sheet1!GV256,"") | M58: =+IF(Sheet1!GW256>Sheet2!$A$1,Sheet1!GW256,"") | N58: =+IF(Sheet1!GX256>Sheet2!$A$1,Sheet1!GX256,"") | O58: =+IF(Sheet1!GY256>Sheet2!$A$1,Sheet1!GY256,"") | P58: =+IF(Sheet1!GZ256>Sheet2!$A$1,Sheet1!GZ256,"") | Q58: =+IF(Sheet1!HA256>Sheet2!$A$1,Sheet1!HA256,"") | ... Z58: =+IF(Sheet1!HJ256>Sheet2!$A$1,Sheet1!HJ256,"") | AA58: =+IF(Sheet1!HP256>Sheet2!$A$1,Sheet1!HP256,"") | AB58: =+IF(Sheet1!HQ256>Sheet2!$A$1,Sheet1!HQ256,"") | AC58: =+IF(Sheet1!HR256>Sheet2!$A$1,Sheet1!HR256,"") | AD58: =+IF(Sheet1!HS256>Sheet2!$A$1,Sheet1!HS256,"") | AE58: =+IF(Sheet1!HT256>Sheet2!$A$1,Sheet1!HT256,"") | AF58: =+IF(Sheet1!HU256>Sheet2!$A$1,Sheet1!HU256,"") | AG58: =+IF(Sheet1!HV256>Sheet2!$A$1,Sheet1!HV256,"") | AH58: =+IF(Sheet1!HW256>Sheet2!$A$1,Sheet1!HW256,"") | ... BB58: =+IF(Sheet1!IQ256>Sheet2!$A$1,Sheet1!IQ256,"") | BC58: =+IF(Sheet1!IS256>Sheet2!$A$1,Sheet1!IS256,"") | BD58: =+IF(Sheet1!IT256>Sheet2!$A$1,Sheet1!IT256,"") | BE58: =+IF(Sheet1!IU256>Sheet2!$A$1,Sheet1!IU256,"") | BF58: =+IF(Sheet1!IV256>Sheet2!$A$1,Sheet1!IV256,"") | BG58: =+IF(Sheet1!IW256>Sheet2!$A$1,Sheet1!IW256,"") -> 100 | BH58: =+IF(Sheet1!IX256>Sheet2!$A$1,Sheet1!IX256,"") | BI58: =+IF(Sheet1!IY256>Sheet2!$A$1,Sheet1!IY256,"") | BJ58: =+IF(Sheet1!IZ256>Sheet2!$A$1,Sheet1!IZ256,"")
A59: P1 | B59: NC_005856 | C59: =+IF(Sheet1!FP257>Sheet2!$A$1,Sheet1!FP257,"") | D59: =+IF(Sheet1!IR257>Sheet2!$A$1,Sheet1!IR257,"") | E59: =+IF(Sheet1!HN257>Sheet2!$A$1,Sheet1!HN257,"") | F59: =+IF(Sheet1!HO257>Sheet2!$A$1,Sheet1!HO257,"") | G59: =+IF(Sheet1!HL257>Sheet2!$A$1,Sheet1!HL257,"") | H59: =+IF(Sheet1!HM257>Sheet2!$A$1,Sheet1!HM257,"") | I59: =+IF(Sheet1!HK257>Sheet2!$A$1,Sheet1!HK257,"") | J59: =+IF(Sheet1!GT257>Sheet2!$A$1,Sheet1!GT257,"") | K59: =+IF(Sheet1!GU257>Sheet2!$A$1,Sheet1!GU257,"") | L59: =+IF(Sheet1!GV257>Sheet2!$A$1,Sheet1!GV257,"") | M59: =+IF(Sheet1!GW257>Sheet2!$A$1,Sheet1!GW257,"") | N59: =+IF(Sheet1!GX257>Sheet2!$A$1,Sheet1!GX257,"") | O59: =+IF(Sheet1!GY257>Sheet2!$A$1,Sheet1!GY257,"") | P59: =+IF(Sheet1!GZ257>Sheet2!$A$1,Sheet1!GZ257,"") | Q59: =+IF(Sheet1!HA257>Sheet2!$A$1,Sheet1!HA257,"") | ... Z59: =+IF(Sheet1!HJ257>Sheet2!$A$1,Sheet1!HJ257,"") | AA59: =+IF(Sheet1!HP257>Sheet2!$A$1,Sheet1!HP257,"") | AB59: =+IF(Sheet1!HQ257>Sheet2!$A$1,Sheet1!HQ257,"") | AC59: =+IF(Sheet1!HR257>Sheet2!$A$1,Sheet1!HR257,"") | AD59: =+IF(Sheet1!HS257>Sheet2!$A$1,Sheet1!HS257,"") | AE59: =+IF(Sheet1!HT257>Sheet2!$A$1,Sheet1!HT257,"") | AF59: =+IF(Sheet1!HU257>Sheet2!$A$1,Sheet1!HU257,"") | AG59: =+IF(Sheet1!HV257>Sheet2!$A$1,Sheet1!HV257,"") | AH59: =+IF(Sheet1!HW257>Sheet2!$A$1,Sheet1!HW257,"") | ... BB59: =+IF(Sheet1!IQ257>Sheet2!$A$1,Sheet1!IQ257,"") | BC59: =+IF(Sheet1!IS257>Sheet2!$A$1,Sheet1!IS257,"") | BD59: =+IF(Sheet1!IT257>Sheet2!$A$1,Sheet1!IT257,"") | BE59: =+IF(Sheet1!IU257>Sheet2!$A$1,Sheet1!IU257,"") | BF59: =+IF(Sheet1!IV257>Sheet2!$A$1,Sheet1!IV257,"") | BG59: =+IF(Sheet1!IW257>Sheet2!$A$1,Sheet1!IW257,"") | BH59: =+IF(Sheet1!IX257>Sheet2!$A$1,Sheet1!IX257,"") -> 100 | BI59: =+IF(Sheet1!IY257>Sheet2!$A$1,Sheet1!IY257,"") | BJ59: =+IF(Sheet1!IZ257>Sheet2!$A$1,Sheet1!IZ257,"")
A60: P4 | B60: NC_001609 | C60: =+IF(Sheet1!FP258>Sheet2!$A$1,Sheet1!FP258,"") | D60: =+IF(Sheet1!IR258>Sheet2!$A$1,Sheet1!IR258,"") | E60: =+IF(Sheet1!HN258>Sheet2!$A$1,Sheet1!HN258,"") | F60: =+IF(Sheet1!HO258>Sheet2!$A$1,Sheet1!HO258,"") | G60: =+IF(Sheet1!HL258>Sheet2!$A$1,Sheet1!HL258,"") | H60: =+IF(Sheet1!HM258>Sheet2!$A$1,Sheet1!HM258,"") | I60: =+IF(Sheet1!HK258>Sheet2!$A$1,Sheet1!HK258,"") | J60: =+IF(Sheet1!GT258>Sheet2!$A$1,Sheet1!GT258,"") | K60: =+IF(Sheet1!GU258>Sheet2!$A$1,Sheet1!GU258,"") | L60: =+IF(Sheet1!GV258>Sheet2!$A$1,Sheet1!GV258,"") | M60: =+IF(Sheet1!GW258>Sheet2!$A$1,Sheet1!GW258,"") | N60: =+IF(Sheet1!GX258>Sheet2!$A$1,Sheet1!GX258,"") | O60: =+IF(Sheet1!GY258>Sheet2!$A$1,Sheet1!GY258,"") | P60: =+IF(Sheet1!GZ258>Sheet2!$A$1,Sheet1!GZ258,"") | Q60: =+IF(Sheet1!HA258>Sheet2!$A$1,Sheet1!HA258,"") | ... Z60: =+IF(Sheet1!HJ258>Sheet2!$A$1,Sheet1!HJ258,"") | AA60: =+IF(Sheet1!HP258>Sheet2!$A$1,Sheet1!HP258,"") | AB60: =+IF(Sheet1!HQ258>Sheet2!$A$1,Sheet1!HQ258,"") | AC60: =+IF(Sheet1!HR258>Sheet2!$A$1,Sheet1!HR258,"") | AD60: =+IF(Sheet1!HS258>Sheet2!$A$1,Sheet1!HS258,"") | AE60: =+IF(Sheet1!HT258>Sheet2!$A$1,Sheet1!HT258,"") | AF60: =+IF(Sheet1!HU258>Sheet2!$A$1,Sheet1!HU258,"") | AG60: =+IF(Sheet1!HV258>Sheet2!$A$1,Sheet1!HV258,"") | AH60: =+IF(Sheet1!HW258>Sheet2!$A$1,Sheet1!HW258,"") | ... BB60: =+IF(Sheet1!IQ258>Sheet2!$A$1,Sheet1!IQ258,"") | BC60: =+IF(Sheet1!IS258>Sheet2!$A$1,Sheet1!IS258,"") | BD60: =+IF(Sheet1!IT258>Sheet2!$A$1,Sheet1!IT258,"") | BE60: =+IF(Sheet1!IU258>Sheet2!$A$1,Sheet1!IU258,"") | BF60: =+IF(Sheet1!IV258>Sheet2!$A$1,Sheet1!IV258,"") | BG60: =+IF(Sheet1!IW258>Sheet2!$A$1,Sheet1!IW258,"") | BH60: =+IF(Sheet1!IX258>Sheet2!$A$1,Sheet1!IX258,"") | BI60: =+IF(Sheet1!IY258>Sheet2!$A$1,Sheet1!IY258,"") -> 100 | BJ60: =+IF(Sheet1!IZ258>Sheet2!$A$1,Sheet1!IZ258,"")
A61: φ CD119 | B61: NC_007917 | C61: =+IF(Sheet1!FP259>Sheet2!$A$1,Sheet1!FP259,"") | D61: =+IF(Sheet1!IR259>Sheet2!$A$1,Sheet1!IR259,"") | E61: =+IF(Sheet1!HN259>Sheet2!$A$1,Sheet1!HN259,"") | F61: =+IF(Sheet1!HO259>Sheet2!$A$1,Sheet1!HO259,"") | G61: =+IF(Sheet1!HL259>Sheet2!$A$1,Sheet1!HL259,"") | H61: =+IF(Sheet1!HM259>Sheet2!$A$1,Sheet1!HM259,"") | I61: =+IF(Sheet1!HK259>Sheet2!$A$1,Sheet1!HK259,"") | J61: =+IF(Sheet1!GT259>Sheet2!$A$1,Sheet1!GT259,"") | K61: =+IF(Sheet1!GU259>Sheet2!$A$1,Sheet1!GU259,"") | L61: =+IF(Sheet1!GV259>Sheet2!$A$1,Sheet1!GV259,"") | M61: =+IF(Sheet1!GW259>Sheet2!$A$1,Sheet1!GW259,"") | N61: =+IF(Sheet1!GX259>Sheet2!$A$1,Sheet1!GX259,"") | O61: =+IF(Sheet1!GY259>Sheet2!$A$1,Sheet1!GY259,"") | P61: =+IF(Sheet1!GZ259>Sheet2!$A$1,Sheet1!GZ259,"") | Q61: =+IF(Sheet1!HA259>Sheet2!$A$1,Sheet1!HA259,"") | ... Z61: =+IF(Sheet1!HJ259>Sheet2!$A$1,Sheet1!HJ259,"") | AA61: =+IF(Sheet1!HP259>Sheet2!$A$1,Sheet1!HP259,"") | AB61: =+IF(Sheet1!HQ259>Sheet2!$A$1,Sheet1!HQ259,"") | AC61: =+IF(Sheet1!HR259>Sheet2!$A$1,Sheet1!HR259,"") | AD61: =+IF(Sheet1!HS259>Sheet2!$A$1,Sheet1!HS259,"") | AE61: =+IF(Sheet1!HT259>Sheet2!$A$1,Sheet1!HT259,"") | AF61: =+IF(Sheet1!HU259>Sheet2!$A$1,Sheet1!HU259,"") | AG61: =+IF(Sheet1!HV259>Sheet2!$A$1,Sheet1!HV259,"") | AH61: =+IF(Sheet1!HW259>Sheet2!$A$1,Sheet1!HW259,"") | ... BB61: =+IF(Sheet1!IQ259>Sheet2!$A$1,Sheet1!IQ259,"") | BC61: =+IF(Sheet1!IS259>Sheet2!$A$1,Sheet1!IS259,"") -> 10.144928 | BD61: =+IF(Sheet1!IT259>Sheet2!$A$1,Sheet1!IT259,"") | BE61: =+IF(Sheet1!IU259>Sheet2!$A$1,Sheet1!IU259,"") | BF61: =+IF(Sheet1!IV259>Sheet2!$A$1,Sheet1!IV259,"") | BG61: =+IF(Sheet1!IW259>Sheet2!$A$1,Sheet1!IW259,"") | BH61: =+IF(Sheet1!IX259>Sheet2!$A$1,Sheet1!IX259,"") | BI61: =+IF(Sheet1!IY259>Sheet2!$A$1,Sheet1!IY259,"") | BJ61: =+IF(Sheet1!IZ259>Sheet2!$A$1,Sheet1!IZ259,"") -> 100

Sheet Sheet3
A1: 10 | B1: AC-Namen | C1: phage Bxz1 | D1: phage P27 | E1: phage V] | F1: phage phiE255 | G1: phage BcepMu | H1: phage Mu | I1: phage RSA1 | J1: phage phi52237 | K1: phage phiE202 | L1: phage phiE12-2 | M1: phage 186 | N1: phage WPhi | O1: phage PsP3 | P1: phage P2] | Q1: phage L-413C | R1: phage phi CTX | S1: phage phi-MhaA1-PHL101 | T1: phage VHML | U1: phage VP882 | V1: phage F108 | W1: phage HP1] | X1: phage HP2] | Y1: phage K139 | Z1: phage 25] | AA1: phage 31] | AB1: phage 44RR2 | AC1: phage RB69 | AD1: phage RB32 | AE1: phage T4 | AF1: phage RB49 | AG1: phage Aeh1 | AH1: phage RB43 | AI1: phage KVP40 | AJ1: phage P-SSM4 | AK1: phage S-PM2 | AL1: phage Syn9 | AM1: phage P-SSM2 | AN1: phage Bcep1] | AO1: phage Bcep781] | AP1: phage Bcep43] | AQ1: phage BcepB1A] | AR1: phage BcepF1] | AS1: phage G1] | AT1: phage K] | AU1: phage Twort | AV1: phage P100] | AW1: phage LP65] | AX1: phage EL] | AY1: phage phiKZ | AZ1: phage Aaphi23 | BA1: phage Felix 01 | BB1: phage EJ-1 | BC1: phage GBSV1 | BD1: phage RM 378 | BE1: PhiCh1 | BF1: phage Ma-LMM01 | BG1: phage P1] | BH1: phage P4] | BI1: phage phi CD119
A2: phage Bxz1 | B2: NC_004687 | C2: =+IF(Sheet1!IR251>Sheet3!$A$1,Sheet1!IR251,"") -> 100 | D2: =+IF(Sheet1!HN251>Sheet2!$A$1,Sheet1!HN251,"") | E2: =+IF(Sheet1!HO251>Sheet2!$A$1,Sheet1!HO251,"") | F2: =+IF(Sheet1!HL251>Sheet2!$A$1,Sheet1!HL251,"") | G2: =+IF(Sheet1!HM251>Sheet2!$A$1,Sheet1!HM251,"") | H2: =+IF(Sheet1!HK251>Sheet2!$A$1,Sheet1!HK251,"") | I2: =+IF(Sheet1!GT251>Sheet2!$A$1,Sheet1!GT251,"") | J2: =+IF(Sheet1!GU251>Sheet2!$A$1,Sheet1!GU251,"") | K2: =+IF(Sheet1!GV251>Sheet2!$A$1,Sheet1!GV251,"") | L2: =+IF(Sheet1!GW251>Sheet2!$A$1,Sheet1!GW251,"") | M2: =+IF(Sheet1!GX251>Sheet2!$A$1,Sheet1!GX251,"") | N2: =+IF(Sheet1!GY251>Sheet2!$A$1,Sheet1!GY251,"") | O2: =+IF(Sheet1!GZ251>Sheet2!$A$1,Sheet1!GZ251,"") | P2: =+IF(Sheet1!HA251>Sheet2!$A$1,Sheet1!HA251,"") | ... Y2: =+IF(Sheet1!HJ251>Sheet2!$A$1,Sheet1!HJ251,"") | Z2: =+IF(Sheet1!HP251>Sheet2!$A$1,Sheet1!HP251,"") | AA2: =+IF(Sheet1!HQ251>Sheet2!$A$1,Sheet1!HQ251,"") | AB2: =+IF(Sheet1!HR251>Sheet2!$A$1,Sheet1!HR251,"") | AC2: =+IF(Sheet1!HS251>Sheet2!$A$1,Sheet1!HS251,"") | AD2: =+IF(Sheet1!HT251>Sheet2!$A$1,Sheet1!HT251,"") | AE2: =+IF(Sheet1!HU251>Sheet2!$A$1,Sheet1!HU251,"") | AF2: =+IF(Sheet1!HV251>Sheet2!$A$1,Sheet1!HV251,"") | AG2: =+IF(Sheet1!HW251>Sheet2!$A$1,Sheet1!HW251,"") | ... BA2: =+IF(Sheet1!IQ251>Sheet2!$A$1,Sheet1!IQ251,"") | BB2: =+IF(Sheet1!IS251>Sheet2!$A$1,Sheet1!IS251,"") | BC2: =+IF(Sheet1!IT251>Sheet2!$A$1,Sheet1!IT251,"") | BD2: =+IF(Sheet1!IU251>Sheet2!$A$1,Sheet1!IU251,"") | BE2: =+IF(Sheet1!IV251>Sheet2!$A$1,Sheet1!IV251,"") | BF2: =+IF(Sheet1!IW251>Sheet2!$A$1,Sheet1!IW251,"") | BG2: =+IF(Sheet1!IX251>Sheet2!$A$1,Sheet1!IX251,"") | BH2: =+IF(Sheet1!IY251>Sheet2!$A$1,Sheet1!IY251,"") | BI2: =+IF(Sheet1!IZ251>Sheet2!$A$1,Sheet1!IZ251,"")
A3: phage P27 | B3: NC_003356 | C3: =+IF(Sheet1!IR221>Sheet2!$A$1,Sheet1!IR221,"") | D3: =+IF(Sheet1!HN221>Sheet2!$A$1,Sheet1!HN221,"") -> 100 | E3: =+IF(Sheet1!HO221>Sheet2!$A$1,Sheet1!HO221,"") -> 42.105263 | F3: =+IF(Sheet1!HL221>Sheet2!$A$1,Sheet1!HL221,"") | G3: =+IF(Sheet1!HM221>Sheet2!$A$1,Sheet1!HM221,"") | H3: =+IF(Sheet1!HK221>Sheet2!$A$1,Sheet1!HK221,"") -> 15.789474 | I3: =+IF(Sheet1!GT221>Sheet2!$A$1,Sheet1!GT221,"") | J3: =+IF(Sheet1!GU221>Sheet2!$A$1,Sheet1!GU221,"") | K3: =+IF(Sheet1!GV221>Sheet2!$A$1,Sheet1!GV221,"") | L3: =+IF(Sheet1!GW221>Sheet2!$A$1,Sheet1!GW221,"") | M3: =+IF(Sheet1!GX221>Sheet2!$A$1,Sheet1!GX221,"") | N3: =+IF(Sheet1!GY221>Sheet2!$A$1,Sheet1!GY221,"") | O3: =+IF(Sheet1!GZ221>Sheet2!$A$1,Sheet1!GZ221,"") | P3: =+IF(Sheet1!HA221>Sheet2!$A$1,Sheet1!HA221,"") | ... Y3: =+IF(Sheet1!HJ221>Sheet2!$A$1,Sheet1!HJ221,"") | Z3: =+IF(Sheet1!HP221>Sheet2!$A$1,Sheet1!HP221,"") | AA3: =+IF(Sheet1!HQ221>Sheet2!$A$1,Sheet1!HQ221,"") | AB3: =+IF(Sheet1!HR221>Sheet2!$A$1,Sheet1!HR221,"") | AC3: =+IF(Sheet1!HS221>Sheet2!$A$1,Sheet1!HS221,"") | AD3: =+IF(Sheet1!HT221>Sheet2!$A$1,Sheet1!HT221,"") | AE3: =+IF(Sheet1!HU221>Sheet2!$A$1,Sheet1!HU221,"") | AF3: =+IF(Sheet1!HV221>Sheet2!$A$1,Sheet1!HV221,"") | AG3: =+IF(Sheet1!HW221>Sheet2!$A$1,Sheet1!HW221,"") | ... BA3: =+IF(Sheet1!IQ221>Sheet2!$A$1,Sheet1!IQ221,"") | BB3: =+IF(Sheet1!IS221>Sheet2!$A$1,Sheet1!IS221,"") | BC3: =+IF(Sheet1!IT221>Sheet2!$A$1,Sheet1!IT221,"") | BD3: =+IF(Sheet1!IU221>Sheet2!$A$1,Sheet1!IU221,"") | BE3: =+IF(Sheet1!IV221>Sheet2!$A$1,Sheet1!IV221,"") | BF3: =+IF(Sheet1!IW221>Sheet2!$A$1,Sheet1!IW221,"") | BG3: =+IF(Sheet1!IX221>Sheet2!$A$1,Sheet1!IX221,"") | BH3: =+IF(Sheet1!IY221>Sheet2!$A$1,Sheet1!IY221,"") | BI3: =+IF(Sheet1!IZ221>Sheet2!$A$1,Sheet1!IZ221,"")
A4: phage V] | B4: NC_003444 | C4: =+IF(Sheet1!IR222>Sheet2!$A$1,Sheet1!IR222,"") | D4: =+IF(Sheet1!HN222>Sheet2!$A$1,Sheet1!HN222,"") -> 45.283019 | E4: =+IF(Sheet1!HO222>Sheet2!$A$1,Sheet1!HO222,"") -> 100 | F4: =+IF(Sheet1!HL222>Sheet2!$A$1,Sheet1!HL222,"") | G4: =+IF(Sheet1!HM222>Sheet2!$A$1,Sheet1!HM222,"") | H4: =+IF(Sheet1!HK222>Sheet2!$A$1,Sheet1!HK222,"") -> 18.867925 | I4: =+IF(Sheet1!GT222>Sheet2!$A$1,Sheet1!GT222,"") | J4: =+IF(Sheet1!GU222>Sheet2!$A$1,Sheet1!GU222,"") | K4: =+IF(Sheet1!GV222>Sheet2!$A$1,Sheet1!GV222,"") | L4: =+IF(Sheet1!GW222>Sheet2!$A$1,Sheet1!GW222,"") | M4: =+IF(Sheet1!GX222>Sheet2!$A$1,Sheet1!GX222,"") | N4: =+IF(Sheet1!GY222>Sheet2!$A$1,Sheet1!GY222,"") | O4: =+IF(Sheet1!GZ222>Sheet2!$A$1,Sheet1!GZ222,"") | P4: =+IF(Sheet1!HA222>Sheet2!$A$1,Sheet1!HA222,"") | ... Y4: =+IF(Sheet1!HJ222>Sheet2!$A$1,Sheet1!HJ222,"") | Z4: =+IF(Sheet1!HP222>Sheet2!$A$1,Sheet1!HP222,"") | AA4: =+IF(Sheet1!HQ222>Sheet2!$A$1,Sheet1!HQ222,"") | AB4: =+IF(Sheet1!HR222>Sheet2!$A$1,Sheet1!HR222,"") | AC4: =+IF(Sheet1!HS222>Sheet2!$A$1,Sheet1!HS222,"") | AD4: =+IF(Sheet1!HT222>Sheet2!$A$1,Sheet1!HT222,"") | AE4: =+IF(Sheet1!HU222>Sheet2!$A$1,Sheet1!HU222,"") | AF4: =+IF(Sheet1!HV222>Sheet2!$A$1,Sheet1!HV222,"") | AG4: =+IF(Sheet1!HW222>Sheet2!$A$1,Sheet1!HW222,"") | ... BA4: =+IF(Sheet1!IQ222>Sheet2!$A$1,Sheet1!IQ222,"") | BB4: =+IF(Sheet1!IS222>Sheet2!$A$1,Sheet1!IS222,"") | BC4: =+IF(Sheet1!IT222>Sheet2!$A$1,Sheet1!IT222,"") | BD4: =+IF(Sheet1!IU222>Sheet2!$A$1,Sheet1!IU222,"") | BE4: =+IF(Sheet1!IV222>Sheet2!$A$1,Sheet1!IV222,"") | BF4: =+IF(Sheet1!IW222>Sheet2!$A$1,Sheet1!IW222,"") | BG4: =+IF(Sheet1!IX222>Sheet2!$A$1,Sheet1!IX222,"") | BH4: =+IF(Sheet1!IY222>Sheet2!$A$1,Sheet1!IY222,"") | BI4: =+IF(Sheet1!IZ222>Sheet2!$A$1,Sheet1!IZ222,"")
A5: phage phiE255 | B5: NC_009237 | C5: =+IF(Sheet1!IR219>Sheet2!$A$1,Sheet1!IR219,"") | D5: =+IF(Sheet1!HN219>Sheet2!$A$1,Sheet1!HN219,"") | E5: =+IF(Sheet1!HO219>Sheet2!$A$1,Sheet1!HO219,"") | F5: =+IF(Sheet1!HL219>Sheet2!$A$1,Sheet1!HL219,"") -> 100 | G5: =+IF(Sheet1!HM219>Sheet2!$A$1,Sheet1!HM219,"") -> 88.679245 | H5: =+IF(Sheet1!HK219>Sheet2!$A$1,Sheet1!HK219,"") -> 33.962264 | I5: =+IF(Sheet1!GT219>Sheet2!$A$1,Sheet1!GT219,"") -> 13.207547 | J5: =+IF(Sheet1!GU219>Sheet2!$A$1,Sheet1!GU219,"") -> 15.09434 | K5: =+IF(Sheet1!GV219>Sheet2!$A$1,Sheet1!GV219,"") -> 15.09434 | L5: =+IF(Sheet1!GW219>Sheet2!$A$1,Sheet1!GW219,"") | M5: =+IF(Sheet1!GX219>Sheet2!$A$1,Sheet1!GX219,"") -> 11.320755 | N5: =+IF(Sheet1!GY219>Sheet2!$A$1,Sheet1!GY219,"") -> 13.207547 | O5: =+IF(Sheet1!GZ219>Sheet2!$A$1,Sheet1!GZ219,"") -> 11.320755 | P5: =+IF(Sheet1!HA219>Sheet2!$A$1,Sheet1!HA219,"") -> 13.207547 | ... Y5: =+IF(Sheet1!HJ219>Sheet2!$A$1,Sheet1!HJ219,"") | Z5: =+IF(Sheet1!HP219>Sheet2!$A$1,Sheet1!HP219,"") | AA5: =+IF(Sheet1!HQ219>Sheet2!$A$1,Sheet1!HQ219,"") | AB5: =+IF(Sheet1!HR219>Sheet2!$A$1,Sheet1!HR219,"") | AC5: =+IF(Sheet1!HS219>Sheet2!$A$1,Sheet1!HS219,"") | AD5: =+IF(Sheet1!HT219>Sheet2!$A$1,Sheet1!HT219,"") | AE5: =+IF(Sheet1!HU219>Sheet2!$A$1,Sheet1!HU219,"") | AF5: =+IF(Sheet1!HV219>Sheet2!$A$1,Sheet1!HV219,"") | AG5: =+IF(Sheet1!HW219>Sheet2!$A$1,Sheet1!HW219,"") | ... BA5: =+IF(Sheet1!IQ219>Sheet2!$A$1,Sheet1!IQ219,"") | BB5: =+IF(Sheet1!IS219>Sheet2!$A$1,Sheet1!IS219,"") | BC5: =+IF(Sheet1!IT219>Sheet2!$A$1,Sheet1!IT219,"") | BD5: =+IF(Sheet1!IU219>Sheet2!$A$1,Sheet1!IU219,"") | BE5: =+IF(Sheet1!IV219>Sheet2!$A$1,Sheet1!IV219,"") | BF5: =+IF(Sheet1!IW219>Sheet2!$A$1,Sheet1!IW219,"") | BG5: =+IF(Sheet1!IX219>Sheet2!$A$1,Sheet1!IX219,"") | BH5: =+IF(Sheet1!IY219>Sheet2!$A$1,Sheet1!IY219,"") | BI5: =+IF(Sheet1!IZ219>Sheet2!$A$1,Sheet1!IZ219,"")
A6: phage BcepMu | B6: NC_005882 | C6: =+IF(Sheet1!IR220>Sheet2!$A$1,Sheet1!IR220,"") | D6: =+IF(Sheet1!HN220>Sheet2!$A$1,Sheet1!HN220,"") | E6: =+IF(Sheet1!HO220>Sheet2!$A$1,Sheet1!HO220,"") | F6: =+IF(Sheet1!HL220>Sheet2!$A$1,Sheet1!HL220,"") -> 94.230769 | G6: =+IF(Sheet1!HM220>Sheet2!$A$1,Sheet1!HM220,"") -> 100 | H6: =+IF(Sheet1!HK220>Sheet2!$A$1,Sheet1!HK220,"") -> 32.692308 | I6: =+IF(Sheet1!GT220>Sheet2!$A$1,Sheet1!GT220,"") -> 15.384615 | J6: =+IF(Sheet1!GU220>Sheet2!$A$1,Sheet1!GU220,"") -> 15.384615 | K6: =+IF(Sheet1!GV220>Sheet2!$A$1,Sheet1!GV220,"") -> 15.384615 | L6: =+IF(Sheet1!GW220>Sheet2!$A$1,Sheet1!GW220,"") | M6: =+IF(Sheet1!GX220>Sheet2!$A$1,Sheet1!GX220,"") -> 13.461538 | N6: =+IF(Sheet1!GY220>Sheet2!$A$1,Sheet1!GY220,"") -> 13.461538 | O6: =+IF(Sheet1!GZ220>Sheet2!$A$1,Sheet1!GZ220,"") -> 11.538462 | P6: =+IF(Sheet1!HA220>Sheet2!$A$1,Sheet1!HA220,"") -> 13.461538 | ... Y6: =+IF(Sheet1!HJ220>Sheet2!$A$1,Sheet1!HJ220,"") | Z6: =+IF(Sheet1!HP220>Sheet2!$A$1,Sheet1!HP220,"") | AA6: =+IF(Sheet1!HQ220>Sheet2!$A$1,Sheet1!HQ220,"") | AB6: =+IF(Sheet1!HR220>Sheet2!$A$1,Sheet1!HR220,"") | AC6: =+IF(Sheet1!HS220>Sheet2!$A$1,Sheet1!HS220,"") | AD6: =+IF(Sheet1!HT220>Sheet2!$A$1,Sheet1!HT220,"") | AE6: =+IF(Sheet1!HU220>Sheet2!$A$1,Sheet1!HU220,"") | AF6: =+IF(Sheet1!HV220>Sheet2!$A$1,Sheet1!HV220,"") | AG6: =+IF(Sheet1!HW220>Sheet2!$A$1,Sheet1!HW220,"") | ... BA6: =+IF(Sheet1!IQ220>Sheet2!$A$1,Sheet1!IQ220,"") | BB6: =+IF(Sheet1!IS220>Sheet2!$A$1,Sheet1!IS220,"") | BC6: =+IF(Sheet1!IT220>Sheet2!$A$1,Sheet1!IT220,"") | BD6: =+IF(Sheet1!IU220>Sheet2!$A$1,Sheet1!IU220,"") | BE6: =+IF(Sheet1!IV220>Sheet2!$A$1,Sheet1!IV220,"") | BF6: =+IF(Sheet1!IW220>Sheet2!$A$1,Sheet1!IW220,"") | BG6: =+IF(Sheet1!IX220>Sheet2!$A$1,Sheet1!IX220,"") | BH6: =+IF(Sheet1!IY220>Sheet2!$A$1,Sheet1!IY220,"") | BI6: =+IF(Sheet1!IZ220>Sheet2!$A$1,Sheet1!IZ220,"")
A7: phage Mu | B7: NC_000929 | C7: =+IF(Sheet1!IR218>Sheet2!$A$1,Sheet1!IR218,"") | D7: =+IF(Sheet1!HN218>Sheet2!$A$1,Sheet1!HN218,"") -> 16.981132 | E7: =+IF(Sheet1!HO218>Sheet2!$A$1,Sheet1!HO218,"") -> 16.981132 | F7: =+IF(Sheet1!HL218>Sheet2!$A$1,Sheet1!HL218,"") -> 15.09434 | G7: =+IF(Sheet1!HM218>Sheet2!$A$1,Sheet1!HM218,"") -> 16.981132 | H7: =+IF(Sheet1!HK218>Sheet2!$A$1,Sheet1!HK218,"") -> 100 | I7: =+IF(Sheet1!GT218>Sheet2!$A$1,Sheet1!GT218,"") | J7: =+IF(Sheet1!GU218>Sheet2!$A$1,Sheet1!GU218,"") | K7: =+IF(Sheet1!GV218>Sheet2!$A$1,Sheet1!GV218,"") | L7: =+IF(Sheet1!GW218>Sheet2!$A$1,Sheet1!GW218,"") | M7: =+IF(Sheet1!GX218>Sheet2!$A$1,Sheet1!GX218,"") | N7: =+IF(Sheet1!GY218>Sheet2!$A$1,Sheet1!GY218,"") | O7: =+IF(Sheet1!GZ218>Sheet2!$A$1,Sheet1!GZ218,"") | P7: =+IF(Sheet1!HA218>Sheet2!$A$1,Sheet1!HA218,"") | ... Y7: =+IF(Sheet1!HJ218>Sheet2!$A$1,Sheet1!HJ218,"") | Z7: =+IF(Sheet1!HP218>Sheet2!$A$1,Sheet1!HP218,"") | AA7: =+IF(Sheet1!HQ218>Sheet2!$A$1,Sheet1!HQ218,"") | AB7: =+IF(Sheet1!HR218>Sheet2!$A$1,Sheet1!HR218,"") | AC7: =+IF(Sheet1!HS218>Sheet2!$A$1,Sheet1!HS218,"") | AD7: =+IF(Sheet1!HT218>Sheet2!$A$1,Sheet1!HT218,"") | AE7: =+IF(Sheet1!HU218>Sheet2!$A$1,Sheet1!HU218,"") | AF7: =+IF(Sheet1!HV218>Sheet2!$A$1,Sheet1!HV218,"") | AG7: =+IF(Sheet1!HW218>Sheet2!$A$1,Sheet1!HW218,"") | ... BA7: =+IF(Sheet1!IQ218>Sheet2!$A$1,Sheet1!IQ218,"") | BB7: =+IF(Sheet1!IS218>Sheet2!$A$1,Sheet1!IS218,"") | BC7: =+IF(Sheet1!IT218>Sheet2!$A$1,Sheet1!IT218,"") | BD7: =+IF(Sheet1!IU218>Sheet2!$A$1,Sheet1!IU218,"") | BE7: =+IF(Sheet1!IV218>Sheet2!$A$1,Sheet1!IV218,"") | BF7: =+IF(Sheet1!IW218>Sheet2!$A$1,Sheet1!IW218,"") | BG7: =+IF(Sheet1!IX218>Sheet2!$A$1,Sheet1!IX218,"") | BH7: =+IF(Sheet1!IY218>Sheet2!$A$1,Sheet1!IY218,"") | BI7: =+IF(Sheet1!IZ218>Sheet2!$A$1,Sheet1!IZ218,"")
A8: phage RSA1 | B8: NC_009382 | C8: =+IF(Sheet1!IR201>Sheet2!$A$1,Sheet1!IR201,"") | D8: =+IF(Sheet1!HN201>Sheet2!$A$1,Sheet1!HN201,"") | E8: =+IF(Sheet1!HO201>Sheet2!$A$1,Sheet1!HO201,"") | F8: =+IF(Sheet1!HL201>Sheet2!$A$1,Sheet1!HL201,"") -> 15.686275 | G8: =+IF(Sheet1!HM201>Sheet2!$A$1,Sheet1!HM201,"") -> 15.686275 | H8: =+IF(Sheet1!HK201>Sheet2!$A$1,Sheet1!HK201,"") -> 17.647059 | I8: =+IF(Sheet1!GT201>Sheet2!$A$1,Sheet1!GT201,"") -> 100 | J8: =+IF(Sheet1!GU201>Sheet2!$A$1,Sheet1!GU201,"") -> 54.901961 | K8: =+IF(Sheet1!GV201>Sheet2!$A$1,Sheet1!GV201,"") -> 41.176471 | L8: =+IF(Sheet1!GW201>Sheet2!$A$1,Sheet1!GW201,"") -> 35.294118 | M8: =+IF(Sheet1!GX201>Sheet2!$A$1,Sheet1!GX201,"") -> 39.215686 | N8: =+IF(Sheet1!GY201>Sheet2!$A$1,Sheet1!GY201,"") -> 39.215686 | O8: =+IF(Sheet1!GZ201>Sheet2!$A$1,Sheet1!GZ201,"") -> 39.215686 | P8: =+IF(Sheet1!HA201>Sheet2!$A$1,Sheet1!HA201,"") -> 39.215686 | ... Y8: =+IF(Sheet1!HJ201>Sheet2!$A$1,Sheet1!HJ201,"") -> 11.764706 | Z8: =+IF(Sheet1!HP201>Sheet2!$A$1,Sheet1!HP201,"") | AA8: =+IF(Sheet1!HQ201>Sheet2!$A$1,Sheet1!HQ201,"") | AB8: =+IF(Sheet1!HR201>Sheet2!$A$1,Sheet1!HR201,"") | AC8: =+IF(Sheet1!HS201>Sheet2!$A$1,Sheet1!HS201,"") | AD8: =+IF(Sheet1!HT201>Sheet2!$A$1,Sheet1!HT201,"") | AE8: =+IF(Sheet1!HU201>Sheet2!$A$1,Sheet1!HU201,"") | AF8: =+IF(Sheet1!HV201>Sheet2!$A$1,Sheet1!HV201,"") | AG8: =+IF(Sheet1!HW201>Sheet2!$A$1,Sheet1!HW201,"") | ... BA8: =+IF(Sheet1!IQ201>Sheet2!$A$1,Sheet1!IQ201,"") | BB8: =+IF(Sheet1!IS201>Sheet2!$A$1,Sheet1!IS201,"") | BC8: =+IF(Sheet1!IT201>Sheet2!$A$1,Sheet1!IT201,"") | BD8: =+IF(Sheet1!IU201>Sheet2!$A$1,Sheet1!IU201,"") | BE8: =+IF(Sheet1!IV201>Sheet2!$A$1,Sheet1!IV201,"") | BF8: =+IF(Sheet1!IW201>Sheet2!$A$1,Sheet1!IW201,"") | BG8: =+IF(Sheet1!IX201>Sheet2!$A$1,Sheet1!IX201,"") | BH8: =+IF(Sheet1!IY201>Sheet2!$A$1,Sheet1!IY201,"") | BI8: =+IF(Sheet1!IZ201>Sheet2!$A$1,Sheet1!IZ201,"")
A9: phage phi52237 | B9: NC_007145 | C9: =+IF(Sheet1!IR202>Sheet2!$A$1,Sheet1!IR202,"") | D9: =+IF(Sheet1!HN202>Sheet2!$A$1,Sheet1!HN202,"") | E9: =+IF(Sheet1!HO202>Sheet2!$A$1,Sheet1!HO202,"") | F9: =+IF(Sheet1!HL202>Sheet2!$A$1,Sheet1!HL202,"") -> 17.777778 | G9: =+IF(Sheet1!HM202>Sheet2!$A$1,Sheet1!HM202,"") -> 17.777778 | H9: =+IF(Sheet1!HK202>Sheet2!$A$1,Sheet1!HK202,"") -> 20 | I9: =+IF(Sheet1!GT202>Sheet2!$A$1,Sheet1!GT202,"") -> 62.222222 | J9: =+IF(Sheet1!GU202>Sheet2!$A$1,Sheet1!GU202,"") -> 100 | K9: =+IF(Sheet1!GV202>Sheet2!$A$1,Sheet1!GV202,"") -> 73.333333 | L9: =+IF(Sheet1!GW202>Sheet2!$A$1,Sheet1!GW202,"") -> 48.888889 | M9: =+IF(Sheet1!GX202>Sheet2!$A$1,Sheet1!GX202,"") -> 46.666667 | N9: =+IF(Sheet1!GY202>Sheet2!$A$1,Sheet1!GY202,"") -> 46.666667 | O9: =+IF(Sheet1!GZ202>Sheet2!$A$1,Sheet1!GZ202,"") -> 46.666667 | P9: =+IF(Sheet1!HA202>Sheet2!$A$1,Sheet1!HA202,"") -> 44.444444 | ... Y9: =+IF(Sheet1!HJ202>Sheet2!$A$1,Sheet1!HJ202,"") -> 13.333333 | Z9: =+IF(Sheet1!HP202>Sheet2!$A$1,Sheet1!HP202,"") | AA9: =+IF(Sheet1!HQ202>Sheet2!$A$1,Sheet1!HQ202,"") | AB9: =+IF(Sheet1!HR202>Sheet2!$A$1,Sheet1!HR202,"") | AC9: =+IF(Sheet1!HS202>Sheet2!$A$1,Sheet1!HS202,"") | AD9: =+IF(Sheet1!HT202>Sheet2!$A$1,Sheet1!HT202,"") | AE9: =+IF(Sheet1!HU202>Sheet2!$A$1,Sheet1!HU202,"") | AF9: =+IF(Sheet1!HV202>Sheet2!$A$1,Sheet1!HV202,"") | AG9: =+IF(Sheet1!HW202>Sheet2!$A$1,Sheet1!HW202,"") | ... BA9: =+IF(Sheet1!IQ202>Sheet2!$A$1,Sheet1!IQ202,"") | BB9: =+IF(Sheet1!IS202>Sheet2!$A$1,Sheet1!IS202,"") | BC9: =+IF(Sheet1!IT202>Sheet2!$A$1,Sheet1!IT202,"") | BD9: =+IF(Sheet1!IU202>Sheet2!$A$1,Sheet1!IU202,"") | BE9: =+IF(Sheet1!IV202>Sheet2!$A$1,Sheet1!IV202,"") | BF9: =+IF(Sheet1!IW202>Sheet2!$A$1,Sheet1!IW202,"") | BG9: =+IF(Sheet1!IX202>Sheet2!$A$1,Sheet1!IX202,"") | BH9: =+IF(Sheet1!IY202>Sheet2!$A$1,Sheet1!IY202,"") | BI9: =+IF(Sheet1!IZ202>Sheet2!$A$1,Sheet1!IZ202,"")
A10: phage phiE202 | B10: NC_009234 | C10: =+IF(Sheet1!IR203>Sheet2!$A$1,Sheet1!IR203,"") | D10: =+IF(Sheet1!HN203>Sheet2!$A$1,Sheet1!HN203,"") | E10: =+IF(Sheet1!HO203>Sheet2!$A$1,Sheet1!HO203,"") | F10: =+IF(Sheet1!HL203>Sheet2!$A$1,Sheet1!HL203,"") -> 20.454545 | G10: =+IF(Sheet1!HM203>Sheet2!$A$1,Sheet1!HM203,"") -> 18.181818 | H10: =+IF(Sheet1!HK203>Sheet2!$A$1,Sheet1!HK203,"") -> 18.181818 | I10: =+IF(Sheet1!GT203>Sheet2!$A$1,Sheet1!GT203,"") -> 63.636364 | J10: =+IF(Sheet1!GU203>Sheet2!$A$1,Sheet1!GU203,"") -> 100 | K10: =+IF(Sheet1!GV203>Sheet2!$A$1,Sheet1!GV203,"") -> 86.363636 | L10: =+IF(Sheet1!GW203>Sheet2!$A$1,Sheet1!GW203,"") -> 52.272727 | M10: =+IF(Sheet1!GX203>Sheet2!$A$1,Sheet1!GX203,"") -> 52.272727 | N10: =+IF(Sheet1!GY203>Sheet2!$A$1,Sheet1!GY203,"") -> 52.272727 | O10: =+IF(Sheet1!GZ203>Sheet2!$A$1,Sheet1!GZ203,"") -> 52.272727 | P10: =+IF(Sheet1!HA203>Sheet2!$A$1,Sheet1!HA203,"") -> 50 | ... Y10: =+IF(Sheet1!HJ203>Sheet2!$A$1,Sheet1!HJ203,"") -> 13.636364 | Z10: =+IF(Sheet1!HP203>Sheet2!$A$1,Sheet1!HP203,"") | AA10: =+IF(Sheet1!HQ203>Sheet2!$A$1,Sheet1!HQ203,"") | AB10: =+IF(Sheet1!HR203>Sheet2!$A$1,Sheet1!HR203,"") | AC10: =+IF(Sheet1!HS203>Sheet2!$A$1,Sheet1!HS203,"") | AD10: =+IF(Sheet1!HT203>Sheet2!$A$1,Sheet1!HT203,"") | AE10: =+IF(Sheet1!HU203>Sheet2!$A$1,Sheet1!HU203,"") | AF10: =+IF(Sheet1!HV203>Sheet2!$A$1,Sheet1!HV203,"") | AG10: =+IF(Sheet1!HW203>Sheet2!$A$1,Sheet1!HW203,"") | ... BA10: =+IF(Sheet1!IQ203>Sheet2!$A$1,Sheet1!IQ203,"") | BB10: =+IF(Sheet1!IS203>Sheet2!$A$1,Sheet1!IS203,"") | BC10: =+IF(Sheet1!IT203>Sheet2!$A$1,Sheet1!IT203,"") | BD10: =+IF(Sheet1!IU203>Sheet2!$A$1,Sheet1!IU203,"") | BE10: =+IF(Sheet1!IV203>Sheet2!$A$1,Sheet1!IV203,"") | BF10: =+IF(Sheet1!IW203>Sheet2!$A$1,Sheet1!IW203,"") | BG10: =+IF(Sheet1!IX203>Sheet2!$A$1,Sheet1!IX203,"") | BH10: =+IF(Sheet1!IY203>Sheet2!$A$1,Sheet1!IY203,"") | BI10: =+IF(Sheet1!IZ203>Sheet2!$A$1,Sheet1!IZ203,"")
A11: phage phiE12-2 | B11: NC_009236 | C11: =+IF(Sheet1!IR204>Sheet2!$A$1,Sheet1!IR204,"") | D11: =+IF(Sheet1!HN204>Sheet2!$A$1,Sheet1!HN204,"") | E11: =+IF(Sheet1!HO204>Sheet2!$A$1,Sheet1!HO204,"") | F11: =+IF(Sheet1!HL204>Sheet2!$A$1,Sheet1!HL204,"") -> 17.5 | G11: =+IF(Sheet1!HM204>Sheet2!$A$1,Sheet1!HM204,"") -> 17.5 | H11: =+IF(Sheet1!HK204>Sheet2!$A$1,Sheet1!HK204,"") -> 22.5 | I11: =+IF(Sheet1!GT204>Sheet2!$A$1,Sheet1!GT204,"") -> 60 | J11: =+IF(Sheet1!GU204>Sheet2!$A$1,Sheet1!GU204,"") -> 72.5 | K11: =+IF(Sheet1!GV204>Sheet2!$A$1,Sheet1!GV204,"") -> 55 | L11: =+IF(Sheet1!GW204>Sheet2!$A$1,Sheet1!GW204,"") -> 100 | M11: =+IF(Sheet1!GX204>Sheet2!$A$1,Sheet1!GX204,"") -> 55 | N11: =+IF(Sheet1!GY204>Sheet2!$A$1,Sheet1!GY204,"") -> 55 | O11: =+IF(Sheet1!GZ204>Sheet2!$A$1,Sheet1!GZ204,"") -> 55 | P11: =+IF(Sheet1!HA204>Sheet2!$A$1,Sheet1!HA204,"") -> 55 | ... Y11: =+IF(Sheet1!HJ204>Sheet2!$A$1,Sheet1!HJ204,"") -> 17.5 | Z11: =+IF(Sheet1!HP204>Sheet2!$A$1,Sheet1!HP204,"") | AA11: =+IF(Sheet1!HQ204>Sheet2!$A$1,Sheet1!HQ204,"") | AB11: =+IF(Sheet1!HR204>Sheet2!$A$1,Sheet1!HR204,"") | AC11: =+IF(Sheet1!HS204>Sheet2!$A$1,Sheet1!HS204,"") | AD11: =+IF(Sheet1!HT204>Sheet2!$A$1,Sheet1!HT204,"") | AE11: =+IF(Sheet1!HU204>Sheet2!$A$1,Sheet1!HU204,"") | AF11: =+IF(Sheet1!HV204>Sheet2!$A$1,Sheet1!HV204,"") | AG11: =+IF(Sheet1!HW204>Sheet2!$A$1,Sheet1!HW204,"") | ... BA11: =+IF(Sheet1!IQ204>Sheet2!$A$1,Sheet1!IQ204,"") | BB11: =+IF(Sheet1!IS204>Sheet2!$A$1,Sheet1!IS204,"") | BC11: =+IF(Sheet1!IT204>Sheet2!$A$1,Sheet1!IT204,"") | BD11: =+IF(Sheet1!IU204>Sheet2!$A$1,Sheet1!IU204,"") | BE11: =+IF(Sheet1!IV204>Sheet2!$A$1,Sheet1!IV204,"") | BF11: =+IF(Sheet1!IW204>Sheet2!$A$1,Sheet1!IW204,"") | BG11: =+IF(Sheet1!IX204>Sheet2!$A$1,Sheet1!IX204,"") | BH11: =+IF(Sheet1!IY204>Sheet2!$A$1,Sheet1!IY204,"") | BI11: =+IF(Sheet1!IZ204>Sheet2!$A$1,Sheet1!IZ204,"")
A12: phage 186 | B12: NC_001317 | C12: =+IF(Sheet1!IR205>Sheet2!$A$1,Sheet1!IR205,"") | D12: =+IF(Sheet1!HN205>Sheet2!$A$1,Sheet1!HN205,"") | E12: =+IF(Sheet1!HO205>Sheet2!$A$1,Sheet1!HO205,"") | F12: =+IF(Sheet1!HL205>Sheet2!$A$1,Sheet1!HL205,"") -> 15.217391 | G12: =+IF(Sheet1!HM205>Sheet2!$A$1,Sheet1!HM205,"") -> 15.217391 | H12: =+IF(Sheet1!HK205>Sheet2!$A$1,Sheet1!HK205,"") -> 21.73913 | I12: =+IF(Sheet1!GT205>Sheet2!$A$1,Sheet1!GT205,"") -> 45.652174 | J12: =+IF(Sheet1!GU205>Sheet2!$A$1,Sheet1!GU205,"") -> 47.826087 | K12: =+IF(Sheet1!GV205>Sheet2!$A$1,Sheet1!GV205,"") -> 36.956522 | L12: =+IF(Sheet1!GW205>Sheet2!$A$1,Sheet1!GW205,"") -> 34.782609 | M12: =+IF(Sheet1!GX205>Sheet2!$A$1,Sheet1!GX205,"") -> 100 | N12: =+IF(Sheet1!GY205>Sheet2!$A$1,Sheet1!GY205,"") -> 69.565217 | O12: =+IF(Sheet1!GZ205>Sheet2!$A$1,Sheet1!GZ205,"") -> 84.782609 | P12: =+IF(Sheet1!HA205>Sheet2!$A$1,Sheet1!HA205,"") -> 69.565217 | ... Y12: =+IF(Sheet1!HJ205>Sheet2!$A$1,Sheet1!HJ205,"") -> 23.913043 | Z12: =+IF(Sheet1!HP205>Sheet2!$A$1,Sheet1!HP205,"") | AA12: =+IF(Sheet1!HQ205>Sheet2!$A$1,Sheet1!HQ205,"") | AB12: =+IF(Sheet1!HR205>Sheet2!$A$1,Sheet1!HR205,"") | AC12: =+IF(Sheet1!HS205>Sheet2!$A$1,Sheet1!HS205,"") | AD12: =+IF(Sheet1!HT205>Sheet2!$A$1,Sheet1!HT205,"") | AE12: =+IF(Sheet1!HU205>Sheet2!$A$1,Sheet1!HU205,"") | AF12: =+IF(Sheet1!HV205>Sheet2!$A$1,Sheet1!HV205,"") | AG12: =+IF(Sheet1!HW205>Sheet2!$A$1,Sheet1!HW205,"") | ... BA12: =+IF(Sheet1!IQ205>Sheet2!$A$1,Sheet1!IQ205,"") | BB12: =+IF(Sheet1!IS205>Sheet2!$A$1,Sheet1!IS205,"") | BC12: =+IF(Sheet1!IT205>Sheet2!$A$1,Sheet1!IT205,"") | BD12: =+IF(Sheet1!IU205>Sheet2!$A$1,Sheet1!IU205,"") | BE12: =+IF(Sheet1!IV205>Sheet2!$A$1,Sheet1!IV205,"") | BF12: =+IF(Sheet1!IW205>Sheet2!$A$1,Sheet1!IW205,"") | BG12: =+IF(Sheet1!IX205>Sheet2!$A$1,Sheet1!IX205,"") | BH12: =+IF(Sheet1!IY205>Sheet2!$A$1,Sheet1!IY205,"") | BI12: =+IF(Sheet1!IZ205>Sheet2!$A$1,Sheet1!IZ205,"")
A13: phage WPhi | B13: NC_005056 | C13: =+IF(Sheet1!IR206>Sheet2!$A$1,Sheet1!IR206,"") | D13: =+IF(Sheet1!HN206>Sheet2!$A$1,Sheet1!HN206,"") | E13: =+IF(Sheet1!HO206>Sheet2!$A$1,Sheet1!HO206,"") | F13: =+IF(Sheet1!HL206>Sheet2!$A$1,Sheet1!HL206,"") -> 11.363636 | G13: =+IF(Sheet1!HM206>Sheet2!$A$1,Sheet1!HM206,"") -> 13.636364 | H13: =+IF(Sheet1!HK206>Sheet2!$A$1,Sheet1!HK206,"") -> 22.727273 | I13: =+IF(Sheet1!GT206>Sheet2!$A$1,Sheet1!GT206,"") -> 47.727273 | J13: =+IF(Sheet1!GU206>Sheet2!$A$1,Sheet1!GU206,"") -> 47.727273 | K13: =+IF(Sheet1!GV206>Sheet2!$A$1,Sheet1!GV206,"") -> 36.363636 | L13: =+IF(Sheet1!GW206>Sheet2!$A$1,Sheet1!GW206,"") -> 36.363636 | M13: =+IF(Sheet1!GX206>Sheet2!$A$1,Sheet1!GX206,"") -> 70.454545 | N13: =+IF(Sheet1!GY206>Sheet2!$A$1,Sheet1!GY206,"") -> 100 | O13: =+IF(Sheet1!GZ206>Sheet2!$A$1,Sheet1!GZ206,"") -> 68.181818 | P13: =+IF(Sheet1!HA206>Sheet2!$A$1,Sheet1!HA206,"") -> 88.636364 | ... Y13: =+IF(Sheet1!HJ206>Sheet2!$A$1,Sheet1!HJ206,"") -> 20.454545 | Z13: =+IF(Sheet1!HP206>Sheet2!$A$1,Sheet1!HP206,"") | AA13: =+IF(Sheet1!HQ206>Sheet2!$A$1,Sheet1!HQ206,"") | AB13: =+IF(Sheet1!HR206>Sheet2!$A$1,Sheet1!HR206,"") | AC13: =+IF(Sheet1!HS206>Sheet2!$A$1,Sheet1!HS206,"") | AD13: =+IF(Sheet1!HT206>Sheet2!$A$1,Sheet1!HT206,"") | AE13: =+IF(Sheet1!HU206>Sheet2!$A$1,Sheet1!HU206,"") | AF13: =+IF(Sheet1!HV206>Sheet2!$A$1,Sheet1!HV206,"") | AG13: =+IF(Sheet1!HW206>Sheet2!$A$1,Sheet1!HW206,"") | ... BA13: =+IF(Sheet1!IQ206>Sheet2!$A$1,Sheet1!IQ206,"") | BB13: =+IF(Sheet1!IS206>Sheet2!$A$1,Sheet1!IS206,"") | BC13: =+IF(Sheet1!IT206>Sheet2!$A$1,Sheet1!IT206,"") | BD13: =+IF(Sheet1!IU206>Sheet2!$A$1,Sheet1!IU206,"") | BE13: =+IF(Sheet1!IV206>Sheet2!$A$1,Sheet1!IV206,"") | BF13: =+IF(Sheet1!IW206>Sheet2!$A$1,Sheet1!IW206,"") | BG13: =+IF(Sheet1!IX206>Sheet2!$A$1,Sheet1!IX206,"") | BH13: =+IF(Sheet1!IY206>Sheet2!$A$1,Sheet1!IY206,"") | BI13: =+IF(Sheet1!IZ206>Sheet2!$A$1,Sheet1!IZ206,"")
A14: phage PsP3 | B14: NC_005340 | C14: =+IF(Sheet1!IR207>Sheet2!$A$1,Sheet1!IR207,"") | D14: =+IF(Sheet1!HN207>Sheet2!$A$1,Sheet1!HN207,"") | E14: =+IF(Sheet1!HO207>Sheet2!$A$1,Sheet1!HO207,"") | F14: =+IF(Sheet1!HL207>Sheet2!$A$1,Sheet1!HL207,"") -> 15 | G14: =+IF(Sheet1!HM207>Sheet2!$A$1,Sheet1!HM207,"") -> 17.5 | H14: =+IF(Sheet1!HK207>Sheet2!$A$1,Sheet1!HK207,"") -> 22.5 | I14: =+IF(Sheet1!GT207>Sheet2!$A$1,Sheet1!GT207,"") -> 55 | J14: =+IF(Sheet1!GU207>Sheet2!$A$1,Sheet1!GU207,"") -> 60 | K14: =+IF(Sheet1!GV207>Sheet2!$A$1,Sheet1!GV207,"") -> 47.5 | L14: =+IF(Sheet1!GW207>Sheet2!$A$1,Sheet1!GW207,"") -> 42.5 | M14: =+IF(Sheet1!GX207>Sheet2!$A$1,Sheet1!GX207,"") -> 90 | N14: =+IF(Sheet1!GY207>Sheet2!$A$1,Sheet1!GY207,"") -> 77.5 | O14: =+IF(Sheet1!GZ207>Sheet2!$A$1,Sheet1!GZ207,"") -> 100 | P14: =+IF(Sheet1!HA207>Sheet2!$A$1,Sheet1!HA207,"") -> 77.5 | ... Y14: =+IF(Sheet1!HJ207>Sheet2!$A$1,Sheet1!HJ207,"") -> 30 | Z14: =+IF(Sheet1!HP207>Sheet2!$A$1,Sheet1!HP207,"") | AA14: =+IF(Sheet1!HQ207>Sheet2!$A$1,Sheet1!HQ207,"") | AB14: =+IF(Sheet1!HR207>Sheet2!$A$1,Sheet1!HR207,"") | AC14: =+IF(Sheet1!HS207>Sheet2!$A$1,Sheet1!HS207,"") | AD14: =+IF(Sheet1!HT207>Sheet2!$A$1,Sheet1!HT207,"") | AE14: =+IF(Sheet1!HU207>Sheet2!$A$1,Sheet1!HU207,"") | AF14: =+IF(Sheet1!HV207>Sheet2!$A$1,Sheet1!HV207,"") | AG14: =+IF(Sheet1!HW207>Sheet2!$A$1,Sheet1!HW207,"") | ... BA14: =+IF(Sheet1!IQ207>Sheet2!$A$1,Sheet1!IQ207,"") | BB14: =+IF(Sheet1!IS207>Sheet2!$A$1,Sheet1!IS207,"") | BC14: =+IF(Sheet1!IT207>Sheet2!$A$1,Sheet1!IT207,"") | BD14: =+IF(Sheet1!IU207>Sheet2!$A$1,Sheet1!IU207,"") | BE14: =+IF(Sheet1!IV207>Sheet2!$A$1,Sheet1!IV207,"") | BF14: =+IF(Sheet1!IW207>Sheet2!$A$1,Sheet1!IW207,"") | BG14: =+IF(Sheet1!IX207>Sheet2!$A$1,Sheet1!IX207,"") | BH14: =+IF(Sheet1!IY207>Sheet2!$A$1,Sheet1!IY207,"") | BI14: =+IF(Sheet1!IZ207>Sheet2!$A$1,Sheet1!IZ207,"")
A15: phage P2] | B15: NC_001895 | C15: =+IF(Sheet1!IR208>Sheet2!$A$1,Sheet1!IR208,"") | D15: =+IF(Sheet1!HN208>Sheet2!$A$1,Sheet1!HN208,"") | E15: =+IF(Sheet1!HO208>Sheet2!$A$1,Sheet1!HO208,"") | F15: =+IF(Sheet1!HL208>Sheet2!$A$1,Sheet1!HL208,"") -> 13.953488 | G15: =+IF(Sheet1!HM208>Sheet2!$A$1,Sheet1!HM208,"") -> 13.953488 | H15: =+IF(Sheet1!HK208>Sheet2!$A$1,Sheet1!HK208,"") -> 23.255814 | I15: =+IF(Sheet1!GT208>Sheet2!$A$1,Sheet1!GT208,"") -> 48.837209 | J15: =+IF(Sheet1!GU208>Sheet2!$A$1,Sheet1!GU208,"") -> 48.837209 | K15: =+IF(Sheet1!GV208>Sheet2!$A$1,Sheet1!GV208,"") -> 37.209302 | L15: =+IF(Sheet1!GW208>Sheet2!$A$1,Sheet1!GW208,"") -> 37.209302 | M15: =+IF(Sheet1!GX208>Sheet2!$A$1,Sheet1!GX208,"") -> 72.093023 | N15: =+IF(Sheet1!GY208>Sheet2!$A$1,Sheet1!GY208,"") -> 90.697674 | O15: =+IF(Sheet1!GZ208>Sheet2!$A$1,Sheet1!GZ208,"") -> 69.767442 | P15: =+IF(Sheet1!HA208>Sheet2!$A$1,Sheet1!HA208,"") -> 100 | ... Y15: =+IF(Sheet1!HJ208>Sheet2!$A$1,Sheet1!HJ208,"") -> 18.604651 | Z15: =+IF(Sheet1!HP208>Sheet2!$A$1,Sheet1!HP208,"") | AA15: =+IF(Sheet1!HQ208>Sheet2!$A$1,Sheet1!HQ208,"") | AB15: =+IF(Sheet1!HR208>Sheet2!$A$1,Sheet1!HR208,"") | AC15: =+IF(Sheet1!HS208>Sheet2!$A$1,Sheet1!HS208,"") | AD15: =+IF(Sheet1!HT208>Sheet2!$A$1,Sheet1!HT208,"") | AE15: =+IF(Sheet1!HU208>Sheet2!$A$1,Sheet1!HU208,"") | AF15: =+IF(Sheet1!HV208>Sheet2!$A$1,Sheet1!HV208,"") | AG15: =+IF(Sheet1!HW208>Sheet2!$A$1,Sheet1!HW208,"") | ... BA15: =+IF(Sheet1!IQ208>Sheet2!$A$1,Sheet1!IQ208,"") | BB15: =+IF(Sheet1!IS208>Sheet2!$A$1,Sheet1!IS208,"") | BC15: =+IF(Sheet1!IT208>Sheet2!$A$1,Sheet1!IT208,"") | BD15: =+IF(Sheet1!IU208>Sheet2!$A$1,Sheet1!IU208,"") | BE15: =+IF(Sheet1!IV208>Sheet2!$A$1,Sheet1!IV208,"") | BF15: =+IF(Sheet1!IW208>Sheet2!$A$1,Sheet1!IW208,"") | BG15: =+IF(Sheet1!IX208>Sheet2!$A$1,Sheet1!IX208,"") | BH15: =+IF(Sheet1!IY208>Sheet2!$A$1,Sheet1!IY208,"") | BI15: =+IF(Sheet1!IZ208>Sheet2!$A$1,Sheet1!IZ208,"")
A16: phage L-413C | B16: NC_004745 | C16: =+IF(Sheet1!IR209>Sheet2!$A$1,Sheet1!IR209,"") | D16: =+IF(Sheet1!HN209>Sheet2!$A$1,Sheet1!HN209,"") | E16: =+IF(Sheet1!HO209>Sheet2!$A$1,Sheet1!HO209,"") | F16: =+IF(Sheet1!HL209>Sheet2!$A$1,Sheet1!HL209,"") -> 15 | G16: =+IF(Sheet1!HM209>Sheet2!$A$1,Sheet1!HM209,"") -> 15 | H16: =+IF(Sheet1!HK209>Sheet2!$A$1,Sheet1!HK209,"") -> 22.5 | I16: =+IF(Sheet1!GT209>Sheet2!$A$1,Sheet1!GT209,"") -> 52.5 | J16: =+IF(Sheet1!GU209>Sheet2!$A$1,Sheet1!GU209,"") -> 50 | K16: =+IF(Sheet1!GV209>Sheet2!$A$1,Sheet1!GV209,"") -> 37.5 | L16: =+IF(Sheet1!GW209>Sheet2!$A$1,Sheet1!GW209,"") -> 37.5 | M16: =+IF(Sheet1!GX209>Sheet2!$A$1,Sheet1!GX209,"") -> 75 | N16: =+IF(Sheet1!GY209>Sheet2!$A$1,Sheet1!GY209,"") -> 97.5 | O16: =+IF(Sheet1!GZ209>Sheet2!$A$1,Sheet1!GZ209,"") -> 72.5 | P16: =+IF(Sheet1!HA209>Sheet2!$A$1,Sheet1!HA209,"") -> 95 | ... Y16: =+IF(Sheet1!HJ209>Sheet2!$A$1,Sheet1!HJ209,"") -> 22.5 | Z16: =+IF(Sheet1!HP209>Sheet2!$A$1,Sheet1!HP209,"") | AA16: =+IF(Sheet1!HQ209>Sheet2!$A$1,Sheet1!HQ209,"") | AB16: =+IF(Sheet1!HR209>Sheet2!$A$1,Sheet1!HR209,"") | AC16: =+IF(Sheet1!HS209>Sheet2!$A$1,Sheet1!HS209,"") | AD16: =+IF(Sheet1!HT209>Sheet2!$A$1,Sheet1!HT209,"") | AE16: =+IF(Sheet1!HU209>Sheet2!$A$1,Sheet1!HU209,"") | AF16: =+IF(Sheet1!HV209>Sheet2!$A$1,Sheet1!HV209,"") | AG16: =+IF(Sheet1!HW209>Sheet2!$A$1,Sheet1!HW209,"") | ... BA16: =+IF(Sheet1!IQ209>Sheet2!$A$1,Sheet1!IQ209,"") | BB16: =+IF(Sheet1!IS209>Sheet2!$A$1,Sheet1!IS209,"") | BC16: =+IF(Sheet1!IT209>Sheet2!$A$1,Sheet1!IT209,"") | BD16: =+IF(Sheet1!IU209>Sheet2!$A$1,Sheet1!IU209,"") | BE16: =+IF(Sheet1!IV209>Sheet2!$A$1,Sheet1!IV209,"") | BF16: =+IF(Sheet1!IW209>Sheet2!$A$1,Sheet1!IW209,"") | BG16: =+IF(Sheet1!IX209>Sheet2!$A$1,Sheet1!IX209,"") | BH16: =+IF(Sheet1!IY209>Sheet2!$A$1,Sheet1!IY209,"") | BI16: =+IF(Sheet1!IZ209>Sheet2!$A$1,Sheet1!IZ209,"")
A17: phage phi CTX | B17: NC_003278 | C17: =+IF(Sheet1!IR210>Sheet2!$A$1,Sheet1!IR210,"") | D17: =+IF(Sheet1!HN210>Sheet2!$A$1,Sheet1!HN210,"") | E17: =+IF(Sheet1!HO210>Sheet2!$A$1,Sheet1!HO210,"") | F17: =+IF(Sheet1!HL210>Sheet2!$A$1,Sheet1!HL210,"") -> 13.043478 | G17: =+IF(Sheet1!HM210>Sheet2!$A$1,Sheet1!HM210,"") -> 13.043478 | H17: =+IF(Sheet1!HK210>Sheet2!$A$1,Sheet1!HK210,"") -> 15.217391 | I17: =+IF(Sheet1!GT210>Sheet2!$A$1,Sheet1!GT210,"") -> 47.826087 | J17: =+IF(Sheet1!GU210>Sheet2!$A$1,Sheet1!GU210,"") -> 47.826087 | K17: =+IF(Sheet1!GV210>Sheet2!$A$1,Sheet1!GV210,"") -> 36.956522 | L17: =+IF(Sheet1!GW210>Sheet2!$A$1,Sheet1!GW210,"") -> 32.608696 | M17: =+IF(Sheet1!GX210>Sheet2!$A$1,Sheet1!GX210,"") -> 52.173913 | N17: =+IF(Sheet1!GY210>Sheet2!$A$1,Sheet1!GY210,"") -> 52.173913 | O17: =+IF(Sheet1!GZ210>Sheet2!$A$1,Sheet1!GZ210,"") -> 52.173913 | P17: =+IF(Sheet1!HA210>Sheet2!$A$1,Sheet1!HA210,"") -> 52.173913 | ... Y17: =+IF(Sheet1!HJ210>Sheet2!$A$1,Sheet1!HJ210,"") -> 17.391304 | Z17: =+IF(Sheet1!HP210>Sheet2!$A$1,Sheet1!HP210,"") | AA17: =+IF(Sheet1!HQ210>Sheet2!$A$1,Sheet1!HQ210,"") | AB17: =+IF(Sheet1!HR210>Sheet2!$A$1,Sheet1!HR210,"") | AC17: =+IF(Sheet1!HS210>Sheet2!$A$1,Sheet1!HS210,"") | AD17: =+IF(Sheet1!HT210>Sheet2!$A$1,Sheet1!HT210,"") | AE17: =+IF(Sheet1!HU210>Sheet2!$A$1,Sheet1!HU210,"") | AF17: =+IF(Sheet1!HV210>Sheet2!$A$1,Sheet1!HV210,"") | AG17: =+IF(Sheet1!HW210>Sheet2!$A$1,Sheet1!HW210,"") | ... BA17: =+IF(Sheet1!IQ210>Sheet2!$A$1,Sheet1!IQ210,"") | BB17: =+IF(Sheet1!IS210>Sheet2!$A$1,Sheet1!IS210,"") | BC17: =+IF(Sheet1!IT210>Sheet2!$A$1,Sheet1!IT210,"") | BD17: =+IF(Sheet1!IU210>Sheet2!$A$1,Sheet1!IU210,"") | BE17: =+IF(Sheet1!IV210>Sheet2!$A$1,Sheet1!IV210,"") | BF17: =+IF(Sheet1!IW210>Sheet2!$A$1,Sheet1!IW210,"") | BG17: =+IF(Sheet1!IX210>Sheet2!$A$1,Sheet1!IX210,"") | BH17: =+IF(Sheet1!IY210>Sheet2!$A$1,Sheet1!IY210,"") | BI17: =+IF(Sheet1!IZ210>Sheet2!$A$1,Sheet1!IZ210,"")
A18: phage phi-MhaA1-PHL101 | B18: NC_008201 | C18: =+IF(Sheet1!IR211>Sheet2!$A$1,Sheet1!IR211,"") | D18: =+IF(Sheet1!HN211>Sheet2!$A$1,Sheet1!HN211,"") | E18: =+IF(Sheet1!HO211>Sheet2!$A$1,Sheet1!HO211,"") | F18: =+IF(Sheet1!HL211>Sheet2!$A$1,Sheet1!HL211,"") -> 14.583333 | G18: =+IF(Sheet1!HM211>Sheet2!$A$1,Sheet1!HM211,"") -> 14.583333 | H18: =+IF(Sheet1!HK211>Sheet2!$A$1,Sheet1!HK211,"") -> 16.666667 | I18: =+IF(Sheet1!GT211>Sheet2!$A$1,Sheet1!GT211,"") -> 43.75 | J18: =+IF(Sheet1!GU211>Sheet2!$A$1,Sheet1!GU211,"") -> 37.5 | K18: =+IF(Sheet1!GV211>Sheet2!$A$1,Sheet1!GV211,"") -> 27.083333 | L18: =+IF(Sheet1!GW211>Sheet2!$A$1,Sheet1!GW211,"") -> 27.083333 | M18: =+IF(Sheet1!GX211>Sheet2!$A$1,Sheet1!GX211,"") -> 45.833333 | N18: =+IF(Sheet1!GY211>Sheet2!$A$1,Sheet1!GY211,"") -> 47.916667 | O18: =+IF(Sheet1!GZ211>Sheet2!$A$1,Sheet1!GZ211,"") -> 45.833333 | P18: =+IF(Sheet1!HA211>Sheet2!$A$1,Sheet1!HA211,"") -> 45.833333 | ... Y18: =+IF(Sheet1!HJ211>Sheet2!$A$1,Sheet1!HJ211,"") -> 16.666667 | Z18: =+IF(Sheet1!HP211>Sheet2!$A$1,Sheet1!HP211,"") | AA18: =+IF(Sheet1!HQ211>Sheet2!$A$1,Sheet1!HQ211,"") | AB18: =+IF(Sheet1!HR211>Sheet2!$A$1,Sheet1!HR211,"") | AC18: =+IF(Sheet1!HS211>Sheet2!$A$1,Sheet1!HS211,"") | AD18: =+IF(Sheet1!HT211>Sheet2!$A$1,Sheet1!HT211,"") | AE18: =+IF(Sheet1!HU211>Sheet2!$A$1,Sheet1!HU211,"") | AF18: =+IF(Sheet1!HV211>Sheet2!$A$1,Sheet1!HV211,"") | AG18: =+IF(Sheet1!HW211>Sheet2!$A$1,Sheet1!HW211,"") | ... BA18: =+IF(Sheet1!IQ211>Sheet2!$A$1,Sheet1!IQ211,"") | BB18: =+IF(Sheet1!IS211>Sheet2!$A$1,Sheet1!IS211,"") | BC18: =+IF(Sheet1!IT211>Sheet2!$A$1,Sheet1!IT211,"") | BD18: =+IF(Sheet1!IU211>Sheet2!$A$1,Sheet1!IU211,"") | BE18: =+IF(Sheet1!IV211>Sheet2!$A$1,Sheet1!IV211,"") | BF18: =+IF(Sheet1!IW211>Sheet2!$A$1,Sheet1!IW211,"") | BG18: =+IF(Sheet1!IX211>Sheet2!$A$1,Sheet1!IX211,"") | BH18: =+IF(Sheet1!IY211>Sheet2!$A$1,Sheet1!IY211,"") | BI18: =+IF(Sheet1!IZ211>Sheet2!$A$1,Sheet1!IZ211,"")
A19: phage VHML | B19: NC_004456 | C19: =+IF(Sheet1!IR212>Sheet2!$A$1,Sheet1!IR212,"") | D19: =+IF(Sheet1!HN212>Sheet2!$A$1,Sheet1!HN212,"") | E19: =+IF(Sheet1!HO212>Sheet2!$A$1,Sheet1!HO212,"") | F19: =+IF(Sheet1!HL212>Sheet2!$A$1,Sheet1!HL212,"") -> 12.5 | G19: =+IF(Sheet1!HM212>Sheet2!$A$1,Sheet1!HM212,"") -> 10.714286 | H19: =+IF(Sheet1!HK212>Sheet2!$A$1,Sheet1!HK212,"") -> 12.5 | I19: =+IF(Sheet1!GT212>Sheet2!$A$1,Sheet1!GT212,"") -> 19.642857 | J19: =+IF(Sheet1!GU212>Sheet2!$A$1,Sheet1!GU212,"") -> 19.642857 | K19: =+IF(Sheet1!GV212>Sheet2!$A$1,Sheet1!GV212,"") -> 19.642857 | L19: =+IF(Sheet1!GW212>Sheet2!$A$1,Sheet1!GW212,"") -> 16.071429 | M19: =+IF(Sheet1!GX212>Sheet2!$A$1,Sheet1!GX212,"") -> 23.214286 | N19: =+IF(Sheet1!GY212>Sheet2!$A$1,Sheet1!GY212,"") -> 21.428571 | O19: =+IF(Sheet1!GZ212>Sheet2!$A$1,Sheet1!GZ212,"") -> 19.642857 | P19: =+IF(Sheet1!HA212>Sheet2!$A$1,Sheet1!HA212,"") -> 21.428571 | ... Y19: =+IF(Sheet1!HJ212>Sheet2!$A$1,Sheet1!HJ212,"") | Z19: =+IF(Sheet1!HP212>Sheet2!$A$1,Sheet1!HP212,"") | AA19: =+IF(Sheet1!HQ212>Sheet2!$A$1,Sheet1!HQ212,"") | AB19: =+IF(Sheet1!HR212>Sheet2!$A$1,Sheet1!HR212,"") | AC19: =+IF(Sheet1!HS212>Sheet2!$A$1,Sheet1!HS212,"") | AD19: =+IF(Sheet1!HT212>Sheet2!$A$1,Sheet1!HT212,"") | AE19: =+IF(Sheet1!HU212>Sheet2!$A$1,Sheet1!HU212,"") | AF19: =+IF(Sheet1!HV212>Sheet2!$A$1,Sheet1!HV212,"") | AG19: =+IF(Sheet1!HW212>Sheet2!$A$1,Sheet1!HW212,"") | ... BA19: =+IF(Sheet1!IQ212>Sheet2!$A$1,Sheet1!IQ212,"") | BB19: =+IF(Sheet1!IS212>Sheet2!$A$1,Sheet1!IS212,"") | BC19: =+IF(Sheet1!IT212>Sheet2!$A$1,Sheet1!IT212,"") | BD19: =+IF(Sheet1!IU212>Sheet2!$A$1,Sheet1!IU212,"") | BE19: =+IF(Sheet1!IV212>Sheet2!$A$1,Sheet1!IV212,"") | BF19: =+IF(Sheet1!IW212>Sheet2!$A$1,Sheet1!IW212,"") | BG19: =+IF(Sheet1!IX212>Sheet2!$A$1,Sheet1!IX212,"") | BH19: =+IF(Sheet1!IY212>Sheet2!$A$1,Sheet1!IY212,"") | BI19: =+IF(Sheet1!IZ212>Sheet2!$A$1,Sheet1!IZ212,"")
... A24: phage K139 | B24: NC_003313 | C24: =+IF(Sheet1!IR217>Sheet2!$A$1,Sheet1!IR217,"") | D24: =+IF(Sheet1!HN217>Sheet2!$A$1,Sheet1!HN217,"") | E24: =+IF(Sheet1!HO217>Sheet2!$A$1,Sheet1!HO217,"") | F24: =+IF(Sheet1!HL217>Sheet2!$A$1,Sheet1!HL217,"") | G24: =+IF(Sheet1!HM217>Sheet2!$A$1,Sheet1!HM217,"") | H24: =+IF(Sheet1!HK217>Sheet2!$A$1,Sheet1!HK217,"") | I24: =+IF(Sheet1!GT217>Sheet2!$A$1,Sheet1!GT217,"") -> 16.27907 | J24: =+IF(Sheet1!GU217>Sheet2!$A$1,Sheet1!GU217,"") -> 16.27907 | K24: =+IF(Sheet1!GV217>Sheet2!$A$1,Sheet1!GV217,"") | L24: =+IF(Sheet1!GW217>Sheet2!$A$1,Sheet1!GW217,"") | M24: =+IF(Sheet1!GX217>Sheet2!$A$1,Sheet1!GX217,"") -> 23.255814 | N24: =+IF(Sheet1!GY217>Sheet2!$A$1,Sheet1!GY217,"") -> 18.604651 | O24: =+IF(Sheet1!GZ217>Sheet2!$A$1,Sheet1!GZ217,"") -> 27.906977 | P24: =+IF(Sheet1!HA217>Sheet2!$A$1,Sheet1!HA217,"") -> 18.604651 | ... Y24: =+IF(Sheet1!HJ217>Sheet2!$A$1,Sheet1!HJ217,"") -> 100 | Z24: =+IF(Sheet1!HP217>Sheet2!$A$1,Sheet1!HP217,"") | AA24: =+IF(Sheet1!HQ217>Sheet2!$A$1,Sheet1!HQ217,"") | AB24: =+IF(Sheet1!HR217>Sheet2!$A$1,Sheet1!HR217,"") | AC24: =+IF(Sheet1!HS217>Sheet2!$A$1,Sheet1!HS217,"") | AD24: =+IF(Sheet1!HT217>Sheet2!$A$1,Sheet1!HT217,"") | AE24: =+IF(Sheet1!HU217>Sheet2!$A$1,Sheet1!HU217,"") | AF24: =+IF(Sheet1!HV217>Sheet2!$A$1,Sheet1!HV217,"") | AG24: =+IF(Sheet1!HW217>Sheet2!$A$1,Sheet1!HW217,"") | ... BA24: =+IF(Sheet1!IQ217>Sheet2!$A$1,Sheet1!IQ217,"") | BB24: =+IF(Sheet1!IS217>Sheet2!$A$1,Sheet1!IS217,"") | BC24: =+IF(Sheet1!IT217>Sheet2!$A$1,Sheet1!IT217,"") | BD24: =+IF(Sheet1!IU217>Sheet2!$A$1,Sheet1!IU217,"") | BE24: =+IF(Sheet1!IV217>Sheet2!$A$1,Sheet1!IV217,"") | BF24: =+IF(Sheet1!IW217>Sheet2!$A$1,Sheet1!IW217,"") | BG24: =+IF(Sheet1!IX217>Sheet2!$A$1,Sheet1!IX217,"") | BH24: =+IF(Sheet1!IY217>Sheet2!$A$1,Sheet1!IY217,"") | BI24: =+IF(Sheet1!IZ217>Sheet2!$A$1,Sheet1!IZ217,"")
A25: phage 25] | B25: NC_008208 | C25: =+IF(Sheet1!IR223>Sheet2!$A$1,Sheet1!IR223,"") | D25: =+IF(Sheet1!HN223>Sheet2!$A$1,Sheet1!HN223,"") | E25: =+IF(Sheet1!HO223>Sheet2!$A$1,Sheet1!HO223,"") | F25: =+IF(Sheet1!HL223>Sheet2!$A$1,Sheet1!HL223,"") | G25: =+IF(Sheet1!HM223>Sheet2!$A$1,Sheet1!HM223,"") | H25: =+IF(Sheet1!HK223>Sheet2!$A$1,Sheet1!HK223,"") | I25: =+IF(Sheet1!GT223>Sheet2!$A$1,Sheet1!GT223,"") | J25: =+IF(Sheet1!GU223>Sheet2!$A$1,Sheet1!GU223,"") | K25: =+IF(Sheet1!GV223>Sheet2!$A$1,Sheet1!GV223,"") | L25: =+IF(Sheet1!GW223>Sheet2!$A$1,Sheet1!GW223,"") | M25: =+IF(Sheet1!GX223>Sheet2!$A$1,Sheet1!GX223,"") | N25: =+IF(Sheet1!GY223>Sheet2!$A$1,Sheet1!GY223,"") | O25: =+IF(Sheet1!GZ223>Sheet2!$A$1,Sheet1!GZ223,"") | P25: =+IF(Sheet1!HA223>Sheet2!$A$1,Sheet1!HA223,"") | ... Y25: =+IF(Sheet1!HJ223>Sheet2!$A$1,Sheet1!HJ223,"") | Z25: =+IF(Sheet1!HP223>Sheet2!$A$1,Sheet1!HP223,"") -> 100 | AA25: =+IF(Sheet1!HQ223>Sheet2!$A$1,Sheet1!HQ223,"") -> 83.682008 | AB25: =+IF(Sheet1!HR223>Sheet2!$A$1,Sheet1!HR223,"") -> 78.242678 | AC25: =+IF(Sheet1!HS223>Sheet2!$A$1,Sheet1!HS223,"") -> 41.422594 | AD25: =+IF(Sheet1!HT223>Sheet2!$A$1,Sheet1!HT223,"") -> 43.096234 | AE25: =+IF(Sheet1!HU223>Sheet2!$A$1,Sheet1!HU223,"") -> 44.351464 | AF25: =+IF(Sheet1!HV223>Sheet2!$A$1,Sheet1!HV223,"") -> 38.912134 | AG25: =+IF(Sheet1!HW223>Sheet2!$A$1,Sheet1!HW223,"") -> 35.564854 | ... BA25: =+IF(Sheet1!IQ223>Sheet2!$A$1,Sheet1!IQ223,"") | BB25: =+IF(Sheet1!IS223>Sheet2!$A$1,Sheet1!IS223,"") | BC25: =+IF(Sheet1!IT223>Sheet2!$A$1,Sheet1!IT223,"") | BD25: =+IF(Sheet1!IU223>Sheet2!$A$1,Sheet1!IU223,"") | BE25: =+IF(Sheet1!IV223>Sheet2!$A$1,Sheet1!IV223,"") | BF25: =+IF(Sheet1!IW223>Sheet2!$A$1,Sheet1!IW223,"") | BG25: =+IF(Sheet1!IX223>Sheet2!$A$1,Sheet1!IX223,"") | BH25: =+IF(Sheet1!IY223>Sheet2!$A$1,Sheet1!IY223,"") | BI25: =+IF(Sheet1!IZ223>Sheet2!$A$1,Sheet1!IZ223,"")
A26: phage 31] | B26: NC_007022 | C26: =+IF(Sheet1!IR224>Sheet2!$A$1,Sheet1!IR224,"") | D26: =+IF(Sheet1!HN224>Sheet2!$A$1,Sheet1!HN224,"") | E26: =+IF(Sheet1!HO224>Sheet2!$A$1,Sheet1!HO224,"") | F26: =+IF(Sheet1!HL224>Sheet2!$A$1,Sheet1!HL224,"") | G26: =+IF(Sheet1!HM224>Sheet2!$A$1,Sheet1!HM224,"") | H26: =+IF(Sheet1!HK224>Sheet2!$A$1,Sheet1!HK224,"") | I26: =+IF(Sheet1!GT224>Sheet2!$A$1,Sheet1!GT224,"") | J26: =+IF(Sheet1!GU224>Sheet2!$A$1,Sheet1!GU224,"") | K26: =+IF(Sheet1!GV224>Sheet2!$A$1,Sheet1!GV224,"") | L26: =+IF(Sheet1!GW224>Sheet2!$A$1,Sheet1!GW224,"") | M26: =+IF(Sheet1!GX224>Sheet2!$A$1,Sheet1!GX224,"") | N26: =+IF(Sheet1!GY224>Sheet2!$A$1,Sheet1!GY224,"") | O26: =+IF(Sheet1!GZ224>Sheet2!$A$1,Sheet1!GZ224,"") | P26: =+IF(Sheet1!HA224>Sheet2!$A$1,Sheet1!HA224,"") | ... Y26: =+IF(Sheet1!HJ224>Sheet2!$A$1,Sheet1!HJ224,"") | Z26: =+IF(Sheet1!HP224>Sheet2!$A$1,Sheet1!HP224,"") -> 82.304527 | AA26: =+IF(Sheet1!HQ224>Sheet2!$A$1,Sheet1!HQ224,"") -> 100 | AB26: =+IF(Sheet1!HR224>Sheet2!$A$1,Sheet1!HR224,"") -> 93.82716 | AC26: =+IF(Sheet1!HS224>Sheet2!$A$1,Sheet1!HS224,"") -> 41.975309 | AD26: =+IF(Sheet1!HT224>Sheet2!$A$1,Sheet1!HT224,"") -> 43.209877 | AE26: =+IF(Sheet1!HU224>Sheet2!$A$1,Sheet1!HU224,"") -> 42.386831 | AF26: =+IF(Sheet1!HV224>Sheet2!$A$1,Sheet1!HV224,"") -> 39.506173 | AG26: =+IF(Sheet1!HW224>Sheet2!$A$1,Sheet1!HW224,"") -> 37.44856 | ... BA26: =+IF(Sheet1!IQ224>Sheet2!$A$1,Sheet1!IQ224,"") | BB26: =+IF(Sheet1!IS224>Sheet2!$A$1,Sheet1!IS224,"") | BC26: =+IF(Sheet1!IT224>Sheet2!$A$1,Sheet1!IT224,"") | BD26: =+IF(Sheet1!IU224>Sheet2!$A$1,Sheet1!IU224,"") | BE26: =+IF(Sheet1!IV224>Sheet2!$A$1,Sheet1!IV224,"") | BF26: =+IF(Sheet1!IW224>Sheet2!$A$1,Sheet1!IW224,"") | BG26: =+IF(Sheet1!IX224>Sheet2!$A$1,Sheet1!IX224,"") | BH26: =+IF(Sheet1!IY224>Sheet2!$A$1,Sheet1!IY224,"") | BI26: =+IF(Sheet1!IZ224>Sheet2!$A$1,Sheet1!IZ224,"")
A27: phage 44RR2 | B27: NC_005135 | C27: =+IF(Sheet1!IR225>Sheet2!$A$1,Sheet1!IR225,"") | D27: =+IF(Sheet1!HN225>Sheet2!$A$1,Sheet1!HN225,"") | E27: =+IF(Sheet1!HO225>Sheet2!$A$1,Sheet1!HO225,"") | F27: =+IF(Sheet1!HL225>Sheet2!$A$1,Sheet1!HL225,"") | G27: =+IF(Sheet1!HM225>Sheet2!$A$1,Sheet1!HM225,"") | H27: =+IF(Sheet1!HK225>Sheet2!$A$1,Sheet1!HK225,"") | I27: =+IF(Sheet1!GT225>Sheet2!$A$1,Sheet1!GT225,"") | J27: =+IF(Sheet1!GU225>Sheet2!$A$1,Sheet1!GU225,"") | K27: =+IF(Sheet1!GV225>Sheet2!$A$1,Sheet1!GV225,"") | L27: =+IF(Sheet1!GW225>Sheet2!$A$1,Sheet1!GW225,"") | M27: =+IF(Sheet1!GX225>Sheet2!$A$1,Sheet1!GX225,"") | N27: =+IF(Sheet1!GY225>Sheet2!$A$1,Sheet1!GY225,"") | O27: =+IF(Sheet1!GZ225>Sheet2!$A$1,Sheet1!GZ225,"") | P27: =+IF(Sheet1!HA225>Sheet2!$A$1,Sheet1!HA225,"") | ... Y27: =+IF(Sheet1!HJ225>Sheet2!$A$1,Sheet1!HJ225,"") | Z27: =+IF(Sheet1!HP225>Sheet2!$A$1,Sheet1!HP225,"") -> 83.057851 | AA27: =+IF(Sheet1!HQ225>Sheet2!$A$1,Sheet1!HQ225,"") -> 100 | AB27: =+IF(Sheet1!HR225>Sheet2!$A$1,Sheet1!HR225,"") -> 96.694215 | AC27: =+IF(Sheet1!HS225>Sheet2!$A$1,Sheet1!HS225,"") -> 42.14876 | AD27: =+IF(Sheet1!HT225>Sheet2!$A$1,Sheet1!HT225,"") -> 43.38843 | AE27: =+IF(Sheet1!HU225>Sheet2!$A$1,Sheet1!HU225,"") -> 42.561983 | AF27: =+IF(Sheet1!HV225>Sheet2!$A$1,Sheet1!HV225,"") -> 39.669421 | AG27: =+IF(Sheet1!HW225>Sheet2!$A$1,Sheet1!HW225,"") -> 37.603306 | ... BA27: =+IF(Sheet1!IQ225>Sheet2!$A$1,Sheet1!IQ225,"") | BB27: =+IF(Sheet1!IS225>Sheet2!$A$1,Sheet1!IS225,"") | BC27: =+IF(Sheet1!IT225>Sheet2!$A$1,Sheet1!IT225,"") | BD27: =+IF(Sheet1!IU225>Sheet2!$A$1,Sheet1!IU225,"") | BE27: =+IF(Sheet1!IV225>Sheet2!$A$1,Sheet1!IV225,"") | BF27: =+IF(Sheet1!IW225>Sheet2!$A$1,Sheet1!IW225,"") | BG27: =+IF(Sheet1!IX225>Sheet2!$A$1,Sheet1!IX225,"") | BH27: =+IF(Sheet1!IY225>Sheet2!$A$1,Sheet1!IY225,"") | BI27: =+IF(Sheet1!IZ225>Sheet2!$A$1,Sheet1!IZ225,"")
A28: phage RB69 | B28: NC_004928 | C28: =+IF(Sheet1!IR226>Sheet2!$A$1,Sheet1!IR226,"") | D28: =+IF(Sheet1!HN226>Sheet2!$A$1,Sheet1!HN226,"") | E28: =+IF(Sheet1!HO226>Sheet2!$A$1,Sheet1!HO226,"") | F28: =+IF(Sheet1!HL226>Sheet2!$A$1,Sheet1!HL226,"") | G28: =+IF(Sheet1!HM226>Sheet2!$A$1,Sheet1!HM226,"") | H28: =+IF(Sheet1!HK226>Sheet2!$A$1,Sheet1!HK226,"") | I28: =+IF(Sheet1!GT226>Sheet2!$A$1,Sheet1!GT226,"") | J28: =+IF(Sheet1!GU226>Sheet2!$A$1,Sheet1!GU226,"") | K28: =+IF(Sheet1!GV226>Sheet2!$A$1,Sheet1!GV226,"") | L28: =+IF(Sheet1!GW226>Sheet2!$A$1,Sheet1!GW226,"") | M28: =+IF(Sheet1!GX226>Sheet2!$A$1,Sheet1!GX226,"") | N28: =+IF(Sheet1!GY226>Sheet2!$A$1,Sheet1!GY226,"") | O28: =+IF(Sheet1!GZ226>Sheet2!$A$1,Sheet1!GZ226,"") | P28: =+IF(Sheet1!HA226>Sheet2!$A$1,Sheet1!HA226,"") | ... Y28: =+IF(Sheet1!HJ226>Sheet2!$A$1,Sheet1!HJ226,"") | Z28: =+IF(Sheet1!HP226>Sheet2!$A$1,Sheet1!HP226,"") -> 40.996169 | AA28: =+IF(Sheet1!HQ226>Sheet2!$A$1,Sheet1!HQ226,"") -> 41.762452 | AB28: =+IF(Sheet1!HR226>Sheet2!$A$1,Sheet1!HR226,"") -> 36.398467 | AC28: =+IF(Sheet1!HS226>Sheet2!$A$1,Sheet1!HS226,"") -> 100 | AD28: =+IF(Sheet1!HT226>Sheet2!$A$1,Sheet1!HT226,"") -> 80.45977 | AE28: =+IF(Sheet1!HU226>Sheet2!$A$1,Sheet1!HU226,"") -> 75.478927 | AF28: =+IF(Sheet1!HV226>Sheet2!$A$1,Sheet1!HV226,"") -> 39.463602 | AG28: =+IF(Sheet1!HW226>Sheet2!$A$1,Sheet1!HW226,"") -> 32.183908 | ... BA28: =+IF(Sheet1!IQ226>Sheet2!$A$1,Sheet1!IQ226,"") | BB28: =+IF(Sheet1!IS226>Sheet2!$A$1,Sheet1!IS226,"") | BC28: =+IF(Sheet1!IT226>Sheet2!$A$1,Sheet1!IT226,"") | BD28: =+IF(Sheet1!IU226>Sheet2!$A$1,Sheet1!IU226,"") | BE28: =+IF(Sheet1!IV226>Sheet2!$A$1,Sheet1!IV226,"") | BF28: =+IF(Sheet1!IW226>Sheet2!$A$1,Sheet1!IW226,"") | BG28: =+IF(Sheet1!IX226>Sheet2!$A$1,Sheet1!IX226,"") | BH28: =+IF(Sheet1!IY226>Sheet2!$A$1,Sheet1!IY226,"") | BI28: =+IF(Sheet1!IZ226>Sheet2!$A$1,Sheet1!IZ226,"")
A29: phage RB32 | B29: NC_008515 | C29: =+IF(Sheet1!IR227>Sheet2!$A$1,Sheet1!IR227,"") | D29: =+IF(Sheet1!HN227>Sheet2!$A$1,Sheet1!HN227,"") | E29: =+IF(Sheet1!HO227>Sheet2!$A$1,Sheet1!HO227,"") | F29: =+IF(Sheet1!HL227>Sheet2!$A$1,Sheet1!HL227,"") | G29: =+IF(Sheet1!HM227>Sheet2!$A$1,Sheet1!HM227,"") | H29: =+IF(Sheet1!HK227>Sheet2!$A$1,Sheet1!HK227,"") | I29: =+IF(Sheet1!GT227>Sheet2!$A$1,Sheet1!GT227,"") | J29: =+IF(Sheet1!GU227>Sheet2!$A$1,Sheet1!GU227,"") | K29: =+IF(Sheet1!GV227>Sheet2!$A$1,Sheet1!GV227,"") | L29: =+IF(Sheet1!GW227>Sheet2!$A$1,Sheet1!GW227,"") | M29: =+IF(Sheet1!GX227>Sheet2!$A$1,Sheet1!GX227,"") | N29: =+IF(Sheet1!GY227>Sheet2!$A$1,Sheet1!GY227,"") | O29: =+IF(Sheet1!GZ227>Sheet2!$A$1,Sheet1!GZ227,"") | P29: =+IF(Sheet1!HA227>Sheet2!$A$1,Sheet1!HA227,"") | ... Y29: =+IF(Sheet1!HJ227>Sheet2!$A$1,Sheet1!HJ227,"") | Z29: =+IF(Sheet1!HP227>Sheet2!$A$1,Sheet1!HP227,"") -> 42.145594 | AA29: =+IF(Sheet1!HQ227>Sheet2!$A$1,Sheet1!HQ227,"") -> 40.613027 | AB29: =+IF(Sheet1!HR227>Sheet2!$A$1,Sheet1!HR227,"") -> 35.632184 | AC29: =+IF(Sheet1!HS227>Sheet2!$A$1,Sheet1!HS227,"") -> 76.628352 | AD29: =+IF(Sheet1!HT227>Sheet2!$A$1,Sheet1!HT227,"") -> 100 | AE29: =+IF(Sheet1!HU227>Sheet2!$A$1,Sheet1!HU227,"") -> 90.038314 | AF29: =+IF(Sheet1!HV227>Sheet2!$A$1,Sheet1!HV227,"") -> 40.613027 | AG29: =+IF(Sheet1!HW227>Sheet2!$A$1,Sheet1!HW227,"") -> 33.716475 | ... BA29: =+IF(Sheet1!IQ227>Sheet2!$A$1,Sheet1!IQ227,"") | BB29: =+IF(Sheet1!IS227>Sheet2!$A$1,Sheet1!IS227,"") | BC29: =+IF(Sheet1!IT227>Sheet2!$A$1,Sheet1!IT227,"") | BD29: =+IF(Sheet1!IU227>Sheet2!$A$1,Sheet1!IU227,"") | BE29: =+IF(Sheet1!IV227>Sheet2!$A$1,Sheet1!IV227,"") | BF29: =+IF(Sheet1!IW227>Sheet2!$A$1,Sheet1!IW227,"") | BG29: =+IF(Sheet1!IX227>Sheet2!$A$1,Sheet1!IX227,"") | BH29: =+IF(Sheet1!IY227>Sheet2!$A$1,Sheet1!IY227,"") | BI29: =+IF(Sheet1!IZ227>Sheet2!$A$1,Sheet1!IZ227,"")
A30: phage T4 | B30: NC_000866 | C30: =+IF(Sheet1!IR228>Sheet2!$A$1,Sheet1!IR228,"") | D30: =+IF(Sheet1!HN228>Sheet2!$A$1,Sheet1!HN228,"") | E30: =+IF(Sheet1!HO228>Sheet2!$A$1,Sheet1!HO228,"") | F30: =+IF(Sheet1!HL228>Sheet2!$A$1,Sheet1!HL228,"") | G30: =+IF(Sheet1!HM228>Sheet2!$A$1,Sheet1!HM228,"") | H30: =+IF(Sheet1!HK228>Sheet2!$A$1,Sheet1!HK228,"") | I30: =+IF(Sheet1!GT228>Sheet2!$A$1,Sheet1!GT228,"") | J30: =+IF(Sheet1!GU228>Sheet2!$A$1,Sheet1!GU228,"") | K30: =+IF(Sheet1!GV228>Sheet2!$A$1,Sheet1!GV228,"") | L30: =+IF(Sheet1!GW228>Sheet2!$A$1,Sheet1!GW228,"") | M30: =+IF(Sheet1!GX228>Sheet2!$A$1,Sheet1!GX228,"") | N30: =+IF(Sheet1!GY228>Sheet2!$A$1,Sheet1!GY228,"") | O30: =+IF(Sheet1!GZ228>Sheet2!$A$1,Sheet1!GZ228,"") | P30: =+IF(Sheet1!HA228>Sheet2!$A$1,Sheet1!HA228,"") | ... Y30: =+IF(Sheet1!HJ228>Sheet2!$A$1,Sheet1!HJ228,"") | Z30: =+IF(Sheet1!HP228>Sheet2!$A$1,Sheet1!HP228,"") -> 44 | AA30: =+IF(Sheet1!HQ228>Sheet2!$A$1,Sheet1!HQ228,"") -> 41.818182 | AB30: =+IF(Sheet1!HR228>Sheet2!$A$1,Sheet1!HR228,"") -> 34.181818 | AC30: =+IF(Sheet1!HS228>Sheet2!$A$1,Sheet1!HS228,"") -> 72 | AD30: =+IF(Sheet1!HT228>Sheet2!$A$1,Sheet1!HT228,"") -> 87.636364 | AE30: =+IF(Sheet1!HU228>Sheet2!$A$1,Sheet1!HU228,"") -> 100 | AF30: =+IF(Sheet1!HV228>Sheet2!$A$1,Sheet1!HV228,"") -> 41.090909 | AG30: =+IF(Sheet1!HW228>Sheet2!$A$1,Sheet1!HW228,"") -> 34.181818 | ... BA30: =+IF(Sheet1!IQ228>Sheet2!$A$1,Sheet1!IQ228,"") | BB30: =+IF(Sheet1!IS228>Sheet2!$A$1,Sheet1!IS228,"") | BC30: =+IF(Sheet1!IT228>Sheet2!$A$1,Sheet1!IT228,"") | BD30: =+IF(Sheet1!IU228>Sheet2!$A$1,Sheet1!IU228,"") | BE30: =+IF(Sheet1!IV228>Sheet2!$A$1,Sheet1!IV228,"") | BF30: =+IF(Sheet1!IW228>Sheet2!$A$1,Sheet1!IW228,"") | BG30: =+IF(Sheet1!IX228>Sheet2!$A$1,Sheet1!IX228,"") | BH30: =+IF(Sheet1!IY228>Sheet2!$A$1,Sheet1!IY228,"") | BI30: =+IF(Sheet1!IZ228>Sheet2!$A$1,Sheet1!IZ228,"")
A31: phage RB49 | B31: NC_005066 | C31: =+IF(Sheet1!IR229>Sheet2!$A$1,Sheet1!IR229,"") | D31: =+IF(Sheet1!HN229>Sheet2!$A$1,Sheet1!HN229,"") | E31: =+IF(Sheet1!HO229>Sheet2!$A$1,Sheet1!HO229,"") | F31: =+IF(Sheet1!HL229>Sheet2!$A$1,Sheet1!HL229,"") | G31: =+IF(Sheet1!HM229>Sheet2!$A$1,Sheet1!HM229,"") | H31: =+IF(Sheet1!HK229>Sheet2!$A$1,Sheet1!HK229,"") | I31: =+IF(Sheet1!GT229>Sheet2!$A$1,Sheet1!GT229,"") | J31: =+IF(Sheet1!GU229>Sheet2!$A$1,Sheet1!GU229,"") | K31: =+IF(Sheet1!GV229>Sheet2!$A$1,Sheet1!GV229,"") | L31: =+IF(Sheet1!GW229>Sheet2!$A$1,Sheet1!GW229,"") | M31: =+IF(Sheet1!GX229>Sheet2!$A$1,Sheet1!GX229,"") | N31: =+IF(Sheet1!GY229>Sheet2!$A$1,Sheet1!GY229,"") | O31: =+IF(Sheet1!GZ229>Sheet2!$A$1,Sheet1!GZ229,"") | P31: =+IF(Sheet1!HA229>Sheet2!$A$1,Sheet1!HA229,"") | ... Y31: =+IF(Sheet1!HJ229>Sheet2!$A$1,Sheet1!HJ229,"") | Z31: =+IF(Sheet1!HP229>Sheet2!$A$1,Sheet1!HP229,"") -> 37.5 | AA31: =+IF(Sheet1!HQ229>Sheet2!$A$1,Sheet1!HQ229,"") -> 37.878788 | AB31: =+IF(Sheet1!HR229>Sheet2!$A$1,Sheet1!HR229,"") -> 33.333333 | AC31: =+IF(Sheet1!HS229>Sheet2!$A$1,Sheet1!HS229,"") -> 39.772727 | AD31: =+IF(Sheet1!HT229>Sheet2!$A$1,Sheet1!HT229,"") -> 42.045455 | AE31: =+IF(Sheet1!HU229>Sheet2!$A$1,Sheet1!HU229,"") -> 41.666667 | AF31: =+IF(Sheet1!HV229>Sheet2!$A$1,Sheet1!HV229,"") -> 100 | AG31: =+IF(Sheet1!HW229>Sheet2!$A$1,Sheet1!HW229,"") -> 33.333333 | ... BA31: =+IF(Sheet1!IQ229>Sheet2!$A$1,Sheet1!IQ229,"") | BB31: =+IF(Sheet1!IS229>Sheet2!$A$1,Sheet1!IS229,"") | BC31: =+IF(Sheet1!IT229>Sheet2!$A$1,Sheet1!IT229,"") | BD31: =+IF(Sheet1!IU229>Sheet2!$A$1,Sheet1!IU229,"") | BE31: =+IF(Sheet1!IV229>Sheet2!$A$1,Sheet1!IV229,"") | BF31: =+IF(Sheet1!IW229>Sheet2!$A$1,Sheet1!IW229,"") | BG31: =+IF(Sheet1!IX229>Sheet2!$A$1,Sheet1!IX229,"") | BH31: =+IF(Sheet1!IY229>Sheet2!$A$1,Sheet1!IY229,"") | BI31: =+IF(Sheet1!IZ229>Sheet2!$A$1,Sheet1!IZ229,"")
