Workbook
Name Arabinose: '[1]SRS Recov.'!$K$13
Name Galactose: '[1]SRS Recov.'!$K$12
Name Glucose: '[1]SRS Recov.'!$K$10
Name Mannose: '[1]SRS Recov.'!$K$14
Name Xylose: '[1]SRS Recov.'!$K$11

Sheet Uncertainty
A3: INPUTS
A4: Unpretreated Feedstock Concentrations, mass fraction | F4: Pretreated Solids Concentrations, mass fraction | K4: Material Flow Rates and Density | O4: Solids Fractions, mass fraction | S4: Monomer concentration in pretreated liquid (g/L) | W4: Carbon Molecular Weights | Y4: Color Coding:
A5: Name | B5: Value | C5: Uncertainty | F5: Name | G5: Value | H5: Uncertainty | K5: Name | L5: Value | M5: Uncertainty | O5: Name | P5: Value | Q5: Uncertainty | S5: Name | T5: Value | U5: Uncertainty | W5: Glucose | X5: =Carbon_Balance!AG10 -> 30.0264 | Z5: Input uncertainty values
C6: Mass fraction, "free sugar" basis | D6: Mass fraction, oligomer basis | H6: Mass fraction, "free sugar" basis | I6: Mass fraction, oligomer basis | K6: Feed Flow(Biomass)(kg/h) | L6: ='FLow Rate Uncertainties'!I236 -> 35.179537 | M6: ='FLow Rate Uncertainties'!I237 -> 1.1995748 | S6: Glucose | T6: =Carbon_Balance!I28 -> 15.9 | U6: ='Concentration Uncertainties'!D17 -> 0.11779 | W6: Cellobiose | X6: =Carbon_Balance!AG26 -> 28.525117 | Z6: Labels
K7: Steam input(kg/h) | L7: ='FLow Rate Uncertainties'!H236 -> 39.389195 | M7: ='FLow Rate Uncertainties'!H237 -> 1.4114339 | S7: Cellobiose | T7: =Carbon_Balance!I29 -> 0 | U7: ='Concentration Uncertainties'!C17 -> 0.05535 | W7: Mannose | X7: =Carbon_Balance!AG11 -> 30.0264 | Z7: Yield value, fractional yield
A8: Glucan | B8: ='Flow Rates & Concentrations'!B38 -> 0.37555454 | C8: =D8*Carbon_Balance!$AF$10/Carbon_Balance!$AF$25 -> 0.0055555405 | D8: =0.5/100 -> 0.005 | F8: Glucan | G8: ='Flow Rates & Concentrations'!B54 -> 0.58444286 | H8: =I8*Carbon_Balance!$AF$10/Carbon_Balance!$AF$25 -> 0.0055555405 | I8: =D8 -> 0.005 | K8: Water input(kg/h) | L8: ='FLow Rate Uncertainties'!G236 -> 19.182254 | M8: ='FLow Rate Uncertainties'!G237 -> 1.9319152 | O8: f_FSC | P8: =Carbon_Balance!G12 -> 0.92 | Q8: 0.00084 | S8: Mannose | T8: =Carbon_Balance!I30 -> 0 | U8: ='Concentration Uncertainties'!H17 -> 0 | W8: Galactose | X8: =Carbon_Balance!AG14 -> 30.0264 | Z8: Yield uncertainty in units of fractional yield
A9: Xylan | B9: ='Flow Rates & Concentrations'!B39 -> 0.21931745 | C9: =D9*Carbon_Balance!$AF$12/Carbon_Balance!$AF$28 -> 0.0034090796 | D9: =0.3/100 -> 0.003 | F9: Xylan | G9: ='Flow Rates & Concentrations'!B55 -> 0.028408996 | H9: =I9*Carbon_Balance!$AF$12/Carbon_Balance!$AF$28 -> 0.0034090796 | I9: =D9 -> 0.003 | K9: Acid Input(L/h) | L9: ='FLow Rate Uncertainties'!F236 -> 22.844155 | M9: ='FLow Rate Uncertainties'!F237 -> 0.39490887 | O9: f_IS | P9: =Carbon_Balance!G16 -> 0.185 | Q9: 0.01 | S9: Galactose | T9: =Carbon_Balance!I31 -> 6 | U9: ='Concentration Uncertainties'!F17 -> 0.47643 | W9: Xylose | X9: =Carbon_Balance!AG12 -> 30.0264 | Z9: Yield uncertainty as a percent of the yield value
A10: Galactan | B10: ='Flow Rates & Concentrations'!B40 -> 0.016666621 | C10: =D10*Carbon_Balance!$AF$14/Carbon_Balance!$AF$30 -> 0.0011111081 | D10: =0.1/100 -> 0.001 | F10: Galactan | G10: ='Flow Rates & Concentrations'!B56 -> 0 | H10: =I10*Carbon_Balance!$AF$14/Carbon_Balance!$AF$30 -> 0.0011111081 | I10: =D10 -> 0.001 | K10: Flash Vapor(kg/h) | L10: ='FLow Rate Uncertainties'!K236 -> 14.146197 | M10: ='FLow Rate Uncertainties'!K237 -> 0.3600203 | S10: Xylose | T10: =Carbon_Balance!I32 -> 55.1 | U10: ='Concentration Uncertainties'!E17 -> 0.36895 | W10: Arabinose | X10: =Carbon_Balance!AG13 -> 30.0264 | Z10: A measurement used directly to calculate yield
A11: Arabinan | B11: ='Flow Rates & Concentrations'!B41 -> 0.029545356 | C11: =D11*Carbon_Balance!$AF$13/Carbon_Balance!$AF$29 -> 0.0022727197 | D11: =0.2/100 -> 0.002 | F11: Arabinan | G11: ='Flow Rates & Concentrations'!B57 -> 0.0022727197 | H11: =I11*Carbon_Balance!$AF$13/Carbon_Balance!$AF$29 -> 0.0022727197 | I11: =D11 -> 0.002 | K11: Sunds Vent(kg/h) | L11: ='FLow Rate Uncertainties'!J236 -> 7.0025239 | M11: ='FLow Rate Uncertainties'!J237 -> 0.098126929 | S11: Arabinose | T11: =Carbon_Balance!I33 -> 10.8 | U11: ='Concentration Uncertainties'!G17 -> 0.15596 | W11: Sucrose | X11: =Carbon_Balance!AG15 -> 28.525117 | Z11: A derived quantity that is used directly to calculate yield
A12: Mannan | B12: ='Flow Rates & Concentrations'!B42 -> 0 | C12: =D12*Carbon_Balance!$AF$11/Carbon_Balance!$AF$27 -> 0 | F12: Mannan | G12: ='Flow Rates & Concentrations'!B58 -> 0 | H12: =I12*Carbon_Balance!$AF$11/Carbon_Balance!$AF$27 -> 0 | I12: =D12 -> 0 | K12: Pretreated liquour density (g/ml) | L12: ='Flow Rates & Concentrations'!B67 -> 1.069 | M12: 0.000837 | S12: Sucrose | T12: =Carbon_Balance!I34 -> 0 | W12: Fructose | X12: =Carbon_Balance!AG16 -> 30.0264 | Z12: Measurements used to calculate a derived quantity (not directly used to calculate yield)
A13: Lignin | B13: ='Flow Rates & Concentrations'!B43 -> 0.161 | C13: =D13 -> 0.002 | D13: =0.2/100 -> 0.002 | F13: Ash | G13: ='Flow Rates & Concentrations'!B59 -> 0.07 | H13: =I13/100 -> 0 | S13: Fructose | T13: =Carbon_Balance!I35 -> 0 | W13: Acetyl | X13: =Carbon_Balance!AG31 -> 21.5227
A14: Structural Inorganics | B14: ='Flow Rates & Concentrations'!B44 -> 0.066 | C14: =D14 -> 0 | F14: Lignin | G14: ='Flow Rates & Concentrations'!B60 -> 0.316 | H14: =I14 -> 0.002 | I14: =D13 -> 0.002 | W14: Acetic Acid | X14: =Carbon_Balance!AG18 -> 30.0264
A15: Soil | B15: ='Flow Rates & Concentrations'!B45 -> 0 | C15: =D15 -> 0 | F15: Acetyl | G15: ='Flow Rates & Concentrations'!B61 -> 0.007 | H15: =I15 -> 0 | S15: Acetyl | T15: =Carbon_Balance!I37 -> 0 | W15: Lignin | X15: =Carbon_Balance!AG21 -> 20.924214
A16: Acetyl | B16: ='Flow Rates & Concentrations'!B46 -> 0.021 | C16: =D16 -> 0 | F16: Protein | G16: ='Flow Rates & Concentrations'!B62 -> 0 | H16: =I16 -> 0.001 | I16: =D17 -> 0.001 | K16: Flow of slurry from flash (kg/h) | S16: Acetic Acid | T16: =Carbon_Balance!I38 -> 9.9 | W16: Furfural | X16: =Carbon_Balance!AG22 -> 19.21716
A17: Protein | B17: ='Flow Rates & Concentrations'!B47 -> 0 | C17: =D17 -> 0.001 | D17: =0.1/100 -> 0.001 | F17: Uronic Acid | G17: ='Flow Rates & Concentrations'!B63 -> 0 | H17: =I17 -> 0 | L17: =L6+L7+L8+L9+-L10-L11 -> 95.44642 | M17: =SQRT(SUMSQ(M6:M8,M10:M11)) -> 2.7023443 | W17: HMF | X17: =Carbon_Balance!AG23 -> 21.0187
A18: Uronic Acid | B18: ='Flow Rates & Concentrations'!B48 -> 0 | C18: =D18 -> 0 | S18: Lignin | T18: =Carbon_Balance!I40 -> 0 | U18: ='Concentration Uncertainties'!B17 -> 0.35436
A19: Sucrose | B19: ='Flow Rates & Concentrations'!B49 -> 0.02 | C19: =D19 -> 0 | S19: Furfural | T19: =Carbon_Balance!I41 -> 0
A20: Water/EtOH Extractives | B20: ='Flow Rates & Concentrations'!B50 -> 0.116 | C20: =D20 -> 0 | S20: HMF | T20: =Carbon_Balance!I42 -> 0
A25: Calculate uncertainty in the carbon mole flow rate of each component in the feed ("unpretreated") stream | D25: Uncertainty in the Unpretreated carbon mole flow of each compound
D26: Compound (x) | E26: f_Ux | F26: Uncertainty, f_Ux measurement | G26: C_Ux (c-mol/h) | H26: Uncertainty of carbon mole flow rate (C_Ux)
H27: Uncertainty coefficients
H28: f_Ux | I28: f_FSC | J28: F_f | K28: Total (Sq) | L28: Uncertainty (C-mol/h)
D29: Glucose | E29: =B8 -> 0.37555454 | F29: =C8 -> 0.0055555405 | G29: =Carbon_Balance!C28 -> 404.8067 | H29: =IF(G29=0,0,($L$6*1000*$P$8/X5)^2) -> 1161848.1 | I29: =IF(E29=0,0,(E29*$L$6*1000/X5)^2) -> 193606.41 | J29: =(E29*$P$8/X5)^2 -> 0.00013240828 | K29: =(H29*F29^2+I29*$Q$8^2+J29*($M$6*1000)^2) -> 226.52875 | L29: =SQRT(K29) -> 15.050872
D30: Cellobiose | E30: =Carbon_Balance!B29 -> 0 | G30: 0 | H30: =IF(G30=0,0,($L$6*1000*$P$8/X6)^2) -> 0 | I30: =IF(E30=0,0,(E30*$L$6*1000/X6)^2) -> 0 | J30: =(E30*$P$8/X6)^2 -> 0 | K30: =(H30*F30^2+I30*$Q$8^2+J30*($M$6*1000)^2) -> 0 | L30: =SQRT(K30) -> 0
D31: Mannose | E31: =Carbon_Balance!B30 -> 0 | F31: =C12 -> 0 | G31: 0 | H31: =IF(G31=0,0,($L$6*1000*$P$8/X7)^2) -> 0 | I31: =IF(E31=0,0,(E31*$L$6*1000/X7)^2) -> 0 | J31: =(E31*$P$8/X7)^2 -> 0 | K31: =(H31*F31^2+I31*$Q$8^2+J31*($M$6*1000)^2) -> 0 | L31: =SQRT(K31) -> 0
D32: Galactose | E32: =Carbon_Balance!B31 -> 0.016666621 | F32: =C10 -> 0.0011111081 | G32: =Carbon_Balance!C31 -> 17.964795 | H32: =IF(G32=0,0,($L$6*1000*$P$8/X8)^2) -> 1161848.1 | I32: =IF(E32=0,0,(E32*$L$6*1000/X8)^2) -> 381.3018 | J32: =(E32*$P$8/X8)^2 -> 2.6077399e-07 | K32: =(H32*F32^2+I32*$Q$8^2+J32*($M$6*1000)^2) -> 1.8098902 | L32: =SQRT(K32) -> 1.3453216
D33: Xylose | E33: =Carbon_Balance!B32 -> 0.21931745 | F33: =C9 -> 0.0034090796 | G33: =Carbon_Balance!C32 -> 236.40022 | H33: =IF(G33=0,0,($L$6*1000*$P$8/X9)^2) -> 1161848.1 | I33: =IF(E33=0,0,(E33*$L$6*1000/X9)^2) -> 66026.776 | J33: =(E33*$P$8/X9)^2 -> 4.5156004e-05 | K33: =(H33*F33^2+I33*$Q$8^2+J33*($M$6*1000)^2) -> 78.527955 | L33: =SQRT(K33) -> 8.8616
D34: Arabinose | E34: =Carbon_Balance!B33 -> 0.029545356 | F34: =C11 -> 0.0022727197 | G34: =Carbon_Balance!C33 -> 31.846662 | H34: =IF(G34=0,0,($L$6*1000*$P$8/X10)^2) -> 1161848.1 | I34: =IF(E34=0,0,(E34*$L$6*1000/X10)^2) -> 1198.2631 | J34: =(E34*$P$8/X10)^2 -> 8.194974e-07 | K34: =(H34*F34^2+I34*$Q$8^2+J34*($M$6*1000)^2) -> 7.1813274 | L34: =SQRT(K34) -> 2.6797999
D35: Sucrose | E35: =Carbon_Balance!B34 -> 0.02 | F35: =C19 -> 0 | G35: =Carbon_Balance!C34 -> 22.692404 | H35: =IF(G35=0,0,($L$6*1000*$P$8/X11)^2) -> 1287363.1 | I35: =IF(E35=0,0,(E35*$L$6*1000/X11)^2) -> 608.39464 | J35: =(E35*$P$8/X11)^2 -> 4.1608378e-07 | K35: =(H35*F35^2+I35*$Q$8^2+J35*($M$6*1000)^2) -> 0.59916539 | L35: =SQRT(K35) -> 0.77405774
D36: Fructose | E36: =Carbon_Balance!B35 -> 0 | G36: 0 | H36: =IF(G36=0,0,($L$6*1000*$P$8/X12)^2) -> 0 | I36: =IF(E36=0,0,(E36*$L$6*1000/X12)^2) -> 0 | J36: =(E36*$P$8/X12)^2 -> 0 | K36: =(H36*F36^2+I36*$Q$8^2+J36*($M$6*1000)^2) -> 0 | L36: =SQRT(K36) -> 0
K37: =(H37*F37^2+I37*$Q$8^2+J37*($M$6*1000)^2) -> 0 | L37: =SQRT(K37) -> 0
D38: Acetyl | E38: =Carbon_Balance!B37 -> 0.021 | F38: =C16 -> 0 | G38: =Carbon_Balance!C37 -> 31.579154 | H38: =IF(G38=0,0,($L$6*1000*$P$8/X13)^2) -> 2261321.9 | I38: =IF(E38=0,0,(E38*$L$6*1000/X13)^2) -> 1178.2171 | J38: =(E38*$P$8/X13)^2 -> 8.057879e-07 | K38: =(H38*F38^2+I38*$Q$8^2+J38*($M$6*1000)^2) -> 1.1603438 | L38: =SQRT(K38) -> 1.0771925
D39: Acetic Acid | E39: =Carbon_Balance!B38 -> 0 | G39: 0 | H39: =IF(G39=0,0,($L$6*1000*$P$8/X14)^2) -> 0 | I39: =IF(E39=0,0,(E39*$L$6*1000/X14)^2) -> 0 | J39: =(E39*$P$8/X14)^2 -> 0 | K39: =(H39*F39^2+I39*$Q$8^2+J39*($M$6*1000)^2) -> 0 | L39: =SQRT(K39) -> 0
K40: =(H40*F40^2+I40*$Q$8^2+J40*($M$6*1000)^2) -> 0 | L40: =SQRT(K40) -> 0
D41: Lignin | E41: =Carbon_Balance!B40 -> 0.161 | F41: =C13 -> 0.002 | G41: =Carbon_Balance!C40 -> 249.03172 | H41: =IF(G41=0,0,($L$6*1000*$P$8/X15)^2) -> 2392531.1 | I41: =IF(E41=0,0,(E41*$L$6*1000/X15)^2) -> 73271.264 | J41: =(E41*$P$8/X15)^2 -> 5.0110541e-05 | K41: =(H41*F41^2+I41*$Q$8^2+J41*($M$6*1000)^2) -> 81.729875 | L41: =SQRT(K41) -> 9.0404577
D42: Furfural | E42: =Carbon_Balance!B41 -> 0 | G42: 0 | H42: =IF(G42=0,0,($L$6*1000*$P$8/X16)^2) -> 0 | I42: =IF(E42=0,0,(E42*$L$6*1000/X16)^2) -> 0 | J42: =(E42*$P$8/X16)^2 -> 0 | K42: =(H42*F42^2+I42*$Q$8^2+J42*($M$6*1000)^2) -> 0 | L42: =SQRT(K42) -> 0
D43: HMF | E43: =Carbon_Balance!B42 -> 0 | F43: 0 | G43: =IF(F43=0,0,($L$6*1000*$P$8/X17)^2) -> 0 | I43: =IF(E43=0,0,(E43*$L$6*1000/X17)^2) -> 0 | J43: =(E43*$P$8/X17)^2 -> 0 | K43: =(H43*F43^2+I43*$Q$8^2+J43*($M$6*1000)^2) -> 0 | L43: =SQRT(K43) -> 0
A46: Calculate uncertainty in carbon mole flow rates of each component in the pretreated SOLID stream | D46: Uncertainty in the Pretreated Solid carbon mole flow of each compound
D47: Compound (x) | E47: Mass fraction in pretreated solids, f_PSx | F47: Uncertainty of f_PSx | G47: C_PSx (C-mol/h) | H47: Uncertainty, Carbon mole flow rate (C_PSx)
H48: Uncertainty coefficients
H49: f_PSx | I49: f_IS | J49: F_Sf | K49: Total (Uncertainty^2) | L49: Uncertainty (C-mol/h)
D50: Glucose | E50: =Carbon_Balance!E28 -> 0.58444286 | F50: =H8 -> 0.0055555405 | G50: =Carbon_Balance!F28 -> 343.0329 | H50: =($L$17*1000*$P$9/X5)^2 -> 345824.86 | I50: =($L$17*1000*E50/X5)^2 -> 3451412.5 | J50: =($P$9*1000*E50/X5)^2 -> 12.966448 | K50: =H50*F50^2+I50*$Q$9^2+J50*$M$17^2 -> 450.50443 | L50: =SQRT(K50) -> 21.22509
D51: Cellobiose | E51: =Carbon_Balance!E29 -> 0
D52: Mannose | E52: =Carbon_Balance!E30 -> 0
D53: Galactose | E53: =Carbon_Balance!E31 -> 0
D54: Xylose | E54: =Carbon_Balance!E32 -> 0.028408996 | F54: =H9 -> 0.0034090796 | G54: =Carbon_Balance!F32 -> 16.674377 | H54: =($L$17*1000*$P$9/X9)^2 -> 345824.86 | I54: =($L$17*1000*E54/X9)^2 -> 8155.0107 | J54: =($P$9*1000*E54/X9)^2 -> 0.030637174 | K54: =H54*F54^2+I54*$Q$9^2+J54*$M$17^2 -> 5.0583496 | L54: =SQRT(K54) -> 2.2490775
D55: Arabinose | E55: =Carbon_Balance!E33 -> 0.0022727197 | F55: =H11 -> 0.0022727197 | G55: =Carbon_Balance!F33 -> 1.3339501 | H55: =($L$17*1000*$P$9/X10)^2 -> 345824.86 | I55: =($L$17*1000*E55/X10)^2 -> 52.192069 | J55: =($P$9*1000*E55/X10)^2 -> 0.00019607791 | K55: =H55*F55^2+I55*$Q$9^2+J55*$M$17^2 -> 1.7929247 | L55: =SQRT(K55) -> 1.3390014
D56: Sucrose
D57: Fructose
D59: Acetyl | E59: =Carbon_Balance!E37 -> 0.007 | F59: =H15 -> 0 | G59: =Carbon_Balance!F37 -> 5.7318956 | H59: =($L$17*1000*$P$9/X13)^2 -> 673083.96 | I59: =($L$17*1000*E59/X13)^2 -> 963.65563 | J59: =($P$9*1000*E59/X13)^2 -> 0.0036203123 | K59: =H59*F59^2+I59*$Q$9^2+J59*$M$17^2 -> 0.12280349 | L59: =SQRT(K59) -> 0.35043329
D60: Acetic Acid
D62: Lignin | E62: =Carbon_Balance!E40 -> 0.316 | F62: =H14 -> 0.002 | G62: =Carbon_Balance!F40 -> 266.15517 | H62: =($L$17*1000*$P$9/X15)^2 -> 712138.44 | I62: =($L$17*1000*E62/X15)^2 -> 2077758.8 | J62: =($P$9*1000*E62/X15)^2 -> 7.8058339 | K62: =H62*F62^2+I62*$Q$9^2+J62*$M$17^2 -> 267.62783 | L62: =SQRT(K62) -> 16.359335
D63: Furfural
D64: HMF
A68: Calculate uncertainty in pretreated LIQUID stream on a carbon mole flow/free sugar basis | D68: Uncertainty in the Pretreated Liquid carbon mole flow of each compound
D69: Compound (x) | E69: Total concentration in pretreated liquid (g/L), c_PLTx | F69: Uncertainty, c_PLTx (g/L) | G69: C_PLTx (C-mol/h) | H69: Uncertainty, Carbon mole flow rate (C_PLTx)
H70: Uncertainty coefficients
H71: f_IS | I71: c_PLTx | J71: F_Sf | K71: rho_PL | L71: Total(Sq) | M71: Uncertainty (C-mol/h)
D72: Glucose | E72: =Carbon_Balance!J28 -> 18.7 | F72: ='Concentration Uncertainties'!B10 -> 0.14844 | G72: =Carbon_Balance!K28 -> 45.231761 | H72: =($L$17*E72/$L$12/X5)^2 -> 3092.0077 | I72: =($L$17*(1-$P$9)/$L$12/X5)^2 -> 5.8731699 | J72: =((1-$P$9)*E72/X5/$L$12)^2 -> 0.22544286 | K72: =($L$17*(1-$P$9)*E72/$L$12^2/X5)^2 -> 1797.2164 | L72: =H72*$Q$9^2+I72*F72^2+J72*$M$17^2+K72*$M$12^2 -> 2.0862055 | M72: =SQRT(L72) -> 1.4443703
D73: Cellobiose | E73: =Carbon_Balance!J29 -> 2.8 | F73: 0 | G73: =Carbon_Balance!K29 -> 7.1291173 | H73: =($L$17*E73/$L$12/X6)^2 -> 76.811294 | I73: =($L$17*(1-$P$9)/$L$12/X6)^2 -> 6.5076507 | J73: =((1-$P$9)*E73/X6/$L$12)^2 -> 0.0056004253 | K73: =($L$17*(1-$P$9)*E73/$L$12^2/X6)^2 -> 44.64624 | L73: =H73*$Q$9^2+I73*F73^2+J73*$M$17^2+K73*$M$12^2 -> 0.048610437 | M73: =SQRT(L73) -> 0.22047775
D74: Mannose | F74: 0
D75: Galactose | E75: =Carbon_Balance!J31 -> 6.6 | F75: ='Concentration Uncertainties'!D10 -> 0.05945 | G75: =Carbon_Balance!K31 -> 15.964151 | H75: =($L$17*E75/$L$12/X8)^2 -> 385.16358 | I75: =($L$17*(1-$P$9)/$L$12/X8)^2 -> 5.8731699 | J75: =((1-$P$9)*E75/X8/$L$12)^2 -> 0.028082848 | K75: =($L$17*(1-$P$9)*E75/$L$12^2/X8)^2 -> 223.8747 | L75: =H75*$Q$9^2+I75*F75^2+J75*$M$17^2+K75*$M$12^2 -> 0.26451038 | M75: =SQRT(L75) -> 0.51430573
D76: Xylose | E76: =Carbon_Balance!J32 -> 63.5 | F76: ='Concentration Uncertainties'!C10 -> 0.40349 | G76: =Carbon_Balance!K32 -> 153.59448 | H76: =($L$17*E76/$L$12/X9)^2 -> 35653.716 | I76: =($L$17*(1-$P$9)/$L$12/X9)^2 -> 5.8731699 | J76: =((1-$P$9)*E76/X9/$L$12)^2 -> 2.5995653 | K76: =($L$17*(1-$P$9)*E76/$L$12^2/X9)^2 -> 20723.572 | L76: =H76*$Q$9^2+I76*F76^2+J76*$M$17^2+K76*$M$12^2 -> 23.519821 | M76: =SQRT(L76) -> 4.8497238
D77: Arabinose | E77: =Carbon_Balance!J33 -> 10.4 | F77: ='Concentration Uncertainties'!E10 -> 0.1163 | G77: =Carbon_Balance!K33 -> 25.155632 | H77: =($L$17*E77/$L$12/X10)^2 -> 956.36577 | I77: =($L$17*(1-$P$9)/$L$12/X10)^2 -> 5.8731699 | J77: =((1-$P$9)*E77/X10/$L$12)^2 -> 0.069730046 | K77: =($L$17*(1-$P$9)*E77/$L$12^2/X10)^2 -> 555.88356 | L77: =H77*$Q$9^2+I77*F77^2+J77*$M$17^2+K77*$M$12^2 -> 0.68467985 | M77: =SQRT(L77) -> 0.82745384
D78: Sucrose
D79: Fructose
D81: Acetyl
D82: Acetic Acid | E82: =Carbon_Balance!I38 -> 9.9 | F82: ='Concentration Uncertainties'!G10 -> 0.61436785 | G82: =Carbon_Balance!K38 -> 23.946226 | H82: =($L$17*E82/$L$12/X14)^2 -> 866.61806 | I82: =($L$17*(1-$P$9)/$L$12/X14)^2 -> 5.8731699 | J82: =((1-$P$9)*E82/X14/$L$12)^2 -> 0.063186408 | K82: =($L$17*(1-$P$9)*E82/$L$12^2/X14)^2 -> 503.71808 | L82: =H82*$Q$9^2+I82*F82^2+J82*$M$17^2+K82*$M$12^2 -> 2.7652592 | M82: =SQRT(L82) -> 1.6629069
D84: Lignin | E84: =Carbon_Balance!J40 -> 5.9 | G84: =Carbon_Balance!K40 -> 20.478965 | H84: =($L$17*E84/$L$12/X15)^2 -> 633.82532 | I84: =($L$17*(1-$P$9)/$L$12/X15)^2 -> 12.094301 | J84: =((1-$P$9)*E84/X15/$L$12)^2 -> 0.046213144 | K84: =($L$17*(1-$P$9)*E84/$L$12^2/X15)^2 -> 368.40829 | L84: =H84*$Q$9^2+I84*F84^2+J84*$M$17^2+K84*$M$12^2 -> 0.40111973 | M84: =SQRT(L84) -> 0.63334014
D85: Furfural | E85: =Carbon_Balance!J41 -> 0.9 | F85: ='Concentration Uncertainties'!I10 -> 0.027857554 | G85: =Carbon_Balance!K41 -> 3.4014059 | H85: =($L$17*E85/$L$12/X16)^2 -> 17.485195 | I85: =($L$17*(1-$P$9)/$L$12/X16)^2 -> 14.3384 | J85: =((1-$P$9)*E85/X16/$L$12)^2 -> 0.0012748715 | K85: =($L$17*(1-$P$9)*E85/$L$12^2/X16)^2 -> 10.163196 | L85: =H85*$Q$9^2+I85*F85^2+J85*$M$17^2+K85*$M$12^2 -> 0.022192818 | M85: =SQRT(L85) -> 0.14897254
D86: HMF | E86: =Carbon_Balance!J42 -> 2 | F86: ='Concentration Uncertainties'!H10 -> 0.032064254 | G86: =Carbon_Balance!K42 -> 6.9108155 | H86: =($L$17*E86/$L$12/X17)^2 -> 72.179217 | I86: =($L$17*(1-$P$9)/$L$12/X17)^2 -> 11.98581 | J86: =((1-$P$9)*E86/X17/$L$12)^2 -> 0.0052626937 | K86: =($L$17*(1-$P$9)*E86/$L$12^2/X17)^2 -> 41.953865 | L86: =H86*$Q$9^2+I86*F86^2+J86*$M$17^2+K86*$M$12^2 -> 0.05800181 | M86: =SQRT(L86) -> 0.24083565
A92: Calculate uncertainty in carbon mole ratio for each component. The carbon mole ratio is the ratio of carbon flow of a component in the pretreated liquid to the carbon mole flow of that component in the unpretreated slurry. This term is used to calculate many reaction conversions. | D92: Uncertainty in the Carbon Ratio of each component
D93: Compound (x) | E93: Unpretreated Stream | H93: Pretreated Stream | K93: Uncertainty Coefficients | R93: Total(Sq) | S93: Uncertainty (mole ratio) | T93: Carbon ratio (mole pretreated liquid/mole unpretreated feed)
E94: f_Ux | F94: Uncertainty, f_Ux | G94: C_Ux | H94: c_PLTx | I94: U_c_PLTx | J94: C_PLTx | K94: f_IS | L94: c_PLTx | M94: F_Sf | N94: rho_PL | O94: F_f | P94: f_FSC | Q94: f_Ux
D96: Glucose | E96: =Carbon_Balance!B28 -> 0.37555454 | F96: =C8 -> 0.0055555405 | G96: =Carbon_Balance!C28 -> 404.8067 | H96: =Carbon_Balance!J28 -> 18.7 | I96: ='Concentration Uncertainties'!B10 -> 0.14844 | J96: =Carbon_Balance!K28 -> 45.231761 | K96: =($L$17*H96/$L$6/$P$8/E96/$L$12/1000)^2 -> 0.018868838 | L96: =($L$17*(1-$P$9)/($L$6*$L$12*$P$8*E96*1000))^2 -> 3.5840757e-05 | M96: =((1-$P$9)*H96/($L$6*$L$12*1000*$P$8*E96))^2 -> 1.375755e-06 | N96: =($L$17*(1-$P$9)*H96/($L$6*($L$12*1000)^2*$P$8*E96))^2 -> 1.0967433e-08 | O96: =($L$17*(1-$P$9)*H96/($L$6^2*$L$12*1000*$P$8*E96))^2 -> 1.0126984e-05 | P96: =($L$17*(1-$P$9)*H96/($L$6*$L$12*1000*$P$8^2*E96))^2 -> 0.014807602 | Q96: =($L$17*(1-$P$9)*H96/($L$6*$L$12*1000*$P$8*E96^2))^2 -> 0.088861647 | R96: =K96*$Q$9^2+L96*I96^2+M96*$M$17^2+N96*$M$12^2+O96*$M$6^2+P96*$Q$8^2+Q96*F96^2 -> 3.0048894e-05 | S96: =SQRT(R96) -> 0.0054816871 | T96: =J96/G96 -> 0.11173669
D97: Cellobiose | E97: =Carbon_Balance!B29 -> 0 | G97: =Carbon_Balance!C29 -> 0 | H97: =Carbon_Balance!J29 -> 2.8 | I97: =F73 -> 0 | J97: =Carbon_Balance!K29 -> 7.1291173
D98: Mannose | E98: =Carbon_Balance!B30 -> 0 | F98: =C12 -> 0 | G98: =Carbon_Balance!C30 -> 0 | H98: =Carbon_Balance!J30 -> 0 | I98: =F74 -> 0 | J98: =Carbon_Balance!K30 -> 0
D99: Galactose | E99: =Carbon_Balance!B31 -> 0.016666621 | F99: =C10 -> 0.0011111081 | G99: =Carbon_Balance!C31 -> 17.964795 | H99: =Carbon_Balance!J31 -> 6.6 | I99: ='Concentration Uncertainties'!D10 -> 0.05945 | J99: =Carbon_Balance!K31 -> 15.964151 | K99: =($L$17*H99/$L$6/$P$8/E99/$L$12/1000)^2 -> 1.1934403 | L99: =($L$17*(1-$P$9)/($L$6*$L$12*$P$8*E99*1000))^2 -> 0.018198184 | M99: =((1-$P$9)*H99/($L$6*$L$12*1000*$P$8*E99))^2 -> 8.7015503e-05 | N99: =($L$17*(1-$P$9)*H99/($L$6*($L$12*1000)^2*$P$8*E99))^2 -> 6.9368214e-07 | O99: =($L$17*(1-$P$9)*H99/($L$6^2*$L$12*1000*$P$8*E99))^2 -> 0.0006405244 | P99: =($L$17*(1-$P$9)*H99/($L$6*$L$12*1000*$P$8^2*E99))^2 -> 0.93657006 | Q99: =($L$17*(1-$P$9)*H99/($L$6*$L$12*1000*$P$8*E99^2))^2 -> 2853.7819 | R99: =K99*$Q$9^2+L99*I99^2+M99*$M$17^2+N99*$M$12^2+O99*$M$6^2+P99*$Q$8^2+Q99*F99^2 -> 0.0052646379 | S99: =SQRT(R99) -> 0.072557824 | T99: =J99/G99 -> 0.88863532
D100: Xylose | E100: =Carbon_Balance!B32 -> 0.21931745 | F100: =C9 -> 0.0034090796 | G100: =Carbon_Balance!C32 -> 236.40022 | H100: =Carbon_Balance!J32 -> 63.5 | I100: ='Concentration Uncertainties'!C10 -> 0.40349 | J100: =Carbon_Balance!K32 -> 153.59448 | K100: =($L$17*H100/$L$6/$P$8/E100/$L$12/1000)^2 -> 0.63798291 | L100: =($L$17*(1-$P$9)/($L$6*$L$12*$P$8*E100*1000))^2 -> 0.00010509373 | M100: =((1-$P$9)*H100/($L$6*$L$12*1000*$P$8*E100))^2 -> 4.651628e-05 | N100: =($L$17*(1-$P$9)*H100/($L$6*($L$12*1000)^2*$P$8*E100))^2 -> 3.7082487e-07 | O100: =($L$17*(1-$P$9)*H100/($L$6^2*$L$12*1000*$P$8*E100))^2 -> 0.00034240809 | P100: =($L$17*(1-$P$9)*H100/($L$6*$L$12*1000*$P$8^2*E100))^2 -> 0.50066659 | Q100: =($L$17*(1-$P$9)*H100/($L$6*$L$12*1000*$P$8*E100^2))^2 -> 8.8100401 | R100: =K100*$Q$9^2+L100*I100^2+M100*$M$17^2+N100*$M$12^2+O100*$M$6^2+P100*$Q$8^2+Q100*F100^2 -> 0.0010160611 | S100: =SQRT(R100) -> 0.031875713 | T100: =J100/G100 -> 0.64972225
D101: Arabinose | E101: =Carbon_Balance!B33 -> 0.029545356 | F101: =C11 -> 0.0022727197 | G101: =Carbon_Balance!C33 -> 31.846662 | H101: =Carbon_Balance!J33 -> 10.4 | I101: ='Concentration Uncertainties'!E10 -> 0.1163 | J101: =Carbon_Balance!K33 -> 25.155632 | K101: =($L$17*H101/$L$6/$P$8/E101/$L$12/1000)^2 -> 0.94296636 | L101: =($L$17*(1-$P$9)/($L$6*$L$12*$P$8*E101*1000))^2 -> 0.0057908823 | M101: =((1-$P$9)*H101/($L$6*$L$12*1000*$P$8*E101))^2 -> 6.8753075e-05 | N101: =($L$17*(1-$P$9)*H101/($L$6*($L$12*1000)^2*$P$8*E101))^2 -> 5.4809521e-07 | O101: =($L$17*(1-$P$9)*H101/($L$6^2*$L$12*1000*$P$8*E101))^2 -> 0.00050609398 | P101: =($L$17*(1-$P$9)*H101/($L$6*$L$12*1000*$P$8^2*E101))^2 -> 0.74000689 | Q101: =($L$17*(1-$P$9)*H101/($L$6*$L$12*1000*$P$8*E101^2))^2 -> 717.51826 | R101: =K101*$Q$9^2+L101*I101^2+M101*$M$17^2+N101*$M$12^2+O101*$M$6^2+P101*$Q$8^2+Q101*F101^2 -> 0.0051096488 | S101: =SQRT(R101) -> 0.071481807 | T101: =J101/G101 -> 0.78989855
D102: Sucrose | E102: =Carbon_Balance!B34 -> 0.02 | F102: =C19 -> 0 | G102: =Carbon_Balance!C34 -> 22.692404 | H102: =Carbon_Balance!J34 -> 0 | I102: =F78 -> 0 | J102: =Carbon_Balance!K34 -> 0 | K102: =($L$17*H102/$L$6/$P$8/E102/$L$12/1000)^2 -> 0 | L102: =($L$17*(1-$P$9)/($L$6*$L$12*$P$8*E102*1000))^2 -> 0.012637559 | M102: =((1-$P$9)*H102/($L$6*$L$12*1000*$P$8*E102))^2 -> 0 | N102: =($L$17*(1-$P$9)*H102/($L$6*($L$12*1000)^2*$P$8*E102))^2 -> 0 | O102: =($L$17*(1-$P$9)*H102/($L$6^2*$L$12*1000*$P$8*E102))^2 -> 0 | P102: =($L$17*(1-$P$9)*H102/($L$6*$L$12*1000*$P$8^2*E102))^2 -> 0 | Q102: =($L$17*(1-$P$9)*H102/($L$6*$L$12*1000*$P$8*E102^2))^2 -> 0 | S102: =SQRT(R102) -> 0 | T102: =J102/G102 -> 0
D103: Fructose | E103: =Carbon_Balance!B35 -> 0 | G103: =Carbon_Balance!C35 -> 0 | H103: =Carbon_Balance!J35 -> 0 | I103: =F79 -> 0 | J103: =Carbon_Balance!K35 -> 0
I104: =F80 -> 0
D105: Acetyl | E105: =Carbon_Balance!B37 -> 0.021 | F105: =C16 -> 0 | G105: =Carbon_Balance!C37 -> 31.579154 | H105: =Carbon_Balance!J37 -> 0 | I105: =F81 -> 0 | J105: =Carbon_Balance!K37 -> 0 | K105: =($L$17*H105/$L$6/$P$8/E105/$L$12/1000)^2 -> 0 | L105: =($L$17*(1-$P$9)/($L$6*$L$12*$P$8*E105*1000))^2 -> 0.011462639 | M105: =((1-$P$9)*H105/($L$6*$L$12*1000*$P$8*E105))^2 -> 0 | N105: =($L$17*(1-$P$9)*H105/($L$6*($L$12*1000)^2*$P$8*E105))^2 -> 0 | O105: =($L$17*(1-$P$9)*H105/($L$6^2*$L$12*1000*$P$8*E105))^2 -> 0 | P105: =($L$17*(1-$P$9)*H105/($L$6*$L$12*1000*$P$8^2*E105))^2 -> 0 | Q105: =($L$17*(1-$P$9)*H105/($L$6*$L$12*1000*$P$8*E105^2))^2 -> 0 | S105: =SQRT(R105) -> 0 | T105: =J105/G105 -> 0
D106: Acetic Acid | E106: =Carbon_Balance!B38 -> 0 | G106: =Carbon_Balance!C38 -> 0 | H106: =Carbon_Balance!J38 -> 0 | I106: ='Concentration Uncertainties'!G10 -> 0.61436785 | J106: =Carbon_Balance!K38 -> 23.946226
I107: =F83 -> 0
D108: Lignin | E108: =Carbon_Balance!B40 -> 0.161 | F108: =C13 -> 0.002 | G108: =Carbon_Balance!C40 -> 249.03172 | H108: =Carbon_Balance!J40 -> 5.9 | I108: =F84 -> 0 | J108: =Carbon_Balance!K40 -> 20.478965 | K108: =($L$17*H108/$L$6/$P$8/E108/$L$12/1000)^2 -> 0.01022022 | L108: =($L$17*(1-$P$9)/($L$6*$L$12*$P$8*E108*1000))^2 -> 0.00019501654 | M108: =((1-$P$9)*H108/($L$6*$L$12*1000*$P$8*E108))^2 -> 7.451714e-07 | N108: =($L$17*(1-$P$9)*H108/($L$6*($L$12*1000)^2*$P$8*E108))^2 -> 5.9404597e-09 | O108: =($L$17*(1-$P$9)*H108/($L$6^2*$L$12*1000*$P$8*E108))^2 -> 5.4852348e-06 | P108: =($L$17*(1-$P$9)*H108/($L$6*$L$12*1000*$P$8^2*E108))^2 -> 0.0080204699 | Q108: =($L$17*(1-$P$9)*H108/($L$6*$L$12*1000*$P$8*E108^2))^2 -> 0.26189289 | R108: =K108*$Q$9^2+L108*I108^2+M108*$M$17^2+N108*$M$12^2+O108*$M$6^2+P108*$Q$8^2+Q108*F108^2 -> 1.5410131e-05 | S108: =SQRT(R108) -> 0.003925574 | T108: =J108/G108 -> 0.082234365
D109: Furfural | E109: =Carbon_Balance!B41 -> 0 | G109: =Carbon_Balance!C41 -> 0 | H109: =Carbon_Balance!J41 -> 0.9 | I109: ='Concentration Uncertainties'!I10 -> 0.027857554 | J109: =Carbon_Balance!K41 -> 3.4014059
D110: HMF | E110: =Carbon_Balance!B42 -> 0 | G110: =Carbon_Balance!C42 -> 0 | H110: =Carbon_Balance!J42 -> 2 | I110: ='Concentration Uncertainties'!H10 -> 0.032064254 | J110: =Carbon_Balance!K42 -> 6.9108155
D113: Uncertainty in Reaction Yield for reactions in Pretreatment Unit
D114: Reaction Name | F114: Uncertainty Coefficients | M114: Total(Sq) | N114: Yield Uncertainty (fraction yield) | P114: Yield Value (fraction yield) | R114: Uncertainty as % of Base Value | T114: Contribution of Individual Uncertainties as a percent of the Total Yield Uncertainty
F115: Carbon ratio, pretreated liquid to unpretreated | H115: c_PLCb | I115: c_PLx | J115: c_PLTx | K115: C_PLTx | L115: C_Ux | T115: %mole ratio | U115: %c_PLCb | V115: %c_PLx | W115: %c_PLTx | X115: %C_Ux | Y115: %C_PLTx
D116: Cellulose to Oligomeric Glucan | F116: =((Carbon_Balance!J28-Carbon_Balance!J29-Carbon_Balance!I28)/Carbon_Balance!J28)^2 -> 9.0235455e-33 | H116: =(Carbon_Balance!K28/Carbon_Balance!C28/Carbon_Balance!J28)^2 -> 3.5703303e-05 | I116: =(Carbon_Balance!K28/Carbon_Balance!C28/Carbon_Balance!J28)^2 -> 3.5703303e-05 | J116: =((Carbon_Balance!J29+Carbon_Balance!I28)^2/(Carbon_Balance!J28)^2)*(Carbon_Balance!K28/Carbon_Balance!C28)^2 -> 0.012485088 | M116: =F116*S96^2+H116*U7^2+I116*U6^2+J116*F72^2 -> 0.00027570659 | N116: =SQRT(M116) -> 0.016604415 | P116: =Yield_Info!D6 -> -1.061413e-17 | R116: =(N116/P116)*100 -> -1.5643689e+17 | T116: =F116*S96^2*100/M116 -> 9.8346422e-32 | U116: =H116*U7^2*100/M116 -> 0.039673133 | V116: =I116*U6^2*100/M116 -> 0.17967104 | W116: =J116*F72^2*100/M116 -> 99.780656
D117: Cellulose to Glucose | F117: Assumed
D118: Cellulose to HMF
D119: Xylan to Oligomeric Xylose | F119: =((Carbon_Balance!J32-Carbon_Balance!I32)/Carbon_Balance!J32)^2 -> 0.017498915 | I119: =(Carbon_Balance!K32/Carbon_Balance!C32/Carbon_Balance!J32)^2 -> 0.00010469068 | J119: =(Carbon_Balance!K32*Carbon_Balance!I32/Carbon_Balance!C32/Carbon_Balance!J32^2)^2 -> 7.8824964e-05 | M119: =F119*S100^2+I119*U10^2+J119*F76^2 -> 4.4863925e-05 | N119: =SQRT(M119) -> 0.0066980539 | P119: =Yield_Info!D18 -> 0.085947511 | R119: =(N119/P119)*100 -> 7.7931912 | T119: =F119*S100^2*100/M119 -> 39.630876 | V119: =I119*U10^2*100/M119 -> 31.764776 | W119: =J119*F76^2*100/M119 -> 28.604349
D120: Xylan to Xylose | I120: =(Carbon_Balance!K32/Carbon_Balance!C32/Carbon_Balance!J32)^2 -> 0.00010469068 | J120: =(Carbon_Balance!K32*Carbon_Balance!I32/Carbon_Balance!C32/Carbon_Balance!J32^2)^2 -> 7.8824964e-05 | K120: =(1/Carbon_Balance!C32^2)*(Carbon_Balance!I32/Carbon_Balance!J32)^2 -> 1.3472866e-05 | L120: =(Carbon_Balance!K32*Carbon_Balance!I32/Carbon_Balance!C32^2/Carbon_Balance!J32)^2 -> 5.6874224e-06 | M120: =K120*M76^2+I120*U10^2+J120*F76^2+L120*L33^2 -> 0.000790585 | N120: =SQRT(M120) -> 0.028117343 | P120: =Yield_Info!D19 -> 0.56377474 | R120: =(N120/P120)*100 -> 4.9873365 | V120: =I120*U10^2*100/M120 -> 1.8025798 | W120: =J120*F76^2*100/M120 -> 1.6232326 | X120: =L120*L33^2*100/M120 -> 56.492553 | Y120: =K120*M76^2*100/M120 -> 40.081635
C121: remove? | D121: Xylan to Furfural
D122: Galactan to Oligomeric Galactose | F122: =((Carbon_Balance!J31-Carbon_Balance!I31)/Carbon_Balance!J31)^2 -> 0.0082644628 | I122: =(Carbon_Balance!K31/Carbon_Balance!C31/Carbon_Balance!J31)^2 -> 0.018128392 | J122: =(Carbon_Balance!K31*Carbon_Balance!I31/Carbon_Balance!C31/Carbon_Balance!J31^2)^2 -> 0.014982142 | M122: =F122*S99^2+I122*U9^2+J122*F75^2 -> 0.0042113437 | N122: =SQRT(M122) -> 0.064894866 | P122: =Yield_Info!D31 -> 0.080785029 | R122: =(N122/P122)*100 -> 80.330312 | T122: =F122*S99^2*100/M122 -> 1.0331478 | V122: =I122*U9^2*100/M122 -> 97.7095 | W122: =J122*F75^2*100/M122 -> 1.2573522
D123: Galactan to Galactose | I123: =(1/Carbon_Balance!J31*Carbon_Balance!K31/Carbon_Balance!C31)^2 -> 0.018128392 | J123: =(Carbon_Balance!I31/Carbon_Balance!J31^2*Carbon_Balance!K31/Carbon_Balance!C31)^2 -> 0.014982142 | K123: =(Carbon_Balance!I31/Carbon_Balance!J31/Carbon_Balance!C31)^2 -> 0.0025607673 | L123: =(Carbon_Balance!I31/Carbon_Balance!J31*Carbon_Balance!K31/Carbon_Balance!C31^2)^2 -> 0.0020221681 | M123: =I123*U9^2+K123*M75^2+J123*F75^2+L123*L32^2 -> 0.008505086 | N123: =SQRT(M123) -> 0.092223023 | P123: =Yield_Info!D32 -> 0.80785029 | R123: =(N123/P123)*100 -> 11.415856 | V123: =I123*U9^2*100/M123 -> 48.381437 | W123: =J123*F75^2*100/M123 -> 0.62258537 | X123: =L123*L32^2*100/M123 -> 43.031925 | Y123: =K123*M75^2*100/M123 -> 7.9640529
...

Sheet Glossary of Terms
A1: The terms are defined here, in the order in which they appear (top to bottom, left to right). They are also loosely grouped by the sections in which they appear (ex. Pretreated Solids)
A3: Term | B3: Definition of Term
A4: f_FSC | B4: Feed solids concentration -- the mass fraction of the (unpretreated) feed stream that is solids
A5: f_IS | B5: Fraction of insoluble solids -- the mass fraction of a stream that is water-insoluble solids
A7: Uncertainty coefficients | B7: The uncertainty coefficient of a given term is the square of the partial derivative of an expression with respect to that term. For example, to obtain the uncertainty coefficient of f_IS in the calculation of the carbon mole flow rate of various components in the unpretreated, feed stream, you first take \the partial derivative of a given carbon mole flow rate expression with respect to f_IS. This term is then square to get the uncertainty "coefficient" of f_IS for that carbon mole flow rate.
A8: f_Ux | B8: Mass fraction of component "x" in the unpretreated, feed stream
A9: C_Ux | B9: Carbon mole flow rate of component "x" in the unpretreated, feed stream (C-mol/h)
A10: F_f | B10: Feed flow rate (kg/h)
A12: f_PSx | B12: Mass fraction of component "x" in the solids part of the pretreated stream
A13: C_PSx | B13: Carbon mole flow rate of component "x" in the solids
A14: F_Sf | B14: Total flow rate of slurry that exist the pretreatment unit
A16: c_PLTx | B16: Total concentration of component "x" (monomers and oligomers) in the pretreated liquid (g/L). "Total" refers to the fact that this measures the mass of monomeric and polymeric "x" in a liter of solution.
A17: C_PLTx | B17: Total carbon mole flow rate of component "x" (monomers and oligomers) in the pretreated liquid (C-mol/h)
... A24: c_PLx | B24: Concentration of component "x" (monomers only) in the pretreated liquid (g/L)

Sheet Concentration Uncertainties
G1: **Standard deviation is done for first 3 values ONLY because those are Justin Sluiter values
G2: Pasted from "Liquor Analysis 10 - 14 - 09, tab "Average whole mass closure
B3: Total Sugars Concentrations, mg/mL
B4: "Total" = Concentration of Monomers and Oligomers
B5: Standard Deviation = Uncertainty value for c_PLTx
B6: Glucose | C6: Xylose | D6: Galactose | E6: Arabinose | F6: Mannose | G6: Acetic acid | H6: HMF | I6: Furfural
G7: 14.8565 | H7: 3.3703285 | I7: 2.1004
G8: 15.8379 | H8: 3.4294813 | I8: 2.1488
B9: 40848 | C9: 40848 | D9: 40848 | E9: 40848 | F9: 40848 | G9: 15.9875 | H9: 3.4213539 | I9: 2.1007
A10: Standard Deviation of Measurements | B10: 0.14844 | C10: 0.40349 | D10: 0.05945 | E10: 0.1163 | F10: 0 | G10: =STDEV(G7:G9) -> 0.61436785 | H10: =STDEV(H7:H9) -> 0.032064254 | I10: =STDEV(I7:I9) -> 0.027857554
B13: Monomeric Sugar Concentrations, mg/mL --
B14: "Monomeric" = Concentration of Monomers only
B15: Standard Deviation = Uncertainty value for c_PLx
B16: Lignin | C16: Cellobiose | D16: Glucose | E16: Xylose | F16: Galactose | G16: Arabinose | H16: Mannose
A17: Standard Deviation of Measurements | B17: 0.35436 | C17: 0.05535 | D17: 0.11779 | E17: 0.36895 | F17: 0.47643 | G17: 0.15596 | H17: 0 | I17: 40848

Sheet Carbon_Balance
A1: PDU Pretreatment Carbon Balance
A3: Run #: | B3: ='Flow Rates & Concentrations'!B2 -> P090923CS
A4: Date: | B4: ='Flow Rates & Concentrations'!B3 -> 0 | Y4: Formula Weights
A5: Time: | B5: ='Flow Rates & Concentrations'!B4 -> 0
A6: Run Conditions: | C6: Hydrolyzer Temp (C) : | E6: ='Flow Rates & Concentrations'!B8 -> 189.6814 | I6: Flash Tank Temp. (C): | J6: ='Flow Rates & Concentrations'!B12 -> 101.48888 | AF6: Formula | AG6: C-mole
C7: Hydrolyzer Residence Time (min) : | E7: ='Flow Rates & Concentrations'!B9 -> 0 | Z7: Component | AA7: C | AB7: H | AC7: O | AD7: N | AE7: OMe | AF7: Weight (g) | AG7: Weight (g)
C8: Hydrolyzer Acid Concentration (%): | E8: ='Flow Rates & Concentrations'!B10 -> 0.021297859
A10: Input Data: | K10: Calculated Results: | Z10: Glucose | AA10: 6 | AB10: 12 | AC10: 6 | AF10: =AA10*12.011+AB10*1.008+AC10*15.9994+AD10*14.0067 -> 180.1584 | AG10: =AF10/AA10 -> 30.0264
Z11: Mannose | AA11: 6 | AB11: 12 | AC11: 6 | AF11: =AA11*12.011+AB11*1.008+AC11*15.9994+AD11*14.0067 -> 180.1584 | AG11: =AF11/AA11 -> 30.0264
B12: Feed Flow Rate (SA-150,kg/h): | C12: ='Flow Rates & Concentrations'!B16 -> 35.179537 | F12: Feed Solids Concentration (%): | G12: ='Flow Rates & Concentrations'!B31 -> 0.92 | N12: Solids Solubilized (%): | O12: =(AC50-AC52*G16)/AC50*100 -> 45.547349 | Z12: Xylose | AA12: 5 | AB12: 10 | AC12: 5 | AF12: =AA12*12.011+AB12*1.008+AC12*15.9994+AD12*14.0067 -> 150.132 | AG12: =AF12/AA12 -> 30.0264
B13: Water to Pug Mill (FT-250-1, kg/h): | C13: ='Flow Rates & Concentrations'!B17 -> 19.182254 | F13: V-201 Acid Concentration (%): | G13: ='Flow Rates & Concentrations'!B32 -> 0.072 | N13: Monomer/Total Sugar Ratios (%) | Z13: Arabinose | AA13: 5 | AB13: 10 | AC13: 5 | AF13: =AA13*12.011+AB13*1.008+AC13*15.9994+AD13*14.0067 -> 150.132 | AG13: =AF13/AA13 -> 30.0264
B14: Acid Flow Rate (FT-201-1, kg/h): | C14: ='Flow Rates & Concentrations'!B18 -> 22.844155 | F14: Lime Concentration (%): | G14: ='Flow Rates & Concentrations'!B33 -> 0 | N14: Glucose: | O14: =I28/IF(J28>0,J28,1)*100 -> 85.026738 | Z14: Galactose | AA14: 6 | AB14: 12 | AC14: 6 | AF14: =AA14*12.011+AB14*1.008+AC14*15.9994+AD14*14.0067 -> 180.1584 | AG14: =AF14/AA14 -> 30.0264
B15: Steam to Hydrolyzer (FT-204-1, kg/h): | C15: ='Flow Rates & Concentrations'!B19 -> 39.389195 | N15: Xylose: | O15: =I32/IF(J32>0,J32,1)*100 -> 86.771654 | Z15: Sucrose | AA15: 12 | AB15: 22 | AC15: 11 | AF15: =AA15*12.011+AB15*1.008+AC15*15.9994+AD15*14.0067 -> 342.3014 | AG15: =AF15/AA15 -> 28.525117
B16: Lime to Flash Tank (FT-201-3 kg/h): | C16: ='Flow Rates & Concentrations'!B20 -> 0 | F16: Hydrolyzate Insoluble Solids (%): | G16: ='Flow Rates & Concentrations'!B34 -> 0.185 | N16: Galactose: | O16: =I31/IF(J31>0,J31,1)*100 -> 90.909091 | Z16: Fructose | AA16: 6 | AB16: 12 | AC16: 6 | AF16: =AA16*12.011+AB16*1.008+AC16*15.9994+AD16*14.0067 -> 180.1584 | AG16: =AF16/AA16 -> 30.0264
B17: Water to Flash Tank (FT-205-1, kg/h): | C17: ='Flow Rates & Concentrations'!B21 -> 0 | N17: Arabinose: | O17: =I33/IF(J33>0,J33,1)*100 -> 103.84615
B18: Sunds Vent (kg/h): | C18: ='Flow Rates & Concentrations'!B22 -> 7.0025239 | N18: Mannose: | O18: =I30/IF(J30>0,J30,1)*100 -> 0 | Z18: Acetic Acid | AA18: 2 | AB18: 4 | AC18: 2 | AF18: =AA18*12.011+AB18*1.008+AC18*15.9994+AD18*14.0067 -> 60.0528 | AG18: =AF18/AA18 -> 30.0264
B19: Flash Vapor (kg/h): | C19: ='Flow Rates & Concentrations'!B23 -> 14.329398 | Z19: Formic Adid | AA19: 1 | AB19: 2 | AC19: 2 | AF19: =AA19*12.011+AB19*1.008+AC19*15.9994+AD19*14.0067 -> 46.0258 | AG19: =AF19/AA19 -> 46.0258
Z20: Lactic Acid | AA20: 3 | AB20: 6 | AC20: 3 | AF20: 90.08 | AG20: =AF20/AA20 -> 30.026667
A21: Carbon Balance: Pretreatment | Z21: Lignin | AA21: 9 | AB21: 8.7 | AC21: 2.72 | AE21: 0.9 | AF21: =AA21*12.011+AB21*1.008+AC21*15.9994+AD21*14.0067+AE21*(15.9994+12.011+3*1.008) -> 188.31793 | AG21: =AF21/AA21 -> 20.924214
Z22: Furfural | AA22: 5 | AB22: 4 | AC22: 2 | AF22: =AA22*12.011+AB22*1.008+AC22*15.9994+AD22*14.0067 -> 96.0858 | AG22: =AF22/AA22 -> 19.21716
B23: Unpretreated | K23: Pretreated | Z23: HMF | AA23: 6 | AB23: 6 | AC23: 3 | AF23: =AA23*12.011+AB23*1.008+AC23*15.9994+AD23*14.0067 -> 126.1122 | AG23: =AF23/AA23 -> 21.0187
B24: Dry Feed | C24: Carbon In | F24: In Solids | K24: In Liquid | O24: In Flash | S24: In Sunds Vent | V24: Total
A25: Component | B25: (% dry weight) | C25: (C-mole/h) | E25: (% dry weight) | F25: (C-mole/h) | G25: (% C in Feed) | I25: (g/L mon.) | J25: (g/L total) | K25: (C-mole/h) | L25: (% C in Feed) | N25: (g/L) | O25: (C-mole/h) | P25: (% C in Feed) | R25: (g/L) | S25: (C-mole/h) | T25: (% C in Feed) | V25: (C-mole/h) | W25: (% C in Feed) | Z25: Cellulose | AA25: 6 | AB25: 10 | AC25: 5 | AF25: =AA25*12.011+AB25*1.008+AC25*15.9994+AD25*14.0067 -> 162.143 | AG25: =AF25/AA25 -> 27.023833
Z26: Cellobiose | AA26: 12 | AB26: 22 | AC26: 11 | AF26: =AA26*12.011+AB26*1.008+AC26*15.9994+AD26*14.0067 -> 342.3014 | AG26: =AF26/AA26 -> 28.525117
Z27: Mannan | AA27: 6 | AB27: 10 | AC27: 5 | AF27: =AA27*12.011+AB27*1.008+AC27*15.9994+AD27*14.0067 -> 162.143 | AG27: =AF27/AA27 -> 27.023833
A28: Glucose | B28: ='Flow Rates & Concentrations'!B38 -> 0.37555454 | C28: =B28*$C$12*1000*$G$12/$AG10 -> 404.8067 | E28: ='Flow Rates & Concentrations'!B54 -> 0.58444286 | F28: =($AC$52*1000*$G$16*E28)/AG10 -> 343.0329 | G28: =F28/IF($C28>0,$C28,1)*100 -> 84.739925 | I28: ='Flow Rates & Concentrations'!B69 -> 15.9 | J28: ='Flow Rates & Concentrations'!B79 -> 18.7 | K28: =$AC$52*1000*(1-$G$16)/1000/'Flow Rates & Concentrations'!$B$67*J28/AG10 -> 45.231761 | L28: =K28/IF($C28>0,$C28,1)*100 -> 11.173669 | V28: =F28+K28+K34+K35+K42 -> 395.17547 | W28: =IF($C28>0,100*V28/($C28+C34)," ") -> 92.4389 | Z28: Xylan | AA28: 5 | AB28: 8 | AC28: 4 | AF28: =AA28*12.011+AB28*1.008+AC28*15.9994+AD28*14.0067 -> 132.1166 | AG28: =AF28/AA28 -> 26.42332
A29: Cellobiose | J29: ='Flow Rates & Concentrations'!B68 -> 2.8 | K29: =$AC$52*1000*(1-$G$16)/1000/'Flow Rates & Concentrations'!$B$67*J29/AG26 -> 7.1291173 | L29: =K29/IF($C28>0,$C28,1)*100 -> 1.7611164 | W29: - | Z29: Arabinan | AA29: 5 | AB29: 8 | AC29: 4 | AF29: =AA29*12.011+AB29*1.008+AC29*15.9994+AD29*14.0067 -> 132.1166 | AG29: =AF29/AA29 -> 26.42332
A30: Mannose | B30: ='Flow Rates & Concentrations'!B42 -> 0 | C30: =B30*$C$12*1000*$G$12/$AG11 -> 0 | E30: ='Flow Rates & Concentrations'!B58 -> 0 | F30: =($AC$52*1000*$G$16*E30)/AG11 -> 0 | G30: =F30/IF($C30>0,$C30,1)*100 -> 0 | I30: ='Flow Rates & Concentrations'!B73 -> 0 | J30: ='Flow Rates & Concentrations'!B83 -> 0 | K30: =$AC$52*1000*(1-$G$16)/1000/'Flow Rates & Concentrations'!$B$67*J30/AG11 -> 0 | L30: =K30/IF($C30>0,$C30,1)*100 -> 0 | V30: =F30+K30 -> 0 | W30: =IF($C30>0,100*V30/$C30," ") | Z30: Galactan | AA30: 6 | AB30: 10 | AC30: 5 | AF30: =AA30*12.011+AB30*1.008+AC30*15.9994+AD30*14.0067 -> 162.143 | AG30: =AF30/AA30 -> 27.023833
A31: Galactose | B31: ='Flow Rates & Concentrations'!B40 -> 0.016666621 | C31: =B31*$C$12*1000*$G$12/$AG14 -> 17.964795 | E31: ='Flow Rates & Concentrations'!B56 -> 0 | F31: =($AC$52*1000*$G$16*E31)/AG14 -> 0 | G31: =F31/IF($C31>0,$C31,1)*100 -> 0 | I31: ='Flow Rates & Concentrations'!B71 -> 6 | J31: ='Flow Rates & Concentrations'!B81 -> 6.6 | K31: =$AC$52*1000*(1-$G$16)/1000/'Flow Rates & Concentrations'!$B$67*J31/AG14 -> 15.964151 | L31: =K31/IF($C31>0,$C31,1)*100 -> 88.863532 | V31: =F31+K31 -> 15.964151 | W31: =IF($C31>0,100*V31/$C31," ") -> 88.863532 | Z31: OAcyl | AA31: 2 | AB31: 3 | AC31: 1 | AF31: =AA31*12.011+AB31*1.008+AC31*15.9994+AD31*14.0067 -> 43.0454 | AG31: =AF31/AA31 -> 21.5227
A32: Xylose | B32: ='Flow Rates & Concentrations'!B39 -> 0.21931745 | C32: =B32*$C$12*1000*$G$12/$AG12 -> 236.40022 | E32: ='Flow Rates & Concentrations'!B55 -> 0.028408996 | F32: =($AC$52*1000*$G$16*E32)/AG12 -> 16.674377 | G32: =F32/IF($C32>0,$C32,1)*100 -> 7.0534523 | I32: ='Flow Rates & Concentrations'!B70 -> 55.1 | J32: ='Flow Rates & Concentrations'!B80 -> 63.5 | K32: =$AC$52*1000*(1-$G$16)/1000/'Flow Rates & Concentrations'!$B$67*J32/AG12 -> 153.59448 | L32: =K32/IF($C32>0,$C32,1)*100 -> 64.972225 | V32: =F32+K32+K41+O41+S41 -> 178.95867 | W32: =IF($C32>0,100*V32/$C32," ") -> 75.701567 | Z32: Biomass | AA32: =AB41 -> 3.8739489 | AB32: =AB42 -> 6.656746 | AC32: =AB44 -> 2.080703 | AD32: =AB45 -> 0.75249702 | AF32: =AA32*12.011+AB32*1.008+AC32*15.9994+AD32*14.0067 -> 97.07 | AG32: =AF32/AA32 -> 25.057119
A33: Arabinose | B33: ='Flow Rates & Concentrations'!B41 -> 0.029545356 | C33: =B33*$C$12*1000*$G$12/$AG13 -> 31.846662 | E33: ='Flow Rates & Concentrations'!B57 -> 0.0022727197 | F33: =($AC$52*1000*$G$16*E33)/AG13 -> 1.3339501 | G33: =F33/IF($C33>0,$C33,1)*100 -> 4.1886655 | I33: ='Flow Rates & Concentrations'!B72 -> 10.8 | J33: ='Flow Rates & Concentrations'!B82 -> 10.4 | K33: =$AC$52*1000*(1-$G$16)/1000/'Flow Rates & Concentrations'!$B$67*J33/AG13 -> 25.155632 | L33: =K33/IF($C33>0,$C33,1)*100 -> 78.989855 | V33: =F33+K33 -> 26.489582 | W33: =IF($C33>0,100*V33/$C33," ") -> 83.178521
A34: Sucrose | B34: ='Flow Rates & Concentrations'!B49 -> 0.02 | C34: =B34*$C$12*1000*$G$12/$AG15 -> 22.692404 | I34: ='Flow Rates & Concentrations'!B74 -> 0 | K34: =$AC$52*1000*(1-$G$16)/1000/'Flow Rates & Concentrations'!$B$67*I34/AG15 -> 0 | L34: =K34/IF($C34>0,$C34,1)*100 -> 0 | W34: - | Z34: Sulfuric Acid | AF34: 98.07
A35: Fructose | I35: ='Flow Rates & Concentrations'!B75 -> 0 | K35: =$AC$52*1000*(1-$G$16)/1000/'Flow Rates & Concentrations'!$B$67*I35/AG16 -> 0 | L35: - | W35: - | Z35: Calcium Hydroxide | AF35: 74.09
Z36: Calcium Sulfate | AF36: 136.14
A37: Acetyl | B37: ='Flow Rates & Concentrations'!B46 -> 0.021 | C37: =B37*$C$12*1000*$G$12/$AG31 -> 31.579154 | E37: ='Flow Rates & Concentrations'!B61 -> 0.007 | F37: =($AC$52*1000*$G$16*E37)/AG31 -> 5.7318956 | G37: =F37/IF($C37>0,$C37,1)*100 -> 18.150884
A38: Acetic Acid | I38: ='Flow Rates & Concentrations'!B76 -> 9.9 | J38: ='Flow Rates & Concentrations'!B84 -> 0 | K38: =$AC$52*1000*(1-$G$16)/1000/'Flow Rates & Concentrations'!$B$67*I38/AG18 -> 23.946226 | N38: ='Flow Rates & Concentrations'!B92 -> 20.6 | O38: =$C$19/'Flow Rates & Concentrations'!$B$91*N38/AG18 -> 9.8308686 | R38: ='Flow Rates & Concentrations'!B97 -> 2.1 | S38: =$C$18/'Flow Rates & Concentrations'!$B$96*R38/AG18 -> 0.4897457 | V38: =F38+K38+O38+S38 -> 34.266841 | W38: =IF($C37>0,100*V38/$C37," ") -> 108.51095
A40: Lignin | B40: ='Flow Rates & Concentrations'!B43 -> 0.161 | C40: =B40*$C$12*1000*$G$12/$AG21 -> 249.03172 | E40: ='Flow Rates & Concentrations'!B60 -> 0.316 | F40: =($AC$52*1000*$G$16*E40)/AG21 -> 266.15517 | G40: =F40/IF($C40>0,$C40,1)*100 -> 106.87601 | J40: ='Flow Rates & Concentrations'!B85 -> 5.9 | K40: =$AC$52*1000*(1-$G$16)/1000/'Flow Rates & Concentrations'!$B$67*J40/AG21 -> 20.478965 | L40: =K40/IF($C40>0,$C40,1)*100 -> 8.2234365 | V40: =F40+K40 -> 286.63414 | W40: =V40/IF($C40>0,$C40,1)*100 -> 115.09945 | AA40: % | AB40: moles | AC40: C-mole
A41: Furfural | J41: ='Flow Rates & Concentrations'!B78 -> 0.9 | K41: =$AC$52*1000*(1-$G$16)/1000/'Flow Rates & Concentrations'!$B$67*J41/AG22 -> 3.4014059 | L41: =K41/IF(C32+C33>0,(C32+C33),1)*100 -> 1.2680132 | N41: ='Flow Rates & Concentrations'!B93 -> 4.6 | O41: =$C$19/'Flow Rates & Concentrations'!$B$91*N41/AG22 -> 3.4300193 | P41: =O41/IF(C32+C33>0,(C32+C33),1)*100 -> 1.27868 | R41: ='Flow Rates & Concentrations'!B98 -> 5.1 | S41: =$C$18/'Flow Rates & Concentrations'!$B$96*R41/AG22 -> 1.8583845 | T41: =S41/IF(G32+G33>0,(G32+G33),1)*100 -> 16.530555 | Z41: C | AA41: 46.53 | AB41: =AA41/12.011 -> 3.8739489 | AC41: =AB41/$AB$41 -> 1
A42: HMF | J42: ='Flow Rates & Concentrations'!B77 -> 2 | K42: =$AC$52*1000*(1-$G$16)/1000/'Flow Rates & Concentrations'!$B$67*J42/AG23 -> 6.9108155 | L42: =K42/IF(C28+C30+C31>0,(C28+C30+C31),1)*100 -> 1.6346456 | Z42: H | AA42: 6.71 | AB42: =AA42/1.008 -> 6.656746 | AC42: =AB42/$AB$41 -> 1.7183361
A44: Total | B44: =(B28+B30+B31)*AF25/AF10+(B32+B33)*AF28/AF12+B37+B40+B34 -> 0.774 | C44: =SUM(C28:C42) -> 994.32166 | E44: =(E28+E30+E31)*AF25/AF10+(E32+E33)*AF28/AF12+E37+E40 -> 0.876 | F44: =SUM(F28:F42) -> 632.92829 | G44: =F44/IF($C44>0,$C44,1)*100 -> 63.65428 | K44: =SUM(K28:K42) -> 301.81256 | L44: =K44/IF(C44>0,C44,1)*100 -> 30.353614 | O44: =SUM(O28:O43) -> 13.260888 | P44: =O44/IF(C44>0,C44,1)*100 -> 1.3336618 | S44: =SUM(S28:S43) -> 2.3481302 | T44: =S44/IF(C44>0,C44,1)*100 -> 0.23615398 | V44: =SUM(V28:V40) -> 937.48885 | Z44: O | AA44: 33.29 | AB44: =AA44/15.9994 -> 2.080703 | AC44: =AB44/$AB$41 -> 0.53710131
Z45: N | AA45: 10.54 | AB45: =AA45/14.0067 -> 0.75249702 | AC45: =AB45/$AB$41 -> 0.19424547
Z46: Ash | AA46: 5.99
AA47: =SUM(AA41:AA46) -> 103.06
A48: C - RECOVERY: | B48: =V44/IF(C44>0,C44,1) -> 0.94284264 | F48: See mass balance assumption sheet (Glucose balance includes both cellulose and sucrose)
Z50: Total Solids to Reactor (kg/h): | AC50: =$C$12*$G$12 -> 32.365174
Z51: Total Liquids From Flash (kg/h): | AC51: =C12*(1-G12)+C13+C14+C15+C16*(1-G14)+C17-C19-C18 -> 62.898045
Z52: Total Flow from Flash (kg/h): | AC52: =AC50+AC51 -> 95.263219
Z53: Total Liquids to Hydrolyzer (kg/h): | AC53: =C12*(1-G12)+C13+C14+C15 -> 84.229966

Sheet Mass Balance Assumptions

Sheet Flow Rates & Concentrations
A1: Run Designation
A2: Run #: | B2: P090923CS
A3: Date:
A4: Time:
A5: Sample #:
A7: Run Conditions
A8: Hydrolyzer Temp (C) : | B8: ='FLow Rate Uncertainties'!C236 -> 189.6814 | C8: SUNDS Summary
A9: Hydrolyzer Residence Time (min) : | C9: SUNDS Summary
A10: Hydrolyzer Acid Concentration (mass %): | B10: =B18*B32/(B27-B22) -> 0.021297859 | C10: Calculation
A11: Hydrolyzer Acid Loading (g acid/g dry biomass): | B11: =B18*B32/(B16*B31) -> 0.050819413 | C11: Calculation
A12: Flash Tank Temp. (C): | B12: ='FLow Rate Uncertainties'!L236 -> 101.48888 | C12: SUNDS Summary
A13: Hydrolysate Slurry pH | C13: Lab Data
A15: Flow Rates
A16: Feed Flow Rate (SA-150,kg/h): | B16: ='FLow Rate Uncertainties'!I236 -> 35.179537 | C16: SUNDS Summary
A17: Water to Pug Mill (FT-250-1, kg/h): | B17: ='FLow Rate Uncertainties'!G236 -> 19.182254 | C17: SUNDS Summary | E17: Total Flow Entering SUNDS (kg/hr) | F17: =SUM(B16:B19) -> 116.59514 | G17: Calculation
A18: Acid Flow Rate (FT-201-1, kg/h): | B18: ='FLow Rate Uncertainties'!F236 -> 22.844155 | C18: SUNDS Summary | E18: Solids Flow to Flash Tank (kg/hr) | F18: =B16*B31 -> 32.365174 | G18: Calculation
A19: Steam to Hydrolyzer (FT-204-1, kg/h): | B19: ='FLow Rate Uncertainties'!H236 -> 39.389195 | C19: SUNDS Summary | E19: Liquid Flow to Flash Tank (kg/hr) | F19: =F17-F18-B22 -> 77.227443 | G19: Calculation
A20: Lime Slurry to Flash Tank (FT-201-3 kg/h): | C20: SUNDS Summary
A21: Water to Flash Tank (FT-205-1, kg/h): | C21: SUNDS Summary | E21: Heat Capacity of Solids (kJ/kg C) | F21: 1.339776 | G21: Input
A22: Sunds Vent (kg/h): | B22: ='FLow Rate Uncertainties'!J236 -> 7.0025239 | C22: =[2]Input!$C$8 -> SUNDS Summary | E22: Heat Capacity of Liquids (kJ/kg C) | F22: 4.1868 | G22: Input
A23: Flash Vapor (kg/h): | B23: =((B8-B12)*(F18*F21+F19*F22))/F23 -> 14.329398 | C23: Calculation | E23: Heat of Vaporization @ Flash Temp(kJ/kg) | F23: 2256.9 | G23: Input
A24: Total Solids to Reactor (kg/h): | B24: =B16*B31 -> 32.365174 | C24: Calculation
A25: Total Liquids From Flash (kg/h): | B25: =B16*(1-B31)+B17+B18+B19+B20*(1-B33)+B21-B23-B22 -> 62.898045 | C25: Calculation
A26: Slurry Flow from Flash (kg/h): | B26: =B24+B25 -> 95.263219 | C26: Calculation
A27: Total Liquids to Hydrolyzer (kg/h): | B27: =B16*(1-B31)+B17+B18+B19 -> 84.229966 | C27: Calculation
A28: Hydrolyzer Total Solids Conc. (%) | B28: =B24/(B16+B17+B18+B19-B22) -> 0.29532258 | C28: Calculation
A30: Miscellaneous Concentrations
A31: Feed Solids Concentration (mass %): | B31: 0.92 | C31: Plant Floor Data
A32: V-201 Acid Concentration (mass %): | B32: 0.072 | C32: Plant Floor Data
A33: Lime Concentration (mass %): | C33: Plant Floor Data
A34: Hydrolysate Insoluble Solids (mass %): | B34: 0.185 | C34: Analytical Data
A35: Hydrolysate Total Solids (mass %) | B35: 0.33 | C35: Analytical Data
A37: Unpretreated Feedstock Concentrations | F37: Normalized
A38: Glucan (% Dry Weight As Free Sugar) | B38: =E38*Carbon_Balance!AF10/Carbon_Balance!AF25/100 -> 0.37555454 | C38: Analytical Data | D38: Glucan (% Dry Weight) | E38: 33.8 | F38: =E38/$E$51 -> 0.35355649
A39: Xylan (% Dry Weight As Free Sugar) | B39: =E39*Carbon_Balance!AF12/Carbon_Balance!AF28/100 -> 0.21931745 | C39: Analytical Data | D39: Xylan (% Dry Weight) | E39: 19.3 | F39: =E39/$E$51 -> 0.20188285
A40: Galactan (% Dry Weight As Free Sugar) | B40: =E40*Carbon_Balance!AF14/Carbon_Balance!AF30/100 -> 0.016666621 | C40: Analytical Data | D40: Galactan (% Dry Weight) | E40: 1.5 | F40: =E40/$E$51 -> 0.015690377
A41: Arabinan (% Dry Weight As Free Sugar) | B41: =E41*Carbon_Balance!AF13/Carbon_Balance!AF29/100 -> 0.029545356 | C41: Analytical Data | D41: Arabinan (% Dry Weight) | E41: 2.6 | F41: =E41/$E$51 -> 0.027196653
A42: Mannan (% Dry Weight As Free Sugar) | B42: =E42*Carbon_Balance!AF11/Carbon_Balance!AF27/100 -> 0 | C42: Analytical Data | D42: Mannan (% Dry Weight) | F42: =E42/$E$51 -> 0
A43: Lignin (% Dry Weight) | B43: =E43/100 -> 0.161 | C43: Analytical Data | D43: Lignin (% Dry Weight) | E43: 16.1 | F43: =E43/$E$51 -> 0.16841004
A44: Structural Inorganics (% Dry Weight) | B44: =E44/100 -> 0.066 | C44: Analytical Data | D44: Structural Inorganics (% Dry Weight) | E44: 6.6 | F44: =E44/$E$51 -> 0.069037657
A45: Soil (% Dry Weight) | B45: =E45/100 -> 0 | C45: Analytical Data | D45: Soil (% Dry Weight) | F45: =E45/$E$51 -> 0
A46: Acetyl (% Dry Weight) | B46: =E46/100 -> 0.021 | C46: Analytical Data | D46: Acetyl (% Dry Weight) | E46: 2.1 | F46: =E46/$E$51 -> 0.021966527
A47: Protein (% Dry Weight) | B47: =E47/100 -> 0 | C47: Analytical Data | D47: Protein (% Dry Weight) | F47: =E47/$E$51 -> 0
A48: Uronic Acid (% Dry Weight) | B48: =E48/100 -> 0 | C48: Analytical Data | D48: Uronic Acid (% Dry Weight) | F48: =E48/$E$51 -> 0
A49: Sucrose (% Dry Weight) | B49: =E49/100 -> 0.02 | C49: Analytical Data | D49: Sucrose (% Dry Weight) | E49: 2 | F49: =E49/$E$51 -> 0.020920502
A50: Water/EtOH Extractives (% Dry Weight) | B50: =E50/100 -> 0.116 | C50: =[2]Input!$C$31 -> Analytical Data | D50: Water/EtOH Extractives (% Dry Weight) | E50: 11.6 | F50: =E50/$E$51 -> 0.12133891
A51: Sum (with Corrections) | B51: =(B38+B42+B40)*0.9+(B39+B41)*0.88+SUM(B43:B50) -> 0.95599831 | C51: Calculation | D51: Sum | E51: =SUM(E38:E50) -> 95.6 | F51: =B51/$B$51 -> 1
A53: Pretreated Solids Concentrations | F53: Normalized
A54: Glucan (% Dry Weight As Free Sugar) | B54: =E54*Carbon_Balance!AF10/Carbon_Balance!AF25/100 -> 0.58444286 | C54: Analytical Data | D54: Glucan (% Dry Weight) | E54: 52.6 | F54: =E54/$E$64 -> 0.55602537
A55: Xylan (% Dry Weight As Free Sugar) | B55: =E55*Carbon_Balance!AF12/Carbon_Balance!AF28/100 -> 0.028408996 | C55: Analytical Data | D55: Xylan (% Dry Weight) | E55: 2.5 | F55: =E55/$E$64 -> 0.026427061
A56: Galactan (% Dry Weight As Free Sugar) | B56: =E56*Carbon_Balance!AF14/Carbon_Balance!AF30/100 -> 0 | C56: Analytical Data | D56: Galactan (% Dry Weight) | F56: =E56/$E$64 -> 0
A57: Arabinan (% Dry Weight As Free Sugar) | B57: =E57*Carbon_Balance!AF13/Carbon_Balance!AF29/100 -> 0.0022727197 | C57: Analytical Data | D57: Arabinan (% Dry Weight) | E57: 0.2 | F57: =E57/$E$64 -> 0.0021141649
A58: Mannan (% Dry Weight As Free Sugar) | B58: =E58*Carbon_Balance!AF11/Carbon_Balance!AF27/100 -> 0 | C58: Analytical Data | D58: Mannan (% Dry Weight) | F58: =E58/$E$64 -> 0
A59: Ash (% Dry Weight) | B59: =E59/100 -> 0.07 | C59: Analytical Data | D59: Ash (% Dry Weight) | E59: 7 | F59: =E59/$E$64 -> 0.073995772
A60: Lignin (% Dry Weight) | B60: =E60/100 -> 0.316 | C60: Analytical Data | D60: Lignin (% Dry Weight) | E60: 31.6 | F60: =E60/$E$64 -> 0.33403805
A61: Acetyl (% Dry Weight) | B61: =E61/100 -> 0.007 | C61: Analytical Data | D61: Acetyl (% Dry Weight) | E61: 0.7 | F61: =E61/$E$64 -> 0.0073995772
A62: Protein (% Dry Weight) | B62: =E62/100 -> 0 | C62: Analytical Data | D62: Protein (% Dry Weight) | F62: =E62/$E$64 -> 0
A63: Uronic Acid (% Dry Weight) | B63: =E63/100 -> 0 | C63: Analytical Data | D63: Uronic Acid (% Dry Weight) | F63: =E63/$E$64 -> 0
A64: Sum | B64: =(B54+B58+B56)*0.9+(B55+B57)*0.88+(SUM(B59:B63)) -> 0.94599848 | C64: Calculation | D64: Sum | E64: =SUM(E54:E63) -> 94.6 | F64: =E64/$E$64 -> 1
A66: Pretreated Liquor Concentrations
A67: Density (g/mL) | B67: 1.069 | C67: Analytical Data
A68: Cellobiose (g/L) | B68: 2.8 | C68: Analytical Data
A69: Glucose -- Monomeric (g/L) | B69: 15.9 | C69: Analytical Data
A70: Xylose -- Monomeric (g/L) | B70: 55.1 | C70: Analytical Data
A71: Galactose -- Monomeric (g/L) | B71: 6 | C71: Analytical Data
A72: Arabinose -- Monomeric (g/L) | B72: 10.8 | C72: Analytical Data
A73: Mannose -- Monomeric (g/L) | C73: Analytical Data
A74: Sucrose (g/L) | C74: Analytical Data
A75: Fructose (g/L) | C75: Analytical Data
A76: Acetic Acid (g/L) | B76: 9.9 | C76: Analytical Data
A77: HMF(g/L) | B77: 2 | C77: Analytical Data
A78: Furfural (g/L) | B78: 0.9 | C78: Analytical Data
A79: Glucose -- Total (g equiv. monomer/L) | B79: 18.7 | C79: Analytical Data
A80: Xylose -- Total (g equiv. monomer/L) | B80: 63.5 | C80: Analytical Data
A81: Galactose -- Total (g equiv. monomer/L) | B81: 6.6 | C81: Analytical Data
A82: Arabinose -- Total (g equiv. monomer/L) | B82: 10.4 | C82: Analytical Data
A83: Mannose -- Total (g equiv. monomer/L) | C83: Analytical Data
A84: Acetate -- Total (g equiv. monomer/L) | C84: Analytical Data
A85: Lignin (g/L) | B85: 5.9 | C85: Analytical Data
A86: Protein (g/L) | C86: Analytical Data | D86: =-#REF! -> #REF!
A87: Uronic Acid (g/L) | C87: Analytical Data
A88: Other Soluble Solids (g/L) | C88: Analytical Data
A90: Flash Concentrations
A91: Density (g/mL) | B91: 1 | C91: =[2]Input!$C$78 -> Estimate
A92: Acetic Acid (g/L) | B92: 20.6 | C92: Analytical Data
A93: Furfural (g/L) | B93: 4.6 | C93: Analytical Data
A95: SUNDS Vent Concentrations
A96: Density (g/mL) | B96: 1 | C96: =[2]Input!$C$83 -> Estimate
A97: Acetic Acid (g/L) | B97: 2.1 | C97: Analytical Data
A98: Furfural (g/L) | B98: 5.1 | C98: Analytical Data
A100: Byproduct Yields
A101: Cellulose to Glucose Yield | B101: 0 | C101: Assumption
A102: Mannose to HMF Yield | B102: 0 | C102: Assumption
A103: Galactan to HMF Yield | B103: 0 | C103: Assumption
A104: Cellulose Derived Glucose to HMF Yield | B104: 0 | C104: Assumption
A105: Arabinan to Furfural Yield | B105: 0 | C105: Assumption
A107: Tar Yields
A108: Xylan to Tar Yield | B108: 0 | C108: Closes Xylose Bal.
A109: Arabinan to Tar Yield | B109: 0
B116: Density Lookup Table
...

Sheet FLow Rate Uncertainties
B1: Level (%) | C1: Head Space Temp. (°C) | D1: Lower Space Temp (°C) | E1: Pressure (psig) | F1: Acid (L/hr) | G1: Water (kg/hr) | H1: Steam (kg/hr) | I1: Biomass (kg/hr) | J1: Vent (kg/hr) | K1: Flash Vapor (kg/hr) | L1: Flash Tank Temp (°C)
A2: 23 Sep 2009 10:57:57 a.m. | B2: 0.24414062 | C2: 189.56569 | D2: 186.71115 | E2: 191.72917 | F2: 22.290039 | G2: 16.577148 | H2: 40.740967 | I2: 37.734375 | J2: 7.0036214 | K2: 13.766813 | L2: 101.6731
A3: 23 Sep 2009 10:58:27 a.m. | B3: 0.24414062 | C3: 189.64725 | D3: 186.87427 | E3: 192.3152 | F3: 22.875977 | G3: 16.308594 | H3: 40.496826 | I3: 36.914062 | J3: 6.9924438 | K3: 13.825097 | L3: 101.6731
A4: 23 Sep 2009 10:58:57 a.m. | B4: 0.24414062 | C4: 189.72881 | D4: 186.87427 | E4: 191.53383 | F4: 22.924805 | G4: 18.603516 | H4: 40.252686 | I4: 35.859375 | J4: 6.9983517 | K4: 14.199088 | L4: 101.6188
A5: 23 Sep 2009 10:59:27 a.m. | B5: 0.24414062 | C5: 189.72881 | D5: 186.87427 | E5: 191.72917 | F5: 23.730469 | G5: 21.459961 | H5: 39.733887 | I5: 35.566406 | J5: 7.0399245 | K5: 14.750105 | L5: 101.6731
A6: 23 Sep 2009 10:59:57 a.m. | B6: 0.24414062 | C6: 189.72881 | D6: 186.87427 | E6: 192.11986 | F6: 23.583984 | G6: 21.435547 | H6: 39.428711 | I6: 37.265625 | J6: 7.0463894 | K6: 14.678918 | L6: 101.6731
A7: 23 Sep 2009 11:00:27 a.m. | B7: 0.24414062 | C7: 189.64725 | D7: 186.79271 | E7: 191.24081 | F7: 23.413086 | G7: 20.874023 | H7: 39.459229 | I7: 36.09375 | J7: 7.0389404 | K7: 14.529164 | L7: 101.6731
A8: 23 Sep 2009 11:00:57 a.m. | B8: 0.24414062 | C8: 189.48413 | D8: 186.71115 | E8: 190.75246 | F8: 23.4375 | G8: 21.044922 | H8: 39.764404 | I8: 35.976562 | J8: 7.0370687 | K8: 14.621865 | L8: 101.64595
A9: 23 Sep 2009 11:01:27 a.m. | B9: 0.24414062 | C9: 189.40257 | D9: 186.62959 | E9: 191.33849 | F9: 23.535156 | G9: 19.873047 | H9: 40.405273 | I9: 35.390625 | J9: 7.0470917 | K9: 14.522797 | L9: 101.6731
A10: 23 Sep 2009 11:01:57 a.m. | B10: 0.24414062 | C10: 189.48413 | D10: 186.62959 | E10: 191.72917 | F10: 23.608398 | G10: 19.702148 | H10: 41.778564 | I10: 36.152344 | J10: 7.0480381 | K10: 14.71693 | L10: 101.70024
A11: 23 Sep 2009 11:02:27 a.m. | B11: 0.24414062 | C11: 189.40257 | D11: 186.62959 | E11: 191.24081 | F11: 23.388672 | G11: 20.361328 | H11: 41.229248 | I11: 35.507812 | J11: 7.0161515 | K11: 14.702324 | L11: 101.6731
A12: 23 Sep 2009 11:02:57 a.m. | B12: 0.24414062 | C12: 189.32101 | D12: 186.71115 | E12: 190.85013 | F12: 23.291016 | G12: 18.457031 | H12: 41.778564 | I12: 36.152344 | J12: 7.0169698 | K12: 14.460812 | L12: 101.6731
A13: 23 Sep 2009 11:03:27 a.m. | B13: 0.24414062 | C13: 189.40257 | D13: 186.62959 | E13: 191.53383 | F13: 23.168945 | G13: 17.724609 | H13: 41.564941 | I13: 35.859375 | J13: 7.0148012 | K13: 14.488676 | L13: 100.37012
... A235: 23 Sep 2009 12:54:27 p.m. | B235: 0.41503906 | C235: 189.81036 | D235: 186.79271 | E235: 192.3152 | F235: 22.583008 | G235: 16.748047 | H235: 40.527344 | I235: 36.5625 | J235: 6.9638096 | K235: 13.871455 | L235: 101.53737
A236: Average Value | C236: =AVERAGE(C2:C235) -> 189.6814 | D236: =AVERAGE(D2:D235) -> 186.8307 | E236: =AVERAGE(E2:E235) -> 192.02427 | F236: =AVERAGE(F2:F235) -> 22.844155 | G236: =AVERAGE(G2:G235) -> 19.182254 | H236: =AVERAGE(H2:H235) -> 39.389195 | I236: =AVERAGE(I2:I235) -> 35.179537 | J236: =AVERAGE(J2:J235) -> 7.0025239 | ... L236: =AVERAGE(L2:L235) -> 101.48888
A237: STANDARD DEVIATION | C237: =STDEV(C2:C235) -> 0.18577843 | D237: =STDEV(D2:D235) -> 0.19132521 | E237: =STDEV(E2:E235) -> 0.90465775 | F237: =STDEV(F2:F235) -> 0.39490887 | G237: =STDEV(G2:G235) -> 1.9319152 | H237: =STDEV(H2:H235) -> 1.4114339 | I237: =STDEV(I2:I235) -> 1.1995748 | J237: =STDEV(J2:J235) -> 0.098126929 | ... L237: =STDEV(L2:L235) -> 0.39822933

Sheet Yield_Info
D2: Measured | E2: Normalized | I2: Reaction yields
A3: From | C3: To | D3: Yield | E3: Yield | I3: Assumptions below:
I4: Assumes all HMF derived from sucrose unless changed on input sheet [cells (102-104)]
A5: Cellulose | C5: Cellulose | D5: =Carbon_Balance!F28/Carbon_Balance!C28 -> 0.84739925 | E5: =D5/$D$10 -> 0.97964052 | I5: Assumes all glucose derived from sucrose unless changed on input sheet [cell 101]
A6: Cellulose | C6: Oligomeric Glucan | D6: =(Carbon_Balance!J28-Carbon_Balance!J29-Carbon_Balance!I28)/Carbon_Balance!J28*Carbon_Balance!K28/Carbon_Balance!C28 -> -1.061413e-17 | E6: =D6/$D$10 -> -1.2270523e-17 | I6: Assumes all HMF derived from sucrose unless changed on input sheet [cells (102-104)]
A7: Cellulose | C7: Cellobiose | D7: =Carbon_Balance!K29/Carbon_Balance!C28 -> 0.017611164 | E7: =D7/$D$10 -> 0.020359482
A8: Cellulose | C8: Glucose | D8: ='Flow Rates & Concentrations'!B101 -> 0 | E8: =D8/$D$10 -> 0 | I8: Some Aspen info at bottom.
A9: Cellulose | C9: HMF | D9: ='Flow Rates & Concentrations'!B104 -> 0 | E9: =D9/$D$10 -> 0
C10: Totals | D10: =SUM(D5:D9) -> 0.86501042 | E10: =SUM(E5:E9) -> 1
A12: Starch | C12: Starch | D12: N/A
A13: Starch | C13: Oligomeric Glucan | D13: N/A
A14: Starch | C14: Glucose | D14: N/A
A15: Starch | C15: HMF | D15: N/A
A17: Xylan | C17: Xylan | D17: =Carbon_Balance!F32/Carbon_Balance!C32 -> 0.070534523 | E17: =D17*(1-'Flow Rates & Concentrations'!$B$108)/$D$22 -> 0.093174456
A18: Xylan | C18: Oligomeric Xylan | D18: =(Carbon_Balance!J32-Carbon_Balance!I32)/Carbon_Balance!J32*Carbon_Balance!K32/Carbon_Balance!C32 -> 0.085947511 | E18: =D18*(1-'Flow Rates & Concentrations'!$B$108)/$D$22 -> 0.11353465
A19: Xylan | C19: Xylose | D19: =(Carbon_Balance!I32/Carbon_Balance!J32*Carbon_Balance!K32+Carbon_Balance!O32+Carbon_Balance!S32)/Carbon_Balance!C32 -> 0.56377474 | E19: =D19*(1-'Flow Rates & Concentrations'!$B$108)/$D$22 -> 0.74473326
A20: Xylan | C20: Furfural | D20: =(Carbon_Balance!K41+Carbon_Balance!O41+Carbon_Balance!S41-Carbon_Balance!C33*'Flow Rates & Concentrations'!B105)/Carbon_Balance!C32 -> 0.03675889 | E20: =D20*(1-'Flow Rates & Concentrations'!$B$108)/$D$22 -> 0.048557634
A21: Xylan | C21: Tar | D21: ------ | E21: ='Flow Rates & Concentrations'!B108 -> 0
C22: Totals | D22: =SUM(D17:D20) -> 0.75701567 | E22: =SUM(E17:E21) -> 1
A24: Mannan | C24: Mannan | D24: =Carbon_Balance!F30/Carbon_Balance!C30 -> #DIV/0! | E24: =D24/$D$28 -> #DIV/0!
A25: Mannan | C25: Oligomeric Mannose | D25: =(Carbon_Balance!J30-Carbon_Balance!I30)/Carbon_Balance!J30*Carbon_Balance!K30/Carbon_Balance!C30 -> #DIV/0! | E25: =D25/$D$28 -> #DIV/0!
A26: Mannan | C26: Mannose | D26: =Carbon_Balance!I30/Carbon_Balance!J30*Carbon_Balance!K30/Carbon_Balance!C30 -> #DIV/0! | E26: =D26/$D$28 -> #DIV/0!
A27: Mannan | C27: HMF | D27: ='Flow Rates & Concentrations'!B102 -> 0 | E27: =D27/$D$28 -> #DIV/0!
C28: Totals | D28: =SUM(D24:D27) -> #DIV/0! | E28: =SUM(E24:E27) -> #DIV/0!
A30: Galactan | C30: Galactan | D30: =Carbon_Balance!F31/Carbon_Balance!C31 -> 0 | E30: =D30/$D$34 -> 0
A31: Galactan | C31: Oligomeric Galactose | D31: =(Carbon_Balance!J31-Carbon_Balance!I31)/Carbon_Balance!J31*Carbon_Balance!K31/Carbon_Balance!C31 -> 0.080785029 | E31: =D31/$D$34 -> 0.090909091
A32: Galactan | C32: Galactose | D32: =Carbon_Balance!I31/Carbon_Balance!J31*Carbon_Balance!K31/Carbon_Balance!C31 -> 0.80785029 | E32: =D32/$D$34 -> 0.90909091
A33: Galactan | C33: HMF | D33: ='Flow Rates & Concentrations'!B103 -> 0 | E33: =D33/$D$34 -> 0
C34: Totals | D34: =SUM(D30:D33) -> 0.88863532 | E34: =SUM(E30:E33) -> 1
A36: Arabinan | C36: Arabinan | D36: =Carbon_Balance!F33/Carbon_Balance!C33 -> 0.041886655 | E36: =D36*(1-'Flow Rates & Concentrations'!$B$109)/$D$41 -> 0.050357538
A37: Arabinan | C37: Oligomeric Arabinan | D37: =(Carbon_Balance!J33-Carbon_Balance!I33)/Carbon_Balance!J33*Carbon_Balance!K33/Carbon_Balance!C33 -> -0.030380713 | E37: =D37*(1-'Flow Rates & Concentrations'!$B$109)/$D$41 -> -0.03652471
A38: Arabinan | C38: Arabinose | D38: =(Carbon_Balance!I33/Carbon_Balance!J33*Carbon_Balance!K33+Carbon_Balance!O33+Carbon_Balance!S33)/Carbon_Balance!C33 -> 0.82027926 | E38: =D38*(1-'Flow Rates & Concentrations'!$B$109)/$D$41 -> 0.98616717
A39: Arabinan | C39: Furfural | D39: ='Flow Rates & Concentrations'!B105 -> 0 | E39: =D39*(1-'Flow Rates & Concentrations'!$B$109)/$D$41 -> 0
A40: Arabinan | C40: Tar | D40: ------ | E40: ='Flow Rates & Concentrations'!B109 -> 0
C41: Totals | D41: =SUM(D36:D39) -> 0.83178521 | E41: =SUM(E36:E40) -> 1
A43: Sucrose | C43: Sucrose | D43: =Carbon_Balance!K34/Carbon_Balance!C34 -> 0 | E43: =D43/$D$47 -> 0
A44: Sucrose | C44: Fructose | D44: =Carbon_Balance!K35/Carbon_Balance!C34 -> 0 | E44: =D44/$D$47 -> 0
A45: Sucrose | C45: Glucose | D45: =Carbon_Balance!I28/Carbon_Balance!J28*Carbon_Balance!K28/Carbon_Balance!C34 -> 1.6948002 | E45: =D45/$D$47 -> 0.84767843 | G45: Assumes all glucose derived from sucrose unless changed on input sheet [cell 101]
A46: Sucrose | C46: HMF | D46: =(Carbon_Balance!K42-'Flow Rates & Concentrations'!B102*Carbon_Balance!C30-'Flow Rates & Concentrations'!B103*Carbon_Balance!C31-'Flow Rates & Concentrations'!B104*Carbon_Balance!C28)/Carbon_Balance!C34 -> 0.30454311 | E46: =D46/$D$47 -> 0.15232157 | G46: Assumes all HMF derived from sucrose unless changed on input sheet [cells (102-104)]
C47: Totals | D47: =SUM(D43:D46) -> 1.9993433 | E47: =SUM(E43:E46) -> 1
A49: Acetate | C49: Acetate | D49: =Carbon_Balance!F37/Carbon_Balance!C37 -> 0.18150884 | E49: =D49/$D$52 -> #DIV/0!
A50: Acetate | C50: Oligomeric Acetate | D50: =((Carbon_Balance!J38-Carbon_Balance!I38)/Carbon_Balance!J38*Carbon_Balance!K38)/Carbon_Balance!C37 -> #DIV/0! | E50: =D50/$D$52 -> #DIV/0!
A51: Acetate | C51: Acetic Acid | D51: =((Carbon_Balance!I38/Carbon_Balance!J38*Carbon_Balance!K38)+Carbon_Balance!O38+Carbon_Balance!S38)/Carbon_Balance!C37 -> #DIV/0! | E51: =D51/$D$52 -> #DIV/0!
C52: Totals | D52: =SUM(D49:D51) -> #DIV/0! | E52: =SUM(E49:E51) -> #DIV/0!
A54: Lignin | C54: Lignin | D54: =Carbon_Balance!F40/Carbon_Balance!C40 -> 1.0687601 | E54: =D54/$D$56 -> 0.92855364
A55: Lignin | C55: Acid Soluble Lignin | D55: =Carbon_Balance!K40/Carbon_Balance!C40 -> 0.082234365 | E55: =D55/$D$56 -> 0.071446359
C56: Totals | D56: =SUM(D54:D55) -> 1.1509945 | E56: =SUM(E54:E55) -> 1
A58: Structural Inorganics+Soil | C58: Ash | D58: ------ | E58: =#REF!/#REF! -> #REF!
A59: Structural Inorganics+Soil | C59: Soluble Solids | D59: ------ | E59: =#REF!/#REF! -> #REF!
C60: Totals | D60: =SUM(D58:D59) -> 0 | E60: =SUM(E58:E59) -> #REF!
A62: Protein | C62: Protein | E62: =#REF!/#REF! -> #REF!
A63: Protein | C63: Soluble Protein | E63: =#REF!/#REF! -> #REF!
C64: Totals | E64: =SUM(E62:E63) -> #REF!
A67: Unknown Soluble Solids? (To be added for feedstocks other than corn stover)
A71: ASPEN Set Points
C72: Pretreatment Temperature (C) | D72: ='Flow Rates & Concentrations'!B8 -> 189.6814 | E72: Fortran SETSPEC
C73: Acid Concentration (acid / solids) | D73: =#REF!/(#REF!+#REF!-#REF!-#REF!+#REF!) -> #REF!
C74: Acid Concentration (acid / liquids) | D74: ='Flow Rates & Concentrations'!B10 -> 0.021297859
C75: Preatreatment Time (min) | D75: ='Flow Rates & Concentrations'!B9 -> 0 | E75: Fortran SETSPEC
C76: Total Solids in Impregnator | D76: =(SUM(#REF!)+SUM(#REF!)+SUM(#REF!))/SUM(#REF!) -> #REF! | E76: Fortran RECYCLE
C77: Pretreatment Insol Solids Concentration | D77: =(SUM(#REF!)+SUM(#REF!)+SUM(#REF!))/(#REF!+#REF!-#REF!-#REF!+#REF!) -> #REF!
C78: Total Solids Concentration After Dilution | D78: =(SUM(#REF!)+#REF!+#REF!)/#REF! -> #REF!
C79: Flash Tank Temp. (C): | D79: ='Flow Rates & Concentrations'!B12 -> 101.48888 | E79: Block T203BL
C80: Overliming Addition (kg/h) | D80: =#REF!-#REF!/Carbon_Balance!AF34 -> #REF! | E80: Stream 227 Mass Flow
C82: Feed Mass Fractions
C83: Mixed Substream Fraction of Total | D83: =1-'Flow Rates & Concentrations'!B31+'Flow Rates & Concentrations'!F50*'Flow Rates & Concentrations'!B31 -> 0.1916318 | E83: Stream 101
C84: Water Fraction of Mixed Substream | D84: =(1-'Flow Rates & Concentrations'!$B$31)/D83 -> 0.41746725 | E84: Stream 101
C85: Unknown Soluble Solids Frac. of Mixed | D85: ='Flow Rates & Concentrations'!F50*'Flow Rates & Concentrations'!$B$31/D83 -> 0.58253275 | E85: Stream 101
C86: CISOLID Substream Fraction of Total | D86: ='Flow Rates & Concentrations'!B31 -> 0.92 | E86: Stream 101
C87: Cellulose Fraction of CISOLID | D87: ='Flow Rates & Concentrations'!F38 -> 0.35355649 | E87: Stream 101
C88: Xylan Fraction of CISOLID | D88: ='Flow Rates & Concentrations'!F39 -> 0.20188285 | E88: Stream 101
C89: Arabinan Fraction of CISOLID | D89: ='Flow Rates & Concentrations'!F41 -> 0.027196653 | E89: Stream 101
C90: Mannan Fraction of CISOLID | D90: ='Flow Rates & Concentrations'!F42 -> 0 | E90: Stream 101
C91: Galactan Fraction of CISOLID | D91: ='Flow Rates & Concentrations'!F40 -> 0.015690377 | E91: Stream 101
C92: Lignin Fraction of CISOLID | D92: ='Flow Rates & Concentrations'!F43 -> 0.16841004 | E92: Stream 101
C93: Acetate Fraction of CISOLID | D93: ='Flow Rates & Concentrations'!F46 -> 0.021966527 | E93: Stream 101
C94: Ash Fraction of CISOLID | D94: ='Flow Rates & Concentrations'!B44 -> 0.066 | E94: Stream 101
D96: ASPEN Checks
D97: Steam to Dry Feed (Flow Ratio) | E97: ='Flow Rates & Concentrations'!B19/('Flow Rates & Concentrations'!$B$16*'Flow Rates & Concentrations'!$B$31) -> 1.217024
D98: Acid to Dry Feed (Flow Ratio) | E98: ='Flow Rates & Concentrations'!B18*'Flow Rates & Concentrations'!B32/('Flow Rates & Concentrations'!$B$16*'Flow Rates & Concentrations'!$B$31) -> 0.050819413
D99: Flash to Dry Feed (Flow Ratio) | E99: ='Flow Rates & Concentrations'!B23/('Flow Rates & Concentrations'!$B$16*'Flow Rates & Concentrations'!$B$31) -> 0.44274125
D100: Hydrolysate Slurry to Dry Feed (Ratio) | E100: ='Flow Rates & Concentrations'!B26/('Flow Rates & Concentrations'!$B$16*'Flow Rates & Concentrations'!$B$31) -> 2.9433866
D101: Hydrolysate Solids to Dry Feed (Ratio) | E101: ='Flow Rates & Concentrations'!B26*'Flow Rates & Concentrations'!B34/('Flow Rates & Concentrations'!$B$16*'Flow Rates & Concentrations'!$B$31) -> 0.54452651
D102: Water Addition before Pretreatment to Dry Feed (Ratio) | E102: =('Flow Rates & Concentrations'!B17+'Flow Rates & Concentrations'!B18*(1-'Flow Rates & Concentrations'!B32))/('Flow Rates & Concentrations'!$B$16*'Flow Rates & Concentrations'!$B$31) -> 1.2476877
D103: Water Addition to Flash Tank to Dry Feed (Ratio) | E103: =('Flow Rates & Concentrations'!B21+'Flow Rates & Concentrations'!B20*(1-'Flow Rates & Concentrations'!B33))/('Flow Rates & Concentrations'!$B$16*'Flow Rates & Concentrations'!$B$31) -> 0
