Workbook

Sheet Total
B1: Patient | C1: Normal | D1: P Value
A2: Age (years) | B2: 52.53 ± 7.19 | C2: =ROUND(AVERAGE(Control!C2:Q2),2)&"±"&ROUND(STDEV(Control!C2:Q2),2) -> 43.47±6.74 | D2: =TTEST(Patient!C2:Q2, Control!C2:Q2,2,3) -> 0.0013417734
A3: Women (%) | B3: 47 | C3: 53 | D3: =TTEST(Patient!B3:Q3, Control!B3:Q3,2,3) -> 0.93240784
A4: Hypertension (%) | B4: 53 | C4: 26.67 | D4: =TTEST(Patient!C4:Q4, Control!C4:Q4,2,3) -> 0.14582914
A5: Systolic BP (mm Hg) | B5: =ROUND(AVERAGE(Patient!C5:Q5),2)&"±"&ROUND(STDEV(Patient!C5:Q5),2) -> 128.4±17.55 | C5: =ROUND(AVERAGE(Control!C5:Q5),0)&"±"&ROUND(STDEV(Control!C5:Q5),2) -> 119±14.94 | D5: =TTEST(Patient!C5:Q5, Control!C5:Q5,2,2) -> 0.12297492
A6: Diastolic BP (mm Hg) | B6: =ROUND(AVERAGE(Patient!C6:Q6),2)&"±"&ROUND(STDEV(Patient!C6:Q6),2) -> 80.27±10.76 | C6: =ROUND(AVERAGE(Control!C6:Q6),0)&"±"&ROUND(STDEV(Control!C6:Q6),2) -> 66±5.4 | D6: =TTEST(Patient!C6:Q6, Control!C6:Q6,2,3) -> 0.00011596652
A7: BMI (kg/m2) | B7: =ROUND(AVERAGE(Patient!C7:Q7),2)&"±"&ROUND(STDEV(Patient!C7:Q7),2) -> 25.09±3.61 | C7: =ROUND(AVERAGE(Control!C7:Q7),2)&"±"&ROUND(STDEV(Control!C7:Q7),2) -> 24.12±1.37 | D7: =TTEST(Patient!C7:Q7, Control!C7:Q7,2,3) -> 0.3404413
A8: NOAC (%) | B8: 93 | C8: 0 | D8: /
A9: Duration of disease (month) | B9: =AVERAGE(Patient!C9:Q9) -> 37.7 | C9: 0 | D9: /
A10: Cholesterol (mmol/L) | B10: =ROUND(AVERAGE(Patient!C10:Q10),2)&"±"&ROUND(STDEV(Patient!C10:Q10),2) -> 4.05±0.64 | C10: =ROUND(AVERAGE(Control!C10:Q10),2)&"±"&ROUND(STDEV(Control!C10:Q10),2) -> 1.03±0.33 | D10: =TTEST(Patient!C10:Q10, Control!C10:Q10,2,3) -> 2.2021123e-13
A11: HDL-C(mmol/L) | B11: =ROUND(AVERAGE(Patient!C11:Q11),2)&"±"&ROUND(STDEV(Patient!C11:Q11),2) -> 1.15±0.24 | C11: =ROUND(AVERAGE(Control!C11:Q11),2)&"±"&ROUND(STDEV(Control!C11:Q11),2) -> 1.48±0.24 | D11: =TTEST(Patient!C11:Q11, Control!C11:Q11,2,3) -> 0.00071734836
A12: LDL-C(mmol/L) | B12: =ROUND(AVERAGE(Patient!C12:Q12),2)&"±"&ROUND(STDEV(Patient!C12:Q12),2) -> 2.4±0.58 | C12: =ROUND(AVERAGE(Control!C12:Q12),2)&"±"&ROUND(STDEV(Control!C12:Q12),2) -> 2.88±0.5 | D12: =TTEST(Patient!C12:Q12, Control!C12:Q12,2,3) -> 0.021947668
A13: Average Left Atrial Dimension (mm) | B13: =ROUND(AVERAGE(Patient!C13:Q13),2)&"±"&ROUND(STDEV(Patient!C13:Q13),2) -> 39.33±4.08 | C13: =ROUND(AVERAGE(Control!C13:Q13),2)&"±"&ROUND(STDEV(Control!C13:Q13),2) -> 32.53±2.67 | D13: =TTEST(Patient!C13:Q13, Control!C13:Q13,2,3) -> 1.492701e-05

Sheet Patient
B1: Average | C1: z621081 | D1: z622922 | E1: z623081 | F1: z624345 | G1: z626800 | H1: z627444 | I1: z627661 | J1: z628508 | K1: z628015 | L1: z632775 | M1: z634134 | N1: z639610 | O1: z676668 | P1: z680227 | Q1: z634112
A2: Age (years) | B2: =AVERAGE(C2:Q2) -> 52.533333 | C2: 54 | D2: 64 | E2: 56 | F2: 46 | G2: 42 | H2: 48 | I2: 39 | J2: 54 | K2: 56 | L2: 55 | M2: 49 | N2: 52 | O2: 55 | P2: 52 | Q2: 66
A3: Women (%) | B3: 47 | C3: 1 | D3: 1 | E3: 0 | F3: 0 | G3: 1 | H3: 1 | I3: 0 | J3: 0 | K3: 1 | L3: 1 | M3: 0 | N3: 0 | O3: 0 | P3: 1 | Q3: 1
A4: Hypertension (%) | B4: 53.33 | C4: 1 | D4: 1 | E4: 0 | F4: 0 | G4: 0 | H4: 1 | I4: 1 | J4: 0 | K4: 1 | L4: 1 | M4: 1 | N4: 0 | O4: 0 | P4: 0 | Q4: 1
A5: Systolic BP (mm Hg) | B5: =AVERAGE(C5:Q5) -> 128.4 | C5: 131 | D5: 146 | E5: 137 | F5: 140 | G5: 102 | H5: 132 | I5: 148 | J5: 124 | K5: 156 | L5: 146 | M5: 122 | N5: 106 | O5: 125 | P5: 106 | Q5: 105
A6: Diastolic BP (mm Hg) | B6: =AVERAGE(C6:Q6) -> 80.266667 | C6: 88 | D6: 101 | E6: 82 | F6: 81 | G6: 57 | H6: 91 | I6: 78 | J6: 74 | K6: 92 | L6: 81 | M6: 79 | N6: 77 | O6: 85 | P6: 69 | Q6: 69
A7: BMI (kg/m2) | B7: =AVERAGE(C7:Q7) -> 25.092667 | C7: 23.18 | D7: 26.03 | E7: 20.24 | F7: 25.76 | G7: 29.39 | H7: 24.22 | I7: 29.39 | J7: 23.73 | K7: 32.93 | L7: 24.69 | M7: 22.22 | N7: 28.65 | O7: 20.7 | P7: 23.31 | Q7: 21.95
A8: NOAC (%) | B8: 93 | C8: 1 | D8: 1 | E8: 0 | F8: 1 | G8: 1 | H8: 1 | I8: 1 | J8: 1 | K8: 1 | L8: 1 | M8: 1 | N8: 1 | O8: 1 | P8: 1 | Q8: 1
A9: Duration of disease (month) | B9: =AVERAGE(C9:Q9) -> 37.7 | C9: 12 | D9: 12 | E9: 0.5 | F9: 72 | G9: 36 | H9: 48 | I9: 48 | J9: 60 | K9: 6 | L9: 36 | M9: 36 | N9: 6 | O9: 120 | P9: 1 | Q9: 72
A10: Cholesterol (mmol/L) | B10: =AVERAGE(C10:Q10) -> 4.0473333 | C10: 3.4 | D10: 4.26 | E10: 3.34 | F10: 5.02 | G10: 4.63 | H10: 4.01 | I10: 3.52 | J10: 3.9 | K10: 2.94 | L10: 4.03 | M10: 4.46 | N10: 4.43 | O10: 5.19 | P10: 3.54 | Q10: 4.04
A11: HDL-C (mmol/L) | B11: =AVERAGE(C11:Q11) -> 1.15 | C11: 1.23 | D11: 1.09 | E11: 1.32 | F11: 0.84 | G11: 1.43 | H11: 1.16 | I11: 0.92 | J11: 1.56 | K11: 0.81 | L11: 1.16 | M11: 1.53 | N11: 1.01 | O11: 1.14 | P11: 0.88 | Q11: 1.17
A12: LDL-C (mmol/L) | B12: =AVERAGE(C12:Q12) -> 2.402 | C12: 2.13 | D12: 2.84 | E12: 1.81 | F12: 3.39 | G12: 2.89 | H12: 2.4 | I12: 2.07 | J12: 1.96 | K12: 1.84 | L12: 2.34 | M12: 1.9 | N12: 3.03 | O12: 3.49 | P12: 1.96 | Q12: 1.98
A13: Average Left Atrial Dimension (mm) | B13: =AVERAGE(C13:Q13) -> 39.333333 | C13: 37 | D13: 43 | E13: 36 | F13: 40 | G13: 50 | H13: 43 | I13: 37 | J13: 36 | K13: 42 | L13: 40 | M13: 40 | N13: 37 | O13: 33 | P13: 37 | Q13: 39
A14: Left Atrial Volume (ml) | B14: =AVERAGE(F14:Q14,D14) -> 115.11538 | C14: N/A | D14: 148.7 | E14: N/A | F14: 72.2 | G14: 194 | H14: 147.2 | I14: 57.7 | J14: 83.5 | K14: 133 | L14: 143.4 | M14: 130.8 | N14: 101 | O14: 80.6 | P14: 100.4 | Q14: 104

Sheet Control
B1: Average | C1: 1 | D1: 2 | E1: 3 | F1: 4 | G1: 5 | H1: 6 | I1: 7 | J1: 8 | K1: 9 | L1: 10 | M1: 11 | N1: 12 | O1: 13 | P1: 14 | Q1: 15
A2: Age (years) | B2: =AVERAGE(C2:Q2) -> 43.466667 | C2: 37 | D2: 50 | E2: 48 | F2: 52 | G2: 47 | H2: 43 | I2: 46 | J2: 42 | K2: 59 | L2: 40 | M2: 37 | N2: 38 | O2: 39 | P2: 39 | Q2: 35
A3: Women (%) | B3: 53 | C3: 1 | D3: 1 | E3: 1 | F3: 1 | G3: 1 | H3: 1 | I3: 1 | J3: 1 | K3: 0 | L3: 0 | M3: 0 | N3: 0 | O3: 0 | P3: 0 | Q3: 0
A4: Hypertension (%) | B4: 26.67 | C4: 1 | D4: 1 | E4: 0 | F4: 1 | G4: 0 | H4: 0 | I4: 1 | J4: 0 | K4: 0 | L4: 0 | M4: 0 | N4: 0 | O4: 0 | P4: 0 | Q4: 0
A5: Systolic BP (mm Hg) | B5: =AVERAGE(C5:Q5) -> 118.93333 | C5: 132 | D5: 135 | E5: 121 | F5: 141 | G5: 113 | H5: 101 | I5: 145 | J5: 136 | K5: 105 | L5: 111 | M5: 106 | N5: 117 | O5: 109 | P5: 103 | Q5: 109
A6: Diastolic BP (mm Hg) | B6: =AVERAGE(C6:Q6) -> 65.533333 | C6: 74 | D6: 67 | E6: 73 | F6: 70 | G6: 72 | H6: 60 | I6: 63 | J6: 58 | K6: 60 | L6: 69 | M6: 58 | N6: 66 | O6: 67 | P6: 65 | Q6: 61
A7: BMI (kg/m2) | B7: =AVERAGE(C7:Q7) -> 24.115333 | C7: 25.01 | D7: 24.38 | E7: 22.89 | F7: 24.12 | G7: 24.58 | H7: 22.91 | I7: 24.67 | J7: 25.68 | K7: 21 | L7: 22.12 | M7: 23.67 | N7: 26.01 | O7: 25.17 | P7: 24.77 | Q7: 24.75
A8: NOAC (%) | B8: N/A | C8: N/A | D8: N/A | E8: N/A | F8: N/A | G8: N/A | H8: N/A | I8: N/A | J8: N/A | K8: N/A | L8: N/A | M8: N/A | N8: N/A | O8: N/A | P8: N/A | Q8: N/A
A9: Duration of disease (month) | B9: N/A | C9: N/A | D9: N/A | E9: N/A | F9: N/A | G9: N/A | H9: N/A | I9: N/A | J9: N/A | K9: N/A | L9: N/A | M9: N/A | N9: N/A | O9: N/A | P9: N/A | Q9: N/A
A10: Cholesterol (mmol/L) | B10: =AVERAGE(C10:Q10) -> 1.0326667 | C10: 0.84 | D10: 0.68 | E10: 1.68 | F10: 1.19 | G10: 1.14 | H10: 0.84 | I10: 1.1 | J10: 0.7 | K10: 1.52 | L10: 1.31 | M10: 1.24 | N10: 0.63 | O10: 1.06 | P10: 0.98 | Q10: 0.58
A11: HDL-C (mmol/L) | B11: =AVERAGE(C11:Q11) -> 1.482 | C11: 1.77 | D11: 1.49 | E11: 1.06 | F11: 1.28 | G11: 1.09 | H11: 1.77 | I11: 1.31 | J11: 1.48 | K11: 1.69 | L11: 1.48 | M11: 1.41 | N11: 1.37 | O11: 1.75 | P11: 1.46 | Q11: 1.82
A12: LDL-C (mmol/L) | B12: =AVERAGE(C12:Q12) -> 2.8793333 | C12: 3.5 | D12: 3.36 | E12: 3.02 | F12: 3.18 | G12: 2.16 | H12: 3.5 | I12: 3.22 | J12: 2.39 | K12: 1.99 | L12: 3.47 | M12: 2.54 | N12: 2.6 | O12: 2.59 | P12: 2.98 | Q12: 2.69
A13: Average Left Atrial Dimension (mm) | B13: =AVERAGE(C13:Q13) -> 32.533333 | C13: 31 | D13: 30 | E13: 32 | F13: 30 | G13: 30 | H13: 33 | I13: 30 | J13: 36 | K13: 30 | L13: 36 | M13: 33 | N13: 34 | O13: 37 | P13: 30 | Q13: 36
A14: Left Atrial Volume (ml) | B14: N/A | C14: N/A | D14: N/A | E14: N/A | F14: N/A | G14: N/A | H14: N/A | I14: N/A | J14: N/A | K14: N/A | L14: N/A | M14: N/A | N14: N/A | O14: N/A | P14: N/A | Q14: N/A
