Workbook

Sheet CoverSheet

Sheet Group1
B19: Counts | L19: Frequency
B20: HOST | G20: PARASITE | L20: HOST | P20: PARASITE
A21: Generation | B21: Spades | C21: Clubs | D21: Diamonds | E21: Hearts | F21: Sum | G21: Spades | H21: Clubs | I21: Diamonds | J21: Hearts | K21: Sum | L21: Spades | M21: Clubs | N21: Diamonds | O21: Hearts | P21: Spades | Q21: Clubs | R21: Diamonds | S21: Hearts
A22: 0 | F22: =SUM(B22:E22) -> 0 | K22: =SUM(G22:J22) -> 0 | L22: =B22/12 -> 0 | M22: =C22/12 -> 0 | N22: =D22/12 -> 0 | O22: =E22/12 -> 0 | P22: =G22/12 -> 0 | Q22: =H22/12 -> 0 | R22: =I22/12 -> 0 | S22: =J22/12 -> 0
A23: 1 | L23: =B23/12 -> 0 | M23: =C23/12 -> 0 | N23: =D23/12 -> 0 | O23: =E23/12 -> 0 | P23: =G23/12 -> 0 | Q23: =H23/12 -> 0 | R23: =I23/12 -> 0 | S23: =J23/12 -> 0
A24: 2 | F24: =SUM(B24:E24) -> 0 | K24: =SUM(G24:J24) -> 0 | L24: =B24/12 -> 0 | M24: =C24/12 -> 0 | N24: =D24/12 -> 0 | O24: =E24/12 -> 0 | P24: =G24/12 -> 0 | Q24: =H24/12 -> 0 | R24: =I24/12 -> 0 | S24: =J24/12 -> 0
A25: 3 | F25: =SUM(B25:E25) -> 0 | K25: =SUM(G25:J25) -> 0 | L25: =B25/12 -> 0 | M25: =C25/12 -> 0 | N25: =D25/12 -> 0 | O25: =E25/12 -> 0 | P25: =G25/12 -> 0 | Q25: =H25/12 -> 0 | R25: =I25/12 -> 0 | S25: =J25/12 -> 0
A26: 4 | F26: =SUM(B26:E26) -> 0 | K26: =SUM(G26:J26) -> 0 | L26: =B26/12 -> 0 | M26: =C26/12 -> 0 | N26: =D26/12 -> 0 | O26: =E26/12 -> 0 | P26: =G26/12 -> 0 | Q26: =H26/12 -> 0 | R26: =I26/12 -> 0 | S26: =J26/12 -> 0
A27: 5 | F27: =SUM(B27:E27) -> 0 | K27: =SUM(G27:J27) -> 0 | L27: =B27/12 -> 0 | M27: =C27/12 -> 0 | N27: =D27/12 -> 0 | O27: =E27/12 -> 0 | P27: =G27/12 -> 0 | Q27: =H27/12 -> 0 | R27: =I27/12 -> 0 | S27: =J27/12 -> 0
A28: 6 | F28: =SUM(B28:E28) -> 0 | K28: =SUM(G28:J28) -> 0 | L28: =B28/12 -> 0 | M28: =C28/12 -> 0 | N28: =D28/12 -> 0 | O28: =E28/12 -> 0 | P28: =G28/12 -> 0 | Q28: =H28/12 -> 0 | R28: =I28/12 -> 0 | S28: =J28/12 -> 0
A29: 7 | F29: =SUM(B29:E29) -> 0 | K29: =SUM(G29:J29) -> 0 | L29: =B29/12 -> 0 | M29: =C29/12 -> 0 | N29: =D29/12 -> 0 | O29: =E29/12 -> 0 | P29: =G29/12 -> 0 | Q29: =H29/12 -> 0 | R29: =I29/12 -> 0 | S29: =J29/12 -> 0
A30: 8 | F30: =SUM(B30:E30) -> 0 | K30: =SUM(G30:J30) -> 0 | L30: =B30/12 -> 0 | M30: =C30/12 -> 0 | N30: =D30/12 -> 0 | O30: =E30/12 -> 0 | P30: =G30/12 -> 0 | Q30: =H30/12 -> 0 | R30: =I30/12 -> 0 | S30: =J30/12 -> 0
A31: 9 | F31: =SUM(B31:E31) -> 0 | K31: =SUM(G31:J31) -> 0 | L31: =B31/12 -> 0 | M31: =C31/12 -> 0 | N31: =D31/12 -> 0 | O31: =E31/12 -> 0 | P31: =G31/12 -> 0 | Q31: =H31/12 -> 0 | R31: =I31/12 -> 0 | S31: =J31/12 -> 0
A32: 10 | F32: =SUM(B32:E32) -> 0 | K32: =SUM(G32:J32) -> 0 | L32: =B32/12 -> 0 | M32: =C32/12 -> 0 | N32: =D32/12 -> 0 | O32: =E32/12 -> 0 | P32: =G32/12 -> 0 | Q32: =H32/12 -> 0 | R32: =I32/12 -> 0 | S32: =J32/12 -> 0
A33: 11 | F33: =SUM(B33:E33) -> 0 | K33: =SUM(G33:J33) -> 0 | L33: =B33/12 -> 0 | M33: =C33/12 -> 0 | N33: =D33/12 -> 0 | O33: =E33/12 -> 0 | P33: =G33/12 -> 0 | Q33: =H33/12 -> 0 | R33: =I33/12 -> 0 | S33: =J33/12 -> 0
A34: 12 | F34: =SUM(B34:E34) -> 0 | K34: =SUM(G34:J34) -> 0 | L34: =B34/12 -> 0 | M34: =C34/12 -> 0 | N34: =D34/12 -> 0 | O34: =E34/12 -> 0 | P34: =G34/12 -> 0 | Q34: =H34/12 -> 0 | R34: =I34/12 -> 0 | S34: =J34/12 -> 0
A35: 13 | F35: =SUM(B35:E35) -> 0 | K35: =SUM(G35:J35) -> 0 | L35: =B35/12 -> 0 | M35: =C35/12 -> 0 | N35: =D35/12 -> 0 | O35: =E35/12 -> 0 | P35: =G35/12 -> 0 | Q35: =H35/12 -> 0 | R35: =I35/12 -> 0 | S35: =J35/12 -> 0
... A37: 15 | F37: =SUM(B37:E37) -> 0 | K37: =SUM(G37:J37) -> 0 | L37: =B37/12 -> 0 | M37: =C37/12 -> 0 | N37: =D37/12 -> 0 | O37: =E37/12 -> 0 | P37: =G37/12 -> 0 | Q37: =H37/12 -> 0 | R37: =I37/12 -> 0 | S37: =J37/12 -> 0

Sheet Group2
B19: Counts | L19: Frequency
B20: HOST | G20: PARASITE | L20: HOST | P20: PARASITE
A21: Generation | B21: Spades | C21: Clubs | D21: Diamonds | E21: Hearts | F21: Sum | G21: Spades | H21: Clubs | I21: Diamonds | J21: Hearts | K21: Sum | L21: Spades | M21: Clubs | N21: Diamonds | O21: Hearts | P21: Spades | Q21: Clubs | R21: Diamonds | S21: Hearts
A22: 0 | F22: =SUM(B22:E22) -> 0 | K22: =SUM(G22:J22) -> 0 | L22: =B22/12 -> 0 | M22: =C22/12 -> 0 | N22: =D22/12 -> 0 | O22: =E22/12 -> 0 | P22: =G22/12 -> 0 | Q22: =H22/12 -> 0 | R22: =I22/12 -> 0 | S22: =J22/12 -> 0
A23: 1 | L23: =B23/12 -> 0 | M23: =C23/12 -> 0 | N23: =D23/12 -> 0 | O23: =E23/12 -> 0 | P23: =G23/12 -> 0 | Q23: =H23/12 -> 0 | R23: =I23/12 -> 0 | S23: =J23/12 -> 0
A24: 2 | F24: =SUM(B24:E24) -> 0 | K24: =SUM(G24:J24) -> 0 | L24: =B24/12 -> 0 | M24: =C24/12 -> 0 | N24: =D24/12 -> 0 | O24: =E24/12 -> 0 | P24: =G24/12 -> 0 | Q24: =H24/12 -> 0 | R24: =I24/12 -> 0 | S24: =J24/12 -> 0
A25: 3 | F25: =SUM(B25:E25) -> 0 | K25: =SUM(G25:J25) -> 0 | L25: =B25/12 -> 0 | M25: =C25/12 -> 0 | N25: =D25/12 -> 0 | O25: =E25/12 -> 0 | P25: =G25/12 -> 0 | Q25: =H25/12 -> 0 | R25: =I25/12 -> 0 | S25: =J25/12 -> 0
A26: 4 | F26: =SUM(B26:E26) -> 0 | K26: =SUM(G26:J26) -> 0 | L26: =B26/12 -> 0 | M26: =C26/12 -> 0 | N26: =D26/12 -> 0 | O26: =E26/12 -> 0 | P26: =G26/12 -> 0 | Q26: =H26/12 -> 0 | R26: =I26/12 -> 0 | S26: =J26/12 -> 0
A27: 5 | F27: =SUM(B27:E27) -> 0 | K27: =SUM(G27:J27) -> 0 | L27: =B27/12 -> 0 | M27: =C27/12 -> 0 | N27: =D27/12 -> 0 | O27: =E27/12 -> 0 | P27: =G27/12 -> 0 | Q27: =H27/12 -> 0 | R27: =I27/12 -> 0 | S27: =J27/12 -> 0
A28: 6 | F28: =SUM(B28:E28) -> 0 | K28: =SUM(G28:J28) -> 0 | L28: =B28/12 -> 0 | M28: =C28/12 -> 0 | N28: =D28/12 -> 0 | O28: =E28/12 -> 0 | P28: =G28/12 -> 0 | Q28: =H28/12 -> 0 | R28: =I28/12 -> 0 | S28: =J28/12 -> 0
A29: 7 | F29: =SUM(B29:E29) -> 0 | K29: =SUM(G29:J29) -> 0 | L29: =B29/12 -> 0 | M29: =C29/12 -> 0 | N29: =D29/12 -> 0 | O29: =E29/12 -> 0 | P29: =G29/12 -> 0 | Q29: =H29/12 -> 0 | R29: =I29/12 -> 0 | S29: =J29/12 -> 0
A30: 8 | F30: =SUM(B30:E30) -> 0 | K30: =SUM(G30:J30) -> 0 | L30: =B30/12 -> 0 | M30: =C30/12 -> 0 | N30: =D30/12 -> 0 | O30: =E30/12 -> 0 | P30: =G30/12 -> 0 | Q30: =H30/12 -> 0 | R30: =I30/12 -> 0 | S30: =J30/12 -> 0
A31: 9 | F31: =SUM(B31:E31) -> 0 | K31: =SUM(G31:J31) -> 0 | L31: =B31/12 -> 0 | M31: =C31/12 -> 0 | N31: =D31/12 -> 0 | O31: =E31/12 -> 0 | P31: =G31/12 -> 0 | Q31: =H31/12 -> 0 | R31: =I31/12 -> 0 | S31: =J31/12 -> 0
A32: 10 | F32: =SUM(B32:E32) -> 0 | K32: =SUM(G32:J32) -> 0 | L32: =B32/12 -> 0 | M32: =C32/12 -> 0 | N32: =D32/12 -> 0 | O32: =E32/12 -> 0 | P32: =G32/12 -> 0 | Q32: =H32/12 -> 0 | R32: =I32/12 -> 0 | S32: =J32/12 -> 0
A33: 11 | F33: =SUM(B33:E33) -> 0 | K33: =SUM(G33:J33) -> 0 | L33: =B33/12 -> 0 | M33: =C33/12 -> 0 | N33: =D33/12 -> 0 | O33: =E33/12 -> 0 | P33: =G33/12 -> 0 | Q33: =H33/12 -> 0 | R33: =I33/12 -> 0 | S33: =J33/12 -> 0
A34: 12 | F34: =SUM(B34:E34) -> 0 | K34: =SUM(G34:J34) -> 0 | L34: =B34/12 -> 0 | M34: =C34/12 -> 0 | N34: =D34/12 -> 0 | O34: =E34/12 -> 0 | P34: =G34/12 -> 0 | Q34: =H34/12 -> 0 | R34: =I34/12 -> 0 | S34: =J34/12 -> 0
A35: 13 | F35: =SUM(B35:E35) -> 0 | K35: =SUM(G35:J35) -> 0 | L35: =B35/12 -> 0 | M35: =C35/12 -> 0 | N35: =D35/12 -> 0 | O35: =E35/12 -> 0 | P35: =G35/12 -> 0 | Q35: =H35/12 -> 0 | R35: =I35/12 -> 0 | S35: =J35/12 -> 0
... A37: 15 | F37: =SUM(B37:E37) -> 0 | K37: =SUM(G37:J37) -> 0 | L37: =B37/12 -> 0 | M37: =C37/12 -> 0 | N37: =D37/12 -> 0 | O37: =E37/12 -> 0 | P37: =G37/12 -> 0 | Q37: =H37/12 -> 0 | R37: =I37/12 -> 0 | S37: =J37/12 -> 0

Sheet Group3
B19: Counts | L19: Frequency
B20: HOST | G20: PARASITE | L20: HOST | P20: PARASITE
A21: Generation | B21: Spades | C21: Clubs | D21: Diamonds | E21: Hearts | F21: Sum | G21: Spades | H21: Clubs | I21: Diamonds | J21: Hearts | K21: Sum | L21: Spades | M21: Clubs | N21: Diamonds | O21: Hearts | P21: Spades | Q21: Clubs | R21: Diamonds | S21: Hearts
A22: 0 | F22: =SUM(B22:E22) -> 0 | K22: =SUM(G22:J22) -> 0 | L22: =B22/12 -> 0 | M22: =C22/12 -> 0 | N22: =D22/12 -> 0 | O22: =E22/12 -> 0 | P22: =G22/12 -> 0 | Q22: =H22/12 -> 0 | R22: =I22/12 -> 0 | S22: =J22/12 -> 0
A23: 1 | L23: =B23/12 -> 0 | M23: =C23/12 -> 0 | N23: =D23/12 -> 0 | O23: =E23/12 -> 0 | P23: =G23/12 -> 0 | Q23: =H23/12 -> 0 | R23: =I23/12 -> 0 | S23: =J23/12 -> 0
A24: 2 | F24: =SUM(B24:E24) -> 0 | K24: =SUM(G24:J24) -> 0 | L24: =B24/12 -> 0 | M24: =C24/12 -> 0 | N24: =D24/12 -> 0 | O24: =E24/12 -> 0 | P24: =G24/12 -> 0 | Q24: =H24/12 -> 0 | R24: =I24/12 -> 0 | S24: =J24/12 -> 0
A25: 3 | F25: =SUM(B25:E25) -> 0 | K25: =SUM(G25:J25) -> 0 | L25: =B25/12 -> 0 | M25: =C25/12 -> 0 | N25: =D25/12 -> 0 | O25: =E25/12 -> 0 | P25: =G25/12 -> 0 | Q25: =H25/12 -> 0 | R25: =I25/12 -> 0 | S25: =J25/12 -> 0
A26: 4 | F26: =SUM(B26:E26) -> 0 | K26: =SUM(G26:J26) -> 0 | L26: =B26/12 -> 0 | M26: =C26/12 -> 0 | N26: =D26/12 -> 0 | O26: =E26/12 -> 0 | P26: =G26/12 -> 0 | Q26: =H26/12 -> 0 | R26: =I26/12 -> 0 | S26: =J26/12 -> 0
A27: 5 | F27: =SUM(B27:E27) -> 0 | K27: =SUM(G27:J27) -> 0 | L27: =B27/12 -> 0 | M27: =C27/12 -> 0 | N27: =D27/12 -> 0 | O27: =E27/12 -> 0 | P27: =G27/12 -> 0 | Q27: =H27/12 -> 0 | R27: =I27/12 -> 0 | S27: =J27/12 -> 0
A28: 6 | F28: =SUM(B28:E28) -> 0 | K28: =SUM(G28:J28) -> 0 | L28: =B28/12 -> 0 | M28: =C28/12 -> 0 | N28: =D28/12 -> 0 | O28: =E28/12 -> 0 | P28: =G28/12 -> 0 | Q28: =H28/12 -> 0 | R28: =I28/12 -> 0 | S28: =J28/12 -> 0
A29: 7 | F29: =SUM(B29:E29) -> 0 | K29: =SUM(G29:J29) -> 0 | L29: =B29/12 -> 0 | M29: =C29/12 -> 0 | N29: =D29/12 -> 0 | O29: =E29/12 -> 0 | P29: =G29/12 -> 0 | Q29: =H29/12 -> 0 | R29: =I29/12 -> 0 | S29: =J29/12 -> 0
A30: 8 | F30: =SUM(B30:E30) -> 0 | K30: =SUM(G30:J30) -> 0 | L30: =B30/12 -> 0 | M30: =C30/12 -> 0 | N30: =D30/12 -> 0 | O30: =E30/12 -> 0 | P30: =G30/12 -> 0 | Q30: =H30/12 -> 0 | R30: =I30/12 -> 0 | S30: =J30/12 -> 0
A31: 9 | F31: =SUM(B31:E31) -> 0 | K31: =SUM(G31:J31) -> 0 | L31: =B31/12 -> 0 | M31: =C31/12 -> 0 | N31: =D31/12 -> 0 | O31: =E31/12 -> 0 | P31: =G31/12 -> 0 | Q31: =H31/12 -> 0 | R31: =I31/12 -> 0 | S31: =J31/12 -> 0
A32: 10 | F32: =SUM(B32:E32) -> 0 | K32: =SUM(G32:J32) -> 0 | L32: =B32/12 -> 0 | M32: =C32/12 -> 0 | N32: =D32/12 -> 0 | O32: =E32/12 -> 0 | P32: =G32/12 -> 0 | Q32: =H32/12 -> 0 | R32: =I32/12 -> 0 | S32: =J32/12 -> 0
A33: 11 | F33: =SUM(B33:E33) -> 0 | K33: =SUM(G33:J33) -> 0 | L33: =B33/12 -> 0 | M33: =C33/12 -> 0 | N33: =D33/12 -> 0 | O33: =E33/12 -> 0 | P33: =G33/12 -> 0 | Q33: =H33/12 -> 0 | R33: =I33/12 -> 0 | S33: =J33/12 -> 0
A34: 12 | F34: =SUM(B34:E34) -> 0 | K34: =SUM(G34:J34) -> 0 | L34: =B34/12 -> 0 | M34: =C34/12 -> 0 | N34: =D34/12 -> 0 | O34: =E34/12 -> 0 | P34: =G34/12 -> 0 | Q34: =H34/12 -> 0 | R34: =I34/12 -> 0 | S34: =J34/12 -> 0
A35: 13 | F35: =SUM(B35:E35) -> 0 | K35: =SUM(G35:J35) -> 0 | L35: =B35/12 -> 0 | M35: =C35/12 -> 0 | N35: =D35/12 -> 0 | O35: =E35/12 -> 0 | P35: =G35/12 -> 0 | Q35: =H35/12 -> 0 | R35: =I35/12 -> 0 | S35: =J35/12 -> 0
... A37: 15 | F37: =SUM(B37:E37) -> 0 | K37: =SUM(G37:J37) -> 0 | L37: =B37/12 -> 0 | M37: =C37/12 -> 0 | N37: =D37/12 -> 0 | O37: =E37/12 -> 0 | P37: =G37/12 -> 0 | Q37: =H37/12 -> 0 | R37: =I37/12 -> 0 | S37: =J37/12 -> 0

Sheet Group4
B19: Counts | L19: Frequency
B20: HOST | G20: PARASITE | L20: HOST | P20: PARASITE
A21: Generation | B21: Spades | C21: Clubs | D21: Diamonds | E21: Hearts | F21: Sum | G21: Spades | H21: Clubs | I21: Diamonds | J21: Hearts | K21: Sum | L21: Spades | M21: Clubs | N21: Diamonds | O21: Hearts | P21: Spades | Q21: Clubs | R21: Diamonds | S21: Hearts
A22: 0 | F22: =SUM(B22:E22) -> 0 | K22: =SUM(G22:J22) -> 0 | L22: =B22/12 -> 0 | M22: =C22/12 -> 0 | N22: =D22/12 -> 0 | O22: =E22/12 -> 0 | P22: =G22/12 -> 0 | Q22: =H22/12 -> 0 | R22: =I22/12 -> 0 | S22: =J22/12 -> 0
A23: 1 | L23: =B23/12 -> 0 | M23: =C23/12 -> 0 | N23: =D23/12 -> 0 | O23: =E23/12 -> 0 | P23: =G23/12 -> 0 | Q23: =H23/12 -> 0 | R23: =I23/12 -> 0 | S23: =J23/12 -> 0
A24: 2 | F24: =SUM(B24:E24) -> 0 | K24: =SUM(G24:J24) -> 0 | L24: =B24/12 -> 0 | M24: =C24/12 -> 0 | N24: =D24/12 -> 0 | O24: =E24/12 -> 0 | P24: =G24/12 -> 0 | Q24: =H24/12 -> 0 | R24: =I24/12 -> 0 | S24: =J24/12 -> 0
A25: 3 | F25: =SUM(B25:E25) -> 0 | K25: =SUM(G25:J25) -> 0 | L25: =B25/12 -> 0 | M25: =C25/12 -> 0 | N25: =D25/12 -> 0 | O25: =E25/12 -> 0 | P25: =G25/12 -> 0 | Q25: =H25/12 -> 0 | R25: =I25/12 -> 0 | S25: =J25/12 -> 0
A26: 4 | F26: =SUM(B26:E26) -> 0 | K26: =SUM(G26:J26) -> 0 | L26: =B26/12 -> 0 | M26: =C26/12 -> 0 | N26: =D26/12 -> 0 | O26: =E26/12 -> 0 | P26: =G26/12 -> 0 | Q26: =H26/12 -> 0 | R26: =I26/12 -> 0 | S26: =J26/12 -> 0
A27: 5 | F27: =SUM(B27:E27) -> 0 | K27: =SUM(G27:J27) -> 0 | L27: =B27/12 -> 0 | M27: =C27/12 -> 0 | N27: =D27/12 -> 0 | O27: =E27/12 -> 0 | P27: =G27/12 -> 0 | Q27: =H27/12 -> 0 | R27: =I27/12 -> 0 | S27: =J27/12 -> 0
A28: 6 | F28: =SUM(B28:E28) -> 0 | K28: =SUM(G28:J28) -> 0 | L28: =B28/12 -> 0 | M28: =C28/12 -> 0 | N28: =D28/12 -> 0 | O28: =E28/12 -> 0 | P28: =G28/12 -> 0 | Q28: =H28/12 -> 0 | R28: =I28/12 -> 0 | S28: =J28/12 -> 0
A29: 7 | F29: =SUM(B29:E29) -> 0 | K29: =SUM(G29:J29) -> 0 | L29: =B29/12 -> 0 | M29: =C29/12 -> 0 | N29: =D29/12 -> 0 | O29: =E29/12 -> 0 | P29: =G29/12 -> 0 | Q29: =H29/12 -> 0 | R29: =I29/12 -> 0 | S29: =J29/12 -> 0
A30: 8 | F30: =SUM(B30:E30) -> 0 | K30: =SUM(G30:J30) -> 0 | L30: =B30/12 -> 0 | M30: =C30/12 -> 0 | N30: =D30/12 -> 0 | O30: =E30/12 -> 0 | P30: =G30/12 -> 0 | Q30: =H30/12 -> 0 | R30: =I30/12 -> 0 | S30: =J30/12 -> 0
A31: 9 | F31: =SUM(B31:E31) -> 0 | K31: =SUM(G31:J31) -> 0 | L31: =B31/12 -> 0 | M31: =C31/12 -> 0 | N31: =D31/12 -> 0 | O31: =E31/12 -> 0 | P31: =G31/12 -> 0 | Q31: =H31/12 -> 0 | R31: =I31/12 -> 0 | S31: =J31/12 -> 0
A32: 10 | F32: =SUM(B32:E32) -> 0 | K32: =SUM(G32:J32) -> 0 | L32: =B32/12 -> 0 | M32: =C32/12 -> 0 | N32: =D32/12 -> 0 | O32: =E32/12 -> 0 | P32: =G32/12 -> 0 | Q32: =H32/12 -> 0 | R32: =I32/12 -> 0 | S32: =J32/12 -> 0
A33: 11 | F33: =SUM(B33:E33) -> 0 | K33: =SUM(G33:J33) -> 0 | L33: =B33/12 -> 0 | M33: =C33/12 -> 0 | N33: =D33/12 -> 0 | O33: =E33/12 -> 0 | P33: =G33/12 -> 0 | Q33: =H33/12 -> 0 | R33: =I33/12 -> 0 | S33: =J33/12 -> 0
A34: 12 | F34: =SUM(B34:E34) -> 0 | K34: =SUM(G34:J34) -> 0 | L34: =B34/12 -> 0 | M34: =C34/12 -> 0 | N34: =D34/12 -> 0 | O34: =E34/12 -> 0 | P34: =G34/12 -> 0 | Q34: =H34/12 -> 0 | R34: =I34/12 -> 0 | S34: =J34/12 -> 0
A35: 13 | F35: =SUM(B35:E35) -> 0 | K35: =SUM(G35:J35) -> 0 | L35: =B35/12 -> 0 | M35: =C35/12 -> 0 | N35: =D35/12 -> 0 | O35: =E35/12 -> 0 | P35: =G35/12 -> 0 | Q35: =H35/12 -> 0 | R35: =I35/12 -> 0 | S35: =J35/12 -> 0
... A37: 15 | F37: =SUM(B37:E37) -> 0 | K37: =SUM(G37:J37) -> 0 | L37: =B37/12 -> 0 | M37: =C37/12 -> 0 | N37: =D37/12 -> 0 | O37: =E37/12 -> 0 | P37: =G37/12 -> 0 | Q37: =H37/12 -> 0 | R37: =I37/12 -> 0 | S37: =J37/12 -> 0

Sheet Group5
B19: Counts | L19: Frequency
B20: HOST | G20: PARASITE | L20: HOST | P20: PARASITE
A21: Generation | B21: Spades | C21: Clubs | D21: Diamonds | E21: Hearts | F21: Sum | G21: Spades | H21: Clubs | I21: Diamonds | J21: Hearts | K21: Sum | L21: Spades | M21: Clubs | N21: Diamonds | O21: Hearts | P21: Spades | Q21: Clubs | R21: Diamonds | S21: Hearts
A22: 0 | F22: =SUM(B22:E22) -> 0 | K22: =SUM(G22:J22) -> 0 | L22: =B22/12 -> 0 | M22: =C22/12 -> 0 | N22: =D22/12 -> 0 | O22: =E22/12 -> 0 | P22: =G22/12 -> 0 | Q22: =H22/12 -> 0 | R22: =I22/12 -> 0 | S22: =J22/12 -> 0
A23: 1 | L23: =B23/12 -> 0 | M23: =C23/12 -> 0 | N23: =D23/12 -> 0 | O23: =E23/12 -> 0 | P23: =G23/12 -> 0 | Q23: =H23/12 -> 0 | R23: =I23/12 -> 0 | S23: =J23/12 -> 0
A24: 2 | F24: =SUM(B24:E24) -> 0 | K24: =SUM(G24:J24) -> 0 | L24: =B24/12 -> 0 | M24: =C24/12 -> 0 | N24: =D24/12 -> 0 | O24: =E24/12 -> 0 | P24: =G24/12 -> 0 | Q24: =H24/12 -> 0 | R24: =I24/12 -> 0 | S24: =J24/12 -> 0
A25: 3 | F25: =SUM(B25:E25) -> 0 | K25: =SUM(G25:J25) -> 0 | L25: =B25/12 -> 0 | M25: =C25/12 -> 0 | N25: =D25/12 -> 0 | O25: =E25/12 -> 0 | P25: =G25/12 -> 0 | Q25: =H25/12 -> 0 | R25: =I25/12 -> 0 | S25: =J25/12 -> 0
A26: 4 | F26: =SUM(B26:E26) -> 0 | K26: =SUM(G26:J26) -> 0 | L26: =B26/12 -> 0 | M26: =C26/12 -> 0 | N26: =D26/12 -> 0 | O26: =E26/12 -> 0 | P26: =G26/12 -> 0 | Q26: =H26/12 -> 0 | R26: =I26/12 -> 0 | S26: =J26/12 -> 0
A27: 5 | F27: =SUM(B27:E27) -> 0 | K27: =SUM(G27:J27) -> 0 | L27: =B27/12 -> 0 | M27: =C27/12 -> 0 | N27: =D27/12 -> 0 | O27: =E27/12 -> 0 | P27: =G27/12 -> 0 | Q27: =H27/12 -> 0 | R27: =I27/12 -> 0 | S27: =J27/12 -> 0
A28: 6 | F28: =SUM(B28:E28) -> 0 | K28: =SUM(G28:J28) -> 0 | L28: =B28/12 -> 0 | M28: =C28/12 -> 0 | N28: =D28/12 -> 0 | O28: =E28/12 -> 0 | P28: =G28/12 -> 0 | Q28: =H28/12 -> 0 | R28: =I28/12 -> 0 | S28: =J28/12 -> 0
A29: 7 | F29: =SUM(B29:E29) -> 0 | K29: =SUM(G29:J29) -> 0 | L29: =B29/12 -> 0 | M29: =C29/12 -> 0 | N29: =D29/12 -> 0 | O29: =E29/12 -> 0 | P29: =G29/12 -> 0 | Q29: =H29/12 -> 0 | R29: =I29/12 -> 0 | S29: =J29/12 -> 0
A30: 8 | F30: =SUM(B30:E30) -> 0 | K30: =SUM(G30:J30) -> 0 | L30: =B30/12 -> 0 | M30: =C30/12 -> 0 | N30: =D30/12 -> 0 | O30: =E30/12 -> 0 | P30: =G30/12 -> 0 | Q30: =H30/12 -> 0 | R30: =I30/12 -> 0 | S30: =J30/12 -> 0
A31: 9 | F31: =SUM(B31:E31) -> 0 | K31: =SUM(G31:J31) -> 0 | L31: =B31/12 -> 0 | M31: =C31/12 -> 0 | N31: =D31/12 -> 0 | O31: =E31/12 -> 0 | P31: =G31/12 -> 0 | Q31: =H31/12 -> 0 | R31: =I31/12 -> 0 | S31: =J31/12 -> 0
A32: 10 | F32: =SUM(B32:E32) -> 0 | K32: =SUM(G32:J32) -> 0 | L32: =B32/12 -> 0 | M32: =C32/12 -> 0 | N32: =D32/12 -> 0 | O32: =E32/12 -> 0 | P32: =G32/12 -> 0 | Q32: =H32/12 -> 0 | R32: =I32/12 -> 0 | S32: =J32/12 -> 0
A33: 11 | F33: =SUM(B33:E33) -> 0 | K33: =SUM(G33:J33) -> 0 | L33: =B33/12 -> 0 | M33: =C33/12 -> 0 | N33: =D33/12 -> 0 | O33: =E33/12 -> 0 | P33: =G33/12 -> 0 | Q33: =H33/12 -> 0 | R33: =I33/12 -> 0 | S33: =J33/12 -> 0
A34: 12 | F34: =SUM(B34:E34) -> 0 | K34: =SUM(G34:J34) -> 0 | L34: =B34/12 -> 0 | M34: =C34/12 -> 0 | N34: =D34/12 -> 0 | O34: =E34/12 -> 0 | P34: =G34/12 -> 0 | Q34: =H34/12 -> 0 | R34: =I34/12 -> 0 | S34: =J34/12 -> 0
A35: 13 | F35: =SUM(B35:E35) -> 0 | K35: =SUM(G35:J35) -> 0 | L35: =B35/12 -> 0 | M35: =C35/12 -> 0 | N35: =D35/12 -> 0 | O35: =E35/12 -> 0 | P35: =G35/12 -> 0 | Q35: =H35/12 -> 0 | R35: =I35/12 -> 0 | S35: =J35/12 -> 0
... A37: 15 | F37: =SUM(B37:E37) -> 0 | K37: =SUM(G37:J37) -> 0 | L37: =B37/12 -> 0 | M37: =C37/12 -> 0 | N37: =D37/12 -> 0 | O37: =E37/12 -> 0 | P37: =G37/12 -> 0 | Q37: =H37/12 -> 0 | R37: =I37/12 -> 0 | S37: =J37/12 -> 0

Sheet Group6
B19: Counts | L19: Frequency
B20: HOST | G20: PARASITE | L20: HOST | P20: PARASITE
A21: Generation | B21: Spades | C21: Clubs | D21: Diamonds | E21: Hearts | F21: Sum | G21: Spades | H21: Clubs | I21: Diamonds | J21: Hearts | K21: Sum | L21: Spades | M21: Clubs | N21: Diamonds | O21: Hearts | P21: Spades | Q21: Clubs | R21: Diamonds | S21: Hearts
A22: 0 | F22: =SUM(B22:E22) -> 0 | K22: =SUM(G22:J22) -> 0 | L22: =B22/12 -> 0 | M22: =C22/12 -> 0 | N22: =D22/12 -> 0 | O22: =E22/12 -> 0 | P22: =G22/12 -> 0 | Q22: =H22/12 -> 0 | R22: =I22/12 -> 0 | S22: =J22/12 -> 0
A23: 1 | L23: =B23/12 -> 0 | M23: =C23/12 -> 0 | N23: =D23/12 -> 0 | O23: =E23/12 -> 0 | P23: =G23/12 -> 0 | Q23: =H23/12 -> 0 | R23: =I23/12 -> 0 | S23: =J23/12 -> 0
A24: 2 | F24: =SUM(B24:E24) -> 0 | K24: =SUM(G24:J24) -> 0 | L24: =B24/12 -> 0 | M24: =C24/12 -> 0 | N24: =D24/12 -> 0 | O24: =E24/12 -> 0 | P24: =G24/12 -> 0 | Q24: =H24/12 -> 0 | R24: =I24/12 -> 0 | S24: =J24/12 -> 0
A25: 3 | F25: =SUM(B25:E25) -> 0 | K25: =SUM(G25:J25) -> 0 | L25: =B25/12 -> 0 | M25: =C25/12 -> 0 | N25: =D25/12 -> 0 | O25: =E25/12 -> 0 | P25: =G25/12 -> 0 | Q25: =H25/12 -> 0 | R25: =I25/12 -> 0 | S25: =J25/12 -> 0
A26: 4 | F26: =SUM(B26:E26) -> 0 | K26: =SUM(G26:J26) -> 0 | L26: =B26/12 -> 0 | M26: =C26/12 -> 0 | N26: =D26/12 -> 0 | O26: =E26/12 -> 0 | P26: =G26/12 -> 0 | Q26: =H26/12 -> 0 | R26: =I26/12 -> 0 | S26: =J26/12 -> 0
A27: 5 | F27: =SUM(B27:E27) -> 0 | K27: =SUM(G27:J27) -> 0 | L27: =B27/12 -> 0 | M27: =C27/12 -> 0 | N27: =D27/12 -> 0 | O27: =E27/12 -> 0 | P27: =G27/12 -> 0 | Q27: =H27/12 -> 0 | R27: =I27/12 -> 0 | S27: =J27/12 -> 0
A28: 6 | F28: =SUM(B28:E28) -> 0 | K28: =SUM(G28:J28) -> 0 | L28: =B28/12 -> 0 | M28: =C28/12 -> 0 | N28: =D28/12 -> 0 | O28: =E28/12 -> 0 | P28: =G28/12 -> 0 | Q28: =H28/12 -> 0 | R28: =I28/12 -> 0 | S28: =J28/12 -> 0
A29: 7 | F29: =SUM(B29:E29) -> 0 | K29: =SUM(G29:J29) -> 0 | L29: =B29/12 -> 0 | M29: =C29/12 -> 0 | N29: =D29/12 -> 0 | O29: =E29/12 -> 0 | P29: =G29/12 -> 0 | Q29: =H29/12 -> 0 | R29: =I29/12 -> 0 | S29: =J29/12 -> 0
A30: 8 | F30: =SUM(B30:E30) -> 0 | K30: =SUM(G30:J30) -> 0 | L30: =B30/12 -> 0 | M30: =C30/12 -> 0 | N30: =D30/12 -> 0 | O30: =E30/12 -> 0 | P30: =G30/12 -> 0 | Q30: =H30/12 -> 0 | R30: =I30/12 -> 0 | S30: =J30/12 -> 0
A31: 9 | F31: =SUM(B31:E31) -> 0 | K31: =SUM(G31:J31) -> 0 | L31: =B31/12 -> 0 | M31: =C31/12 -> 0 | N31: =D31/12 -> 0 | O31: =E31/12 -> 0 | P31: =G31/12 -> 0 | Q31: =H31/12 -> 0 | R31: =I31/12 -> 0 | S31: =J31/12 -> 0
A32: 10 | F32: =SUM(B32:E32) -> 0 | K32: =SUM(G32:J32) -> 0 | L32: =B32/12 -> 0 | M32: =C32/12 -> 0 | N32: =D32/12 -> 0 | O32: =E32/12 -> 0 | P32: =G32/12 -> 0 | Q32: =H32/12 -> 0 | R32: =I32/12 -> 0 | S32: =J32/12 -> 0
A33: 11 | F33: =SUM(B33:E33) -> 0 | K33: =SUM(G33:J33) -> 0 | L33: =B33/12 -> 0 | M33: =C33/12 -> 0 | N33: =D33/12 -> 0 | O33: =E33/12 -> 0 | P33: =G33/12 -> 0 | Q33: =H33/12 -> 0 | R33: =I33/12 -> 0 | S33: =J33/12 -> 0
A34: 12 | F34: =SUM(B34:E34) -> 0 | K34: =SUM(G34:J34) -> 0 | L34: =B34/12 -> 0 | M34: =C34/12 -> 0 | N34: =D34/12 -> 0 | O34: =E34/12 -> 0 | P34: =G34/12 -> 0 | Q34: =H34/12 -> 0 | R34: =I34/12 -> 0 | S34: =J34/12 -> 0
A35: 13 | F35: =SUM(B35:E35) -> 0 | K35: =SUM(G35:J35) -> 0 | L35: =B35/12 -> 0 | M35: =C35/12 -> 0 | N35: =D35/12 -> 0 | O35: =E35/12 -> 0 | P35: =G35/12 -> 0 | Q35: =H35/12 -> 0 | R35: =I35/12 -> 0 | S35: =J35/12 -> 0
... A37: 15 | F37: =SUM(B37:E37) -> 0 | K37: =SUM(G37:J37) -> 0 | L37: =B37/12 -> 0 | M37: =C37/12 -> 0 | N37: =D37/12 -> 0 | O37: =E37/12 -> 0 | P37: =G37/12 -> 0 | Q37: =H37/12 -> 0 | R37: =I37/12 -> 0 | S37: =J37/12 -> 0

Sheet Group7
B19: Counts | L19: Frequency
B20: HOST | G20: PARASITE | L20: HOST | P20: PARASITE
A21: Generation | B21: Spades | C21: Clubs | D21: Diamonds | E21: Hearts | F21: Sum | G21: Spades | H21: Clubs | I21: Diamonds | J21: Hearts | K21: Sum | L21: Spades | M21: Clubs | N21: Diamonds | O21: Hearts | P21: Spades | Q21: Clubs | R21: Diamonds | S21: Hearts
A22: 0 | F22: =SUM(B22:E22) -> 0 | K22: =SUM(G22:J22) -> 0 | L22: =B22/12 -> 0 | M22: =C22/12 -> 0 | N22: =D22/12 -> 0 | O22: =E22/12 -> 0 | P22: =G22/12 -> 0 | Q22: =H22/12 -> 0 | R22: =I22/12 -> 0 | S22: =J22/12 -> 0
A23: 1 | L23: =B23/12 -> 0 | M23: =C23/12 -> 0 | N23: =D23/12 -> 0 | O23: =E23/12 -> 0 | P23: =G23/12 -> 0 | Q23: =H23/12 -> 0 | R23: =I23/12 -> 0 | S23: =J23/12 -> 0
A24: 2 | F24: =SUM(B24:E24) -> 0 | K24: =SUM(G24:J24) -> 0 | L24: =B24/12 -> 0 | M24: =C24/12 -> 0 | N24: =D24/12 -> 0 | O24: =E24/12 -> 0 | P24: =G24/12 -> 0 | Q24: =H24/12 -> 0 | R24: =I24/12 -> 0 | S24: =J24/12 -> 0
A25: 3 | F25: =SUM(B25:E25) -> 0 | K25: =SUM(G25:J25) -> 0 | L25: =B25/12 -> 0 | M25: =C25/12 -> 0 | N25: =D25/12 -> 0 | O25: =E25/12 -> 0 | P25: =G25/12 -> 0 | Q25: =H25/12 -> 0 | R25: =I25/12 -> 0 | S25: =J25/12 -> 0
A26: 4 | F26: =SUM(B26:E26) -> 0 | K26: =SUM(G26:J26) -> 0 | L26: =B26/12 -> 0 | M26: =C26/12 -> 0 | N26: =D26/12 -> 0 | O26: =E26/12 -> 0 | P26: =G26/12 -> 0 | Q26: =H26/12 -> 0 | R26: =I26/12 -> 0 | S26: =J26/12 -> 0
A27: 5 | F27: =SUM(B27:E27) -> 0 | K27: =SUM(G27:J27) -> 0 | L27: =B27/12 -> 0 | M27: =C27/12 -> 0 | N27: =D27/12 -> 0 | O27: =E27/12 -> 0 | P27: =G27/12 -> 0 | Q27: =H27/12 -> 0 | R27: =I27/12 -> 0 | S27: =J27/12 -> 0
A28: 6 | F28: =SUM(B28:E28) -> 0 | K28: =SUM(G28:J28) -> 0 | L28: =B28/12 -> 0 | M28: =C28/12 -> 0 | N28: =D28/12 -> 0 | O28: =E28/12 -> 0 | P28: =G28/12 -> 0 | Q28: =H28/12 -> 0 | R28: =I28/12 -> 0 | S28: =J28/12 -> 0
A29: 7 | F29: =SUM(B29:E29) -> 0 | K29: =SUM(G29:J29) -> 0 | L29: =B29/12 -> 0 | M29: =C29/12 -> 0 | N29: =D29/12 -> 0 | O29: =E29/12 -> 0 | P29: =G29/12 -> 0 | Q29: =H29/12 -> 0 | R29: =I29/12 -> 0 | S29: =J29/12 -> 0
A30: 8 | F30: =SUM(B30:E30) -> 0 | K30: =SUM(G30:J30) -> 0 | L30: =B30/12 -> 0 | M30: =C30/12 -> 0 | N30: =D30/12 -> 0 | O30: =E30/12 -> 0 | P30: =G30/12 -> 0 | Q30: =H30/12 -> 0 | R30: =I30/12 -> 0 | S30: =J30/12 -> 0
A31: 9 | F31: =SUM(B31:E31) -> 0 | K31: =SUM(G31:J31) -> 0 | L31: =B31/12 -> 0 | M31: =C31/12 -> 0 | N31: =D31/12 -> 0 | O31: =E31/12 -> 0 | P31: =G31/12 -> 0 | Q31: =H31/12 -> 0 | R31: =I31/12 -> 0 | S31: =J31/12 -> 0
A32: 10 | F32: =SUM(B32:E32) -> 0 | K32: =SUM(G32:J32) -> 0 | L32: =B32/12 -> 0 | M32: =C32/12 -> 0 | N32: =D32/12 -> 0 | O32: =E32/12 -> 0 | P32: =G32/12 -> 0 | Q32: =H32/12 -> 0 | R32: =I32/12 -> 0 | S32: =J32/12 -> 0
A33: 11 | F33: =SUM(B33:E33) -> 0 | K33: =SUM(G33:J33) -> 0 | L33: =B33/12 -> 0 | M33: =C33/12 -> 0 | N33: =D33/12 -> 0 | O33: =E33/12 -> 0 | P33: =G33/12 -> 0 | Q33: =H33/12 -> 0 | R33: =I33/12 -> 0 | S33: =J33/12 -> 0
A34: 12 | F34: =SUM(B34:E34) -> 0 | K34: =SUM(G34:J34) -> 0 | L34: =B34/12 -> 0 | M34: =C34/12 -> 0 | N34: =D34/12 -> 0 | O34: =E34/12 -> 0 | P34: =G34/12 -> 0 | Q34: =H34/12 -> 0 | R34: =I34/12 -> 0 | S34: =J34/12 -> 0
A35: 13 | F35: =SUM(B35:E35) -> 0 | K35: =SUM(G35:J35) -> 0 | L35: =B35/12 -> 0 | M35: =C35/12 -> 0 | N35: =D35/12 -> 0 | O35: =E35/12 -> 0 | P35: =G35/12 -> 0 | Q35: =H35/12 -> 0 | R35: =I35/12 -> 0 | S35: =J35/12 -> 0
... A37: 15 | F37: =SUM(B37:E37) -> 0 | K37: =SUM(G37:J37) -> 0 | L37: =B37/12 -> 0 | M37: =C37/12 -> 0 | N37: =D37/12 -> 0 | O37: =E37/12 -> 0 | P37: =G37/12 -> 0 | Q37: =H37/12 -> 0 | R37: =I37/12 -> 0 | S37: =J37/12 -> 0

Sheet Group8
B19: Counts | L19: Frequency
B20: HOST | G20: PARASITE | L20: HOST | P20: PARASITE
A21: Generation | B21: Spades | C21: Clubs | D21: Diamonds | E21: Hearts | F21: Sum | G21: Spades | H21: Clubs | I21: Diamonds | J21: Hearts | K21: Sum | L21: Spades | M21: Clubs | N21: Diamonds | O21: Hearts | P21: Spades | Q21: Clubs | R21: Diamonds | S21: Hearts
A22: 0 | F22: =SUM(B22:E22) -> 0 | K22: =SUM(G22:J22) -> 0 | L22: =B22/12 -> 0 | M22: =C22/12 -> 0 | N22: =D22/12 -> 0 | O22: =E22/12 -> 0 | P22: =G22/12 -> 0 | Q22: =H22/12 -> 0 | R22: =I22/12 -> 0 | S22: =J22/12 -> 0
A23: 1 | L23: =B23/12 -> 0 | M23: =C23/12 -> 0 | N23: =D23/12 -> 0 | O23: =E23/12 -> 0 | P23: =G23/12 -> 0 | Q23: =H23/12 -> 0 | R23: =I23/12 -> 0 | S23: =J23/12 -> 0
A24: 2 | F24: =SUM(B24:E24) -> 0 | K24: =SUM(G24:J24) -> 0 | L24: =B24/12 -> 0 | M24: =C24/12 -> 0 | N24: =D24/12 -> 0 | O24: =E24/12 -> 0 | P24: =G24/12 -> 0 | Q24: =H24/12 -> 0 | R24: =I24/12 -> 0 | S24: =J24/12 -> 0
A25: 3 | F25: =SUM(B25:E25) -> 0 | K25: =SUM(G25:J25) -> 0 | L25: =B25/12 -> 0 | M25: =C25/12 -> 0 | N25: =D25/12 -> 0 | O25: =E25/12 -> 0 | P25: =G25/12 -> 0 | Q25: =H25/12 -> 0 | R25: =I25/12 -> 0 | S25: =J25/12 -> 0
A26: 4 | F26: =SUM(B26:E26) -> 0 | K26: =SUM(G26:J26) -> 0 | L26: =B26/12 -> 0 | M26: =C26/12 -> 0 | N26: =D26/12 -> 0 | O26: =E26/12 -> 0 | P26: =G26/12 -> 0 | Q26: =H26/12 -> 0 | R26: =I26/12 -> 0 | S26: =J26/12 -> 0
A27: 5 | F27: =SUM(B27:E27) -> 0 | K27: =SUM(G27:J27) -> 0 | L27: =B27/12 -> 0 | M27: =C27/12 -> 0 | N27: =D27/12 -> 0 | O27: =E27/12 -> 0 | P27: =G27/12 -> 0 | Q27: =H27/12 -> 0 | R27: =I27/12 -> 0 | S27: =J27/12 -> 0
A28: 6 | F28: =SUM(B28:E28) -> 0 | K28: =SUM(G28:J28) -> 0 | L28: =B28/12 -> 0 | M28: =C28/12 -> 0 | N28: =D28/12 -> 0 | O28: =E28/12 -> 0 | P28: =G28/12 -> 0 | Q28: =H28/12 -> 0 | R28: =I28/12 -> 0 | S28: =J28/12 -> 0
A29: 7 | F29: =SUM(B29:E29) -> 0 | K29: =SUM(G29:J29) -> 0 | L29: =B29/12 -> 0 | M29: =C29/12 -> 0 | N29: =D29/12 -> 0 | O29: =E29/12 -> 0 | P29: =G29/12 -> 0 | Q29: =H29/12 -> 0 | R29: =I29/12 -> 0 | S29: =J29/12 -> 0
A30: 8 | F30: =SUM(B30:E30) -> 0 | K30: =SUM(G30:J30) -> 0 | L30: =B30/12 -> 0 | M30: =C30/12 -> 0 | N30: =D30/12 -> 0 | O30: =E30/12 -> 0 | P30: =G30/12 -> 0 | Q30: =H30/12 -> 0 | R30: =I30/12 -> 0 | S30: =J30/12 -> 0
A31: 9 | F31: =SUM(B31:E31) -> 0 | K31: =SUM(G31:J31) -> 0 | L31: =B31/12 -> 0 | M31: =C31/12 -> 0 | N31: =D31/12 -> 0 | O31: =E31/12 -> 0 | P31: =G31/12 -> 0 | Q31: =H31/12 -> 0 | R31: =I31/12 -> 0 | S31: =J31/12 -> 0
A32: 10 | F32: =SUM(B32:E32) -> 0 | K32: =SUM(G32:J32) -> 0 | L32: =B32/12 -> 0 | M32: =C32/12 -> 0 | N32: =D32/12 -> 0 | O32: =E32/12 -> 0 | P32: =G32/12 -> 0 | Q32: =H32/12 -> 0 | R32: =I32/12 -> 0 | S32: =J32/12 -> 0
A33: 11 | F33: =SUM(B33:E33) -> 0 | K33: =SUM(G33:J33) -> 0 | L33: =B33/12 -> 0 | M33: =C33/12 -> 0 | N33: =D33/12 -> 0 | O33: =E33/12 -> 0 | P33: =G33/12 -> 0 | Q33: =H33/12 -> 0 | R33: =I33/12 -> 0 | S33: =J33/12 -> 0
A34: 12 | F34: =SUM(B34:E34) -> 0 | K34: =SUM(G34:J34) -> 0 | L34: =B34/12 -> 0 | M34: =C34/12 -> 0 | N34: =D34/12 -> 0 | O34: =E34/12 -> 0 | P34: =G34/12 -> 0 | Q34: =H34/12 -> 0 | R34: =I34/12 -> 0 | S34: =J34/12 -> 0
A35: 13 | F35: =SUM(B35:E35) -> 0 | K35: =SUM(G35:J35) -> 0 | L35: =B35/12 -> 0 | M35: =C35/12 -> 0 | N35: =D35/12 -> 0 | O35: =E35/12 -> 0 | P35: =G35/12 -> 0 | Q35: =H35/12 -> 0 | R35: =I35/12 -> 0 | S35: =J35/12 -> 0
... A37: 15 | F37: =SUM(B37:E37) -> 0 | K37: =SUM(G37:J37) -> 0 | L37: =B37/12 -> 0 | M37: =C37/12 -> 0 | N37: =D37/12 -> 0 | O37: =E37/12 -> 0 | P37: =G37/12 -> 0 | Q37: =H37/12 -> 0 | R37: =I37/12 -> 0 | S37: =J37/12 -> 0

Sheet Metapopulation
B19: Counts | L19: Frequency
B20: HOST | G20: PARASITE | L20: HOST | P20: PARASITE
A21: Generation | B21: Spades | C21: Clubs | D21: Diamonds | E21: Hearts | F21: Sum | G21: Spades | H21: Clubs | I21: Diamonds | J21: Hearts | K21: Sum | L21: Spades | M21: Clubs | N21: Diamonds | O21: Hearts | P21: Spades | Q21: Clubs | R21: Diamonds | S21: Hearts
A22: 0 | B22: =SUM(Group1!B22,Group2!B22,Group3!B22,Group4!B22,Group5!B22,Group6!B22,Group7!B22,Group8!B22) -> 0 | C22: =SUM(Group1!C22,Group2!C22,Group3!C22,Group4!C22,Group5!C22,Group6!C22,Group7!C22,Group8!C22) -> 0 | D22: =SUM(Group1!D22,Group2!D22,Group3!D22,Group4!D22,Group5!D22,Group6!D22,Group7!D22,Group8!D22) -> 0 | E22: =SUM(Group1!E22,Group2!E22,Group3!E22,Group4!E22,Group5!E22,Group6!E22,Group7!E22,Group8!E22) -> 0 | F22: =SUM(B22:E22) -> 0 | G22: =SUM(Group1!G22,Group2!G22,Group3!G22,Group4!G22,Group5!G22,Group6!G22,Group7!G22,Group8!G22) -> 0 | H22: =SUM(Group1!H22,Group2!H22,Group3!H22,Group4!H22,Group5!H22,Group6!H22,Group7!H22,Group8!H22) -> 0 | I22: =SUM(Group1!I22,Group2!I22,Group3!I22,Group4!I22,Group5!I22,Group6!I22,Group7!I22,Group8!I22) -> 0 | J22: =SUM(Group1!J22,Group2!J22,Group3!J22,Group4!J22,Group5!J22,Group6!J22,Group7!J22,Group8!J22) -> 0 | K22: =SUM(G22:J22) -> 0 | L22: =B22/$F22 -> #DIV/0! | M22: =C22/$F22 -> #DIV/0! | N22: =D22/$F22 -> #DIV/0! | O22: =E22/$F22 -> #DIV/0! | P22: =G22/$K22 -> #DIV/0! | Q22: =H22/$K22 -> #DIV/0! | R22: =I22/$K22 -> #DIV/0! | S22: =J22/$K22 -> #DIV/0!
A23: 1 | B23: =SUM(Group1!B23,Group2!B23,Group3!B23,Group4!B23,Group5!B23,Group6!B23,Group7!B23,Group8!B23) -> 0 | C23: =SUM(Group1!C23,Group2!C23,Group3!C23,Group4!C23,Group5!C23,Group6!C23,Group7!C23,Group8!C23) -> 0 | D23: =SUM(Group1!D23,Group2!D23,Group3!D23,Group4!D23,Group5!D23,Group6!D23,Group7!D23,Group8!D23) -> 0 | E23: =SUM(Group1!E23,Group2!E23,Group3!E23,Group4!E23,Group5!E23,Group6!E23,Group7!E23,Group8!E23) -> 0 | G23: =SUM(Group1!G23,Group2!G23,Group3!G23,Group4!G23,Group5!G23,Group6!G23,Group7!G23,Group8!G23) -> 0 | H23: =SUM(Group1!H23,Group2!H23,Group3!H23,Group4!H23,Group5!H23,Group6!H23,Group7!H23,Group8!H23) -> 0 | I23: =SUM(Group1!I23,Group2!I23,Group3!I23,Group4!I23,Group5!I23,Group6!I23,Group7!I23,Group8!I23) -> 0 | J23: =SUM(Group1!J23,Group2!J23,Group3!J23,Group4!J23,Group5!J23,Group6!J23,Group7!J23,Group8!J23) -> 0 | K23: =SUM(G23:J23) -> 0 | L23: =B23/$F23 -> #DIV/0! | M23: =C23/$F23 -> #DIV/0! | N23: =D23/$F23 -> #DIV/0! | O23: =E23/$F23 -> #DIV/0! | P23: =G23/$K23 -> #DIV/0! | Q23: =H23/$K23 -> #DIV/0! | R23: =I23/$K23 -> #DIV/0! | S23: =J23/$K23 -> #DIV/0!
A24: 2 | B24: =SUM(Group1!B24,Group2!B24,Group3!B24,Group4!B24,Group5!B24,Group6!B24,Group7!B24,Group8!B24) -> 0 | C24: =SUM(Group1!C24,Group2!C24,Group3!C24,Group4!C24,Group5!C24,Group6!C24,Group7!C24,Group8!C24) -> 0 | D24: =SUM(Group1!D24,Group2!D24,Group3!D24,Group4!D24,Group5!D24,Group6!D24,Group7!D24,Group8!D24) -> 0 | E24: =SUM(Group1!E24,Group2!E24,Group3!E24,Group4!E24,Group5!E24,Group6!E24,Group7!E24,Group8!E24) -> 0 | F24: =SUM(B24:E24) -> 0 | G24: =SUM(Group1!G24,Group2!G24,Group3!G24,Group4!G24,Group5!G24,Group6!G24,Group7!G24,Group8!G24) -> 0 | H24: =SUM(Group1!H24,Group2!H24,Group3!H24,Group4!H24,Group5!H24,Group6!H24,Group7!H24,Group8!H24) -> 0 | I24: =SUM(Group1!I24,Group2!I24,Group3!I24,Group4!I24,Group5!I24,Group6!I24,Group7!I24,Group8!I24) -> 0 | J24: =SUM(Group1!J24,Group2!J24,Group3!J24,Group4!J24,Group5!J24,Group6!J24,Group7!J24,Group8!J24) -> 0 | K24: =SUM(G24:J24) -> 0 | L24: =B24/$F24 -> #DIV/0! | M24: =C24/$F24 -> #DIV/0! | N24: =D24/$F24 -> #DIV/0! | O24: =E24/$F24 -> #DIV/0! | P24: =G24/$K24 -> #DIV/0! | Q24: =H24/$K24 -> #DIV/0! | R24: =I24/$K24 -> #DIV/0! | S24: =J24/$K24 -> #DIV/0!
A25: 3 | B25: =SUM(Group1!B25,Group2!B25,Group3!B25,Group4!B25,Group5!B25,Group6!B25,Group7!B25,Group8!B25) -> 0 | C25: =SUM(Group1!C25,Group2!C25,Group3!C25,Group4!C25,Group5!C25,Group6!C25,Group7!C25,Group8!C25) -> 0 | D25: =SUM(Group1!D25,Group2!D25,Group3!D25,Group4!D25,Group5!D25,Group6!D25,Group7!D25,Group8!D25) -> 0 | E25: =SUM(Group1!E25,Group2!E25,Group3!E25,Group4!E25,Group5!E25,Group6!E25,Group7!E25,Group8!E25) -> 0 | F25: =SUM(B25:E25) -> 0 | G25: =SUM(Group1!G25,Group2!G25,Group3!G25,Group4!G25,Group5!G25,Group6!G25,Group7!G25,Group8!G25) -> 0 | H25: =SUM(Group1!H25,Group2!H25,Group3!H25,Group4!H25,Group5!H25,Group6!H25,Group7!H25,Group8!H25) -> 0 | I25: =SUM(Group1!I25,Group2!I25,Group3!I25,Group4!I25,Group5!I25,Group6!I25,Group7!I25,Group8!I25) -> 0 | J25: =SUM(Group1!J25,Group2!J25,Group3!J25,Group4!J25,Group5!J25,Group6!J25,Group7!J25,Group8!J25) -> 0 | K25: =SUM(G25:J25) -> 0 | L25: =B25/$F25 -> #DIV/0! | M25: =C25/$F25 -> #DIV/0! | N25: =D25/$F25 -> #DIV/0! | O25: =E25/$F25 -> #DIV/0! | P25: =G25/$K25 -> #DIV/0! | Q25: =H25/$K25 -> #DIV/0! | R25: =I25/$K25 -> #DIV/0! | S25: =J25/$K25 -> #DIV/0!
A26: 4 | B26: =SUM(Group1!B26,Group2!B26,Group3!B26,Group4!B26,Group5!B26,Group6!B26,Group7!B26,Group8!B26) -> 0 | C26: =SUM(Group1!C26,Group2!C26,Group3!C26,Group4!C26,Group5!C26,Group6!C26,Group7!C26,Group8!C26) -> 0 | D26: =SUM(Group1!D26,Group2!D26,Group3!D26,Group4!D26,Group5!D26,Group6!D26,Group7!D26,Group8!D26) -> 0 | E26: =SUM(Group1!E26,Group2!E26,Group3!E26,Group4!E26,Group5!E26,Group6!E26,Group7!E26,Group8!E26) -> 0 | F26: =SUM(B26:E26) -> 0 | G26: =SUM(Group1!G26,Group2!G26,Group3!G26,Group4!G26,Group5!G26,Group6!G26,Group7!G26,Group8!G26) -> 0 | H26: =SUM(Group1!H26,Group2!H26,Group3!H26,Group4!H26,Group5!H26,Group6!H26,Group7!H26,Group8!H26) -> 0 | I26: =SUM(Group1!I26,Group2!I26,Group3!I26,Group4!I26,Group5!I26,Group6!I26,Group7!I26,Group8!I26) -> 0 | J26: =SUM(Group1!J26,Group2!J26,Group3!J26,Group4!J26,Group5!J26,Group6!J26,Group7!J26,Group8!J26) -> 0 | K26: =SUM(G26:J26) -> 0 | L26: =B26/$F26 -> #DIV/0! | M26: =C26/$F26 -> #DIV/0! | N26: =D26/$F26 -> #DIV/0! | O26: =E26/$F26 -> #DIV/0! | P26: =G26/$K26 -> #DIV/0! | Q26: =H26/$K26 -> #DIV/0! | R26: =I26/$K26 -> #DIV/0! | S26: =J26/$K26 -> #DIV/0!
A27: 5 | B27: =SUM(Group1!B27,Group2!B27,Group3!B27,Group4!B27,Group5!B27,Group6!B27,Group7!B27,Group8!B27) -> 0 | C27: =SUM(Group1!C27,Group2!C27,Group3!C27,Group4!C27,Group5!C27,Group6!C27,Group7!C27,Group8!C27) -> 0 | D27: =SUM(Group1!D27,Group2!D27,Group3!D27,Group4!D27,Group5!D27,Group6!D27,Group7!D27,Group8!D27) -> 0 | E27: =SUM(Group1!E27,Group2!E27,Group3!E27,Group4!E27,Group5!E27,Group6!E27,Group7!E27,Group8!E27) -> 0 | F27: =SUM(B27:E27) -> 0 | G27: =SUM(Group1!G27,Group2!G27,Group3!G27,Group4!G27,Group5!G27,Group6!G27,Group7!G27,Group8!G27) -> 0 | H27: =SUM(Group1!H27,Group2!H27,Group3!H27,Group4!H27,Group5!H27,Group6!H27,Group7!H27,Group8!H27) -> 0 | I27: =SUM(Group1!I27,Group2!I27,Group3!I27,Group4!I27,Group5!I27,Group6!I27,Group7!I27,Group8!I27) -> 0 | J27: =SUM(Group1!J27,Group2!J27,Group3!J27,Group4!J27,Group5!J27,Group6!J27,Group7!J27,Group8!J27) -> 0 | K27: =SUM(G27:J27) -> 0 | L27: =B27/$F27 -> #DIV/0! | M27: =C27/$F27 -> #DIV/0! | N27: =D27/$F27 -> #DIV/0! | O27: =E27/$F27 -> #DIV/0! | P27: =G27/$K27 -> #DIV/0! | Q27: =H27/$K27 -> #DIV/0! | R27: =I27/$K27 -> #DIV/0! | S27: =J27/$K27 -> #DIV/0!
A28: 6 | B28: =SUM(Group1!B28,Group2!B28,Group3!B28,Group4!B28,Group5!B28,Group6!B28,Group7!B28,Group8!B28) -> 0 | C28: =SUM(Group1!C28,Group2!C28,Group3!C28,Group4!C28,Group5!C28,Group6!C28,Group7!C28,Group8!C28) -> 0 | D28: =SUM(Group1!D28,Group2!D28,Group3!D28,Group4!D28,Group5!D28,Group6!D28,Group7!D28,Group8!D28) -> 0 | E28: =SUM(Group1!E28,Group2!E28,Group3!E28,Group4!E28,Group5!E28,Group6!E28,Group7!E28,Group8!E28) -> 0 | F28: =SUM(B28:E28) -> 0 | G28: =SUM(Group1!G28,Group2!G28,Group3!G28,Group4!G28,Group5!G28,Group6!G28,Group7!G28,Group8!G28) -> 0 | H28: =SUM(Group1!H28,Group2!H28,Group3!H28,Group4!H28,Group5!H28,Group6!H28,Group7!H28,Group8!H28) -> 0 | I28: =SUM(Group1!I28,Group2!I28,Group3!I28,Group4!I28,Group5!I28,Group6!I28,Group7!I28,Group8!I28) -> 0 | J28: =SUM(Group1!J28,Group2!J28,Group3!J28,Group4!J28,Group5!J28,Group6!J28,Group7!J28,Group8!J28) -> 0 | K28: =SUM(G28:J28) -> 0 | L28: =B28/$F28 -> #DIV/0! | M28: =C28/$F28 -> #DIV/0! | N28: =D28/$F28 -> #DIV/0! | O28: =E28/$F28 -> #DIV/0! | P28: =G28/$K28 -> #DIV/0! | Q28: =H28/$K28 -> #DIV/0! | R28: =I28/$K28 -> #DIV/0! | S28: =J28/$K28 -> #DIV/0!
A29: 7 | B29: =SUM(Group1!B29,Group2!B29,Group3!B29,Group4!B29,Group5!B29,Group6!B29,Group7!B29,Group8!B29) -> 0 | C29: =SUM(Group1!C29,Group2!C29,Group3!C29,Group4!C29,Group5!C29,Group6!C29,Group7!C29,Group8!C29) -> 0 | D29: =SUM(Group1!D29,Group2!D29,Group3!D29,Group4!D29,Group5!D29,Group6!D29,Group7!D29,Group8!D29) -> 0 | E29: =SUM(Group1!E29,Group2!E29,Group3!E29,Group4!E29,Group5!E29,Group6!E29,Group7!E29,Group8!E29) -> 0 | F29: =SUM(B29:E29) -> 0 | G29: =SUM(Group1!G29,Group2!G29,Group3!G29,Group4!G29,Group5!G29,Group6!G29,Group7!G29,Group8!G29) -> 0 | H29: =SUM(Group1!H29,Group2!H29,Group3!H29,Group4!H29,Group5!H29,Group6!H29,Group7!H29,Group8!H29) -> 0 | I29: =SUM(Group1!I29,Group2!I29,Group3!I29,Group4!I29,Group5!I29,Group6!I29,Group7!I29,Group8!I29) -> 0 | J29: =SUM(Group1!J29,Group2!J29,Group3!J29,Group4!J29,Group5!J29,Group6!J29,Group7!J29,Group8!J29) -> 0 | K29: =SUM(G29:J29) -> 0 | L29: =B29/$F29 -> #DIV/0! | M29: =C29/$F29 -> #DIV/0! | N29: =D29/$F29 -> #DIV/0! | O29: =E29/$F29 -> #DIV/0! | P29: =G29/$K29 -> #DIV/0! | Q29: =H29/$K29 -> #DIV/0! | R29: =I29/$K29 -> #DIV/0! | S29: =J29/$K29 -> #DIV/0!
A30: 8 | B30: =SUM(Group1!B30,Group2!B30,Group3!B30,Group4!B30,Group5!B30,Group6!B30,Group7!B30,Group8!B30) -> 0 | C30: =SUM(Group1!C30,Group2!C30,Group3!C30,Group4!C30,Group5!C30,Group6!C30,Group7!C30,Group8!C30) -> 0 | D30: =SUM(Group1!D30,Group2!D30,Group3!D30,Group4!D30,Group5!D30,Group6!D30,Group7!D30,Group8!D30) -> 0 | E30: =SUM(Group1!E30,Group2!E30,Group3!E30,Group4!E30,Group5!E30,Group6!E30,Group7!E30,Group8!E30) -> 0 | F30: =SUM(B30:E30) -> 0 | G30: =SUM(Group1!G30,Group2!G30,Group3!G30,Group4!G30,Group5!G30,Group6!G30,Group7!G30,Group8!G30) -> 0 | H30: =SUM(Group1!H30,Group2!H30,Group3!H30,Group4!H30,Group5!H30,Group6!H30,Group7!H30,Group8!H30) -> 0 | I30: =SUM(Group1!I30,Group2!I30,Group3!I30,Group4!I30,Group5!I30,Group6!I30,Group7!I30,Group8!I30) -> 0 | J30: =SUM(Group1!J30,Group2!J30,Group3!J30,Group4!J30,Group5!J30,Group6!J30,Group7!J30,Group8!J30) -> 0 | K30: =SUM(G30:J30) -> 0 | L30: =B30/$F30 -> #DIV/0! | M30: =C30/$F30 -> #DIV/0! | N30: =D30/$F30 -> #DIV/0! | O30: =E30/$F30 -> #DIV/0! | P30: =G30/$K30 -> #DIV/0! | Q30: =H30/$K30 -> #DIV/0! | R30: =I30/$K30 -> #DIV/0! | S30: =J30/$K30 -> #DIV/0!
A31: 9 | B31: =SUM(Group1!B31,Group2!B31,Group3!B31,Group4!B31,Group5!B31,Group6!B31,Group7!B31,Group8!B31) -> 0 | C31: =SUM(Group1!C31,Group2!C31,Group3!C31,Group4!C31,Group5!C31,Group6!C31,Group7!C31,Group8!C31) -> 0 | D31: =SUM(Group1!D31,Group2!D31,Group3!D31,Group4!D31,Group5!D31,Group6!D31,Group7!D31,Group8!D31) -> 0 | E31: =SUM(Group1!E31,Group2!E31,Group3!E31,Group4!E31,Group5!E31,Group6!E31,Group7!E31,Group8!E31) -> 0 | F31: =SUM(B31:E31) -> 0 | G31: =SUM(Group1!G31,Group2!G31,Group3!G31,Group4!G31,Group5!G31,Group6!G31,Group7!G31,Group8!G31) -> 0 | H31: =SUM(Group1!H31,Group2!H31,Group3!H31,Group4!H31,Group5!H31,Group6!H31,Group7!H31,Group8!H31) -> 0 | I31: =SUM(Group1!I31,Group2!I31,Group3!I31,Group4!I31,Group5!I31,Group6!I31,Group7!I31,Group8!I31) -> 0 | J31: =SUM(Group1!J31,Group2!J31,Group3!J31,Group4!J31,Group5!J31,Group6!J31,Group7!J31,Group8!J31) -> 0 | K31: =SUM(G31:J31) -> 0 | L31: =B31/$F31 -> #DIV/0! | M31: =C31/$F31 -> #DIV/0! | N31: =D31/$F31 -> #DIV/0! | O31: =E31/$F31 -> #DIV/0! | P31: =G31/$K31 -> #DIV/0! | Q31: =H31/$K31 -> #DIV/0! | R31: =I31/$K31 -> #DIV/0! | S31: =J31/$K31 -> #DIV/0!
A32: 10 | B32: =SUM(Group1!B32,Group2!B32,Group3!B32,Group4!B32,Group5!B32,Group6!B32,Group7!B32,Group8!B32) -> 0 | C32: =SUM(Group1!C32,Group2!C32,Group3!C32,Group4!C32,Group5!C32,Group6!C32,Group7!C32,Group8!C32) -> 0 | D32: =SUM(Group1!D32,Group2!D32,Group3!D32,Group4!D32,Group5!D32,Group6!D32,Group7!D32,Group8!D32) -> 0 | E32: =SUM(Group1!E32,Group2!E32,Group3!E32,Group4!E32,Group5!E32,Group6!E32,Group7!E32,Group8!E32) -> 0 | F32: =SUM(B32:E32) -> 0 | G32: =SUM(Group1!G32,Group2!G32,Group3!G32,Group4!G32,Group5!G32,Group6!G32,Group7!G32,Group8!G32) -> 0 | H32: =SUM(Group1!H32,Group2!H32,Group3!H32,Group4!H32,Group5!H32,Group6!H32,Group7!H32,Group8!H32) -> 0 | I32: =SUM(Group1!I32,Group2!I32,Group3!I32,Group4!I32,Group5!I32,Group6!I32,Group7!I32,Group8!I32) -> 0 | J32: =SUM(Group1!J32,Group2!J32,Group3!J32,Group4!J32,Group5!J32,Group6!J32,Group7!J32,Group8!J32) -> 0 | K32: =SUM(G32:J32) -> 0 | L32: =B32/$F32 -> #DIV/0! | M32: =C32/$F32 -> #DIV/0! | N32: =D32/$F32 -> #DIV/0! | O32: =E32/$F32 -> #DIV/0! | P32: =G32/$K32 -> #DIV/0! | Q32: =H32/$K32 -> #DIV/0! | R32: =I32/$K32 -> #DIV/0! | S32: =J32/$K32 -> #DIV/0!
A33: 11 | B33: =SUM(Group1!B33,Group2!B33,Group3!B33,Group4!B33,Group5!B33,Group6!B33,Group7!B33,Group8!B33) -> 0 | C33: =SUM(Group1!C33,Group2!C33,Group3!C33,Group4!C33,Group5!C33,Group6!C33,Group7!C33,Group8!C33) -> 0 | D33: =SUM(Group1!D33,Group2!D33,Group3!D33,Group4!D33,Group5!D33,Group6!D33,Group7!D33,Group8!D33) -> 0 | E33: =SUM(Group1!E33,Group2!E33,Group3!E33,Group4!E33,Group5!E33,Group6!E33,Group7!E33,Group8!E33) -> 0 | F33: =SUM(B33:E33) -> 0 | G33: =SUM(Group1!G33,Group2!G33,Group3!G33,Group4!G33,Group5!G33,Group6!G33,Group7!G33,Group8!G33) -> 0 | H33: =SUM(Group1!H33,Group2!H33,Group3!H33,Group4!H33,Group5!H33,Group6!H33,Group7!H33,Group8!H33) -> 0 | I33: =SUM(Group1!I33,Group2!I33,Group3!I33,Group4!I33,Group5!I33,Group6!I33,Group7!I33,Group8!I33) -> 0 | J33: =SUM(Group1!J33,Group2!J33,Group3!J33,Group4!J33,Group5!J33,Group6!J33,Group7!J33,Group8!J33) -> 0 | K33: =SUM(G33:J33) -> 0 | L33: =B33/$F33 -> #DIV/0! | M33: =C33/$F33 -> #DIV/0! | N33: =D33/$F33 -> #DIV/0! | O33: =E33/$F33 -> #DIV/0! | P33: =G33/$K33 -> #DIV/0! | Q33: =H33/$K33 -> #DIV/0! | R33: =I33/$K33 -> #DIV/0! | S33: =J33/$K33 -> #DIV/0!
A34: 12 | B34: =SUM(Group1!B34,Group2!B34,Group3!B34,Group4!B34,Group5!B34,Group6!B34,Group7!B34,Group8!B34) -> 0 | C34: =SUM(Group1!C34,Group2!C34,Group3!C34,Group4!C34,Group5!C34,Group6!C34,Group7!C34,Group8!C34) -> 0 | D34: =SUM(Group1!D34,Group2!D34,Group3!D34,Group4!D34,Group5!D34,Group6!D34,Group7!D34,Group8!D34) -> 0 | E34: =SUM(Group1!E34,Group2!E34,Group3!E34,Group4!E34,Group5!E34,Group6!E34,Group7!E34,Group8!E34) -> 0 | F34: =SUM(B34:E34) -> 0 | G34: =SUM(Group1!G34,Group2!G34,Group3!G34,Group4!G34,Group5!G34,Group6!G34,Group7!G34,Group8!G34) -> 0 | H34: =SUM(Group1!H34,Group2!H34,Group3!H34,Group4!H34,Group5!H34,Group6!H34,Group7!H34,Group8!H34) -> 0 | I34: =SUM(Group1!I34,Group2!I34,Group3!I34,Group4!I34,Group5!I34,Group6!I34,Group7!I34,Group8!I34) -> 0 | J34: =SUM(Group1!J34,Group2!J34,Group3!J34,Group4!J34,Group5!J34,Group6!J34,Group7!J34,Group8!J34) -> 0 | K34: =SUM(G34:J34) -> 0 | L34: =B34/$F34 -> #DIV/0! | M34: =C34/$F34 -> #DIV/0! | N34: =D34/$F34 -> #DIV/0! | O34: =E34/$F34 -> #DIV/0! | P34: =G34/$K34 -> #DIV/0! | Q34: =H34/$K34 -> #DIV/0! | R34: =I34/$K34 -> #DIV/0! | S34: =J34/$K34 -> #DIV/0!
A35: 13 | B35: =SUM(Group1!B35,Group2!B35,Group3!B35,Group4!B35,Group5!B35,Group6!B35,Group7!B35,Group8!B35) -> 0 | C35: =SUM(Group1!C35,Group2!C35,Group3!C35,Group4!C35,Group5!C35,Group6!C35,Group7!C35,Group8!C35) -> 0 | D35: =SUM(Group1!D35,Group2!D35,Group3!D35,Group4!D35,Group5!D35,Group6!D35,Group7!D35,Group8!D35) -> 0 | E35: =SUM(Group1!E35,Group2!E35,Group3!E35,Group4!E35,Group5!E35,Group6!E35,Group7!E35,Group8!E35) -> 0 | F35: =SUM(B35:E35) -> 0 | G35: =SUM(Group1!G35,Group2!G35,Group3!G35,Group4!G35,Group5!G35,Group6!G35,Group7!G35,Group8!G35) -> 0 | H35: =SUM(Group1!H35,Group2!H35,Group3!H35,Group4!H35,Group5!H35,Group6!H35,Group7!H35,Group8!H35) -> 0 | I35: =SUM(Group1!I35,Group2!I35,Group3!I35,Group4!I35,Group5!I35,Group6!I35,Group7!I35,Group8!I35) -> 0 | J35: =SUM(Group1!J35,Group2!J35,Group3!J35,Group4!J35,Group5!J35,Group6!J35,Group7!J35,Group8!J35) -> 0 | K35: =SUM(G35:J35) -> 0 | L35: =B35/$F35 -> #DIV/0! | M35: =C35/$F35 -> #DIV/0! | N35: =D35/$F35 -> #DIV/0! | O35: =E35/$F35 -> #DIV/0! | P35: =G35/$K35 -> #DIV/0! | Q35: =H35/$K35 -> #DIV/0! | R35: =I35/$K35 -> #DIV/0! | S35: =J35/$K35 -> #DIV/0!
... A37: 15 | B37: =SUM(Group1!B37,Group2!B37,Group3!B37,Group4!B37,Group5!B37,Group6!B37,Group7!B37,Group8!B37) -> 0 | C37: =SUM(Group1!C37,Group2!C37,Group3!C37,Group4!C37,Group5!C37,Group6!C37,Group7!C37,Group8!C37) -> 0 | D37: =SUM(Group1!D37,Group2!D37,Group3!D37,Group4!D37,Group5!D37,Group6!D37,Group7!D37,Group8!D37) -> 0 | E37: =SUM(Group1!E37,Group2!E37,Group3!E37,Group4!E37,Group5!E37,Group6!E37,Group7!E37,Group8!E37) -> 0 | F37: =SUM(B37:E37) -> 0 | G37: =SUM(Group1!G37,Group2!G37,Group3!G37,Group4!G37,Group5!G37,Group6!G37,Group7!G37,Group8!G37) -> 0 | H37: =SUM(Group1!H37,Group2!H37,Group3!H37,Group4!H37,Group5!H37,Group6!H37,Group7!H37,Group8!H37) -> 0 | I37: =SUM(Group1!I37,Group2!I37,Group3!I37,Group4!I37,Group5!I37,Group6!I37,Group7!I37,Group8!I37) -> 0 | J37: =SUM(Group1!J37,Group2!J37,Group3!J37,Group4!J37,Group5!J37,Group6!J37,Group7!J37,Group8!J37) -> 0 | K37: =SUM(G37:J37) -> 0 | L37: =B37/$F37 -> #DIV/0! | M37: =C37/$F37 -> #DIV/0! | N37: =D37/$F37 -> #DIV/0! | O37: =E37/$F37 -> #DIV/0! | P37: =G37/$K37 -> #DIV/0! | Q37: =H37/$K37 -> #DIV/0! | R37: =I37/$K37 -> #DIV/0! | S37: =J37/$K37 -> #DIV/0!
