Workbook

Sheet (a)
B1: (a) si
B2: A vs. B | C2: i = A1 | D2: i = A2 | E2: i = A3 | F2: i = B1 | G2: i = B2 | H2: i = B3 | I2: average si (AS)
B3: Interspecific comparison
B4: HSF vs. PTF | C4: 0.40456528 | D4: 0.43948347 | E4: 0.37038613 | F4: 0.40610459 | G4: 0.3734898 | H4: 0.34223377 | I4: =AVERAGE(C4:H4) -> 0.38937717
B5: HSF vs. PTM | C5: 0.48352896 | D5: 0.54277739 | E5: 0.45407734 | F5: 0.30437545 | G5: 0.22318095 | H5: 0.35373612 | I5: =AVERAGE(C5:H5) -> 0.3936127
B6: HSM vs. PTF | C6: 0.42333514 | D6: 0.44393364 | E6: 0.47216958 | F6: 0.4076529 | G6: 0.41099473 | H6: 0.34413979 | I6: =AVERAGE(C6:H6) -> 0.41703763
B7: HSM vs. PTM | C7: 0.52113594 | D7: 0.50931411 | E7: 0.53193159 | F7: 0.33408551 | G7: 0.24080606 | H7: 0.32379807 | I7: =AVERAGE(C7:H7) -> 0.41017855
B8: HSF vs. RMF | C8: 0.60293897 | D8: 0.64248011 | E8: 0.61541716 | F8: 0.61775217 | G8: 0.60379469 | H8: 0.58253793 | I8: =AVERAGE(C8:H8) -> 0.61082017
B9: HSF vs. RMM | C9: 0.64549567 | D9: 0.67186747 | E9: 0.63706565 | F9: 0.44384263 | G9: 0.41588309 | H9: 0.47296719 | I9: =AVERAGE(C9:H9) -> 0.54785362
B10: HSM vs. RMF | C10: 0.61689072 | D10: 0.62706316 | E10: 0.66944849 | F10: 0.62194668 | G10: 0.60489471 | H10: 0.57352012 | I10: =AVERAGE(C10:H10) -> 0.61896065
B11: HSM vs. RMM | C11: 0.63905172 | D11: 0.66445773 | E11: 0.69003905 | F11: 0.43468762 | G11: 0.40875319 | H11: 0.47120528 | I11: =AVERAGE(C11:H11) -> 0.55136576
B12: PTF vs. RMF | C12: 0.63247412 | D12: 0.57612592 | E12: 0.56097109 | F12: 0.6036439 | G12: 0.60185876 | H12: 0.5661741 | I12: =AVERAGE(C12:H12) -> 0.59020798
B13: PTF vs. RMM | C13: 0.65087434 | D13: 0.61466872 | E13: 0.60342243 | F13: 0.42357454 | G13: 0.41690012 | H13: 0.44130255 | I13: =AVERAGE(C13:H13) -> 0.52512378
B14: PTM vs. RMF | C14: 0.54988643 | D14: 0.44915193 | E14: 0.5344266 | F14: 0.65401951 | G14: 0.64203325 | H14: 0.59914416 | I14: =AVERAGE(C14:H14) -> 0.57144365
B15: PTM vs. RMM | C15: 0.57364204 | D15: 0.50902988 | E15: 0.55888628 | F15: 0.48621514 | G15: 0.46114735 | H15: 0.4970797 | I15: =AVERAGE(C15:H15) -> 0.5143334
B16: Intraspecific comparison
B17: HSF vs. HSM | C17: -0.095870185 | D17: -0.11137335 | E17: 0.06189572 | F17: 0.023607989 | G17: -0.030950105 | H17: 0.036012281 | I17: =AVERAGE(C17:H17) -> -0.019446275
B18: PTF vs. PTM | C18: 0.17214393 | D18: 0.11719487 | E18: 0.19288327 | F18: -0.07952231 | G18: -0.12309351 | H18: -0.092173613 | I18: =AVERAGE(C18:H18) -> 0.031238772
B19: RMF vs. RMM | C19: 0.17424635 | D19: 0.24747053 | E19: 0.14425854 | F19: -0.43574924 | G19: 0.049792066 | H19: -0.26172395 | I19: =AVERAGE(C19:H19) -> -0.013617619

Sheet (b)
B1: (b) PDEG
B2: A vs. B | C2: 0.01 | D2: 0.05 | E2: 0.1 | F2: 0.2 | G2: 0.3 | H2: 0.4
B3: Interspecific comparison
B4: HSF vs. PTF | C4: 0.031644862 | D4: 0.055574192 | E4: 0.075589847 | F4: 0.11058929 | G4: 0.14307279 | H4: 0.17946998
B5: HSF vs. PTM | C5: 0.033098513 | D5: 0.061612434 | E5: 0.087163144 | F5: 0.12792128 | G5: 0.17108353 | H5: 0.21077938
B6: HSM vs. PTF | C6: 0.039304484 | D6: 0.065805658 | E6: 0.085038578 | F6: 0.12003802 | G6: 0.15677066 | H6: 0.18981326
B7: HSM vs. PTM | C7: 0.037347646 | D7: 0.06714749 | E7: 0.09577323 | F7: 0.13692273 | G7: 0.17801633 | H7: 0.22274405
B8: HSF vs. RMF | C8: 0.11304931 | D8: 0.17589176 | E8: 0.21737672 | F8: 0.2810019 | G8: 0.3325506 | H8: 0.38018562
B9: HSF vs. RMM | C9: 0.079783071 | D9: 0.12982221 | E9: 0.16851169 | F9: 0.22799955 | G9: 0.27468411 | H9: 0.3244437
B10: HSM vs. RMF | C10: 0.12031757 | D10: 0.18746506 | E10: 0.22922957 | F10: 0.29352566 | G10: 0.34708711 | H10: 0.39578441
B11: HSM vs. RMM | C11: 0.078776697 | D11: 0.12780946 | E11: 0.16823214 | F11: 0.22436543 | G11: 0.2746282 | H11: 0.32684781
B12: PTF vs. RMF | C12: 0.096947333 | D12: 0.15246562 | E12: 0.19752879 | F12: 0.25740803 | G12: 0.30403668 | H12: 0.35334899
B13: PTF vs. RMM | C13: 0.069942972 | D13: 0.11377614 | E13: 0.14687465 | F13: 0.19942972 | G13: 0.2485743 | H13: 0.29369339
B14: PTM vs. RMF | C14: 0.097953707 | D14: 0.15951023 | E14: 0.20848708 | F14: 0.27429274 | G14: 0.32695963 | H14: 0.37448284
B15: PTM vs. RMM | C15: 0.068377502 | D15: 0.12154758 | E15: 0.16443028 | F15: 0.22240859 | G15: 0.27423683 | H15: 0.32466734
B16: Intraspecific comparison
B17: HSF vs. HSM | C17: 0.0002236386 | D17: 0.0004472772 | E17: 0.0006709158 | F17: 0.001118193 | G17: 0.0021804764 | H17: 0.0026836632
B18: PTF vs. PTM | C18: 0.0002236386 | D18: 0.0013977413 | E18: 0.0017331992 | F18: 0.0039695852 | G18: 0.0049200492 | H18: 0.007827351
B19: RMF vs. RMM | C19: 0.00027954825 | D19: 0.0004472772 | E19: 0.0007827351 | F19: 0.0019009281 | G19: 0.0034104887 | H19: 0.0057027843

Sheet (c)
B1: (c) PtrueDEG
B2: A vs. B | C2: 0.01 | D2: 0.05 | E2: 0.1 | F2: 0.2 | G2: 0.3 | H2: 0.4
B3: Interspecific comparison
B4: HSF vs. PTF | C4: ='(b)'!C4*0.99 -> 0.031328413 | D4: ='(b)'!D4*0.95 -> 0.052795483 | E4: ='(b)'!E4*0.9 -> 0.068030862 | F4: ='(b)'!F4*0.8 -> 0.08847143 | G4: ='(b)'!G4*0.7 -> 0.10015096 | H4: ='(b)'!H4*0.6 -> 0.10768199
B5: HSF vs. PTM | C5: ='(b)'!C5*0.99 -> 0.032767528 | D5: ='(b)'!D5*0.95 -> 0.058531813 | E5: ='(b)'!E5*0.9 -> 0.07844683 | F5: ='(b)'!F5*0.8 -> 0.10233702 | G5: ='(b)'!G5*0.7 -> 0.11975847 | H5: ='(b)'!H5*0.6 -> 0.12646763
B6: HSM vs. PTF | C6: ='(b)'!C6*0.99 -> 0.038911439 | D6: ='(b)'!D6*0.95 -> 0.062515375 | E6: ='(b)'!E6*0.9 -> 0.07653472 | F6: ='(b)'!F6*0.8 -> 0.096030415 | G6: ='(b)'!G6*0.7 -> 0.10973946 | H6: ='(b)'!H6*0.6 -> 0.11388796
B7: HSM vs. PTM | C7: ='(b)'!C7*0.99 -> 0.03697417 | D7: ='(b)'!D7*0.95 -> 0.063790115 | E7: ='(b)'!E7*0.9 -> 0.086195907 | F7: ='(b)'!F7*0.8 -> 0.10953819 | G7: ='(b)'!G7*0.7 -> 0.12461143 | H7: ='(b)'!H7*0.6 -> 0.13364643
B8: HSF vs. RMF | C8: ='(b)'!C8*0.99 -> 0.11191882 | D8: ='(b)'!D8*0.95 -> 0.16709717 | E8: ='(b)'!E8*0.9 -> 0.19563905 | F8: ='(b)'!F8*0.8 -> 0.22480152 | G8: ='(b)'!G8*0.7 -> 0.23278542 | H8: ='(b)'!H8*0.6 -> 0.22811137
B9: HSF vs. RMM | C9: ='(b)'!C9*0.99 -> 0.07898524 | D9: ='(b)'!D9*0.95 -> 0.1233311 | E9: ='(b)'!E9*0.9 -> 0.15166052 | F9: ='(b)'!F9*0.8 -> 0.18239964 | G9: ='(b)'!G9*0.7 -> 0.19227888 | H9: ='(b)'!H9*0.6 -> 0.19466622
B10: HSM vs. RMF | C10: ='(b)'!C10*0.99 -> 0.11911439 | D10: ='(b)'!D10*0.95 -> 0.1780918 | E10: ='(b)'!E10*0.9 -> 0.20630661 | F10: ='(b)'!F10*0.8 -> 0.23482053 | G10: ='(b)'!G10*0.7 -> 0.24296098 | H10: ='(b)'!H10*0.6 -> 0.23747065
B11: HSM vs. RMM | C11: ='(b)'!C11*0.99 -> 0.07798893 | D11: ='(b)'!D11*0.95 -> 0.12141899 | E11: ='(b)'!E11*0.9 -> 0.15140892 | F11: ='(b)'!F11*0.8 -> 0.17949234 | G11: ='(b)'!G11*0.7 -> 0.19223974 | H11: ='(b)'!H11*0.6 -> 0.19610869
B12: PTF vs. RMF | C12: ='(b)'!C12*0.99 -> 0.09597786 | D12: ='(b)'!D12*0.95 -> 0.14484233 | E12: ='(b)'!E12*0.9 -> 0.17777591 | F12: ='(b)'!F12*0.8 -> 0.20592642 | G12: ='(b)'!G12*0.7 -> 0.21282567 | H12: ='(b)'!H12*0.6 -> 0.21200939
B13: PTF vs. RMM | C13: ='(b)'!C13*0.99 -> 0.069243542 | D13: ='(b)'!D13*0.95 -> 0.10808733 | E13: ='(b)'!E13*0.9 -> 0.13218719 | F13: ='(b)'!F13*0.8 -> 0.15954378 | G13: ='(b)'!G13*0.7 -> 0.17400201 | H13: ='(b)'!H13*0.6 -> 0.17621603
B14: PTM vs. RMF | C14: ='(b)'!C14*0.99 -> 0.09697417 | D14: ='(b)'!D14*0.95 -> 0.15153472 | E14: ='(b)'!E14*0.9 -> 0.18763838 | F14: ='(b)'!F14*0.8 -> 0.21943419 | G14: ='(b)'!G14*0.7 -> 0.22887174 | H14: ='(b)'!H14*0.6 -> 0.2246897
B15: PTM vs. RMM | C15: ='(b)'!C15*0.99 -> 0.067693727 | D15: ='(b)'!D15*0.95 -> 0.1154702 | E15: ='(b)'!E15*0.9 -> 0.14798725 | F15: ='(b)'!F15*0.8 -> 0.17792687 | G15: ='(b)'!G15*0.7 -> 0.19196578 | H15: ='(b)'!H15*0.6 -> 0.1948004
B16: Intraspecific comparison
B17: HSF vs. HSM | C17: ='(b)'!C17*0.99 -> 0.00022140221 | D17: ='(b)'!D17*0.95 -> 0.00042491334 | E17: ='(b)'!E17*0.9 -> 0.00060382422 | F17: ='(b)'!F17*0.8 -> 0.0008945544 | G17: ='(b)'!G17*0.7 -> 0.0015263334 | H17: ='(b)'!H17*0.6 -> 0.0016101979
B18: PTF vs. PTM | C18: ='(b)'!C18*0.99 -> 0.00022140221 | D18: ='(b)'!D18*0.95 -> 0.0013278542 | E18: ='(b)'!E18*0.9 -> 0.0015598792 | F18: ='(b)'!F18*0.8 -> 0.0031756681 | G18: ='(b)'!G18*0.7 -> 0.0034440344 | H18: ='(b)'!H18*0.6 -> 0.0046964106
B19: RMF vs. RMM | C19: ='(b)'!C19*0.99 -> 0.00027675277 | D19: ='(b)'!D19*0.95 -> 0.00042491334 | E19: ='(b)'!E19*0.9 -> 0.00070446159 | F19: ='(b)'!F19*0.8 -> 0.0015207425 | G19: ='(b)'!G19*0.7 -> 0.0023873421 | H19: ='(b)'!H19*0.6 -> 0.0034216706
