Workbook
Name entry_tag_0_11: #REF!

Sheet minus 29 nov
A1: S.No | B1: Classification 1 | C1: Classification 2 | D1: Classification 3 | E1: Classification 4 | F1: Classification 5 | G1: Classification 6 | H1: Classification 7 | I1: Classification 8 | J1: Classification 9 | K1: Hypo | M1: S.No.
A2: 1 | B2: 1 | C2: 0 | D2: 1 | E2: 0 | F2: 1 | G2: 1 | H2: 0 | I2: 1 | J2: 0 | K2: 0 | M2: 1 | O2: ANOVA - Single Factor
A3: 2 | B3: 1 | C3: 0 | D3: 1 | E3: 0 | F3: 0 | G3: 1 | H3: 0 | I3: 0 | J3: 0 | K3: 0 | M3: 2 | O3: Alpha | P3: 0.05
A4: 3 | B4: 1 | C4: 1 | D4: 1 | E4: 1 | F4: 1 | G4: 1 | H4: 0 | I4: 1 | J4: 0 | K4: 0 | M4: 3
A5: 4 | B5: 1 | C5: 0 | D5: 0 | E5: 0 | F5: 1 | G5: 1 | H5: 0 | I5: 0 | J5: 0 | K5: 0 | M5: 4 | O5: Groups | P5: Count | Q5: Sum | R5: Mean | S5: Variance
A6: 5 | B6: 1 | C6: 1 | D6: 1 | E6: 1 | F6: 1 | G6: 1 | H6: 0 | I6: 0 | J6: 0 | K6: 0 | M6: 5 | O6: Column 1 | P6: =COUNT('minus 29 nov'!$A$2:$A$195) -> 194 | Q6: =SUM('minus 29 nov'!$A$2:$A$195) -> 18915 | R6: =AVERAGE('minus 29 nov'!$A$2:$A$195) -> 97.5 | S6: =VAR('minus 29 nov'!$A$2:$A$195) -> 3152.5
A7: 6 | B7: 1 | C7: 1 | D7: 1 | E7: 1 | F7: 1 | G7: 1 | H7: 0 | I7: 1 | J7: 0 | K7: 0 | M7: 6 | O7: Column 2 | P7: =COUNT('minus 29 nov'!$B$2:$B$195) -> 194 | Q7: =SUM('minus 29 nov'!$B$2:$B$195) -> 194 | R7: =AVERAGE('minus 29 nov'!$B$2:$B$195) -> 1 | S7: =VAR('minus 29 nov'!$B$2:$B$195) -> 0
A8: 7 | B8: 1 | C8: 1 | D8: 1 | E8: 1 | F8: 1 | G8: 1 | H8: 0 | I8: 0 | J8: 0 | K8: 0 | M8: 7 | O8: Column 3 | P8: =COUNT('minus 29 nov'!$C$2:$C$195) -> 194 | Q8: =SUM('minus 29 nov'!$C$2:$C$195) -> 77 | R8: =AVERAGE('minus 29 nov'!$C$2:$C$195) -> 0.39690722 | S8: =VAR('minus 29 nov'!$C$2:$C$195) -> 0.24061215
A9: 8 | B9: 1 | C9: 1 | D9: 0 | E9: 1 | F9: 1 | G9: 1 | H9: 0 | I9: 0 | J9: 0 | K9: 0 | M9: 8 | O9: Column 4 | P9: =COUNT('minus 29 nov'!$D$2:$D$195) -> 194 | Q9: =SUM('minus 29 nov'!$D$2:$D$195) -> 146 | R9: =AVERAGE('minus 29 nov'!$D$2:$D$195) -> 0.75257732 | S9: =VAR('minus 29 nov'!$D$2:$D$195) -> 0.18716949
A10: 9 | B10: 1 | C10: 0 | D10: 1 | E10: 0 | F10: 0 | G10: 1 | H10: 0 | I10: 0 | J10: 0 | K10: 0 | M10: 9 | O10: Column 5 | P10: =COUNT('minus 29 nov'!$E$2:$E$195) -> 194 | Q10: =SUM('minus 29 nov'!$E$2:$E$195) -> 78 | R10: =AVERAGE('minus 29 nov'!$E$2:$E$195) -> 0.40206186 | S10: =VAR('minus 29 nov'!$E$2:$E$195) -> 0.24165376
A11: 10 | B11: 1 | C11: 0 | D11: 1 | E11: 0 | F11: 0 | G11: 1 | H11: 0 | I11: 0 | J11: 0 | K11: 0 | M11: 10 | O11: Column 6 | P11: =COUNT('minus 29 nov'!$F$2:$F$195) -> 194 | Q11: =SUM('minus 29 nov'!$F$2:$F$195) -> 103 | R11: =AVERAGE('minus 29 nov'!$F$2:$F$195) -> 0.53092784 | S11: =VAR('minus 29 nov'!$F$2:$F$195) -> 0.25033385
A12: 11 | B12: 1 | C12: 0 | D12: 1 | E12: 0 | F12: 0 | G12: 1 | H12: 0 | I12: 1 | J12: 0 | K12: 0 | M12: 11 | O12: Column 7 | P12: =COUNT('minus 29 nov'!$G$2:$G$195) -> 194 | Q12: =SUM('minus 29 nov'!$G$2:$G$195) -> 194 | R12: =AVERAGE('minus 29 nov'!$G$2:$G$195) -> 1 | S12: =VAR('minus 29 nov'!$G$2:$G$195) -> 0
A13: 12 | B13: 1 | C13: 0 | D13: 1 | E13: 0 | F13: 0 | G13: 1 | H13: 0 | I13: 1 | J13: 0 | K13: 0 | M13: 12 | O13: Column 8 | P13: =COUNT('minus 29 nov'!$H$2:$H$195) -> 194 | Q13: =SUM('minus 29 nov'!$H$2:$H$195) -> 0 | R13: =AVERAGE('minus 29 nov'!$H$2:$H$195) -> 0 | S13: =VAR('minus 29 nov'!$H$2:$H$195) -> 0
A14: 13 | B14: 1 | C14: 1 | D14: 1 | E14: 1 | F14: 1 | G14: 1 | H14: 0 | I14: 1 | J14: 0 | K14: 0 | M14: 13 | O14: Column 9 | P14: =COUNT('minus 29 nov'!$I$2:$I$195) -> 194 | Q14: =SUM('minus 29 nov'!$I$2:$I$195) -> 78 | R14: =AVERAGE('minus 29 nov'!$I$2:$I$195) -> 0.40206186 | S14: =VAR('minus 29 nov'!$I$2:$I$195) -> 0.24165376
A15: 14 | B15: 1 | C15: 0 | D15: 1 | E15: 0 | F15: 1 | G15: 1 | H15: 0 | I15: 0 | J15: 0 | K15: 0 | M15: 14 | O15: Column 10 | P15: =COUNT('minus 29 nov'!$J$2:$J$195) -> 194 | Q15: =SUM('minus 29 nov'!$J$2:$J$195) -> 0 | R15: =AVERAGE('minus 29 nov'!$J$2:$J$195) -> 0 | S15: =VAR('minus 29 nov'!$J$2:$J$195) -> 0
A16: 15 | B16: 1 | C16: 1 | D16: 0 | E16: 1 | F16: 1 | G16: 1 | H16: 0 | I16: 0 | J16: 0 | K16: 0 | M16: 15
A17: 16 | B17: 1 | C17: 1 | D17: 1 | E17: 1 | F17: 0 | G17: 1 | H17: 0 | I17: 1 | J17: 0 | K17: 0 | M17: 16 | O17: Source of Variation | P17: SS | Q17: df | R17: MS | S17: F | T17: P-value | U17: F critical
A18: 17 | B18: 1 | C18: 1 | D18: 1 | E18: 1 | F18: 0 | G18: 1 | H18: 0 | I18: 1 | J18: 0 | K18: 0 | M18: 17 | O18: Between Groups | P18: =SUMPRODUCT('minus 29 nov'!$Q$6:$Q$15,'minus 29 nov'!$R$6:$R$15)-SUM('minus 29 nov'!$Q$6:$Q$15)^2/SUM('minus 29 nov'!$P$6:$P$15) -> 1643081.9 | Q18: =COUNT('minus 29 nov'!$Q$6:$Q$15)-1 -> 9 | R18: ='minus 29 nov'!$P$18/'minus 29 nov'!$Q$18 -> 182564.66 | S18: ='minus 29 nov'!$R$18/'minus 29 nov'!$R$19 -> 578.89746 | T18: =FDIST('minus 29 nov'!$S$18,'minus 29 nov'!$Q$18,'minus 29 nov'!$Q$19) -> 0 | U18: =FINV('minus 29 nov'!$P$3,'minus 29 nov'!$Q$18,'minus 29 nov'!$Q$19) -> 1.8847216
A19: 18 | B19: 1 | C19: 0 | D19: 0 | E19: 0 | F19: 1 | G19: 1 | H19: 0 | I19: 0 | J19: 0 | K19: 0 | M19: 18 | O19: Within Groups | P19: =SUM(DEVSQ($A$2:$A$195),DEVSQ($B$2:$B$195),DEVSQ($C$2:$C$195),DEVSQ($D$2:$D$195),DEVSQ($E$2:$E$195),DEVSQ($F$2:$F$195),DEVSQ($G$2:$G$195),DEVSQ($H$2:$H$195),DEVSQ($I$2:$I$195),DEVSQ($J$2:$J$195)) -> 608656.65 | Q19: =SUM('minus 29 nov'!$P$6:$P$15)-COUNT('minus 29 nov'!$P$6:$P$15) -> 1930 | R19: ='minus 29 nov'!$P$19/'minus 29 nov'!$Q$19 -> 315.36614
A20: 19 | B20: 1 | C20: 1 | D20: 1 | E20: 1 | F20: 1 | G20: 1 | H20: 0 | I20: 0 | J20: 0 | K20: 0 | M20: 19 | O20: Total | Q20: =SUM('minus 29 nov'!$P$6:$P$15)-1 -> 1939
A21: 20 | B21: 1 | C21: 1 | D21: 1 | E21: 1 | F21: 0 | G21: 1 | H21: 0 | I21: 1 | J21: 0 | K21: 0 | M21: 20
A22: 21 | B22: 1 | C22: 0 | D22: 1 | E22: 0 | F22: 0 | G22: 1 | H22: 0 | I22: 1 | J22: 0 | K22: 0 | M22: 21
A23: 22 | B23: 1 | C23: 0 | D23: 0 | E23: 0 | F23: 1 | G23: 1 | H23: 0 | I23: 0 | J23: 0 | K23: 0 | M23: 22
A24: 23 | B24: 1 | C24: 1 | D24: 1 | E24: 1 | F24: 1 | G24: 1 | H24: 0 | I24: 1 | J24: 0 | K24: 0 | M24: 23
A25: 24 | B25: 1 | C25: 0 | D25: 1 | E25: 0 | F25: 0 | G25: 1 | H25: 0 | I25: 0 | J25: 0 | K25: 0 | M25: 24
A26: 25 | B26: 1 | C26: 0 | D26: 0 | E26: 0 | F26: 1 | G26: 1 | H26: 0 | I26: 0 | J26: 0 | K26: 0 | M26: 25
A27: 26 | B27: 1 | C27: 0 | D27: 1 | E27: 0 | F27: 1 | G27: 1 | H27: 0 | I27: 0 | J27: 0 | K27: 0 | M27: 26
A28: 27 | B28: 1 | C28: 0 | D28: 1 | E28: 0 | F28: 1 | G28: 1 | H28: 0 | I28: 0 | J28: 0 | K28: 0 | M28: 27
A29: 28 | B29: 1 | C29: 0 | D29: 1 | E29: 0 | F29: 1 | G29: 1 | H29: 0 | I29: 1 | J29: 0 | K29: 0 | M29: 28
A30: 29 | B30: 1 | C30: 0 | D30: 1 | E30: 0 | F30: 0 | G30: 1 | H30: 0 | I30: 0 | J30: 0 | K30: 0 | M30: 29
A31: 30 | B31: 1 | C31: 0 | D31: 1 | E31: 0 | F31: 1 | G31: 1 | H31: 0 | I31: 1 | J31: 0 | K31: 0 | M31: 30
A32: 31 | B32: 1 | C32: 1 | D32: 1 | E32: 1 | F32: 1 | G32: 1 | H32: 0 | I32: 0 | J32: 0 | K32: 0 | M32: 31
... A195: 194 | B195: 1 | C195: 1 | D195: 0 | E195: 1 | F195: 1 | G195: 1 | H195: 0 | I195: 0 | J195: 0 | K195: 0 | M195: 194

Sheet plus 29 nov
A1: S.No | B1: Classification 1 | C1: Classification 2 | D1: Classification 3 | E1: Classification 4 | F1: Classification 5 | G1: Classification 6 | H1: Classification 7 | I1: Classification 8 | J1: Classification 9 | K1: Hypo | M1: S. No. previous
A2: 1 | B2: 1 | C2: 1 | D2: 0 | E2: 1 | F2: 1 | G2: 0 | H2: 0 | I2: 0 | J2: 1 | K2: 1 | M2: 1 | O2: ANOVA - Single Factor
A3: 2 | B3: 1 | C3: 1 | D3: 0 | E3: 1 | F3: 1 | G3: 0 | H3: 0 | I3: 1 | J3: 1 | K3: 1 | M3: 2 | O3: Alpha | P3: 0.05
A4: 3 | B4: 0 | C4: 0 | D4: 0 | E4: 0 | F4: 0 | G4: 0 | H4: 0 | I4: 0 | J4: 1 | K4: 1 | M4: 3
A5: 4 | B5: 1 | C5: 1 | D5: 1 | E5: 1 | F5: 1 | G5: 1 | H5: 0 | I5: 1 | J5: 0 | K5: 1 | M5: 4 | O5: Groups | P5: Count | Q5: Sum | R5: Mean | S5: Variance
A6: 5 | B6: 1 | C6: 1 | D6: 1 | E6: 1 | F6: 1 | G6: 0 | H6: 1 | I6: 0 | J6: 1 | K6: 1 | M6: 5 | O6: Column 1 | P6: =COUNT('plus 29 nov'!$A$2:$A$107) -> 106 | Q6: =SUM('plus 29 nov'!$A$2:$A$107) -> 5671 | R6: =AVERAGE('plus 29 nov'!$A$2:$A$107) -> 53.5 | S6: =VAR('plus 29 nov'!$A$2:$A$107) -> 945.16667
A7: 6 | B7: 1 | C7: 1 | D7: 1 | E7: 1 | F7: 0 | G7: 0 | H7: 0 | I7: 0 | J7: 1 | K7: 1 | M7: 6 | O7: Column 2 | P7: =COUNT('plus 29 nov'!$B$2:$B$107) -> 106 | Q7: =SUM('plus 29 nov'!$B$2:$B$107) -> 86 | R7: =AVERAGE('plus 29 nov'!$B$2:$B$107) -> 0.81132075 | S7: =VAR('plus 29 nov'!$B$2:$B$107) -> 0.15453729
A8: 7 | B8: 1 | C8: 1 | D8: 1 | E8: 1 | F8: 0 | G8: 0 | H8: 0 | I8: 0 | J8: 0 | K8: 1 | M8: 7 | O8: Column 3 | P8: =COUNT('plus 29 nov'!$C$2:$C$107) -> 106 | Q8: =SUM('plus 29 nov'!$C$2:$C$107) -> 105 | R8: =AVERAGE('plus 29 nov'!$C$2:$C$107) -> 0.99056604 | S8: =VAR('plus 29 nov'!$C$2:$C$107) -> 0.0094339623
A9: 8 | B9: 0 | C9: 1 | D9: 1 | E9: 0 | F9: 1 | G9: 1 | H9: 0 | I9: 1 | J9: 0 | K9: 1 | M9: 8 | O9: Column 4 | P9: =COUNT('plus 29 nov'!$D$2:$D$107) -> 106 | Q9: =SUM('plus 29 nov'!$D$2:$D$107) -> 43 | R9: =AVERAGE('plus 29 nov'!$D$2:$D$107) -> 0.40566038 | S9: =VAR('plus 29 nov'!$D$2:$D$107) -> 0.24339623
A10: 9 | B10: 1 | C10: 1 | D10: 1 | E10: 1 | F10: 0 | G10: 0 | H10: 0 | I10: 0 | J10: 1 | K10: 1 | M10: 9 | O10: Column 5 | P10: =COUNT('plus 29 nov'!$E$2:$E$107) -> 106 | Q10: =SUM('plus 29 nov'!$E$2:$E$107) -> 35 | R10: =AVERAGE('plus 29 nov'!$E$2:$E$107) -> 0.33018868 | S10: =VAR('plus 29 nov'!$E$2:$E$107) -> 0.22327044
A11: 10 | B11: 1 | C11: 1 | D11: 1 | E11: 0 | F11: 1 | G11: 0 | H11: 0 | I11: 0 | J11: 0 | K11: 1 | M11: 10 | O11: Column 6 | P11: =COUNT('plus 29 nov'!$F$2:$F$107) -> 106 | Q11: =SUM('plus 29 nov'!$F$2:$F$107) -> 79 | R11: =AVERAGE('plus 29 nov'!$F$2:$F$107) -> 0.74528302 | S11: =VAR('plus 29 nov'!$F$2:$F$107) -> 0.1916442
A12: 11 | B12: 1 | C12: 1 | D12: 0 | E12: 1 | F12: 1 | G12: 0 | H12: 1 | I12: 0 | J12: 0 | K12: 1 | M12: 11 | O12: Column 7 | P12: =COUNT('plus 29 nov'!$G$2:$G$107) -> 106 | Q12: =SUM('plus 29 nov'!$G$2:$G$107) -> 50 | R12: =AVERAGE('plus 29 nov'!$G$2:$G$107) -> 0.47169811 | S12: =VAR('plus 29 nov'!$G$2:$G$107) -> 0.25157233
A13: 12 | B13: 0 | C13: 1 | D13: 1 | E13: 0 | F13: 1 | G13: 0 | H13: 0 | I13: 1 | J13: 0 | K13: 1 | M13: 12 | O13: Column 8 | P13: =COUNT('plus 29 nov'!$H$2:$H$107) -> 106 | Q13: =SUM('plus 29 nov'!$H$2:$H$107) -> 50 | R13: =AVERAGE('plus 29 nov'!$H$2:$H$107) -> 0.47169811 | S13: =VAR('plus 29 nov'!$H$2:$H$107) -> 0.25157233
A14: 13 | B14: 0 | C14: 1 | D14: 0 | E14: 0 | F14: 0 | G14: 0 | H14: 1 | I14: 0 | J14: 0 | K14: 1 | M14: 13 | O14: Column 9 | P14: =COUNT('plus 29 nov'!$I$2:$I$107) -> 106 | Q14: =SUM('plus 29 nov'!$I$2:$I$107) -> 47 | R14: =AVERAGE('plus 29 nov'!$I$2:$I$107) -> 0.44339623 | S14: =VAR('plus 29 nov'!$I$2:$I$107) -> 0.24914645
A15: 14 | B15: 1 | C15: 1 | D15: 0 | E15: 1 | F15: 1 | G15: 0 | H15: 0 | I15: 1 | J15: 0 | K15: 1 | M15: 14 | O15: Column 10 | P15: =COUNT('plus 29 nov'!$J$2:$J$107) -> 106 | Q15: =SUM('plus 29 nov'!$J$2:$J$107) -> 65 | R15: =AVERAGE('plus 29 nov'!$J$2:$J$107) -> 0.61320755 | S15: =VAR('plus 29 nov'!$J$2:$J$107) -> 0.23944295
A16: 15 | B16: 0 | C16: 1 | D16: 1 | E16: 0 | F16: 1 | G16: 1 | H16: 1 | I16: 0 | J16: 1 | K16: 1 | M16: 15
A17: 16 | B17: 1 | C17: 1 | D17: 0 | E17: 1 | F17: 0 | G17: 0 | H17: 1 | I17: 0 | J17: 1 | K17: 1 | M17: 16 | O17: Source of Variation | P17: SS | Q17: df | R17: MS | S17: F | T17: P-value | U17: F critical
A18: 17 | B18: 0 | C18: 1 | D18: 1 | E18: 0 | F18: 1 | G18: 0 | H18: 1 | I18: 0 | J18: 0 | K18: 1 | M18: 17 | O18: Between Groups | P18: =SUMPRODUCT('plus 29 nov'!$Q$6:$Q$15,'plus 29 nov'!$R$6:$R$15)-SUM('plus 29 nov'!$Q$6:$Q$15)^2/SUM('plus 29 nov'!$P$6:$P$15) -> 267140.33 | Q18: =COUNT('plus 29 nov'!$Q$6:$Q$15)-1 -> 9 | R18: ='plus 29 nov'!$P$18/'plus 29 nov'!$Q$18 -> 29682.259 | S18: ='plus 29 nov'!$R$18/'plus 29 nov'!$R$19 -> 313.44102 | T18: =FDIST('plus 29 nov'!$S$18,'plus 29 nov'!$Q$18,'plus 29 nov'!$Q$19) -> 3.1662613e-290 | U18: =FINV('plus 29 nov'!$P$3,'plus 29 nov'!$Q$18,'plus 29 nov'!$Q$19) -> 1.8887809
A19: 18 | B19: 1 | C19: 1 | D19: 0 | E19: 1 | F19: 1 | G19: 1 | H19: 1 | I19: 0 | J19: 1 | K19: 1 | M19: 18 | O19: Within Groups | P19: =SUM(DEVSQ($A$2:$A$107),DEVSQ($B$2:$B$107),DEVSQ($C$2:$C$107),DEVSQ($D$2:$D$107),DEVSQ($E$2:$E$107),DEVSQ($F$2:$F$107),DEVSQ($G$2:$G$107),DEVSQ($H$2:$H$107),DEVSQ($I$2:$I$107),DEVSQ($J$2:$J$107)) -> 99432.972 | Q19: =SUM('plus 29 nov'!$P$6:$P$15)-COUNT('plus 29 nov'!$P$6:$P$15) -> 1050 | R19: ='plus 29 nov'!$P$19/'plus 29 nov'!$Q$19 -> 94.698068
A20: 19 | B20: 1 | C20: 1 | D20: 0 | E20: 1 | F20: 1 | G20: 0 | H20: 1 | I20: 1 | J20: 1 | K20: 1 | M20: 19 | O20: Total | Q20: =SUM('plus 29 nov'!$P$6:$P$15)-1 -> 1059
A21: 20 | B21: 1 | C21: 1 | D21: 0 | E21: 0 | F21: 1 | G21: 1 | H21: 1 | I21: 1 | J21: 1 | K21: 1 | M21: 20
A22: 21 | B22: 1 | C22: 1 | D22: 0 | E22: 0 | F22: 1 | G22: 1 | H22: 1 | I22: 1 | J22: 0 | K22: 1 | M22: 21
A23: 22 | B23: 1 | C23: 1 | D23: 1 | E23: 0 | F23: 1 | G23: 1 | H23: 1 | I23: 0 | J23: 1 | K23: 1 | M23: 22
A24: 23 | B24: 1 | C24: 1 | D24: 1 | E24: 0 | F24: 0 | G24: 0 | H24: 1 | I24: 0 | J24: 0 | K24: 1 | M24: 23
A25: 24 | B25: 1 | C25: 1 | D25: 1 | E25: 0 | F25: 1 | G25: 0 | H25: 1 | I25: 0 | J25: 1 | K25: 1 | M25: 24
A26: 25 | B26: 1 | C26: 1 | D26: 0 | E26: 0 | F26: 1 | G26: 1 | H26: 0 | I26: 1 | J26: 0 | K26: 1 | M26: 25
A27: 26 | B27: 1 | C27: 1 | D27: 0 | E27: 0 | F27: 1 | G27: 0 | H27: 0 | I27: 1 | J27: 1 | K27: 1 | M27: 26
A28: 27 | B28: 1 | C28: 1 | D28: 0 | E28: 0 | F28: 1 | G28: 0 | H28: 0 | I28: 1 | J28: 1 | K28: 1 | M28: 27
A29: 28 | B29: 1 | C29: 1 | D29: 0 | E29: 0 | F29: 1 | G29: 1 | H29: 0 | I29: 0 | J29: 1 | K29: 1 | M29: 28
A30: 29 | B30: 1 | C30: 1 | D30: 0 | E30: 0 | F30: 1 | G30: 1 | H30: 1 | I30: 0 | J30: 1 | K30: 1 | M30: 29
A31: 30 | B31: 1 | C31: 1 | D31: 1 | E31: 0 | F31: 0 | G31: 0 | H31: 1 | I31: 0 | J31: 1 | K31: 1 | M31: 30
A32: 31 | B32: 1 | C32: 1 | D32: 1 | E32: 0 | F32: 1 | G32: 1 | H32: 1 | I32: 1 | J32: 1 | K32: 1 | M32: 31
... A107: 106 | B107: 1 | C107: 1 | D107: 0 | E107: 1 | F107: 1 | G107: 0 | H107: 0 | I107: 1 | J107: 1 | K107: 1 | M107: 106

Sheet Minus
A1: Accession | B1: Protein family Domains | C1: Orthology | D1: Protein interactions | E1: Bidirectional best blast hits | F1: Subcellular location | G1: Functional linkages | H1: Pseudogenes | I1: Homology Modeling | J1: Noncode
A2: P23141.2 | B2: 1 | C2: 0 | D2: 1 | E2: 0 | F2: 1 | G2: 1 | H2: 0 | I2: 1 | J2: 0
A3: O60291.2 | B3: 1 | C3: 0 | D3: 1 | E3: 0 | F3: 0 | G3: 1 | H3: 0 | I3: 0 | J3: 0
A4: Q9HC62.3 | B4: 1 | C4: 1 | D4: 1 | E4: 1 | F4: 1 | G4: 1 | H4: 0 | I4: 1 | J4: 0
A5: Q8TCT7.2 | B5: 1 | C5: 0 | D5: 0 | E5: 0 | F5: 1 | G5: 1 | H5: 0 | I5: 0 | J5: 0
A6: Q86U10.3 | B6: 1 | C6: 1 | D6: 1 | E6: 1 | F6: 1 | G6: 1 | H6: 0 | I6: 0 | J6: 0
A7: P07686.3 | B7: 1 | C7: 1 | D7: 1 | E7: 1 | F7: 1 | G7: 1 | H7: 0 | I7: 1 | J7: 0
A8: P15586.3 | B8: 1 | C8: 1 | D8: 1 | E8: 1 | F8: 1 | G8: 1 | H8: 0 | I8: 0 | J8: 0
A9: Q5FYA8.1 | B9: 1 | C9: 1 | D9: 0 | E9: 1 | F9: 1 | G9: 1 | H9: 0 | I9: 0 | J9: 0
A10: P32456.3 | B10: 1 | C10: 0 | D10: 1 | E10: 0 | F10: 0 | G10: 1 | H10: 0 | I10: 0 | J10: 0
A11: Q8IU81.1 | B11: 1 | C11: 0 | D11: 1 | E11: 0 | F11: 0 | G11: 1 | H11: 0 | I11: 0 | J11: 0
A12: P06744.4 | B12: 1 | C12: 0 | D12: 1 | E12: 0 | F12: 0 | G12: 1 | H12: 0 | I12: 1 | J12: 0
A13: Q13114.2 | B13: 1 | C13: 0 | D13: 1 | E13: 0 | F13: 0 | G13: 1 | H13: 0 | I13: 1 | J13: 0
A14: P00750.1 | B14: 1 | C14: 1 | D14: 1 | E14: 1 | F14: 1 | G14: 1 | H14: 0 | I14: 1 | J14: 0
A15: A6NGU5.2 | B15: 1 | C15: 0 | D15: 1 | E15: 0 | F15: 1 | G15: 1 | H15: 0 | I15: 0 | J15: 0
A16: Q5XG92.2 | B16: 1 | C16: 1 | D16: 0 | E16: 1 | F16: 1 | G16: 1 | H16: 0 | I16: 0 | J16: 0
A17: Q5D1E8.1 | B17: 1 | C17: 1 | D17: 1 | E17: 1 | F17: 0 | G17: 1 | H17: 0 | I17: 1 | J17: 0
A18: Q06124.2 | B18: 1 | C18: 1 | D18: 1 | E18: 1 | F18: 0 | G18: 1 | H18: 0 | I18: 1 | J18: 0
A19: Q5FYB0.1 | B19: 1 | C19: 0 | D19: 0 | E19: 0 | F19: 1 | G19: 1 | H19: 0 | I19: 0 | J19: 0
A20: Q8NHP8.2 | B20: 1 | C20: 1 | D20: 1 | E20: 1 | F20: 1 | G20: 1 | H20: 0 | I20: 0 | J20: 0
A21: P30305.2 | B21: 1 | C21: 1 | D21: 1 | E21: 1 | F21: 0 | G21: 1 | H21: 0 | I21: 1 | J21: 0
A22: Q96JP5.1 | B22: 1 | C22: 0 | D22: 1 | E22: 0 | F22: 0 | G22: 1 | H22: 0 | I22: 1 | J22: 0
A23: Q68CK6.2 | B23: 1 | C23: 0 | D23: 0 | E23: 0 | F23: 1 | G23: 1 | H23: 0 | I23: 0 | J23: 0
A24: O60942.1 | B24: 1 | C24: 1 | D24: 1 | E24: 1 | F24: 1 | G24: 1 | H24: 0 | I24: 1 | J24: 0
A25: P08243.4 | B25: 1 | C25: 0 | D25: 1 | E25: 0 | F25: 0 | G25: 1 | H25: 0 | I25: 0 | J25: 0
A26: Q7RTZ1.2 | B26: 1 | C26: 0 | D26: 0 | E26: 0 | F26: 1 | G26: 1 | H26: 0 | I26: 0 | J26: 0
A27: Q6UWW8.1 | B27: 1 | C27: 0 | D27: 1 | E27: 0 | F27: 1 | G27: 1 | H27: 0 | I27: 0 | J27: 0
A28: Q5T160.1 | B28: 1 | C28: 0 | D28: 1 | E28: 0 | F28: 1 | G28: 1 | H28: 0 | I28: 0 | J28: 0
A29: P34913.2 | B29: 1 | C29: 0 | D29: 1 | E29: 0 | F29: 1 | G29: 1 | H29: 0 | I29: 1 | J29: 0
A30: Q9H4L4.2 | B30: 1 | C30: 0 | D30: 1 | E30: 0 | F30: 0 | G30: 1 | H30: 0 | I30: 0 | J30: 0
A31: O14773.2 | B31: 1 | C31: 0 | D31: 1 | E31: 0 | F31: 1 | G31: 1 | H31: 0 | I31: 1 | J31: 0
A32: Q2T9J0.3 | B32: 1 | C32: 1 | D32: 1 | E32: 1 | F32: 1 | G32: 1 | H32: 0 | I32: 0 | J32: 0
A33: Q6NUN0.2 | B33: 1 | C33: 0 | D33: 0 | E33: 0 | F33: 1 | G33: 1 | H33: 0 | I33: 0 | J33: 0
A34: P29350.1 | B34: 1 | C34: 1 | D34: 1 | E34: 1 | F34: 0 | G34: 1 | H34: 0 | I34: 1 | J34: 0
A35: Q9Y4X5.2 | B35: 1 | C35: 0 | D35: 1 | E35: 0 | F35: 0 | G35: 1 | H35: 0 | I35: 1 | J35: 0
A36: Q6P4A8.2 | B36: 1 | C36: 0 | D36: 0 | E36: 0 | F36: 1 | G36: 1 | H36: 0 | I36: 0 | J36: 0
A37: Q6P4A8.2 | B37: 1 | C37: 1 | D37: 0 | E37: 1 | F37: 1 | G37: 1 | H37: 0 | I37: 0 | J37: 0
A38: P43378.1 | B38: 1 | C38: 1 | D38: 1 | E38: 1 | F38: 0 | G38: 1 | H38: 0 | I38: 1 | J38: 0
A39: Q8NHQ9.3 | B39: 1 | C39: 0 | D39: 1 | E39: 0 | F39: 0 | G39: 1 | H39: 0 | I39: 0 | J39: 0
A40: Q96AY3.1 | B40: 1 | C40: 0 | D40: 1 | E40: 0 | F40: 0 | G40: 1 | H40: 0 | I40: 0 | J40: 0
...

Sheet Plus
A1: Accession | B1: Protein family Domains | C1: Orthology | D1: Protein interactions | E1: Bidirectional best blast hits | F1: Subcellular location | G1: Functional linkages | H1: Pseudogenes | I1: Homology Modeling | J1: Noncode
A2: NP_009107.1 | B2: 1 | C2: 1 | D2: 0 | E2: 1 | F2: 1 | G2: 0 | H2: 0 | I2: 0 | J2: 1
A4: CAC82738.1 | B4: 1 | C4: 1 | D4: 0 | E4: 1 | F4: 1 | G4: 0 | H4: 0 | I4: 1 | J4: 1
A6: AF527534_1 | B6: 0 | C6: 0 | D6: 0 | E6: 0 | F6: 0 | G6: 0 | H6: 0 | I6: 0 | J6: 1
A9: AAP97303 | B9: 1 | C9: 1 | D9: 1 | E9: 1 | F9: 1 | G9: 1 | H9: 0 | I9: 1 | J9: 0
A12: NP_060440.2 | B12: 1 | C12: 1 | D12: 1 | E12: 1 | F12: 1 | G12: 0 | H12: 1 | I12: 0 | J12: 1
A16: NP_060541.3 | B16: 1 | C16: 1 | D16: 1 | E16: 1 | F16: 0 | G16: 0 | H16: 0 | I16: 0 | J16: 1
J17: 1
A19: NP_057673.2 | B19: 1 | C19: 1 | D19: 1 | E19: 1 | F19: 0 | G19: 0 | H19: 0 | I19: 0 | J19: 0
A23: BAE46899.1 | B23: 0 | C23: 1 | D23: 1 | E23: 0 | F23: 1 | G23: 1 | H23: 0 | I23: 1 | J23: 0
J24: 0
A26: NP_116207.2 | B26: 1 | C26: 1 | D26: 1 | E26: 1 | F26: 0 | G26: 0 | H26: 0 | I26: 0 | J26: 1
J27: 1
A29: EAW66951.1 | B29: 1 | C29: 1 | D29: 1 | E29: 0 | F29: 1 | G29: 0 | H29: 0 | I29: 0 | J29: 0
A34: EAW72391.1 | B34: 1 | C34: 1 | D34: 0 | E34: 1 | F34: 1 | G34: 0 | H34: 1 | I34: 0 | J34: 0
A39: EAW74482.1 | B39: 0 | C39: 1 | D39: 1 | E39: 0 | F39: 1 | G39: 0 | H39: 0 | I39: 1 | J39: 0
A42: EAW84367.1 | B42: 0 | C42: 1 | D42: 0 | E42: 0 | F42: 0 | G42: 0 | H42: 1 | I42: 0 | J42: 0
A45: EAW84369.1 | B45: 1 | C45: 1 | D45: 0 | E45: 1 | F45: 1 | G45: 0 | H45: 0 | I45: 1 | J45: 0
A48: NP_775934.3 | B48: 0 | C48: 1 | D48: 1 | E48: 0 | F48: 1 | G48: 1 | H48: 1 | I48: 0 | J48: 1
A52: NP_060290.3 | B52: 1 | C52: 1 | D52: 0 | E52: 1 | F52: 0 | G52: 0 | H52: 1 | I52: 0 | J52: 1
J53: 1
A55: AAB51172.1 | B55: 0 | C55: 1 | D55: 1 | E55: 0 | F55: 1 | G55: 0 | H55: 1 | I55: 0 | J55: 0
A58: CAE45808.1 | B58: 1 | C58: 1 | D58: 0 | E58: 1 | F58: 1 | G58: 1 | H58: 1 | I58: 0 | J58: 1
A61: CAB66613.1 | B61: 1 | C61: 1 | D61: 0 | E61: 1 | F61: 1 | G61: 0 | H61: 1 | I61: 1 | J61: 1
A64: CAB56014.2 | B64: 1 | C64: 1 | D64: 0 | E64: 0 | F64: 1 | G64: 1 | H64: 1 | I64: 1 | J64: 1
A68: CAB92132.1 | B68: 1 | C68: 1 | D68: 0 | E68: 0 | F68: 1 | G68: 1 | H68: 1 | I68: 1 | J68: 0
A72: CAC17765.1 | B72: 1 | C72: 1 | D72: 1 | E72: 0 | F72: 1 | G72: 1 | H72: 1 | I72: 0 | J72: 1
A77: CAB61382.2 | B77: 1 | C77: 1 | D77: 1 | E77: 0 | F77: 0 | G77: 0 | H77: 1 | I77: 0 | J77: 0
A80: CAH10625.1 | B80: 1 | C80: 1 | D80: 1 | E80: 0 | F80: 1 | G80: 0 | H80: 1 | I80: 0 | J80: 1
A83: CAB70766.1 | B83: 1 | C83: 1 | D83: 0 | E83: 0 | F83: 1 | G83: 1 | H83: 0 | I83: 1 | J83: 0
A86: CAI56764.1 | B86: 1 | C86: 1 | D86: 0 | E86: 0 | F86: 1 | G86: 0 | H86: 0 | I86: 1 | J86: 1
A89: CAH18083.1 | B89: 1 | C89: 1 | D89: 0 | E89: 0 | F89: 1 | G89: 0 | H89: 0 | I89: 1 | J89: 1
A92: CAB66795.1 | B92: 1 | C92: 1 | D92: 0 | E92: 0 | F92: 1 | G92: 1 | H92: 0 | I92: 0 | J92: 1
... A107: CAI46109.1 | B107: 1 | C107: 1 | D107: 0 | E107: 0 | F107: 1 | G107: 1 | H107: 0 | I107: 0 | J107: 1
D108: 0
C109: 1
A110: CAI46169.1 | B110: 1 | C110: 1 | D110: 0 | E110: 0 | F110: 1 | G110: 1 | H110: 1 | I110: 0 | J110: 0
C111: 1
A113: CAH56300.1 | B113: 0 | C113: 1 | D113: 1 | E113: 0 | F113: 1 | G113: 1 | H113: 1 | I113: 1 | J113: 1
A118: CAH56419.1 | B118: 1 | C118: 1 | D118: 0 | E118: 0 | F118: 1 | G118: 1 | H118: 1 | I118: 0 | J118: 1
...

Sheet Discrete
A1: Accession | B1: Gene | C1: Putative function | D1: Protein family Domains | E1: Orthology | F1: Protein interactions | G1: Bidirectional best blast hits | H1: Subcellular location | I1: Functional linkages | J1: Pseudogenes | K1: Homology Modeling | L1: Noncode
A2: P23141.2 | B2: CES1 | C2: Ligases | D2: 1 | E2: 0 | F2: 1 | G2: 0 | H2: 1 | I2: 1 | J2: 0 | K2: 1 | L2: 0
A3: O60291.2 | B3: MGRN1 | C3: Ligases | D3: 1 | E3: 0 | F3: 1 | G3: 0 | H3: 0 | I3: 1 | J3: 0 | K3: 0 | L3: 0
A4: Q9HC62.3 | B4: SENP2 | C4: Hydrolases | D4: 1 | E4: 1 | F4: 1 | G4: 1 | H4: 1 | I4: 1 | J4: 0 | K4: 1 | L4: 0
A5: Q8TCT7.2 | B5: SPPL2B | C5: Ligases | D5: 1 | E5: 0 | F5: 0 | G5: 0 | H5: 1 | I5: 1 | J5: 0 | K5: 0 | L5: 0
A6: Q86U10.3 | B6: ASPG | C6: Hydrolases | D6: 1 | E6: 1 | F6: 1 | G6: 1 | H6: 1 | I6: 1 | J6: 0 | K6: 0 | L6: 0
A7: P07686.3 | B7: HEXB | C7: Hydrolases | D7: 1 | E7: 1 | F7: 1 | G7: 1 | H7: 1 | I7: 1 | J7: 0 | K7: 1 | L7: 0
A8: P15586.3 | B8: GNS | C8: Hydrolases | D8: 1 | E8: 1 | F8: 1 | G8: 1 | H8: 1 | I8: 1 | J8: 0 | K8: 0 | L8: 0
A9: Q5FYA8.1 | B9: ARSH | C9: Hydrolases | D9: 1 | E9: 1 | F9: 0 | G9: 1 | H9: 1 | I9: 1 | J9: 0 | K9: 0 | L9: 0
A10: P32456.3 | B10: GBP2 | C10: Ligases | D10: 1 | E10: 0 | F10: 1 | G10: 0 | H10: 0 | I10: 1 | J10: 0 | K10: 0 | L10: 0
A11: Q8IU81.1 | B11: IRF2BP1 | C11: Ligases | D11: 1 | E11: 0 | F11: 1 | G11: 0 | H11: 0 | I11: 1 | J11: 0 | K11: 0 | L11: 0
A12: P06744.4 | B12: GPI | C12: Isomerases | D12: 1 | E12: 0 | F12: 1 | G12: 0 | H12: 0 | I12: 1 | J12: 0 | K12: 1 | L12: 0
A13: Q13114.2 | B13: TRAF3 | C13: Ligases | D13: 1 | E13: 0 | F13: 1 | G13: 0 | H13: 0 | I13: 1 | J13: 0 | K13: 1 | L13: 0
A14: P00750.1 | B14: PLAT | C14: Hydrolases | D14: 1 | E14: 1 | F14: 1 | G14: 1 | H14: 1 | I14: 1 | J14: 0 | K14: 1 | L14: 0
A15: A6NGU5.2 | B15: GGT3P | C15: Ligases | D15: 1 | E15: 0 | F15: 1 | G15: 0 | H15: 1 | I15: 1 | J15: 0 | K15: 0 | L15: 0
A16: Q5XG92.2 | B16: CES4A | C16: Hydrolases | D16: 1 | E16: 1 | F16: 0 | G16: 1 | H16: 1 | I16: 1 | J16: 0 | K16: 0 | L16: 0
A17: Q5D1E8.1 | B17: ZC3H12A | C17: Hydrolases | D17: 1 | E17: 1 | F17: 1 | G17: 1 | H17: 0 | I17: 1 | J17: 0 | K17: 1 | L17: 0
A18: Q06124.2 | B18: PTPN11 | C18: Hydrolases | D18: 1 | E18: 1 | F18: 1 | G18: 1 | H18: 0 | I18: 1 | J18: 0 | K18: 1 | L18: 0
A19: Q5FYB0.1 | B19: ARSJ | C19: Ligases | D19: 1 | E19: 0 | F19: 0 | G19: 0 | H19: 1 | I19: 1 | J19: 0 | K19: 0 | L19: 0
A20: Q8NHP8.2 | B20: PLBD2 | C20: Hydrolases | D20: 1 | E20: 1 | F20: 1 | G20: 1 | H20: 1 | I20: 1 | J20: 0 | K20: 0 | L20: 0
A21: P30305.2 | B21: CDC25B | C21: Hydrolases | D21: 1 | E21: 1 | F21: 1 | G21: 1 | H21: 0 | I21: 1 | J21: 0 | K21: 1 | L21: 0
A22: Q96JP5.1 | B22: ZFP91 | C22: Ligases | D22: 1 | E22: 0 | F22: 1 | G22: 0 | H22: 0 | I22: 1 | J22: 0 | K22: 1 | L22: 0
A23: Q68CK6.2 | B23: ACSM2B | C23: Ligases | D23: 1 | E23: 0 | F23: 0 | G23: 0 | H23: 1 | I23: 1 | J23: 0 | K23: 0 | L23: 0
A24: O60942.1 | B24: RNGTT | C24: Hydrolases | D24: 1 | E24: 1 | F24: 1 | G24: 1 | H24: 1 | I24: 1 | J24: 0 | K24: 1 | L24: 0
A25: P08243.4 | B25: ASNS | C25: Ligases | D25: 1 | E25: 0 | F25: 1 | G25: 0 | H25: 0 | I25: 1 | J25: 0 | K25: 0 | L25: 0
A26: Q7RTZ1.2 | B26: OVCH2 | C26: Ligases | D26: 1 | E26: 0 | F26: 0 | G26: 0 | H26: 1 | I26: 1 | J26: 0 | K26: 0 | L26: 0
A27: Q6UWW8.1 | B27: CES3 | C27: Ligases | D27: 1 | E27: 0 | F27: 1 | G27: 0 | H27: 1 | I27: 1 | J27: 0 | K27: 0 | L27: 0
A28: Q5T160.1 | B28: RARS2 | C28: Ligases | D28: 1 | E28: 0 | F28: 1 | G28: 0 | H28: 1 | I28: 1 | J28: 0 | K28: 0 | L28: 0
A29: P34913.2 | B29: EPHX2 | C29: Ligases | D29: 1 | E29: 0 | F29: 1 | G29: 0 | H29: 1 | I29: 1 | J29: 0 | K29: 1 | L29: 0
A30: Q9H4L4.2 | B30: SENP3 | C30: Ligases | D30: 1 | E30: 0 | F30: 1 | G30: 0 | H30: 0 | I30: 1 | J30: 0 | K30: 0 | L30: 0
A31: O14773.2 | B31: TPP1 | C31: Ligases | D31: 1 | E31: 0 | F31: 1 | G31: 0 | H31: 1 | I31: 1 | J31: 0 | K31: 1 | L31: 0
A32: Q2T9J0.3 | B32: TYSND1 | C32: Hydrolases | D32: 1 | E32: 1 | F32: 1 | G32: 1 | H32: 1 | I32: 1 | J32: 0 | K32: 0 | L32: 0
A33: Q6NUN0.2 | B33: ACSM5 | C33: Ligases | D33: 1 | E33: 0 | F33: 0 | G33: 0 | H33: 1 | I33: 1 | J33: 0 | K33: 0 | L33: 0
A34: P29350.1 | B34: PTPN6 | C34: Hydrolases | D34: 1 | E34: 1 | F34: 1 | G34: 1 | H34: 0 | I34: 1 | J34: 0 | K34: 1 | L34: 0
A35: Q9Y4X5.2 | B35: ARIH1 | C35: Ligases | D35: 1 | E35: 0 | F35: 1 | G35: 0 | H35: 0 | I35: 1 | J35: 0 | K35: 1 | L35: 0
A36: Q6P4A8.2 | B36: PLBD1 | C36: Ligases | D36: 1 | E36: 0 | F36: 0 | G36: 0 | H36: 1 | I36: 1 | J36: 0 | K36: 0 | L36: 0
A37: Q6P4A8.2 | B37: PLBD1 | C37: Hydrolases | D37: 1 | E37: 1 | F37: 0 | G37: 1 | H37: 1 | I37: 1 | J37: 0 | K37: 0 | L37: 0
A38: P43378.1 | B38: PTPN9 | C38: Hydrolases | D38: 1 | E38: 1 | F38: 1 | G38: 1 | H38: 0 | I38: 1 | J38: 0 | K38: 1 | L38: 0
A39: Q8NHQ9.3 | B39: DDX55 | C39: Ligases | D39: 1 | E39: 0 | F39: 1 | G39: 0 | H39: 0 | I39: 1 | J39: 0 | K39: 0 | L39: 0
A40: Q96AY3.1 | B40: FKBP10 | C40: Isomerases | D40: 1 | E40: 0 | F40: 1 | G40: 0 | H40: 0 | I40: 1 | J40: 0 | K40: 0 | L40: 0
...

Sheet Positive
B1: Query | D1: Classification 1 | H1: Classification 2 | J1: Classification 3 | P1: Midieval score | Q1: Classification 4 | S1: Classification 5 | X1: Classification 6 | AA1: Midieval score | AB1: Classification 7 | AE1: Classification 8 | AL1: Classification 9 | AP1: Medieval score | AQ1: Total Reliability Score
A2: S.No | C2: Putative Gene | D2: Protein family scores | H2: Orthology | J2: Protein Interaction/association studies | P2: 1+2+3 | Q2: Bidirectional best blast hits (BBH) | S2: Sorting signals | X2: From known databases and visualizers | AA2: 4+5+6 | AB2: HPs linked to Pseudogenes | AE2: Homology Modeling | AJ2: Non-Coding RNAs linked to HP | AL2: HPs linked to Non-coding RNAs | AP2: 7+8+9
B3: Accession | D3: Identity | E3: Domain/Family | F3: E value | G3: Score | H3: Accession | I3: Score | J3: Genemania | K3: BioGrid | L3: Method | M3: STRING | N3: Method | O3: Score | Q3: Accession | R3: Score | S3: TargetP | T3: WolfPsort | U3: EslPred (Accuracy) | V3: Consensus | X3: Gene | Y3: Genecards similarity/Score | Z3: Score | AB3: tBLASTn | AC3: E Value | AD3: Score | AE3: PDB Template | AF3: Template Description | AG3: Identity % | AH3: Stoichiometry | AI3: Score | AJ3: Accession No | AK3: Results (Noncode) | AL3: E value | AM3: LncRNA | AN3: E-Value | AO3: Score
A4: 1 | B4: NP_009107.1 | C4: C14orf1 | D4: PF03694.6 | E4: Erg28 | F4: 3.2e-39 | G4: 1 | H4: XP_011836958.1 | I4: 1 | J4: CCL18 | K4: TK1 | L4: Two-hybrid | M4: HSD17B7,LSS, FDFT1 | O4: 0 | P4: 2 | Q4: NP_009107.1 | R4: 1 | S4: SP | T4: PM | U4: Extracerllular (53) | V4: PM | Z4: 0 | AA4: 2 | AD4: 0 | AE4: 3olp.1.A | AF4: Phosphoglucomutase | AG4: 28.57 | AH4: MONOMER | AI4: 0 | AJ4: NM_007176.3 | AK4: NONHSAT169506.1 | AL4: 0 | AO4: 1 | AP4: 1 | AQ4: 5
A6: 2 | B6: CAC82738.1 | D6: PF01370.14 | E6: Epimerase | F6: 4.2e-12 | G6: 1 | H6: Q8IZJ6.1 | I6: 1 | O6: 0 | P6: 2 | Q6: CAC82738.1 | R6: 1 | S6: Other | T6: Cyto | U6: Extracellular (53) | V6: Cytoplasm | X6: GCAT | Z6: 0 | AA6: 2 | AD6: 0 | AE6: 3a1n.1.A | AF6: NDP-sugar epimerase | AG6: 36.47 | AH6: Homo-dimer | AI6: 1 | AJ6: AJ301562.1 | AK6: NONHSAT215424.1 | AL6: 2e-19 | AM6: Lnc-C8orf12-1:1 | AN6: 0 | AO6: 1 | AP6: 2 | AQ6: 6
A8: 3 | B8: AF527534_1 | D8: PF15811.3 | E8: 1.8e-24 | G8: 0 | I8: 0 | M8: VCP, NPLOC4 | N8: Anti tag CI | O8: 0 | P8: 1 | R8: 0 | S8: Other | T8: Mito | U8: Cytoplasmic (53) | Z8: 0 | AA8: 0 | AD8: 0 | AE8: 2l7a.1.A | AF8: Talin-1 | AG8: 26.92 | AH8: MONOMER | AI8: 0 | AJ8: AF527534.1 | AK8: NONHSAT160155.1 | AL8: 0 | AM8: NONHSAT018402 | AN8: 0 | AO8: 1 | AP8: 1 | AQ8: 2
AM9: NONHSAT018403 | AN9: 0
A11: 4 | B11: AAP97303 | C11: DDI1 | D11: PF00240.21 | E11: ubiquitin | F11: 1.9e-09 | G11: 1 | H11: NP_001001711.1 | I11: 1 | J11: CCL28, RAD23A, RAD23B | K11: CCL28 | L11: Two hybrid | M11: RAD23A, PSMD4, PSMD2,CCL28 | N11: Anti tag CI | O11: 1 | P11: 3 | Q11: AAP97303.1 | R11: 1 | S11: Other | T11: CSK | U11: Cytoplasm (75) | V11: Cytoplasm | X11: DDI2 | Y11: 88 | Z11: 1 | AA11: 3 | AD11: 0 | AE11: 3s8i.1.A | AF11: Protein DDI1 homolog 1 | AG11: 100.00 | AH11: MONOMER | AI11: 1 | AJ11: AF429971.1 | AK11: NONHSAT077386.2 | AL11: 1.2 | AO11: 0 | AP11: 1 | AQ11: 7
D12: PF09668.8 | E12: Asp_protease | F12: 4.3e-61
A14: 5 | B14: NP_060440.2 | C14: NRDE2 | D14: PF08424.8 | E14: NRDE-2 | F14: 2.9e-105 | G14: 1 | H14: AAH98568.1 | I14: 1 | J14: UBC | K14: RNPS1, EED,RPS10,SIDT2 | L14: Anti capture-MS | M14: UBC | N14: Affinity capture-MS | O14: 1 | P14: 3 | Q14: NP_060440.2 | R14: 1 | S14: Other | T14: Nucleus | U14: Nuclear (53) | V14: Nucleus | Z14: 0 | AA14: 2 | AB14: BC118673.1 | AC14: 0 | AD14: 1 | AE14: 4e85.1.A | AF14: mRNA 3'-end-processing protein | AG14: 11.18 | AH14: MONOMER | AI14: 0 | AJ14: NM_017970.3 | AK14: NONHSAT168785.1 | AL14: e-102 | AM14: NONHSAT039214 | AN14: 9.57623e-122 | AO14: 1 | AP14: 2 | AQ14: 7
A18: 6 | B18: NP_060541.3 | C18: ARHGEF40 | D18: PF00621.18 | E18: RhoGEF | F18: 6e-08 | G18: 1 | H18: EAW66410.1 | I18: 1 | J18: MYCBP, STC2, TAC1 | K18: MYCBP, STC2 | L18: Two hybrid | M18: UBC, MAPT | N18: Affinity capture- western assay | O18: 1 | P18: 3 | Q18: NP_060541.3 | R18: 1 | S18: Other | T18: Nucleus | U18: Cytoplasm (75) | Z18: 0 | AA18: 1 | AD18: 0 | AE18: 2rgn.1.B | AF18: RhoA/RAC/CDC42 exchange factor | AG18: 27.70 | AH18: MONOMER | AI18: 0 | AJ18: NM_018071.4 | AK18: NONHSAT192847.1 | AL18: 1e-24 | AM18: NONHSAT035649 | AN18: 0 | AO18: 1 | AP18: 1 | AQ18: 5
M19: SPERT | AM19: NONHSAT035648 | AN19: 0 | AO19: 1
A21: 7 | B21: NP_057673.2 | C21: TIMMDC1 | D21: PF02466.17 | E21: Tim17 | F21: 9.6e-15 | G21: 1 | H21: AAG43510.1 | I21: 1 | J21: HGS, ABCD3 | K21: NDUFAF1 | L21: Affinity capturre-MS | M21: HGS, , UBC | N21: Affinity capture western assay | O21: 1 | P21: 3 | Q21: NP_057673.2 | R21: 1 | S21: SP | T21: Extra | U21: Mito (53) | Z21: 0 | AA21: 1 | AB21: AL390094.1 | AC21: 2e-147 | AD21: 0 | AE21: 3rlb.1.A | AF21: ThiT | AG21: 14.29 | AH21: MONOMER | AI21: 0 | AJ21: NM_016589.3 | AK21: NONHSAT175131.1 | AL21: 0.22 | AM21: NONHSAT091392 | AN21: 3.07749e-83 | AO21: 0 | AP21: 0 | AQ21: 4
K22: ABCD3 | L22: Co-fractionation | M22: ABCD3 | N22: Affinity capture- MS assay
A25: 8 | B25: BAE46899.1 | C25: DYNC2H1 | G25: 0 | H25: EHH23376.1 | I25: 1 | J25: DYNC2LI1 | K25: DYNC2LI1 | L25: Affinity capture-MS | M25: DYNC2LI1 | N25: Pull down assay | O25: 1 | P25: 2 | Q25: XP_015291129.1 | R25: 0 | S25: Other | U25: Cytoplasm (75) | V25: Cytoplasm | X25: DNAH5 | Y25: 82 | Z25: 1 | AA25: 2 | AD25: 0 | AE25: 4rh7.1.A | AF25: fluorescent protein/Cytoplasmic dy | AG25: 98.94 | AH25: Monomer | AI25: 1 | AJ25: AB231765.1 | AK25: NONHSAT098639.2 | AL25: 2.2 | AO25: 0 | AP25: 1 | AQ25: 5
AO26: 0
A28: 9 | B28: NP_116207.2 | C28: ARHGEF39 | D28: PF00621.18 | E28: RhoGEF | F28: 1.7e-29 | G28: 1 | H28: XP_003829881.1 | I28: 1 | J28: RBPMS, DVL2 | K28: TIFA, CALCOCO2 | L28: Affinity cxapture-MS | M28: UBC, TIFA | N28: Affinity capture-MS assay | O28: 1 | P28: 3 | Q28: NP_116207.2 | R28: 1 | S28: Mito | T28: Cytoplasm | U28: Extracellular (53) | Z28: 0 | AA28: 1 | AD28: 0 | AE28: 4yon.1.A | AF28: hatidylinositol 3,4,5-trisphosphate -dependent Rac exchanger 1 protein | AG28: 21.00 | AH28: Monomer | AI28: 0 | AJ28: NM_032818.2 | AK28: NONHSAT219450.1 | AL28: 0 | AM28: NONHSAT130963 | AN28: 1.96412e-108 | AO28: 1 | AP28: 1 | AQ28: 5
K29: CACNG5, RBPMS, DVL2 | L29: Two-hybrid | AO29: 1
A31: 10 | B31: EAW66951.1 | C31: HSPC148 | D31: PF04889.10 | E31: Cwf_Cwc_15 | F31: 3.5e-44 | G31: 1 | H31: XP_007446596.1 | I31: 1 | J31: CTNNBL1, MAGOH, | K31: CTNNBL1, CDC5L, MAGOH | L31: Affinity capture-MS | O31: 1 | P31: 3 | Q31: NP_001039864.1 | R31: 0 | S31: Other | T31: Nuclear | U31: Nuclear (75) | V31: Nucleus | Z31: 0 | AA31: 1 | AD31: 0 | AE31: 1l4a.1.E | AF31: SYNAPHIN A | AG31: 26.09 | AH31: MONOMER | AI31: 0 | AJ31: CH471065.1 | AO31: 0 | AP31: 0 | AQ31: 4
A36: 11 | B36: EAW72391.1 | D36: PF00096.24 | E36: zf-C2H2 | F36: 7.1e-06 | G36: 1 | H36: XP_016792389.1 | I36: 1 | M36: NRL, FLT3 | N36: Two hybrid | O36: 0 | P36: 2 | Q36: EAW72391.1 | R36: 1 | S36: Other | U36: Nuclear (97) | V36: Nucleus | Z36: 0 | AA36: 2 | AB36: BC136512.1 | AC36: 2e-112 | AD36: 1 | AE36: 1tf6.1.C | AF36: PROTEIN TRANSCRIPTION FACTOR II | AG36: IA) 25.73 | AH36: MONOMER | AI36: 0 | AJ36: CH471135.1 | AO36: 0 | AP36: 1 | AQ36: 5
AB37: NM_032836.2 | AC37: 2e-111
A41: 12 | B41: EAW74482.1 | C41: MGC11102 | G41: 0 | H41: NP_115701.2 | I41: 1 | J41: STAT1 | K41: STAT1 | L41: Two hybrid | M41: STAT1, GAPDH | N41: Anti-tag CI assay | O41: 1 | P41: 2 | Q41: EHH56067.1 | R41: 0 | S41: Other | T41: Nucleus | U41: Nuclear (95) | V41: Nucleus | Z41: 0 | AA41: 1 | AD41: 0 | AE41: 2dgy.1.A | AF41: MGC11102 protei | AG41: 98.98 | AH41: MONOMER | AI41: 1 | AJ41: CH471076.1 | AO41: 0 | AP41: 1 | AQ41: 4
A44: 13 | B44: EAW84367.1 | G44: 0 | H44: NP_110445.1 | I44: 1 | M44: BUD31, NAA25 | O44: 0 | P44: 1 | Q44: BAG53603.1 | R44: 0 | S44: Other | T44: Nucleus | U44: Cytoplasm (53) | Z44: 0 | AA44: 0 | AB44: NM_001320569.1 | AC44: 0 | AD44: 1 | AE44: 4aj5.1.S | AF44: NDLE AND KINETOCHORE-ASSOCIATED PROTEIN ate isomerase | AG44: 17.50 | AH44: Monomer | AI44: 0 | AJ44: CH471106.1 | AO44: 0 | AP44: 1 | AQ44: 2
A47: 14 | B47: EAW84369.1 | D47: PF01008.15 | E47: IF-2B | F47: 4.4e-13 | G47: 1 | H47: XP_011526659.1 | I47: 1 | M47: KCTD3, LRRC40 | N47: CI | O47: 0 | P47: 2 | Q47: EAW84369.1 | R47: 1 | S47: Other | T47: Mito | U47: Mito (75) | V47: Mito | Z47: 0 | AA47: 2 | AD47: 0 | AE47: 4ldr.1.B | AF47: Methylthioribose-1-phosphate isomerase | AG47: 90.87 | AH47: MONOMER | AI47: 1 | AJ47: CH471106.1 | AO47: 0 | AP47: 1 | AQ47: 5
A50: 15 | B50: NP_775934.3 | C50: FAM153A | D50: PF15722.3 | E50: FAM153 | F50: 1.3e-23 | G50: 0 | H50: XP_016864852.1 | I50: 1 | J50: PLOD3, TEX37, FAM153B | K50: PLOD3 | L50: Two hybrid | M50: PLOD3, | N50: Two hybrid | O50: 1 | P50: 2 | Q50: XP_016864854.1 | R50: 0 | S50: Other | T50: Nucleus | U50: Nuclear (94) | V50: Nucleus | X50: FAM153C | Y50: 94 | Z50: 1 | AA50: 2 | AB50: NM_173663.3 | AC50: 0 | AD50: 1 | AE50: 3wz3.1 | AF50: .A TraM pro | AG50: 17.86 | AH50: MONOMER | AI50: 0 | AJ50: NM_173663.3 | AK50: NONHSAT142022.2 | AL50: 4e-49 | AM50: NONHSAT105294 | AN50: 1.20594e-107 | AO50: 1 | AP50: 3, | AQ50: 7
E51: FAM153 | F51: 7.7e-12 | K51: FAM153B | L51: Affinity capture- MS | X51: FAM153B | Y51: 88
E52: FAM153 | F52: 3.1e-30
E53: FAM153 | F53: 5.4e-41
A54: 16 | B54: NP_060290.3 | C54: EXD3 | D54: PF01612.18 | E54: DNA_pol_A_exo1 | F54: 2.7e-21 | G54: 1 | H54: EAW88383.1 | I54: 1 | J54: DAZAP2 | K54: DAZAP2, PLSCR1, | L54: Two hybrid | M54: EIF2C4, EIF2C1 | N54: CI | O54: 0 | P54: 2 | Q54: NP_060290.3 | R54: 1 | S54: Other | T54: Cyto-nuc | U54: Mito (53) | Z54: 0 | AA54: 1 | AB54: HM005438.1 | AC54: 0 | AD54: 1 | AE54: 4oo1.1.J | AF54: Exosome complex exon | AG54: 18.72 | AH54: MONOMER | AI54: 0 | AJ54: NM_017820.4 | AK54: NONHSAT221517.1 | AL54: 5e-53 | AM54: NONHSAT135723 | AN54: 0 | AO54: 1 | AP54: 2 | AQ54: 5
D55: PF01927.14 | E55: Mut7-C | F55: 1.1e-15 | K55: CUL1 | L55: Affinity capture- MS | AB55: NM_017820.4 | AC55: 0 | AK55: NONHSAT221518.1 | AL55: 3e-51 | AM55: NONHSAT135722 | AN55: 0 | AO55: 1
A57: 17 | B57: AAB51172.1 | C57: DNASE2 | G57: 0 | H57: NP_001366.1 | I57: 1 | J57: DNAJB11, OPA1 | K57: DNAJB11, OPA1 | L57: Co-Fractionation | M57: RRM1, DNAJB11, RUVBL2 | N57: Affinity chromatography | O57: 1 | P57: 2 | Q57: AAP36182.1 | R57: 0 | S57: SP | T57: Extracellular | U57: Extracellular ( 75) | V57: Extracellular | Z57: 0 | AA57: 1 | AB57: FJ752529.1 | AC57: 0 | AD57: 1 | AE57: 4osx.1.A | AF57: Isoaspartyl pepti | AG57: 12.00 | AH57: Monomer | AI57: 0 | AJ57: AD000092.1 | AO57: 0 | AP57: 1 | AQ57: 4
K58: RUVBL2 | L58: Affinity capture- MS | M58: OPA1 | N58: Anti bait CI
A60: 18 | B60: CAE45808.1 | C60: PAMR1 | D60: PF00431.18 | E60: CUB | F60: 3.9e-23 | G60: 1 | H60: CAI46203.1 | I60: 1 | J60: TRH | M60: SLC1A2 | O60: 0 | P60: 2 | Q60: CAE45808.1 | R60: 1 | S60: SP | T60: Extra | U60: Extracellular (97) | V60: Extracellular | X60: MASP1 | Y60: 77 | Z60: 1 | AA60: 3 | AB60: NM_001282675.1 | AC60: 0 | AD60: 1 | AE60: 4kkd.2.A | AF60: Mannan-binding lectin serine protease 1 | AG60: 25.78 | AH60: Monomer | AI60: 0 | AJ60: BX640676.1 | AK60: NONHSAT170697.1 | AL60: 0.43 | AM60: NONHSAT018792 | AN60: 0 | AO60: 1 | AP60: 2 | AQ60: 7
D61: PF00008.25 | E61: EGF | F61: 1.1e-07 | H61: NP_001001991.1 | X61: EGF | Y61: 69 | AB61: XM_004050947.1 | AC61: 0
D62: PF00089.24 | E62: Trypsin | F62: 1.5e-38
A63: 19 | B63: CAB66613.1 | C63: DEPTOR | D63: PF00610.19 | E63: DEP | F63: 4e-25 | G63: 1 | H63: AAH24746.1 | I63: 1 | J63: CHKA | K63: APP | L63: Affinity Capture-MS | M63: MTOR | N63: CI | O63: 0 | P63: 2 | Q63: CAB66613.1 | R63: 1 | S63: Other | T63: Nucleus | U63: Cytoplasmic (53) | X63: CGEF2 | Z63: 0 | AA63: 2 | AB63: AL136678.1 | AC63: 0 | AD63: 1 | AE63: 1q3o.1.B | AF63: Shank1 | AG63: 40.24 | AH63: Monomer | AI63: 1 | AJ63: AL136678.1 | AK63: NONHSAT128442.2 | AL63: e-135 | AM63: Lnc-DEPTOR-1:1 | AN63: 6.65217e-126 | AO63: 1 | AP63: 3 | AQ63: 7
D64: PF00610.19 | E64: DEP | F64: 3.9e-19 | H64: NP_073620.2 | J64: MLST8 | K64: BTRC | L64: AFFINITY CAPTUYRE-MS | M64: RPTOR | AB64: BC024746.1 | AC64: 0 | AK64: NONHSAT128443.2 | AL64: e-135 | AM64: ENST00000500705.3 | AN64: 6.65217e-126
J65: MTOR
A66: 20 | B66: CAB56014.2 | C66: EGFL6 | D66: PF07645.13 | E66: EGF_CA | F66: 4.8e-07 | G66: 1 | H66: NP_056322.2 | I66: 1 | J66: SH3GL2 | K66: SH3GL2 | L66: TWO HYBRID | M66: PTTG1 | O66: 0 | P66: 2 | Q66: BAC11477.1 | R66: 0 | S66: SP | T66: Extra | U66: Extracllular (94) | V66: Extracellular | X66: NPNT | Y66: 65 | Z66: 1 | AA66: 2 | AB66: AK315018.1 | AC66: 0 | AD66: 1 | AE66: 4xbm.2.A | AF66: Delta-like protein 1 | AG66: 31.98 | AH66: Monomer | AI66: 1 | AJ66: AL117610.1 | AK66: NONHSAT060798.2 | AL66: 0.075 | AM66: NONHSAT136312 | AN66: 1.59374e-47 | AO66: 1 | AP66: 3 | AQ66: 7
D67: PF07645.13 | E67: EGF_CA | F67: 5.9e-10 | H67: BAC11477.1 | J67: SH3GL3 | K67: LRP2 | L67: AFFINITY CAPTURE-MS | AB67: AK075214.1 | AC67: 0
...

Sheet two-tail t-test
A4: t-test
A5: Alpha | B5: 0.05
A6: Hypothesized Mean Difference | B6: 0
B7: Variable 1 | C7: Variable 2
A8: Mean | B8: =AVERAGE('plus 29 nov'!$H$1:$H$107) -> 0.47169811 | C8: =AVERAGE('minus 29 nov'!$B$1:$B$195) -> 1
A9: Variance | B9: =VAR('plus 29 nov'!$H$1:$H$107) -> 0.25157233 | C9: =VAR('minus 29 nov'!$B$1:$B$195) -> 0
A10: Observations | B10: =COUNT('plus 29 nov'!$H$1:$H$107) -> 106 | C10: =COUNT('minus 29 nov'!$B$1:$B$195) -> 194
A11: Pearson Correlation | B11: =CORREL('plus 29 nov'!$H$1:$H$107,'minus 29 nov'!$B$1:$B$195) -> #VALUE!
A12: Observed Mean Difference | B12: {=AVERAGE(IF(ISODD(IF(ISNUMBER('plus 29 nov'!$H$1:$H$107), 1, 0) * IF(ISNUMBER('minus 29 nov'!$B$1:$B$195), 1, 0)), 'plus 29 nov'!$H$1:$H$107 - 'minus 29 nov'!$B$1:$B$195, "NA"))} -> -0.52830189
A13: Variance of the Differences | B13: {=VAR(IF(ISODD(IF(ISNUMBER('plus 29 nov'!$H$1:$H$107), 1, 0) * IF(ISNUMBER('minus 29 nov'!$B$1:$B$195), 1, 0)), 'plus 29 nov'!$H$1:$H$107 - 'minus 29 nov'!$B$1:$B$195, "NA"))} -> 0.25157233
A14: df | B14: {=SUM(IF(ISNUMBER('plus 29 nov'!$H$1:$H$107), 1, 0) * IF(ISNUMBER('minus 29 nov'!$B$1:$B$195), 1, 0)) - 1} -> 105
A15: t Stat | B15: =('two-tail t-test'!$B$12 - 'two-tail t-test'!$B$6) / ('two-tail t-test'!$B$13 / ( 'two-tail t-test'!$B$14 + 1)) ^ 0.5 -> -10.844353
A16: P (T<=t) one-tail | B16: =TDIST(ABS('two-tail t-test'!$B$15), 'two-tail t-test'!$B$14, 1) -> 3.9053039e-19
A17: t Critical one-tail | B17: =TINV(2*'two-tail t-test'!$B$5, 'two-tail t-test'!$B$14) -> 1.6594954
A18: P (T<=t) two-tail | B18: =TDIST(ABS('two-tail t-test'!$B$15), 'two-tail t-test'!$B$14, 2) -> 7.8106077e-19
A19: t Critical two-tail | B19: =TINV('two-tail t-test'!$B$5, 'two-tail t-test'!$B$14) -> 1.9828153
