Workbook
Name entry_tag_0_11: #REF!

Sheet minus 29 nov
A1: S.No | B1: Classification 1 | C1: Classification 2 | D1: Classification 3 | E1: Classification 4 | F1: Classification 5 | G1: Classification 6 | H1: Classification 7 | I1: Classification 8 | J1: Classification 9 | K1: Hypo | M1: S.No.
A2: 1 | B2: 1 | C2: 0 | D2: 1 | E2: 0 | F2: 1 | G2: 1 | H2: 0 | I2: 1 | J2: 0 | K2: 0 | M2: 1 | O2: ANOVA - Single Factor
A3: 2 | B3: 1 | C3: 0 | D3: 1 | E3: 0 | F3: 0 | G3: 1 | H3: 0 | I3: 0 | J3: 0 | K3: 0 | M3: 2 | O3: Alpha | P3: 0.05
A4: 3 | B4: 1 | C4: 1 | D4: 1 | E4: 1 | F4: 1 | G4: 1 | H4: 0 | I4: 1 | J4: 0 | K4: 0 | M4: 3
A5: 4 | B5: 1 | C5: 0 | D5: 0 | E5: 0 | F5: 1 | G5: 1 | H5: 0 | I5: 0 | J5: 0 | K5: 0 | M5: 4 | O5: Groups | P5: Count | Q5: Sum | R5: Mean | S5: Variance
A6: 5 | B6: 1 | C6: 1 | D6: 1 | E6: 1 | F6: 1 | G6: 1 | H6: 0 | I6: 0 | J6: 0 | K6: 0 | M6: 5 | O6: Column 1 | P6: =COUNT('minus 29 nov'!$A$2:$A$195) -> 194 | Q6: =SUM('minus 29 nov'!$A$2:$A$195) -> 18915 | R6: =AVERAGE('minus 29 nov'!$A$2:$A$195) -> 97.5 | S6: =VAR('minus 29 nov'!$A$2:$A$195) -> 3152.5
A7: 6 | B7: 1 | C7: 1 | D7: 1 | E7: 1 | F7: 1 | G7: 1 | H7: 0 | I7: 1 | J7: 0 | K7: 0 | M7: 6 | O7: Column 2 | P7: =COUNT('minus 29 nov'!$B$2:$B$195) -> 194 | Q7: =SUM('minus 29 nov'!$B$2:$B$195) -> 194 | R7: =AVERAGE('minus 29 nov'!$B$2:$B$195) -> 1 | S7: =VAR('minus 29 nov'!$B$2:$B$195) -> 0
A8: 7 | B8: 1 | C8: 1 | D8: 1 | E8: 1 | F8: 1 | G8: 1 | H8: 0 | I8: 0 | J8: 0 | K8: 0 | M8: 7 | O8: Column 3 | P8: =COUNT('minus 29 nov'!$C$2:$C$195) -> 194 | Q8: =SUM('minus 29 nov'!$C$2:$C$195) -> 77 | R8: =AVERAGE('minus 29 nov'!$C$2:$C$195) -> 0.39690722 | S8: =VAR('minus 29 nov'!$C$2:$C$195) -> 0.24061215
A9: 8 | B9: 1 | C9: 1 | D9: 0 | E9: 1 | F9: 1 | G9: 1 | H9: 0 | I9: 0 | J9: 0 | K9: 0 | M9: 8 | O9: Column 4 | P9: =COUNT('minus 29 nov'!$D$2:$D$195) -> 194 | Q9: =SUM('minus 29 nov'!$D$2:$D$195) -> 146 | R9: =AVERAGE('minus 29 nov'!$D$2:$D$195) -> 0.75257732 | S9: =VAR('minus 29 nov'!$D$2:$D$195) -> 0.18716949
A10: 9 | B10: 1 | C10: 0 | D10: 1 | E10: 0 | F10: 0 | G10: 1 | H10: 0 | I10: 0 | J10: 0 | K10: 0 | M10: 9 | O10: Column 5 | P10: =COUNT('minus 29 nov'!$E$2:$E$195) -> 194 | Q10: =SUM('minus 29 nov'!$E$2:$E$195) -> 78 | R10: =AVERAGE('minus 29 nov'!$E$2:$E$195) -> 0.40206186 | S10: =VAR('minus 29 nov'!$E$2:$E$195) -> 0.24165376
A11: 10 | B11: 1 | C11: 0 | D11: 1 | E11: 0 | F11: 0 | G11: 1 | H11: 0 | I11: 0 | J11: 0 | K11: 0 | M11: 10 | O11: Column 6 | P11: =COUNT('minus 29 nov'!$F$2:$F$195) -> 194 | Q11: =SUM('minus 29 nov'!$F$2:$F$195) -> 103 | R11: =AVERAGE('minus 29 nov'!$F$2:$F$195) -> 0.53092784 | S11: =VAR('minus 29 nov'!$F$2:$F$195) -> 0.25033385
A12: 11 | B12: 1 | C12: 0 | D12: 1 | E12: 0 | F12: 0 | G12: 1 | H12: 0 | I12: 1 | J12: 0 | K12: 0 | M12: 11 | O12: Column 7 | P12: =COUNT('minus 29 nov'!$G$2:$G$195) -> 194 | Q12: =SUM('minus 29 nov'!$G$2:$G$195) -> 194 | R12: =AVERAGE('minus 29 nov'!$G$2:$G$195) -> 1 | S12: =VAR('minus 29 nov'!$G$2:$G$195) -> 0
A13: 12 | B13: 1 | C13: 0 | D13: 1 | E13: 0 | F13: 0 | G13: 1 | H13: 0 | I13: 1 | J13: 0 | K13: 0 | M13: 12 | O13: Column 8 | P13: =COUNT('minus 29 nov'!$H$2:$H$195) -> 194 | Q13: =SUM('minus 29 nov'!$H$2:$H$195) -> 0 | R13: =AVERAGE('minus 29 nov'!$H$2:$H$195) -> 0 | S13: =VAR('minus 29 nov'!$H$2:$H$195) -> 0
A14: 13 | B14: 1 | C14: 1 | D14: 1 | E14: 1 | F14: 1 | G14: 1 | H14: 0 | I14: 1 | J14: 0 | K14: 0 | M14: 13 | O14: Column 9 | P14: =COUNT('minus 29 nov'!$I$2:$I$195) -> 194 | Q14: =SUM('minus 29 nov'!$I$2:$I$195) -> 78 | R14: =AVERAGE('minus 29 nov'!$I$2:$I$195) -> 0.40206186 | S14: =VAR('minus 29 nov'!$I$2:$I$195) -> 0.24165376
A15: 14 | B15: 1 | C15: 0 | D15: 1 | E15: 0 | F15: 1 | G15: 1 | H15: 0 | I15: 0 | J15: 0 | K15: 0 | M15: 14 | O15: Column 10 | P15: =COUNT('minus 29 nov'!$J$2:$J$195) -> 194 | Q15: =SUM('minus 29 nov'!$J$2:$J$195) -> 0 | R15: =AVERAGE('minus 29 nov'!$J$2:$J$195) -> 0 | S15: =VAR('minus 29 nov'!$J$2:$J$195) -> 0
A16: 15 | B16: 1 | C16: 1 | D16: 0 | E16: 1 | F16: 1 | G16: 1 | H16: 0 | I16: 0 | J16: 0 | K16: 0 | M16: 15
A17: 16 | B17: 1 | C17: 1 | D17: 1 | E17: 1 | F17: 0 | G17: 1 | H17: 0 | I17: 1 | J17: 0 | K17: 0 | M17: 16 | O17: Source of Variation | P17: SS | Q17: df | R17: MS | S17: F | T17: P-value | U17: F critical
A18: 17 | B18: 1 | C18: 1 | D18: 1 | E18: 1 | F18: 0 | G18: 1 | H18: 0 | I18: 1 | J18: 0 | K18: 0 | M18: 17 | O18: Between Groups | P18: =SUMPRODUCT('minus 29 nov'!$Q$6:$Q$15,'minus 29 nov'!$R$6:$R$15)-SUM('minus 29 nov'!$Q$6:$Q$15)^2/SUM('minus 29 nov'!$P$6:$P$15) -> 1643081.9 | Q18: =COUNT('minus 29 nov'!$Q$6:$Q$15)-1 -> 9 | R18: ='minus 29 nov'!$P$18/'minus 29 nov'!$Q$18 -> 182564.66 | S18: ='minus 29 nov'!$R$18/'minus 29 nov'!$R$19 -> 578.89746 | T18: =FDIST('minus 29 nov'!$S$18,'minus 29 nov'!$Q$18,'minus 29 nov'!$Q$19) -> 0 | U18: =FINV('minus 29 nov'!$P$3,'minus 29 nov'!$Q$18,'minus 29 nov'!$Q$19) -> 1.8847216
A19: 18 | B19: 1 | C19: 0 | D19: 0 | E19: 0 | F19: 1 | G19: 1 | H19: 0 | I19: 0 | J19: 0 | K19: 0 | M19: 18 | O19: Within Groups | P19: =SUM(DEVSQ($A$2:$A$195),DEVSQ($B$2:$B$195),DEVSQ($C$2:$C$195),DEVSQ($D$2:$D$195),DEVSQ($E$2:$E$195),DEVSQ($F$2:$F$195),DEVSQ($G$2:$G$195),DEVSQ($H$2:$H$195),DEVSQ($I$2:$I$195),DEVSQ($J$2:$J$195)) -> 608656.65 | Q19: =SUM('minus 29 nov'!$P$6:$P$15)-COUNT('minus 29 nov'!$P$6:$P$15) -> 1930 | R19: ='minus 29 nov'!$P$19/'minus 29 nov'!$Q$19 -> 315.36614
A20: 19 | B20: 1 | C20: 1 | D20: 1 | E20: 1 | F20: 1 | G20: 1 | H20: 0 | I20: 0 | J20: 0 | K20: 0 | M20: 19 | O20: Total | Q20: =SUM('minus 29 nov'!$P$6:$P$15)-1 -> 1939
A21: 20 | B21: 1 | C21: 1 | D21: 1 | E21: 1 | F21: 0 | G21: 1 | H21: 0 | I21: 1 | J21: 0 | K21: 0 | M21: 20
A22: 21 | B22: 1 | C22: 0 | D22: 1 | E22: 0 | F22: 0 | G22: 1 | H22: 0 | I22: 1 | J22: 0 | K22: 0 | M22: 21
A23: 22 | B23: 1 | C23: 0 | D23: 0 | E23: 0 | F23: 1 | G23: 1 | H23: 0 | I23: 0 | J23: 0 | K23: 0 | M23: 22
A24: 23 | B24: 1 | C24: 1 | D24: 1 | E24: 1 | F24: 1 | G24: 1 | H24: 0 | I24: 1 | J24: 0 | K24: 0 | M24: 23
A25: 24 | B25: 1 | C25: 0 | D25: 1 | E25: 0 | F25: 0 | G25: 1 | H25: 0 | I25: 0 | J25: 0 | K25: 0 | M25: 24
A26: 25 | B26: 1 | C26: 0 | D26: 0 | E26: 0 | F26: 1 | G26: 1 | H26: 0 | I26: 0 | J26: 0 | K26: 0 | M26: 25
A27: 26 | B27: 1 | C27: 0 | D27: 1 | E27: 0 | F27: 1 | G27: 1 | H27: 0 | I27: 0 | J27: 0 | K27: 0 | M27: 26
A28: 27 | B28: 1 | C28: 0 | D28: 1 | E28: 0 | F28: 1 | G28: 1 | H28: 0 | I28: 0 | J28: 0 | K28: 0 | M28: 27
A29: 28 | B29: 1 | C29: 0 | D29: 1 | E29: 0 | F29: 1 | G29: 1 | H29: 0 | I29: 1 | J29: 0 | K29: 0 | M29: 28
A30: 29 | B30: 1 | C30: 0 | D30: 1 | E30: 0 | F30: 0 | G30: 1 | H30: 0 | I30: 0 | J30: 0 | K30: 0 | M30: 29
A31: 30 | B31: 1 | C31: 0 | D31: 1 | E31: 0 | F31: 1 | G31: 1 | H31: 0 | I31: 1 | J31: 0 | K31: 0 | M31: 30
A32: 31 | B32: 1 | C32: 1 | D32: 1 | E32: 1 | F32: 1 | G32: 1 | H32: 0 | I32: 0 | J32: 0 | K32: 0 | M32: 31
... A195: 194 | B195: 1 | C195: 1 | D195: 0 | E195: 1 | F195: 1 | G195: 1 | H195: 0 | I195: 0 | J195: 0 | K195: 0 | M195: 194

Sheet plus 29 nov
A1: S.No | B1: Classification 1 | C1: Classification 2 | D1: Classification 3 | E1: Classification 4 | F1: Classification 5 | G1: Classification 6 | H1: Classification 7 | I1: Classification 8 | J1: Classification 9 | K1: Hypo | M1: S. No. previous
A2: 1 | B2: 1 | C2: 1 | D2: 0 | E2: 1 | F2: 1 | G2: 0 | H2: 0 | I2: 0 | J2: 1 | K2: 1 | M2: 1 | O2: ANOVA - Single Factor
A3: 2 | B3: 1 | C3: 1 | D3: 0 | E3: 1 | F3: 1 | G3: 0 | H3: 0 | I3: 1 | J3: 1 | K3: 1 | M3: 2 | O3: Alpha | P3: 0.05
A4: 3 | B4: 0 | C4: 0 | D4: 0 | E4: 0 | F4: 0 | G4: 0 | H4: 0 | I4: 0 | J4: 1 | K4: 1 | M4: 3
A5: 4 | B5: 1 | C5: 1 | D5: 1 | E5: 1 | F5: 1 | G5: 1 | H5: 0 | I5: 1 | J5: 0 | K5: 1 | M5: 4 | O5: Groups | P5: Count | Q5: Sum | R5: Mean | S5: Variance
A6: 5 | B6: 1 | C6: 1 | D6: 1 | E6: 1 | F6: 1 | G6: 0 | H6: 1 | I6: 0 | J6: 1 | K6: 1 | M6: 5 | O6: Column 1 | P6: =COUNT('plus 29 nov'!$A$2:$A$107) -> 106 | Q6: =SUM('plus 29 nov'!$A$2:$A$107) -> 5671 | R6: =AVERAGE('plus 29 nov'!$A$2:$A$107) -> 53.5 | S6: =VAR('plus 29 nov'!$A$2:$A$107) -> 945.16667
A7: 6 | B7: 1 | C7: 1 | D7: 1 | E7: 1 | F7: 0 | G7: 0 | H7: 0 | I7: 0 | J7: 1 | K7: 1 | M7: 6 | O7: Column 2 | P7: =COUNT('plus 29 nov'!$B$2:$B$107) -> 106 | Q7: =SUM('plus 29 nov'!$B$2:$B$107) -> 86 | R7: =AVERAGE('plus 29 nov'!$B$2:$B$107) -> 0.81132075 | S7: =VAR('plus 29 nov'!$B$2:$B$107) -> 0.15453729
A8: 7 | B8: 1 | C8: 1 | D8: 1 | E8: 1 | F8: 0 | G8: 0 | H8: 0 | I8: 0 | J8: 0 | K8: 1 | M8: 7 | O8: Column 3 | P8: =COUNT('plus 29 nov'!$C$2:$C$107) -> 106 | Q8: =SUM('plus 29 nov'!$C$2:$C$107) -> 105 | R8: =AVERAGE('plus 29 nov'!$C$2:$C$107) -> 0.99056604 | S8: =VAR('plus 29 nov'!$C$2:$C$107) -> 0.0094339623
A9: 8 | B9: 0 | C9: 1 | D9: 1 | E9: 0 | F9: 1 | G9: 1 | H9: 0 | I9: 1 | J9: 0 | K9: 1 | M9: 8 | O9: Column 4 | P9: =COUNT('plus 29 nov'!$D$2:$D$107) -> 106 | Q9: =SUM('plus 29 nov'!$D$2:$D$107) -> 43 | R9: =AVERAGE('plus 29 nov'!$D$2:$D$107) -> 0.40566038 | S9: =VAR('plus 29 nov'!$D$2:$D$107) -> 0.24339623
A10: 9 | B10: 1 | C10: 1 | D10: 1 | E10: 1 | F10: 0 | G10: 0 | H10: 0 | I10: 0 | J10: 1 | K10: 1 | M10: 9 | O10: Column 5 | P10: =COUNT('plus 29 nov'!$E$2:$E$107) -> 106 | Q10: =SUM('plus 29 nov'!$E$2:$E$107) -> 35 | R10: =AVERAGE('plus 29 nov'!$E$2:$E$107) -> 0.33018868 | S10: =VAR('plus 29 nov'!$E$2:$E$107) -> 0.22327044
A11: 10 | B11: 1 | C11: 1 | D11: 1 | E11: 0 | F11: 1 | G11: 0 | H11: 0 | I11: 0 | J11: 0 | K11: 1 | M11: 10 | O11: Column 6 | P11: =COUNT('plus 29 nov'!$F$2:$F$107) -> 106 | Q11: =SUM('plus 29 nov'!$F$2:$F$107) -> 79 | R11: =AVERAGE('plus 29 nov'!$F$2:$F$107) -> 0.74528302 | S11: =VAR('plus 29 nov'!$F$2:$F$107) -> 0.1916442
A12: 11 | B12: 1 | C12: 1 | D12: 0 | E12: 1 | F12: 1 | G12: 0 | H12: 1 | I12: 0 | J12: 0 | K12: 1 | M12: 11 | O12: Column 7 | P12: =COUNT('plus 29 nov'!$G$2:$G$107) -> 106 | Q12: =SUM('plus 29 nov'!$G$2:$G$107) -> 50 | R12: =AVERAGE('plus 29 nov'!$G$2:$G$107) -> 0.47169811 | S12: =VAR('plus 29 nov'!$G$2:$G$107) -> 0.25157233
A13: 12 | B13: 0 | C13: 1 | D13: 1 | E13: 0 | F13: 1 | G13: 0 | H13: 0 | I13: 1 | J13: 0 | K13: 1 | M13: 12 | O13: Column 8 | P13: =COUNT('plus 29 nov'!$H$2:$H$107) -> 106 | Q13: =SUM('plus 29 nov'!$H$2:$H$107) -> 50 | R13: =AVERAGE('plus 29 nov'!$H$2:$H$107) -> 0.47169811 | S13: =VAR('plus 29 nov'!$H$2:$H$107) -> 0.25157233
A14: 13 | B14: 0 | C14: 1 | D14: 0 | E14: 0 | F14: 0 | G14: 0 | H14: 1 | I14: 0 | J14: 0 | K14: 1 | M14: 13 | O14: Column 9 | P14: =COUNT('plus 29 nov'!$I$2:$I$107) -> 106 | Q14: =SUM('plus 29 nov'!$I$2:$I$107) -> 47 | R14: =AVERAGE('plus 29 nov'!$I$2:$I$107) -> 0.44339623 | S14: =VAR('plus 29 nov'!$I$2:$I$107) -> 0.24914645
A15: 14 | B15: 1 | C15: 1 | D15: 0 | E15: 1 | F15: 1 | G15: 0 | H15: 0 | I15: 1 | J15: 0 | K15: 1 | M15: 14 | O15: Column 10 | P15: =COUNT('plus 29 nov'!$J$2:$J$107) -> 106 | Q15: =SUM('plus 29 nov'!$J$2:$J$107) -> 65 | R15: =AVERAGE('plus 29 nov'!$J$2:$J$107) -> 0.61320755 | S15: =VAR('plus 29 nov'!$J$2:$J$107) -> 0.23944295
A16: 15 | B16: 0 | C16: 1 | D16: 1 | E16: 0 | F16: 1 | G16: 1 | H16: 1 | I16: 0 | J16: 1 | K16: 1 | M16: 15
A17: 16 | B17: 1 | C17: 1 | D17: 0 | E17: 1 | F17: 0 | G17: 0 | H17: 1 | I17: 0 | J17: 1 | K17: 1 | M17: 16 | O17: Source of Variation | P17: SS | Q17: df | R17: MS | S17: F | T17: P-value | U17: F critical
A18: 17 | B18: 0 | C18: 1 | D18: 1 | E18: 0 | F18: 1 | G18: 0 | H18: 1 | I18: 0 | J18: 0 | K18: 1 | M18: 17 | O18: Between Groups | P18: =SUMPRODUCT('plus 29 nov'!$Q$6:$Q$15,'plus 29 nov'!$R$6:$R$15)-SUM('plus 29 nov'!$Q$6:$Q$15)^2/SUM('plus 29 nov'!$P$6:$P$15) -> 267140.33 | Q18: =COUNT('plus 29 nov'!$Q$6:$Q$15)-1 -> 9 | R18: ='plus 29 nov'!$P$18/'plus 29 nov'!$Q$18 -> 29682.259 | S18: ='plus 29 nov'!$R$18/'plus 29 nov'!$R$19 -> 313.44102 | T18: =FDIST('plus 29 nov'!$S$18,'plus 29 nov'!$Q$18,'plus 29 nov'!$Q$19) -> 3.1662613e-290 | U18: =FINV('plus 29 nov'!$P$3,'plus 29 nov'!$Q$18,'plus 29 nov'!$Q$19) -> 1.8887809
A19: 18 | B19: 1 | C19: 1 | D19: 0 | E19: 1 | F19: 1 | G19: 1 | H19: 1 | I19: 0 | J19: 1 | K19: 1 | M19: 18 | O19: Within Groups | P19: =SUM(DEVSQ($A$2:$A$107),DEVSQ($B$2:$B$107),DEVSQ($C$2:$C$107),DEVSQ($D$2:$D$107),DEVSQ($E$2:$E$107),DEVSQ($F$2:$F$107),DEVSQ($G$2:$G$107),DEVSQ($H$2:$H$107),DEVSQ($I$2:$I$107),DEVSQ($J$2:$J$107)) -> 99432.972 | Q19: =SUM('plus 29 nov'!$P$6:$P$15)-COUNT('plus 29 nov'!$P$6:$P$15) -> 1050 | R19: ='plus 29 nov'!$P$19/'plus 29 nov'!$Q$19 -> 94.698068
A20: 19 | B20: 1 | C20: 1 | D20: 0 | E20: 1 | F20: 1 | G20: 0 | H20: 1 | I20: 1 | J20: 1 | K20: 1 | M20: 19 | O20: Total | Q20: =SUM('plus 29 nov'!$P$6:$P$15)-1 -> 1059
A21: 20 | B21: 1 | C21: 1 | D21: 0 | E21: 0 | F21: 1 | G21: 1 | H21: 1 | I21: 1 | J21: 1 | K21: 1 | M21: 20
A22: 21 | B22: 1 | C22: 1 | D22: 0 | E22: 0 | F22: 1 | G22: 1 | H22: 1 | I22: 1 | J22: 0 | K22: 1 | M22: 21
A23: 22 | B23: 1 | C23: 1 | D23: 1 | E23: 0 | F23: 1 | G23: 1 | H23: 1 | I23: 0 | J23: 1 | K23: 1 | M23: 22
A24: 23 | B24: 1 | C24: 1 | D24: 1 | E24: 0 | F24: 0 | G24: 0 | H24: 1 | I24: 0 | J24: 0 | K24: 1 | M24: 23
A25: 24 | B25: 1 | C25: 1 | D25: 1 | E25: 0 | F25: 1 | G25: 0 | H25: 1 | I25: 0 | J25: 1 | K25: 1 | M25: 24
A26: 25 | B26: 1 | C26: 1 | D26: 0 | E26: 0 | F26: 1 | G26: 1 | H26: 0 | I26: 1 | J26: 0 | K26: 1 | M26: 25
A27: 26 | B27: 1 | C27: 1 | D27: 0 | E27: 0 | F27: 1 | G27: 0 | H27: 0 | I27: 1 | J27: 1 | K27: 1 | M27: 26
A28: 27 | B28: 1 | C28: 1 | D28: 0 | E28: 0 | F28: 1 | G28: 0 | H28: 0 | I28: 1 | J28: 1 | K28: 1 | M28: 27
A29: 28 | B29: 1 | C29: 1 | D29: 0 | E29: 0 | F29: 1 | G29: 1 | H29: 0 | I29: 0 | J29: 1 | K29: 1 | M29: 28
A30: 29 | B30: 1 | C30: 1 | D30: 0 | E30: 0 | F30: 1 | G30: 1 | H30: 1 | I30: 0 | J30: 1 | K30: 1 | M30: 29
A31: 30 | B31: 1 | C31: 1 | D31: 1 | E31: 0 | F31: 0 | G31: 0 | H31: 1 | I31: 0 | J31: 1 | K31: 1 | M31: 30
A32: 31 | B32: 1 | C32: 1 | D32: 1 | E32: 0 | F32: 1 | G32: 1 | H32: 1 | I32: 1 | J32: 1 | K32: 1 | M32: 31
... A107: 106 | B107: 1 | C107: 1 | D107: 0 | E107: 1 | F107: 1 | G107: 0 | H107: 0 | I107: 1 | J107: 1 | K107: 1 | M107: 106

Sheet Minus
A1: Accession | B1: Protein family Domains | C1: Orthology | D1: Protein interactions | E1: Bidirectional best blast hits | F1: Subcellular location | G1: Functional linkages | H1: Pseudogenes | I1: Homology Modeling | J1: Noncode
A2: P23141.2 | B2: 1 | C2: 0 | D2: 1 | E2: 0 | F2: 1 | G2: 1 | H2: 0 | I2: 1 | J2: 0
A3: O60291.2 | B3: 1 | C3: 0 | D3: 1 | E3: 0 | F3: 0 | G3: 1 | H3: 0 | I3: 0 | J3: 0
A4: Q9HC62.3 | B4: 1 | C4: 1 | D4: 1 | E4: 1 | F4: 1 | G4: 1 | H4: 0 | I4: 1 | J4: 0
A5: Q8TCT7.2 | B5: 1 | C5: 0 | D5: 0 | E5: 0 | F5: 1 | G5: 1 | H5: 0 | I5: 0 | J5: 0
A6: Q86U10.3 | B6: 1 | C6: 1 | D6: 1 | E6: 1 | F6: 1 | G6: 1 | H6: 0 | I6: 0 | J6: 0
A7: P07686.3 | B7: 1 | C7: 1 | D7: 1 | E7: 1 | F7: 1 | G7: 1 | H7: 0 | I7: 1 | J7: 0
A8: P15586.3 | B8: 1 | C8: 1 | D8: 1 | E8: 1 | F8: 1 | G8: 1 | H8: 0 | I8: 0 | J8: 0
A9: Q5FYA8.1 | B9: 1 | C9: 1 | D9: 0 | E9: 1 | F9: 1 | G9: 1 | H9: 0 | I9: 0 | J9: 0
A10: P32456.3 | B10: 1 | C10: 0 | D10: 1 | E10: 0 | F10: 0 | G10: 1 | H10: 0 | I10: 0 | J10: 0
A11: Q8IU81.1 | B11: 1 | C11: 0 | D11: 1 | E11: 0 | F11: 0 | G11: 1 | H11: 0 | I11: 0 | J11: 0
A12: P06744.4 | B12: 1 | C12: 0 | D12: 1 | E12: 0 | F12: 0 | G12: 1 | H12: 0 | I12: 1 | J12: 0
A13: Q13114.2 | B13: 1 | C13: 0 | D13: 1 | E13: 0 | F13: 0 | G13: 1 | H13: 0 | I13: 1 | J13: 0
A14: P00750.1 | B14: 1 | C14: 1 | D14: 1 | E14: 1 | F14: 1 | G14: 1 | H14: 0 | I14: 1 | J14: 0
A15: A6NGU5.2 | B15: 1 | C15: 0 | D15: 1 | E15: 0 | F15: 1 | G15: 1 | H15: 0 | I15: 0 | J15: 0
A16: Q5XG92.2 | B16: 1 | C16: 1 | D16: 0 | E16: 1 | F16: 1 | G16: 1 | H16: 0 | I16: 0 | J16: 0
A17: Q5D1E8.1 | B17: 1 | C17: 1 | D17: 1 | E17: 1 | F17: 0 | G17: 1 | H17: 0 | I17: 1 | J17: 0
A18: Q06124.2 | B18: 1 | C18: 1 | D18: 1 | E18: 1 | F18: 0 | G18: 1 | H18: 0 | I18: 1 | J18: 0
A19: Q5FYB0.1 | B19: 1 | C19: 0 | D19: 0 | E19: 0 | F19: 1 | G19: 1 | H19: 0 | I19: 0 | J19: 0
A20: Q8NHP8.2 | B20: 1 | C20: 1 | D20: 1 | E20: 1 | F20: 1 | G20: 1 | H20: 0 | I20: 0 | J20: 0
A21: P30305.2 | B21: 1 | C21: 1 | D21: 1 | E21: 1 | F21: 0 | G21: 1 | H21: 0 | I21: 1 | J21: 0
A22: Q96JP5.1 | B22: 1 | C22: 0 | D22: 1 | E22: 0 | F22: 0 | G22: 1 | H22: 0 | I22: 1 | J22: 0
A23: Q68CK6.2 | B23: 1 | C23: 0 | D23: 0 | E23: 0 | F23: 1 | G23: 1 | H23: 0 | I23: 0 | J23: 0
A24: O60942.1 | B24: 1 | C24: 1 | D24: 1 | E24: 1 | F24: 1 | G24: 1 | H24: 0 | I24: 1 | J24: 0
A25: P08243.4 | B25: 1 | C25: 0 | D25: 1 | E25: 0 | F25: 0 | G25: 1 | H25: 0 | I25: 0 | J25: 0
A26: Q7RTZ1.2 | B26: 1 | C26: 0 | D26: 0 | E26: 0 | F26: 1 | G26: 1 | H26: 0 | I26: 0 | J26: 0
A27: Q6UWW8.1 | B27: 1 | C27: 0 | D27: 1 | E27: 0 | F27: 1 | G27: 1 | H27: 0 | I27: 0 | J27: 0
A28: Q5T160.1 | B28: 1 | C28: 0 | D28: 1 | E28: 0 | F28: 1 | G28: 1 | H28: 0 | I28: 0 | J28: 0
A29: P34913.2 | B29: 1 | C29: 0 | D29: 1 | E29: 0 | F29: 1 | G29: 1 | H29: 0 | I29: 1 | J29: 0
A30: Q9H4L4.2 | B30: 1 | C30: 0 | D30: 1 | E30: 0 | F30: 0 | G30: 1 | H30: 0 | I30: 0 | J30: 0
A31: O14773.2 | B31: 1 | C31: 0 | D31: 1 | E31: 0 | F31: 1 | G31: 1 | H31: 0 | I31: 1 | J31: 0
A32: Q2T9J0.3 | B32: 1 | C32: 1 | D32: 1 | E32: 1 | F32: 1 | G32: 1 | H32: 0 | I32: 0 | J32: 0
A33: Q6NUN0.2 | B33: 1 | C33: 0 | D33: 0 | E33: 0 | F33: 1 | G33: 1 | H33: 0 | I33: 0 | J33: 0
A34: P29350.1 | B34: 1 | C34: 1 | D34: 1 | E34: 1 | F34: 0 | G34: 1 | H34: 0 | I34: 1 | J34: 0
A35: Q9Y4X5.2 | B35: 1 | C35: 0 | D35: 1 | E35: 0 | F35: 0 | G35: 1 | H35: 0 | I35: 1 | J35: 0
A36: Q6P4A8.2 | B36: 1 | C36: 0 | D36: 0 | E36: 0 | F36: 1 | G36: 1 | H36: 0 | I36: 0 | J36: 0
A37: Q6P4A8.2 | B37: 1 | C37: 1 | D37: 0 | E37: 1 | F37: 1 | G37: 1 | H37: 0 | I37: 0 | J37: 0
A38: P43378.1 | B38: 1 | C38: 1 | D38: 1 | E38: 1 | F38: 0 | G38: 1 | H38: 0 | I38: 1 | J38: 0
A39: Q8NHQ9.3 | B39: 1 | C39: 0 | D39: 1 | E39: 0 | F39: 0 | G39: 1 | H39: 0 | I39: 0 | J39: 0
A40: Q96AY3.1 | B40: 1 | C40: 0 | D40: 1 | E40: 0 | F40: 0 | G40: 1 | H40: 0 | I40: 0 | J40: 0
A41: P08842.2 | B41: 1 | C41: 1 | D41: 0 | E41: 1 | F41: 1 | G41: 1 | H41: 0 | I41: 1 | J41: 0
A42: Q96G74.1 | B42: 1 | C42: 1 | D42: 1 | E42: 1 | F42: 0 | G42: 1 | H42: 0 | I42: 1 | J42: 0
A43: O14773.2 | B43: 1 | C43: 1 | D43: 1 | E43: 1 | F43: 1 | G43: 1 | H43: 0 | I43: 1 | J43: 0
A44: Q8NBH2.2 | B44: 1 | C44: 0 | D44: 1 | E44: 0 | F44: 0 | G44: 1 | H44: 0 | I44: 0 | J44: 0
A45: P21589.1 | B45: 1 | C45: 1 | D45: 1 | E45: 1 | F45: 1 | G45: 1 | H45: 0 | I45: 1 | J45: 0
A46: Q8WYK0.1 | B46: 1 | C46: 0 | D46: 0 | E46: 0 | F46: 0 | G46: 1 | H46: 0 | I46: 1 | J46: 0
A47: Q06124.2 | B47: 1 | C47: 0 | D47: 1 | E47: 0 | F47: 0 | G47: 1 | H47: 0 | I47: 1 | J47: 0
A48: Q9NPA2.1 | B48: 1 | C48: 0 | D48: 0 | E48: 0 | F48: 1 | G48: 1 | H48: 0 | I48: 0 | J48: 0
A49: Q96GW9.2 | B49: 1 | C49: 0 | D49: 1 | E49: 0 | F49: 1 | G49: 1 | H49: 0 | I49: 0 | J49: 0
A50: P17812.2 | B50: 1 | C50: 0 | D50: 1 | E50: 0 | F50: 0 | G50: 1 | H50: 0 | I50: 1 | J50: 0
A51: P00750.1 | B51: 1 | C51: 0 | D51: 1 | E51: 0 | F51: 1 | G51: 1 | H51: 0 | I51: 1 | J51: 0
A52: Q5D1E8.1 | B52: 1 | C52: 0 | D52: 1 | E52: 0 | F52: 0 | G52: 1 | H52: 0 | I52: 1 | J52: 0
A53: Q86T96.2 | B53: 1 | C53: 0 | D53: 1 | E53: 0 | F53: 0 | G53: 1 | H53: 0 | I53: 0 | J53: 0
A54: Q15046.3 | B54: 1 | C54: 0 | D54: 1 | E54: 0 | F54: 0 | G54: 1 | H54: 0 | I54: 1 | J54: 0
A55: Q96PD5.1 | B55: 1 | C55: 0 | D55: 0 | E55: 0 | F55: 1 | G55: 1 | H55: 0 | I55: 0 | J55: 0
A56: Q99502.2 | B56: 1 | C56: 0 | D56: 1 | E56: 0 | F56: 0 | G56: 1 | H56: 0 | I56: 0 | J56: 0
A57: Q8WXF7.1 | B57: 1 | C57: 0 | D57: 1 | E57: 0 | F57: 0 | G57: 1 | H57: 0 | I57: 1 | J57: 0
A58: O76083.1 | B58: 1 | C58: 1 | D58: 1 | E58: 1 | F58: 0 | G58: 1 | H58: 0 | I58: 1 | J58: 0
A59: P08842.2 | B59: 1 | C59: 0 | D59: 1 | E59: 0 | F59: 1 | G59: 1 | H59: 0 | I59: 1 | J59: 0
A60: Q9NTJ5.2 | B60: 1 | C60: 1 | D60: 1 | E60: 1 | F60: 0 | G60: 1 | H60: 0 | I60: 0 | J60: 0
A61: P21589.1 | B61: 1 | C61: 0 | D61: 1 | E61: 0 | F61: 1 | G61: 1 | H61: 0 | I61: 1 | J61: 0
A62: P28039.1 | B62: 1 | C62: 1 | D62: 0 | E62: 1 | F62: 1 | G62: 1 | H62: 0 | I62: 0 | J62: 0
A63: P31939.3 | B63: 1 | C63: 0 | D63: 1 | E63: 0 | F63: 0 | G63: 1 | H63: 0 | I63: 1 | J63: 0
A64: Q9UNH5.1 | B64: 1 | C64: 1 | D64: 1 | E64: 1 | F64: 0 | G64: 1 | H64: 0 | I64: 0 | J64: 0
A65: Q8N119.2 | B65: 1 | C65: 0 | D65: 0 | E65: 0 | F65: 1 | G65: 1 | H65: 0 | I65: 0 | J65: 0
A66: P50281.3 | B66: 1 | C66: 1 | D66: 1 | E66: 1 | F66: 1 | G66: 1 | H66: 0 | I66: 1 | J66: 0
A67: Q5XG92.2 | B67: 1 | C67: 0 | D67: 0 | E67: 0 | F67: 1 | G67: 1 | H67: 0 | I67: 0 | J67: 0
A68: Q6NT32.1 | B68: 1 | C68: 1 | D68: 0 | E68: 1 | F68: 1 | G68: 1 | H68: 0 | I68: 0 | J68: 0
A69: P28039.1 | B69: 1 | C69: 0 | D69: 0 | E69: 0 | F69: 1 | G69: 1 | H69: 0 | I69: 0 | J69: 0
A70: Q7RTZ1.2 | B70: 1 | C70: 1 | D70: 0 | E70: 1 | F70: 1 | G70: 1 | H70: 0 | I70: 0 | J70: 0
A71: Q99504.3 | B71: 1 | C71: 1 | D71: 1 | E71: 1 | F71: 0 | G71: 1 | H71: 0 | I71: 0 | J71: 0
A72: Q7Z569.2 | B72: 1 | C72: 0 | D72: 1 | E72: 0 | F72: 0 | G72: 1 | H72: 0 | I72: 0 | J72: 0
A73: P56180.3 | B73: 1 | C73: 1 | D73: 1 | E73: 1 | F73: 0 | G73: 1 | H73: 0 | I73: 0 | J73: 0
A74: Q9NSD9.3 | B74: 1 | C74: 0 | D74: 1 | E74: 0 | F74: 0 | G74: 1 | H74: 0 | I74: 1 | J74: 0
A75: Q6UWW8.1 | B75: 1 | C75: 1 | D75: 1 | E75: 1 | F75: 1 | G75: 1 | H75: 0 | I75: 0 | J75: 0
A76: O00257.3 | B76: 1 | C76: 0 | D76: 1 | E76: 0 | F76: 0 | G76: 1 | H76: 0 | I76: 1 | J76: 0
A77: Q96PD5.1 | B77: 1 | C77: 1 | D77: 0 | E77: 1 | F77: 1 | G77: 1 | H77: 0 | I77: 0 | J77: 0
A78: P32455.2 | B78: 1 | C78: 0 | D78: 1 | E78: 0 | F78: 0 | G78: 1 | H78: 0 | I78: 1 | J78: 0
A79: P36871.3 | B79: 1 | C79: 0 | D79: 1 | E79: 0 | F79: 1 | G79: 1 | H79: 0 | I79: 1 | J79: 0
A80: Q9ULM6.2 | B80: 1 | C80: 0 | D80: 1 | E80: 0 | F80: 0 | G80: 1 | H80: 0 | I80: 0 | J80: 0
A81: Q9ULM6.2 | B81: 1 | C81: 1 | D81: 1 | E81: 1 | F81: 0 | G81: 1 | H81: 0 | I81: 0 | J81: 0
A82: Q8WYK0.1 | B82: 1 | C82: 1 | D82: 0 | E82: 1 | F82: 0 | G82: 1 | H82: 0 | I82: 1 | J82: 0
A83: A4D256.2 | B83: 1 | C83: 0 | D83: 0 | E83: 0 | F83: 0 | G83: 1 | H83: 0 | I83: 0 | J83: 0
A84: Q9H0R5.3 | B84: 1 | C84: 1 | D84: 1 | E84: 1 | F84: 0 | G84: 1 | H84: 0 | I84: 0 | J84: 0
A85: P51690.2 | B85: 1 | C85: 1 | D85: 1 | E85: 1 | F85: 1 | G85: 1 | H85: 0 | I85: 0 | J85: 0
A86: Q53FZ2.2 | B86: 1 | C86: 0 | D86: 1 | E86: 0 | F86: 1 | G86: 1 | H86: 0 | I86: 0 | J86: 0
A87: Q9Y2R4.3 | B87: 1 | C87: 1 | D87: 1 | E87: 1 | F87: 0 | G87: 1 | H87: 0 | I87: 1 | J87: 0
A88: P32456.3 | B88: 1 | C88: 1 | D88: 1 | E88: 1 | F88: 0 | G88: 1 | H88: 0 | I88: 0 | J88: 0
A89: Q9BYE2.4 | B89: 1 | C89: 0 | D89: 1 | E89: 1 | F89: 0 | G89: 1 | H89: 0 | I89: 0 | J89: 0
A90: P54793.4 | B90: 1 | C90: 1 | D90: 0 | E90: 1 | F90: 1 | G90: 1 | H90: 0 | I90: 0 | J90: 0
A91: Q9BZR9.2 | B91: 1 | C91: 0 | D91: 1 | E91: 0 | F91: 0 | G91: 1 | H91: 0 | I91: 0 | J91: 0
A92: Q96NY9.3 | B92: 1 | C92: 1 | D92: 1 | E92: 1 | F92: 1 | G92: 1 | H92: 0 | I92: 1 | J92: 0
A93: Q5FYB1.1 | B93: 1 | C93: 0 | D93: 0 | E93: 0 | F93: 1 | G93: 1 | H93: 0 | I93: 0 | J93: 0
A94: Q14520.1 | B94: 1 | C94: 0 | D94: 1 | E94: 0 | F94: 1 | G94: 1 | H94: 0 | I94: 0 | J94: 0
A95: Q05932.3 | B95: 1 | C95: 0 | D95: 1 | E95: 0 | F95: 1 | G95: 1 | H95: 0 | I95: 1 | J95: 0
A96: O95243.1 | B96: 1 | C96: 1 | D96: 1 | E96: 1 | F96: 0 | G96: 1 | H96: 0 | I96: 1 | J96: 0
A97: Q9UK80.1 | B97: 1 | C97: 0 | D97: 1 | E97: 0 | F97: 0 | G97: 1 | H97: 0 | I97: 1 | J97: 0
A98: Q8N119.2 | B98: 1 | C98: 1 | D98: 0 | E98: 1 | F98: 1 | G98: 1 | H98: 0 | I98: 0 | J98: 0
A99: P36406.1 | B99: 1 | C99: 0 | D99: 1 | E99: 0 | F99: 1 | G99: 1 | H99: 0 | I99: 0 | J99: 0
A100: P34913.2 | B100: 1 | C100: 1 | D100: 1 | E100: 1 | F100: 1 | G100: 1 | H100: 0 | I100: 1 | J100: 0
...

Sheet Plus
A1: Accession | B1: Protein family Domains | C1: Orthology | D1: Protein interactions | E1: Bidirectional best blast hits | F1: Subcellular location | G1: Functional linkages | H1: Pseudogenes | I1: Homology Modeling | J1: Noncode
A2: NP_009107.1 | B2: 1 | C2: 1 | D2: 0 | E2: 1 | F2: 1 | G2: 0 | H2: 0 | I2: 0 | J2: 1
A4: CAC82738.1 | B4: 1 | C4: 1 | D4: 0 | E4: 1 | F4: 1 | G4: 0 | H4: 0 | I4: 1 | J4: 1
A6: AF527534_1 | B6: 0 | C6: 0 | D6: 0 | E6: 0 | F6: 0 | G6: 0 | H6: 0 | I6: 0 | J6: 1
A9: AAP97303 | B9: 1 | C9: 1 | D9: 1 | E9: 1 | F9: 1 | G9: 1 | H9: 0 | I9: 1 | J9: 0
A12: NP_060440.2 | B12: 1 | C12: 1 | D12: 1 | E12: 1 | F12: 1 | G12: 0 | H12: 1 | I12: 0 | J12: 1
A16: NP_060541.3 | B16: 1 | C16: 1 | D16: 1 | E16: 1 | F16: 0 | G16: 0 | H16: 0 | I16: 0 | J16: 1
J17: 1
A19: NP_057673.2 | B19: 1 | C19: 1 | D19: 1 | E19: 1 | F19: 0 | G19: 0 | H19: 0 | I19: 0 | J19: 0
A23: BAE46899.1 | B23: 0 | C23: 1 | D23: 1 | E23: 0 | F23: 1 | G23: 1 | H23: 0 | I23: 1 | J23: 0
J24: 0
A26: NP_116207.2 | B26: 1 | C26: 1 | D26: 1 | E26: 1 | F26: 0 | G26: 0 | H26: 0 | I26: 0 | J26: 1
J27: 1
A29: EAW66951.1 | B29: 1 | C29: 1 | D29: 1 | E29: 0 | F29: 1 | G29: 0 | H29: 0 | I29: 0 | J29: 0
A34: EAW72391.1 | B34: 1 | C34: 1 | D34: 0 | E34: 1 | F34: 1 | G34: 0 | H34: 1 | I34: 0 | J34: 0
A39: EAW74482.1 | B39: 0 | C39: 1 | D39: 1 | E39: 0 | F39: 1 | G39: 0 | H39: 0 | I39: 1 | J39: 0
A42: EAW84367.1 | B42: 0 | C42: 1 | D42: 0 | E42: 0 | F42: 0 | G42: 0 | H42: 1 | I42: 0 | J42: 0
A45: EAW84369.1 | B45: 1 | C45: 1 | D45: 0 | E45: 1 | F45: 1 | G45: 0 | H45: 0 | I45: 1 | J45: 0
A48: NP_775934.3 | B48: 0 | C48: 1 | D48: 1 | E48: 0 | F48: 1 | G48: 1 | H48: 1 | I48: 0 | J48: 1
A52: NP_060290.3 | B52: 1 | C52: 1 | D52: 0 | E52: 1 | F52: 0 | G52: 0 | H52: 1 | I52: 0 | J52: 1
J53: 1
A55: AAB51172.1 | B55: 0 | C55: 1 | D55: 1 | E55: 0 | F55: 1 | G55: 0 | H55: 1 | I55: 0 | J55: 0
A58: CAE45808.1 | B58: 1 | C58: 1 | D58: 0 | E58: 1 | F58: 1 | G58: 1 | H58: 1 | I58: 0 | J58: 1
A61: CAB66613.1 | B61: 1 | C61: 1 | D61: 0 | E61: 1 | F61: 1 | G61: 0 | H61: 1 | I61: 1 | J61: 1
A64: CAB56014.2 | B64: 1 | C64: 1 | D64: 0 | E64: 0 | F64: 1 | G64: 1 | H64: 1 | I64: 1 | J64: 1
A68: CAB92132.1 | B68: 1 | C68: 1 | D68: 0 | E68: 0 | F68: 1 | G68: 1 | H68: 1 | I68: 1 | J68: 0
A72: CAC17765.1 | B72: 1 | C72: 1 | D72: 1 | E72: 0 | F72: 1 | G72: 1 | H72: 1 | I72: 0 | J72: 1
A77: CAB61382.2 | B77: 1 | C77: 1 | D77: 1 | E77: 0 | F77: 0 | G77: 0 | H77: 1 | I77: 0 | J77: 0
A80: CAH10625.1 | B80: 1 | C80: 1 | D80: 1 | E80: 0 | F80: 1 | G80: 0 | H80: 1 | I80: 0 | J80: 1
A83: CAB70766.1 | B83: 1 | C83: 1 | D83: 0 | E83: 0 | F83: 1 | G83: 1 | H83: 0 | I83: 1 | J83: 0
A86: CAI56764.1 | B86: 1 | C86: 1 | D86: 0 | E86: 0 | F86: 1 | G86: 0 | H86: 0 | I86: 1 | J86: 1
A89: CAH18083.1 | B89: 1 | C89: 1 | D89: 0 | E89: 0 | F89: 1 | G89: 0 | H89: 0 | I89: 1 | J89: 1
A92: CAB66795.1 | B92: 1 | C92: 1 | D92: 0 | E92: 0 | F92: 1 | G92: 1 | H92: 0 | I92: 0 | J92: 1
... A107: CAI46109.1 | B107: 1 | C107: 1 | D107: 0 | E107: 0 | F107: 1 | G107: 1 | H107: 0 | I107: 0 | J107: 1
D108: 0
C109: 1
A110: CAI46169.1 | B110: 1 | C110: 1 | D110: 0 | E110: 0 | F110: 1 | G110: 1 | H110: 1 | I110: 0 | J110: 0
C111: 1
A113: CAH56300.1 | B113: 0 | C113: 1 | D113: 1 | E113: 0 | F113: 1 | G113: 1 | H113: 1 | I113: 1 | J113: 1
A118: CAH56419.1 | B118: 1 | C118: 1 | D118: 0 | E118: 0 | F118: 1 | G118: 1 | H118: 1 | I118: 0 | J118: 1
A121: CAB66495.1 | B121: 1 | C121: 1 | D121: 0 | E121: 0 | F121: 0 | G121: 0 | H121: 0 | I121: 0 | J121: 0
C122: 1
A124: CAB66797.1 | B124: 1 | C124: 1 | D124: 1 | E124: 0 | F124: 0 | G124: 0 | H124: 0 | I124: 0 | J124: 1
A127: CAB66761.1 | B127: 0 | C127: 1 | D127: 1 | E127: 0 | F127: 1 | G127: 0 | H127: 0 | I127: 0 | J127: 0
A131: CAI45942.1 | B131: 0 | C131: 1 | D131: 0 | E131: 0 | F131: 1 | G131: 0 | H131: 0 | I131: 0 | J131: 1
A134: CAH18341.1 | B134: 1 | C134: 1 | D134: 0 | E134: 1 | F134: 1 | G134: 1 | H134: 0 | I134: 0 | J134: 0
A137: CAH18079.1 | B137: 1 | C137: 1 | D137: 0 | E137: 0 | F137: 1 | G137: 1 | H137: 0 | I137: 1 | J137: 1
A140: CAD28529.1 | B140: 1 | C140: 1 | D140: 0 | E140: 0 | F140: 0 | G140: 1 | H140: 0 | I140: 1 | J140: 0
A143: CAD38733.2 | B143: 1 | C143: 1 | D143: 0 | E143: 0 | F143: 1 | G143: 0 | H143: 1 | I143: 0 | J143: 0
D144: 0
A146: CAH18324.1 | B146: 1 | C146: 1 | D146: 0 | E146: 0 | F146: 1 | G146: 0 | H146: 1 | I146: 1 | J146: 1
A151: CAI46074.1 | B151: 1 | C151: 1 | D151: 0 | E151: 0 | F151: 0 | G151: 0 | H151: 1 | I151: 1 | J151: 1
A154: CAD98041.1 | B154: 0 | C154: 1 | D154: 1 | E154: 0 | F154: 1 | G154: 1 | H154: 1 | I154: 1 | J154: 0
A157: CAD97798.1 | B157: 1 | C157: 1 | D157: 0 | E157: 0 | F157: 1 | G157: 0 | H157: 1 | I157: 1 | J157: 0
A160: CAB53247.1 | B160: 1 | C160: 1 | D160: 0 | E160: 1 | F160: 1 | G160: 1 | H160: 1 | I160: 0 | J160: 1
A163: AAP97710.1 | B163: 0 | C163: 1 | D163: 0 | E163: 0 | F163: 0 | G163: 0 | H163: 1 | I163: 0 | J163: 1
A166: AAP92796.1 | B166: 0 | C166: 1 | D166: 0 | E166: 1 | F166: 1 | G166: 0 | H166: 0 | I166: 0 | J166: 1
C167: 1
A169: CAD98048.1 | B169: 1 | C169: 1 | D169: 0 | E169: 1 | F169: 1 | G169: 0 | H169: 0 | I169: 0 | J169: 1
A172: CAD97989.1 | B172: 1 | C172: 1 | D172: 0 | E172: 0 | F172: 0 | G172: 1 | H172: 1 | I172: 1 | J172: 1
A175: CAD97690.1 | B175: 1 | C175: 1 | D175: 0 | E175: 0 | F175: 1 | G175: 0 | H175: 1 | I175: 0 | J175: 0
A178: CAD97625.1 | B178: 1 | C178: 1 | D178: 0 | E178: 1 | F178: 0 | G178: 1 | I178: 0 | J178: 0
A181: CAI46134.1 | B181: 1 | C181: 1 | D181: 1 | E181: 1 | F181: 0 | G181: 0 | H181: 1 | I181: 1 | J181: 1
A184: CAB46373.2 | B184: 1 | C184: 1 | D184: 1 | E184: 1 | F184: 0 | G184: 1 | H184: 1 | I184: 1 | J184: 1
C185: 1
A187: CAD98087.1 | B187: 1 | C187: 1 | D187: 1 | E187: 1 | F187: 1 | G187: 1 | H187: 1 | I187: 1 | J187: 0
A190: CAC21666.1 | B190: 1 | C190: 1 | D190: 1 | E190: 0 | F190: 1 | G190: 1 | H190: 0 | I190: 1 | J190: 1
A193: CAB66635.1 | B193: 1 | C193: 1 | D193: 0 | E193: 0 | F193: 1 | G193: 1 | H193: 0 | I193: 0 | J193: 0
A196: CAB75657.1 | B196: 1 | C196: 1 | D196: 0 | E196: 0 | F196: 1 | G196: 0 | H196: 1 | I196: 0 | J196: 1
A199: BAF43710.1 | B199: 1 | C199: 1 | D199: 0 | E199: 1 | F199: 1 | G199: 1 | H199: 1 | I199: 1 | J199: 1
A202: AAP97299.1 | B202: 1 | C202: 1 | D202: 0 | E202: 0 | F202: 1 | G202: 0 | H202: 0 | I202: 0 | J202: 0
A205: AAM94279.1 | B205: 1 | C205: 1 | D205: 1 | E205: 0 | F205: 1 | G205: 1 | H205: 1 | I205: 0 | J205: 0
A208: AAQ76796.1 | B208: 1 | C208: 1 | D208: 0 | E208: 1 | F208: 1 | G208: 1 | H208: 0 | I208: 1 | J208: 1
J210: 0
A211: CAH18451.2 | B211: 1 | C211: 1 | D211: 0 | E211: 0 | F211: 1 | G211: 1 | H211: 1 | I211: 1
J213: 0
A214: CAH10558.1 | B214: 1 | C214: 1 | D214: 0 | E214: 0 | F214: 0 | G214: 1 | H214: 1 | I214: 1 | J214: 1
A217: CAB70786.2 | B217: 1 | C217: 1 | D217: 1 | E217: 0 | F217: 1 | G217: 0 | H217: 1 | I217: 0 | J217: 1
A220: CAD39094.2 | B220: 1 | C220: 1 | D220: 0 | E220: 0 | F220: 1 | G220: 0 | H220: 1 | I220: 1 | J220: 0
A223: CAH10646.1 | B223: 1 | C223: 1 | D223: 0 | E223: 0 | F223: 1 | G223: 0 | H223: 0 | I223: 0 | J223: 1
A226: CAD89928.1 | B226: 1 | C226: 1 | D226: 1 | E226: 0 | F226: 1 | G226: 1 | H226: 1 | I226: 1 | J226: 1
B227: 1
A229: CAD38683.1 | B229: 1 | C229: 1 | D229: 1 | E229: 0 | F229: 1 | G229: 1 | H229: 0 | I229: 1 | J229: 1
A235: CAD28545.1 | B235: 1 | C235: 1 | D235: 0 | E235: 1 | F235: 1 | G235: 1 | H235: 0 | I235: 0 | J235: 1
A238: CAB99229.1 | B238: 1 | C238: 1 | D238: 1 | E238: 0 | F238: 1 | G238: 1 | H238: 0 | I238: 0 | J238: 1
A241: CAB66855.1 | B241: 1 | C241: 1 | D241: 1 | E241: 0 | F241: 0 | G241: 0 | H241: 0 | I241: 0 | J241: 1
A246: CAH18309.1 | C246: 1 | D246: 1 | E246: 0 | F246: 0 | G246: 1 | H246: 1 | I246: 1 | J246: 0
A249: CAH18307.1 | B249: 1 | C249: 1 | D249: 1 | E249: 0 | F249: 1 | G249: 1 | H249: 1 | I249: 0 | J249: 1
A253: CAH10526.1 | B253: 1 | C253: 1 | D253: 1 | E253: 0 | F253: 1 | G253: 1 | H253: 0 | I253: 0 | J253: 1
A256: BAC11802.1 | B256: 1 | C256: 1 | D256: 0 | E256: 0 | F256: 0 | G256: 1 | H256: 1 | I256: 1 | J256: 0
A259: CAB77059.1 | B259: 1 | C259: 1 | D259: 1 | E259: 0 | F259: 1 | G259: 0 | H259: 1 | I259: 1 | J259: 1
A262: BAC67707.1 | B262: 1 | C262: 1 | D262: 0 | E262: 0 | F262: 1 | G262: 1 | H262: 0 | I262: 0 | J262: 0
A265: NP_212133.1 | B265: 1 | C265: 1 | D265: 0 | E265: 1 | F265: 1 | G265: 0 | H265: 0 | I265: 0 | J265: 1
A268: NP_001182667.1 | B268: 1 | C268: 1 | D268: 1 | E268: 1 | F268: 0 | G268: 1 | H268: 0 | I268: 0 | J268: 1
A271: NP_004861.2 | B271: 1 | C271: 1 | D271: 1 | E271: 1 | F271: 0 | G271: 0 | H271: 0 | I271: 0 | J271: 0
A274: NP_001269724.1 | B274: 1 | C274: 1 | D274: 1 | E274: 1 | F274: 1 | G274: 1 | H274: 1 | I274: 1 | J274: 1
A277: NP_037462.1 | B277: 0 | C277: 1 | D277: 1 | E277: 1 | F277: 1 | G277: 1 | H277: 1 | I277: 1 | J277: 0
A280: NP_065178.1 | B280: 1 | C280: 1 | D280: 1 | E280: 1 | F280: 1 | G280: 1 | H280: 0 | I280: 1 | J280: 0
A283: AAF62402.1 | B283: 1 | C283: 1 | D283: 0 | E283: 0 | F283: 1 | G283: 0 | H283: 0 | I283: 1 | J283: 1
... A301: BAF83390.1 | B301: 0 | C301: 1 | D301: 1 | E301: 0 | F301: 1 | G301: 1 | H301: 1 | I301: 1 | J301: 0
...

Sheet Discrete
A1: Accession | B1: Gene | C1: Putative function | D1: Protein family Domains | E1: Orthology | F1: Protein interactions | G1: Bidirectional best blast hits | H1: Subcellular location | I1: Functional linkages | J1: Pseudogenes | K1: Homology Modeling | L1: Noncode
A2: P23141.2 | B2: CES1 | C2: Ligases | D2: 1 | E2: 0 | F2: 1 | G2: 0 | H2: 1 | I2: 1 | J2: 0 | K2: 1 | L2: 0
A3: O60291.2 | B3: MGRN1 | C3: Ligases | D3: 1 | E3: 0 | F3: 1 | G3: 0 | H3: 0 | I3: 1 | J3: 0 | K3: 0 | L3: 0
A4: Q9HC62.3 | B4: SENP2 | C4: Hydrolases | D4: 1 | E4: 1 | F4: 1 | G4: 1 | H4: 1 | I4: 1 | J4: 0 | K4: 1 | L4: 0
A5: Q8TCT7.2 | B5: SPPL2B | C5: Ligases | D5: 1 | E5: 0 | F5: 0 | G5: 0 | H5: 1 | I5: 1 | J5: 0 | K5: 0 | L5: 0
A6: Q86U10.3 | B6: ASPG | C6: Hydrolases | D6: 1 | E6: 1 | F6: 1 | G6: 1 | H6: 1 | I6: 1 | J6: 0 | K6: 0 | L6: 0
A7: P07686.3 | B7: HEXB | C7: Hydrolases | D7: 1 | E7: 1 | F7: 1 | G7: 1 | H7: 1 | I7: 1 | J7: 0 | K7: 1 | L7: 0
A8: P15586.3 | B8: GNS | C8: Hydrolases | D8: 1 | E8: 1 | F8: 1 | G8: 1 | H8: 1 | I8: 1 | J8: 0 | K8: 0 | L8: 0
A9: Q5FYA8.1 | B9: ARSH | C9: Hydrolases | D9: 1 | E9: 1 | F9: 0 | G9: 1 | H9: 1 | I9: 1 | J9: 0 | K9: 0 | L9: 0
A10: P32456.3 | B10: GBP2 | C10: Ligases | D10: 1 | E10: 0 | F10: 1 | G10: 0 | H10: 0 | I10: 1 | J10: 0 | K10: 0 | L10: 0
A11: Q8IU81.1 | B11: IRF2BP1 | C11: Ligases | D11: 1 | E11: 0 | F11: 1 | G11: 0 | H11: 0 | I11: 1 | J11: 0 | K11: 0 | L11: 0
A12: P06744.4 | B12: GPI | C12: Isomerases | D12: 1 | E12: 0 | F12: 1 | G12: 0 | H12: 0 | I12: 1 | J12: 0 | K12: 1 | L12: 0
A13: Q13114.2 | B13: TRAF3 | C13: Ligases | D13: 1 | E13: 0 | F13: 1 | G13: 0 | H13: 0 | I13: 1 | J13: 0 | K13: 1 | L13: 0
A14: P00750.1 | B14: PLAT | C14: Hydrolases | D14: 1 | E14: 1 | F14: 1 | G14: 1 | H14: 1 | I14: 1 | J14: 0 | K14: 1 | L14: 0
A15: A6NGU5.2 | B15: GGT3P | C15: Ligases | D15: 1 | E15: 0 | F15: 1 | G15: 0 | H15: 1 | I15: 1 | J15: 0 | K15: 0 | L15: 0
A16: Q5XG92.2 | B16: CES4A | C16: Hydrolases | D16: 1 | E16: 1 | F16: 0 | G16: 1 | H16: 1 | I16: 1 | J16: 0 | K16: 0 | L16: 0
A17: Q5D1E8.1 | B17: ZC3H12A | C17: Hydrolases | D17: 1 | E17: 1 | F17: 1 | G17: 1 | H17: 0 | I17: 1 | J17: 0 | K17: 1 | L17: 0
A18: Q06124.2 | B18: PTPN11 | C18: Hydrolases | D18: 1 | E18: 1 | F18: 1 | G18: 1 | H18: 0 | I18: 1 | J18: 0 | K18: 1 | L18: 0
A19: Q5FYB0.1 | B19: ARSJ | C19: Ligases | D19: 1 | E19: 0 | F19: 0 | G19: 0 | H19: 1 | I19: 1 | J19: 0 | K19: 0 | L19: 0
A20: Q8NHP8.2 | B20: PLBD2 | C20: Hydrolases | D20: 1 | E20: 1 | F20: 1 | G20: 1 | H20: 1 | I20: 1 | J20: 0 | K20: 0 | L20: 0
A21: P30305.2 | B21: CDC25B | C21: Hydrolases | D21: 1 | E21: 1 | F21: 1 | G21: 1 | H21: 0 | I21: 1 | J21: 0 | K21: 1 | L21: 0
A22: Q96JP5.1 | B22: ZFP91 | C22: Ligases | D22: 1 | E22: 0 | F22: 1 | G22: 0 | H22: 0 | I22: 1 | J22: 0 | K22: 1 | L22: 0
A23: Q68CK6.2 | B23: ACSM2B | C23: Ligases | D23: 1 | E23: 0 | F23: 0 | G23: 0 | H23: 1 | I23: 1 | J23: 0 | K23: 0 | L23: 0
A24: O60942.1 | B24: RNGTT | C24: Hydrolases | D24: 1 | E24: 1 | F24: 1 | G24: 1 | H24: 1 | I24: 1 | J24: 0 | K24: 1 | L24: 0
A25: P08243.4 | B25: ASNS | C25: Ligases | D25: 1 | E25: 0 | F25: 1 | G25: 0 | H25: 0 | I25: 1 | J25: 0 | K25: 0 | L25: 0
A26: Q7RTZ1.2 | B26: OVCH2 | C26: Ligases | D26: 1 | E26: 0 | F26: 0 | G26: 0 | H26: 1 | I26: 1 | J26: 0 | K26: 0 | L26: 0
A27: Q6UWW8.1 | B27: CES3 | C27: Ligases | D27: 1 | E27: 0 | F27: 1 | G27: 0 | H27: 1 | I27: 1 | J27: 0 | K27: 0 | L27: 0
A28: Q5T160.1 | B28: RARS2 | C28: Ligases | D28: 1 | E28: 0 | F28: 1 | G28: 0 | H28: 1 | I28: 1 | J28: 0 | K28: 0 | L28: 0
A29: P34913.2 | B29: EPHX2 | C29: Ligases | D29: 1 | E29: 0 | F29: 1 | G29: 0 | H29: 1 | I29: 1 | J29: 0 | K29: 1 | L29: 0
A30: Q9H4L4.2 | B30: SENP3 | C30: Ligases | D30: 1 | E30: 0 | F30: 1 | G30: 0 | H30: 0 | I30: 1 | J30: 0 | K30: 0 | L30: 0
A31: O14773.2 | B31: TPP1 | C31: Ligases | D31: 1 | E31: 0 | F31: 1 | G31: 0 | H31: 1 | I31: 1 | J31: 0 | K31: 1 | L31: 0
A32: Q2T9J0.3 | B32: TYSND1 | C32: Hydrolases | D32: 1 | E32: 1 | F32: 1 | G32: 1 | H32: 1 | I32: 1 | J32: 0 | K32: 0 | L32: 0
A33: Q6NUN0.2 | B33: ACSM5 | C33: Ligases | D33: 1 | E33: 0 | F33: 0 | G33: 0 | H33: 1 | I33: 1 | J33: 0 | K33: 0 | L33: 0
A34: P29350.1 | B34: PTPN6 | C34: Hydrolases | D34: 1 | E34: 1 | F34: 1 | G34: 1 | H34: 0 | I34: 1 | J34: 0 | K34: 1 | L34: 0
A35: Q9Y4X5.2 | B35: ARIH1 | C35: Ligases | D35: 1 | E35: 0 | F35: 1 | G35: 0 | H35: 0 | I35: 1 | J35: 0 | K35: 1 | L35: 0
A36: Q6P4A8.2 | B36: PLBD1 | C36: Ligases | D36: 1 | E36: 0 | F36: 0 | G36: 0 | H36: 1 | I36: 1 | J36: 0 | K36: 0 | L36: 0
A37: Q6P4A8.2 | B37: PLBD1 | C37: Hydrolases | D37: 1 | E37: 1 | F37: 0 | G37: 1 | H37: 1 | I37: 1 | J37: 0 | K37: 0 | L37: 0
A38: P43378.1 | B38: PTPN9 | C38: Hydrolases | D38: 1 | E38: 1 | F38: 1 | G38: 1 | H38: 0 | I38: 1 | J38: 0 | K38: 1 | L38: 0
A39: Q8NHQ9.3 | B39: DDX55 | C39: Ligases | D39: 1 | E39: 0 | F39: 1 | G39: 0 | H39: 0 | I39: 1 | J39: 0 | K39: 0 | L39: 0
A40: Q96AY3.1 | B40: FKBP10 | C40: Isomerases | D40: 1 | E40: 0 | F40: 1 | G40: 0 | H40: 0 | I40: 1 | J40: 0 | K40: 0 | L40: 0
A41: P08842.2 | B41: STS | C41: Hydrolases | D41: 1 | E41: 1 | F41: 0 | G41: 1 | H41: 1 | I41: 1 | J41: 0 | K41: 1 | L41: 0
A42: Q96G74.1 | B42: OTUD5 | C42: Hydrolases | D42: 1 | E42: 1 | F42: 1 | G42: 1 | H42: 0 | I42: 1 | J42: 0 | K42: 1 | L42: 0
A43: O14773.2 | B43: TPP1 | C43: Hydrolases | D43: 1 | E43: 1 | F43: 1 | G43: 1 | H43: 1 | I43: 1 | J43: 0 | K43: 1 | L43: 0
A44: Q8NBH2.2 | B44: KY | C44: Ligases | D44: 1 | E44: 0 | F44: 1 | G44: 0 | H44: 0 | I44: 1 | J44: 0 | K44: 0 | L44: 0
A45: P21589.1 | B45: NT5E | C45: Hydrolases | D45: 1 | E45: 1 | F45: 1 | G45: 1 | H45: 1 | I45: 1 | J45: 0 | K45: 1 | L45: 0
A46: Q8WYK0.1 | B46: ACOT12 | C46: Ligases | D46: 1 | E46: 0 | F46: 0 | G46: 0 | H46: 0 | I46: 1 | J46: 0 | K46: 1 | L46: 0
A47: Q06124.2 | B47: PTPN11 | C47: Ligases | D47: 1 | E47: 0 | F47: 1 | G47: 0 | H47: 0 | I47: 1 | J47: 0 | K47: 1 | L47: 0
A48: Q9NPA2.1 | B48: MMP25 | C48: Ligases | D48: 1 | E48: 0 | F48: 0 | G48: 0 | H48: 1 | I48: 1 | J48: 0 | K48: 0 | L48: 0
A49: Q96GW9.2 | B49: MARS2 | C49: Ligases | D49: 1 | E49: 0 | F49: 1 | G49: 0 | H49: 1 | I49: 1 | J49: 0 | K49: 0 | L49: 0
A50: P17812.2 | B50: CTPS1 | C50: Ligases | D50: 1 | E50: 0 | F50: 1 | G50: 0 | H50: 0 | I50: 1 | J50: 0 | K50: 1 | L50: 0
A51: P00750.1 | B51: PLAT | C51: Ligases | D51: 1 | E51: 0 | F51: 1 | G51: 0 | H51: 1 | I51: 1 | J51: 0 | K51: 1 | L51: 0
A52: Q5D1E8.1 | B52: ZC3H12A | C52: Ligases | D52: 1 | E52: 0 | F52: 1 | G52: 0 | H52: 0 | I52: 1 | J52: 0 | K52: 1 | L52: 0
A53: Q86T96.2 | B53: RNF180 | C53: Ligases | D53: 1 | E53: 0 | F53: 1 | G53: 0 | H53: 0 | I53: 1 | J53: 0 | K53: 0 | L53: 0
A54: Q15046.3 | B54: KARS | C54: Ligases | D54: 1 | E54: 0 | F54: 1 | G54: 0 | H54: 0 | I54: 1 | J54: 0 | K54: 1 | L54: 0
A55: Q96PD5.1 | B55: PGLYRP2 | C55: Ligases | D55: 1 | E55: 0 | F55: 0 | G55: 0 | H55: 1 | I55: 1 | J55: 0 | K55: 0 | L55: 0
A56: Q99502.2 | B56: EYA1 | C56: Ligases | D56: 1 | E56: 0 | F56: 1 | G56: 0 | H56: 0 | I56: 1 | J56: 0 | K56: 0 | L56: 0
A57: Q8WXF7.1 | B57: ATL1 | C57: Ligases | D57: 1 | E57: 0 | F57: 1 | G57: 0 | H57: 0 | I57: 1 | J57: 0 | K57: 1 | L57: 0
A58: O76083.1 | B58: PDE9A | C58: Hydrolases | D58: 1 | E58: 1 | F58: 1 | G58: 1 | H58: 0 | I58: 1 | J58: 0 | K58: 1 | L58: 0
A59: P08842.2 | B59: STS | C59: Ligases | D59: 1 | E59: 0 | F59: 1 | G59: 0 | H59: 1 | I59: 1 | J59: 0 | K59: 1 | L59: 0
A60: Q9NTJ5.2 | B60: SACM1L | C60: Hydrolases | D60: 1 | E60: 1 | F60: 1 | G60: 1 | H60: 0 | I60: 1 | J60: 0 | K60: 0 | L60: 0
A61: P21589.1 | B61: NT5E | C61: Ligases | D61: 1 | E61: 0 | F61: 1 | G61: 0 | H61: 1 | I61: 1 | J61: 0 | K61: 1 | L61: 0
A62: P28039.1 | B62: AOAH | C62: Hydrolases | D62: 1 | E62: 1 | F62: 0 | G62: 1 | H62: 1 | I62: 1 | J62: 0 | K62: 0 | L62: 0
A63: P31939.3 | B63: ATIC | C63: Ligases | D63: 1 | E63: 0 | F63: 1 | G63: 0 | H63: 0 | I63: 1 | J63: 0 | K63: 1 | L63: 0
A64: Q9UNH5.1 | B64: CDC14A | C64: Hydrolases | D64: 1 | E64: 1 | F64: 1 | G64: 1 | H64: 0 | I64: 1 | J64: 0 | K64: 0 | L64: 0
A65: Q8N119.2 | B65: MMP21 | C65: Ligases | D65: 1 | E65: 0 | F65: 0 | G65: 0 | H65: 1 | I65: 1 | J65: 0 | K65: 0 | L65: 0
A66: P50281.3 | B66: MMP14 | C66: Hydrolases | D66: 1 | E66: 1 | F66: 1 | G66: 1 | H66: 1 | I66: 1 | J66: 0 | K66: 1 | L66: 0
A67: Q5XG92.2 | B67: CES4A | C67: Ligases | D67: 1 | E67: 0 | F67: 0 | G67: 0 | H67: 1 | I67: 1 | J67: 0 | K67: 0 | L67: 0
A68: Q6NT32.1 | B68: CES5A | C68: Hydrolases | D68: 1 | E68: 1 | F68: 0 | G68: 1 | H68: 1 | I68: 1 | J68: 0 | K68: 0 | L68: 0
A69: P28039.1 | B69: AOAH | C69: Ligases | D69: 1 | E69: 0 | F69: 0 | G69: 0 | H69: 1 | I69: 1 | J69: 0 | K69: 0 | L69: 0
A70: Q7RTZ1.2 | B70: OVCH2 | C70: Hydrolases | D70: 1 | E70: 1 | F70: 0 | G70: 1 | H70: 1 | I70: 1 | J70: 0 | K70: 0 | L70: 0
A71: Q99504.3 | B71: EYA3 | C71: Hydrolases | D71: 1 | E71: 1 | F71: 1 | G71: 1 | H71: 0 | I71: 1 | J71: 0 | K71: 0 | L71: 0
A72: Q7Z569.2 | B72: BRAP | C72: Ligases | D72: 1 | E72: 0 | F72: 1 | G72: 0 | H72: 0 | I72: 1 | J72: 0 | K72: 0 | L72: 0
A73: P56180.3 | B73: TPTE | C73: Hydrolases | D73: 1 | E73: 1 | F73: 1 | G73: 1 | H73: 0 | I73: 1 | J73: 0 | K73: 0 | L73: 0
A74: Q9NSD9.3 | B74: FARSB | C74: Ligases | D74: 1 | E74: 0 | F74: 1 | G74: 0 | H74: 0 | I74: 1 | J74: 0 | K74: 1 | L74: 0
A75: Q6UWW8.1 | B75: CES3 | C75: Hydrolases | D75: 1 | E75: 1 | F75: 1 | G75: 1 | H75: 1 | I75: 1 | J75: 0 | K75: 0 | L75: 0
A76: O00257.3 | C76: Ligases | D76: 1 | E76: 0 | F76: 1 | G76: 0 | H76: 0 | I76: 1 | J76: 0 | K76: 1 | L76: 0
A77: Q96PD5.1 | B77: PGLYRP2 | C77: Hydrolases | D77: 1 | E77: 1 | F77: 0 | G77: 1 | H77: 1 | I77: 1 | J77: 0 | K77: 0 | L77: 0
A78: P32455.2 | B78: GBP1 | C78: Ligases | D78: 1 | E78: 0 | F78: 1 | G78: 0 | H78: 0 | I78: 1 | J78: 0 | K78: 1 | L78: 0
A79: P36871.3 | B79: PGM1 | C79: Isomerases | D79: 1 | E79: 0 | F79: 1 | G79: 0 | H79: 1 | I79: 1 | J79: 0 | K79: 1 | L79: 0
A80: Q9ULM6.2 | B80: CNOT6 | C80: Ligases | D80: 1 | E80: 0 | F80: 1 | G80: 0 | H80: 0 | I80: 1 | J80: 0 | K80: 0 | L80: 0
A81: Q9ULM6.2 | B81: CNOT6 | C81: Hydrolases | D81: 1 | E81: 1 | F81: 1 | G81: 1 | H81: 0 | I81: 1 | J81: 0 | K81: 0 | L81: 0
A82: Q8WYK0.1 | B82: ACOT12 | C82: Hydrolases | D82: 1 | E82: 1 | F82: 0 | G82: 1 | H82: 0 | I82: 1 | J82: 0 | K82: 1 | L82: 0
A83: A4D256.2 | B83: CDC14C | C83: Ligases | D83: 1 | E83: 0 | F83: 0 | G83: 0 | H83: 0 | I83: 1 | J83: 0 | K83: 0 | L83: 0
A84: Q9H0R5.3 | B84: GBP3 | C84: Hydrolases | D84: 1 | E84: 1 | F84: 1 | G84: 1 | H84: 0 | I84: 1 | J84: 0 | K84: 0 | L84: 0
A85: P51690.2 | B85: ARSE | C85: Hydrolases | D85: 1 | E85: 1 | F85: 1 | G85: 1 | H85: 1 | I85: 1 | J85: 0 | K85: 0 | L85: 0
A86: Q53FZ2.2 | B86: ACSM3 | C86: Ligases | D86: 1 | E86: 0 | F86: 1 | G86: 0 | H86: 1 | I86: 1 | J86: 0 | K86: 0 | L86: 0
A87: Q9Y2R4.3 | B87: DDX52 | C87: Hydrolases | D87: 1 | E87: 1 | F87: 1 | G87: 1 | H87: 0 | I87: 1 | J87: 0 | K87: 1 | L87: 0
A88: P32456.3 | B88: GBP2 | C88: Hydrolases | D88: 1 | E88: 1 | F88: 1 | G88: 1 | H88: 0 | I88: 1 | J88: 0 | K88: 0 | L88: 0
A89: Q9BYE2.4 | B89: TMPRSS13 | C89: Ligases | D89: 1 | E89: 0 | F89: 1 | G89: 1 | H89: 0 | I89: 1 | J89: 0 | K89: 0 | L89: 0
A90: P54793.4 | B90: ARSF | C90: Hydrolases | D90: 1 | E90: 1 | F90: 0 | G90: 1 | H90: 1 | I90: 1 | J90: 0 | K90: 0 | L90: 0
A91: Q9BZR9.2 | B91: TRIM8 | C91: Ligases | D91: 1 | E91: 0 | F91: 1 | G91: 0 | H91: 0 | I91: 1 | J91: 0 | K91: 0 | L91: 0
A92: Q96NY9.3 | B92: MUS81 | C92: Hydrolases | D92: 1 | E92: 1 | F92: 1 | G92: 1 | H92: 1 | I92: 1 | J92: 0 | K92: 1 | L92: 0
A93: Q5FYB1.1 | B93: ARS1 | C93: Ligases | D93: 1 | E93: 0 | F93: 0 | G93: 0 | H93: 1 | I93: 1 | J93: 0 | K93: 0 | L93: 0
A94: Q14520.1 | B94: HABP2 | C94: Ligases | D94: 1 | E94: 0 | F94: 1 | G94: 0 | H94: 1 | I94: 1 | J94: 0 | K94: 0 | L94: 0
A95: Q05932.3 | B95: FPGS | C95: Ligases | D95: 1 | E95: 0 | F95: 1 | G95: 0 | H95: 1 | I95: 1 | J95: 0 | K95: 1 | L95: 0
A96: O95243.1 | B96: MBD4 | C96: Hydrolases | D96: 1 | E96: 1 | F96: 1 | G96: 1 | H96: 0 | I96: 1 | J96: 0 | K96: 1 | L96: 0
A97: Q9UK80.1 | B97: USP21 | C97: Ligases | D97: 1 | E97: 0 | F97: 1 | G97: 0 | H97: 0 | I97: 1 | J97: 0 | K97: 1 | L97: 0
A98: Q8N119.2 | B98: MMP21 | C98: Hydrolases | D98: 1 | E98: 1 | F98: 0 | G98: 1 | H98: 1 | I98: 1 | J98: 0 | K98: 0 | L98: 0
A99: P36406.1 | B99: TRIM23 | C99: Ligases | D99: 1 | E99: 0 | F99: 1 | G99: 0 | H99: 1 | I99: 1 | J99: 0 | K99: 0 | L99: 0
A100: P34913.2 | B100: EPHX2 | C100: Hydrolases | D100: 1 | E100: 1 | F100: 1 | G100: 1 | H100: 1 | I100: 1 | J100: 0 | K100: 1 | L100: 0
...

Sheet Positive
B1: Query | D1: Classification 1 | H1: Classification 2 | J1: Classification 3 | P1: Midieval score | Q1: Classification 4 | S1: Classification 5 | X1: Classification 6 | AA1: Midieval score | AB1: Classification 7 | AE1: Classification 8 | AL1: Classification 9 | AP1: Medieval score | AQ1: Total Reliability Score
A2: S.No | C2: Putative Gene | D2: Protein family scores | H2: Orthology | J2: Protein Interaction/association studies | P2: 1+2+3 | Q2: Bidirectional best blast hits (BBH) | S2: Sorting signals | X2: From known databases and visualizers | AA2: 4+5+6 | AB2: HPs linked to Pseudogenes | AE2: Homology Modeling | AJ2: Non-Coding RNAs linked to HP | AL2: HPs linked to Non-coding RNAs | AP2: 7+8+9
B3: Accession | D3: Identity | E3: Domain/Family | F3: E value | G3: Score | H3: Accession | I3: Score | J3: Genemania | K3: BioGrid | L3: Method | M3: STRING | N3: Method | O3: Score | Q3: Accession | R3: Score | S3: TargetP | T3: WolfPsort | U3: EslPred (Accuracy) | V3: Consensus | X3: Gene | Y3: Genecards similarity/Score | Z3: Score | AB3: tBLASTn | AC3: E Value | AD3: Score | AE3: PDB Template | AF3: Template Description | AG3: Identity % | AH3: Stoichiometry | AI3: Score | AJ3: Accession No | AK3: Results (Noncode) | AL3: E value | AM3: LncRNA | AN3: E-Value | AO3: Score
A4: 1 | B4: NP_009107.1 | C4: C14orf1 | D4: PF03694.6 | E4: Erg28 | F4: 3.2e-39 | G4: 1 | H4: XP_011836958.1 | I4: 1 | J4: CCL18 | K4: TK1 | L4: Two-hybrid | M4: HSD17B7,LSS, FDFT1 | O4: 0 | P4: 2 | Q4: NP_009107.1 | R4: 1 | S4: SP | T4: PM | U4: Extracerllular (53) | V4: PM | Z4: 0 | AA4: 2 | AD4: 0 | AE4: 3olp.1.A | AF4: Phosphoglucomutase | AG4: 28.57 | AH4: MONOMER | AI4: 0 | AJ4: NM_007176.3 | AK4: NONHSAT169506.1 | AL4: 0 | AO4: 1 | AP4: 1 | AQ4: 5
A6: 2 | B6: CAC82738.1 | D6: PF01370.14 | E6: Epimerase | F6: 4.2e-12 | G6: 1 | H6: Q8IZJ6.1 | I6: 1 | O6: 0 | P6: 2 | Q6: CAC82738.1 | R6: 1 | S6: Other | T6: Cyto | U6: Extracellular (53) | V6: Cytoplasm | X6: GCAT | Z6: 0 | AA6: 2 | AD6: 0 | AE6: 3a1n.1.A | AF6: NDP-sugar epimerase | AG6: 36.47 | AH6: Homo-dimer | AI6: 1 | AJ6: AJ301562.1 | AK6: NONHSAT215424.1 | AL6: 2e-19 | AM6: Lnc-C8orf12-1:1 | AN6: 0 | AO6: 1 | AP6: 2 | AQ6: 6
A8: 3 | B8: AF527534_1 | D8: PF15811.3 | E8: 1.8e-24 | G8: 0 | I8: 0 | M8: VCP, NPLOC4 | N8: Anti tag CI | O8: 0 | P8: 1 | R8: 0 | S8: Other | T8: Mito | U8: Cytoplasmic (53) | Z8: 0 | AA8: 0 | AD8: 0 | AE8: 2l7a.1.A | AF8: Talin-1 | AG8: 26.92 | AH8: MONOMER | AI8: 0 | AJ8: AF527534.1 | AK8: NONHSAT160155.1 | AL8: 0 | AM8: NONHSAT018402 | AN8: 0 | AO8: 1 | AP8: 1 | AQ8: 2
AM9: NONHSAT018403 | AN9: 0
A11: 4 | B11: AAP97303 | C11: DDI1 | D11: PF00240.21 | E11: ubiquitin | F11: 1.9e-09 | G11: 1 | H11: NP_001001711.1 | I11: 1 | J11: CCL28, RAD23A, RAD23B | K11: CCL28 | L11: Two hybrid | M11: RAD23A, PSMD4, PSMD2,CCL28 | N11: Anti tag CI | O11: 1 | P11: 3 | Q11: AAP97303.1 | R11: 1 | S11: Other | T11: CSK | U11: Cytoplasm (75) | V11: Cytoplasm | X11: DDI2 | Y11: 88 | Z11: 1 | AA11: 3 | AD11: 0 | AE11: 3s8i.1.A | AF11: Protein DDI1 homolog 1 | AG11: 100.00 | AH11: MONOMER | AI11: 1 | AJ11: AF429971.1 | AK11: NONHSAT077386.2 | AL11: 1.2 | AO11: 0 | AP11: 1 | AQ11: 7
D12: PF09668.8 | E12: Asp_protease | F12: 4.3e-61
A14: 5 | B14: NP_060440.2 | C14: NRDE2 | D14: PF08424.8 | E14: NRDE-2 | F14: 2.9e-105 | G14: 1 | H14: AAH98568.1 | I14: 1 | J14: UBC | K14: RNPS1, EED,RPS10,SIDT2 | L14: Anti capture-MS | M14: UBC | N14: Affinity capture-MS | O14: 1 | P14: 3 | Q14: NP_060440.2 | R14: 1 | S14: Other | T14: Nucleus | U14: Nuclear (53) | V14: Nucleus | Z14: 0 | AA14: 2 | AB14: BC118673.1 | AC14: 0 | AD14: 1 | AE14: 4e85.1.A | AF14: mRNA 3'-end-processing protein | AG14: 11.18 | AH14: MONOMER | AI14: 0 | AJ14: NM_017970.3 | AK14: NONHSAT168785.1 | AL14: e-102 | AM14: NONHSAT039214 | AN14: 9.57623e-122 | AO14: 1 | AP14: 2 | AQ14: 7
A18: 6 | B18: NP_060541.3 | C18: ARHGEF40 | D18: PF00621.18 | E18: RhoGEF | F18: 6e-08 | G18: 1 | H18: EAW66410.1 | I18: 1 | J18: MYCBP, STC2, TAC1 | K18: MYCBP, STC2 | L18: Two hybrid | M18: UBC, MAPT | N18: Affinity capture- western assay | O18: 1 | P18: 3 | Q18: NP_060541.3 | R18: 1 | S18: Other | T18: Nucleus | U18: Cytoplasm (75) | Z18: 0 | AA18: 1 | AD18: 0 | AE18: 2rgn.1.B | AF18: RhoA/RAC/CDC42 exchange factor | AG18: 27.70 | AH18: MONOMER | AI18: 0 | AJ18: NM_018071.4 | AK18: NONHSAT192847.1 | AL18: 1e-24 | AM18: NONHSAT035649 | AN18: 0 | AO18: 1 | AP18: 1 | AQ18: 5
M19: SPERT | AM19: NONHSAT035648 | AN19: 0 | AO19: 1
A21: 7 | B21: NP_057673.2 | C21: TIMMDC1 | D21: PF02466.17 | E21: Tim17 | F21: 9.6e-15 | G21: 1 | H21: AAG43510.1 | I21: 1 | J21: HGS, ABCD3 | K21: NDUFAF1 | L21: Affinity capturre-MS | M21: HGS, , UBC | N21: Affinity capture western assay | O21: 1 | P21: 3 | Q21: NP_057673.2 | R21: 1 | S21: SP | T21: Extra | U21: Mito (53) | Z21: 0 | AA21: 1 | AB21: AL390094.1 | AC21: 2e-147 | AD21: 0 | AE21: 3rlb.1.A | AF21: ThiT | AG21: 14.29 | AH21: MONOMER | AI21: 0 | AJ21: NM_016589.3 | AK21: NONHSAT175131.1 | AL21: 0.22 | AM21: NONHSAT091392 | AN21: 3.07749e-83 | AO21: 0 | AP21: 0 | AQ21: 4
K22: ABCD3 | L22: Co-fractionation | M22: ABCD3 | N22: Affinity capture- MS assay
A25: 8 | B25: BAE46899.1 | C25: DYNC2H1 | G25: 0 | H25: EHH23376.1 | I25: 1 | J25: DYNC2LI1 | K25: DYNC2LI1 | L25: Affinity capture-MS | M25: DYNC2LI1 | N25: Pull down assay | O25: 1 | P25: 2 | Q25: XP_015291129.1 | R25: 0 | S25: Other | U25: Cytoplasm (75) | V25: Cytoplasm | X25: DNAH5 | Y25: 82 | Z25: 1 | AA25: 2 | AD25: 0 | AE25: 4rh7.1.A | AF25: fluorescent protein/Cytoplasmic dy | AG25: 98.94 | AH25: Monomer | AI25: 1 | AJ25: AB231765.1 | AK25: NONHSAT098639.2 | AL25: 2.2 | AO25: 0 | AP25: 1 | AQ25: 5
AO26: 0
A28: 9 | B28: NP_116207.2 | C28: ARHGEF39 | D28: PF00621.18 | E28: RhoGEF | F28: 1.7e-29 | G28: 1 | H28: XP_003829881.1 | I28: 1 | J28: RBPMS, DVL2 | K28: TIFA, CALCOCO2 | L28: Affinity cxapture-MS | M28: UBC, TIFA | N28: Affinity capture-MS assay | O28: 1 | P28: 3 | Q28: NP_116207.2 | R28: 1 | S28: Mito | T28: Cytoplasm | U28: Extracellular (53) | Z28: 0 | AA28: 1 | AD28: 0 | AE28: 4yon.1.A | AF28: hatidylinositol 3,4,5-trisphosphate -dependent Rac exchanger 1 protein | AG28: 21.00 | AH28: Monomer | AI28: 0 | AJ28: NM_032818.2 | AK28: NONHSAT219450.1 | AL28: 0 | AM28: NONHSAT130963 | AN28: 1.96412e-108 | AO28: 1 | AP28: 1 | AQ28: 5
K29: CACNG5, RBPMS, DVL2 | L29: Two-hybrid | AO29: 1
A31: 10 | B31: EAW66951.1 | C31: HSPC148 | D31: PF04889.10 | E31: Cwf_Cwc_15 | F31: 3.5e-44 | G31: 1 | H31: XP_007446596.1 | I31: 1 | J31: CTNNBL1, MAGOH, | K31: CTNNBL1, CDC5L, MAGOH | L31: Affinity capture-MS | O31: 1 | P31: 3 | Q31: NP_001039864.1 | R31: 0 | S31: Other | T31: Nuclear | U31: Nuclear (75) | V31: Nucleus | Z31: 0 | AA31: 1 | AD31: 0 | AE31: 1l4a.1.E | AF31: SYNAPHIN A | AG31: 26.09 | AH31: MONOMER | AI31: 0 | AJ31: CH471065.1 | AO31: 0 | AP31: 0 | AQ31: 4
A36: 11 | B36: EAW72391.1 | D36: PF00096.24 | E36: zf-C2H2 | F36: 7.1e-06 | G36: 1 | H36: XP_016792389.1 | I36: 1 | M36: NRL, FLT3 | N36: Two hybrid | O36: 0 | P36: 2 | Q36: EAW72391.1 | R36: 1 | S36: Other | U36: Nuclear (97) | V36: Nucleus | Z36: 0 | AA36: 2 | AB36: BC136512.1 | AC36: 2e-112 | AD36: 1 | AE36: 1tf6.1.C | AF36: PROTEIN TRANSCRIPTION FACTOR II | AG36: IA) 25.73 | AH36: MONOMER | AI36: 0 | AJ36: CH471135.1 | AO36: 0 | AP36: 1 | AQ36: 5
AB37: NM_032836.2 | AC37: 2e-111
A41: 12 | B41: EAW74482.1 | C41: MGC11102 | G41: 0 | H41: NP_115701.2 | I41: 1 | J41: STAT1 | K41: STAT1 | L41: Two hybrid | M41: STAT1, GAPDH | N41: Anti-tag CI assay | O41: 1 | P41: 2 | Q41: EHH56067.1 | R41: 0 | S41: Other | T41: Nucleus | U41: Nuclear (95) | V41: Nucleus | Z41: 0 | AA41: 1 | AD41: 0 | AE41: 2dgy.1.A | AF41: MGC11102 protei | AG41: 98.98 | AH41: MONOMER | AI41: 1 | AJ41: CH471076.1 | AO41: 0 | AP41: 1 | AQ41: 4
A44: 13 | B44: EAW84367.1 | G44: 0 | H44: NP_110445.1 | I44: 1 | M44: BUD31, NAA25 | O44: 0 | P44: 1 | Q44: BAG53603.1 | R44: 0 | S44: Other | T44: Nucleus | U44: Cytoplasm (53) | Z44: 0 | AA44: 0 | AB44: NM_001320569.1 | AC44: 0 | AD44: 1 | AE44: 4aj5.1.S | AF44: NDLE AND KINETOCHORE-ASSOCIATED PROTEIN ate isomerase | AG44: 17.50 | AH44: Monomer | AI44: 0 | AJ44: CH471106.1 | AO44: 0 | AP44: 1 | AQ44: 2
A47: 14 | B47: EAW84369.1 | D47: PF01008.15 | E47: IF-2B | F47: 4.4e-13 | G47: 1 | H47: XP_011526659.1 | I47: 1 | M47: KCTD3, LRRC40 | N47: CI | O47: 0 | P47: 2 | Q47: EAW84369.1 | R47: 1 | S47: Other | T47: Mito | U47: Mito (75) | V47: Mito | Z47: 0 | AA47: 2 | AD47: 0 | AE47: 4ldr.1.B | AF47: Methylthioribose-1-phosphate isomerase | AG47: 90.87 | AH47: MONOMER | AI47: 1 | AJ47: CH471106.1 | AO47: 0 | AP47: 1 | AQ47: 5
A50: 15 | B50: NP_775934.3 | C50: FAM153A | D50: PF15722.3 | E50: FAM153 | F50: 1.3e-23 | G50: 0 | H50: XP_016864852.1 | I50: 1 | J50: PLOD3, TEX37, FAM153B | K50: PLOD3 | L50: Two hybrid | M50: PLOD3, | N50: Two hybrid | O50: 1 | P50: 2 | Q50: XP_016864854.1 | R50: 0 | S50: Other | T50: Nucleus | U50: Nuclear (94) | V50: Nucleus | X50: FAM153C | Y50: 94 | Z50: 1 | AA50: 2 | AB50: NM_173663.3 | AC50: 0 | AD50: 1 | AE50: 3wz3.1 | AF50: .A TraM pro | AG50: 17.86 | AH50: MONOMER | AI50: 0 | AJ50: NM_173663.3 | AK50: NONHSAT142022.2 | AL50: 4e-49 | AM50: NONHSAT105294 | AN50: 1.20594e-107 | AO50: 1 | AP50: 3, | AQ50: 7
E51: FAM153 | F51: 7.7e-12 | K51: FAM153B | L51: Affinity capture- MS | X51: FAM153B | Y51: 88
E52: FAM153 | F52: 3.1e-30
E53: FAM153 | F53: 5.4e-41
A54: 16 | B54: NP_060290.3 | C54: EXD3 | D54: PF01612.18 | E54: DNA_pol_A_exo1 | F54: 2.7e-21 | G54: 1 | H54: EAW88383.1 | I54: 1 | J54: DAZAP2 | K54: DAZAP2, PLSCR1, | L54: Two hybrid | M54: EIF2C4, EIF2C1 | N54: CI | O54: 0 | P54: 2 | Q54: NP_060290.3 | R54: 1 | S54: Other | T54: Cyto-nuc | U54: Mito (53) | Z54: 0 | AA54: 1 | AB54: HM005438.1 | AC54: 0 | AD54: 1 | AE54: 4oo1.1.J | AF54: Exosome complex exon | AG54: 18.72 | AH54: MONOMER | AI54: 0 | AJ54: NM_017820.4 | AK54: NONHSAT221517.1 | AL54: 5e-53 | AM54: NONHSAT135723 | AN54: 0 | AO54: 1 | AP54: 2 | AQ54: 5
D55: PF01927.14 | E55: Mut7-C | F55: 1.1e-15 | K55: CUL1 | L55: Affinity capture- MS | AB55: NM_017820.4 | AC55: 0 | AK55: NONHSAT221518.1 | AL55: 3e-51 | AM55: NONHSAT135722 | AN55: 0 | AO55: 1
A57: 17 | B57: AAB51172.1 | C57: DNASE2 | G57: 0 | H57: NP_001366.1 | I57: 1 | J57: DNAJB11, OPA1 | K57: DNAJB11, OPA1 | L57: Co-Fractionation | M57: RRM1, DNAJB11, RUVBL2 | N57: Affinity chromatography | O57: 1 | P57: 2 | Q57: AAP36182.1 | R57: 0 | S57: SP | T57: Extracellular | U57: Extracellular ( 75) | V57: Extracellular | Z57: 0 | AA57: 1 | AB57: FJ752529.1 | AC57: 0 | AD57: 1 | AE57: 4osx.1.A | AF57: Isoaspartyl pepti | AG57: 12.00 | AH57: Monomer | AI57: 0 | AJ57: AD000092.1 | AO57: 0 | AP57: 1 | AQ57: 4
K58: RUVBL2 | L58: Affinity capture- MS | M58: OPA1 | N58: Anti bait CI
A60: 18 | B60: CAE45808.1 | C60: PAMR1 | D60: PF00431.18 | E60: CUB | F60: 3.9e-23 | G60: 1 | H60: CAI46203.1 | I60: 1 | J60: TRH | M60: SLC1A2 | O60: 0 | P60: 2 | Q60: CAE45808.1 | R60: 1 | S60: SP | T60: Extra | U60: Extracellular (97) | V60: Extracellular | X60: MASP1 | Y60: 77 | Z60: 1 | AA60: 3 | AB60: NM_001282675.1 | AC60: 0 | AD60: 1 | AE60: 4kkd.2.A | AF60: Mannan-binding lectin serine protease 1 | AG60: 25.78 | AH60: Monomer | AI60: 0 | AJ60: BX640676.1 | AK60: NONHSAT170697.1 | AL60: 0.43 | AM60: NONHSAT018792 | AN60: 0 | AO60: 1 | AP60: 2 | AQ60: 7
D61: PF00008.25 | E61: EGF | F61: 1.1e-07 | H61: NP_001001991.1 | X61: EGF | Y61: 69 | AB61: XM_004050947.1 | AC61: 0
D62: PF00089.24 | E62: Trypsin | F62: 1.5e-38
A63: 19 | B63: CAB66613.1 | C63: DEPTOR | D63: PF00610.19 | E63: DEP | F63: 4e-25 | G63: 1 | H63: AAH24746.1 | I63: 1 | J63: CHKA | K63: APP | L63: Affinity Capture-MS | M63: MTOR | N63: CI | O63: 0 | P63: 2 | Q63: CAB66613.1 | R63: 1 | S63: Other | T63: Nucleus | U63: Cytoplasmic (53) | X63: CGEF2 | Z63: 0 | AA63: 2 | AB63: AL136678.1 | AC63: 0 | AD63: 1 | AE63: 1q3o.1.B | AF63: Shank1 | AG63: 40.24 | AH63: Monomer | AI63: 1 | AJ63: AL136678.1 | AK63: NONHSAT128442.2 | AL63: e-135 | AM63: Lnc-DEPTOR-1:1 | AN63: 6.65217e-126 | AO63: 1 | AP63: 3 | AQ63: 7
D64: PF00610.19 | E64: DEP | F64: 3.9e-19 | H64: NP_073620.2 | J64: MLST8 | K64: BTRC | L64: AFFINITY CAPTUYRE-MS | M64: RPTOR | AB64: BC024746.1 | AC64: 0 | AK64: NONHSAT128443.2 | AL64: e-135 | AM64: ENST00000500705.3 | AN64: 6.65217e-126
J65: MTOR
A66: 20 | B66: CAB56014.2 | C66: EGFL6 | D66: PF07645.13 | E66: EGF_CA | F66: 4.8e-07 | G66: 1 | H66: NP_056322.2 | I66: 1 | J66: SH3GL2 | K66: SH3GL2 | L66: TWO HYBRID | M66: PTTG1 | O66: 0 | P66: 2 | Q66: BAC11477.1 | R66: 0 | S66: SP | T66: Extra | U66: Extracllular (94) | V66: Extracellular | X66: NPNT | Y66: 65 | Z66: 1 | AA66: 2 | AB66: AK315018.1 | AC66: 0 | AD66: 1 | AE66: 4xbm.2.A | AF66: Delta-like protein 1 | AG66: 31.98 | AH66: Monomer | AI66: 1 | AJ66: AL117610.1 | AK66: NONHSAT060798.2 | AL66: 0.075 | AM66: NONHSAT136312 | AN66: 1.59374e-47 | AO66: 1 | AP66: 3 | AQ66: 7
D67: PF07645.13 | E67: EGF_CA | F67: 5.9e-10 | H67: BAC11477.1 | J67: SH3GL3 | K67: LRP2 | L67: AFFINITY CAPTURE-MS | AB67: AK075214.1 | AC67: 0
D68: PF07645.13 | E68: EGF_CA | F68: 3.1e-09
D69: PF00629.21 | E69: MAM | F69: 2.2e-19
A70: 21 | B70: CAB92132.1 | C70: EGFL6 | D70: PF07645.13 | E70: EGF_CA | F70: 3.3e-06 | G70: 1 | H70: NP_001161362.1 | I70: 1 | J70: SH3GL2 | K70: SH3GL2 | L70: TWO-HYBRID | M70: PTTG1 | O70: 0 | P70: 2 | Q70: XP_528894.1 | R70: 0 | S70: SP | T70: Extra | U70: Extracellular (94) | V70: Extracellular | X70: NPNT | Y70: 65 | Z70: 1 | AA70: 2 | AB70: XM_528894.4 | AC70: 0 | AD70: 1 | AE70: 4xbm.2.A | AF70: Delta-like protein 1 | AG70: 33.04 | AH70: Monomer | AI70: 1 | AJ70: AJ245671.1 | AK70: NONHSAT060798.2 | AL70: 0.082 | AM70: NONHSAT136312 | AN70: 3.7824e-49 | AO70: 0 | AP70: 3 | AQ70: 7
D71: PF07645.13 | E71: EGF_CA | F71: 5.9e-10 | J71: SH3GL3 | K71: LRP2 | L71: AFFINITY CAPTURE -MS | AB71: XM_003805687.2 | AC71: 0
D72: PF07645.13 | E72: EGF_CA | F72: 7.8e-11
D73: PF00629.21 | E73: MAM | F73: 1.8e-21
A74: 22 | B74: CAC17765.1 | C74: ASB2 | D74: PF13637.4 | E74: Ank_4 | F74: 1.1e-07 | G74: 1 | H74: NP_057234.2 | I74: 1 | J74: CUL5 | K74: CUL5 | L74: AFFINITY CAPTURE-MS | M74: TCEB1 | N74: CI | O74: 1 | P74: 3 | Q74: XP_002825100.1 | R74: 0 | S74: Mito | T74: Mito | U74: Cytoplasmic (75) | V74: Mito | X74: GPR75-ASB3 | Y74: 70 | Z74: 1 | AA74: 2 | AB74: XM_005267758.3 | AC74: 0 | AD74: 1 | AE74: 4rlv.1.A | AF74: Ankyrin-1, Ankyrin-2 | AG74: 27.32 | AH74: Monomer | AI74: 0 | AJ74: AJ251238.1 | AK74: NONHSAT168829.1 | AL74: 3e-17 | AM74: NONHSAT039358 | AN74: 5.72802e-122 | AO74: 1 | AP74: 2 | AQ74: 7
D75: PF12796.5 | E75: Ank_2 | F75: 2.7e-14 | K75: TCEB1 | L75: AFFINITY CAPTURE-WESTERN | M75: CUL5 | X75: ANK2 | Y75: 70 | AB75: NM_001202429.1 | AC75: 0
D76: PF13606.4 | E76: Ank_3 | F76: 0.0002 | X76: ASB14 | Y76: 68
D77: PF12796.5 | E77: Ank_2 | F77: 8e-16
D78: PF07525.14 | E78: SOCS_box | F78: 2e-10
A79: 23 | B79: CAB61382.2 | C79: LRWD1 | D79: PF12799.5 | E79: LRR_4 | F79: 7.9e-08 | G79: 1 | H79: NP_690852.1 | I79: 1 | J79: ORC2 | K79: ORC3 | L79: AFFINITY CAPTURE -MS | M79: ORC3 | N79: CI | O79: 1 | P79: 3 | Q79: XP_004046011.1 | R79: 0 | S79: Mitochondria | T79: Nucleus | U79: Extracellular(95) | Z79: 0 | AA79: 0 | AB79: BC009436.1 | AC79: 0 | AD79: 1 | AE79: 5hyn.2.B | AF79: Polycomb protein EED | AG79: 17.7 | AH79: Monomer | AI79: 0 | AJ79: AL133057.1 | AK79: NONHSAT210354.1 | AL79: 0.077 | AM79: NA | AO79: 0 | AP79: 2 | AQ79: 5
J80: ORC3 | K80: ORC2 | L80: AFFINITY CAPTURE-MS | M80: ORC2 | AB80: BC018769.1 | AC80: 0 | AK80: NONHSAT092757.2 | AL80: 1.2
J81: ORC5 | K81: ORC5 | L81: AFFINITY CAPTURE-MS | M81: ORC5
A82: 24 | B82: CAH10625.1 | C82: CWF19L1 | D82: PF04677.13 | E82: CwfJ_C_1 | F82: 2.8e-34 | G82: 1 | H82: AAH08746.1 | I82: 1 | J82: FMNL1 | K82: PRPF19 | L82: AFFINITY CAPTURE-MS | M82: DBR1 | N82: Affinity capture-MS assay | O82: 1 | P82: 3 | Q82: NP_060764.3 | R82: 0 | S82: Other | T82: Cytoplasm | U82: Cytoplasmic (75) | V82: Cytoplasm | Z82: 0 | AA82: 1 | AB82: AL832515.1 | AC82: 0 | AD82: 1 | AE82: 3jb9.1.X | AF82: Pre-mRNA-splicing factor cwf19 | AG82: 21.03 | AH82: Monomer | AI82: 0 | AJ82: AL832515.1 | AK82: NONHSAT164551.1 | AL82: 1e-81 | AM82: NONHSAT015954 | AN82: 7.92717e-126 | AO82: 1 | AP82: 1 | AQ82: 5
D83: PF04676.12 | E83: CwfJ_C_2 | F83: 3.2e-16 | H83: NP_060764.3 | J83: TOMIL1 | K83: DBR1 | L83: AFFINITY CAPTURE-MS | AM83: NONHSAT145283 | AN83: 1.77771e-97
AM84: NONHSAT136687 | AN84: 3.84808e-94
A85: 25 | B85: CAB70766.1 | C85: ARHGAP12 | D85: PF00620.25 | E85: RhoGAP | F85: 4.6e-51 | G85: 1 | H85: XP_008965886.1 | I85: 1 | J85: MAPK11 | K85: IGHA1 | L85: AFFINITY CAPTURE-MS | M85: RHOA | N85: Affinity capture- Western assay | O85: 0 | P85: 2 | Q85: NP_001257624.1 | R85: 0 | S85: Other | T85: Cytoplasm | U85: Mito (53) | V85: Cytplasm | X85: ARHGAP15 | Y85: 83 | Z85: 1 | AA85: 2 | AD85: 0 | AE85: 3byi.1.A | AF85: Rho GTPase activating protein 15 | AG85: 65.07 | AH85: Monomer | AI85: 1 | AJ85: AL137485.1 | AK85: NONHSAT210223.1 | AL85: 1.8 | AM85: NONHSAT012631 | AN85: 0 | AO85: 0 | AP85: 2 | AQ85: 6
H86: NP_060757.4 | K86: MUC5B | L86: AFFINITY CAPTURE-MS | X86: OPHN1 | Y86: 78 | AM86: NONHSAT012630 | AN86: 0
H87: NP_001257624.1 | X87: ARHGAP10 | Y87: 76
A88: 26 | B88: CAI56764.1 | C88: DKFZp686E0870 | D88: PF03765.13 | E88: CRAL_TRIO_N | F88: 1.5e-07 | G88: 1 | H88: NP_001034288.1 | I88: 1 | M88: SACM1L | O88: 0 | P88: 2 | Q88: NP_001124588.1 | R88: 0 | S88: Other | T88: Cytoplasm | U88: Cytoplasmic (98) | V88: Cytoplasm | Z88: 0 | AA88: 1 | AD88: 0 | AE88: 3hy5.1.A | AF88: Retinaldehyde-binding protein 1 | AG88: 32.98 | AH88: Monomer | AI88: 1 | AJ88: CR936621.1 | AK88: NONHSAT079881.2 | AL88: 0 | AM88: NONHSAT079881 | AN88: 0 | AO88: 1 | AP88: 2 | AQ88: 5
D89: PF00650.18 | E89: CRAL_TRIO | F89: 6.9e-33 | M89: PLD1 | AK89: NONHSAT188795.1 | AL89: 0 | AN89: 5.37452e-111
M90: PLD1
A91: 27 | B91: CAH18083.1 | C91: DKFZp686C21137 | D91: PF00270.27 | E91: DEAD | F91: 4.9e-18 | G91: 1 | H91: NP_060802.1 | I91: 1 | M91: SPTBN1 | N91: CI | O91: 0 | P91: 2 | Q91: NP_001127671.1 | R91: 0 | S91: Other | T91: Cytoplasm | U91: Nuclear (94) | V91: Nucleus | Z91: 0 | AA91: 1 | AD91: 0 | AE91: 3g0h.1.A | AF91: ATP-dependent RNA helicase DDX19B | AG91: 98.77 | AH91: Monomer | AI91: 1 | AJ91: CR749227.1 | AK91: NONHSAT143422.2 | AL91: 1e-66 | AM91: NONHSAT013245 | AN91: 7.74106e-82 | AO91: 1 | AP91: 2 | AQ91: 5
D92: PF00271.29 | E92: Helicase_C | F92: 1.1e-26 | M92: GLE1
A94: 28 | B94: CAB66795.1 | C94: CRISPLD2 | D94: PF00188.24 | E94: CAP | F94: 6.5e-23 | G94: 1 | H94: NP_113664.1 | I94: 1 | K94: HSP90AB1 | L94: AFFINITY CAPTURE-MS | M94: IL8 | O94: 0 | P94: 2 | Q94: AAQ89150.1 | R94: 0 | S94: SP | T94: Extra | U94: Extracellular(53) | V94: Extracellular | X94: PI15 | Y94: 88 | Z94: 1 | AA94: 2 | AD94: 0 | AE94: 3nt8.1.A | AF94: Ancylostoma secreted protein 1 | AG94: 17.98 | AH94: Monomer | AI94: 0 | AJ94: AL136861.1 | AK94: NONHSAT174131.1 | AL94: 0 | AM94: NONHSAT130249 | AN94: 1.14416e-86 | AO94: 1 | AP94: 1 | AQ94: 5
D95: PF03815.17 | E95: LCCL | F95: 1.7e-23 | K95: IQCB1 | X95: R3HDML | Y95: 85 | AM95: ENST00000606533.1 | AN95: 1.14416e-86
D96: PF03815.17 | E96: LCCL | F96: 1.1e-25 | X96: CRISPLD1 | Y96: 80
A97: 29 | B97: CAI56710.1 | C97: MIER3 | D97: PF01448.22 | E97: ELM2 | F97: 2.9e-08 | G97: 1 | H97: XP_011541519.1 | I97: 1 | J97: HDAC2 | K97: HDAC1 | L97: AFFINITY CAPTURE-MS | M97: MRGBP | N97: TA purification assay | O97: 0 | P97: 2 | Q97: XP_011541518.1 | R97: 0 | S97: Other | T97: Nucleus | U97: Nuclear (94) | V97: Nucleus | X97: MIER1, | Y97: 76 | Z97: 1 | AA97: 2 | AB97: NM_001297599.1 | AC97: 0 | AD97: 1 | AE97: 5icn.1.A | AF97: Metastasis-associated protein MTA1 | AG97: 27.67 | AH97: Monomer | AI97: 0 | AJ97: BX648294.1 | AK97: NONHSAT202611.1 | AL97: 3e-46 | AM97: ENST00000606813.1 | AN97: 3.0285e-43 | AO97: 1 | AP97: 2 | AQ97: 6
D98: PF00249.29 | E98: Myb_DNA-binding | F98: 3.1e-06 | H98: NP_689835.3 | J98: CREB1 | K98: WIZ | L98: AFFINITY CAPTURE-MS | X98: MIER2 | Y98: 64 | AB98: BX537798.1 | AC98: 0 | AM98: ENST00000438553.1 | AN98: 1.41903e-36
A100: 30 | B100: CAB66806.1 | C100: COMMD4 | D100: PF07258.12 | E100: COMM_domain | F100: 8.6e-16 | G100: 1 | H100: NP_060298.2 | I100: 1 | J100: COMMD6 | K100: COMMD1 | L100: AFFINITY CAPTURE-MS | M100: UBC | N100: TA purification assay | O100: 1 | P100: 3 | Q100: XP_003818999.1 | R100: 0 | S100: Other | T100: Extra | U100: Cytoplasmic(75) | Z100: 0 | AA100: 0 | AB100: NM_001321844.1 | AC100: 3e-127 | AD100: 1 | AE100: 2h2m.1.A | AF100: COMM domain-containing protein 1 | AG100: 21.74 | AH100: Monomer | AI100: 0 | AJ100: AL136872.1 | AK100: NONHSAT047502.2 | AL100: 5e-95 | AM100: NONHSAT047316 | AN100: 0 | AO100: 1 | AP100: 2 | AQ100: 5
J101: COMMD1 | K101: COMMD2 | L101: AFFINITY CAPTURE-MS | M101: COMMD6 | AB101: XM_005254509.3 | AC101: 2e-127 | AK101: NONHSAT047503.2 | AL101: 5e-95 | AM101: NONHSAT047317 | AN101: 0
K102: COMMD6
A103: 31 | B103: CAI45996.1 | C103: DAZL | D103: PF00076.20 | E103: RRM_1 | F103: 3.1e-14 | G103: 1 | H103: NP_001177740.1 | I103: 1 | J103: DAZAP1 | K103: DAZ1 | L103: TWO HYBRID | M103: PUM2 | N103: Two-hybrid assay | O103: 1 | P103: 3 | Q103: XP_002803072.1 | R103: 0 | S103: Other | T103: Nucleus | U103: Nuclear (97) | V103: Nucleus | X103: DAZ2 | Y103: 94 | Z103: 1 | AA103: 2 | AB103: BC027595.2 | AC103: 0 | AD103: 1 | AE103: 2xs2.1.A | AF103: DELETED IN AZOOSPERMIA-LIKE | AG103: 96.04 | AH103: Monomer | AI103: 1 | AJ103: BX648638.1 | AK103: NONHSAT139755.2 | AL103: e-160 | AM103: NONHSAT139701 | AN103: 0 | AO103: 1 | AP103: 3 | AQ103: 8
J104: DAZ1 | K104: PUM2 | L104: TWO HYBRID | M104: DAZAP2 | X104: DAZ3 | Y104: 93 | AB104: U66078.1 | AC104: 0 | AM104: NONHSAT139755 | AN104: 0
J105: PUM2 | K105: DAZAP1 | L105: TWO HYBRID | X105: DAZ4 | Y105: 93 | AB105: U65918.1 | AC105: 0
A106: 32 | B106: CAD98097.1 | C106: LRRC57 | D106: PF13855.4 | E106: LRR_8 | F106: 3e-11 | G106: 1 | H106: XP_004088311.1 | I106: 1 | J106: COL7A1 | K106: LRRC40 | L106: AFFINITY CAPTURE -MS | M106: UBC | O106: 0 | P106: 2 | Q106: XP_011844623.1 | R106: 0 | S106: Other | T106: Cytoplasm | U106: Extracellular (57) | V106: Cytoplasm | X106: LRIG3 | Y106: 74 | Z106: 1 | AA106: 2 | AB106: BX538324.1 | AC106: 3e-159 | AD106: 1 | AE106: 4u06.1.A | AF106: LIC10831 | AG106: 35.98 | AH106: Monomer | AI106: 1 | AJ106: BX538324.1 | AK106: NONHSAT170718.1 | AL106: 0 | AM106: NONHSAT042019 | AN106: 0 | AO106: 1 | AP106: 3 | AQ106: 7
E107: LRR_8 | F107: 9.7e-07 | K107: XPO1 | X107: PHLPP2 | Y107: 72 | AK107: NONHSAT170714.1 | AL107: 0 | AM107: NONHSAT074702 | AN107: 2.03516e-176
A109: 33 | B109: CAI46109.1 | C109: TECRL | D109: PF02544.14 | E109: Steroid_dh | F109: 1.4e-19 | G109: 1 | H109: EAX05533.1 | I109: 1 | J109: SRD5A3 | M109: SRD5A3 | O109: 0 | P109: 2 | Q109: NP_001010874.2 | R109: 0 | S109: Mitochondria | T109: Mitochondria | U109: Extracellular(53) | V109: Mito | X109: TECR | Y109: 79 | Z109: 1 | AA109: 2 | AD109: 0 | AE109: 4quv.1.A | AF109: Delta(14)-sterol reductase | AG109: 14.88 | AH109: Monomer | AI109: 0 | AJ109: AL833108.1 | AK109: NONHSAT200014.1 | AL109: 0 | AM109: NONHSAT096644 | AN109: 0 | AO109: 1 | AP109: 1 | AQ109: 5
H110: NP_001010874.2 | M110: ELOVL1 | N110: Affinity capture western assay | O110: 0 | AK110: NONHSAT200013.1 | AL110: 0 | AM110: NONHSAT096643 | AN110: 0
I111: 1 | AK111: NONHSAT200012.1
A112: 34 | B112: CAI46169.1 | C112: ANKRD46 | D112: PF12796.5 | E112: Ank_2 | F112: 3.8e-13 | G112: 1 | H112: XP_013852025.1 | I112: 1 | K112: CDIE | L112: AFFINITY CAPTURE-MS | M112: UBC | N112: Affinity capture western assay | O112: 0 | P112: 2 | Q112: XP_017913794.1 | R112: 0 | S112: Other | T112: Cytoplasm | U112: Nuclear (94) | V112: Nucleus | X112: RAI14 | Y112: 70 | Z112: 1 | AA112: 2 | AB112: XM_004011810.2 | AC112: 3e-175 | AD112: 1 | AE112: 5hi9.1.A | AF112: Transient Receptor Potential Cation Channel Subfamily V Member 2 | AG112: 26.87 | AH112: Monomer | AI112: 0 | AJ112: AL832842.1 | AK112: NONHSAT186856.1 | AL112: 0.36 | AO112: 0 | AP112: 1 | AQ112: 5
H113: NP_940683.1 | I113: 1 | K113: CST9 | L113: AFFINITY CAPTURE-MS | X113: PPP1R12A | Y113: 69
A115: 35 | B115: CAH56300.1 | C115: WDR48 | D115: PF00400.30 | E115: WD40 | F115: 0.0099 | G115: 0 | H115: NP_065890.1 | I115: 1 | J115: USP1 | K115: USP1 | L115: AFFINITY CAPTURE-MS | M115: USP1 | N115: CI | O115: 1 | P115: 2 | Q115: XP_004412151.1 | R115: 0 | S115: Other | T115: Cytoplasm | U115: Nuclear (97) | V115: Nucleus | X115: WSB1 | Y115: 70 | Z115: 1 | AA115: 2 | AB115: AL832926.1 | AC115: 0 | AD115: 1 | AE115: 5k1a.2.B | AF115: WD repeat-containing protein 48 | AG115: 100 | AH115: Monomer | AI115: 1 | AJ115: AL832926.1 | AK115: NONHSAT193745.1 | AL115: 0 | AM115: NONHSAT089105 | AN115: 9.22037e-137 | AO115: 1 | AP115: 3 | AQ115: 7
D116: PF00400.30 | E116: WD40 | F116: 0.00036 | J116: USP12 | K116: USP46 | L116: AFFINITY CAPTURE-MS | M116: USP12 | X116: PF20
D117: PF00400.30 | E117: WD40 | F117: 0.026 | K117: USP12 | L117: AFFINITY CAPTURE-MS | M117: USP46
D118: PF00400.30 | E118: WD40 | F118: 3.9e-05
D119: PF11816.6 | E119: DUF3337 | F119: 1.1e-46
A120: 36 | B120: CAH56419.1 | C120: ANKMY2 | D120: PF12796.5 | E120: Ank_2 | F120: 1.5e-13 | G120: 1 | H120: NP_064715.1 | I120: 1 | J120: GUCY2D | K120: GUCY1B3 | L120: AFFINITY CAPTURE-MS | M120: PTCHD3 | O120: 0 | P120: 2 | Q120: XP_004045177.1 | R120: 0 | S120: Other | T120: Cytoplasm | U120: Cytoplasmic (97) | V120: Cytoplasm | X120: NRARP | Y120: 70 | Z120: 1 | AA120: 2 | AD120: 1 | AE120: 4oau.1.A | AF120: 2-5A-dependent ribonuclease | AG120: 20.48 | AH120: Monomer | AI120: 0 | AJ120: AL050390.1 | AK120: NONHSAT211715.1 | AL120: 3e-38 | AO120: 1 | AP120: 2 | AQ120: 6
D121: PF01753.16 | E121: zf-MYND | F121: 5.5e-09 | K121: FKBP5 | L121: AFFINITY CAPTURE-MS | M121: RPRD1A | N121: Co-fractiionation assay
M122: STAT5B
A123: 37 | B123: CAB66495.1 | C123: SLF1 | D123: PF12796.5 | E123: Ank_2 | F123: 2.4e-12 | G123: 1 | H123: BAG61145.1 | I123: 1 | M123: TP53BP1 | N123: Reconstituted complex assay | O123: 0 | P123: 2 | Q123: NP_115666.2 | R123: 0 | S123: Other | T123: Nucleus | U123: Mito (75) | X123: BARD1 | Z123: 0 | AA123: 0 | AD123: 0 | AE123: 1n11.1.A | AF123: Ankyrin | AG123: 19.4 | AH123: Monomer | AI123: 0 | AJ123: AL136560.1 | AK123: NONHSAT001292.2 | AL123: 0.88 | AM123: NONHSAT102830 | AN123: 3.99077e-102 | AO123: 0 | AP123: 0 | AQ123: 2
H124: NP_115666.2 | I124: 1 | M124: POLE | N124: CI | AM124: NONHSAT102831 | AN124: 7.37324e-30
A126: 38 | B126: CAB66797.1 | C126: WDR24 | D126: PF00400.30 | E126: WD40 | F126: 3.4e-06 | G126: 1 | H126: NP_115635.1 | I126: 1 | J126: APPBP2 | K126: APPBP2 | L126: TWO-HYBRID | M126: BMS1 | O126: 1 | P126: 3 | Q126: CAL38177.1 | R126: 0 | S126: Mitochondria | T126: Mitochondria | U126: Nuclear(94) | X126: WDR59 | Z126: 0 | AA126: 0 | AD126: 0 | AE126: 5jpq.1.I | AF126: U3 small nucleolar RNA-associated protein 21 | AG126: 11.11 | AH126: Monomer | AI126: 0 | AJ126: AL136863.1 | AK126: NONHSAT051844.2 | AL126: 0 | AM126: ENST00000575305.1 | AN126: 0 | AO126: 1 | AP126: 1 | AQ126: 4
J127: RAE1 | K127: SEC13 | L127: AFFINITY CAPTURE-MS | AM127: ENST00000566927.1 | AN127: 2.2272e-77
A129: 39 | B129: CAB66761.1 | C129: WDR37 | D129: PF00400.30 | E129: WD40 | F129: 0.02 | G129: 0 | H129: NP_054742.2 | I129: 1 | J129: PACS2 | K129: CCDC101 | L129: AFFINITY CAPTURE-MS | M129: PACS2 | O129: 1 | P129: 2 | Q129: XP_001138069.2 | R129: 0 | S129: Other | T129: Nucleus | U129: Nuclear (97) | V129: Nucleus | X129: PF20 | Z129: 0 | AA129: 1 | AD129: 0 | AE129: 3sfz.1.A | AF129: Apoptotic peptidase activating factor 1 | AG129: 21.96 | AH129: Monomer | AI129: 0 | AJ129: AL136827.1 | AK129: NONHSAT154882.1 | AL129: 2e-28 | AO129: 0 | AP129: 0 | AQ129: 3
D130: PF00400.30 | E130: WD40 | F130: 6.9e-06 | J130: CALM1 | K130: PACS1 | L130: AFFINITY CAPTURE-MS | M130: PACS1
D131: PF00400.30 | E131: WD40 | F131: 4.8e-07 | K131: PACS2 | L131: AFFINITY CAPTURE-MS
D132: PF00400.30 | E132: WD40 | F132: 5.6e-05
A133: 40 | B133: CAI45942.1 | C133: RBM48 | G133: 0 | H133: EAL24148.1 | I133: 1 | J133: GADD45G | K133: NUDT21 | L133: TWO-HYBRID | O133: 0 | P133: 1 | Q133: CAB66554.1 | R133: 0 | S133: Other | T133: Nucleus | U133: Nuclear (53) | V133: Nucleus | X133: C7orf64 | Z133: 0 | AA133: 1 | AD133: 0 | AE133: 3jb9.1.V | AF133: Pre-mRNA-splicing factor cwf2 | AG133: 23 | AH133: Monomer | AI133: 0 | AJ133: CR933641.1 | AK133: NONHSAT176249.1 | AL133: 2e-66 | AM133: Lnc-C17orf65-1:1 | AN133: 2.07003e-85 | AO133: 1 | AP133: 1 | AQ133: 3
...

Sheet two-tail t-test
A4: t-test
A5: Alpha | B5: 0.05
A6: Hypothesized Mean Difference | B6: 0
B7: Variable 1 | C7: Variable 2
A8: Mean | B8: =AVERAGE('plus 29 nov'!$H$1:$H$107) -> 0.47169811 | C8: =AVERAGE('minus 29 nov'!$B$1:$B$195) -> 1
A9: Variance | B9: =VAR('plus 29 nov'!$H$1:$H$107) -> 0.25157233 | C9: =VAR('minus 29 nov'!$B$1:$B$195) -> 0
A10: Observations | B10: =COUNT('plus 29 nov'!$H$1:$H$107) -> 106 | C10: =COUNT('minus 29 nov'!$B$1:$B$195) -> 194
A11: Pearson Correlation | B11: =CORREL('plus 29 nov'!$H$1:$H$107,'minus 29 nov'!$B$1:$B$195) -> #VALUE!
A12: Observed Mean Difference | B12: {=AVERAGE(IF(ISODD(IF(ISNUMBER('plus 29 nov'!$H$1:$H$107), 1, 0) * IF(ISNUMBER('minus 29 nov'!$B$1:$B$195), 1, 0)), 'plus 29 nov'!$H$1:$H$107 - 'minus 29 nov'!$B$1:$B$195, "NA"))} -> -0.52830189
A13: Variance of the Differences | B13: {=VAR(IF(ISODD(IF(ISNUMBER('plus 29 nov'!$H$1:$H$107), 1, 0) * IF(ISNUMBER('minus 29 nov'!$B$1:$B$195), 1, 0)), 'plus 29 nov'!$H$1:$H$107 - 'minus 29 nov'!$B$1:$B$195, "NA"))} -> 0.25157233
A14: df | B14: {=SUM(IF(ISNUMBER('plus 29 nov'!$H$1:$H$107), 1, 0) * IF(ISNUMBER('minus 29 nov'!$B$1:$B$195), 1, 0)) - 1} -> 105
A15: t Stat | B15: =('two-tail t-test'!$B$12 - 'two-tail t-test'!$B$6) / ('two-tail t-test'!$B$13 / ( 'two-tail t-test'!$B$14 + 1)) ^ 0.5 -> -10.844353
A16: P (T<=t) one-tail | B16: =TDIST(ABS('two-tail t-test'!$B$15), 'two-tail t-test'!$B$14, 1) -> 3.9053039e-19
A17: t Critical one-tail | B17: =TINV(2*'two-tail t-test'!$B$5, 'two-tail t-test'!$B$14) -> 1.6594954
A18: P (T<=t) two-tail | B18: =TDIST(ABS('two-tail t-test'!$B$15), 'two-tail t-test'!$B$14, 2) -> 7.8106077e-19
A19: t Critical two-tail | B19: =TINV('two-tail t-test'!$B$5, 'two-tail t-test'!$B$14) -> 1.9828153
