Workbook

Sheet S1
B2: Algorithm | C2: Threshold | D2: Predictions | E2: TP | F2: FN | G2: FP | H2: TN | I2: Specificity | J2: Sensitivity | K2: precision | L2: accuracy
B3: DeepTSS | C3: 0 | D3: 9117 | E3: 6663 | F3: 36 | G3: 765 | H3: 1653 | I3: 0.68362283 | J3: 0.99462606 | K3: 0.89701131 | L3: =(E3+H3)/D3 -> 0.91214215
B4: DeepTSS | C4: 0.01 | D4: 9140 | E4: 6645 | F4: 54 | G4: 573 | H4: 1868 | I4: 0.76526014 | J4: 0.9919391 | K4: 0.92061513 | L4: =(E4+H4)/D4 -> 0.93140044
B5: DeepTSS | C5: 0.02 | D5: 9150 | E5: 6634 | F5: 65 | G5: 496 | H5: 1955 | I5: 0.79763362 | J5: 0.99029706 | K5: 0.93043478 | L5: =(E5+H5)/D5 -> 0.93868852
B6: DeepTSS | C6: 0.03 | D6: 9155 | E6: 6629 | F6: 70 | G6: 447 | H6: 2009 | I6: 0.81799674 | J6: 0.98955068 | K6: 0.93682872 | L6: =(E6+H6)/D6 -> 0.94352813
B7: DeepTSS | C7: 0.04 | D7: 9162 | E7: 6624 | F7: 75 | G7: 424 | H7: 2039 | I7: 0.82785221 | J7: 0.9888043 | K7: 0.93984109 | L7: =(E7+H7)/D7 -> 0.94553591
B8: DeepTSS | C8: 0.05 | D8: 9169 | E8: 6618 | F8: 81 | G8: 400 | H8: 2070 | I8: 0.83805668 | J8: 0.98790864 | K8: 0.9430037 | L8: =(E8+H8)/D8 -> 0.94754063
B9: DeepTSS | C9: 0.1 | D9: 9188 | E9: 6599 | F9: 100 | G9: 342 | H9: 2147 | I9: 0.86259542 | J9: 0.9850724 | K9: 0.95072756 | L9: =(E9+H9)/D9 -> 0.95189377
B10: DeepTSS | C10: 0.2 | D10: 9209 | E10: 6581 | F10: 118 | G10: 288 | H10: 2222 | I10: 0.88525896 | J10: 0.98238543 | K10: 0.9580725 | L10: =(E10+H10)/D10 -> 0.95591269
B11: DeepTSS | C11: 0.3 | D11: 9224 | E11: 6567 | F11: 132 | G11: 260 | H11: 2265 | I11: 0.8970297 | J11: 0.98029557 | K11: 0.96191592 | L11: =(E11+H11)/D11 -> 0.95750217
B12: DeepTSS | C12: 0.4 | D12: 9238 | E12: 6555 | F12: 144 | G12: 232 | H12: 2307 | I12: 0.90862544 | J12: 0.97850425 | K12: 0.965817 | L12: =(E12+H12)/D12 -> 0.95929855
B13: DeepTSS | C13: 0.6 | D13: 9263 | E13: 6530 | F13: 169 | G13: 195 | H13: 2369 | I13: 0.92394696 | J13: 0.97477235 | K13: 0.97100372 | L13: =(E13+H13)/D13 -> 0.96070388
B14: DeepTSS | C14: 0.7 | D14: 9278 | E14: 6517 | F14: 182 | G14: 176 | H14: 2403 | I14: 0.93175649 | J14: 0.97283177 | K14: 0.97370387 | L14: =(E14+H14)/D14 -> 0.9614141
B15: DeepTSS | C15: 0.8 | D15: 9300 | E15: 6489 | F15: 210 | G15: 159 | H15: 2442 | I15: 0.93886967 | J15: 0.96865204 | K15: 0.97608303 | L15: =(E15+H15)/D15 -> 0.96032258
B16: DeepTSS | C16: 0.9 (default) | D16: 9354 | E16: 6398 | F16: 301 | G16: 123 | H16: 2532 | I16: 0.95367232 | J16: 0.95506792 | K16: 0.98113786 | L16: =(E16+H16)/D16 -> 0.9546718
B17: DeepTSS | C17: 0.91 | D17: 9364 | E17: 6386 | F17: 313 | G17: 119 | H17: 2546 | I17: 0.95534709 | J17: 0.95327661 | K17: 0.98170638 | L17: =(E17+H17)/D17 -> 0.95386587
B18: DeepTSS | C18: 0.92 | D18: 9370 | E18: 6376 | F18: 323 | G18: 118 | H18: 2553 | I18: 0.95582179 | J18: 0.95178385 | K18: 0.98182938 | L18: =(E18+H18)/D18 -> 0.9529349
B19: DeepTSS | C19: 0.93 | D19: 9376 | E19: 6352 | F19: 347 | G19: 114 | H19: 2563 | I19: 0.95741502 | J19: 0.94820122 | K19: 0.98236932 | L19: =(E19+H19)/D19 -> 0.95083191
B20: DeepTSS | C20: 0.94 | D20: 9391 | E20: 6325 | F20: 374 | G20: 112 | H20: 2580 | I20: 0.95839525 | J20: 0.94417077 | K20: 0.98260059 | L20: =(E20+H20)/D20 -> 0.94824832
B21: DeepTSS | C21: 0.95 | D21: 9407 | E21: 6299 | F21: 400 | G21: 107 | H21: 2601 | I21: 0.96048744 | J21: 0.9402896 | K21: 0.98329691 | L21: =(E21+H21)/D21 -> 0.94610397
B22: DeepTSS | C22: 0.96 | D22: 9432 | E22: 6267 | F22: 432 | G22: 100 | H22: 2633 | I22: 0.96341017 | J22: 0.93551276 | K22: 0.98429402 | L22: =(E22+H22)/D22 -> 0.94359627
B23: DeepTSS | C23: 0.97 | D23: 9471 | E23: 6220 | F23: 479 | G23: 97 | H23: 2675 | I23: 0.96500721 | J23: 0.92849679 | K23: 0.98464461 | L23: =(E23+H23)/D23 -> 0.93918277
B24: DeepTSS | C24: 0.98 | D24: 9539 | E24: 6102 | F24: 597 | G24: 83 | H24: 2757 | I24: 0.97077465 | J24: 0.91088222 | K24: 0.98658044 | L24: =(E24+H24)/D24 -> 0.9287137
B25: DeepTSS | C25: 0.99 | D25: 9694 | E25: 5753 | F25: 946 | G25: 55 | H25: 2940 | I25: 0.98163606 | J25: 0.85878489 | K25: 0.9905303 | L25: =(E25+H25)/D25 -> 0.89674025
B26: DeepTSS | C26: 0.995 | D26: 9694 | E26: 5753 | F26: 946 | G26: 55 | H26: 2940 | I26: 0.98163606 | J26: 0.85878489 | K26: 0.9905303 | L26: =(E26+H26)/D26 -> 0.89674025
B27: DeepTSS | C27: 0.996 | D27: 9694 | E27: 5753 | F27: 946 | G27: 55 | H27: 2940 | I27: 0.98163606 | J27: 0.85878489 | K27: 0.9905303 | L27: =(E27+H27)/D27 -> 0.89674025
B28: DeepTSS | C28: 0.997 | D28: 9694 | E28: 5753 | F28: 946 | G28: 55 | H28: 2940 | I28: 0.98163606 | J28: 0.85878489 | K28: 0.9905303 | L28: =(E28+H28)/D28 -> 0.89674025
... B37: ADAPT-CAGE | C37: 0.4 | D37: 9384 | E37: 6353 | F37: 346 | G37: 187 | H37: 2498 | I37: 0.93035382 | J37: 0.9483505 | K37: 0.97140673 | L37: =(E37+H37)/D37 -> 0.94320119
B38: ADAPT-CAGE | C38: 0.5 (default) | D38: 9421 | E38: 6294 | F38: 405 | G38: 172 | H38: 2550 | I38: 0.93681117 | J38: 0.93954322 | K38: 0.97339932 | L38: =(E38+H38)/D38 -> 0.93875385
B39: ADAPT-CAGE | C39: 0.6 | D39: 9466 | E39: 6214 | F39: 485 | G39: 155 | H39: 2612 | I39: 0.94398265 | J39: 0.92760113 | K39: 0.97566337 | L39: =(E39+H39)/D39 -> 0.9323896
B40: ADAPT-CAGE | C40: 0.7 | D40: 9524 | E40: 6102 | F40: 597 | G40: 140 | H40: 2685 | I40: 0.95044248 | J40: 0.91088222 | K40: 0.97757129 | L40: =(E40+H40)/D40 -> 0.92261655
B41: ADAPT-CAGE | C41: 0.8 | D41: 9612 | E41: 5906 | F41: 793 | G41: 125 | H41: 2788 | I41: 0.95708891 | J41: 0.88162412 | K41: 0.97927375 | L41: =(E41+H41)/D41 -> 0.90449438
B42: ADAPT-CAGE | C42: 0.9 | D42: 9778 | E42: 5495 | F42: 1204 | G42: 107 | H42: 2972 | I42: 0.96524846 | J42: 0.82027168 | K42: 0.98089968 | L42: =(E42+H42)/D42 -> 0.8659235
B43: ADAPT-CAGE | C43: 0.91 | D43: 9817 | E43: 5328 | F43: 1371 | G43: 99 | H43: 3019 | I43: 0.96824888 | J43: 0.79534259 | K43: 0.98175788 | L43: =(E43+H43)/D43 -> 0.85025975
B44: ADAPT-CAGE | C44: 0.92 | D44: 9835 | E44: 5279 | F44: 1420 | G44: 99 | H44: 3037 | I44: 0.96843112 | J44: 0.78802806 | K44: 0.98159167 | L44: =(E44+H44)/D44 -> 0.8455516
B45: ADAPT-CAGE | C45: 0.93 | D45: 9860 | E45: 5220 | F45: 1479 | G45: 99 | H45: 3062 | I45: 0.9686808 | J45: 0.77922078 | K45: 0.98138748 | L45: =(E45+H45)/D45 -> 0.83995943
B46: ADAPT-CAGE | C46: 0.94 | D46: 9939 | E46: 4950 | F46: 1749 | G46: 89 | H46: 3151 | I46: 0.97253086 | J46: 0.73891626 | K46: 0.98233777 | L46: =(E46+H46)/D46 -> 0.81507194
B47: ADAPT-CAGE | C47: 0.95 | D47: 9964 | E47: 4852 | F47: 1847 | G47: 86 | H47: 3179 | I47: 0.97366003 | J47: 0.72428721 | K47: 0.98258404 | L47: =(E47+H47)/D47 -> 0.80600161
B48: ADAPT-CAGE | C48: 0.96 | D48: 10040 | E48: 4591 | F48: 2108 | G48: 75 | H48: 3266 | I48: 0.97755163 | J48: 0.68532617 | K48: 0.98392628 | L48: =(E48+H48)/D48 -> 0.78256972
B49: ADAPT-CAGE | C49: 0.97 | D49: 10099 | E49: 4338 | F49: 2361 | G49: 64 | H49: 3336 | I49: 0.98117647 | J49: 0.64755934 | K49: 0.98546115 | L49: =(E49+H49)/D49 -> 0.75987722
...

Sheet S2
B1: Gene oriented TP/FP
B2: Algorithm | C2: parameters | D2: length | E2: count TP | F2: count FP
B3: DeepTSS | C3: 0 | D3: 500 | E3: 3216 | F3: 503
B4: DeepTSS | C4: 0.01 | D4: 500 | E4: 3210 | F4: 390
B5: DeepTSS | C5: 0.02 | D5: 500 | E5: 3206 | F5: 346
B6: DeepTSS | C6: 0.03 | D6: 500 | E6: 3205 | F6: 313
B7: DeepTSS | C7: 0.04 | D7: 500 | E7: 3202 | F7: 297
B8: DeepTSS | C8: 0.05 | D8: 500 | E8: 3199 | F8: 283
B9: DeepTSS | C9: 0.1 | D9: 500 | E9: 3191 | F9: 240
B10: DeepTSS | C10: 0.2 | D10: 500 | E10: 3185 | F10: 204
B11: DeepTSS | C11: 0.3 | D11: 500 | E11: 3179 | F11: 188
B12: DeepTSS | C12: 0.4 | D12: 500 | E12: 3175 | F12: 173
B13: DeepTSS | C13: 0.6 | D13: 500 | E13: 3163 | F13: 141
B14: DeepTSS | C14: 0.7 | D14: 500 | E14: 3160 | F14: 130
B15: DeepTSS | C15: 0.8 | D15: 500 | E15: 3150 | F15: 120
B16: DeepTSS | C16: 0.9 (default) | D16: 500 | E16: 3122 | F16: 91
B17: DeepTSS | C17: 0.91 | D17: 500 | E17: 3119 | F17: 88
B18: DeepTSS | C18: 0.92 | D18: 500 | E18: 3117 | F18: 88
B19: DeepTSS | C19: 0.93 | D19: 500 | E19: 3112 | F19: 87
B20: DeepTSS | C20: 0.94 | D20: 500 | E20: 3107 | F20: 87
B21: DeepTSS | C21: 0.95 | D21: 500 | E21: 3102 | F21: 85
B22: DeepTSS | C22: 0.96 | D22: 500 | E22: 3097 | F22: 81
B23: DeepTSS | C23: 0.97 | D23: 500 | E23: 3084 | F23: 79
B24: DeepTSS | C24: 0.98 | D24: 500 | E24: 3064 | F24: 70
B25: DeepTSS | C25: 0.99 | D25: 500 | E25: 2971 | F25: 52
B26: DeepTSS | C26: 0.995 | D26: 500 | E26: 2971 | F26: 52
B27: DeepTSS | C27: 0.996 | D27: 500 | E27: 2971 | F27: 52
B28: DeepTSS | C28: 0.997 | D28: 500 | E28: 2971 | F28: 52
... B37: ADAPT-CAGE | C37: 0.4 | D37: 500 | E37: 3112 | F37: 140
B38: ADAPT-CAGE | C38: 0.5 (default) | D38: 500 | E38: 3091 | F38: 125
B39: ADAPT-CAGE | C39: 0.6 | D39: 500 | E39: 3071 | F39: 114
B40: ADAPT-CAGE | C40: 0.7 | D40: 500 | E40: 3049 | F40: 106
B41: ADAPT-CAGE | C41: 0.8 | D41: 500 | E41: 3015 | F41: 93
B42: ADAPT-CAGE | C42: 0.9 | D42: 500 | E42: 2923 | F42: 81
B43: ADAPT-CAGE | C43: 0.91 | D43: 500 | E43: 2891 | F43: 75
B44: ADAPT-CAGE | C44: 0.92 | D44: 500 | E44: 2881 | F44: 75
B45: ADAPT-CAGE | C45: 0.93 | D45: 500 | E45: 2868 | F45: 75
B46: ADAPT-CAGE | C46: 0.94 | D46: 500 | E46: 2818 | F46: 67
B47: ADAPT-CAGE | C47: 0.95 | D47: 500 | E47: 2790 | F47: 66
B48: ADAPT-CAGE | C48: 0.96 | D48: 500 | E48: 2723 | F48: 62
...

Sheet S3
B3: Algorithm (a) | C3: Cluster Of TSS (predictions) (b) | D3: Overlap with
D4: positive predictions | H4: negative predictions
D5: Histone marks Active transcription TssA , TssAFlnk , TxFlnk (c) | E5: % | F5: Histone marks weak transcription TxWk , ReprPCWk, Quies , Tx , Het , ZNF/Rpts , EnhG , Enh , TssBiv , BivFlnk , EnhBiv , ReprPC (d) | G5: % | H5: Histone marks Active transcription TssA , TssAFlnk , TxFlnk (c) | I5: % | J5: Histone marks weak transcription TxWk , ReprPCWk, Quies , Tx , Het , ZNF/Rpts , EnhG , Enh , TssBiv , BivFlnk , EnhBiv , ReprPC (d) | K5: % | L5: TFBS (e) | M5: % | N5: H3K4me3 (f) | O5: %
B6: DeepTSS | C6: 31443 | D6: 30376 | E6: 96.66 | F6: 1047 | G6: 3.33 | H6: 4576 | I6: 28.74 | J6: 11343 | K6: 71.25 | L6: 30898 | M6: 98.266705 | N6: 28939 | O6: 92.036383
B7: ADAPT-CAGE | C7: 31177 | D7: 29885 | E7: 95.9 | F7: 1276 | G7: 4.09 | H7: 5067 | I7: 31.31 | J7: 11114 | K7: 68.68 | L7: 30466 | M7: 97.719473 | N7: 28409 | O7: 91.12166
B8: CAGER | C8: 14465 | D8: 12195 | E8: 84.62 | F8: 2215 | G8: 15.37 | H8: 13643 | I8: 57.63 | J8: 10029 | K8: 42.36 | L8: 12681 | M8: 87.666782 | N8: 11732 | O8: 81.106118
B9: PARACLU | C9: 9453 | D9: 8868 | E9: 94.01 | F9: 565 | G9: 5.98 | H9: 18522 | I9: 61.25 | J9: 11718 | K9: 38.75 | L9: 9005 | M9: 95.260764 | N9: 8702 | O9: 92.055432
B10: RECLU | C10: 11558 | D10: 10773 | E10: 93.35 | F10: 767 | G10: 6.64 | H10: 27147 | I10: 69.72 | J10: 11790 | K10: 30.27 | L10: 10902 | M10: 94.324278 | N10: 10397 | O10: 89.95501
B11: TOMETOOLS | C11: 30689 | D11: 28395 | E11: 92.59 | F11: 2272 | G11: 7.4 | H11: 6609 | I11: 39.42 | J11: 10155 | K11: 60.57 | L11: 29296 | M11: 95.460914 | N11: 27044 | O11: 88.12278
B12: iTiSS | C12: 1762 | D12: 721 | E12: 41.58 | F12: 1013 | G12: 58.41 | H12: 34405 | I12: 26.05 | J12: 12121 | K12: 26.05 | L12: 848 | M12: 48.12 | N12: 641 | O12: 36.37
B14: Supplementary Table 3. Table corresponding to all experimental-based evaluations. Columns (b) correspond to the number of predictions for each algorithm. These numbers are identical to Supplementary Table 1. In the remaining columns (from c to f) we can see the number of predictions overlapping various experimental data enriched regions of the genome. The summation of columns E and G for H9 and F and H for K562 does not add up to the numbers shown C for H9 and D for K562 because certain predictions do not overlap with any of the ChromHMM chromatin states annotated regions and some overlaps with more than one regions.

Sheet S4
B2: Algorithm | C2: Default values
B3: ADAPT-CAGE | C3: Score threshold=0.5
B4: PARACLU | C4: Number of reads=30 density=2
B5: RECLU | C5: tpm=0.1 idr=0.1
B6: CAGER | C6: threshold = 0.5 (tpm filter) Method=PARACLU Max distance=20
B7: TOMETOOLS | C7: Score threshold=0.228
B8: iTiSS | C8: modeType=DENSE_PEAK threshold=autoparam
B11: Supplementary Table 4. Evaluation algorithms default values.

Sheet S5
A1: Training metrics | E1: Evaluation metrics | I1: Hyper parameters
A2: accuracy | B2: loss | C2: precision | D2: recall | E2: val_accuracy | F2: val_loss | G2: val_precision | H2: val_recall | I2: Learning rate | J2: batch_size | K2: Drop_out
A3: 0.93799782 | B3: 0.1874533 | C3: 0.92911708 | D3: 0.94788325 | E3: 0.9602164 | F3: 0.13698079 | G3: 0.97346598 | H3: 0.94524962 | I3: 0.01 | J3: 64 | K3: 0.2
A4: 0.95033509 | B4: 0.14919519 | C4: 0.94401062 | D4: 0.95709348 | E4: 0.96085298 | F4: 0.11791059 | G4: 0.95251662 | H4: 0.96908212 | I4: 0.001 | J4: 64 | K4: 0.2
A5: 0.95347512 | B5: 0.1392872 | C5: 0.94738716 | D5: 0.95993984 | E5: 0.96323997 | F5: 0.121885 | G5: 0.97519839 | H5: 0.94975847 | I5: 0.0005 | J5: 64 | K5: 0.2
A6: 0.95719028 | B6: 0.12528051 | C6: 0.95130348 | D6: 0.96335441 | E6: 0.9512195 | F6: 0.13958009 | G6: 0.9272036 | H6: 0.97917628 | I6: 0.0001 | J6: 64 | K6: 0.2
A7: 0.95916665 | B7: 0.12020171 | C7: 0.95252347 | D7: 0.96645713 | E7: 0.95703542 | F7: 0.1349192 | G7: 0.94333977 | H7: 0.97160643 | I7: 0.01 | J7: 128 | K7: 0.2
A8: 0.96005994 | B8: 0.11534523 | C8: 0.9537397 | D8: 0.96697617 | E8: 0.95991701 | F8: 0.11734947 | G8: 0.94732666 | H8: 0.97317737 | I8: 0.001 | J8: 128 | K8: 0.2
A9: 0.96106851 | B9: 0.11214687 | C9: 0.95526159 | D9: 0.96739906 | E9: 0.95988822 | F9: 0.11934695 | G9: 0.96354991 | H9: 0.95514053 | I9: 0.0005 | J9: 128 | K9: 0.2
A10: 0.95512879 | B10: 0.13297689 | C10: 0.94894218 | D10: 0.96169239 | E10: 0.96180779 | F10: 0.12126845 | G10: 0.96767873 | H10: 0.95458937 | I10: 0.0001 | J10: 128 | K10: 0.2
A11: 0.95712924 | B11: 0.12544025 | C11: 0.95113873 | D11: 0.96345741 | E11: 0.96196687 | F11: 0.11921407 | G11: 0.95376819 | H11: 0.97004831 | I11: 0.01 | J11: 256 | K11: 0.2
A12: 0.97805673 | B12: 0.06142173 | C12: 0.97492927 | D12: 0.9811942 | E12: 0.97692555 | F12: 0.085003972 | G12: 0.97133756 | H12: 0.98228663 | I12: 0.001 | J12: 256 | K12: 0.2
A13: 0.95295489 | B13: 0.14224696 | C13: 0.94649947 | D13: 0.95984042 | E13: 0.95432848 | F13: 0.13955495 | G13: 0.93541408 | H13: 0.97487921 | I13: 0.0005 | J13: 256 | K13: 0.2
A14: 0.95556229 | B14: 0.1325397 | C14: 0.94899696 | D14: 0.96255004 | E14: 0.96005726 | F14: 0.12886298 | G14: 0.97064644 | H14: 0.94782609 | I14: 0.0001 | J14: 256 | K14: 0.2
... A66: 0.96207756 | B66: 0.10929917 | C66: 0.95670545 | D66: 0.96764386 | E66: 0.96205449 | F66: 0.11947735 | G66: 0.95399272 | H66: 0.97081912 | I66: 0.0001 | J66: 512 | K66: 0.35

Sheet S6A
A1: 1)TssA, TssAFlnk, TxFlnk | G1: 2)TxWk, ReprPCWk, Quies,Tx, ZNF/Rpts, Het,EnhG, Enh,,TssBiv, BivFlnk, EnhBiv, ReprPC
A2: tool | B2: total | C2: numOfTSS | D2: percent | G2: tool | H2: total | I2: numOfTSS | J2: percent
A3: 1_CNN | B3: 31426 | C3: 30376 | D3: =S6A!$C3/S6A!$B3 -> 0.96658818 | G3: 1_CNN | H3: 31423 | I3: 1047 | J3: =I3/H3 -> 0.033319543
A4: 2_aDaPT | B4: 31161 | C4: 29885 | D4: =S6A!$C4/S6A!$B4 -> 0.95905138 | G4: 2_aDaPT | H4: 31161 | I4: 1276 | J4: =I4/H4 -> 0.040948622
A5: 3_TOMETOOLS | B5: 30667 | C5: 28395 | D5: =S6A!$C5/S6A!$B5 -> 0.92591385 | G5: 3_TOMETOOLS | H5: 30667 | I5: 2272 | J5: =I5/H5 -> 0.074086151
A6: 4_PARACLU | B6: 9433 | C6: 8868 | D6: =S6A!$C6/S6A!$B6 -> 0.94010389 | G6: 4_PARACLU | H6: 9433 | I6: 565 | J6: =I6/H6 -> 0.059896109
A7: 5_RECLU | B7: 11540 | C7: 10773 | D7: =S6A!$C7/S6A!$B7 -> 0.93353553 | G7: 5_RECLU | H7: 11540 | I7: 767 | J7: =I7/H7 -> 0.066464471
A8: 6_CAGER | B8: 14410 | C8: 12195 | D8: =S6A!$C8/S6A!$B8 -> 0.8462873 | G8: 6_CAGER | H8: 14410 | I8: 2215 | J8: =I8/H8 -> 0.1537127
A9: 7_iTiSS | B9: 1734 | C9: 721 | D9: =S6A!$C9/S6A!$B9 -> 0.41580161 | G9: 7_iTiSS | H9: 1734 | I9: 1013 | J9: =I9/H9 -> 0.58419839

Sheet S6B
A1: 1)TssA, TssAFlnk, TxFlnk | G1: 2)TxWk, ReprPCWk, Quies,Tx, ZNF/Rpts, Het,EnhG, Enh,,TssBiv, BivFlnk, EnhBiv, ReprPC
A2: tool | B2: total | C2: numOfTSS | D2: percent | G2: tool | H2: total | I2: numOfTSS | J2: percent
A3: 1_CNN | B3: 15919 | C3: 4576 | D3: =S6B!$C3/S6B!$B3 -> 0.28745524 | G3: 1_CNN | H3: 15919 | I3: 11343 | J3: =I3/H3 -> 0.71254476
A4: 2_aDaPT | B4: 16181 | C4: 5067 | D4: =S6B!$C4/S6B!$B4 -> 0.31314505 | G4: 2_aDaPT | H4: 16181 | I4: 11114 | J4: =I4/H4 -> 0.68685495
A5: 3_TOMETOOLS | B5: 16764 | C5: 6609 | D5: =S6B!$C5/S6B!$B5 -> 0.39423765 | G5: 3_TOMETOOLS | H5: 16764 | I5: 10155 | J5: =I5/H5 -> 0.60576235
A6: 4_PARACLU | B6: 30240 | C6: 18522 | D6: =S6B!$C6/S6B!$B6 -> 0.6125 | G6: 4_PARACLU | H6: 30240 | I6: 11718 | J6: =I6/H6 -> 0.3875
A7: 5_RECLU | B7: 38937 | C7: 27147 | D7: =S6B!$C7/S6B!$B7 -> 0.69720317 | G7: 5_RECLU | H7: 38937 | I7: 11790 | J7: =I7/H7 -> 0.30279683
A8: 6_CAGER | B8: 23672 | C8: 13643 | D8: =S6B!$C8/S6B!$B8 -> 0.57633491 | G8: 6_CAGER | H8: 23672 | I8: 10029 | J8: =I8/H8 -> 0.42366509
A9: 7_iTiSS | B9: 46526 | C9: 34405 | D9: =S6B!$C9/S6B!$B9 -> 0.739479 | G9: 7_iTiSS | H9: 46526 | I9: 12121 | J9: =I9/H9 -> 0.260521

Sheet S6C
A1: TFBS
A2: Tool | B2: Region | C2: Total | D2: Overlapped | E2: Percentage
A3: 1_CNN | B3: ALL | C3: 31443 | D3: 30898 | E3: =S6C!$D3/S6C!$C3 -> 0.98266705
A4: 2_aDaPT | B4: ALL | C4: 31177 | D4: 30466 | E4: =S6C!$D4/S6C!$C4 -> 0.97719473
A5: 3_TOMETOOLS | B5: ALL | C5: 30689 | D5: 29296 | E5: =S6C!$D5/S6C!$C5 -> 0.95460914
A6: 4_PARACLU | B6: ALL | C6: 9453 | D6: 9005 | E6: =S6C!$D6/S6C!$C6 -> 0.95260764
A7: 5_RECLU | B7: ALL | C7: 11558 | D7: 10902 | E7: =S6C!$D7/S6C!$C7 -> 0.94324278
A8: 6_CAGER | B8: ALL | C8: 14465 | D8: 12681 | E8: =S6C!$D8/S6C!$C8 -> 0.87666782
A9: 7_iTiSS | B9: ALL | C9: 1762 | D9: 848 | E9: =S6C!$D9/S6C!$C9 -> 0.48127128

Sheet S6D
A1: Tool | B1: Region | C1: Total | D1: Overlapped | E1: Percentage
A2: 1_CNN | B2: H3K4me3 | C2: 31443 | D2: 28939 | E2: =S6D!$D2/S6D!$C2 -> 0.92036383
A3: 2_aDaPT | B3: H3K4me3 | C3: 31177 | D3: 28409 | E3: =S6D!$D3/S6D!$C3 -> 0.9112166
A4: 3_TOMETOOLS | B4: H3K4me3 | C4: 30689 | D4: 27044 | E4: =S6D!$D4/S6D!$C4 -> 0.8812278
A5: 4_PARACLU | B5: H3K4me3 | C5: 9453 | D5: 8702 | E5: =S6D!$D5/S6D!$C5 -> 0.92055432
A6: 5_RECLU | B6: H3K4me3 | C6: 11558 | D6: 10397 | E6: =S6D!$D6/S6D!$C6 -> 0.8995501
A7: 6_CAGER | B7: H3K4me3 | C7: 14465 | D7: 11732 | E7: =S6D!$D7/S6D!$C7 -> 0.81106118
A8: 7_iTiSS | B8: H3K4me4 | C8: 1762 | D8: 641 | E8: =S6D!$D8/S6D!$C8 -> 0.36379115
