Workbook

Sheet Legend
A1: Results from evaluating different pipelines in analyzing all simulation scenarios. The tables are the evaluation metrics (precision, recall, accuracy, and F1-score) calculated to assess the DMR finding pipelines in all 12 scenarios.

Sheet Large Datasets
A1: Comparison_Scenario | B1: Normalization | C1: BatchEffectCorrected | D1: DMR_Method | E1: TP | F1: FP | G1: FN | H1: Precision | I1: Recall | J1: F1
A2: Large_Breast_0.1 | B2: Raw | C2: NO | D2: ipdmr | E2: 3865 | F2: 526 | G2: 302 | H2: 0.88020952 | I2: 0.9275258 | J2: 0.90324842
B3: Raw | C3: NO | D3: combp | E3: 3607 | F3: 341 | G3: 560 | H3: 0.91362715 | I3: 0.86561075 | J3: 0.88897104
B4: Raw | C4: YES | D4: ipdmr | E4: 3940 | F4: 952 | G4: 227 | H4: 0.80539657 | I4: 0.94552436 | J4: 0.86985318
B5: Raw | C5: YES | D5: combp | E5: 3761 | F5: 745 | G5: 406 | H5: 0.83466489 | I5: 0.90256779 | J5: 0.86728929
B6: BAQN | C6: NO | D6: DMRcate | E6: 3913 | F6: 1993 | G6: 254 | H6: 0.66254656 | I6: 0.93904488 | J6: 0.77692842
B7: BAQN | C7: YES | D7: DMRcate | E7: 3924 | F7: 2087 | G7: 243 | H7: 0.65280319 | I7: 0.94168467 | J7: 0.77107487
B8: Raw | C8: YES | D8: DMRcate | E8: 2501 | F8: 268 | G8: 1666 | H8: 0.90321416 | I8: 0.60019198 | J8: 0.72116494
B9: Raw | C9: NO | D9: DMRcate | E9: 2311 | F9: 223 | G9: 1856 | H9: 0.91199684 | I9: 0.55459563 | J9: 0.6897478
B10: Raw | C10: NO | D10: seqlm | E10: 1704 | F10: 526 | G10: 2463 | H10: 0.76412556 | I10: 0.40892729 | J10: 0.53274973
B11: Raw | C11: YES | D11: seqlm | E11: 1616 | F11: 871 | G11: 2551 | H11: 0.64977885 | I11: 0.38780898 | J11: 0.48572287
B12: BAQN | C12: NO | D12: ipdmr | E12: 3951 | F12: 10272 | G12: 216 | H12: 0.2777895 | I12: 0.94816415 | J12: 0.42969005
B13: BAQN | C13: YES | D13: ipdmr | E13: 3954 | F13: 10420 | G13: 213 | H13: 0.27508001 | I13: 0.94888409 | J13: 0.42651421
B14: BAQN | C14: NO | D14: combp | E14: 3865 | F14: 10328 | G14: 302 | H14: 0.27231734 | I14: 0.9275258 | J14: 0.42102397
... B29: Raw | C29: NO | D29: ProbeLasso | E29: 45 | F29: 2 | G29: 4122 | H29: 0.95744681 | I29: 0.010799136 | J29: 0.02135738
A30: Large_Breast_0.2 | B30: Raw | C30: NO | D30: ipdmr | E30: 2119 | F30: 455 | G30: 178 | H30: 0.82323232 | I30: 0.92250762 | J30: 0.87004722
B31: Raw | C31: NO | D31: combp | E31: 1946 | F31: 270 | G31: 351 | H31: 0.87815884 | I31: 0.84719199 | J31: 0.86239752
B32: Raw | C32: YES | D32: combp | E32: 2038 | F32: 564 | G32: 259 | H32: 0.78324366 | I32: 0.88724423 | J32: 0.83200653
B33: Raw | C33: YES | D33: ipdmr | E33: 2155 | F33: 912 | G33: 142 | H33: 0.70264102 | I33: 0.93818024 | J33: 0.80350485
B34: BAQN | C34: NO | D34: DMRcate | E34: 2099 | F34: 1657 | G34: 198 | H34: 0.55883919 | I34: 0.91380061 | J34: 0.69354039
B35: BAQN | C35: YES | D35: DMRcate | E35: 2102 | F35: 1865 | G35: 195 | H35: 0.52987144 | I35: 0.91510666 | J35: 0.67113665
B36: Raw | C36: YES | D36: DMRcate | E36: 1239 | F36: 261 | G36: 1058 | H36: 0.826 | I36: 0.53939922 | J36: 0.65262049
B37: Raw | C37: NO | D37: DMRcate | E37: 1138 | F37: 238 | G37: 1159 | H37: 0.82703488 | I37: 0.49542882 | J37: 0.61965696
B38: Raw | C38: NO | D38: seqlm | E38: 883 | F38: 252 | G38: 1414 | H38: 0.77797357 | I38: 0.38441445 | J38: 0.51456876
B39: Raw | C39: YES | D39: seqlm | E39: 843 | F39: 555 | G39: 1454 | H39: 0.60300429 | I39: 0.36700044 | J39: 0.45629229
B40: BAQN | C40: NO | D40: ipdmr | E40: 2169 | F40: 7996 | G40: 128 | H40: 0.21337924 | I40: 0.94427514 | J40: 0.34809822
B41: BAQN | C41: NO | D41: combp | E41: 2115 | F41: 7988 | G41: 182 | H41: 0.20934376 | I41: 0.92076622 | J41: 0.34112903
B42: BAQN | C42: YES | D42: ipdmr | E42: 2172 | F42: 8451 | G42: 125 | H42: 0.20446202 | I42: 0.94558119 | J42: 0.33622291
... B57: Raw | C57: NO | D57: ProbeLasso | E57: 20 | F57: 2 | G57: 2277 | H57: 0.90909091 | I57: 0.0087070091 | J57: 0.017248814
A58: Large_Breast_0.4 | B58: Raw | C58: NO | D58: ipdmr | E58: 735 | F58: 220 | G58: 78 | H58: 0.76963351 | I58: 0.90405904 | J58: 0.83144796
B59: Raw | C59: NO | D59: combp | E59: 661 | F59: 132 | G59: 152 | H59: 0.83354351 | I59: 0.81303813 | J59: 0.82316314
B60: Raw | C60: YES | D60: combp | E60: 690 | F60: 272 | G60: 123 | H60: 0.71725572 | I60: 0.84870849 | J60: 0.77746479
B61: BAQN | C61: NO | D61: DMRcate | E61: 660 | F61: 316 | G61: 153 | H61: 0.67622951 | I61: 0.81180812 | J61: 0.73784237
B62: Raw | C62: YES | D62: ipdmr | E62: 746 | F62: 507 | G62: 67 | H62: 0.59537111 | I62: 0.91758918 | J62: 0.72216844
B63: BAQN | C63: YES | D63: DMRcate | E63: 724 | F63: 510 | G63: 89 | H63: 0.58670989 | I63: 0.89052891 | J63: 0.70737665
B64: Raw | C64: YES | D64: DMRcate | E64: 397 | F64: 147 | G64: 416 | H64: 0.72977941 | I64: 0.48831488 | J64: 0.58511422
B65: Raw | C65: NO | D65: seqlm | E65: 365 | F65: 79 | G65: 448 | H65: 0.82207207 | I65: 0.44895449 | J65: 0.58074781
B66: Raw | C66: NO | D66: DMRcate | E66: 353 | F66: 130 | G66: 460 | H66: 0.73084886 | I66: 0.43419434 | J66: 0.54475309
B67: Raw | C67: YES | D67: seqlm | E67: 351 | F67: 221 | G67: 462 | H67: 0.61363636 | I67: 0.43173432 | J67: 0.50685921
B68: BAQN | C68: NO | D68: combp | E68: 701 | F68: 1670 | G68: 112 | H68: 0.29565584 | I68: 0.86223862 | J68: 0.44032663
B69: BAQN | C69: NO | D69: ipdmr | E69: 751 | F69: 2236 | G69: 62 | H69: 0.25142283 | I69: 0.92373924 | J69: 0.39526316
B70: BAQN | C70: YES | D70: combp | E70: 713 | F70: 2495 | G70: 100 | H70: 0.22225686 | I70: 0.87699877 | J70: 0.35463815
... B85: Raw | C85: NO | D85: ProbeLasso | E85: 5 | F85: 0 | G85: 808 | H85: 1 | I85: 0.0061500615 | J85: 0.012224939
A86: Large_CD8_0.1 | B86: Raw | C86: NO | D86: ipdmr | E86: 3768 | F86: 473 | G86: 399 | H86: 0.8884697 | I86: 0.90424766 | J86: 0.89628925
B87: Raw | C87: NO | D87: combp | E87: 3459 | F87: 315 | G87: 708 | H87: 0.91653418 | I87: 0.83009359 | J87: 0.87117491
B88: Raw | C88: YES | D88: ipdmr | E88: 3871 | F88: 909 | G88: 296 | H88: 0.80983264 | I88: 0.92896568 | J88: 0.86531798
B89: Raw | C89: YES | D89: combp | E89: 3677 | F89: 721 | G89: 490 | H89: 0.83606185 | I89: 0.88240941 | J89: 0.85861062
B90: BAQN | C90: NO | D90: DMRcate | E90: 3774 | F90: 1295 | G90: 393 | H90: 0.74452555 | I90: 0.90568755 | J90: 0.8172369
B91: BAQN | C91: YES | D91: DMRcate | E91: 3822 | F91: 1466 | G91: 345 | H91: 0.72276853 | I91: 0.91720662 | J91: 0.80846113
B92: Raw | C92: YES | D92: DMRcate | E92: 2335 | F92: 248 | G92: 1832 | H92: 0.90398761 | I92: 0.56035517 | J92: 0.69185185
B93: Raw | C93: NO | D93: DMRcate | E93: 2086 | F93: 226 | G93: 2081 | H93: 0.90224913 | I93: 0.50059995 | J93: 0.64392653
B94: BAQN | C94: NO | D94: ipdmr | E94: 3922 | F94: 7536 | G94: 245 | H94: 0.34229359 | I94: 0.9412047 | J94: 0.502016
B95: Raw | C95: NO | D95: seqlm | E95: 1580 | F95: 606 | G95: 2587 | H95: 0.72278134 | I95: 0.37916967 | J95: 0.4974028
B96: BAQN | C96: NO | D96: combp | E96: 3799 | F96: 7622 | G96: 368 | H96: 0.33263287 | I96: 0.91168706 | J96: 0.48742623
B97: BAQN | C97: YES | D97: ipdmr | E97: 3927 | F97: 8144 | G97: 240 | H97: 0.32532516 | I97: 0.94240461 | J97: 0.48368026
B98: BAQN | C98: YES | D98: combp | E98: 3832 | F98: 8208 | G98: 335 | H98: 0.31827243 | I98: 0.91960643 | J98: 0.47288209
... B113: Raw | C113: NO | D113: ProbeLasso | E113: 39 | F113: 1 | G113: 4128 | H113: 0.975 | I113: 0.0093592513 | J113: 0.018540528
A114: Large_CD8_0.2 | B114: Raw | C114: NO | D114: ipdmr | E114: 2057 | F114: 403 | G114: 240 | H114: 0.83617886 | I114: 0.89551589 | J114: 0.86483078
B115: Raw | C115: NO | D115: combp | E115: 1842 | F115: 246 | G115: 455 | H115: 0.88218391 | I115: 0.80191554 | J115: 0.84013683
B116: Raw | C116: YES | D116: combp | E116: 1971 | F116: 534 | G116: 326 | H116: 0.78682635 | I116: 0.85807575 | J116: 0.82090796
B117: Raw | C117: YES | D117: ipdmr | E117: 2111 | F117: 863 | G117: 186 | H117: 0.70981843 | I117: 0.91902481 | J117: 0.80098653
B118: BAQN | C118: NO | D118: DMRcate | E118: 1872 | F118: 942 | G118: 425 | H118: 0.6652452 | I118: 0.81497606 | J118: 0.73253766
B119: BAQN | C119: YES | D119: DMRcate | E119: 1917 | F119: 1110 | G119: 380 | H119: 0.6333003 | I119: 0.83456683 | J119: 0.72013524
B120: Raw | C120: YES | D120: DMRcate | E120: 1157 | F120: 261 | G120: 1140 | H120: 0.81593794 | I120: 0.50370048 | J120: 0.62288022
B121: Raw | C121: NO | D121: DMRcate | E121: 1027 | F121: 212 | G121: 1270 | H121: 0.82889427 | I121: 0.44710492 | J121: 0.58088235
B122: Raw | C122: NO | D122: seqlm | E122: 846 | F122: 276 | G122: 1451 | H122: 0.7540107 | I122: 0.36830649 | J122: 0.49488154
B123: BAQN | C123: NO | D123: ipdmr | E123: 2136 | F123: 4597 | G123: 161 | H123: 0.31724343 | I123: 0.92990858 | J123: 0.4730897
B124: BAQN | C124: NO | D124: combp | E124: 2040 | F124: 4419 | G124: 257 | H124: 0.31583837 | I124: 0.88811493 | J124: 0.46596619
B125: BAQN | C125: YES | D125: ipdmr | E125: 2147 | F125: 5328 | G125: 150 | H125: 0.28722408 | I125: 0.93469743 | J125: 0.43941875
B126: Raw | C126: YES | D126: seqlm | E126: 801 | F126: 572 | G126: 1496 | H126: 0.58339403 | I126: 0.34871572 | J126: 0.43651226
... B141: Raw | C141: NO | D141: ProbeLasso | E141: 10 | F141: 0 | G141: 2287 | H141: 1 | I141: 0.0043535046 | J141: 0.0086692674
A142: Large_CD8_0.4 | B142: Raw | C142: NO | D142: ipdmr | E142: 717 | F142: 205 | G142: 96 | H142: 0.77765727 | I142: 0.88191882 | J142: 0.82651297
B143: Raw | C143: NO | D143: combp | E143: 642 | F143: 133 | G143: 171 | H143: 0.8283871 | I143: 0.7896679 | J143: 0.80856423
B144: Raw | C144: YES | D144: combp | E144: 675 | F144: 284 | G144: 138 | H144: 0.70385819 | I144: 0.8302583 | J144: 0.76185102
B145: Raw | C145: YES | D145: ipdmr | E145: 737 | F145: 502 | G145: 76 | H145: 0.59483454 | I145: 0.90651907 | J145: 0.71832359
B146: BAQN | C146: NO | D146: DMRcate | E146: 682 | F146: 520 | G146: 131 | H146: 0.56738769 | I146: 0.83886839 | J146: 0.67692308
B147: BAQN | C147: YES | D147: DMRcate | E147: 687 | F147: 677 | G147: 126 | H147: 0.50366569 | I147: 0.84501845 | J147: 0.63114378
B148: Raw | C148: NO | D148: seqlm | E148: 353 | F148: 80 | G148: 460 | H148: 0.81524249 | I148: 0.43419434 | J148: 0.56661316
B149: Raw | C149: YES | D149: DMRcate | E149: 366 | F149: 136 | G149: 447 | H149: 0.72908367 | I149: 0.4501845 | J149: 0.55665399
B150: Raw | C150: NO | D150: DMRcate | E150: 324 | F150: 111 | G150: 489 | H150: 0.74482759 | I150: 0.39852399 | J150: 0.51923077
B151: Raw | C151: YES | D151: seqlm | E151: 336 | F151: 216 | G151: 477 | H151: 0.60869565 | I151: 0.41328413 | J151: 0.49230769
B152: BAQN | C152: NO | D152: combp | E152: 694 | F152: 2183 | G152: 119 | H152: 0.2412235 | I152: 0.85362854 | J152: 0.37615176
B153: BAQN | C153: NO | D153: ipdmr | E153: 753 | F153: 2768 | G153: 60 | H153: 0.2138597 | I153: 0.92619926 | J153: 0.347485
B154: BAQN | C154: YES | D154: combp | E154: 707 | F154: 2783 | G154: 106 | H154: 0.2025788 | I154: 0.8696187 | J154: 0.32860795
... B169: Raw | C169: NO | D169: ProbeLasso | E169: 3 | F169: 0 | G169: 810 | H169: 1 | I169: 0.0036900369 | J169: 0.0073529412
A170: Large_No_Sim_0 | B170: BAQN | C170: YES | D170: BumpHunter | E170: 0 | F170: 0 | G170: 0 | H170: 0 | I170: 0 | J170: 0
B171: BAQN | C171: YES | D171: Cohcap | E171: 0 | F171: 0 | G171: 0 | H171: 0 | I171: 0 | J171: 0
B172: BAQN | C172: YES | D172: DMRcate | E172: 0 | F172: 0 | G172: 0 | H172: 0 | I172: 0 | J172: 0
B173: BAQN | C173: YES | D173: ProbeLasso | E173: 0 | F173: 0 | G173: 0 | H173: 0 | I173: 0 | J173: 0
B174: BAQN | C174: NO | D174: Cohcap | E174: 0 | F174: 0 | G174: 0 | H174: 0 | I174: 0 | J174: 0
B175: BAQN | C175: NO | D175: DMRcate | E175: 0 | F175: 0 | G175: 0 | H175: 0 | I175: 0 | J175: 0
B176: BAQN | C176: NO | D176: ProbeLasso | E176: 0 | F176: 0 | G176: 0 | H176: 0 | I176: 0 | J176: 0
B177: Raw | C177: YES | D177: Cohcap | E177: 0 | F177: 0 | G177: 0 | H177: 0 | I177: 0 | J177: 0
B178: Raw | C178: YES | D178: DMRcate | E178: 0 | F178: 0 | G178: 0 | H178: 0 | I178: 0 | J178: 0
B179: Raw | C179: YES | D179: ProbeLasso | E179: 0 | F179: 0 | G179: 0 | H179: 0 | I179: 0 | J179: 0
B180: Raw | C180: NO | D180: Cohcap | E180: 0 | F180: 0 | G180: 0 | H180: 0 | I180: 0 | J180: 0
B181: Raw | C181: NO | D181: DMRcate | E181: 0 | F181: 0 | G181: 0 | H181: 0 | I181: 0 | J181: 0
B182: Raw | C182: NO | D182: ProbeLasso | E182: 0 | F182: 0 | G182: 0 | H182: 0 | I182: 0 | J182: 0
... B197: BAQN | C197: YES | D197: combp | E197: 0 | F197: 35 | G197: 0 | H197: 0 | I197: 0 | J197: 0

Sheet Small Datasets
A1: Comparison_Scenario | B1: Normalization | C1: BatchEffectCorrected | D1: DMR_Method | E1: TP | F1: FP | G1: FN | H1: Precision | I1: Recall | J1: F1
A2: Small_Breast_0.1 | B2: Raw | C2: YES | D2: ipdmr | E2: 3582 | F2: 526 | G2: 585 | H2: 0.87195716 | I2: 0.85961123 | J2: 0.86574018
B3: Raw | C3: YES | D3: combp | E3: 3015 | F3: 333 | G3: 1152 | H3: 0.90053763 | I3: 0.72354212 | J3: 0.80239521
B4: Raw | C4: NO | D4: ipdmr | E4: 2923 | F4: 203 | G4: 1244 | H4: 0.93506078 | I4: 0.70146388 | J4: 0.80159057
B5: BAQN | C5: YES | D5: DMRcate | E5: 3181 | F5: 804 | G5: 986 | H5: 0.79824341 | I5: 0.76337893 | J5: 0.78042198
B6: BAQN | C6: NO | D6: DMRcate | E6: 2596 | F6: 378 | G6: 1571 | H6: 0.87289845 | I6: 0.62299016 | J6: 0.72706904
B7: Raw | C7: YES | D7: seqlm | E7: 2395 | F7: 543 | G7: 1772 | H7: 0.81518039 | I7: 0.57475402 | J7: 0.67417312
B8: Raw | C8: YES | D8: DMRcate | E8: 2048 | F8: 190 | G8: 2119 | H8: 0.91510277 | I8: 0.49148068 | J8: 0.63950039
B9: Raw | C9: NO | D9: combp | E9: 1966 | F9: 83 | G9: 2201 | H9: 0.95949244 | I9: 0.47180226 | J9: 0.63256113
B10: BAQN | C10: NO | D10: ipdmr | E10: 3408 | F10: 3875 | G10: 759 | H10: 0.46793904 | I10: 0.81785457 | J10: 0.59528384
B11: Raw | C11: NO | D11: seqlm | E11: 1806 | F11: 231 | G11: 2361 | H11: 0.88659794 | I11: 0.43340533 | J11: 0.58220503
B12: Raw | C12: NO | D12: DMRcate | E12: 1609 | F12: 121 | G12: 2558 | H12: 0.9300578 | I12: 0.38612911 | J12: 0.5457012
B13: BAQN | C13: NO | D13: combp | E13: 2869 | F13: 3736 | G13: 1298 | H13: 0.4343679 | I13: 0.68850492 | J13: 0.53267731
B14: BAQN | C14: YES | D14: ipdmr | E14: 3689 | F14: 6024 | G14: 478 | H14: 0.37980027 | I14: 0.88528918 | J14: 0.5315562
... B29: Raw | C29: NO | D29: ProbeLasso | E29: 19 | F29: 0 | G29: 4148 | H29: 1 | I29: 0.0045596352 | J29: 0.0090778786
A30: Small_Breast_0.2 | B30: Raw | C30: YES | D30: ipdmr | E30: 1898 | F30: 433 | G30: 399 | H30: 0.81424281 | I30: 0.82629517 | J30: 0.82022472
B31: Raw | C31: NO | D31: ipdmr | E31: 1546 | F31: 158 | G31: 751 | H31: 0.907277 | I31: 0.67305181 | J31: 0.7728068
B32: Raw | C32: YES | D32: combp | E32: 1482 | F32: 204 | G32: 815 | H32: 0.87900356 | I32: 0.64518938 | J32: 0.74416269
B33: BAQN | C33: YES | D33: DMRcate | E33: 1555 | F33: 420 | G33: 742 | H33: 0.78734177 | I33: 0.67696996 | J33: 0.72799625
B34: BAQN | C34: NO | D34: ipdmr | E34: 1755 | F34: 1193 | G34: 542 | H34: 0.59531886 | I34: 0.76404005 | J34: 0.66920877
B35: Raw | C35: YES | D35: seqlm | E35: 1213 | F35: 264 | G35: 1084 | H35: 0.82125931 | I35: 0.5280801 | J35: 0.64281929
B36: Raw | C36: NO | D36: combp | E36: 1035 | F36: 67 | G36: 1262 | H36: 0.93920145 | I36: 0.45058772 | J36: 0.60900265
B37: BAQN | C37: NO | D37: combp | E37: 1338 | F37: 844 | G37: 959 | H37: 0.6131989 | I37: 0.58249891 | J37: 0.59745479
B38: BAQN | C38: NO | D38: DMRcate | E38: 1049 | F38: 204 | G38: 1248 | H38: 0.83719074 | I38: 0.45668263 | J38: 0.59098592
B39: Raw | C39: YES | D39: DMRcate | E39: 995 | F39: 189 | G39: 1302 | H39: 0.84037162 | I39: 0.4331737 | J39: 0.57167481
B40: Raw | C40: NO | D40: seqlm | E40: 940 | F40: 121 | G40: 1357 | H40: 0.88595664 | I40: 0.40922943 | J40: 0.55985706
B41: BAQN | C41: NO | D41: seqlm | E41: 1161 | F41: 995 | G41: 1136 | H41: 0.53849722 | I41: 0.50544188 | J41: 0.52144622
B42: BAQN | C42: YES | D42: ipdmr | E42: 1954 | F42: 3466 | G42: 343 | H42: 0.36051661 | I42: 0.85067479 | J42: 0.50641441
... B57: Raw | C57: NO | D57: ProbeLasso | E57: 7 | F57: 0 | G57: 2290 | H57: 1 | I57: 0.0030474532 | J57: 0.0060763889
A58: Small_Breast_0.4 | B58: Raw | C58: YES | D58: ipdmr | E58: 605 | F58: 192 | G58: 208 | H58: 0.75909661 | I58: 0.74415744 | J58: 0.7515528
B59: BAQN | C59: NO | D59: ipdmr | E59: 551 | F59: 140 | G59: 262 | H59: 0.79739508 | I59: 0.67773678 | J59: 0.73271277
B60: Raw | C60: NO | D60: ipdmr | E60: 486 | F60: 76 | G60: 327 | H60: 0.86476868 | I60: 0.59778598 | J60: 0.70690909
B61: Raw | C61: YES | D61: combp | E61: 465 | F61: 98 | G61: 348 | H61: 0.8259325 | I61: 0.57195572 | J61: 0.67587209
B62: Raw | C62: YES | D62: seqlm | E62: 408 | F62: 54 | G62: 405 | H62: 0.88311688 | I62: 0.50184502 | J62: 0.64
B63: BAQN | C63: YES | D63: ipdmr | E63: 610 | F63: 505 | G63: 203 | H63: 0.5470852 | I63: 0.7503075 | J63: 0.63278008
B64: BAQN | C64: NO | D64: combp | E64: 396 | F64: 63 | G64: 417 | H64: 0.8627451 | I64: 0.48708487 | J64: 0.62264151
B65: BAQN | C65: NO | D65: seqlm | E65: 379 | F65: 40 | G65: 434 | H65: 0.90453461 | I65: 0.46617466 | J65: 0.61525974
B66: BAQN | C66: YES | D66: combp | E66: 486 | F66: 301 | G66: 327 | H66: 0.61753494 | I66: 0.59778598 | J66: 0.6075
B67: BAQN | C67: YES | D67: seqlm | E67: 413 | F67: 245 | G67: 400 | H67: 0.62765957 | I67: 0.50799508 | J67: 0.56152277
B68: Raw | C68: NO | D68: combp | E68: 316 | F68: 30 | G68: 497 | H68: 0.9132948 | I68: 0.38868389 | J68: 0.54529767
B69: Raw | C69: NO | D69: seqlm | E69: 315 | F69: 34 | G69: 498 | H69: 0.9025788 | I69: 0.38745387 | J69: 0.54216867
B70: BAQN | C70: YES | D70: DMRcate | E70: 324 | F70: 112 | G70: 489 | H70: 0.74311927 | I70: 0.39852399 | J70: 0.51881505
... B85: Raw | C85: NO | D85: ProbeLasso | E85: 1 | F85: 0 | G85: 812 | H85: 1 | I85: 0.0012300123 | J85: 0.0024570025
A86: Small_CD8_0.1 | B86: Raw | C86: YES | D86: ipdmr | E86: 3315 | F86: 456 | G86: 852 | H86: 0.87907717 | I86: 0.79553636 | J86: 0.83522298
B87: Raw | C87: YES | D87: combp | E87: 2614 | F87: 287 | G87: 1553 | H87: 0.9010686 | I87: 0.62730982 | J87: 0.73967176
B88: BAQN | C88: NO | D88: ipdmr | E88: 3071 | F88: 1587 | G88: 1096 | H88: 0.65929584 | I88: 0.73698104 | J88: 0.69597734
B89: Raw | C89: NO | D89: ipdmr | E89: 2280 | F89: 156 | G89: 1887 | H89: 0.93596059 | I89: 0.54715623 | J89: 0.69059518
B90: BAQN | C90: YES | D90: DMRcate | E90: 2377 | F90: 407 | G90: 1790 | H90: 0.85380747 | I90: 0.57043437 | J90: 0.68393037
B91: BAQN | C91: YES | D91: ipdmr | E91: 3484 | F91: 2930 | G91: 683 | H91: 0.54318678 | I91: 0.83609311 | J91: 0.65853889
B92: Raw | C92: YES | D92: seqlm | E92: 2046 | F92: 459 | G92: 2121 | H92: 0.81676647 | I92: 0.49100072 | J92: 0.61330935
B93: BAQN | C93: NO | D93: combp | E93: 2400 | F93: 1355 | G93: 1767 | H93: 0.6391478 | I93: 0.57595392 | J93: 0.6059076
B94: BAQN | C94: YES | D94: combp | E94: 3049 | F94: 2853 | G94: 1118 | H94: 0.51660454 | I94: 0.73170146 | J94: 0.60562121
B95: BAQN | C95: NO | D95: DMRcate | E95: 1763 | F95: 199 | G95: 2404 | H95: 0.89857288 | I95: 0.42308615 | J95: 0.57529776
B96: Raw | C96: YES | D96: DMRcate | E96: 1707 | F96: 169 | G96: 2460 | H96: 0.90991471 | I96: 0.40964723 | J96: 0.56495118
B97: BAQN | C97: NO | D97: seqlm | E97: 1968 | F97: 1485 | G97: 2199 | H97: 0.56993918 | I97: 0.47228222 | J97: 0.51653543
B98: Raw | C98: NO | D98: combp | E98: 1339 | F98: 56 | G98: 2828 | H98: 0.95985663 | I98: 0.32133429 | J98: 0.48148148
... B113: Raw | C113: NO | D113: ProbeLasso | E113: 4 | F113: 0 | G113: 4163 | H113: 1 | I113: 0.00095992321 | J113: 0.0019180053
A114: Small_CD8_0.2 | B114: Raw | C114: YES | D114: ipdmr | E114: 1701 | F114: 370 | G114: 596 | H114: 0.82134235 | I114: 0.74053113 | J114: 0.77884615
B115: Raw | C115: YES | D115: combp | E115: 1295 | F115: 180 | G115: 1002 | H115: 0.8779661 | I115: 0.56377884 | J115: 0.68663839
B116: Raw | C116: NO | D116: ipdmr | E116: 1182 | F116: 114 | G116: 1115 | H116: 0.91203704 | I116: 0.51458424 | J116: 0.65794601
B117: BAQN | C117: NO | D117: ipdmr | E117: 1529 | F117: 969 | G117: 768 | H117: 0.61208967 | I117: 0.66565085 | J117: 0.63774765
B118: BAQN | C118: YES | D118: DMRcate | E118: 1187 | F118: 332 | G118: 1110 | H118: 0.78143515 | I118: 0.51676099 | J118: 0.6221174
B119: Raw | C119: YES | D119: seqlm | E119: 1034 | F119: 214 | G119: 1263 | H119: 0.82852564 | I119: 0.45015237 | J119: 0.58335684
B120: BAQN | C120: YES | D120: ipdmr | E120: 1775 | F120: 2028 | G120: 522 | H120: 0.46673679 | I120: 0.77274706 | J120: 0.58196721
B121: BAQN | C121: YES | D121: combp | E121: 1468 | F121: 1526 | G121: 829 | H121: 0.49031396 | I121: 0.63909447 | J121: 0.55490455
B122: BAQN | C122: NO | D122: combp | E122: 1107 | F122: 593 | G122: 1190 | H122: 0.65117647 | I122: 0.48193296 | J122: 0.55391544
B123: BAQN | C123: NO | D123: DMRcate | E123: 855 | F123: 168 | G123: 1442 | H123: 0.83577713 | I123: 0.37222464 | J123: 0.51506024
B124: Raw | C124: YES | D124: DMRcate | E124: 823 | F124: 163 | G124: 1474 | H124: 0.8346856 | I124: 0.35829343 | J124: 0.5013707
B125: BAQN | C125: NO | D125: seqlm | E125: 1017 | F125: 804 | G125: 1280 | H125: 0.55848435 | I125: 0.44275141 | J125: 0.49392909
B126: Raw | C126: NO | D126: combp | E126: 714 | F126: 50 | G126: 1583 | H126: 0.93455497 | I126: 0.31084023 | J126: 0.46651421
... B141: Raw | C141: NO | D141: ProbeLasso | E141: 4 | F141: 0 | G141: 2293 | H141: 1 | I141: 0.0017414018 | J141: 0.0034767492
A142: Small_CD8_0.4 | B142: Raw | C142: YES | D142: ipdmr | E142: 531 | F142: 156 | G142: 282 | H142: 0.77292576 | I142: 0.65313653 | J142: 0.708
B143: BAQN | C143: NO | D143: ipdmr | E143: 457 | F143: 153 | G143: 356 | H143: 0.74918033 | I143: 0.56211562 | J143: 0.64230499
B144: Raw | C144: YES | D144: combp | E144: 403 | F144: 84 | G144: 410 | H144: 0.8275154 | I144: 0.49569496 | J144: 0.62
B145: Raw | C145: NO | D145: ipdmr | E145: 384 | F145: 48 | G145: 429 | H145: 0.88888889 | I145: 0.47232472 | J145: 0.61686747
B146: Raw | C146: YES | D146: seqlm | E146: 352 | F146: 61 | G146: 461 | H146: 0.85230024 | I146: 0.43296433 | J146: 0.57422512
B147: BAQN | C147: NO | D147: combp | E147: 336 | F147: 103 | G147: 477 | H147: 0.76537585 | I147: 0.41328413 | J147: 0.53674121
B148: BAQN | C148: YES | D148: DMRcate | E148: 339 | F148: 123 | G148: 474 | H148: 0.73376623 | I148: 0.41697417 | J148: 0.53176471
B149: BAQN | C149: YES | D149: combp | E149: 435 | F149: 458 | G149: 378 | H149: 0.48712206 | I149: 0.53505535 | J149: 0.50996483
B150: BAQN | C150: NO | D150: seqlm | E150: 309 | F150: 91 | G150: 504 | H150: 0.7725 | I150: 0.3800738 | J150: 0.50948063
B151: BAQN | C151: YES | D151: ipdmr | E151: 543 | F151: 850 | G151: 270 | H151: 0.38980617 | I151: 0.66789668 | J151: 0.49229374
B152: Raw | C152: NO | D152: combp | E152: 236 | F152: 29 | G152: 577 | H152: 0.89056604 | I152: 0.2902829 | J152: 0.43784787
B153: BAQN | C153: YES | D153: seqlm | E153: 368 | F153: 538 | G153: 445 | H153: 0.40618102 | I153: 0.45264453 | J153: 0.4281559
B154: Raw | C154: NO | D154: seqlm | E154: 224 | F154: 22 | G154: 589 | H154: 0.91056911 | I154: 0.27552276 | J154: 0.4230406
... B169: Raw | C169: NO | D169: ProbeLasso | E169: 1 | F169: 0 | G169: 812 | H169: 1 | I169: 0.0012300123 | J169: 0.0024570025
A170: Small_No_Sim_0 | B170: BAQN | C170: YES | D170: Cohcap | E170: 0 | F170: 0 | G170: 0 | H170: 0 | I170: 0 | J170: 0
B171: BAQN | C171: YES | D171: DMRcate | E171: 0 | F171: 0 | G171: 0 | H171: 0 | I171: 0 | J171: 0
B172: BAQN | C172: YES | D172: ProbeLasso | E172: 0 | F172: 0 | G172: 0 | H172: 0 | I172: 0 | J172: 0
B173: BAQN | C173: NO | D173: BumpHunter | E173: 0 | F173: 0 | G173: 0 | H173: 0 | I173: 0 | J173: 0
B174: BAQN | C174: NO | D174: Cohcap | E174: 0 | F174: 0 | G174: 0 | H174: 0 | I174: 0 | J174: 0
B175: BAQN | C175: NO | D175: DMRcate | E175: 0 | F175: 0 | G175: 0 | H175: 0 | I175: 0 | J175: 0
B176: BAQN | C176: NO | D176: ProbeLasso | E176: 0 | F176: 0 | G176: 0 | H176: 0 | I176: 0 | J176: 0
B177: Raw | C177: YES | D177: Cohcap | E177: 0 | F177: 0 | G177: 0 | H177: 0 | I177: 0 | J177: 0
B178: Raw | C178: YES | D178: DMRcate | E178: 0 | F178: 0 | G178: 0 | H178: 0 | I178: 0 | J178: 0
B179: Raw | C179: YES | D179: ProbeLasso | E179: 0 | F179: 0 | G179: 0 | H179: 0 | I179: 0 | J179: 0
B180: Raw | C180: NO | D180: BumpHunter | E180: 0 | F180: 0 | G180: 0 | H180: 0 | I180: 0 | J180: 0
B181: Raw | C181: NO | D181: Cohcap | E181: 0 | F181: 0 | G181: 0 | H181: 0 | I181: 0 | J181: 0
B182: Raw | C182: NO | D182: DMRcate | E182: 0 | F182: 0 | G182: 0 | H182: 0 | I182: 0 | J182: 0
... B197: BAQN | C197: NO | D197: combp | E197: 0 | F197: 11 | G197: 0 | H197: 0 | I197: 0 | J197: 0

Sheet performance comparison
A1: Comparison Scenario | B1: Best F1 Score | C1: Average F1 Score | D1: Improvement
A2: Small Size Data / Large Tissue Difference / Large Number of DMPs | B2: ='Small Datasets'!J2 -> 0.86574018 | C2: =AVERAGE('Small Datasets'!J2:J29) -> 0.42883801 | D2: =(B2/C2-1)*100 -> 101.88047
A3: Small Size Data / Large Tissue Difference / Medium Number of DMPs | B3: ='Small Datasets'!J30 -> 0.82022472 | C3: =AVERAGE('Small Datasets'!J30:J57) -> 0.41149149 | D3: =(B3/C3-1)*100 -> 99.329692
A4: Small Size Data / Large Tissue Difference / Small Number of DMPs | B4: ='Small Datasets'!J58 -> 0.7515528 | C4: =AVERAGE('Small Datasets'!J58:J85) -> 0.39268282 | D4: =(B4/C4-1)*100 -> 91.389271
A5: Small Size Data / Small Tissue Difference / Large Number of DMPs | B5: ='Small Datasets'!J86 -> 0.83522298 | C5: =AVERAGE('Small Datasets'!J86:J113) -> 0.40742778 | D5: =(B5/C5-1)*100 -> 104.99902
A6: Small Size Data / Small Tissue Difference / Medium Number of DMPs | B6: ='Small Datasets'!J114 -> 0.77884615 | C6: =AVERAGE('Small Datasets'!J114:J141) -> 0.37435 | D6: =(B6/C6-1)*100 -> 108.05293
A7: Small Size Data / Small Tissue Difference / Small Number of DMPs | B7: ='Small Datasets'!J142 -> 0.708 | C7: =AVERAGE('Small Datasets'!J142:J169) -> 0.33698398 | D7: =(B7/C7-1)*100 -> 110.09901
A8: Large Size Data / Large Tissue Difference / Large Number of DMPs | B8: ='Large Datasets'!J2 -> 0.90324842 | C8: =AVERAGE('Large Datasets'!J2:J29) -> 0.42653058 | D8: =(B8/C8-1)*100 -> 111.76639
A9: Large Size Data / Large Tissue Difference / Medium Number of DMPs | B9: ='Large Datasets'!J30 -> 0.87004722 | C9: =AVERAGE('Large Datasets'!J30:J57) -> 0.37694744 | D9: =(B9/C9-1)*100 -> 130.81394
A10: Large Size Data / Large Tissue Difference / Small Number of DMPs | B10: ='Large Datasets'!J58 -> 0.83144796 | C10: =AVERAGE('Large Datasets'!J58:J85) -> 0.371677 | D10: =(B10/C10-1)*100 -> 123.70175
A11: Large Size Data / Small Tissue Difference / Large Number of DMPs | B11: ='Large Datasets'!J86 -> 0.89628925 | C11: =AVERAGE('Large Datasets'!J86:J113) -> 0.42939899 | D11: =(B11/C11-1)*100 -> 108.7311
A12: Large Size Data / Small Tissue Difference / Medium Number of DMPs | B12: ='Large Datasets'!J114 -> 0.86483078 | C12: =AVERAGE('Large Datasets'!J114:J141) -> 0.39053624 | D12: =(B12/C12-1)*100 -> 121.447
A13: Large Size Data / Small Tissue Difference / Small Number of DMPs | B13: ='Large Datasets'!J142 -> 0.82651297 | C13: =AVERAGE('Large Datasets'!J142:J169) -> 0.34620397 | D13: =(B13/C13-1)*100 -> 138.73584
