Workbook

Sheet Legend
A1: Results from evaluating different pipelines in analyzing all simulation scenarios. The tables are the evaluation metrics (precision, recall, accuracy, and F1-score) calculated to assess the DMR finding pipelines in all 12 scenarios.

Sheet Large Datasets
A1: Comparison_Scenario | B1: Normalization | C1: BatchEffectCorrected | D1: DMR_Method | E1: TP | F1: FP | G1: FN | H1: Precision | I1: Recall | J1: F1
A2: Large_Breast_0.1 | B2: Raw | C2: NO | D2: ipdmr | E2: 3865 | F2: 526 | G2: 302 | H2: 0.88020952 | I2: 0.9275258 | J2: 0.90324842
B3: Raw | C3: NO | D3: combp | E3: 3607 | F3: 341 | G3: 560 | H3: 0.91362715 | I3: 0.86561075 | J3: 0.88897104
B4: Raw | C4: YES | D4: ipdmr | E4: 3940 | F4: 952 | G4: 227 | H4: 0.80539657 | I4: 0.94552436 | J4: 0.86985318
B5: Raw | C5: YES | D5: combp | E5: 3761 | F5: 745 | G5: 406 | H5: 0.83466489 | I5: 0.90256779 | J5: 0.86728929
B6: BAQN | C6: NO | D6: DMRcate | E6: 3913 | F6: 1993 | G6: 254 | H6: 0.66254656 | I6: 0.93904488 | J6: 0.77692842
B7: BAQN | C7: YES | D7: DMRcate | E7: 3924 | F7: 2087 | G7: 243 | H7: 0.65280319 | I7: 0.94168467 | J7: 0.77107487
B8: Raw | C8: YES | D8: DMRcate | E8: 2501 | F8: 268 | G8: 1666 | H8: 0.90321416 | I8: 0.60019198 | J8: 0.72116494
B9: Raw | C9: NO | D9: DMRcate | E9: 2311 | F9: 223 | G9: 1856 | H9: 0.91199684 | I9: 0.55459563 | J9: 0.6897478
B10: Raw | C10: NO | D10: seqlm | E10: 1704 | F10: 526 | G10: 2463 | H10: 0.76412556 | I10: 0.40892729 | J10: 0.53274973
B11: Raw | C11: YES | D11: seqlm | E11: 1616 | F11: 871 | G11: 2551 | H11: 0.64977885 | I11: 0.38780898 | J11: 0.48572287
B12: BAQN | C12: NO | D12: ipdmr | E12: 3951 | F12: 10272 | G12: 216 | H12: 0.2777895 | I12: 0.94816415 | J12: 0.42969005
B13: BAQN | C13: YES | D13: ipdmr | E13: 3954 | F13: 10420 | G13: 213 | H13: 0.27508001 | I13: 0.94888409 | J13: 0.42651421
B14: BAQN | C14: NO | D14: combp | E14: 3865 | F14: 10328 | G14: 302 | H14: 0.27231734 | I14: 0.9275258 | J14: 0.42102397
... B29: Raw | C29: NO | D29: ProbeLasso | E29: 45 | F29: 2 | G29: 4122 | H29: 0.95744681 | I29: 0.010799136 | J29: 0.02135738
A30: Large_Breast_0.2 | B30: Raw | C30: NO | D30: ipdmr | E30: 2119 | F30: 455 | G30: 178 | H30: 0.82323232 | I30: 0.92250762 | J30: 0.87004722
B31: Raw | C31: NO | D31: combp | E31: 1946 | F31: 270 | G31: 351 | H31: 0.87815884 | I31: 0.84719199 | J31: 0.86239752
B32: Raw | C32: YES | D32: combp | E32: 2038 | F32: 564 | G32: 259 | H32: 0.78324366 | I32: 0.88724423 | J32: 0.83200653
B33: Raw | C33: YES | D33: ipdmr | E33: 2155 | F33: 912 | G33: 142 | H33: 0.70264102 | I33: 0.93818024 | J33: 0.80350485
B34: BAQN | C34: NO | D34: DMRcate | E34: 2099 | F34: 1657 | G34: 198 | H34: 0.55883919 | I34: 0.91380061 | J34: 0.69354039
B35: BAQN | C35: YES | D35: DMRcate | E35: 2102 | F35: 1865 | G35: 195 | H35: 0.52987144 | I35: 0.91510666 | J35: 0.67113665
B36: Raw | C36: YES | D36: DMRcate | E36: 1239 | F36: 261 | G36: 1058 | H36: 0.826 | I36: 0.53939922 | J36: 0.65262049
B37: Raw | C37: NO | D37: DMRcate | E37: 1138 | F37: 238 | G37: 1159 | H37: 0.82703488 | I37: 0.49542882 | J37: 0.61965696
B38: Raw | C38: NO | D38: seqlm | E38: 883 | F38: 252 | G38: 1414 | H38: 0.77797357 | I38: 0.38441445 | J38: 0.51456876
B39: Raw | C39: YES | D39: seqlm | E39: 843 | F39: 555 | G39: 1454 | H39: 0.60300429 | I39: 0.36700044 | J39: 0.45629229
B40: BAQN | C40: NO | D40: ipdmr | E40: 2169 | F40: 7996 | G40: 128 | H40: 0.21337924 | I40: 0.94427514 | J40: 0.34809822
B41: BAQN | C41: NO | D41: combp | E41: 2115 | F41: 7988 | G41: 182 | H41: 0.20934376 | I41: 0.92076622 | J41: 0.34112903
B42: BAQN | C42: YES | D42: ipdmr | E42: 2172 | F42: 8451 | G42: 125 | H42: 0.20446202 | I42: 0.94558119 | J42: 0.33622291
... B57: Raw | C57: NO | D57: ProbeLasso | E57: 20 | F57: 2 | G57: 2277 | H57: 0.90909091 | I57: 0.0087070091 | J57: 0.017248814
A58: Large_Breast_0.4 | B58: Raw | C58: NO | D58: ipdmr | E58: 735 | F58: 220 | G58: 78 | H58: 0.76963351 | I58: 0.90405904 | J58: 0.83144796
B59: Raw | C59: NO | D59: combp | E59: 661 | F59: 132 | G59: 152 | H59: 0.83354351 | I59: 0.81303813 | J59: 0.82316314
B60: Raw | C60: YES | D60: combp | E60: 690 | F60: 272 | G60: 123 | H60: 0.71725572 | I60: 0.84870849 | J60: 0.77746479
B61: BAQN | C61: NO | D61: DMRcate | E61: 660 | F61: 316 | G61: 153 | H61: 0.67622951 | I61: 0.81180812 | J61: 0.73784237
B62: Raw | C62: YES | D62: ipdmr | E62: 746 | F62: 507 | G62: 67 | H62: 0.59537111 | I62: 0.91758918 | J62: 0.72216844
B63: BAQN | C63: YES | D63: DMRcate | E63: 724 | F63: 510 | G63: 89 | H63: 0.58670989 | I63: 0.89052891 | J63: 0.70737665
B64: Raw | C64: YES | D64: DMRcate | E64: 397 | F64: 147 | G64: 416 | H64: 0.72977941 | I64: 0.48831488 | J64: 0.58511422
B65: Raw | C65: NO | D65: seqlm | E65: 365 | F65: 79 | G65: 448 | H65: 0.82207207 | I65: 0.44895449 | J65: 0.58074781
B66: Raw | C66: NO | D66: DMRcate | E66: 353 | F66: 130 | G66: 460 | H66: 0.73084886 | I66: 0.43419434 | J66: 0.54475309
B67: Raw | C67: YES | D67: seqlm | E67: 351 | F67: 221 | G67: 462 | H67: 0.61363636 | I67: 0.43173432 | J67: 0.50685921
B68: BAQN | C68: NO | D68: combp | E68: 701 | F68: 1670 | G68: 112 | H68: 0.29565584 | I68: 0.86223862 | J68: 0.44032663
...

Sheet Small Datasets
A1: Comparison_Scenario | B1: Normalization | C1: BatchEffectCorrected | D1: DMR_Method | E1: TP | F1: FP | G1: FN | H1: Precision | I1: Recall | J1: F1
A2: Small_Breast_0.1 | B2: Raw | C2: YES | D2: ipdmr | E2: 3582 | F2: 526 | G2: 585 | H2: 0.87195716 | I2: 0.85961123 | J2: 0.86574018
B3: Raw | C3: YES | D3: combp | E3: 3015 | F3: 333 | G3: 1152 | H3: 0.90053763 | I3: 0.72354212 | J3: 0.80239521
B4: Raw | C4: NO | D4: ipdmr | E4: 2923 | F4: 203 | G4: 1244 | H4: 0.93506078 | I4: 0.70146388 | J4: 0.80159057
B5: BAQN | C5: YES | D5: DMRcate | E5: 3181 | F5: 804 | G5: 986 | H5: 0.79824341 | I5: 0.76337893 | J5: 0.78042198
B6: BAQN | C6: NO | D6: DMRcate | E6: 2596 | F6: 378 | G6: 1571 | H6: 0.87289845 | I6: 0.62299016 | J6: 0.72706904
B7: Raw | C7: YES | D7: seqlm | E7: 2395 | F7: 543 | G7: 1772 | H7: 0.81518039 | I7: 0.57475402 | J7: 0.67417312
B8: Raw | C8: YES | D8: DMRcate | E8: 2048 | F8: 190 | G8: 2119 | H8: 0.91510277 | I8: 0.49148068 | J8: 0.63950039
B9: Raw | C9: NO | D9: combp | E9: 1966 | F9: 83 | G9: 2201 | H9: 0.95949244 | I9: 0.47180226 | J9: 0.63256113
B10: BAQN | C10: NO | D10: ipdmr | E10: 3408 | F10: 3875 | G10: 759 | H10: 0.46793904 | I10: 0.81785457 | J10: 0.59528384
B11: Raw | C11: NO | D11: seqlm | E11: 1806 | F11: 231 | G11: 2361 | H11: 0.88659794 | I11: 0.43340533 | J11: 0.58220503
B12: Raw | C12: NO | D12: DMRcate | E12: 1609 | F12: 121 | G12: 2558 | H12: 0.9300578 | I12: 0.38612911 | J12: 0.5457012
B13: BAQN | C13: NO | D13: combp | E13: 2869 | F13: 3736 | G13: 1298 | H13: 0.4343679 | I13: 0.68850492 | J13: 0.53267731
B14: BAQN | C14: YES | D14: ipdmr | E14: 3689 | F14: 6024 | G14: 478 | H14: 0.37980027 | I14: 0.88528918 | J14: 0.5315562
... B29: Raw | C29: NO | D29: ProbeLasso | E29: 19 | F29: 0 | G29: 4148 | H29: 1 | I29: 0.0045596352 | J29: 0.0090778786
A30: Small_Breast_0.2 | B30: Raw | C30: YES | D30: ipdmr | E30: 1898 | F30: 433 | G30: 399 | H30: 0.81424281 | I30: 0.82629517 | J30: 0.82022472
B31: Raw | C31: NO | D31: ipdmr | E31: 1546 | F31: 158 | G31: 751 | H31: 0.907277 | I31: 0.67305181 | J31: 0.7728068
B32: Raw | C32: YES | D32: combp | E32: 1482 | F32: 204 | G32: 815 | H32: 0.87900356 | I32: 0.64518938 | J32: 0.74416269
B33: BAQN | C33: YES | D33: DMRcate | E33: 1555 | F33: 420 | G33: 742 | H33: 0.78734177 | I33: 0.67696996 | J33: 0.72799625
B34: BAQN | C34: NO | D34: ipdmr | E34: 1755 | F34: 1193 | G34: 542 | H34: 0.59531886 | I34: 0.76404005 | J34: 0.66920877
B35: Raw | C35: YES | D35: seqlm | E35: 1213 | F35: 264 | G35: 1084 | H35: 0.82125931 | I35: 0.5280801 | J35: 0.64281929
B36: Raw | C36: NO | D36: combp | E36: 1035 | F36: 67 | G36: 1262 | H36: 0.93920145 | I36: 0.45058772 | J36: 0.60900265
B37: BAQN | C37: NO | D37: combp | E37: 1338 | F37: 844 | G37: 959 | H37: 0.6131989 | I37: 0.58249891 | J37: 0.59745479
B38: BAQN | C38: NO | D38: DMRcate | E38: 1049 | F38: 204 | G38: 1248 | H38: 0.83719074 | I38: 0.45668263 | J38: 0.59098592
B39: Raw | C39: YES | D39: DMRcate | E39: 995 | F39: 189 | G39: 1302 | H39: 0.84037162 | I39: 0.4331737 | J39: 0.57167481
B40: Raw | C40: NO | D40: seqlm | E40: 940 | F40: 121 | G40: 1357 | H40: 0.88595664 | I40: 0.40922943 | J40: 0.55985706
B41: BAQN | C41: NO | D41: seqlm | E41: 1161 | F41: 995 | G41: 1136 | H41: 0.53849722 | I41: 0.50544188 | J41: 0.52144622
B42: BAQN | C42: YES | D42: ipdmr | E42: 1954 | F42: 3466 | G42: 343 | H42: 0.36051661 | I42: 0.85067479 | J42: 0.50641441
... B57: Raw | C57: NO | D57: ProbeLasso | E57: 7 | F57: 0 | G57: 2290 | H57: 1 | I57: 0.0030474532 | J57: 0.0060763889
A58: Small_Breast_0.4 | B58: Raw | C58: YES | D58: ipdmr | E58: 605 | F58: 192 | G58: 208 | H58: 0.75909661 | I58: 0.74415744 | J58: 0.7515528
B59: BAQN | C59: NO | D59: ipdmr | E59: 551 | F59: 140 | G59: 262 | H59: 0.79739508 | I59: 0.67773678 | J59: 0.73271277
B60: Raw | C60: NO | D60: ipdmr | E60: 486 | F60: 76 | G60: 327 | H60: 0.86476868 | I60: 0.59778598 | J60: 0.70690909
B61: Raw | C61: YES | D61: combp | E61: 465 | F61: 98 | G61: 348 | H61: 0.8259325 | I61: 0.57195572 | J61: 0.67587209
B62: Raw | C62: YES | D62: seqlm | E62: 408 | F62: 54 | G62: 405 | H62: 0.88311688 | I62: 0.50184502 | J62: 0.64
B63: BAQN | C63: YES | D63: ipdmr | E63: 610 | F63: 505 | G63: 203 | H63: 0.5470852 | I63: 0.7503075 | J63: 0.63278008
B64: BAQN | C64: NO | D64: combp | E64: 396 | F64: 63 | G64: 417 | H64: 0.8627451 | I64: 0.48708487 | J64: 0.62264151
B65: BAQN | C65: NO | D65: seqlm | E65: 379 | F65: 40 | G65: 434 | H65: 0.90453461 | I65: 0.46617466 | J65: 0.61525974
B66: BAQN | C66: YES | D66: combp | E66: 486 | F66: 301 | G66: 327 | H66: 0.61753494 | I66: 0.59778598 | J66: 0.6075
B67: BAQN | C67: YES | D67: seqlm | E67: 413 | F67: 245 | G67: 400 | H67: 0.62765957 | I67: 0.50799508 | J67: 0.56152277
B68: Raw | C68: NO | D68: combp | E68: 316 | F68: 30 | G68: 497 | H68: 0.9132948 | I68: 0.38868389 | J68: 0.54529767
...

Sheet performance comparison
A1: Comparison Scenario | B1: Best F1 Score | C1: Average F1 Score | D1: Improvement
A2: Small Size Data / Large Tissue Difference / Large Number of DMPs | B2: ='Small Datasets'!J2 -> 0.86574018 | C2: =AVERAGE('Small Datasets'!J2:J29) -> 0.42883801 | D2: =(B2/C2-1)*100 -> 101.88047
A3: Small Size Data / Large Tissue Difference / Medium Number of DMPs | B3: ='Small Datasets'!J30 -> 0.82022472 | C3: =AVERAGE('Small Datasets'!J30:J57) -> 0.41149149 | D3: =(B3/C3-1)*100 -> 99.329692
A4: Small Size Data / Large Tissue Difference / Small Number of DMPs | B4: ='Small Datasets'!J58 -> 0.7515528 | C4: =AVERAGE('Small Datasets'!J58:J85) -> 0.39268282 | D4: =(B4/C4-1)*100 -> 91.389271
A5: Small Size Data / Small Tissue Difference / Large Number of DMPs | B5: ='Small Datasets'!J86 -> 0.83522298 | C5: =AVERAGE('Small Datasets'!J86:J113) -> 0.40742778 | D5: =(B5/C5-1)*100 -> 104.99902
A6: Small Size Data / Small Tissue Difference / Medium Number of DMPs | B6: ='Small Datasets'!J114 -> 0.77884615 | C6: =AVERAGE('Small Datasets'!J114:J141) -> 0.37435 | D6: =(B6/C6-1)*100 -> 108.05293
A7: Small Size Data / Small Tissue Difference / Small Number of DMPs | B7: ='Small Datasets'!J142 -> 0.708 | C7: =AVERAGE('Small Datasets'!J142:J169) -> 0.33698398 | D7: =(B7/C7-1)*100 -> 110.09901
A8: Large Size Data / Large Tissue Difference / Large Number of DMPs | B8: ='Large Datasets'!J2 -> 0.90324842 | C8: =AVERAGE('Large Datasets'!J2:J29) -> 0.42653058 | D8: =(B8/C8-1)*100 -> 111.76639
A9: Large Size Data / Large Tissue Difference / Medium Number of DMPs | B9: ='Large Datasets'!J30 -> 0.87004722 | C9: =AVERAGE('Large Datasets'!J30:J57) -> 0.37694744 | D9: =(B9/C9-1)*100 -> 130.81394
A10: Large Size Data / Large Tissue Difference / Small Number of DMPs | B10: ='Large Datasets'!J58 -> 0.83144796 | C10: =AVERAGE('Large Datasets'!J58:J85) -> 0.371677 | D10: =(B10/C10-1)*100 -> 123.70175
A11: Large Size Data / Small Tissue Difference / Large Number of DMPs | B11: ='Large Datasets'!J86 -> 0.89628925 | C11: =AVERAGE('Large Datasets'!J86:J113) -> 0.42939899 | D11: =(B11/C11-1)*100 -> 108.7311
A12: Large Size Data / Small Tissue Difference / Medium Number of DMPs | B12: ='Large Datasets'!J114 -> 0.86483078 | C12: =AVERAGE('Large Datasets'!J114:J141) -> 0.39053624 | D12: =(B12/C12-1)*100 -> 121.447
A13: Large Size Data / Small Tissue Difference / Small Number of DMPs | B13: ='Large Datasets'!J142 -> 0.82651297 | C13: =AVERAGE('Large Datasets'!J142:J169) -> 0.34620397 | D13: =(B13/C13-1)*100 -> 138.73584
