Workbook

Sheet DEA_HTA_pc
A1: id | B1: gene_symbol | C1: logFC | D1: AveExpr | E1: t | F1: P.Value | G1: FDR
A2: ENSG00000230657 | B2: PRB4 | C2: -6.2058036 | D2: 7.6715942 | E2: -35.490997 | F2: 3.5498935e-18 | G2: 7.1115017e-14
A3: ENSG00000111215 | B3: PRR4 | C3: -3.6841733 | D3: 7.4226585 | E3: -32.296812 | F3: 1.9052952e-17 | G3: 1.908439e-13
A4: ENSG00000184530 | B4: C6orf58 | C4: -4.8041767 | D4: 6.0547758 | E4: -31.50052 | F4: 2.970117e-17 | G4: 1.9833451e-13
A5: ENSG00000251655 | B5: PRB1 | C5: -6.6564019 | D5: 7.561635 | E5: -29.405834 | F5: 1.0077628e-16 | G5: 5.0471278e-13
A6: ENSG00000159763 | B6: PIP | C6: -7.5683194 | D6: 7.5492019 | E6: -28.810109 | F6: 1.4484621e-16 | G6: 5.8034082e-13
A7: ENSG00000134827 | B7: TCN1 | C7: -5.3153603 | D7: 6.8226966 | E7: -23.722894 | F7: 4.4584994e-15 | G7: 1.4886186e-11
A8: ENSG00000215182 | B8: MUC5AC | C8: -5.0928807 | D8: 6.9405982 | E8: -23.46161 | F8: 5.414629e-15 | G8: 1.5495895e-11
A9: ENSG00000121335 | B9: PRB2 | C9: -5.1645643 | D9: 6.5761191 | E9: -22.176131 | F9: 1.4520686e-14 | G9: 3.6361613e-11
A10: ENSG00000138294 | B10: MSMB | C10: -4.270096 | D10: 6.2102341 | E10: -20.540147 | F10: 5.5207956e-14 | G10: 1.2288678e-10
A11: ENSG00000064651 | B11: SLC12A2 | C11: -2.9697328 | D11: 8.1808289 | E11: -19.650282 | F11: 1.1903162e-13 | G11: 2.3780846e-10
A12: ENSG00000164128 | B12: NPY1R | C12: -1.9329101 | D12: 4.7344926 | E12: -19.545461 | F12: 1.305792e-13 | G12: 2.3780846e-10
A13: ENSG00000166959 | B13: MS4A8B | C13: -5.0539988 | D13: 6.5382889 | E13: -19.280768 | F13: 1.6531016e-13 | G13: 2.7597154e-10
... A6174: ENSG00000198646 | B6174: NCOA6 | C6174: 0.2492119 | D6174: 6.6698519 | E6174: 3.4136087 | F6174: 0.0030803082 | G6174: 0.009996406

Sheet DEA_RNAseq_pc
A1: id | B1: gene_symbol | C1: logFC | D1: logCPM | E1: PValue | F1: FDR
A2: ENSG00000034971 | B2: =VLOOKUP(A2,annotation!$A$1:$C$55805,2,FALSE) -> MYOC | C2: -9.9443144 | D2: 3.3655128 | E2: 3.9247495e-65 | F2: 7.8675528e-61
A3: ENSG00000078898 | B3: =VLOOKUP(A3,annotation!$A$1:$C$55805,2,FALSE) -> BPIFB2 | C3: -9.4810357 | D3: 5.8288007 | E3: 4.8129699e-55 | F3: 4.8240398e-51
A4: ENSG00000111215 | B4: =VLOOKUP(A4,annotation!$A$1:$C$55805,2,FALSE) -> PRR4 | C4: -5.8666924 | D4: 10.067923 | E4: 1.1365414e-51 | F4: 7.59437e-48
A5: ENSG00000244067 | B5: =VLOOKUP(A5,annotation!$A$1:$C$55805,2,FALSE) -> GSTA2 | C5: -8.6842099 | D5: 5.9536853 | E5: 1.1210201e-49 | F5: 5.617992e-46
A6: ENSG00000154099 | B6: =VLOOKUP(A6,annotation!$A$1:$C$55805,2,FALSE) -> DNAAF1 | C6: -5.2770498 | D6: 6.266865 | E6: 1.5973705e-41 | F6: 6.4041779e-38
A7: ENSG00000064651 | B7: =VLOOKUP(A7,annotation!$A$1:$C$55805,2,FALSE) -> SLC12A2 | C7: -3.6576601 | D7: 9.8851226 | E7: 2.4595953e-41 | F7: 8.217508e-38
A8: ENSG00000134827 | B8: =VLOOKUP(A8,annotation!$A$1:$C$55805,2,FALSE) -> TCN1 | C8: -7.1669558 | D8: 6.4964101 | E8: 1.710832e-40 | F8: 4.899334e-37
A9: ENSG00000188039 | B9: =VLOOKUP(A9,annotation!$A$1:$C$55805,2,FALSE) -> NWD1 | C9: -5.7593284 | D9: 5.4503261 | E9: 5.0890901e-40 | F9: 1.1935103e-36
A10: ENSG00000215182 | B10: =VLOOKUP(A10,annotation!$A$1:$C$55805,2,FALSE) -> MUC5AC | C10: -8.8941064 | D10: 6.5793915 | E10: 5.3584717e-40 | F10: 1.1935103e-36
A11: ENSG00000151023 | B11: =VLOOKUP(A11,annotation!$A$1:$C$55805,2,FALSE) -> ENKUR | C11: -5.8524272 | D11: 6.7290656 | E11: 1.192857e-39 | F11: 2.3912011e-36
A12: ENSG00000128536 | B12: =VLOOKUP(A12,annotation!$A$1:$C$55805,2,FALSE) -> CDHR3 | C12: -5.4071567 | D12: 8.1950319 | E12: 2.1700364e-39 | F12: 3.9545954e-36
A13: ENSG00000162078 | B13: =VLOOKUP(A13,annotation!$A$1:$C$55805,2,FALSE) -> ZG16B | C13: -7.7802283 | D13: 3.4060886 | E13: 6.8829641e-39 | F13: 1.1497992e-35
... A4778: ENSG00000173432 | B4778: =VLOOKUP(A4778,annotation!$A$1:$C$55805,2,FALSE) -> SAA1 | C4778: -1.8668401 | D4778: 3.0749361 | E4778: 0.0023813737 | F4778: 0.0099930955

Sheet DEA_HTA_lncRNA
A1: id | B1: gene_symbol | C1: gene_biotype | D1: logFC | E1: AveExpr | F1: t | G1: P.Value | H1: FDR
A2: ENSG00000231601 | B2: RP11-164C1.2 | C2: lincRNA | D2: -1.3071731 | E2: 4.7998388 | F2: -21.039721 | G2: 1.3785253e-14 | H2: 1.5986758e-10
A3: ENSG00000231621 | B3: AC013264.2 | C3: antisense | D3: -2.8523 | E3: 5.4129294 | F3: -15.20328 | G3: 4.6299384e-12 | H3: 2.6846698e-08
A4: ENSG00000255177 | B4: RP11-532E4.2 | C4: antisense | D4: -5.8688017 | E4: 8.0695353 | F4: -14.667766 | G4: 8.6762397e-12 | H4: 3.3539451e-08
A5: ENSG00000034063 | B5: UHRF1 | C5: processed_transcript | D5: 1.2340421 | E5: 5.3815123 | F5: 14.206217 | G5: 1.514494e-11 | H5: 4.3908967e-08
A6: ENSG00000255471 | B6: RP11-736K20.5 | C6: antisense | D6: -1.2256502 | E6: 4.376056 | F6: -13.98559 | G6: 1.9872564e-11 | H6: 4.6092424e-08
A7: ENSG00000221857 | B7: CTD-2527I21.4 | C7: processed_transcript | D7: -0.85272869 | E7: 4.6276878 | F7: -13.716941 | G7: 2.7799104e-11 | H7: 5.3731034e-08
A8: ENSG00000229124 | B8: RP11-124N14.4 | C8: antisense | D8: -1.3594366 | E8: 4.9896459 | F8: -13.169784 | G8: 5.6022864e-11 | H8: 9.281388e-08
A9: ENSG00000260372 | B9: CHST9-AS1 | C9: antisense | D9: -1.2015744 | E9: 5.1593774 | F9: -13.054457 | G9: 6.5136724e-11 | H9: 9.4423823e-08
A10: ENSG00000223779 | B10: RP11-403I13.4 | C10: processed_transcript | D10: -0.69957675 | E10: 4.8165442 | F10: -12.646161 | G10: 1.1204664e-10 | H10: 1.2994048e-07
A11: ENSG00000255308 | B11: RP11-428C19.4 | C11: antisense | D11: -3.3696656 | E11: 5.3811917 | F11: -12.722874 | G11: 1.0108259e-10 | H11: 1.2994048e-07
A12: ENSG00000203372 | B12: RP11-101E5.1 | C12: lincRNA | D12: -2.2361242 | E12: 5.5933493 | F12: -12.439524 | G12: 1.4823528e-10 | H12: 1.3223727e-07
A13: ENSG00000233730 | B13: RP4-666F24.3 | C13: lincRNA | D13: -3.7462594 | E13: 6.0826475 | F13: -12.494714 | G13: 1.3750862e-10 | H13: 1.3223727e-07
... A1220: ENSG00000267665 | B1220: RP11-13K12.2 | C1220: lincRNA | D1220: 0.17841864 | E1220: 4.3136234 | F1220: 3.8649439 | G1220: 0.0010494666 | H1220: 0.0099905473

Sheet DEA_RNASeq_lncRNA
A1: id | B1: gene_symbol | C1: gene_biotype | D1: logFC | E1: logCPM | F1: PValue | G1: FDR
A2: ENSG00000224235 | B2: RP5-1027O11.1 | C2: lincRNA | D2: -9.0316554 | E2: 4.3070836 | F2: 2.4184022e-31 | G2: 1.687271e-27
A3: ENSG00000257057 | B3: RP11-867G2.2 | C3: lincRNA | D3: -8.3633957 | E3: 4.6251726 | F3: 2.6114704e-31 | G3: 1.687271e-27
A4: ENSG00000228639 | B4: AC005152.3 | C4: lincRNA | D4: -8.2265193 | E4: 5.6239547 | F4: 9.0683509e-28 | G4: 3.906041e-24
A5: ENSG00000255160 | B5: RP11-428C19.5 | C5: lincRNA | D5: -6.8801253 | E5: 5.0445303 | F5: 3.8871013e-24 | G5: 1.2557281e-20
A6: ENSG00000260372 | B6: CHST9-AS1 | C6: antisense | D6: -5.143664 | E6: 8.1298543 | F6: 2.1422063e-23 | G6: 5.536318e-20
A7: ENSG00000254148 | B7: RP11-84E24.2 | C7: lincRNA | D7: -6.9504965 | E7: 5.1081679 | F7: 6.1513635e-23 | G7: 1.3247987e-19
A8: ENSG00000204815 | B8: TTC25 | C8: processed_transcript | D8: -4.5768366 | E8: 8.6602393 | F8: 4.0259606e-22 | G8: 7.4319232e-19
A9: ENSG00000255308 | B9: RP11-428C19.4 | C9: antisense | D9: -6.5845434 | E9: 5.0523065 | F9: 5.0783439e-22 | G9: 8.2027949e-19
A10: ENSG00000225548 | B10: AC098973.2 | C10: lincRNA | D10: 5.6210446 | E10: 4.8625372 | F10: 4.3183e-21 | G10: 6.2001192e-18
A11: ENSG00000214797 | B11: RP11-1036E20.9 | C11: lincRNA | D11: -6.4245119 | E11: 5.4502697 | F11: 3.8335353e-20 | G11: 4.6848266e-17
A12: ENSG00000226476 | B12: RP11-776H12.1 | C12: lincRNA | D12: 5.0371612 | E12: 5.461124 | F12: 3.9880121e-20 | G12: 4.6848266e-17
A13: ENSG00000263450 | B13: RP11-680N20.1 | C13: antisense | D13: -6.0329268 | E13: 3.5105229 | F13: 5.8888335e-20 | G13: 6.3412922e-17
... A893: ENSG00000228204 | B893: RP4-724E13.2 | C893: antisense | D893: -2.2055447 | E893: 3.6863014 | F893: 0.00069011752 | G893: 0.0099974199

Sheet annotation
A1: id | B1: gene_name | C1: gene_biotype
A2: ENSG00000000003 | B2: TSPAN6 | C2: protein_coding
A3: ENSG00000000005 | B3: TNMD | C3: protein_coding
A4: ENSG00000000419 | B4: DPM1 | C4: protein_coding
A5: ENSG00000000457 | B5: SCYL3 | C5: protein_coding
A6: ENSG00000000460 | B6: C1orf112 | C6: protein_coding
A7: ENSG00000000938 | B7: FGR | C7: protein_coding
A8: ENSG00000000971 | B8: CFH | C8: protein_coding
A9: ENSG00000001036 | B9: FUCA2 | C9: protein_coding
A10: ENSG00000001084 | B10: GCLC | C10: protein_coding
A11: ENSG00000001167 | B11: NFYA | C11: protein_coding
A12: ENSG00000001460 | B12: STPG1 | C12: protein_coding
... A55805: ENSG00000267801 | B55805: RP11-552F3.9 | C55805: antisense
