Workbook

Sheet GENOME
A1: FST matrix of populations based on the GENOME dataset
B2: GBR | C2: FIN | D2: IBS | E2: TSI | F2: BEB | G2: GIH | H2: ITU | I2: PJL | J2: STU | K2: CDX | L2: CHB | M2: JPT | N2: KHV | O2: CHS | P2: CLM | Q2: MXL | R2: PEL | S2: PUR | T2: ASW | U2: ACB | V2: ESN | W2: GWD | X2: LWK | Y2: MSL | Z2: YRI
A3: GBR | B3: 0 | C3: 0.007 | D3: 0.002 | E3: 0.004 | F3: 0.036 | G3: 0.032 | H3: 0.037 | I3: 0.026 | J3: 0.038 | K3: 0.088 | L3: 0.086 | M3: 0.088 | N3: 0.085 | O3: 0.087 | P3: 0.014 | Q3: 0.034 | R3: 0.076 | S3: 0.009 | T3: 0.056 | U3: 0.071 | V3: 0.09 | W3: 0.088 | X3: 0.084 | Y3: 0.09 | Z3: 0.089
A4: FIN | B4: 0.007 | C4: 0 | D4: 0.01 | E4: 0.011 | F4: 0.036 | G4: 0.034 | H4: 0.038 | I4: 0.028 | J4: 0.039 | K4: 0.084 | L4: 0.08 | M4: 0.083 | N4: 0.08 | O4: 0.082 | P4: 0.017 | Q4: 0.034 | R4: 0.074 | S4: 0.014 | T4: 0.058 | U4: 0.072 | V4: 0.091 | W4: 0.089 | X4: 0.085 | Y4: 0.091 | Z4: 0.09
A5: IBS | B5: 0.002 | C5: 0.01 | D5: 0 | E5: 0.002 | F5: 0.036 | G5: 0.033 | H5: 0.037 | I5: 0.027 | J5: 0.038 | K5: 0.088 | L5: 0.085 | M5: 0.087 | N5: 0.084 | O5: 0.086 | P5: 0.013 | Q5: 0.034 | R5: 0.078 | S5: 0.007 | T5: 0.053 | U5: 0.067 | V5: 0.086 | W5: 0.084 | X5: 0.08 | Y5: 0.086 | Z5: 0.085
A6: TSI | B6: 0.004 | C6: 0.011 | D6: 0.002 | E6: 0 | F6: 0.035 | G6: 0.031 | H6: 0.036 | I6: 0.026 | J6: 0.036 | K6: 0.088 | L6: 0.085 | M6: 0.087 | N6: 0.084 | O6: 0.087 | P6: 0.014 | Q6: 0.035 | R6: 0.078 | S6: 0.008 | T6: 0.054 | U6: 0.068 | V6: 0.087 | W6: 0.085 | X6: 0.081 | Y6: 0.087 | Z6: 0.086
A7: BEB | B7: 0.036 | C7: 0.036 | D7: 0.036 | E7: 0.035 | F7: 0 | G7: 0.004 | H7: 0.002 | I7: 0.003 | J7: 0.002 | K7: 0.048 | L7: 0.047 | M7: 0.049 | N7: 0.045 | O7: 0.047 | P7: 0.027 | Q7: 0.035 | R7: 0.064 | S7: 0.027 | T7: 0.05 | U7: 0.061 | V7: 0.076 | W7: 0.075 | X7: 0.071 | Y7: 0.076 | Z7: 0.075
A8: GIH | B8: 0.032 | C8: 0.034 | D8: 0.033 | E8: 0.031 | F8: 0.004 | G8: 0 | H8: 0.004 | I8: 0.004 | J8: 0.005 | K8: 0.063 | L8: 0.061 | M8: 0.063 | N8: 0.059 | O8: 0.062 | P8: 0.028 | Q8: 0.038 | R8: 0.07 | S8: 0.026 | T8: 0.052 | U8: 0.064 | V8: 0.079 | W8: 0.078 | X8: 0.075 | Y8: 0.08 | Z8: 0.079
A9: ITU | B9: 0.037 | C9: 0.038 | D9: 0.037 | E9: 0.036 | F9: 0.002 | G9: 0.004 | H9: 0 | I9: 0.003 | J9: 0.001 | K9: 0.059 | L9: 0.058 | M9: 0.06 | N9: 0.056 | O9: 0.059 | P9: 0.03 | Q9: 0.039 | R9: 0.071 | S9: 0.029 | T9: 0.052 | U9: 0.064 | V9: 0.078 | W9: 0.077 | X9: 0.074 | Y9: 0.078 | Z9: 0.078
A10: PJL | B10: 0.026 | C10: 0.028 | D10: 0.027 | E10: 0.026 | F10: 0.003 | G10: 0.004 | H10: 0.003 | I10: 0 | J10: 0.004 | K10: 0.06 | L10: 0.058 | M10: 0.06 | N10: 0.057 | O10: 0.06 | P10: 0.023 | Q10: 0.033 | R10: 0.066 | S10: 0.021 | T10: 0.049 | U10: 0.061 | V10: 0.077 | W10: 0.075 | X10: 0.072 | Y10: 0.077 | Z10: 0.076
A11: STU | B11: 0.038 | C11: 0.039 | D11: 0.038 | E11: 0.036 | F11: 0.002 | G11: 0.005 | H11: 0.001 | I11: 0.004 | J11: 0 | K11: 0.058 | L11: 0.057 | M11: 0.058 | N11: 0.054 | O11: 0.058 | P11: 0.03 | Q11: 0.039 | R11: 0.07 | S11: 0.029 | T11: 0.052 | U11: 0.063 | V11: 0.078 | W11: 0.077 | X11: 0.073 | Y11: 0.078 | Z11: 0.077
A12: CDX | B12: 0.088 | C12: 0.084 | D12: 0.088 | E12: 0.088 | F12: 0.048 | G12: 0.063 | H12: 0.059 | I12: 0.06 | J12: 0.058 | K12: 0 | L12: 0.009 | M12: 0.017 | N12: 0.002 | O12: 0.005 | P12: 0.064 | Q12: 0.062 | R12: 0.08 | S12: 0.068 | T12: 0.077 | U12: 0.088 | V12: 0.1 | W12: 0.1 | X12: 0.097 | Y12: 0.1 | Z12: 0.1
A13: CHB | B13: 0.086 | C13: 0.08 | D13: 0.085 | E13: 0.085 | F13: 0.047 | G13: 0.061 | H13: 0.058 | I13: 0.058 | J13: 0.057 | K13: 0.009 | L13: 0 | M13: 0.007 | N13: 0.006 | O13: 0.001 | P13: 0.06 | Q13: 0.056 | R13: 0.073 | S13: 0.065 | T13: 0.076 | U13: 0.086 | V13: 0.099 | W13: 0.098 | X13: 0.095 | Y13: 0.099 | Z13: 0.098
A14: JPT | B14: 0.088 | C14: 0.083 | D14: 0.087 | E14: 0.087 | F14: 0.049 | G14: 0.063 | H14: 0.06 | I14: 0.06 | J14: 0.058 | K14: 0.017 | L14: 0.007 | M14: 0 | N14: 0.014 | O14: 0.009 | P14: 0.062 | Q14: 0.057 | R14: 0.073 | S14: 0.067 | T14: 0.078 | U14: 0.089 | V14: 0.101 | W14: 0.1 | X14: 0.097 | Y14: 0.101 | Z14: 0.1
... A27: YRI | B27: 0.089 | C27: 0.09 | D27: 0.085 | E27: 0.086 | F27: 0.075 | G27: 0.079 | H27: 0.078 | I27: 0.076 | J27: 0.077 | K27: 0.1 | L27: 0.098 | M27: 0.1 | N27: 0.097 | O27: 0.099 | P27: 0.07 | Q27: 0.082 | R27: 0.108 | S27: 0.061 | T27: 0.006 | U27: 0.002 | V27: 0.001 | W27: 0.006 | X27: 0.007 | Y27: 0.004 | Z27: 0

Sheet EXOME
A1: FST matrix of populations based on the EXOME dataset
B2: GBR | C2: FIN | D2: IBS | E2: TSI | F2: BEB | G2: GIH | H2: ITU | I2: PJL | J2: STU | K2: CDX | L2: CHB | M2: JPT | N2: KHV | O2: CHS | P2: CLM | Q2: MXL | R2: PEL | S2: PUR | T2: ASW | U2: ACB | V2: ESN | W2: GWD | X2: LWK | Y2: MSL | Z2: YRI
A3: GBR | B3: 0 | C3: 0.006 | D3: 0.002 | E3: 0.004 | F3: 0.036 | G3: 0.032 | H3: 0.038 | I3: 0.027 | J3: 0.039 | K3: 0.089 | L3: 0.085 | M3: 0.088 | N3: 0.084 | O3: 0.087 | P3: 0.014 | Q3: 0.034 | R3: 0.077 | S3: 0.009 | T3: 0.055 | U3: 0.07 | V3: 0.089 | W3: 0.087 | X3: 0.084 | Y3: 0.089 | Z3: 0.088
A4: FIN | B4: 0.006 | C4: 0 | D4: 0.01 | E4: 0.011 | F4: 0.037 | G4: 0.034 | H4: 0.039 | I4: 0.029 | J4: 0.04 | K4: 0.084 | L4: 0.08 | M4: 0.083 | N4: 0.08 | O4: 0.082 | P4: 0.018 | Q4: 0.034 | R4: 0.074 | S4: 0.014 | T4: 0.056 | U4: 0.071 | V4: 0.09 | W4: 0.088 | X4: 0.085 | Y4: 0.09 | Z4: 0.089
A5: IBS | B5: 0.002 | C5: 0.01 | D5: 0 | E5: 0.002 | F5: 0.036 | G5: 0.032 | H5: 0.037 | I5: 0.027 | J5: 0.038 | K5: 0.088 | L5: 0.085 | M5: 0.087 | N5: 0.084 | O5: 0.086 | P5: 0.013 | Q5: 0.034 | R5: 0.077 | S5: 0.007 | T5: 0.052 | U5: 0.066 | V5: 0.085 | W5: 0.083 | X5: 0.08 | Y5: 0.085 | Z5: 0.084
A6: TSI | B6: 0.004 | C6: 0.011 | D6: 0.002 | E6: 0 | F6: 0.035 | G6: 0.031 | H6: 0.036 | I6: 0.026 | J6: 0.037 | K6: 0.088 | L6: 0.085 | M6: 0.087 | N6: 0.084 | O6: 0.086 | P6: 0.014 | Q6: 0.034 | R6: 0.078 | S6: 0.008 | T6: 0.053 | U6: 0.068 | V6: 0.087 | W6: 0.084 | X6: 0.081 | Y6: 0.086 | Z6: 0.085
A7: BEB | B7: 0.036 | C7: 0.037 | D7: 0.036 | E7: 0.035 | F7: 0 | G7: 0.005 | H7: 0.002 | I7: 0.003 | J7: 0.002 | K7: 0.049 | L7: 0.047 | M7: 0.05 | N7: 0.045 | O7: 0.048 | P7: 0.028 | Q7: 0.035 | R7: 0.065 | S7: 0.027 | T7: 0.05 | U7: 0.061 | V7: 0.076 | W7: 0.075 | X7: 0.072 | Y7: 0.076 | Z7: 0.076
A8: GIH | B8: 0.032 | C8: 0.034 | D8: 0.032 | E8: 0.031 | F8: 0.005 | G8: 0 | H8: 0.005 | I8: 0.004 | J8: 0.005 | K8: 0.063 | L8: 0.061 | M8: 0.063 | N8: 0.059 | O8: 0.062 | P8: 0.028 | Q8: 0.038 | R8: 0.07 | S8: 0.026 | T8: 0.052 | U8: 0.064 | V8: 0.08 | W8: 0.078 | X8: 0.075 | Y8: 0.08 | Z8: 0.079
A9: ITU | B9: 0.038 | C9: 0.039 | D9: 0.037 | E9: 0.036 | F9: 0.002 | G9: 0.005 | H9: 0 | I9: 0.003 | J9: 0.001 | K9: 0.06 | L9: 0.058 | M9: 0.061 | N9: 0.056 | O9: 0.059 | P9: 0.031 | Q9: 0.04 | R9: 0.071 | S9: 0.03 | T9: 0.052 | U9: 0.064 | V9: 0.079 | W9: 0.077 | X9: 0.074 | Y9: 0.079 | Z9: 0.078
A10: PJL | B10: 0.027 | C10: 0.029 | D10: 0.027 | E10: 0.026 | F10: 0.003 | G10: 0.004 | H10: 0.003 | I10: 0 | J10: 0.004 | K10: 0.061 | L10: 0.058 | M10: 0.061 | N10: 0.056 | O10: 0.059 | P10: 0.023 | Q10: 0.034 | R10: 0.067 | S10: 0.022 | T10: 0.049 | U10: 0.061 | V10: 0.077 | W10: 0.075 | X10: 0.072 | Y10: 0.077 | Z10: 0.076
A11: STU | B11: 0.039 | C11: 0.04 | D11: 0.038 | E11: 0.037 | F11: 0.002 | G11: 0.005 | H11: 0.001 | I11: 0.004 | J11: 0 | K11: 0.059 | L11: 0.057 | M11: 0.059 | N11: 0.054 | O11: 0.058 | P11: 0.031 | Q11: 0.04 | R11: 0.071 | S11: 0.03 | T11: 0.052 | U11: 0.064 | V11: 0.078 | W11: 0.077 | X11: 0.074 | Y11: 0.078 | Z11: 0.078
A12: CDX | B12: 0.089 | C12: 0.084 | D12: 0.088 | E12: 0.088 | F12: 0.049 | G12: 0.063 | H12: 0.06 | I12: 0.061 | J12: 0.059 | K12: 0 | L12: 0.009 | M12: 0.018 | N12: 0.002 | O12: 0.005 | P12: 0.065 | Q12: 0.062 | R12: 0.079 | S12: 0.069 | T12: 0.079 | U12: 0.089 | V12: 0.102 | W12: 0.101 | X12: 0.098 | Y12: 0.102 | Z12: 0.101
A13: CHB | B13: 0.085 | C13: 0.08 | D13: 0.085 | E13: 0.085 | F13: 0.047 | G13: 0.061 | H13: 0.058 | I13: 0.058 | J13: 0.057 | K13: 0.009 | L13: 0 | M13: 0.007 | N13: 0.007 | O13: 0.001 | P13: 0.061 | Q13: 0.056 | R13: 0.073 | S13: 0.065 | T13: 0.076 | U13: 0.087 | V13: 0.101 | W13: 0.1 | X13: 0.096 | Y13: 0.101 | Z13: 0.099
A14: JPT | B14: 0.088 | C14: 0.083 | D14: 0.087 | E14: 0.087 | F14: 0.05 | G14: 0.063 | H14: 0.061 | I14: 0.061 | J14: 0.059 | K14: 0.018 | L14: 0.007 | M14: 0 | N14: 0.015 | O14: 0.009 | P14: 0.063 | Q14: 0.057 | R14: 0.074 | S14: 0.067 | T14: 0.079 | U14: 0.09 | V14: 0.103 | W14: 0.102 | X14: 0.098 | Y14: 0.103 | Z14: 0.101
... A27: YRI | B27: 0.088 | C27: 0.089 | D27: 0.084 | E27: 0.085 | F27: 0.076 | G27: 0.079 | H27: 0.078 | I27: 0.076 | J27: 0.078 | K27: 0.101 | L27: 0.099 | M27: 0.101 | N27: 0.098 | O27: 0.1 | P27: 0.069 | Q27: 0.081 | R27: 0.109 | S27: 0.061 | T27: 0.006 | U27: 0.002 | V27: 0.001 | W27: 0.007 | X27: 0.007 | Y27: 0.004 | Z27: 0

Sheet BEADCHIP
A1: FST matrix of populations based on the BEADCHIP dataset
B2: GBR | C2: FIN | D2: IBS | E2: TSI | F2: BEB | G2: GIH | H2: ITU | I2: PJL | J2: STU | K2: CDX | L2: CHB | M2: JPT | N2: KHV | O2: CHS | P2: CLM | Q2: MXL | R2: PEL | S2: PUR | T2: ASW | U2: ACB | V2: ESN | W2: GWD | X2: LWK | Y2: MSL | Z2: YRI
A3: GBR | B3: 0 | C3: 0.007 | D3: 0.003 | E3: 0.004 | F3: 0.037 | G3: 0.033 | H3: 0.038 | I3: 0.027 | J3: 0.039 | K3: 0.092 | L3: 0.089 | M3: 0.092 | N3: 0.089 | O3: 0.091 | P3: 0.015 | Q3: 0.036 | R3: 0.081 | S3: 0.01 | T3: 0.058 | U3: 0.075 | V3: 0.097 | W3: 0.094 | X3: 0.09 | Y3: 0.097 | Z3: 0.096
A4: FIN | B4: 0.007 | C4: 0 | D4: 0.01 | E4: 0.012 | F4: 0.037 | G4: 0.034 | H4: 0.039 | I4: 0.029 | J4: 0.04 | K4: 0.087 | L4: 0.084 | M4: 0.086 | N4: 0.084 | O4: 0.085 | P4: 0.018 | Q4: 0.036 | R4: 0.077 | S4: 0.014 | T4: 0.06 | U4: 0.077 | V4: 0.098 | W4: 0.095 | X4: 0.091 | Y4: 0.098 | Z4: 0.097
A5: IBS | B5: 0.003 | C5: 0.01 | D5: 0 | E5: 0.001 | F5: 0.037 | G5: 0.034 | H5: 0.039 | I5: 0.028 | J5: 0.039 | K5: 0.092 | L5: 0.089 | M5: 0.092 | N5: 0.088 | O5: 0.091 | P5: 0.013 | Q5: 0.036 | R5: 0.082 | S5: 0.008 | T5: 0.056 | U5: 0.072 | V5: 0.093 | W5: 0.09 | X5: 0.087 | Y5: 0.093 | Z5: 0.092
A6: TSI | B6: 0.004 | C6: 0.012 | D6: 0.001 | E6: 0 | F6: 0.036 | G6: 0.032 | H6: 0.037 | I6: 0.026 | J6: 0.037 | K6: 0.091 | L6: 0.089 | M6: 0.092 | N6: 0.088 | O6: 0.09 | P6: 0.014 | Q6: 0.037 | R6: 0.083 | S6: 0.009 | T6: 0.057 | U6: 0.073 | V6: 0.094 | W6: 0.091 | X6: 0.087 | Y6: 0.094 | Z6: 0.093
A7: BEB | B7: 0.037 | C7: 0.037 | D7: 0.037 | E7: 0.036 | F7: 0 | G7: 0.004 | H7: 0.002 | I7: 0.003 | J7: 0.002 | K7: 0.049 | L7: 0.048 | M7: 0.051 | N7: 0.046 | O7: 0.049 | P7: 0.028 | Q7: 0.036 | R7: 0.067 | S7: 0.028 | T7: 0.052 | U7: 0.065 | V7: 0.082 | W7: 0.079 | X7: 0.076 | Y7: 0.082 | Z7: 0.081
A8: GIH | B8: 0.033 | C8: 0.034 | D8: 0.034 | E8: 0.032 | F8: 0.004 | G8: 0 | H8: 0.004 | I8: 0.004 | J8: 0.004 | K8: 0.064 | L8: 0.063 | M8: 0.065 | N8: 0.061 | O8: 0.064 | P8: 0.028 | Q8: 0.039 | R8: 0.073 | S8: 0.027 | T8: 0.054 | U8: 0.068 | V8: 0.086 | W8: 0.083 | X8: 0.079 | Y8: 0.086 | Z8: 0.084
A9: ITU | B9: 0.038 | C9: 0.039 | D9: 0.039 | E9: 0.037 | F9: 0.002 | G9: 0.004 | H9: 0 | I9: 0.003 | J9: 0.001 | K9: 0.061 | L9: 0.059 | M9: 0.061 | N9: 0.057 | O9: 0.06 | P9: 0.031 | Q9: 0.04 | R9: 0.073 | S9: 0.03 | T9: 0.055 | U9: 0.068 | V9: 0.085 | W9: 0.082 | X9: 0.079 | Y9: 0.085 | Z9: 0.084
A10: PJL | B10: 0.027 | C10: 0.029 | D10: 0.028 | E10: 0.026 | F10: 0.003 | G10: 0.004 | H10: 0.003 | I10: 0 | J10: 0.004 | K10: 0.062 | L10: 0.06 | M10: 0.062 | N10: 0.058 | O10: 0.061 | P10: 0.023 | Q10: 0.034 | R10: 0.069 | S10: 0.022 | T10: 0.051 | U10: 0.065 | V10: 0.082 | W10: 0.08 | X10: 0.076 | Y10: 0.083 | Z10: 0.081
A11: STU | B11: 0.039 | C11: 0.04 | D11: 0.039 | E11: 0.037 | F11: 0.002 | G11: 0.004 | H11: 0.001 | I11: 0.004 | J11: 0 | K11: 0.059 | L11: 0.058 | M11: 0.06 | N11: 0.056 | O11: 0.059 | P11: 0.031 | Q11: 0.04 | R11: 0.073 | S11: 0.03 | T11: 0.054 | U11: 0.067 | V11: 0.084 | W11: 0.082 | X11: 0.078 | Y11: 0.084 | Z11: 0.083
A12: CDX | B12: 0.092 | C12: 0.087 | D12: 0.092 | E12: 0.091 | F12: 0.049 | G12: 0.064 | H12: 0.061 | I12: 0.062 | J12: 0.059 | K12: 0 | L12: 0.009 | M12: 0.017 | N12: 0.002 | O12: 0.005 | P12: 0.068 | Q12: 0.064 | R12: 0.083 | S12: 0.072 | T12: 0.085 | U12: 0.097 | V12: 0.112 | W12: 0.11 | X12: 0.107 | Y12: 0.112 | Z12: 0.111
A13: CHB | B13: 0.089 | C13: 0.084 | D13: 0.089 | E13: 0.089 | F13: 0.048 | G13: 0.063 | H13: 0.059 | I13: 0.06 | J13: 0.058 | K13: 0.009 | L13: 0 | M13: 0.007 | N13: 0.006 | O13: 0.001 | P13: 0.064 | Q13: 0.059 | R13: 0.077 | S13: 0.069 | T13: 0.083 | U13: 0.096 | V13: 0.11 | W13: 0.108 | X13: 0.105 | Y13: 0.11 | Z13: 0.109
A14: JPT | B14: 0.092 | C14: 0.086 | D14: 0.092 | E14: 0.092 | F14: 0.051 | G14: 0.065 | H14: 0.061 | I14: 0.062 | J14: 0.06 | K14: 0.017 | L14: 0.007 | M14: 0 | N14: 0.014 | O14: 0.009 | P14: 0.066 | Q14: 0.06 | R14: 0.078 | S14: 0.071 | T14: 0.085 | U14: 0.098 | V14: 0.112 | W14: 0.111 | X14: 0.107 | Y14: 0.113 | Z14: 0.111
... A27: YRI | B27: 0.096 | C27: 0.097 | D27: 0.092 | E27: 0.093 | F27: 0.081 | G27: 0.084 | H27: 0.084 | I27: 0.081 | J27: 0.083 | K27: 0.111 | L27: 0.109 | M27: 0.111 | N27: 0.108 | O27: 0.11 | P27: 0.076 | Q27: 0.089 | R27: 0.121 | S27: 0.067 | T27: 0.007 | U27: 0.002 | V27: 0.001 | W27: 0.006 | X27: 0.007 | Y27: 0.004 | Z27: 0

Sheet DIFF G-E
A1: The difference between the FST matrix of the GENOME and EXOME datasets
B2: GBR | C2: FIN | D2: IBS | E2: TSI | F2: BEB | G2: GIH | H2: ITU | I2: PJL | J2: STU | K2: CDX | L2: CHB | M2: JPT | N2: KHV | O2: CHS | P2: CLM | Q2: MXL | R2: PEL | S2: PUR | T2: ASW | U2: ACB | V2: ESN | W2: GWD | X2: LWK | Y2: MSL | Z2: YRI
A3: GBR | B3: =GENOME!B3-EXOME!B3 -> 0 | C3: =GENOME!C3-EXOME!C3 -> 0.001 | D3: =GENOME!D3-EXOME!D3 -> 0 | E3: =GENOME!E3-EXOME!E3 -> 0 | F3: =GENOME!F3-EXOME!F3 -> 0 | G3: =GENOME!G3-EXOME!G3 -> 0 | H3: =GENOME!H3-EXOME!H3 -> -0.001 | I3: =GENOME!I3-EXOME!I3 -> -0.001 | ... Z3: =GENOME!Z3-EXOME!Z3 -> 0.001
A4: FIN | B4: =GENOME!B4-EXOME!B4 -> 0.001 | C4: =GENOME!C4-EXOME!C4 -> 0 | D4: =GENOME!D4-EXOME!D4 -> 0 | E4: =GENOME!E4-EXOME!E4 -> 0 | F4: =GENOME!F4-EXOME!F4 -> -0.001 | G4: =GENOME!G4-EXOME!G4 -> 0 | H4: =GENOME!H4-EXOME!H4 -> -0.001 | I4: =GENOME!I4-EXOME!I4 -> -0.001 | ... Z4: =GENOME!Z4-EXOME!Z4 -> 0.001
A5: IBS | B5: =GENOME!B5-EXOME!B5 -> 0 | C5: =GENOME!C5-EXOME!C5 -> 0 | D5: =GENOME!D5-EXOME!D5 -> 0 | E5: =GENOME!E5-EXOME!E5 -> 0 | F5: =GENOME!F5-EXOME!F5 -> 0 | G5: =GENOME!G5-EXOME!G5 -> 0.001 | H5: =GENOME!H5-EXOME!H5 -> 0 | I5: =GENOME!I5-EXOME!I5 -> 0 | ... Z5: =GENOME!Z5-EXOME!Z5 -> 0.001
A6: TSI | B6: =GENOME!B6-EXOME!B6 -> 0 | C6: =GENOME!C6-EXOME!C6 -> 0 | D6: =GENOME!D6-EXOME!D6 -> 0 | E6: =GENOME!E6-EXOME!E6 -> 0 | F6: =GENOME!F6-EXOME!F6 -> 0 | G6: =GENOME!G6-EXOME!G6 -> 0 | H6: =GENOME!H6-EXOME!H6 -> 0 | I6: =GENOME!I6-EXOME!I6 -> 0 | ... Z6: =GENOME!Z6-EXOME!Z6 -> 0.001
A7: BEB | B7: =GENOME!B7-EXOME!B7 -> 0 | C7: =GENOME!C7-EXOME!C7 -> -0.001 | D7: =GENOME!D7-EXOME!D7 -> 0 | E7: =GENOME!E7-EXOME!E7 -> 0 | F7: =GENOME!F7-EXOME!F7 -> 0 | G7: =GENOME!G7-EXOME!G7 -> -0.001 | H7: =GENOME!H7-EXOME!H7 -> 0 | I7: =GENOME!I7-EXOME!I7 -> 0 | ... Z7: =GENOME!Z7-EXOME!Z7 -> -0.001
A8: GIH | B8: =GENOME!B8-EXOME!B8 -> 0 | C8: =GENOME!C8-EXOME!C8 -> 0 | D8: =GENOME!D8-EXOME!D8 -> 0.001 | E8: =GENOME!E8-EXOME!E8 -> 0 | F8: =GENOME!F8-EXOME!F8 -> -0.001 | G8: =GENOME!G8-EXOME!G8 -> 0 | H8: =GENOME!H8-EXOME!H8 -> -0.001 | I8: =GENOME!I8-EXOME!I8 -> 0 | ... Z8: =GENOME!Z8-EXOME!Z8 -> 0
A9: ITU | B9: =GENOME!B9-EXOME!B9 -> -0.001 | C9: =GENOME!C9-EXOME!C9 -> -0.001 | D9: =GENOME!D9-EXOME!D9 -> 0 | E9: =GENOME!E9-EXOME!E9 -> 0 | F9: =GENOME!F9-EXOME!F9 -> 0 | G9: =GENOME!G9-EXOME!G9 -> -0.001 | H9: =GENOME!H9-EXOME!H9 -> 0 | I9: =GENOME!I9-EXOME!I9 -> 0 | ... Z9: =GENOME!Z9-EXOME!Z9 -> 0
A10: PJL | B10: =GENOME!B10-EXOME!B10 -> -0.001 | C10: =GENOME!C10-EXOME!C10 -> -0.001 | D10: =GENOME!D10-EXOME!D10 -> 0 | E10: =GENOME!E10-EXOME!E10 -> 0 | F10: =GENOME!F10-EXOME!F10 -> 0 | G10: =GENOME!G10-EXOME!G10 -> 0 | H10: =GENOME!H10-EXOME!H10 -> 0 | I10: =GENOME!I10-EXOME!I10 -> 0 | ... Z10: =GENOME!Z10-EXOME!Z10 -> 0
A11: STU | B11: =GENOME!B11-EXOME!B11 -> -0.001 | C11: =GENOME!C11-EXOME!C11 -> -0.001 | D11: =GENOME!D11-EXOME!D11 -> 0 | E11: =GENOME!E11-EXOME!E11 -> -0.001 | F11: =GENOME!F11-EXOME!F11 -> 0 | G11: =GENOME!G11-EXOME!G11 -> 0 | H11: =GENOME!H11-EXOME!H11 -> 0 | I11: =GENOME!I11-EXOME!I11 -> 0 | ... Z11: =GENOME!Z11-EXOME!Z11 -> -0.001
A12: CDX | B12: =GENOME!B12-EXOME!B12 -> -0.001 | C12: =GENOME!C12-EXOME!C12 -> 0 | D12: =GENOME!D12-EXOME!D12 -> 0 | E12: =GENOME!E12-EXOME!E12 -> 0 | F12: =GENOME!F12-EXOME!F12 -> -0.001 | G12: =GENOME!G12-EXOME!G12 -> 0 | H12: =GENOME!H12-EXOME!H12 -> -0.001 | I12: =GENOME!I12-EXOME!I12 -> -0.001 | ... Z12: =GENOME!Z12-EXOME!Z12 -> -0.001
A13: CHB | B13: =GENOME!B13-EXOME!B13 -> 0.001 | C13: =GENOME!C13-EXOME!C13 -> 0 | D13: =GENOME!D13-EXOME!D13 -> 0 | E13: =GENOME!E13-EXOME!E13 -> 0 | F13: =GENOME!F13-EXOME!F13 -> 0 | G13: =GENOME!G13-EXOME!G13 -> 0 | H13: =GENOME!H13-EXOME!H13 -> 0 | I13: =GENOME!I13-EXOME!I13 -> 0 | ... Z13: =GENOME!Z13-EXOME!Z13 -> -0.001
A14: JPT | B14: =GENOME!B14-EXOME!B14 -> 0 | C14: =GENOME!C14-EXOME!C14 -> 0 | D14: =GENOME!D14-EXOME!D14 -> 0 | E14: =GENOME!E14-EXOME!E14 -> 0 | F14: =GENOME!F14-EXOME!F14 -> -0.001 | G14: =GENOME!G14-EXOME!G14 -> 0 | H14: =GENOME!H14-EXOME!H14 -> -0.001 | I14: =GENOME!I14-EXOME!I14 -> -0.001 | ... Z14: =GENOME!Z14-EXOME!Z14 -> -0.001
... A27: YRI | B27: =GENOME!B27-EXOME!B27 -> 0.001 | C27: =GENOME!C27-EXOME!C27 -> 0.001 | D27: =GENOME!D27-EXOME!D27 -> 0.001 | E27: =GENOME!E27-EXOME!E27 -> 0.001 | F27: =GENOME!F27-EXOME!F27 -> -0.001 | G27: =GENOME!G27-EXOME!G27 -> 0 | H27: =GENOME!H27-EXOME!H27 -> 0 | I27: =GENOME!I27-EXOME!I27 -> 0 | ... Z27: =GENOME!Z27-EXOME!Z27 -> 0

Sheet DIFF G-B
A1: The difference between the FST matrix of the GENOME and BEADCHIP datasets
B2: GBR | C2: FIN | D2: IBS | E2: TSI | F2: BEB | G2: GIH | H2: ITU | I2: PJL | J2: STU | K2: CDX | L2: CHB | M2: JPT | N2: KHV | O2: CHS | P2: CLM | Q2: MXL | R2: PEL | S2: PUR | T2: ASW | U2: ACB | V2: ESN | W2: GWD | X2: LWK | Y2: MSL | Z2: YRI
A3: GBR | B3: =GENOME!B3-BEADCHIP!B3 -> 0 | C3: =GENOME!C3-BEADCHIP!C3 -> 0 | D3: =GENOME!D3-BEADCHIP!D3 -> -0.001 | E3: =GENOME!E3-BEADCHIP!E3 -> 0 | F3: =GENOME!F3-BEADCHIP!F3 -> -0.001 | G3: =GENOME!G3-BEADCHIP!G3 -> -0.001 | H3: =GENOME!H3-BEADCHIP!H3 -> -0.001 | I3: =GENOME!I3-BEADCHIP!I3 -> -0.001 | ... Z3: =GENOME!Z3-BEADCHIP!Z3 -> -0.007
A4: FIN | B4: =GENOME!B4-BEADCHIP!B4 -> 0 | C4: =GENOME!C4-BEADCHIP!C4 -> 0 | D4: =GENOME!D4-BEADCHIP!D4 -> 0 | E4: =GENOME!E4-BEADCHIP!E4 -> -0.001 | F4: =GENOME!F4-BEADCHIP!F4 -> -0.001 | G4: =GENOME!G4-BEADCHIP!G4 -> 0 | H4: =GENOME!H4-BEADCHIP!H4 -> -0.001 | I4: =GENOME!I4-BEADCHIP!I4 -> -0.001 | ... Z4: =GENOME!Z4-BEADCHIP!Z4 -> -0.007
A5: IBS | B5: =GENOME!B5-BEADCHIP!B5 -> -0.001 | C5: =GENOME!C5-BEADCHIP!C5 -> 0 | D5: =GENOME!D5-BEADCHIP!D5 -> 0 | E5: =GENOME!E5-BEADCHIP!E5 -> 0.001 | F5: =GENOME!F5-BEADCHIP!F5 -> -0.001 | G5: =GENOME!G5-BEADCHIP!G5 -> -0.001 | H5: =GENOME!H5-BEADCHIP!H5 -> -0.002 | I5: =GENOME!I5-BEADCHIP!I5 -> -0.001 | ... Z5: =GENOME!Z5-BEADCHIP!Z5 -> -0.007
A6: TSI | B6: =GENOME!B6-BEADCHIP!B6 -> 0 | C6: =GENOME!C6-BEADCHIP!C6 -> -0.001 | D6: =GENOME!D6-BEADCHIP!D6 -> 0.001 | E6: =GENOME!E6-BEADCHIP!E6 -> 0 | F6: =GENOME!F6-BEADCHIP!F6 -> -0.001 | G6: =GENOME!G6-BEADCHIP!G6 -> -0.001 | H6: =GENOME!H6-BEADCHIP!H6 -> -0.001 | I6: =GENOME!I6-BEADCHIP!I6 -> 0 | ... Z6: =GENOME!Z6-BEADCHIP!Z6 -> -0.007
A7: BEB | B7: =GENOME!B7-BEADCHIP!B7 -> -0.001 | C7: =GENOME!C7-BEADCHIP!C7 -> -0.001 | D7: =GENOME!D7-BEADCHIP!D7 -> -0.001 | E7: =GENOME!E7-BEADCHIP!E7 -> -0.001 | F7: =GENOME!F7-BEADCHIP!F7 -> 0 | G7: =GENOME!G7-BEADCHIP!G7 -> 0 | H7: =GENOME!H7-BEADCHIP!H7 -> 0 | I7: =GENOME!I7-BEADCHIP!I7 -> 0 | ... Z7: =GENOME!Z7-BEADCHIP!Z7 -> -0.006
A8: GIH | B8: =GENOME!B8-BEADCHIP!B8 -> -0.001 | C8: =GENOME!C8-BEADCHIP!C8 -> 0 | D8: =GENOME!D8-BEADCHIP!D8 -> -0.001 | E8: =GENOME!E8-BEADCHIP!E8 -> -0.001 | F8: =GENOME!F8-BEADCHIP!F8 -> 0 | G8: =GENOME!G8-BEADCHIP!G8 -> 0 | H8: =GENOME!H8-BEADCHIP!H8 -> 0 | I8: =GENOME!I8-BEADCHIP!I8 -> 0 | ... Z8: =GENOME!Z8-BEADCHIP!Z8 -> -0.005
A9: ITU | B9: =GENOME!B9-BEADCHIP!B9 -> -0.001 | C9: =GENOME!C9-BEADCHIP!C9 -> -0.001 | D9: =GENOME!D9-BEADCHIP!D9 -> -0.002 | E9: =GENOME!E9-BEADCHIP!E9 -> -0.001 | F9: =GENOME!F9-BEADCHIP!F9 -> 0 | G9: =GENOME!G9-BEADCHIP!G9 -> 0 | H9: =GENOME!H9-BEADCHIP!H9 -> 0 | I9: =GENOME!I9-BEADCHIP!I9 -> 0 | ... Z9: =GENOME!Z9-BEADCHIP!Z9 -> -0.006
A10: PJL | B10: =GENOME!B10-BEADCHIP!B10 -> -0.001 | C10: =GENOME!C10-BEADCHIP!C10 -> -0.001 | D10: =GENOME!D10-BEADCHIP!D10 -> -0.001 | E10: =GENOME!E10-BEADCHIP!E10 -> 0 | F10: =GENOME!F10-BEADCHIP!F10 -> 0 | G10: =GENOME!G10-BEADCHIP!G10 -> 0 | H10: =GENOME!H10-BEADCHIP!H10 -> 0 | I10: =GENOME!I10-BEADCHIP!I10 -> 0 | ... Z10: =GENOME!Z10-BEADCHIP!Z10 -> -0.005
A11: STU | B11: =GENOME!B11-BEADCHIP!B11 -> -0.001 | C11: =GENOME!C11-BEADCHIP!C11 -> -0.001 | D11: =GENOME!D11-BEADCHIP!D11 -> -0.001 | E11: =GENOME!E11-BEADCHIP!E11 -> -0.001 | F11: =GENOME!F11-BEADCHIP!F11 -> 0 | G11: =GENOME!G11-BEADCHIP!G11 -> 0.001 | H11: =GENOME!H11-BEADCHIP!H11 -> 0 | I11: =GENOME!I11-BEADCHIP!I11 -> 0 | ... Z11: =GENOME!Z11-BEADCHIP!Z11 -> -0.006
A12: CDX | B12: =GENOME!B12-BEADCHIP!B12 -> -0.004 | C12: =GENOME!C12-BEADCHIP!C12 -> -0.003 | D12: =GENOME!D12-BEADCHIP!D12 -> -0.004 | E12: =GENOME!E12-BEADCHIP!E12 -> -0.003 | F12: =GENOME!F12-BEADCHIP!F12 -> -0.001 | G12: =GENOME!G12-BEADCHIP!G12 -> -0.001 | H12: =GENOME!H12-BEADCHIP!H12 -> -0.002 | I12: =GENOME!I12-BEADCHIP!I12 -> -0.002 | ... Z12: =GENOME!Z12-BEADCHIP!Z12 -> -0.011
A13: CHB | B13: =GENOME!B13-BEADCHIP!B13 -> -0.003 | C13: =GENOME!C13-BEADCHIP!C13 -> -0.004 | D13: =GENOME!D13-BEADCHIP!D13 -> -0.004 | E13: =GENOME!E13-BEADCHIP!E13 -> -0.004 | F13: =GENOME!F13-BEADCHIP!F13 -> -0.001 | G13: =GENOME!G13-BEADCHIP!G13 -> -0.002 | H13: =GENOME!H13-BEADCHIP!H13 -> -0.001 | I13: =GENOME!I13-BEADCHIP!I13 -> -0.002 | ... Z13: =GENOME!Z13-BEADCHIP!Z13 -> -0.011
A14: JPT | B14: =GENOME!B14-BEADCHIP!B14 -> -0.004 | C14: =GENOME!C14-BEADCHIP!C14 -> -0.003 | D14: =GENOME!D14-BEADCHIP!D14 -> -0.005 | E14: =GENOME!E14-BEADCHIP!E14 -> -0.005 | F14: =GENOME!F14-BEADCHIP!F14 -> -0.002 | G14: =GENOME!G14-BEADCHIP!G14 -> -0.002 | H14: =GENOME!H14-BEADCHIP!H14 -> -0.001 | I14: =GENOME!I14-BEADCHIP!I14 -> -0.002 | ... Z14: =GENOME!Z14-BEADCHIP!Z14 -> -0.011
... A27: YRI | B27: =GENOME!B27-BEADCHIP!B27 -> -0.007 | C27: =GENOME!C27-BEADCHIP!C27 -> -0.007 | D27: =GENOME!D27-BEADCHIP!D27 -> -0.007 | E27: =GENOME!E27-BEADCHIP!E27 -> -0.007 | F27: =GENOME!F27-BEADCHIP!F27 -> -0.006 | G27: =GENOME!G27-BEADCHIP!G27 -> -0.005 | H27: =GENOME!H27-BEADCHIP!H27 -> -0.006 | I27: =GENOME!I27-BEADCHIP!I27 -> -0.005 | ... Z27: =GENOME!Z27-BEADCHIP!Z27 -> 0

Sheet HUN-EXOME
A1: FST matrix of populations based on the HUN-EXOME dataset
B2: HUN | C2: GBR | D2: FIN | E2: IBS | F2: TSI | G2: BEB | H2: GIH | I2: ITU | J2: PJL | K2: STU | L2: CDX | M2: CHB | N2: JPT | O2: KHV | P2: CHS | Q2: CLM | R2: MXL | S2: PEL | T2: PUR | U2: ASW | V2: ACB | W2: ESN | X2: GWD | Y2: LWK | Z2: MSL | AA2: YRI
A3: HUN | B3: 0 | C3: 0.016 | D3: 0.02 | E3: 0.017 | F3: 0.017 | G3: 0.046 | H3: 0.042 | I3: 0.047 | J3: 0.037 | K3: 0.048 | L3: 0.097 | M3: 0.094 | N3: 0.096 | O3: 0.093 | P3: 0.096 | Q3: 0.026 | R3: 0.045 | S3: 0.088 | T3: 0.022 | U3: 0.064 | V3: 0.079 | W3: 0.098 | X3: 0.096 | Y3: 0.093 | Z3: 0.097 | AA3: 0.097
A4: GBR | B4: 0.016 | C4: 0 | D4: 0.007 | E4: 0.002 | F4: 0.004 | G4: 0.036 | H4: 0.032 | I4: 0.038 | J4: 0.027 | K4: 0.039 | L4: 0.089 | M4: 0.085 | N4: 0.088 | O4: 0.084 | P4: 0.087 | Q4: 0.014 | R4: 0.034 | S4: 0.077 | T4: 0.009 | U4: 0.055 | V4: 0.07 | W4: 0.09 | X4: 0.088 | Y4: 0.085 | Z4: 0.09 | AA4: 0.089
A5: FIN | B5: 0.02 | C5: 0.007 | D5: 0 | E5: 0.01 | F5: 0.011 | G5: 0.037 | H5: 0.034 | I5: 0.039 | J5: 0.029 | K5: 0.04 | L5: 0.084 | M5: 0.08 | N5: 0.082 | O5: 0.08 | P5: 0.082 | Q5: 0.017 | R5: 0.034 | S5: 0.074 | T5: 0.014 | U5: 0.057 | V5: 0.072 | W5: 0.091 | X5: 0.089 | Y5: 0.086 | Z5: 0.091 | AA5: 0.09
A6: IBS | B6: 0.017 | C6: 0.002 | D6: 0.01 | E6: 0 | F6: 0.002 | G6: 0.036 | H6: 0.032 | I6: 0.037 | J6: 0.027 | K6: 0.038 | L6: 0.087 | M6: 0.085 | N6: 0.087 | O6: 0.083 | P6: 0.086 | Q6: 0.013 | R6: 0.034 | S6: 0.077 | T6: 0.007 | U6: 0.053 | V6: 0.067 | W6: 0.086 | X6: 0.084 | Y6: 0.081 | Z6: 0.086 | AA6: 0.085
A7: TSI | B7: 0.017 | C7: 0.004 | D7: 0.011 | E7: 0.002 | F7: 0 | G7: 0.035 | H7: 0.031 | I7: 0.036 | J7: 0.026 | K7: 0.036 | L7: 0.088 | M7: 0.085 | N7: 0.087 | O7: 0.084 | P7: 0.086 | Q7: 0.014 | R7: 0.034 | S7: 0.078 | T7: 0.008 | U7: 0.054 | V7: 0.068 | W7: 0.087 | X7: 0.085 | Y7: 0.082 | Z7: 0.087 | AA7: 0.086
A8: BEB | B8: 0.046 | C8: 0.036 | D8: 0.037 | E8: 0.036 | F8: 0.035 | G8: 0 | H8: 0.005 | I8: 0.002 | J8: 0.003 | K8: 0.002 | L8: 0.049 | M8: 0.047 | N8: 0.05 | O8: 0.045 | P8: 0.048 | Q8: 0.028 | R8: 0.035 | S8: 0.065 | T8: 0.027 | U8: 0.051 | V8: 0.063 | W8: 0.078 | X8: 0.076 | Y8: 0.073 | Z8: 0.078 | AA8: 0.077
A9: GIH | B9: 0.042 | C9: 0.032 | D9: 0.034 | E9: 0.032 | F9: 0.031 | G9: 0.005 | H9: 0 | I9: 0.005 | J9: 0.004 | K9: 0.005 | L9: 0.063 | M9: 0.061 | N9: 0.063 | O9: 0.058 | P9: 0.062 | Q9: 0.028 | R9: 0.038 | S9: 0.07 | T9: 0.026 | U9: 0.052 | V9: 0.065 | W9: 0.081 | X9: 0.079 | Y9: 0.076 | Z9: 0.081 | AA9: 0.08
A10: ITU | B10: 0.047 | C10: 0.038 | D10: 0.039 | E10: 0.037 | F10: 0.036 | G10: 0.002 | H10: 0.005 | I10: 0 | J10: 0.003 | K10: 0.001 | L10: 0.06 | M10: 0.058 | N10: 0.061 | O10: 0.056 | P10: 0.059 | Q10: 0.031 | R10: 0.04 | S10: 0.071 | T10: 0.03 | U10: 0.053 | V10: 0.065 | W10: 0.08 | X10: 0.078 | Y10: 0.076 | Z10: 0.08 | AA10: 0.08
A11: PJL | B11: 0.037 | C11: 0.027 | D11: 0.029 | E11: 0.027 | F11: 0.026 | G11: 0.003 | H11: 0.004 | I11: 0.003 | J11: 0 | K11: 0.004 | L11: 0.061 | M11: 0.058 | N11: 0.061 | O11: 0.056 | P11: 0.06 | Q11: 0.023 | R11: 0.034 | S11: 0.067 | T11: 0.022 | U11: 0.049 | V11: 0.062 | W11: 0.078 | X11: 0.076 | Y11: 0.074 | Z11: 0.078 | AA11: 0.077
A12: STU | B12: 0.048 | C12: 0.039 | D12: 0.04 | E12: 0.038 | F12: 0.036 | G12: 0.002 | H12: 0.005 | I12: 0.001 | J12: 0.004 | K12: 0 | L12: 0.059 | M12: 0.057 | N12: 0.06 | O12: 0.054 | P12: 0.058 | Q12: 0.031 | R12: 0.04 | S12: 0.071 | T12: 0.03 | U12: 0.053 | V12: 0.065 | W12: 0.08 | X12: 0.078 | Y12: 0.075 | Z12: 0.08 | AA12: 0.079
A13: CDX | B13: 0.097 | C13: 0.089 | D13: 0.084 | E13: 0.087 | F13: 0.088 | G13: 0.049 | H13: 0.063 | I13: 0.06 | J13: 0.061 | K13: 0.059 | L13: 0 | M13: 0.009 | N13: 0.018 | O13: 0.002 | P13: 0.005 | Q13: 0.065 | R13: 0.062 | S13: 0.08 | T13: 0.069 | U13: 0.08 | V13: 0.091 | W13: 0.104 | X13: 0.103 | Y13: 0.1 | Z13: 0.104 | AA13: 0.103
A14: CHB | B14: 0.094 | C14: 0.085 | D14: 0.08 | E14: 0.085 | F14: 0.085 | G14: 0.047 | H14: 0.061 | I14: 0.058 | J14: 0.058 | K14: 0.057 | L14: 0.009 | M14: 0 | N14: 0.007 | O14: 0.007 | P14: 0.001 | Q14: 0.061 | R14: 0.056 | S14: 0.073 | T14: 0.065 | U14: 0.078 | V14: 0.089 | W14: 0.103 | X14: 0.102 | Y14: 0.098 | Z14: 0.103 | AA14: 0.101
... A28: YRI | B28: 0.097 | C28: 0.089 | D28: 0.09 | E28: 0.085 | F28: 0.086 | G28: 0.077 | H28: 0.08 | I28: 0.08 | J28: 0.077 | K28: 0.079 | L28: 0.103 | M28: 0.101 | N28: 0.103 | O28: 0.1 | P28: 0.102 | Q28: 0.07 | R28: 0.082 | S28: 0.11 | T28: 0.062 | U28: 0.006 | V28: 0.002 | W28: 0.001 | X28: 0.007 | Y28: 0.007 | Z28: 0.004 | AA28: 0
