Workbook
Name Genes: Registers!$B$2:$B$150
Name Vendedores: Registers!$B$2:$B$150

Sheet A. E11
B1: GENE | C1: EVENT | D1: TYPE | E1: CHR | F1: DPLIM | G1: SEX | H1: DESCRIPTION
A2: =COUNTIF($B$1:B2,'C. Find'!$G$3) -> 0 | B2: 5830418K08Rik | C2: MmuINT0005524 | D2: IR | E2: chr9 | F2: 11.41 | G2: male | H2: =IFERROR(VLOOKUP(B2,description!A:B,2,FALSE),"")
A3: =COUNTIF($B$1:B3,'C. Find'!$G$3) -> 0 | B3: 5830418K08Rik | C3: MmuINT0005528 | D3: IR | E3: chr9 | F3: -10.608333 | G3: female | H3: =IFERROR(VLOOKUP(B3,description!A:B,2,FALSE),"")
A4: =COUNTIF($B$1:B4,'C. Find'!$G$3) -> 0 | B4: 8430406I07Rik | C4: MmuALTD0000607-4/4 | D4: SS5 | E4: chr2 | F4: 12.755 | G4: male | H4: =IFERROR(VLOOKUP(B4,description!A:B,2,FALSE),"")
A5: =COUNTIF($B$1:B5,'C. Find'!$G$3) -> 0 | B5: 8430406I07Rik | C5: MmuALTD0000607-2/4 | D5: SS5 | E5: chr2 | F5: -11.963333 | G5: female | H5: =IFERROR(VLOOKUP(B5,description!A:B,2,FALSE),"")
A6: =COUNTIF($B$1:B6,'C. Find'!$G$3) -> 0 | B6: 9930104L06Rik | C6: MmuINT0006348 | D6: IR | E6: chr4 | F6: 15.696667 | G6: male | H6: =IFERROR(VLOOKUP(B6,description!A:B,2,FALSE),"") -> RIKEN cDNA 9930104L06 gene [Source:MGI Symbol;Acc:MGI:3041172]
A7: =COUNTIF($B$1:B7,'C. Find'!$G$3) -> 0 | B7: 9930104L06Rik | C7: MmuINT0006349 | D7: IR | E7: chr4 | F7: -10.768333 | G7: female | H7: =IFERROR(VLOOKUP(B7,description!A:B,2,FALSE),"") -> RIKEN cDNA 9930104L06 gene [Source:MGI Symbol;Acc:MGI:3041172]
A8: =COUNTIF($B$1:B8,'C. Find'!$G$3) -> 0 | B8: Accs | C8: MmuALTA0001015-2/3 | D8: SS3 | E8: chr2 | F8: 34.866667 | G8: male | H8: =IFERROR(VLOOKUP(B8,description!A:B,2,FALSE),"") -> 1-aminocyclopropane-1-carboxylate synthase (non-functional) [Source:MGI Symbol;Acc:MGI:1919717]
A9: =COUNTIF($B$1:B9,'C. Find'!$G$3) -> 0 | B9: Accs | C9: MmuALTA0001015-3/3 | D9: SS3 | E9: chr2 | F9: -24.418333 | G9: female | H9: =IFERROR(VLOOKUP(B9,description!A:B,2,FALSE),"") -> 1-aminocyclopropane-1-carboxylate synthase (non-functional) [Source:MGI Symbol;Acc:MGI:1919717]
A10: =COUNTIF($B$1:B10,'C. Find'!$G$3) -> 0 | B10: Araf | C10: MmuALTD0001495-2/2 | D10: SS5 | E10: chrX | F10: 10.393333 | G10: male | H10: =IFERROR(VLOOKUP(B10,description!A:B,2,FALSE),"") -> Araf proto-oncogene, serine/threonine kinase [Source:MGI Symbol;Acc:MGI:88065]
A11: =COUNTIF($B$1:B11,'C. Find'!$G$3) -> 0 | B11: Araf | C11: MmuINT0017511 | D11: IR | E11: chrX | F11: -18.533333 | G11: female | H11: =IFERROR(VLOOKUP(B11,description!A:B,2,FALSE),"") -> Araf proto-oncogene, serine/threonine kinase [Source:MGI Symbol;Acc:MGI:88065]
A12: =COUNTIF($B$1:B12,'C. Find'!$G$3) -> 0 | B12: Arhgef4 | C12: MmuALTD0001586-3/3 | D12: SS5 | E12: chr1 | F12: 11.306667 | G12: male | H12: =IFERROR(VLOOKUP(B12,description!A:B,2,FALSE),"") -> Rho guanine nucleotide exchange factor (GEF) 4 [Source:MGI Symbol;Acc:MGI:2442507]
A13: =COUNTIF($B$1:B13,'C. Find'!$G$3) -> 0 | B13: Arhgef4 | C13: MmuINT0018636 | D13: IR | E13: chr1 | F13: 15.39 | G13: male | H13: =IFERROR(VLOOKUP(B13,description!A:B,2,FALSE),"") -> Rho guanine nucleotide exchange factor (GEF) 4 [Source:MGI Symbol;Acc:MGI:2442507]
... A229: =COUNTIF($B$1:B229,'C. Find'!$G$3) -> 2 | B229: Zfp940 | C229: MmuEX0053701 | D229: S | E229: chr7 | F229: -10.081667 | G229: female | H229: =IFERROR(VLOOKUP(B229,description!A:B,2,FALSE),"") -> zinc finger protein 940 [Source:MGI Symbol;Acc:MGI:2446235]

Sheet B. E12
B1: GENE | C1: EVENT | D1: TYPE | E1: CHR | F1: DPLIM | G1: SEX | H1: DESCRIPTION
A2: =COUNTIF($B$1:B2,'C. Find'!$G$28) -> 0 | B2: 1700012B15Rik | C2: MmuINT0000967 | D2: IR | E2: chr12 | F2: 11.835 | G2: male | H2: =IFERROR(VLOOKUP(B2,description!A:B,2,FALSE),"")
A3: =COUNTIF($B$1:B3,'C. Find'!$G$28) -> 0 | B3: 1700012B15Rik | C3: MmuEX0000404 | D3: ES | E3: chr12 | F3: -11.87 | G3: female | H3: =IFERROR(VLOOKUP(B3,description!A:B,2,FALSE),"")
A4: =COUNTIF($B$1:B4,'C. Find'!$G$28) -> 0 | B4: 2010111I01Rik | C4: MmuALTD0000223-3/3 | D4: SS5 | E4: chr13 | F4: 11.275 | G4: male | H4: =IFERROR(VLOOKUP(B4,description!A:B,2,FALSE),"") -> RIKEN cDNA 2010111I01 gene [Source:MGI Symbol;Acc:MGI:1919311]
A5: =COUNTIF($B$1:B5,'C. Find'!$G$28) -> 0 | B5: 2010111I01Rik | C5: MmuEX0000746 | D5: S | E5: chr13 | F5: 10.745 | G5: male | H5: =IFERROR(VLOOKUP(B5,description!A:B,2,FALSE),"") -> RIKEN cDNA 2010111I01 gene [Source:MGI Symbol;Acc:MGI:1919311]
A6: =COUNTIF($B$1:B6,'C. Find'!$G$28) -> 0 | B6: 2010111I01Rik | C6: MmuALTD0000223-2/3 | D6: SS5 | E6: chr13 | F6: -11.275 | G6: female | H6: =IFERROR(VLOOKUP(B6,description!A:B,2,FALSE),"") -> RIKEN cDNA 2010111I01 gene [Source:MGI Symbol;Acc:MGI:1919311]
A7: =COUNTIF($B$1:B7,'C. Find'!$G$28) -> 0 | B7: 4833420G17Rik | C7: MmuINT0003517 | D7: IR | E7: chr13 | F7: 25.15 | G7: male | H7: =IFERROR(VLOOKUP(B7,description!A:B,2,FALSE),"") -> RIKEN cDNA 4833420G17 gene [Source:MGI Symbol;Acc:MGI:1914642]
A8: =COUNTIF($B$1:B8,'C. Find'!$G$28) -> 0 | B8: 4833420G17Rik | C8: MmuEX0001374 | D8: ES | E8: chr13 | F8: -11.51 | G8: female | H8: =IFERROR(VLOOKUP(B8,description!A:B,2,FALSE),"") -> RIKEN cDNA 4833420G17 gene [Source:MGI Symbol;Acc:MGI:1914642]
A9: =COUNTIF($B$1:B9,'C. Find'!$G$28) -> 0 | B9: 4921513D23Rik | C9: MmuALTD0000456-3/4 | D9: SS5 | E9: chr16 | F9: 16.075 | G9: male | H9: =IFERROR(VLOOKUP(B9,description!A:B,2,FALSE),"")
A10: =COUNTIF($B$1:B10,'C. Find'!$G$28) -> 0 | B10: 4921513D23Rik | C10: MmuALTD0000456-2/4 | D10: SS5 | E10: chr16 | F10: -13.1 | G10: female | H10: =IFERROR(VLOOKUP(B10,description!A:B,2,FALSE),"")
A11: =COUNTIF($B$1:B11,'C. Find'!$G$28) -> 0 | B11: 4921513D23Rik | C11: MmuINT0003609 | D11: IR | E11: chr16 | F11: -11.26 | G11: female | H11: =IFERROR(VLOOKUP(B11,description!A:B,2,FALSE),"")
A12: =COUNTIF($B$1:B12,'C. Find'!$G$28) -> 0 | B12: 4921513D23Rik | C12: MmuINT0003611 | D12: IR | E12: chr16 | F12: -10.765 | G12: female | H12: =IFERROR(VLOOKUP(B12,description!A:B,2,FALSE),"")
A13: =COUNTIF($B$1:B13,'C. Find'!$G$28) -> 0 | B13: 4930422G04Rik | C13: MmuEX0001494 | D13: S | E13: chr3 | F13: 10.515 | G13: male | H13: =IFERROR(VLOOKUP(B13,description!A:B,2,FALSE),"")
... A359: =COUNTIF($B$1:B359,'C. Find'!$G$28) -> 2 | B359: Zzef1 | C359: MmuINT0181073 | D359: IR | E359: chr11 | F359: -12.235 | G359: female | H359: =IFERROR(VLOOKUP(B359,description!A:B,2,FALSE),"") -> zinc finger, ZZ-type with EF hand domain 1 [Source:MGI Symbol;Acc:MGI:2444286]

Sheet description
A1: Gene name | B1: Gene description
A2: Ebf4 | B2: early B cell factor 4 [Source:MGI Symbol;Acc:MGI:2385972]
A3: Socs6 | B3: suppressor of cytokine signaling 6 [Source:MGI Symbol;Acc:MGI:1924885]
A4: Pcbp2 | B4: poly(rC) binding protein 2 [Source:MGI Symbol;Acc:MGI:108202]
A5: Pi4ka | B5: phosphatidylinositol 4-kinase alpha [Source:MGI Symbol;Acc:MGI:2448506]
A6: Chd6 | B6: chromodomain helicase DNA binding protein 6 [Source:MGI Symbol;Acc:MGI:1918639]
A7: Arntl2 | B7: aryl hydrocarbon receptor nuclear translocator-like 2 [Source:MGI Symbol;Acc:MGI:2684845]
A8: Prpf6 | B8: pre-mRNA splicing factor 6 [Source:MGI Symbol;Acc:MGI:1922946]
A9: Rpusd1 | B9: RNA pseudouridylate synthase domain containing 1 [Source:MGI Symbol;Acc:MGI:1919186]
A10: 9930104L06Rik | B10: RIKEN cDNA 9930104L06 gene [Source:MGI Symbol;Acc:MGI:3041172]
A11: Sipa1 | B11: signal-induced proliferation associated gene 1 [Source:MGI Symbol;Acc:MGI:107576]
A12: Caskin1 | B12: CASK interacting protein 1 [Source:MGI Symbol;Acc:MGI:2442952]
... A214: Nfya | B214: nuclear transcription factor-Y alpha [Source:MGI Symbol;Acc:MGI:97316]

Sheet Registers
A1: genes E11 | B1: genes E12
A2: 5830418K08Rik | B2: 1700012B15Rik
A3: 8430406I07Rik | B3: 2010111I01Rik
A4: 9930104L06Rik | B4: 4833420G17Rik
A5: Accs | B5: 4921513D23Rik
A6: Araf | B6: 4930422G04Rik
A7: Arhgef4 | B7: 4930432K21Rik
A8: Arhgef9 | B8: 4930447C04Rik
A9: Arpc5l | B9: 4930503L19Rik
A10: Auts2 | B10: 9930104L06Rik
A11: Birc6 | B11: Abca7
A12: C330019G07Rik | B12: Acbd4
... A93: Zfp940 | B93: Nin
B94: Nop56
B95: Nphs1
B96: Per3
B97: Phkg2
B98: Pi4ka
B99: Pif1
B100: Pik3c2b
B101: Poglut1
B102: Polm
B103: Prrt2
B104: Ptma
B105: Ptprv
... B150: Zzef1

Sheet C. Find
G2: 2 | H2: 3 | I2: 4 | J2: 5 | K2: 6 | L2: 7
D3: E11 | E3: FIND | G3: rps18 | H3: EVENT | I3: TYPE | J3: CHR | K3: DPLIM | L3: SEX
F4: 1 | G4: =IFERROR(VLOOKUP($F4,'A. E11'!$A$2:$G$229,G$2,FALSE),"") -> Rps18 | H4: =IFERROR(VLOOKUP($F4,'A. E11'!$A$2:$G$229,H$2,FALSE),"") -> MmuALTD0012168-3/3 | I4: =IFERROR(VLOOKUP($F4,'A. E11'!$A$2:$G$229,I$2,FALSE),"") -> SS5 | J4: =IFERROR(VLOOKUP($F4,'A. E11'!$A$2:$G$229,J$2,FALSE),"") -> chr17 | K4: =IFERROR(VLOOKUP($F4,'A. E11'!$A$2:$G$229,K$2,FALSE),"") -> 31.516667 | L4: =IFERROR(VLOOKUP($F4,'A. E11'!$A$2:$G$229,L$2,FALSE),"") -> male
F5: 2 | G5: =IFERROR(VLOOKUP($F5,'A. E11'!$A$2:$G$229,G$2,FALSE),"") -> Rps18 | H5: =IFERROR(VLOOKUP($F5,'A. E11'!$A$2:$G$229,H$2,FALSE),"") -> MmuALTD0012168-2/3 | I5: =IFERROR(VLOOKUP($F5,'A. E11'!$A$2:$G$229,I$2,FALSE),"") -> SS5 | J5: =IFERROR(VLOOKUP($F5,'A. E11'!$A$2:$G$229,J$2,FALSE),"") -> chr17 | K5: =IFERROR(VLOOKUP($F5,'A. E11'!$A$2:$G$229,K$2,FALSE),"") -> -31.516667 | L5: =IFERROR(VLOOKUP($F5,'A. E11'!$A$2:$G$229,L$2,FALSE),"") -> female
F6: 3 | G6: =IFERROR(VLOOKUP($F6,'A. E11'!$A$2:$G$229,G$2,FALSE),"") | H6: =IFERROR(VLOOKUP($F6,'A. E11'!$A$2:$G$229,H$2,FALSE),"") | I6: =IFERROR(VLOOKUP($F6,'A. E11'!$A$2:$G$229,I$2,FALSE),"") | J6: =IFERROR(VLOOKUP($F6,'A. E11'!$A$2:$G$229,J$2,FALSE),"") | K6: =IFERROR(VLOOKUP($F6,'A. E11'!$A$2:$G$229,K$2,FALSE),"") | L6: =IFERROR(VLOOKUP($F6,'A. E11'!$A$2:$G$229,L$2,FALSE),"")
F7: 4 | G7: =IFERROR(VLOOKUP($F7,'A. E11'!$A$2:$G$229,G$2,FALSE),"") | H7: =IFERROR(VLOOKUP($F7,'A. E11'!$A$2:$G$229,H$2,FALSE),"") | I7: =IFERROR(VLOOKUP($F7,'A. E11'!$A$2:$G$229,I$2,FALSE),"") | J7: =IFERROR(VLOOKUP($F7,'A. E11'!$A$2:$G$229,J$2,FALSE),"") | K7: =IFERROR(VLOOKUP($F7,'A. E11'!$A$2:$G$229,K$2,FALSE),"") | L7: =IFERROR(VLOOKUP($F7,'A. E11'!$A$2:$G$229,L$2,FALSE),"")
F8: 5 | G8: =IFERROR(VLOOKUP($F8,'A. E11'!$A$2:$G$229,G$2,FALSE),"") | H8: =IFERROR(VLOOKUP($F8,'A. E11'!$A$2:$G$229,H$2,FALSE),"") | I8: =IFERROR(VLOOKUP($F8,'A. E11'!$A$2:$G$229,I$2,FALSE),"") | J8: =IFERROR(VLOOKUP($F8,'A. E11'!$A$2:$G$229,J$2,FALSE),"") | K8: =IFERROR(VLOOKUP($F8,'A. E11'!$A$2:$G$229,K$2,FALSE),"") | L8: =IFERROR(VLOOKUP($F8,'A. E11'!$A$2:$G$229,L$2,FALSE),"")
F9: 6 | G9: =IFERROR(VLOOKUP($F9,'A. E11'!$A$2:$G$229,G$2,FALSE),"") | H9: =IFERROR(VLOOKUP($F9,'A. E11'!$A$2:$G$229,H$2,FALSE),"") | I9: =IFERROR(VLOOKUP($F9,'A. E11'!$A$2:$G$229,I$2,FALSE),"") | J9: =IFERROR(VLOOKUP($F9,'A. E11'!$A$2:$G$229,J$2,FALSE),"") | K9: =IFERROR(VLOOKUP($F9,'A. E11'!$A$2:$G$229,K$2,FALSE),"") | L9: =IFERROR(VLOOKUP($F9,'A. E11'!$A$2:$G$229,L$2,FALSE),"")
F10: 7 | G10: =IFERROR(VLOOKUP($F10,'A. E11'!$A$2:$G$229,G$2,FALSE),"") | H10: =IFERROR(VLOOKUP($F10,'A. E11'!$A$2:$G$229,H$2,FALSE),"") | I10: =IFERROR(VLOOKUP($F10,'A. E11'!$A$2:$G$229,I$2,FALSE),"") | J10: =IFERROR(VLOOKUP($F10,'A. E11'!$A$2:$G$229,J$2,FALSE),"") | K10: =IFERROR(VLOOKUP($F10,'A. E11'!$A$2:$G$229,K$2,FALSE),"") | L10: =IFERROR(VLOOKUP($F10,'A. E11'!$A$2:$G$229,L$2,FALSE),"")
F11: 8 | G11: =IFERROR(VLOOKUP($F11,'A. E11'!$A$2:$G$229,G$2,FALSE),"") | H11: =IFERROR(VLOOKUP($F11,'A. E11'!$A$2:$G$229,H$2,FALSE),"") | I11: =IFERROR(VLOOKUP($F11,'A. E11'!$A$2:$G$229,I$2,FALSE),"") | J11: =IFERROR(VLOOKUP($F11,'A. E11'!$A$2:$G$229,J$2,FALSE),"") | K11: =IFERROR(VLOOKUP($F11,'A. E11'!$A$2:$G$229,K$2,FALSE),"") | L11: =IFERROR(VLOOKUP($F11,'A. E11'!$A$2:$G$229,L$2,FALSE),"")
F12: 9 | G12: =IFERROR(VLOOKUP($F12,'A. E11'!$A$2:$G$229,G$2,FALSE),"") | H12: =IFERROR(VLOOKUP($F12,'A. E11'!$A$2:$G$229,H$2,FALSE),"") | I12: =IFERROR(VLOOKUP($F12,'A. E11'!$A$2:$G$229,I$2,FALSE),"") | J12: =IFERROR(VLOOKUP($F12,'A. E11'!$A$2:$G$229,J$2,FALSE),"") | K12: =IFERROR(VLOOKUP($F12,'A. E11'!$A$2:$G$229,K$2,FALSE),"") | L12: =IFERROR(VLOOKUP($F12,'A. E11'!$A$2:$G$229,L$2,FALSE),"")
F13: 10 | G13: =IFERROR(VLOOKUP($F13,'A. E11'!$A$2:$G$229,G$2,FALSE),"") | H13: =IFERROR(VLOOKUP($F13,'A. E11'!$A$2:$G$229,H$2,FALSE),"") | I13: =IFERROR(VLOOKUP($F13,'A. E11'!$A$2:$G$229,I$2,FALSE),"") | J13: =IFERROR(VLOOKUP($F13,'A. E11'!$A$2:$G$229,J$2,FALSE),"") | K13: =IFERROR(VLOOKUP($F13,'A. E11'!$A$2:$G$229,K$2,FALSE),"") | L13: =IFERROR(VLOOKUP($F13,'A. E11'!$A$2:$G$229,L$2,FALSE),"")
F14: 11 | G14: =IFERROR(VLOOKUP($F14,'A. E11'!$A$2:$G$229,G$2,FALSE),"") | H14: =IFERROR(VLOOKUP($F14,'A. E11'!$A$2:$G$229,H$2,FALSE),"") | I14: =IFERROR(VLOOKUP($F14,'A. E11'!$A$2:$G$229,I$2,FALSE),"") | J14: =IFERROR(VLOOKUP($F14,'A. E11'!$A$2:$G$229,J$2,FALSE),"") | K14: =IFERROR(VLOOKUP($F14,'A. E11'!$A$2:$G$229,K$2,FALSE),"") | L14: =IFERROR(VLOOKUP($F14,'A. E11'!$A$2:$G$229,L$2,FALSE),"")
F15: 12 | G15: =IFERROR(VLOOKUP($F15,'A. E11'!$A$2:$G$229,G$2,FALSE),"") | H15: =IFERROR(VLOOKUP($F15,'A. E11'!$A$2:$G$229,H$2,FALSE),"") | I15: =IFERROR(VLOOKUP($F15,'A. E11'!$A$2:$G$229,I$2,FALSE),"") | J15: =IFERROR(VLOOKUP($F15,'A. E11'!$A$2:$G$229,J$2,FALSE),"") | K15: =IFERROR(VLOOKUP($F15,'A. E11'!$A$2:$G$229,K$2,FALSE),"") | L15: =IFERROR(VLOOKUP($F15,'A. E11'!$A$2:$G$229,L$2,FALSE),"")
... F23: 20 | G23: =IFERROR(VLOOKUP($F23,'A. E11'!$A$2:$G$229,G$2,FALSE),"") | H23: =IFERROR(VLOOKUP($F23,'A. E11'!$A$2:$G$229,H$2,FALSE),"") | I23: =IFERROR(VLOOKUP($F23,'A. E11'!$A$2:$G$229,I$2,FALSE),"") | J23: =IFERROR(VLOOKUP($F23,'A. E11'!$A$2:$G$229,J$2,FALSE),"") | K23: =IFERROR(VLOOKUP($F23,'A. E11'!$A$2:$G$229,K$2,FALSE),"") | L23: =IFERROR(VLOOKUP($F23,'A. E11'!$A$2:$G$229,L$2,FALSE),"")
G27: 2 | H27: 3 | I27: 4 | J27: 5 | K27: 6 | L27: 7
D28: E12 | E28: FIND | G28: nanos3 | H28: EVENT | I28: TYPE | J28: CHR | K28: DPLIM | L28: SEX
F29: 1 | G29: =IFERROR(VLOOKUP($F29,'B. E12'!$A$2:$G$359,G$27,FALSE),"") -> Nanos3 | H29: =IFERROR(VLOOKUP($F29,'B. E12'!$A$2:$G$359,H$27,FALSE),"") -> MmuALTD0009097-2/2 | I29: =IFERROR(VLOOKUP($F29,'B. E12'!$A$2:$G$359,I$27,FALSE),"") -> SS5 | J29: =IFERROR(VLOOKUP($F29,'B. E12'!$A$2:$G$359,J$27,FALSE),"") -> chr8 | K29: =IFERROR(VLOOKUP($F29,'B. E12'!$A$2:$G$359,K$27,FALSE),"") -> 13.045 | L29: =IFERROR(VLOOKUP($F29,'B. E12'!$A$2:$G$359,L$27,FALSE),"") -> male
F30: 2 | G30: =IFERROR(VLOOKUP($F30,'B. E12'!$A$2:$G$359,G$27,FALSE),"") -> Nanos3 | H30: =IFERROR(VLOOKUP($F30,'B. E12'!$A$2:$G$359,H$27,FALSE),"") -> MmuINT0105563 | I30: =IFERROR(VLOOKUP($F30,'B. E12'!$A$2:$G$359,I$27,FALSE),"") -> IR | J30: =IFERROR(VLOOKUP($F30,'B. E12'!$A$2:$G$359,J$27,FALSE),"") -> chr8 | K30: =IFERROR(VLOOKUP($F30,'B. E12'!$A$2:$G$359,K$27,FALSE),"") -> -10.045 | L30: =IFERROR(VLOOKUP($F30,'B. E12'!$A$2:$G$359,L$27,FALSE),"") -> female
F31: 3 | G31: =IFERROR(VLOOKUP($F31,'B. E12'!$A$2:$G$359,G$27,FALSE),"") | H31: =IFERROR(VLOOKUP($F31,'B. E12'!$A$2:$G$359,H$27,FALSE),"") | I31: =IFERROR(VLOOKUP($F31,'B. E12'!$A$2:$G$359,I$27,FALSE),"") | J31: =IFERROR(VLOOKUP($F31,'B. E12'!$A$2:$G$359,J$27,FALSE),"") | K31: =IFERROR(VLOOKUP($F31,'B. E12'!$A$2:$G$359,K$27,FALSE),"") | L31: =IFERROR(VLOOKUP($F31,'B. E12'!$A$2:$G$359,L$27,FALSE),"")
F32: 4 | G32: =IFERROR(VLOOKUP($F32,'B. E12'!$A$2:$G$359,G$27,FALSE),"") | H32: =IFERROR(VLOOKUP($F32,'B. E12'!$A$2:$G$359,H$27,FALSE),"") | I32: =IFERROR(VLOOKUP($F32,'B. E12'!$A$2:$G$359,I$27,FALSE),"") | J32: =IFERROR(VLOOKUP($F32,'B. E12'!$A$2:$G$359,J$27,FALSE),"") | K32: =IFERROR(VLOOKUP($F32,'B. E12'!$A$2:$G$359,K$27,FALSE),"") | L32: =IFERROR(VLOOKUP($F32,'B. E12'!$A$2:$G$359,L$27,FALSE),"")
F33: 5 | G33: =IFERROR(VLOOKUP($F33,'B. E12'!$A$2:$G$359,G$27,FALSE),"") | H33: =IFERROR(VLOOKUP($F33,'B. E12'!$A$2:$G$359,H$27,FALSE),"") | I33: =IFERROR(VLOOKUP($F33,'B. E12'!$A$2:$G$359,I$27,FALSE),"") | J33: =IFERROR(VLOOKUP($F33,'B. E12'!$A$2:$G$359,J$27,FALSE),"") | K33: =IFERROR(VLOOKUP($F33,'B. E12'!$A$2:$G$359,K$27,FALSE),"") | L33: =IFERROR(VLOOKUP($F33,'B. E12'!$A$2:$G$359,L$27,FALSE),"")
F34: 6 | G34: =IFERROR(VLOOKUP($F34,'B. E12'!$A$2:$G$359,G$27,FALSE),"") | H34: =IFERROR(VLOOKUP($F34,'B. E12'!$A$2:$G$359,H$27,FALSE),"") | I34: =IFERROR(VLOOKUP($F34,'B. E12'!$A$2:$G$359,I$27,FALSE),"") | J34: =IFERROR(VLOOKUP($F34,'B. E12'!$A$2:$G$359,J$27,FALSE),"") | K34: =IFERROR(VLOOKUP($F34,'B. E12'!$A$2:$G$359,K$27,FALSE),"") | L34: =IFERROR(VLOOKUP($F34,'B. E12'!$A$2:$G$359,L$27,FALSE),"")
F35: 7 | G35: =IFERROR(VLOOKUP($F35,'B. E12'!$A$2:$G$359,G$27,FALSE),"") | H35: =IFERROR(VLOOKUP($F35,'B. E12'!$A$2:$G$359,H$27,FALSE),"") | I35: =IFERROR(VLOOKUP($F35,'B. E12'!$A$2:$G$359,I$27,FALSE),"") | J35: =IFERROR(VLOOKUP($F35,'B. E12'!$A$2:$G$359,J$27,FALSE),"") | K35: =IFERROR(VLOOKUP($F35,'B. E12'!$A$2:$G$359,K$27,FALSE),"") | L35: =IFERROR(VLOOKUP($F35,'B. E12'!$A$2:$G$359,L$27,FALSE),"")
F36: 8 | G36: =IFERROR(VLOOKUP($F36,'B. E12'!$A$2:$G$359,G$27,FALSE),"") | H36: =IFERROR(VLOOKUP($F36,'B. E12'!$A$2:$G$359,H$27,FALSE),"") | I36: =IFERROR(VLOOKUP($F36,'B. E12'!$A$2:$G$359,I$27,FALSE),"") | J36: =IFERROR(VLOOKUP($F36,'B. E12'!$A$2:$G$359,J$27,FALSE),"") | K36: =IFERROR(VLOOKUP($F36,'B. E12'!$A$2:$G$359,K$27,FALSE),"") | L36: =IFERROR(VLOOKUP($F36,'B. E12'!$A$2:$G$359,L$27,FALSE),"")
F37: 9 | G37: =IFERROR(VLOOKUP($F37,'B. E12'!$A$2:$G$359,G$27,FALSE),"") | H37: =IFERROR(VLOOKUP($F37,'B. E12'!$A$2:$G$359,H$27,FALSE),"") | I37: =IFERROR(VLOOKUP($F37,'B. E12'!$A$2:$G$359,I$27,FALSE),"") | J37: =IFERROR(VLOOKUP($F37,'B. E12'!$A$2:$G$359,J$27,FALSE),"") | K37: =IFERROR(VLOOKUP($F37,'B. E12'!$A$2:$G$359,K$27,FALSE),"") | L37: =IFERROR(VLOOKUP($F37,'B. E12'!$A$2:$G$359,L$27,FALSE),"")
F38: 10 | G38: =IFERROR(VLOOKUP($F38,'B. E12'!$A$2:$G$359,G$27,FALSE),"") | H38: =IFERROR(VLOOKUP($F38,'B. E12'!$A$2:$G$359,H$27,FALSE),"") | I38: =IFERROR(VLOOKUP($F38,'B. E12'!$A$2:$G$359,I$27,FALSE),"") | J38: =IFERROR(VLOOKUP($F38,'B. E12'!$A$2:$G$359,J$27,FALSE),"") | K38: =IFERROR(VLOOKUP($F38,'B. E12'!$A$2:$G$359,K$27,FALSE),"") | L38: =IFERROR(VLOOKUP($F38,'B. E12'!$A$2:$G$359,L$27,FALSE),"")
F39: 11 | G39: =IFERROR(VLOOKUP($F39,'B. E12'!$A$2:$G$359,G$27,FALSE),"") | H39: =IFERROR(VLOOKUP($F39,'B. E12'!$A$2:$G$359,H$27,FALSE),"") | I39: =IFERROR(VLOOKUP($F39,'B. E12'!$A$2:$G$359,I$27,FALSE),"") | J39: =IFERROR(VLOOKUP($F39,'B. E12'!$A$2:$G$359,J$27,FALSE),"") | K39: =IFERROR(VLOOKUP($F39,'B. E12'!$A$2:$G$359,K$27,FALSE),"") | L39: =IFERROR(VLOOKUP($F39,'B. E12'!$A$2:$G$359,L$27,FALSE),"")
F40: 12 | G40: =IFERROR(VLOOKUP($F40,'B. E12'!$A$2:$G$359,G$27,FALSE),"") | H40: =IFERROR(VLOOKUP($F40,'B. E12'!$A$2:$G$359,H$27,FALSE),"") | I40: =IFERROR(VLOOKUP($F40,'B. E12'!$A$2:$G$359,I$27,FALSE),"") | J40: =IFERROR(VLOOKUP($F40,'B. E12'!$A$2:$G$359,J$27,FALSE),"") | K40: =IFERROR(VLOOKUP($F40,'B. E12'!$A$2:$G$359,K$27,FALSE),"") | L40: =IFERROR(VLOOKUP($F40,'B. E12'!$A$2:$G$359,L$27,FALSE),"")
... F48: 20 | G48: =IFERROR(VLOOKUP($F48,'B. E12'!$A$2:$G$359,G$27,FALSE),"") | H48: =IFERROR(VLOOKUP($F48,'B. E12'!$A$2:$G$359,H$27,FALSE),"") | I48: =IFERROR(VLOOKUP($F48,'B. E12'!$A$2:$G$359,I$27,FALSE),"") | J48: =IFERROR(VLOOKUP($F48,'B. E12'!$A$2:$G$359,J$27,FALSE),"") | K48: =IFERROR(VLOOKUP($F48,'B. E12'!$A$2:$G$359,K$27,FALSE),"") | L48: =IFERROR(VLOOKUP($F48,'B. E12'!$A$2:$G$359,L$27,FALSE),"")

Sheet D. Ontology
A1: Category | B1: Term | C1: Count | D1: % | E1: PValue | F1: Genes | G1: List Total | H1: Pop Hits | I1: Pop Total | J1: Fold Enrichment | K1: Bonferroni | L1: Benjamini | M1: FDR
A2: GOTERM_BP_DIRECT | B2: Regulation of transcription, DNA-templated | C2: 41 | D2: 20.197044 | E2: 0.00010194111 | F2: CCNT2, ZBTB32, CAMTA2, NACA, ACVRL1, GON4L, ZFP764, NFYA, TRRAP, HNRNPK, GTF2A2, RNF38, ZFP219, ARNTL2, ZFP235, PER3, CHD6, ZFP810, ETV4, TFDP1, HMBOX1, CCNL1, RUNX1T1, HDAC10, NCOA7, TRERF1, ZBTB43, HDAC5, ZFP827, ZFP940, ZFP653, SRSF5, EBF4, MAPK12, ZFP280C, MLX, ZFP677, ASH1L, ZFP800, HDAC9, CLOCK | G2: 175 | H2: 2279 | I2: 18082 | J2: 1.8588654 | K2: 0.095078768 | L2: 0.048726521 | M2: 0.16052844
A3: SMART | B3: PI3Kc | C3: 5 | D3: 2.4630542 | E3: 3.629364e-05 | F3: PIK3C2B, PI4KA, PRKDC, TRRAP, ATM | G3: 130 | H3: 16 | I3: 10425 | J3: 25.060096 | K3: 0.0052488497 | L3: 0.0052488497 | M3: 0.043077838
A4: UP_KEYWORDS | B4: Zinc-finger | C4: 27 | D4: 13.300493 | E4: 0.0014783404 | F4: NANOS3, ZBTB32, RPL37, ZFP764, MYO9A, ZZEF1, RNF38, ZFP235, ZFP810, LRSAM1, ZCCHC2, DGKQ, RNF220, RUNX1T1, TRERF1, ZBTB43, TAB3, ZFP827, ZFP940, ZFP653, EBF4, ZFP280C, ZFP677, ASH1L, ARAF, ZFP800, CIT | G4: 202 | H4: 1565 | I4: 22680 | J4: 1.9370512 | K4: 0.25832616 | L4: 0.021119906 | M4: 1.8401964
A5: UP_KEYWORDS | B5: Chromatin regulator | C5: 7 | D5: 3.4482759 | E5: 0.033629066 | F5: HDAC5, ASH1L, HDAC10, TRRAP, TET2, CHD6, HDAC9 | G5: 202 | H5: 270 | I5: 22680 | J5: 2.9108911 | K5: 0.99900216 | L5: 0.21201256 | M5: 34.913595
A6: UP_KEYWORDS | B6: Ubl conjugation pathway | C6: 15 | D6: 7.3891626 | E6: 0.001559575 | F6: UBL7, LRSAM1, WDTC1, RNF220, SPSB3, HERC6, SOCS6, UBE2F, BIRC6, UBE2I, HERC1, HUWE1, KLHL25, RNF38, FBXO25 | G6: 202 | H6: 631 | I6: 22680 | J6: 2.6690308 | K6: 0.27041549 | L6: 0.020799318 | M6: 1.9404059
A7: UP_KEYWORDS | B7: Cell cycle | C7: 15 | D7: 7.3891626 | E7: 0.0014543808 | F7: CCNT2, AURKC, BIRC6, UBE2I, TET2, SYCP1, ATM, NIPBL, MAPK12, CEP250, KIF20B, CHTF18, CIT, GOLGA2, TFDP1 | G7: 202 | H7: 626 | I7: 22680 | J7: 2.6903489 | K7: 0.25472258 | L7: 0.022361481 | M7: 1.8106223
A8: GOTERM_BP_DIRECT | B8: Cellular response to DNA damage stimulus | C8: 10 | D8: 4.9261084 | E8: 0.020636841 | F8: NIPBL, ERCC6, HUWE1, PIF1, POLM, PRKDC, TTC5, CLOCK, ATM, SETX | G8: 175 | H8: 420 | I8: 18082 | J8: 2.4601361 | K8: 1 | L8: 0.79236572 | M8: 28.008282
A9: GOTERM_BP_DIRECT | B9: Spermatogenesis | C9: 9 | D9: 4.4334975 | E9: 0.04355021 | F9: NANOS3, HTT, MYCBPAP, AURKC, CHTF18, CIT, SYCP1, CLOCK, SETX | G9: 175 | H9: 407 | I9: 18082 | J9: 2.2848438 | K9: 1 | L9: 0.83767994 | M9: 50.425909
A10: UP_KEYWORDS | B10: Developmental protein | C10: 8 | D10: 3.9408867 | E10: 0.76655645 | F10: NANOS3, EBF4, NPHS1, MYCBPAP, LCLAT1, L1CAM, UBE2I, CIT | G10: 202 | H10: 976 | I10: 22680 | J10: 0.92030515 | K10: 1 | L10: 0.98497711 | M10: 99.999999
A11: UP_KEYWORDS | B11: mRNA splicing | C11: 3 | D11: 1.4778325 | E11: 0.6300608 | F11: SRSF5, HNRNPK, PRPF6 | G11: 202 | H11: 240 | I11: 22680 | J11: 1.4034653 | K11: 1 | L11: 0.95876413 | M11: 99.999621
A12: UP_KEYWORDS | B12: Transport | C12: 14 | D12: 6.8965517 | E12: 0.86924815 | F12: ABCA7, LRSAM1, SYNRG, MFSD8, NACA, CCDC93, TRPC6, ITPR1, SLC35C2, TOMM40L, TIMM9, SLC25A38, DOPEY1, SLC4A3 | G12: 202 | H12: 1901 | I12: 22680 | J12: 0.82687069 | K12: 1 | L12: 0.99640994 | M12: 100
A13: GOTERM_MF_DIRECT | B13: Histone deacetylase binding | C13: 6 | D13: 2.955665 | E13: 0.0052988294 | F13: HDAC5, WDTC1, CAMTA2, NIPBL, HDAC10, HDAC9 | G13: 175 | H13: 112 | I13: 17446 | J13: 5.3406122 | K13: 0.82586946 | L13: 0.29502293 | M13: 6.9464419
... A15: GOTERM_MF_DIRECT | B15: RNA binding | C15: 11 | D15: 5.4187192 | E15: 0.25222158 | F15: NANOS3, RPS18, EXOSC8, SRSF5, HNRNPK, PCBP2, RPUSD1, MTHFSD, TEP1, RPL37, PRPF6 | G15: 175 | H15: 780 | I15: 17446 | J15: 1.4059048 | K15: 1 | L15: 0.92978583 | M15: 98.052372
