Workbook

Sheet TableS6
A1: Table S6 Summary table of best SNPs lists for the North Eurasian pooled and regional datasets for eye color prediction
A2: SNP_ID | B2: Caucasus Score | C2: European Russia Score | D2: West Siberia Score | E2: Pooled sample Score | F2: HIrisPlex-S | G2: Count samples | H2: Grand Total
A3: chr15:28356859_C_T | B3: 2 | C3: 2 | D3: 2 | E3: 3 | F3: rs1129038 | G3: =COUNT(TableS6!$B3:$E3) -> 4 | H3: =SUM(TableS6!$B3:$E3) -> 9
A4: chr15:28365618_A_G | B4: 2 | C4: 2 | D4: 2 | E4: 3 | F4: rs12913832 | G4: =COUNT(TableS6!$B4:$E4) -> 4 | H4: 9
A5: chr15:28392261_G_A | B5: 2 | C5: 2 | E5: 3 | G5: =COUNT(TableS6!$B5:$E5) -> 3 | H5: 7
A6: chr15:28410491_C_T | C6: 2 | D6: 2 | E6: 3 | G6: =COUNT(TableS6!$B6:$E6) -> 3 | H6: 7
A7: chr15:28495956_A_G | C7: 2 | D7: 2 | E7: 3 | G7: =COUNT(TableS6!$B7:$E7) -> 3 | H7: 7
A8: chr15:28562998_T_C | C8: 1 | E8: 2 | G8: =COUNT(TableS6!$B8:$E8) -> 2 | H8: 3
A9: chr20:39272620_A_G | C9: 1 | E9: 2 | G9: =COUNT(TableS6!$B9:$E9) -> 2 | H9: 3
A10: chr4:87847613_T_G | C10: 1 | E10: 1 | G10: =COUNT(TableS6!$B10:$E10) -> 2 | H10: 2
A11: chr1:119406130_C_T | E11: 2 | G11: =COUNT(TableS6!$B11:$E11) -> 1 | H11: 2
A12: chr1:3331899_A_G | E12: 2 | G12: =COUNT(TableS6!$B12:$E12) -> 1 | H12: 2
A13: chr15:28145024_T_C | E13: 2 | G13: =COUNT(TableS6!$B13:$E13) -> 1 | H13: 2
A14: chr15:28364059_A_G | E14: 2 | G14: =COUNT(TableS6!$B14:$E14) -> 1 | H14: 2
A15: chr15:28380518_T_A | E15: 2 | G15: =COUNT(TableS6!$B15:$E15) -> 1 | H15: 2
A16: chr15:28383565_T_C | E16: 2 | G16: =COUNT(TableS6!$B16:$E16) -> 1 | H16: 2
A17: chr15:28513364_T_C | E17: 2 | G17: =COUNT(TableS6!$B17:$E17) -> 1 | H17: 2
A18: chr15:28530182_C_T | E18: 2 | F18: rs1667394 | G18: =COUNT(TableS6!$B18:$E18) -> 1 | H18: 2
A19: chr15:28566122_A_G | E19: 2 | G19: =COUNT(TableS6!$B19:$E19) -> 1 | H19: 2
A20: chr19:7570978_T_C | E20: 2 | G20: =COUNT(TableS6!$B20:$E20) -> 1 | H20: 2
A21: chr3:189429301_G_T | E21: 2 | G21: =COUNT(TableS6!$B21:$E21) -> 1 | H21: 2
A22: chr6:45136347_G_A | E22: 2 | G22: =COUNT(TableS6!$B22:$E22) -> 1 | H22: 2
A23: chrX:66405249_C_T | E23: 2 | G23: =COUNT(TableS6!$B23:$E23) -> 1 | H23: 2
A24: chr1:19080055_C_T | B24: 2 | G24: =COUNT(TableS6!$B24:$E24) -> 1 | H24: 2
A25: chr10:87670832_T_C | B25: 2 | G25: =COUNT(TableS6!$B25:$E25) -> 1 | H25: 2
A26: chr15:28120508_T_C | C26: 2 | G26: =COUNT(TableS6!$B26:$E26) -> 1 | H26: 2
A27: chr15:28296425_T_C | D27: 2 | G27: =COUNT(TableS6!$B27:$E27) -> 1 | H27: 2
A28: chr15:28579547_G_A | D28: 2 | G28: =COUNT(TableS6!$B28:$E28) -> 1 | H28: 2
A29: chr15:28120508_T_C | C29: 2 | G29: =COUNT(TableS6!$B29:$E29) -> 1 | H29: 2
A30: chr2:43643005_C_T | B30: 2 | G30: =COUNT(TableS6!$B30:$E30) -> 1 | H30: 2
A31: chr20:33986549_C_T | C31: 2 | G31: =COUNT(TableS6!$B31:$E31) -> 1 | H31: 2
A32: chr3:189561323_A_G | B32: 2 | G32: =COUNT(TableS6!$B32:$E32) -> 1 | H32: 2
A33: chr3:54715284_C_T | B33: 2 | G33: =COUNT(TableS6!$B33:$E33) -> 1 | H33: 2
A34: chr4:155287535_T_C | B34: 2 | G34: =COUNT(TableS6!$B34:$E34) -> 1 | H34: 2
A35: chr4:155291087_C_T | B35: 2 | G35: =COUNT(TableS6!$B35:$E35) -> 1 | H35: 2
A36: chr5:150660769_A_G | D36: 2 | G36: =COUNT(TableS6!$B36:$E36) -> 1 | H36: 2
A37: chr9:12702890_C_A | B37: 2 | G37: =COUNT(TableS6!$B37:$E37) -> 1 | H37: 2
A38: chrX:148567451_C_T | B38: 2 | G38: =COUNT(TableS6!$B38:$E38) -> 1 | H38: 2
A39: chr10:87576467_C_T | E39: 1 | G39: =COUNT(TableS6!$B39:$E39) -> 1 | H39: 1
A40: chr14:92909309_T_C | E40: 1 | G40: =COUNT(TableS6!$B40:$E40) -> 1 | H40: 1
...
