Workbook

Sheet TableS6
A1: Table S6 Summary table of best SNPs lists for the North Eurasian pooled and regional datasets for eye color prediction
A2: SNP_ID | B2: Caucasus Score | C2: European Russia Score | D2: West Siberia Score | E2: Pooled sample Score | F2: HIrisPlex-S | G2: Count samples | H2: Grand Total
A3: chr15:28356859_C_T | B3: 2 | C3: 2 | D3: 2 | E3: 3 | F3: rs1129038 | G3: =COUNT(TableS6!$B3:$E3) -> 4 | H3: =SUM(TableS6!$B3:$E3) -> 9
A4: chr15:28365618_A_G | B4: 2 | C4: 2 | D4: 2 | E4: 3 | F4: rs12913832 | G4: =COUNT(TableS6!$B4:$E4) -> 4 | H4: 9
A5: chr15:28392261_G_A | B5: 2 | C5: 2 | E5: 3 | G5: =COUNT(TableS6!$B5:$E5) -> 3 | H5: 7
A6: chr15:28410491_C_T | C6: 2 | D6: 2 | E6: 3 | G6: =COUNT(TableS6!$B6:$E6) -> 3 | H6: 7
A7: chr15:28495956_A_G | C7: 2 | D7: 2 | E7: 3 | G7: =COUNT(TableS6!$B7:$E7) -> 3 | H7: 7
A8: chr15:28562998_T_C | C8: 1 | E8: 2 | G8: =COUNT(TableS6!$B8:$E8) -> 2 | H8: 3
A9: chr20:39272620_A_G | C9: 1 | E9: 2 | G9: =COUNT(TableS6!$B9:$E9) -> 2 | H9: 3
A10: chr4:87847613_T_G | C10: 1 | E10: 1 | G10: =COUNT(TableS6!$B10:$E10) -> 2 | H10: 2
A11: chr1:119406130_C_T | E11: 2 | G11: =COUNT(TableS6!$B11:$E11) -> 1 | H11: 2
A12: chr1:3331899_A_G | E12: 2 | G12: =COUNT(TableS6!$B12:$E12) -> 1 | H12: 2
A13: chr15:28145024_T_C | E13: 2 | G13: =COUNT(TableS6!$B13:$E13) -> 1 | H13: 2
A14: chr15:28364059_A_G | E14: 2 | G14: =COUNT(TableS6!$B14:$E14) -> 1 | H14: 2
A15: chr15:28380518_T_A | E15: 2 | G15: =COUNT(TableS6!$B15:$E15) -> 1 | H15: 2
A16: chr15:28383565_T_C | E16: 2 | G16: =COUNT(TableS6!$B16:$E16) -> 1 | H16: 2
A17: chr15:28513364_T_C | E17: 2 | G17: =COUNT(TableS6!$B17:$E17) -> 1 | H17: 2
A18: chr15:28530182_C_T | E18: 2 | F18: rs1667394 | G18: =COUNT(TableS6!$B18:$E18) -> 1 | H18: 2
A19: chr15:28566122_A_G | E19: 2 | G19: =COUNT(TableS6!$B19:$E19) -> 1 | H19: 2
A20: chr19:7570978_T_C | E20: 2 | G20: =COUNT(TableS6!$B20:$E20) -> 1 | H20: 2
A21: chr3:189429301_G_T | E21: 2 | G21: =COUNT(TableS6!$B21:$E21) -> 1 | H21: 2
A22: chr6:45136347_G_A | E22: 2 | G22: =COUNT(TableS6!$B22:$E22) -> 1 | H22: 2
A23: chrX:66405249_C_T | E23: 2 | G23: =COUNT(TableS6!$B23:$E23) -> 1 | H23: 2
A24: chr1:19080055_C_T | B24: 2 | G24: =COUNT(TableS6!$B24:$E24) -> 1 | H24: 2
A25: chr10:87670832_T_C | B25: 2 | G25: =COUNT(TableS6!$B25:$E25) -> 1 | H25: 2
A26: chr15:28120508_T_C | C26: 2 | G26: =COUNT(TableS6!$B26:$E26) -> 1 | H26: 2
A27: chr15:28296425_T_C | D27: 2 | G27: =COUNT(TableS6!$B27:$E27) -> 1 | H27: 2
A28: chr15:28579547_G_A | D28: 2 | G28: =COUNT(TableS6!$B28:$E28) -> 1 | H28: 2
A29: chr15:28120508_T_C | C29: 2 | G29: =COUNT(TableS6!$B29:$E29) -> 1 | H29: 2
A30: chr2:43643005_C_T | B30: 2 | G30: =COUNT(TableS6!$B30:$E30) -> 1 | H30: 2
A31: chr20:33986549_C_T | C31: 2 | G31: =COUNT(TableS6!$B31:$E31) -> 1 | H31: 2
A32: chr3:189561323_A_G | B32: 2 | G32: =COUNT(TableS6!$B32:$E32) -> 1 | H32: 2
A33: chr3:54715284_C_T | B33: 2 | G33: =COUNT(TableS6!$B33:$E33) -> 1 | H33: 2
A34: chr4:155287535_T_C | B34: 2 | G34: =COUNT(TableS6!$B34:$E34) -> 1 | H34: 2
A35: chr4:155291087_C_T | B35: 2 | G35: =COUNT(TableS6!$B35:$E35) -> 1 | H35: 2
A36: chr5:150660769_A_G | D36: 2 | G36: =COUNT(TableS6!$B36:$E36) -> 1 | H36: 2
A37: chr9:12702890_C_A | B37: 2 | G37: =COUNT(TableS6!$B37:$E37) -> 1 | H37: 2
A38: chrX:148567451_C_T | B38: 2 | G38: =COUNT(TableS6!$B38:$E38) -> 1 | H38: 2
A39: chr10:87576467_C_T | E39: 1 | G39: =COUNT(TableS6!$B39:$E39) -> 1 | H39: 1
A40: chr14:92909309_T_C | E40: 1 | G40: =COUNT(TableS6!$B40:$E40) -> 1 | H40: 1
A41: chr15:28419048_T_G | E41: 1 | G41: =COUNT(TableS6!$B41:$E41) -> 1 | H41: 1
A42: chr17:9107969_G_A | E42: 1 | G42: =COUNT(TableS6!$B42:$E42) -> 1 | H42: 1
A43: chr19:7578733_A_T | E43: 1 | G43: =COUNT(TableS6!$B43:$E43) -> 1 | H43: 1
A44: chr3:189552236_T_C | E44: 1 | G44: =COUNT(TableS6!$B44:$E44) -> 1 | H44: 1
A45: chr3:33035542_T_C | E45: 1 | G45: =COUNT(TableS6!$B45:$E45) -> 1 | H45: 1
A46: chr3:33111182_T_G | E46: 1 | G46: =COUNT(TableS6!$B46:$E46) -> 1 | H46: 1
A47: chr3:54251172_G_A | E47: 1 | G47: =COUNT(TableS6!$B47:$E47) -> 1 | H47: 1
A48: chr3:54636061_G_A | E48: 1 | G48: =COUNT(TableS6!$B48:$E48) -> 1 | H48: 1
A49: chr4:87851083_C_T | E49: 1 | G49: =COUNT(TableS6!$B49:$E49) -> 1 | H49: 1
A50: chr5:60947483_A_G | E50: 1 | G50: =COUNT(TableS6!$B50:$E50) -> 1 | H50: 1
... A53: chr7:42032565_C_T | E53: 1 | G53: =COUNT(TableS6!$B53:$E53) -> 1 | H53: 1
A54: chr1:19044877_C_T | C54: 1 | G54: =COUNT(TableS6!$B54:$E54) -> 1 | H54: 1
A55: chr1:94560938_G_A | C55: 1 | G55: =COUNT(TableS6!$B55:$E55) -> 1 | H55: 1
A56: chr14:71658253_G_T | C56: 1 | G56: =COUNT(TableS6!$B56:$E56) -> 1 | H56: 1
A57: chr14:71661673_T_C | C57: 1 | G57: =COUNT(TableS6!$B57:$E57) -> 1 | H57: 1
A58: chr16:88819712_C_G | B58: 1 | G58: =COUNT(TableS6!$B58:$E58) -> 1 | H58: 1
A59: chr16:89712889_C_T | C59: 1 | G59: =COUNT(TableS6!$B59:$E59) -> 1 | H59: 1
A60: chr2:223105717_T_A | D60: 1 | G60: =COUNT(TableS6!$B60:$E60) -> 1 | H60: 1
A61: chr3:189559757_G_A | B61: 1 | G61: =COUNT(TableS6!$B61:$E61) -> 1 | H61: 1
A62: chr3:54292052_T_A | C62: 1 | G62: =COUNT(TableS6!$B62:$E62) -> 1 | H62: 1
A63: chr3:58130168_A_G | C63: 1 | G63: =COUNT(TableS6!$B63:$E63) -> 1 | H63: 1
A64: chr4:154829611_C_T | D64: 1 | G64: =COUNT(TableS6!$B64:$E64) -> 1 | H64: 1
A65: chr4:155294563_T_C | B65: 1 | G65: =COUNT(TableS6!$B65:$E65) -> 1 | H65: 1
A66: chr5:33969628_T_C | D66: 1 | G66: =COUNT(TableS6!$B66:$E66) -> 1 | H66: 1
A67: chr5:74000084_C_T | B67: 1 | G67: =COUNT(TableS6!$B67:$E67) -> 1 | H67: 1
A68: chr6:382559_G_A | D68: 1 | G68: =COUNT(TableS6!$B68:$E68) -> 1 | H68: 1
A69: chr7:42112533_T_G | C69: 1 | G69: =COUNT(TableS6!$B69:$E69) -> 1 | H69: 1
A70: chr8:24211993_ACTAT_A | C70: 1 | G70: =COUNT(TableS6!$B70:$E70) -> 1 | H70: 1
A71: chr9:16659924_T_C | C71: 1 | G71: =COUNT(TableS6!$B71:$E71) -> 1 | H71: 1
A72: chr9:16678265_C_T | C72: 1 | G72: =COUNT(TableS6!$B72:$E72) -> 1 | H72: 1
A73: chrX:148605752_T_C | B73: 1 | G73: =COUNT(TableS6!$B73:$E73) -> 1 | H73: 1
A74: chrX:153598413_T_C | C74: 1 | G74: =COUNT(TableS6!$B74:$E74) -> 1 | H74: 1
A75: chrX:66828653_A_G | C75: 1 | G75: =COUNT(TableS6!$B75:$E75) -> 1 | H75: 1
