Workbook
Name A_TAIR: #REF!
Name A_TAIR: #REF!
Name A_TAIR_2: #REF!
Name A_TAIR_2: #REF!
Name ARA: #REF!
Name ARA: #REF!
Name B_TAIR: #REF!
Name B_TAIR: #REF!
Name B_TAIR_2: #REF!
Name B_TAIR_2: #REF!
Name BP: #REF!
Name BP: #REF!
Name D_TAIR: #REF!
Name D_TAIR: #REF!
Name D_TAIR_2: #REF!
Name D_TAIR_2: #REF!
Name list: #REF!
Name list: #REF!
Name list: #REF!
Name list_B_A: #REF!
Name list_B_A: #REF!
Name list_D_A: #REF!
Name list_D_A: #REF!
Name list1: #REF!
Name list1: #REF!
Name list11: #REF!
Name list11: #REF!
Name list111: #REF!
Name list111: #REF!
Name list2: #REF!
Name list2: #REF!
Name list22: #REF!
Name list22: #REF!
Name list3: #REF!
Name list3: #REF!
Name list33: #REF!
Name list33: #REF!
Name list4: #REF!
Name list4: #REF!
Name list5: #REF!
Name list5: #REF!
Name list6: #REF!
Name list6: #REF!
Name list7: #REF!
Name list7: #REF!
Name list8: #REF!
Name list8: #REF!
Name list9: #REF!
Name list9: #REF!
Name TAB: #REF!
Name TAB: #REF!
Name Tair: #REF!
Name Tair: #REF!
Name TAIR10: #REF!
Name TAIR10: #REF!
Name wheat: #REF!
Name wheat: #REF!

Sheet Note
A1: Additional File 3: Differentially Expressed Genes of Fuzarium graminearum
A3: Tab | B3: Section | C3: description
A4: Fg DEGs | C4: 4872 Differentially Expressed Genes of Fuzarium graminearum
B5: First block Cols A-B | C5: Ensembl fungi Gene ID for Fusarium graminearum str. PH-1 (RR1)
B6: Second block Cols C-I | C6: Gene expression
B7: Third block Cols K-AH | C7: Differential expression analysis, each subblocks and column heads are self-explainable
A8: DEFE_stat | C8: Frequency of each Differential Expression Feature Extraction (DEFE) pattern

Sheet Fg DEGs
A1: Differentially Expressed Genes of Fuzarium graminearum
C2: mean count | K2: log2FoldChange | V2: padj
A3: Gene ID | B3: GO term accession:name | C3: ABA | D3: GA | E3: MT | F3: Fg | G3: Fg+ABA | H3: Fg+AS6 | I3: Fg+GA | K3: ABA /MT | L3: GA /MT | M3: Fg /MT | N3: Fg+AS6 /MT | O3: Fg+ABA /MT | P3: Fg+GA /MT | Q3: Fg+ABA /Fg | R3: Fg+GA /Fg | S3: Fg+AS6 /FHB | T3: Fg+AS /Fg+ABA | V3: ABA /MT | W3: GA /MT | X3: Fg /MT | Y3: Fg+AS6 /MT | Z3: Fg+ABA /MT | AA3: Fg+GA /MT | AB3: Fg+ABA /Fg | AC3: Fg+GA /Fg | AD3: Fg+AS6 /FHB | AE3: Fg+AS /Fg+ABA | AG3: M(ABA/MT, GA/MT, Fg/MT, Fg+ABA/MT, Fg+AS6/T, Fg+GA/MT) | AH3: F(Fg+ABA/Fg, Fg+AS6/Fg, Fg+GA/Fg)
A4: =HYPERLINK("http://fungi.ensembl.org/Fusarium_graminearum/Gene/Summary?g=FGRAMPH1_01T00051","FGRAMPH1_01T00051") -> FGRAMPH1_01T00051 | C4: 0 | D4: 0 | E4: 0 | F4: 0.72992 | G4: 4.65184 | H4: 1.14496 | I4: 10.96906 | K4: 0 | L4: 0 | M4: 1.119 | N4: 1.4238 | O4: 2.9056 | P4: 3.9029 | Q4: 1.7866 | R4: 2.7839 | S4: 0.3047 | T4: -1.4819 | V4: 1 | W4: 1 | X4: 0.2928 | Y4: 0.00224 | Z4: 0.2264 | AA4: 2.916e-05 | AB4: 0.1665 | AC4: 0.01269 | AD4: 0.8658 | AE4: 0.1915 | AG4: M000001 | AH4: F000
A5: =HYPERLINK("http://fungi.ensembl.org/Fusarium_graminearum/Gene/Summary?g=FGRAMPH1_01T00053","FGRAMPH1_01T00053") -> FGRAMPH1_01T00053 | B5: GO:0004497: monooxygenase activity; GO:0005506: iron ion binding; GO:0016491: oxidoreductase activity; GO:0016705: oxidoreductase activity, acting on paired donors, with incorporation or reduction of molecular oxygen; GO:0020037: heme binding; GO:0046872: metal ion binding; GO:0055114: oxidation-reduction process | C5: 0 | D5: 0 | E5: 0 | F5: 61.27188 | G5: 54.88618 | H5: 21.53328 | I5: 39.0269 | K5: 0 | L5: 0 | M5: 5.5479 | N5: 4.2573 | O5: 5.4069 | P5: 4.9848 | Q5: -0.141 | R5: -0.5631 | S5: -1.2905 | T5: -1.1496 | V5: 1 | W5: 1 | X5: 9.897e-12 | Y5: 2.986e-11 | Z5: 5.09e-07 | AA5: 1.325e-09 | AB5: 0.9516 | AC5: 0.6899 | AD5: 0.1947 | AE5: 0.2274 | AG5: M001111 | AH5: F000
A6: =HYPERLINK("http://fungi.ensembl.org/Fusarium_graminearum/Gene/Summary?g=FGRAMPH1_01T00085","FGRAMPH1_01T00085") -> FGRAMPH1_01T00085 | C6: 0 | D6: 0 | E6: 0 | F6: 3.91506 | G6: 8.04352 | H6: 4.08738 | I6: 14.48354 | K6: 0 | L6: 0 | M6: 2.8168 | N6: 2.8435 | O6: 3.6642 | P6: 4.3868 | Q6: 0.8474 | R6: 1.57 | S6: 0.0267 | T6: -0.8207 | V6: 1 | W6: 1 | X6: 0.001802 | Y6: 2.799e-05 | Z6: 0.002699 | AA6: 4.016e-07 | AB6: 0.5453 | AC6: 0.1468 | AD6: 0.9975 | AE6: 0.4468 | AG6: M000001 | AH6: F000
A7: =HYPERLINK("http://fungi.ensembl.org/Fusarium_graminearum/Gene/Summary?g=FGRAMPH1_01T00097","FGRAMPH1_01T00097") -> FGRAMPH1_01T00097 | C7: 0 | D7: 0 | E7: 0 | F7: 6.16618 | G7: 16.28386 | H7: 6.4433 | I7: 27.11922 | K7: 0 | L7: 0 | M7: 3.494 | N7: 3.5012 | O7: 4.7462 | P7: 5.4178 | Q7: 1.2522 | R7: 1.9238 | S7: 0.0072 | T7: -1.245 | V7: 1 | W7: 1 | X7: 1.664e-05 | Y7: 1.441e-09 | Z7: 3.275e-05 | AA7: 3.617e-12 | AB7: 0.1674 | AC7: 0.014 | AD7: 1 | AE7: 0.1154 | AG7: M000101 | AH7: F000
A8: =HYPERLINK("http://fungi.ensembl.org/Fusarium_graminearum/Gene/Summary?g=FGRAMPH1_01T00105","FGRAMPH1_01T00105") -> FGRAMPH1_01T00105 | B8: GO:0008237: metallopeptidase activity | C8: 0 | D8: 0 | E8: 0 | F8: 14.86616 | G8: 65.48742 | H8: 48.90728 | I8: 202.67646 | K8: 0 | L8: 0 | M8: 3.6939 | N8: 5.1138 | O8: 5.475 | P8: 6.8798 | Q8: 1.7812 | R8: 3.186 | S8: 1.42 | T8: -0.3612 | V8: 1 | W8: 1 | X8: 9.967e-06 | Y8: 1.48e-11 | Z8: 7.074e-10 | AA8: 1.619e-17 | AB8: 0.07843 | AC8: 0.0002383 | AD8: 0.1482 | AE8: 0.7559 | AG8: M001111 | AH8: F001
A9: =HYPERLINK("http://fungi.ensembl.org/Fusarium_graminearum/Gene/Summary?g=FGRAMPH1_01T00119","FGRAMPH1_01T00119") -> FGRAMPH1_01T00119 | C9: 0 | D9: 0 | E9: 0 | F9: 2.21346 | G9: 4.06782 | H9: 0.49362 | I9: 18.73852 | K9: 0 | L9: 0 | M9: 2.2282 | N9: 0.9399 | O9: 2.8793 | P9: 4.7272 | Q9: 0.6511 | R9: 2.499 | S9: -1.2883 | T9: -1.9394 | V9: 1 | W9: 1 | X9: 0.02049 | Y9: 0.001986 | Z9: 0.4878 | AA9: 1.24e-07 | AB9: 0.7051 | AC9: 0.0179 | AD9: 0.2991 | AE9: 0.06869 | AG9: M000001 | AH9: F000
A10: =HYPERLINK("http://fungi.ensembl.org/Fusarium_graminearum/Gene/Summary?g=FGRAMPH1_01T00127","FGRAMPH1_01T00127") -> FGRAMPH1_01T00127 | B10: GO:0003824: catalytic activity; GO:0008152: metabolic process; GO:0016740: transferase activity | C10: 0 | D10: 0 | E10: 0 | F10: 260.63764 | G10: 167.75552 | H10: 15.87644 | I10: 227.90098 | K10: 0 | L10: 0 | M10: 6.0369 | N10: 2.8954 | O10: 5.5141 | P10: 5.8768 | Q10: -0.5227 | R10: -0.1601 | S10: -3.1415 | T10: -2.6187 | V10: 1 | W10: 1 | X10: 1.525e-12 | Y10: 1.06e-10 | Z10: 0.001877 | AA10: 6.815e-12 | AB10: 0.7705 | AC10: 0.9395 | AD10: 0.0008221 | AE10: 0.005933 | AG10: M001111 | AH10: F020
A11: =HYPERLINK("http://fungi.ensembl.org/Fusarium_graminearum/Gene/Summary?g=FGRAMPH1_01T00129","FGRAMPH1_01T00129") -> FGRAMPH1_01T00129 | B11: GO:0004497: monooxygenase activity; GO:0005506: iron ion binding; GO:0016491: oxidoreductase activity; GO:0016705: oxidoreductase activity, acting on paired donors, with incorporation or reduction of molecular oxygen; GO:0020037: heme binding; GO:0046872: metal ion binding; GO:0055114: oxidation-reduction process | C11: 0 | D11: 0 | E11: 0 | F11: 145.46818 | G11: 93.9761 | H11: 8.5576 | I11: 140.61872 | K11: 0 | L11: 0 | M11: 5.409 | N11: 2.3349 | O11: 4.9 | P11: 5.3689 | Q11: -0.5089 | R11: -0.04 | S11: -3.0741 | T11: -2.5651 | V11: 1 | W11: 1 | X11: 7.082e-10 | Y11: 2.376e-08 | Z11: 0.01822 | AA11: 1.033e-09 | AB11: 0.7837 | AC11: 0.9907 | AD11: 0.001543 | AE11: 0.009105 | AG11: M001101 | AH11: F020
A12: =HYPERLINK("http://fungi.ensembl.org/Fusarium_graminearum/Gene/Summary?g=FGRAMPH1_01T00131","FGRAMPH1_01T00131") -> FGRAMPH1_01T00131 | B12: GO:0003824: catalytic activity; GO:0003824: catalytic activity; GO:0004312: fatty acid synthase activity; GO:0004312: fatty acid synthase activity; GO:0004318: enoyl-[acyl-carrier-protein] reductase (NADH) activity; GO:0004318: enoyl-[acyl-carrier-protein] reductase (NADH) activity; GO:0005835: fatty acid synthase complex; GO:0005835: fatty acid synthase complex; GO:0006633: fatty acid biosynthetic process; GO:0006633: fatty acid biosynthetic process; GO:0008152: metabolic process; GO:0008152: metabolic process; GO:0016740: transferase activity; GO:0016740: transferase activity; GO:0055114: oxidation-reduction process; GO:0055114: oxidation-reduction process | C12: 0 | D12: 0 | E12: 0 | F12: 98.37976 | G12: 46.29566 | H12: 2.59694 | I12: 75.83892 | K12: 0 | L12: 0 | M12: 4.9356 | N12: 1.3443 | O12: 4.0839 | P12: 4.6381 | Q12: -0.8516 | R12: -0.2975 | S12: -3.5913 | T12: -2.7396 | V12: 1 | W12: 1 | X12: 5.477e-08 | Y12: 7.8e-06 | Z12: 0.2483 | AA12: 3.829e-07 | AB12: 0.6058 | AC12: 0.8837 | AD12: 0.0002803 | AE12: 0.007022 | AG12: M001101 | AH12: F020
A13: =HYPERLINK("http://fungi.ensembl.org/Fusarium_graminearum/Gene/Summary?g=FGRAMPH1_01T00133","FGRAMPH1_01T00133") -> FGRAMPH1_01T00133 | C13: 0 | D13: 0 | E13: 0 | F13: 15.55372 | G13: 9.80208 | H13: 0.87482 | I13: 10.12888 | K13: 0 | L13: 0 | M13: 3.4955 | N13: 0.948 | O13: 2.9932 | P13: 3.0362 | Q13: -0.5023 | R13: -0.4592 | S13: -2.5475 | T13: -2.0452 | V13: 1 | W13: 1 | X13: 0.0002462 | Y13: 0.001827 | Z13: 0.4859 | AA13: 0.001821 | AB13: 0.8049 | AC13: 0.8115 | AD13: 0.01936 | AE13: 0.06345 | AG13: M001001 | AH13: F000
A14: =HYPERLINK("http://fungi.ensembl.org/Fusarium_graminearum/Gene/Summary?g=FGRAMPH1_01T00141","FGRAMPH1_01T00141") -> FGRAMPH1_01T00141 | B14: GO:0046983: protein dimerization activity | C14: 0 | D14: 0 | E14: 0 | F14: 12.75496 | G14: 14.36252 | H14: 3.64618 | I14: 21.97644 | K14: 0 | L14: 0 | M14: 3.5885 | N14: 2.2277 | O14: 3.7123 | P14: 4.2043 | Q14: 0.1238 | R14: 0.6158 | S14: -1.3609 | T14: -1.4847 | V14: 1 | W14: 1 | X14: 8.912e-05 | Y14: 4.419e-05 | Z14: 0.02964 | AA14: 3.657e-06 | AB14: 0.9664 | AC14: 0.707 | AD14: 0.2489 | AE14: 0.1692 | AG14: M001101 | AH14: F000
A15: =HYPERLINK("http://fungi.ensembl.org/Fusarium_graminearum/Gene/Summary?g=FGRAMPH1_01T00143","FGRAMPH1_01T00143") -> FGRAMPH1_01T00143 | B15: GO:0003824: catalytic activity; GO:0008152: metabolic process; GO:0031177: phosphopantetheine binding | C15: 0 | D15: 0 | E15: 0 | F15: 65.68952 | G15: 54.75236 | H15: 3.79644 | I15: 53.82698 | K15: 0 | L15: 0 | M15: 5.2988 | N15: 2.1379 | O15: 5.0771 | P15: 5.0587 | Q15: -0.2217 | R15: -0.2401 | S15: -3.161 | T15: -2.9392 | V15: 1 | W15: 1 | X15: 7.37e-10 | Y15: 3.38e-09 | Z15: 0.03153 | AA15: 4.867e-09 | AB15: 0.9208 | AC15: 0.8999 | AD15: 0.0006569 | AE15: 0.001481 | AG15: M001101 | AH15: F020
A16: =HYPERLINK("http://fungi.ensembl.org/Fusarium_graminearum/Gene/Summary?g=FGRAMPH1_01T00145","FGRAMPH1_01T00145") -> FGRAMPH1_01T00145 | B16: GO:0016491: oxidoreductase activity; GO:0055114: oxidation-reduction process | C16: 0 | D16: 0 | E16: 0 | F16: 255.3803 | G16: 186.70818 | H16: 12.03718 | I16: 255.04682 | K16: 0 | L16: 0 | M16: 5.7414 | N16: 2.4231 | O16: 5.3742 | P16: 5.7395 | Q16: -0.3672 | R16: -0.0018 | S16: -3.3184 | T16: -2.9512 | V16: 1 | W16: 1 | X16: 3.925e-11 | Y16: 5.97e-10 | Z16: 0.01279 | AA16: 4.371e-11 | AB16: 0.858 | AC16: 1 | AD16: 0.0005082 | AE16: 0.002053 | AG16: M001101 | AH16: F020
A17: =HYPERLINK("http://fungi.ensembl.org/Fusarium_graminearum/Gene/Summary?g=FGRAMPH1_01T00147","FGRAMPH1_01T00147") -> FGRAMPH1_01T00147 | C17: 0 | D17: 0 | E17: 0 | F17: 121.71986 | G17: 82.6833 | H17: 8.66868 | I17: 132.03918 | K17: 0 | L17: 0 | M17: 5.2832 | N17: 2.4116 | O17: 4.8329 | P17: 5.3778 | Q17: -0.4503 | R17: 0.0947 | S17: -2.8716 | T17: -2.4213 | V17: 1 | W17: 1 | X17: 1.776e-09 | Y17: 3.68e-08 | Z17: 0.01412 | AA17: 9.413e-10 | AB17: 0.8152 | AC17: 0.9702 | AD17: 0.003399 | AE17: 0.01449 | AG17: M001101 | AH17: F020
A18: =HYPERLINK("http://fungi.ensembl.org/Fusarium_graminearum/Gene/Summary?g=FGRAMPH1_01T00149","FGRAMPH1_01T00149") -> FGRAMPH1_01T00149 | C18: 0 | D18: 0 | E18: 0 | F18: 33.47056 | G18: 21.071 | H18: 4.02666 | I18: 35.83354 | K18: 0 | L18: 0 | M18: 4.4006 | N18: 2.1115 | O18: 3.8663 | P18: 4.4775 | Q18: -0.5343 | R18: 0.0769 | S18: -2.2891 | T18: -1.7548 | V18: 1 | W18: 1 | X18: 1.046e-06 | Y18: 1.912e-05 | Z18: 0.04048 | AA18: 6.986e-07 | AB18: 0.7722 | AC18: 0.9775 | AD18: 0.02785 | AE18: 0.09642 | AG18: M001101 | AH18: F000
A19: =HYPERLINK("http://fungi.ensembl.org/Fusarium_graminearum/Gene/Summary?g=FGRAMPH1_01T00151","FGRAMPH1_01T00151") -> FGRAMPH1_01T00151 | B19: GO:0005524: ATP binding; GO:0006810: transport; GO:0016021: integral component of membrane; GO:0016887: ATPase activity; GO:0042626: ATPase activity, coupled to transmembrane movement of substances; GO:0055085: transmembrane transport | C19: 0 | D19: 0 | E19: 0 | F19: 187.84698 | G19: 115.0813 | H19: 13.42888 | I19: 179.22132 | K19: 0 | L19: 0 | M19: 5.6368 | N19: 2.7217 | O19: 5.0637 | P19: 5.5812 | Q19: -0.5732 | R19: -0.0557 | S19: -2.9151 | T19: -2.3419 | V19: 1 | W19: 1 | X19: 8.414e-11 | Y19: 5.637e-09 | Z19: 0.004326 | AA19: 1.433e-10 | AB19: 0.7479 | AC19: 0.9851 | AD19: 0.002613 | AE19: 0.01756 | AG19: M001111 | AH19: F020
A20: =HYPERLINK("http://fungi.ensembl.org/Fusarium_graminearum/Gene/Summary?g=FGRAMPH1_01T00153","FGRAMPH1_01T00153") -> FGRAMPH1_01T00153 | B20: GO:0009058: biosynthetic process; GO:0016788: hydrolase activity, acting on ester bonds | C20: 0 | D20: 0 | E20: 0 | F20: 53.11284 | G20: 36.51342 | H20: 3.79574 | I20: 59.41728 | K20: 0 | L20: 0 | M20: 4.4336 | N20: 1.7497 | O20: 4.01 | P20: 4.5595 | Q20: -0.4236 | R20: 0.126 | S20: -2.6839 | T20: -2.2604 | V20: 1 | W20: 1 | X20: 1.2e-06 | Y20: 1.14e-05 | Z20: 0.1067 | AA20: 5.997e-07 | AB20: 0.8356 | AC20: 0.958 | AD20: 0.009517 | AE20: 0.03 | AG20: M001101 | AH20: F020
A21: =HYPERLINK("http://fungi.ensembl.org/Fusarium_graminearum/Gene/Summary?g=FGRAMPH1_01T00155","FGRAMPH1_01T00155") -> FGRAMPH1_01T00155 | B21: GO:0016491: oxidoreductase activity; GO:0055114: oxidation-reduction process | C21: 0 | D21: 0 | E21: 0 | F21: 288.49824 | G21: 181.49788 | H21: 17.25394 | I21: 275.55618 | K21: 0 | L21: 0 | M21: 5.7192 | N21: 2.6427 | O21: 5.1799 | P21: 5.6652 | Q21: -0.5393 | R21: -0.054 | S21: -3.0765 | T21: -2.5372 | V21: 1 | W21: 1 | X21: 5.409e-11 | Y21: 2.884e-09 | Z21: 0.006011 | AA21: 9.143e-11 | AB21: 0.7693 | AC21: 0.9857 | AD21: 0.001535 | AE21: 0.01002 | AG21: M001111 | AH21: F020
A22: =HYPERLINK("http://fungi.ensembl.org/Fusarium_graminearum/Gene/Summary?g=FGRAMPH1_01T00157","FGRAMPH1_01T00157") -> FGRAMPH1_01T00157 | B22: GO:0003824: catalytic activity; GO:0003824: catalytic activity; GO:0003824: catalytic activity; GO:0003824: catalytic activity; GO:0003824: catalytic activity; GO:0003824: catalytic activity; GO:0003824: catalytic activity; GO:0003824: catalytic activity; GO:0003824: catalytic activity; GO:0003824: catalytic activity; GO:0003824: catalytic activity; GO:0003824: catalytic activity; GO:0003824: catalytic activity; GO:0003824: catalytic activity; GO:0003824: catalytic activity; GO:0003824: catalytic activity; GO:0003824: catalytic activity; GO:0003824: catalytic activity; GO:0003824: catalytic activity; GO:0003824: catalytic activity; GO:0003824: catalytic activity; GO:0003824: catalytic activity; GO:0003824: catalytic activity; GO:0003824: catalytic activity; GO:0003824: catalytic activity; GO:0004084: branched-chain-amino-acid transaminase activity; GO:0004084: branched-chain-amino-acid transaminase activity; GO:0004084: branched-chain-amino-acid transaminase activity; GO:0004084: branched-chain-amino-acid transaminase activity; GO:0004084: branched-chain-amino-acid transaminase activity; GO:0004084: branched-chain-amino-acid transaminase activity; GO:0004084: branched-chain-amino-acid transaminase activity; GO:0004084: branched-chain-amino-acid transaminase activity; GO:0004084: branched-chain-amino-acid transaminase activity; GO:0004084: branched-chain-amino-acid transaminase activity; GO:0004084: branched-chain-amino-acid transaminase activity; GO:0004084: branched-chain-amino-acid transaminase activity; GO:0004084: branched-chain-amino-acid transaminase activity; GO:0004084: branched-chain-amino-acid transaminase activity; GO:0004084: branched-chain-amino-acid transaminase activity; GO:0004084: branched-chain-amino-acid transaminase activity; GO:0004084: branched-chain-amino-acid transaminase activity; GO:0004084: branched-chain-amino-acid transaminase activity; GO:0004084: branched-chain-amino-acid transaminase activity; GO:0004084: branched-chain-amino-acid transaminase activity; GO:0004084: branched-chain-amino-acid transaminase activity; GO:0004084: branched-chain-amino-acid transaminase activity; GO:0004084: branched-chain-amino-acid transaminase activity; GO:0004084: branched-chain-amino-acid transaminase activity; GO:0004084: branched-chain-amino-acid transaminase activity; GO:0008152: metabolic process; GO:0008152: metabolic process; GO:0008152: metabolic process; GO:0008152: metabolic process; GO:0008152: metabolic process; GO:0008152: metabolic process; GO:0008152: metabolic process; GO:0008152: metabolic process; GO:0008152: metabolic process; GO:0008152: metabolic process; GO:0008152: metabolic process; GO:0008152: metabolic process; GO:0008152: metabolic process; GO:0008152: metabolic process; GO:0008152: metabolic process; GO:0008152: metabolic process; GO:0008152: metabolic process; GO:0008152: metabolic process; GO:0008152: metabolic process; GO:0008152: metabolic process; GO:0008152: metabolic process; GO:0008152: metabolic process; GO:0008152: metabolic process; GO:0008152: metabolic process; GO:0008152: metabolic process; GO:0009081: branched-chain amino acid metabolic process; GO:0009081: branched-chain amino acid metabolic process; GO:0009081: branched-chain amino acid metabolic process; GO:0009081: branched-chain amino acid metabolic process; GO:0009081: branched-chain amino acid metabolic process; GO:0009081: branched-chain amino acid metabolic process; GO:0009081: branched-chain amino acid metabolic process; GO:0009081: branched-chain amino acid metabolic process; GO:0009081: branched-chain amino acid metabolic process; GO:0009081: branched-chain amino acid metabolic process; GO:0009081: branched-chain amino acid metabolic process; GO:0009081: branched-chain amino acid metabolic process; GO:0009081: branched-chain amino acid metabolic process; GO:0009081: branched-chain amino acid metabolic process; GO:0009081: branched-chain amino acid metabolic process; GO:0009081: branched-chain amino acid metabolic process; GO:0009081: branched-chain amino acid metabolic process; GO:0009081: branched-chain amino acid metabolic process; GO:0009081: branched-chain amino acid metabolic process; GO:0009081: branched-chain amino acid metabolic process; GO:0009081: branched-chain amino acid metabolic process; GO:0009081: branched-chain amino acid metabolic process; GO:0009081: branched-chain amino acid metabolic process; GO:0009081: branched-chain amino acid metabolic process; GO:0009081: branched-chain amino acid metabolic process | C22: 0 | D22: 0 | E22: 0 | F22: 279.03994 | G22: 193.92274 | H22: 18.53894 | I22: 309.72242 | K22: 0 | L22: 0 | M22: 5.9214 | N22: 2.8992 | O22: 5.4921 | P22: 6.0448 | Q22: -0.4293 | R22: 0.1234 | S22: -3.0223 | T22: -2.5929 | V22: 1 | W22: 1 | X22: 4.971e-12 | Y22: 1.469e-10 | Z22: 0.001905 | AA22: 1.903e-12 | AB22: 0.8227 | AC22: 0.9567 | AD22: 0.001509 | AE22: 0.006945 | AG22: M001111 | AH22: F020
A23: =HYPERLINK("http://fungi.ensembl.org/Fusarium_graminearum/Gene/Summary?g=FGRAMPH1_01T00167","FGRAMPH1_01T00167") -> FGRAMPH1_01T00167 | C23: 0 | D23: 0 | E23: 0 | F23: 27.52464 | G23: 1.78418 | H23: 2.90426 | I23: 0.62122 | K23: 0 | L23: 0 | M23: 4.4224 | N23: 2.0053 | O23: 1.5597 | P23: 0.8282 | Q23: -2.8627 | R23: -3.5943 | S23: -2.4172 | T23: 0.4456 | V23: 1 | W23: 1 | X23: 2.678e-06 | Y23: 0.1299 | Z23: 0.06494 | AA23: 0.473 | AB23: 0.01091 | AC23: 0.0009547 | AD23: 0.02869 | AE23: 0.7556 | AG23: M001000 | AH23: F002
A24: =HYPERLINK("http://fungi.ensembl.org/Fusarium_graminearum/Gene/Summary?g=FGRAMPH1_01T00195","FGRAMPH1_01T00195") -> FGRAMPH1_01T00195 | C24: 0 | D24: 0.51186 | E24: 0 | F24: 5.6059 | G24: 18.32042 | H24: 3.241 | I24: 17.18184 | K24: 0 | L24: 1.0465 | M24: 3.2819 | N24: 2.5607 | O24: 4.7666 | P24: 4.6831 | Q24: 1.4848 | R24: 1.4012 | S24: -0.7212 | T24: -2.206 | V24: 1 | W24: 0.364 | X24: 0.000107 | Y24: 4.83e-09 | Z24: 0.005902 | AA24: 1.111e-08 | AB24: 0.1275 | AC24: 0.1507 | AD24: 0.5308 | AE24: 0.008115 | AG24: M000101 | AH24: F000
A25: =HYPERLINK("http://fungi.ensembl.org/Fusarium_graminearum/Gene/Summary?g=FGRAMPH1_01T00215","FGRAMPH1_01T00215") -> FGRAMPH1_01T00215 | B25: GO:0005215: transporter activity; GO:0016020: membrane; GO:0016021: integral component of membrane; GO:0022857: transmembrane transporter activity; GO:0022891: substrate-specific transmembrane transporter activity; GO:0055085: transmembrane transport | C25: 0 | D25: 0 | E25: 0 | F25: 1.27672 | G25: 20.17014 | H25: 1.65352 | I25: 23.59932 | K25: 0 | L25: 0 | M25: 1.4239 | N25: 1.6324 | O25: 4.3792 | P25: 4.567 | Q25: 2.9553 | R25: 3.1431 | S25: 0.2085 | T25: -2.7468 | V25: 1 | W25: 1 | X25: 0.1626 | Y25: 1.288e-06 | Z25: 0.1436 | AA25: 4.988e-07 | AB25: 0.004348 | AC25: 0.002705 | AD25: 0.9129 | AE25: 0.005786 | AG25: M000101 | AH25: F101
A26: =HYPERLINK("http://fungi.ensembl.org/Fusarium_graminearum/Gene/Summary?g=FGRAMPH1_01T00223","FGRAMPH1_01T00223") -> FGRAMPH1_01T00223 | B26: GO:0004497: monooxygenase activity; GO:0005506: iron ion binding; GO:0016491: oxidoreductase activity; GO:0016705: oxidoreductase activity, acting on paired donors, with incorporation or reduction of molecular oxygen; GO:0020037: heme binding; GO:0046872: metal ion binding; GO:0055114: oxidation-reduction process | C26: 0.17024 | D26: 0 | E26: 0 | F26: 627.7533 | G26: 521.33822 | H26: 192.96026 | I26: 461.09602 | K26: 0.3315 | L26: 0 | M26: 7.2864 | N26: 5.8463 | O26: 7.0568 | P26: 6.9057 | Q26: -0.2297 | R26: -0.3807 | S26: -1.4401 | T26: -1.2105 | V26: 0.8751 | W26: 1 | X26: 1.814e-20 | Y26: 2.472e-19 | Z26: 3.031e-13 | AA26: 2.372e-18 | AB26: 0.9101 | AC26: 0.8145 | AD26: 0.1474 | AE26: 0.2109 | AG26: M001111 | AH26: F000
A27: =HYPERLINK("http://fungi.ensembl.org/Fusarium_graminearum/Gene/Summary?g=FGRAMPH1_01T00281","FGRAMPH1_01T00281") -> FGRAMPH1_01T00281 | B27: GO:0003824: catalytic activity; GO:0003824: catalytic activity; GO:0003824: catalytic activity; GO:0003824: catalytic activity; GO:0003824: catalytic activity; GO:0003824: catalytic activity; GO:0003824: catalytic activity; GO:0003824: catalytic activity; GO:0003824: catalytic activity; GO:0003824: catalytic activity; GO:0003824: catalytic activity; GO:0003824: catalytic activity; GO:0003824: catalytic activity; GO:0003824: catalytic activity; GO:0003824: catalytic activity; GO:0003824: catalytic activity; GO:0003824: catalytic activity; GO:0003824: catalytic activity; GO:0003824: catalytic activity; GO:0003824: catalytic activity; GO:0003824: catalytic activity; GO:0003824: catalytic activity; GO:0003824: catalytic activity; GO:0003824: catalytic activity; GO:0003824: catalytic activity; GO:0004553: hydrolase activity, hydrolyzing O-glycosyl compounds; GO:0004553: hydrolase activity, hydrolyzing O-glycosyl compounds; GO:0004553: hydrolase activity, hydrolyzing O-glycosyl compounds; GO:0004553: hydrolase activity, hydrolyzing O-glycosyl compounds; GO:0004553: hydrolase activity, hydrolyzing O-glycosyl compounds; GO:0004553: hydrolase activity, hydrolyzing O-glycosyl compounds; GO:0004553: hydrolase activity, hydrolyzing O-glycosyl compounds; GO:0004553: hydrolase activity, hydrolyzing O-glycosyl compounds; GO:0004553: hydrolase activity, hydrolyzing O-glycosyl compounds; GO:0004553: hydrolase activity, hydrolyzing O-glycosyl compounds; GO:0004553: hydrolase activity, hydrolyzing O-glycosyl compounds; GO:0004553: hydrolase activity, hydrolyzing O-glycosyl compounds; GO:0004553: hydrolase activity, hydrolyzing O-glycosyl compounds; GO:0004553: hydrolase activity, hydrolyzing O-glycosyl compounds; GO:0004553: hydrolase activity, hydrolyzing O-glycosyl compounds; GO:0004553: hydrolase activity, hydrolyzing O-glycosyl compounds; GO:0004553: hydrolase activity, hydrolyzing O-glycosyl compounds; GO:0004553: hydrolase activity, hydrolyzing O-glycosyl compounds; GO:0004553: hydrolase activity, hydrolyzing O-glycosyl compounds; GO:0004553: hydrolase activity, hydrolyzing O-glycosyl compounds; GO:0004553: hydrolase activity, hydrolyzing O-glycosyl compounds; GO:0004553: hydrolase activity, hydrolyzing O-glycosyl compounds; GO:0004553: hydrolase activity, hydrolyzing O-glycosyl compounds; GO:0004553: hydrolase activity, hydrolyzing O-glycosyl compounds; GO:0004553: hydrolase activity, hydrolyzing O-glycosyl compounds; GO:0004565: beta-galactosidase activity; GO:0004565: beta-galactosidase activity; GO:0004565: beta-galactosidase activity; GO:0004565: beta-galactosidase activity; GO:0004565: beta-galactosidase activity; GO:0004565: beta-galactosidase activity; GO:0004565: beta-galactosidase activity; GO:0004565: beta-galactosidase activity; GO:0004565: beta-galactosidase activity; GO:0004565: beta-galactosidase activity; GO:0004565: beta-galactosidase activity; GO:0004565: beta-galactosidase activity; GO:0004565: beta-galactosidase activity; GO:0004565: beta-galactosidase activity; GO:0004565: beta-galactosidase activity; GO:0004565: beta-galactosidase activity; GO:0004565: beta-galactosidase activity; GO:0004565: beta-galactosidase activity; GO:0004565: beta-galactosidase activity; GO:0004565: beta-galactosidase activity; GO:0004565: beta-galactosidase activity; GO:0004565: beta-galactosidase activity; GO:0004565: beta-galactosidase activity; GO:0004565: beta-galactosidase activity; GO:0004565: beta-galactosidase activity; GO:0005975: carbohydrate metabolic process; GO:0005975: carbohydrate metabolic process; GO:0005975: carbohydrate metabolic process; GO:0005975: carbohydrate metabolic process; GO:0005975: carbohydrate metabolic process; GO:0005975: carbohydrate metabolic process; GO:0005975: carbohydrate metabolic process; GO:0005975: carbohydrate metabolic process; GO:0005975: carbohydrate metabolic process; GO:0005975: carbohydrate metabolic process; GO:0005975: carbohydrate metabolic process; GO:0005975: carbohydrate metabolic process; GO:0005975: carbohydrate metabolic process; GO:0005975: carbohydrate metabolic process; GO:0005975: carbohydrate metabolic process; GO:0005975: carbohydrate metabolic process; GO:0005975: carbohydrate metabolic process; GO:0005975: carbohydrate metabolic process; GO:0005975: carbohydrate metabolic process; GO:0005975: carbohydrate metabolic process; GO:0005975: carbohydrate metabolic process; GO:0005975: carbohydrate metabolic process; GO:0005975: carbohydrate metabolic process; GO:0005975: carbohydrate metabolic process; GO:0005975: carbohydrate metabolic process; GO:0009341: beta-galactosidase complex; GO:0009341: beta-galactosidase complex; GO:0009341: beta-galactosidase complex; GO:0009341: beta-galactosidase complex; GO:0009341: beta-galactosidase complex; GO:0009341: beta-galactosidase complex; GO:0009341: beta-galactosidase complex; GO:0009341: beta-galactosidase complex; GO:0009341: beta-galactosidase complex; GO:0009341: beta-galactosidase complex; GO:0009341: beta-galactosidase complex; GO:0009341: beta-galactosidase complex; GO:0009341: beta-galactosidase complex; GO:0009341: beta-galactosidase complex; GO:0009341: beta-galactosidase complex; GO:0009341: beta-galactosidase complex; GO:0009341: beta-galactosidase complex; GO:0009341: beta-galactosidase complex; GO:0009341: beta-galactosidase complex; GO:0009341: beta-galactosidase complex; GO:0009341: beta-galactosidase complex; GO:0009341: beta-galactosidase complex; GO:0009341: beta-galactosidase complex; GO:0009341: beta-galactosidase complex; GO:0009341: beta-galactosidase complex; GO:0030246: carbohydrate binding; GO:0030246: carbohydrate binding; GO:0030246: carbohydrate binding; GO:0030246: carbohydrate binding; GO:0030246: carbohydrate binding; GO:0030246: carbohydrate binding; GO:0030246: carbohydrate binding; GO:0030246: carbohydrate binding; GO:0030246: carbohydrate binding; GO:0030246: carbohydrate binding; GO:0030246: carbohydrate binding; GO:0030246: carbohydrate binding; GO:0030246: carbohydrate binding; GO:0030246: carbohydrate binding; GO:0030246: carbohydrate binding; GO:0030246: carbohydrate binding; GO:0030246: carbohydrate binding; GO:0030246: carbohydrate binding; GO:0030246: carbohydrate binding; GO:0030246: carbohydrate binding; GO:0030246: carbohydrate binding; GO:0030246: carbohydrate binding; GO:0030246: carbohydrate binding; GO:0030246: carbohydrate binding; GO:0030246: carbohydrate binding | C27: 0 | D27: 0 | E27: 0 | F27: 4.28458 | G27: 12.55218 | H27: 0.72238 | I27: 13.2276 | K27: 0 | L27: 0 | M27: 3.0747 | N27: 1.2407 | O27: 4.4335 | P27: 4.4951 | Q27: 1.3588 | R27: 1.4204 | S27: -1.8341 | T27: -3.1929 | V27: 1 | W27: 1 | X27: 0.0004811 | Y27: 1.552e-07 | Z27: 0.2953 | AA27: 1.177e-07 | AB27: 0.211 | AC27: 0.1719 | AD27: 0.07462 | AE27: 0.0003429 | AG27: M000101 | AH27: F000
A28: =HYPERLINK("http://fungi.ensembl.org/Fusarium_graminearum/Gene/Summary?g=FGRAMPH1_01T00291","FGRAMPH1_01T00291") -> FGRAMPH1_01T00291 | B28: GO:0003824: catalytic activity; GO:0016491: oxidoreductase activity; GO:0016614: oxidoreductase activity, acting on CH-OH group of donors; GO:0050660: flavin adenine dinucleotide binding; GO:0055114: oxidation-reduction process | C28: 0 | D28: 0 | E28: 0 | F28: 12.12062 | G28: 23.61454 | H28: 8.27308 | I28: 52.75936 | K28: 0 | L28: 0 | M28: 4.3754 | N28: 3.8628 | O28: 5.2634 | P28: 6.3552 | Q28: 0.8881 | R28: 1.9799 | S28: -0.5125 | T28: -1.4006 | V28: 1 | W28: 1 | X28: 4.547e-09 | Y28: 6.948e-13 | Z28: 7.931e-07 | AA28: 2.222e-18 | AB28: 0.2688 | AC28: 0.001241 | AD28: 0.5587 | AE28: 0.0302 | AG28: M001101 | AH28: F001
A29: =HYPERLINK("http://fungi.ensembl.org/Fusarium_graminearum/Gene/Summary?g=FGRAMPH1_01T00293","FGRAMPH1_01T00293") -> FGRAMPH1_01T00293 | C29: 0 | D29: 0 | E29: 0 | F29: 5.41642 | G29: 9.22124 | H29: 5.3819 | I29: 11.7483 | K29: 0 | L29: 0 | M29: 3.6072 | N29: 3.5912 | O29: 4.3356 | P29: 4.6322 | Q29: 0.7284 | R29: 1.0251 | S29: -0.016 | T29: -0.7444 | V29: 1 | W29: 1 | X29: 3.332e-06 | Y29: 1.042e-08 | Z29: 9.152e-06 | AA29: 7.661e-10 | AB29: 0.4033 | AC29: 0.1589 | AD29: 0.9993 | AE29: 0.3021 | AG29: M000001 | AH29: F000
A30: =HYPERLINK("http://fungi.ensembl.org/Fusarium_graminearum/Gene/Summary?g=FGRAMPH1_01T00373","FGRAMPH1_01T00373") -> FGRAMPH1_01T00373 | C30: 0.38852 | D30: 0.25354 | E30: 0 | F30: 7.94738 | G30: 24.3246 | H30: 4.41938 | I30: 28.2404 | K30: 0.6158 | L30: 0.6027 | M30: 3.6793 | N30: 2.9094 | O30: 5.1065 | P30: 5.297 | Q30: 1.4272 | R30: 1.6177 | S30: -0.7699 | T30: -2.1971 | V30: 0.6976 | W30: 0.6629 | X30: 6.444e-06 | Y30: 9.979e-11 | Z30: 0.0009727 | AA30: 2.168e-11 | AB30: 0.1179 | AC30: 0.06215 | AD30: 0.4626 | AE30: 0.004786 | AG30: M000101 | AH30: F000
A31: =HYPERLINK("http://fungi.ensembl.org/Fusarium_graminearum/Gene/Summary?g=FGRAMPH1_01T00379","FGRAMPH1_01T00379") -> FGRAMPH1_01T00379 | B31: GO:0008152: metabolic process; GO:0016491: oxidoreductase activity; GO:0016620: oxidoreductase activity, acting on the aldehyde or oxo group of donors, NAD or NADP as acceptor; GO:0055114: oxidation-reduction process | C31: 0 | D31: 0 | E31: 0 | F31: 2.49544 | G31: 7.28564 | H31: 1.216 | I31: 16.53996 | K31: 0 | L31: 0 | M31: 2.4242 | N31: 1.6514 | O31: 3.6711 | P31: 4.6991 | Q31: 1.2469 | R31: 2.2748 | S31: -0.7728 | T31: -2.0197 | V31: 1 | W31: 1 | X31: 0.008809 | Y31: 2.964e-05 | Z31: 0.1304 | AA31: 5.389e-08 | AB31: 0.3145 | AC31: 0.02174 | AD31: 0.5592 | AE31: 0.03897 | AG31: M000001 | AH31: F000
A32: =HYPERLINK("http://fungi.ensembl.org/Fusarium_graminearum/Gene/Summary?g=FGRAMPH1_01T00381","FGRAMPH1_01T00381") -> FGRAMPH1_01T00381 | B32: GO:0005515: protein binding | C32: 0 | D32: 0 | E32: 0 | F32: 12.76614 | G32: 16.3269 | H32: 5.5411 | I32: 21.48024 | K32: 0 | L32: 0 | M32: 4.3775 | N32: 3.2278 | O32: 4.6837 | P32: 5.0342 | Q32: 0.3062 | R32: 0.6567 | S32: -1.1497 | T32: -1.4559 | V32: 1 | W32: 1 | X32: 3.922e-08 | Y32: 3.111e-09 | Z32: 0.0001757 | AA32: 1.787e-10 | AB32: 0.8352 | AC32: 0.5462 | AD32: 0.1959 | AE32: 0.06991 | AG32: M001101 | AH32: F000
A33: =HYPERLINK("http://fungi.ensembl.org/Fusarium_graminearum/Gene/Summary?g=FGRAMPH1_01T00405","FGRAMPH1_01T00405") -> FGRAMPH1_01T00405 | B33: GO:0008270: zinc ion binding; GO:0016491: oxidoreductase activity | C33: 0 | D33: 0 | E33: 0 | F33: 7.04774 | G33: 14.39532 | H33: 1.23148 | I33: 26.63492 | K33: 0 | L33: 0 | M33: 3.8116 | N33: 1.8263 | O33: 4.7537 | P33: 5.5778 | Q33: 0.9421 | R33: 1.7662 | S33: -1.9854 | T33: -2.9275 | V33: 1 | W33: 1 | X33: 1.933e-06 | Y33: 1.144e-09 | Z33: 0.06778 | AA33: 5.476e-13 | AB33: 0.317 | AC33: 0.01762 | AD33: 0.0185 | AE33: 0.0001305 | AG33: M000101 | AH33: F000
A34: =HYPERLINK("http://fungi.ensembl.org/Fusarium_graminearum/Gene/Summary?g=FGRAMPH1_01T00413","FGRAMPH1_01T00413") -> FGRAMPH1_01T00413 | B34: GO:0005215: transporter activity; GO:0016021: integral component of membrane; GO:0055085: transmembrane transport | C34: 0 | D34: 0.25354 | E34: 0 | F34: 3.6903 | G34: 8.19184 | H34: 1.7255 | I34: 13.92634 | K34: 0 | L34: 0.6356 | M34: 2.8076 | N34: 1.8727 | O34: 3.7615 | P34: 4.4254 | Q34: 0.954 | R34: 1.6179 | S34: -0.9349 | T34: -1.8889 | V34: 1 | W34: 0.654 | X34: 0.001892 | Y34: 1.634e-05 | Z34: 0.07403 | AA34: 3.097e-07 | AB34: 0.4758 | AC34: 0.1298 | AD34: 0.4457 | AE34: 0.05191 | AG34: M000001 | AH34: F000
A35: =HYPERLINK("http://fungi.ensembl.org/Fusarium_graminearum/Gene/Summary?g=FGRAMPH1_01T00455","FGRAMPH1_01T00455") -> FGRAMPH1_01T00455 | B35: GO:0003824: catalytic activity | C35: 0 | D35: 0 | E35: 0 | F35: 4.90116 | G35: 10.29394 | H35: 4.36978 | I35: 18.7853 | K35: 0 | L35: 0 | M35: 2.8845 | N35: 2.7176 | O35: 3.7341 | P35: 4.4515 | Q35: 0.8496 | R35: 1.567 | S35: -0.1669 | T35: -1.0165 | V35: 1 | W35: 1 | X35: 0.001608 | Y35: 2.63e-05 | Z35: 0.005043 | AA35: 4.441e-07 | AB35: 0.5667 | AC35: 0.1719 | AD35: 0.9281 | AE35: 0.3506 | AG35: M000101 | AH35: F000
A36: =HYPERLINK("http://fungi.ensembl.org/Fusarium_graminearum/Gene/Summary?g=FGRAMPH1_01T00457","FGRAMPH1_01T00457") -> FGRAMPH1_01T00457 | B36: GO:0004553: hydrolase activity, hydrolyzing O-glycosyl compounds; GO:0005975: carbohydrate metabolic process | C36: 0 | D36: 0 | E36: 0 | F36: 2.96386 | G36: 8.20898 | H36: 2.21912 | I36: 11.46246 | K36: 0 | L36: 0 | M36: 2.6881 | N36: 2.246 | O36: 3.9235 | P36: 4.3519 | Q36: 1.2354 | R36: 1.6638 | S36: -0.442 | T36: -1.6775 | V36: 1 | W36: 1 | X36: 0.002609 | Y36: 4.06e-06 | Z36: 0.02311 | AA36: 2.762e-07 | AB36: 0.2782 | AC36: 0.09466 | AD36: 0.7502 | AE36: 0.07197 | AG36: M000001 | AH36: F000
A37: =HYPERLINK("http://fungi.ensembl.org/Fusarium_graminearum/Gene/Summary?g=FGRAMPH1_01T00461","FGRAMPH1_01T00461") -> FGRAMPH1_01T00461 | B37: GO:0003735: structural constituent of ribosome; GO:0005840: ribosome; GO:0006412: translation | C37: 0 | D37: 0 | E37: 0 | F37: 4.01476 | G37: 8.52948 | H37: 2.48062 | I37: 15.34752 | K37: 0 | L37: 0 | M37: 3.1382 | N37: 2.5528 | O37: 4.0845 | P37: 4.8738 | Q37: 0.9463 | R37: 1.7356 | S37: -0.5854 | T37: -1.5316 | V37: 1 | W37: 1 | X37: 0.0001816 | Y37: 4.661e-07 | Z37: 0.005809 | AA37: 1.043e-09 | AB37: 0.3724 | AC37: 0.03634 | AD37: 0.6097 | AE37: 0.06853 | AG37: M000001 | AH37: F000
A38: =HYPERLINK("http://fungi.ensembl.org/Fusarium_graminearum/Gene/Summary?g=FGRAMPH1_01T00465","FGRAMPH1_01T00465") -> FGRAMPH1_01T00465 | B38: GO:0000226: microtubule cytoskeleton organization; GO:0000226: microtubule cytoskeleton organization; GO:0003924: GTPase activity; GO:0003924: GTPase activity; GO:0005525: GTP binding; GO:0005525: GTP binding; GO:0005525: GTP binding; GO:0005525: GTP binding; GO:0005634: nucleus; GO:0005634: nucleus; GO:0005829: cytosol; GO:0005829: cytosol; GO:0005886: plasma membrane; GO:0005886: plasma membrane; GO:0005933: cellular bud; GO:0005933: cellular bud; GO:0007264: small GTPase mediated signal transduction; GO:0007264: small GTPase mediated signal transduction; GO:0010590: regulation of cell separation after cytokinesis; GO:0010590: regulation of cell separation after cytokinesis; GO:0030036: actin cytoskeleton organization; GO:0030036: actin cytoskeleton organization; GO:0030950: establishment or maintenance of actin cytoskeleton polarity; GO:0030950: establishment or maintenance of actin cytoskeleton polarity; GO:0032153: cell division site; GO:0032153: cell division site; GO:0045921: positive regulation of exocytosis; GO:0045921: positive regulation of exocytosis; GO:0071963: establishment or maintenance of cell polarity regulating cell shape; GO:0071963: establishment or maintenance of cell polarity regulating cell shape; GO:0090338: positive regulation of formin-nucleated actin cable assembly; GO:0090338: positive regulation of formin-nucleated actin cable assembly | C38: 0 | D38: 0 | E38: 0 | F38: 8.4905 | G38: 14.68114 | H38: 5.48516 | I38: 32.48964 | K38: 0 | L38: 0 | M38: 3.9328 | N38: 3.3248 | O38: 4.6409 | P38: 5.6986 | Q38: 0.708 | R38: 1.7658 | S38: -0.608 | T38: -1.3161 | V38: 1 | W38: 1 | X38: 6.342e-07 | Y38: 2.148e-09 | Z38: 7.741e-05 | AA38: 9.81e-14 | AB38: 0.4997 | AC38: 0.01799 | AD38: 0.5401 | AE38: 0.08495 | AG38: M000101 | AH38: F000
A39: =HYPERLINK("http://fungi.ensembl.org/Fusarium_graminearum/Gene/Summary?g=FGRAMPH1_01T00467","FGRAMPH1_01T00467") -> FGRAMPH1_01T00467 | C39: 0.17024 | D39: 0 | E39: 0 | F39: 4.38682 | G39: 30.78298 | H39: 1.14496 | I39: 10.90348 | K39: 0.5294 | L39: 0 | M39: 2.8289 | N39: 1.4178 | O39: 5.1888 | P39: 3.9207 | Q39: 2.3599 | R39: 1.0918 | S39: -1.4111 | T39: -3.7711 | V39: 0.7636 | W39: 1 | X39: 0.001905 | Y39: 1.626e-09 | Z39: 0.2129 | AA39: 9.577e-06 | AB39: 0.01634 | AC39: 0.388 | AD39: 0.2146 | AE39: 2.64e-05 | AG39: M000101 | AH39: F000
A40: =HYPERLINK("http://fungi.ensembl.org/Fusarium_graminearum/Gene/Summary?g=FGRAMPH1_01T00473","FGRAMPH1_01T00473") -> FGRAMPH1_01T00473 | B40: GO:0004553: hydrolase activity, hydrolyzing O-glycosyl compounds; GO:0005975: carbohydrate metabolic process | C40: 0 | D40: 0 | E40: 0 | F40: 5.71554 | G40: 8.97844 | H40: 5.69398 | I40: 25.36588 | K40: 0 | L40: 0 | M40: 3.2276 | N40: 3.2086 | O40: 3.7706 | P40: 5.0638 | Q40: 0.543 | R40: 1.8362 | S40: -0.019 | T40: -0.562 | V40: 1 | W40: 1 | X40: 0.0002046 | Y40: 9.923e-06 | Z40: 0.0004007 | AA40: 1.424e-09 | AB40: 0.7238 | AC40: 0.05895 | AD40: 1 | AE40: 0.6075 | AG40: M000001 | AH40: F000
...

Sheet DEFE stats
A1: Frequency of each Differential Expression Feature Extraction (DEFE) pattern
A3: M(ABA/MT, GA/MT, Fg/MT, Fg+ABA/MT, Fg+AS6/MT, Fg+GA/MT) | D3: F(Fg+ABA_vs_Fg, Fg+AS6_vs_Fg, Fg+GA_vs_Fg)
A4: M000000 | B4: =COUNTIF('Fg DEGs'!AG$4:AG$4875,A4) -> 0 | D4: F000 | E4: =COUNTIF('Fg DEGs'!AH$4:AH$4875,D4) -> 3902
A5: M000001 | B5: =COUNTIF('Fg DEGs'!AG$4:AG$4875,A5) -> 1589 | D5: F001 | E5: =COUNTIF('Fg DEGs'!AH$4:AH$4875,D5) -> 856
A6: M000010 | B6: =COUNTIF('Fg DEGs'!AG$4:AG$4875,A6) -> 6 | D6: F002 | E6: =COUNTIF('Fg DEGs'!AH$4:AH$4875,D6) -> 1
A7: M000011 | B7: =COUNTIF('Fg DEGs'!AG$4:AG$4875,A7) -> 10 | D7: F010 | E7: =COUNTIF('Fg DEGs'!AH$4:AH$4875,D7) -> 6
A8: M000100 | B8: =COUNTIF('Fg DEGs'!AG$4:AG$4875,A8) -> 40 | D8: F011 | E8: =COUNTIF('Fg DEGs'!AH$4:AH$4875,D8) -> 2
A9: M000101 | B9: =COUNTIF('Fg DEGs'!AG$4:AG$4875,A9) -> 1315 | D9: F012 | E9: =COUNTIF('Fg DEGs'!AH$4:AH$4875,D9) -> 0
A10: M000110 | B10: =COUNTIF('Fg DEGs'!AG$4:AG$4875,A10) -> 4 | D10: F020 | E10: =COUNTIF('Fg DEGs'!AH$4:AH$4875,D10) -> 24
A11: M000111 | B11: =COUNTIF('Fg DEGs'!AG$4:AG$4875,A11) -> 72 | D11: F021 | E11: =COUNTIF('Fg DEGs'!AH$4:AH$4875,D11) -> 2
A12: M001000 | B12: =COUNTIF('Fg DEGs'!AG$4:AG$4875,A12) -> 5 | D12: F022 | E12: =COUNTIF('Fg DEGs'!AH$4:AH$4875,D12) -> 0
A13: M001001 | B13: =COUNTIF('Fg DEGs'!AG$4:AG$4875,A13) -> 18 | D13: F100 | E13: =COUNTIF('Fg DEGs'!AH$4:AH$4875,D13) -> 39
A14: M001011 | B14: =COUNTIF('Fg DEGs'!AG$4:AG$4875,A14) -> 1 | D14: F101 | E14: =COUNTIF('Fg DEGs'!AH$4:AH$4875,D14) -> 31
A15: M001101 | B15: =COUNTIF('Fg DEGs'!AG$4:AG$4875,A15) -> 647 | D15: F102 | E15: =COUNTIF('Fg DEGs'!AH$4:AH$4875,D15) -> 0
A16: M001111 | B16: =COUNTIF('Fg DEGs'!AG$4:AG$4875,A16) -> 1165 | D16: F110 | E16: =COUNTIF('Fg DEGs'!AH$4:AH$4875,D16) -> 3
D17: F111 | E17: =COUNTIF('Fg DEGs'!AH$4:AH$4875,D17) -> 6
