Workbook
Name A_TAIR: #REF!
Name A_TAIR: #REF!
Name A_TAIR_2: #REF!
Name A_TAIR_2: #REF!
Name ARA: #REF!
Name ARA: #REF!
Name B_TAIR: #REF!
Name B_TAIR: #REF!
Name B_TAIR_2: #REF!
Name B_TAIR_2: #REF!
Name BP: #REF!
Name BP: #REF!
Name D_TAIR: #REF!
Name D_TAIR: #REF!
Name D_TAIR_2: #REF!
Name D_TAIR_2: #REF!
Name list: #REF!
Name list: #REF!
Name list: #REF!
Name list_B_A: #REF!
Name list_B_A: #REF!
Name list_D_A: #REF!
Name list_D_A: #REF!
Name list1: #REF!
Name list1: #REF!
Name list11: #REF!
Name list11: #REF!
Name list111: #REF!
Name list111: #REF!
Name list2: #REF!
Name list2: #REF!
Name list22: #REF!
Name list22: #REF!
Name list3: #REF!
Name list3: #REF!
Name list33: #REF!
Name list33: #REF!
Name list4: #REF!
Name list4: #REF!
Name list5: #REF!
Name list5: #REF!
Name list6: #REF!
Name list6: #REF!
Name list7: #REF!
Name list7: #REF!
Name list8: #REF!
Name list8: #REF!
Name list9: #REF!
Name list9: #REF!
Name TAB: #REF!
Name TAB: #REF!
Name Tair: #REF!
Name Tair: #REF!
Name TAIR10: #REF!
Name TAIR10: #REF!
Name wheat: #REF!
Name wheat: #REF!

Sheet Note
A1: Additional File 3: Differentially Expressed Genes of Fuzarium graminearum
A3: Tab | B3: Section | C3: description
A4: Fg DEGs | C4: 4872 Differentially Expressed Genes of Fuzarium graminearum
B5: First block Cols A-B | C5: Ensembl fungi Gene ID for Fusarium graminearum str. PH-1 (RR1)
B6: Second block Cols C-I | C6: Gene expression
B7: Third block Cols K-AH | C7: Differential expression analysis, each subblocks and column heads are self-explainable
A8: DEFE_stat | C8: Frequency of each Differential Expression Feature Extraction (DEFE) pattern

Sheet Fg DEGs
A1: Differentially Expressed Genes of Fuzarium graminearum
C2: mean count | K2: log2FoldChange | V2: padj
A3: Gene ID | B3: GO term accession:name | C3: ABA | D3: GA | E3: MT | F3: Fg | G3: Fg+ABA | H3: Fg+AS6 | I3: Fg+GA | K3: ABA /MT | L3: GA /MT | M3: Fg /MT | N3: Fg+AS6 /MT | O3: Fg+ABA /MT | P3: Fg+GA /MT | Q3: Fg+ABA /Fg | R3: Fg+GA /Fg | S3: Fg+AS6 /FHB | T3: Fg+AS /Fg+ABA | V3: ABA /MT | W3: GA /MT | X3: Fg /MT | Y3: Fg+AS6 /MT | Z3: Fg+ABA /MT | AA3: Fg+GA /MT | AB3: Fg+ABA /Fg | AC3: Fg+GA /Fg | AD3: Fg+AS6 /FHB | AE3: Fg+AS /Fg+ABA | AG3: M(ABA/MT, GA/MT, Fg/MT, Fg+ABA/MT, Fg+AS6/T, Fg+GA/MT) | AH3: F(Fg+ABA/Fg, Fg+AS6/Fg, Fg+GA/Fg)
A4: =HYPERLINK("http://fungi.ensembl.org/Fusarium_graminearum/Gene/Summary?g=FGRAMPH1_01T00051","FGRAMPH1_01T00051") -> FGRAMPH1_01T00051 | C4: 0 | D4: 0 | E4: 0 | F4: 0.72992 | G4: 4.65184 | H4: 1.14496 | I4: 10.96906 | K4: 0 | L4: 0 | M4: 1.119 | N4: 1.4238 | O4: 2.9056 | P4: 3.9029 | Q4: 1.7866 | R4: 2.7839 | S4: 0.3047 | T4: -1.4819 | V4: 1 | W4: 1 | X4: 0.2928 | Y4: 0.00224 | Z4: 0.2264 | AA4: 2.916e-05 | AB4: 0.1665 | AC4: 0.01269 | AD4: 0.8658 | AE4: 0.1915 | AG4: M000001 | AH4: F000
A5: =HYPERLINK("http://fungi.ensembl.org/Fusarium_graminearum/Gene/Summary?g=FGRAMPH1_01T00053","FGRAMPH1_01T00053") -> FGRAMPH1_01T00053 | B5: GO:0004497: monooxygenase activity; GO:0005506: iron ion binding; GO:0016491: oxidoreductase activity; GO:0016705: oxidoreductase activity, acting on paired donors, with incorporation or reduction of molecular oxygen; GO:0020037: heme binding; GO:0046872: metal ion binding; GO:0055114: oxidation-reduction process | C5: 0 | D5: 0 | E5: 0 | F5: 61.27188 | G5: 54.88618 | H5: 21.53328 | I5: 39.0269 | K5: 0 | L5: 0 | M5: 5.5479 | N5: 4.2573 | O5: 5.4069 | P5: 4.9848 | Q5: -0.141 | R5: -0.5631 | S5: -1.2905 | T5: -1.1496 | V5: 1 | W5: 1 | X5: 9.897e-12 | Y5: 2.986e-11 | Z5: 5.09e-07 | AA5: 1.325e-09 | AB5: 0.9516 | AC5: 0.6899 | AD5: 0.1947 | AE5: 0.2274 | AG5: M001111 | AH5: F000
A6: =HYPERLINK("http://fungi.ensembl.org/Fusarium_graminearum/Gene/Summary?g=FGRAMPH1_01T00085","FGRAMPH1_01T00085") -> FGRAMPH1_01T00085 | C6: 0 | D6: 0 | E6: 0 | F6: 3.91506 | G6: 8.04352 | H6: 4.08738 | I6: 14.48354 | K6: 0 | L6: 0 | M6: 2.8168 | N6: 2.8435 | O6: 3.6642 | P6: 4.3868 | Q6: 0.8474 | R6: 1.57 | S6: 0.0267 | T6: -0.8207 | V6: 1 | W6: 1 | X6: 0.001802 | Y6: 2.799e-05 | Z6: 0.002699 | AA6: 4.016e-07 | AB6: 0.5453 | AC6: 0.1468 | AD6: 0.9975 | AE6: 0.4468 | AG6: M000001 | AH6: F000
A7: =HYPERLINK("http://fungi.ensembl.org/Fusarium_graminearum/Gene/Summary?g=FGRAMPH1_01T00097","FGRAMPH1_01T00097") -> FGRAMPH1_01T00097 | C7: 0 | D7: 0 | E7: 0 | F7: 6.16618 | G7: 16.28386 | H7: 6.4433 | I7: 27.11922 | K7: 0 | L7: 0 | M7: 3.494 | N7: 3.5012 | O7: 4.7462 | P7: 5.4178 | Q7: 1.2522 | R7: 1.9238 | S7: 0.0072 | T7: -1.245 | V7: 1 | W7: 1 | X7: 1.664e-05 | Y7: 1.441e-09 | Z7: 3.275e-05 | AA7: 3.617e-12 | AB7: 0.1674 | AC7: 0.014 | AD7: 1 | AE7: 0.1154 | AG7: M000101 | AH7: F000
A8: =HYPERLINK("http://fungi.ensembl.org/Fusarium_graminearum/Gene/Summary?g=FGRAMPH1_01T00105","FGRAMPH1_01T00105") -> FGRAMPH1_01T00105 | B8: GO:0008237: metallopeptidase activity | C8: 0 | D8: 0 | E8: 0 | F8: 14.86616 | G8: 65.48742 | H8: 48.90728 | I8: 202.67646 | K8: 0 | L8: 0 | M8: 3.6939 | N8: 5.1138 | O8: 5.475 | P8: 6.8798 | Q8: 1.7812 | R8: 3.186 | S8: 1.42 | T8: -0.3612 | V8: 1 | W8: 1 | X8: 9.967e-06 | Y8: 1.48e-11 | Z8: 7.074e-10 | AA8: 1.619e-17 | AB8: 0.07843 | AC8: 0.0002383 | AD8: 0.1482 | AE8: 0.7559 | AG8: M001111 | AH8: F001
A9: =HYPERLINK("http://fungi.ensembl.org/Fusarium_graminearum/Gene/Summary?g=FGRAMPH1_01T00119","FGRAMPH1_01T00119") -> FGRAMPH1_01T00119 | C9: 0 | D9: 0 | E9: 0 | F9: 2.21346 | G9: 4.06782 | H9: 0.49362 | I9: 18.73852 | K9: 0 | L9: 0 | M9: 2.2282 | N9: 0.9399 | O9: 2.8793 | P9: 4.7272 | Q9: 0.6511 | R9: 2.499 | S9: -1.2883 | T9: -1.9394 | V9: 1 | W9: 1 | X9: 0.02049 | Y9: 0.001986 | Z9: 0.4878 | AA9: 1.24e-07 | AB9: 0.7051 | AC9: 0.0179 | AD9: 0.2991 | AE9: 0.06869 | AG9: M000001 | AH9: F000
A10: =HYPERLINK("http://fungi.ensembl.org/Fusarium_graminearum/Gene/Summary?g=FGRAMPH1_01T00127","FGRAMPH1_01T00127") -> FGRAMPH1_01T00127 | B10: GO:0003824: catalytic activity; GO:0008152: metabolic process; GO:0016740: transferase activity | C10: 0 | D10: 0 | E10: 0 | F10: 260.63764 | G10: 167.75552 | H10: 15.87644 | I10: 227.90098 | K10: 0 | L10: 0 | M10: 6.0369 | N10: 2.8954 | O10: 5.5141 | P10: 5.8768 | Q10: -0.5227 | R10: -0.1601 | S10: -3.1415 | T10: -2.6187 | V10: 1 | W10: 1 | X10: 1.525e-12 | Y10: 1.06e-10 | Z10: 0.001877 | AA10: 6.815e-12 | AB10: 0.7705 | AC10: 0.9395 | AD10: 0.0008221 | AE10: 0.005933 | AG10: M001111 | AH10: F020
A11: =HYPERLINK("http://fungi.ensembl.org/Fusarium_graminearum/Gene/Summary?g=FGRAMPH1_01T00129","FGRAMPH1_01T00129") -> FGRAMPH1_01T00129 | B11: GO:0004497: monooxygenase activity; GO:0005506: iron ion binding; GO:0016491: oxidoreductase activity; GO:0016705: oxidoreductase activity, acting on paired donors, with incorporation or reduction of molecular oxygen; GO:0020037: heme binding; GO:0046872: metal ion binding; GO:0055114: oxidation-reduction process | C11: 0 | D11: 0 | E11: 0 | F11: 145.46818 | G11: 93.9761 | H11: 8.5576 | I11: 140.61872 | K11: 0 | L11: 0 | M11: 5.409 | N11: 2.3349 | O11: 4.9 | P11: 5.3689 | Q11: -0.5089 | R11: -0.04 | S11: -3.0741 | T11: -2.5651 | V11: 1 | W11: 1 | X11: 7.082e-10 | Y11: 2.376e-08 | Z11: 0.01822 | AA11: 1.033e-09 | AB11: 0.7837 | AC11: 0.9907 | AD11: 0.001543 | AE11: 0.009105 | AG11: M001101 | AH11: F020
A12: =HYPERLINK("http://fungi.ensembl.org/Fusarium_graminearum/Gene/Summary?g=FGRAMPH1_01T00131","FGRAMPH1_01T00131") -> FGRAMPH1_01T00131 | B12: GO:0003824: catalytic activity; GO:0003824: catalytic activity; GO:0004312: fatty acid synthase activity; GO:0004312: fatty acid synthase activity; GO:0004318: enoyl-[acyl-carrier-protein] reductase (NADH) activity; GO:0004318: enoyl-[acyl-carrier-protein] reductase (NADH) activity; GO:0005835: fatty acid synthase complex; GO:0005835: fatty acid synthase complex; GO:0006633: fatty acid biosynthetic process; GO:0006633: fatty acid biosynthetic process; GO:0008152: metabolic process; GO:0008152: metabolic process; GO:0016740: transferase activity; GO:0016740: transferase activity; GO:0055114: oxidation-reduction process; GO:0055114: oxidation-reduction process | C12: 0 | D12: 0 | E12: 0 | F12: 98.37976 | G12: 46.29566 | H12: 2.59694 | I12: 75.83892 | K12: 0 | L12: 0 | M12: 4.9356 | N12: 1.3443 | O12: 4.0839 | P12: 4.6381 | Q12: -0.8516 | R12: -0.2975 | S12: -3.5913 | T12: -2.7396 | V12: 1 | W12: 1 | X12: 5.477e-08 | Y12: 7.8e-06 | Z12: 0.2483 | AA12: 3.829e-07 | AB12: 0.6058 | AC12: 0.8837 | AD12: 0.0002803 | AE12: 0.007022 | AG12: M001101 | AH12: F020
A13: =HYPERLINK("http://fungi.ensembl.org/Fusarium_graminearum/Gene/Summary?g=FGRAMPH1_01T00133","FGRAMPH1_01T00133") -> FGRAMPH1_01T00133 | C13: 0 | D13: 0 | E13: 0 | F13: 15.55372 | G13: 9.80208 | H13: 0.87482 | I13: 10.12888 | K13: 0 | L13: 0 | M13: 3.4955 | N13: 0.948 | O13: 2.9932 | P13: 3.0362 | Q13: -0.5023 | R13: -0.4592 | S13: -2.5475 | T13: -2.0452 | V13: 1 | W13: 1 | X13: 0.0002462 | Y13: 0.001827 | Z13: 0.4859 | AA13: 0.001821 | AB13: 0.8049 | AC13: 0.8115 | AD13: 0.01936 | AE13: 0.06345 | AG13: M001001 | AH13: F000
A14: =HYPERLINK("http://fungi.ensembl.org/Fusarium_graminearum/Gene/Summary?g=FGRAMPH1_01T00141","FGRAMPH1_01T00141") -> FGRAMPH1_01T00141 | B14: GO:0046983: protein dimerization activity | C14: 0 | D14: 0 | E14: 0 | F14: 12.75496 | G14: 14.36252 | H14: 3.64618 | I14: 21.97644 | K14: 0 | L14: 0 | M14: 3.5885 | N14: 2.2277 | O14: 3.7123 | P14: 4.2043 | Q14: 0.1238 | R14: 0.6158 | S14: -1.3609 | T14: -1.4847 | V14: 1 | W14: 1 | X14: 8.912e-05 | Y14: 4.419e-05 | Z14: 0.02964 | AA14: 3.657e-06 | AB14: 0.9664 | AC14: 0.707 | AD14: 0.2489 | AE14: 0.1692 | AG14: M001101 | AH14: F000
A15: =HYPERLINK("http://fungi.ensembl.org/Fusarium_graminearum/Gene/Summary?g=FGRAMPH1_01T00143","FGRAMPH1_01T00143") -> FGRAMPH1_01T00143 | B15: GO:0003824: catalytic activity; GO:0008152: metabolic process; GO:0031177: phosphopantetheine binding | C15: 0 | D15: 0 | E15: 0 | F15: 65.68952 | G15: 54.75236 | H15: 3.79644 | I15: 53.82698 | K15: 0 | L15: 0 | M15: 5.2988 | N15: 2.1379 | O15: 5.0771 | P15: 5.0587 | Q15: -0.2217 | R15: -0.2401 | S15: -3.161 | T15: -2.9392 | V15: 1 | W15: 1 | X15: 7.37e-10 | Y15: 3.38e-09 | Z15: 0.03153 | AA15: 4.867e-09 | AB15: 0.9208 | AC15: 0.8999 | AD15: 0.0006569 | AE15: 0.001481 | AG15: M001101 | AH15: F020
A16: =HYPERLINK("http://fungi.ensembl.org/Fusarium_graminearum/Gene/Summary?g=FGRAMPH1_01T00145","FGRAMPH1_01T00145") -> FGRAMPH1_01T00145 | B16: GO:0016491: oxidoreductase activity; GO:0055114: oxidation-reduction process | C16: 0 | D16: 0 | E16: 0 | F16: 255.3803 | G16: 186.70818 | H16: 12.03718 | I16: 255.04682 | K16: 0 | L16: 0 | M16: 5.7414 | N16: 2.4231 | O16: 5.3742 | P16: 5.7395 | Q16: -0.3672 | R16: -0.0018 | S16: -3.3184 | T16: -2.9512 | V16: 1 | W16: 1 | X16: 3.925e-11 | Y16: 5.97e-10 | Z16: 0.01279 | AA16: 4.371e-11 | AB16: 0.858 | AC16: 1 | AD16: 0.0005082 | AE16: 0.002053 | AG16: M001101 | AH16: F020
A17: =HYPERLINK("http://fungi.ensembl.org/Fusarium_graminearum/Gene/Summary?g=FGRAMPH1_01T00147","FGRAMPH1_01T00147") -> FGRAMPH1_01T00147 | C17: 0 | D17: 0 | E17: 0 | F17: 121.71986 | G17: 82.6833 | H17: 8.66868 | I17: 132.03918 | K17: 0 | L17: 0 | M17: 5.2832 | N17: 2.4116 | O17: 4.8329 | P17: 5.3778 | Q17: -0.4503 | R17: 0.0947 | S17: -2.8716 | T17: -2.4213 | V17: 1 | W17: 1 | X17: 1.776e-09 | Y17: 3.68e-08 | Z17: 0.01412 | AA17: 9.413e-10 | AB17: 0.8152 | AC17: 0.9702 | AD17: 0.003399 | AE17: 0.01449 | AG17: M001101 | AH17: F020
A18: =HYPERLINK("http://fungi.ensembl.org/Fusarium_graminearum/Gene/Summary?g=FGRAMPH1_01T00149","FGRAMPH1_01T00149") -> FGRAMPH1_01T00149 | C18: 0 | D18: 0 | E18: 0 | F18: 33.47056 | G18: 21.071 | H18: 4.02666 | I18: 35.83354 | K18: 0 | L18: 0 | M18: 4.4006 | N18: 2.1115 | O18: 3.8663 | P18: 4.4775 | Q18: -0.5343 | R18: 0.0769 | S18: -2.2891 | T18: -1.7548 | V18: 1 | W18: 1 | X18: 1.046e-06 | Y18: 1.912e-05 | Z18: 0.04048 | AA18: 6.986e-07 | AB18: 0.7722 | AC18: 0.9775 | AD18: 0.02785 | AE18: 0.09642 | AG18: M001101 | AH18: F000
A19: =HYPERLINK("http://fungi.ensembl.org/Fusarium_graminearum/Gene/Summary?g=FGRAMPH1_01T00151","FGRAMPH1_01T00151") -> FGRAMPH1_01T00151 | B19: GO:0005524: ATP binding; GO:0006810: transport; GO:0016021: integral component of membrane; GO:0016887: ATPase activity; GO:0042626: ATPase activity, coupled to transmembrane movement of substances; GO:0055085: transmembrane transport | C19: 0 | D19: 0 | E19: 0 | F19: 187.84698 | G19: 115.0813 | H19: 13.42888 | I19: 179.22132 | K19: 0 | L19: 0 | M19: 5.6368 | N19: 2.7217 | O19: 5.0637 | P19: 5.5812 | Q19: -0.5732 | R19: -0.0557 | S19: -2.9151 | T19: -2.3419 | V19: 1 | W19: 1 | X19: 8.414e-11 | Y19: 5.637e-09 | Z19: 0.004326 | AA19: 1.433e-10 | AB19: 0.7479 | AC19: 0.9851 | AD19: 0.002613 | AE19: 0.01756 | AG19: M001111 | AH19: F020
A20: =HYPERLINK("http://fungi.ensembl.org/Fusarium_graminearum/Gene/Summary?g=FGRAMPH1_01T00153","FGRAMPH1_01T00153") -> FGRAMPH1_01T00153 | B20: GO:0009058: biosynthetic process; GO:0016788: hydrolase activity, acting on ester bonds | C20: 0 | D20: 0 | E20: 0 | F20: 53.11284 | G20: 36.51342 | H20: 3.79574 | I20: 59.41728 | K20: 0 | L20: 0 | M20: 4.4336 | N20: 1.7497 | O20: 4.01 | P20: 4.5595 | Q20: -0.4236 | R20: 0.126 | S20: -2.6839 | T20: -2.2604 | V20: 1 | W20: 1 | X20: 1.2e-06 | Y20: 1.14e-05 | Z20: 0.1067 | AA20: 5.997e-07 | AB20: 0.8356 | AC20: 0.958 | AD20: 0.009517 | AE20: 0.03 | AG20: M001101 | AH20: F020
A21: =HYPERLINK("http://fungi.ensembl.org/Fusarium_graminearum/Gene/Summary?g=FGRAMPH1_01T00155","FGRAMPH1_01T00155") -> FGRAMPH1_01T00155 | B21: GO:0016491: oxidoreductase activity; GO:0055114: oxidation-reduction process | C21: 0 | D21: 0 | E21: 0 | F21: 288.49824 | G21: 181.49788 | H21: 17.25394 | I21: 275.55618 | K21: 0 | L21: 0 | M21: 5.7192 | N21: 2.6427 | O21: 5.1799 | P21: 5.6652 | Q21: -0.5393 | R21: -0.054 | S21: -3.0765 | T21: -2.5372 | V21: 1 | W21: 1 | X21: 5.409e-11 | Y21: 2.884e-09 | Z21: 0.006011 | AA21: 9.143e-11 | AB21: 0.7693 | AC21: 0.9857 | AD21: 0.001535 | AE21: 0.01002 | AG21: M001111 | AH21: F020
A22: =HYPERLINK("http://fungi.ensembl.org/Fusarium_graminearum/Gene/Summary?g=FGRAMPH1_01T00157","FGRAMPH1_01T00157") -> FGRAMPH1_01T00157 | B22: GO:0003824: catalytic activity; GO:0003824: catalytic activity; GO:0003824: catalytic activity; GO:0003824: catalytic activity; GO:0003824: catalytic activity; GO:0003824: catalytic activity; GO:0003824: catalytic activity; GO:0003824: catalytic activity; GO:0003824: catalytic activity; GO:0003824: catalytic activity; GO:0003824: catalytic activity; GO:0003824: catalytic activity; GO:0003824: catalytic activity; GO:0003824: catalytic activity; GO:0003824: catalytic activity; GO:0003824: catalytic activity; GO:0003824: catalytic activity; GO:0003824: catalytic activity; GO:0003824: catalytic activity; GO:0003824: catalytic activity; GO:0003824: catalytic activity; GO:0003824: catalytic activity; GO:0003824: catalytic activity; GO:0003824: catalytic activity; GO:0003824: catalytic activity; GO:0004084: branched-chain-amino-acid transaminase activity; GO:0004084: branched-chain-amino-acid transaminase activity; GO:0004084: branched-chain-amino-acid transaminase activity; GO:0004084: branched-chain-amino-acid transaminase activity; GO:0004084: branched-chain-amino-acid transaminase activity; GO:0004084: branched-chain-amino-acid transaminase activity; GO:0004084: branched-chain-amino-acid transaminase activity; GO:0004084: branched-chain-amino-acid transaminase activity; GO:0004084: branched-chain-amino-acid transaminase activity; GO:0004084: branched-chain-amino-acid transaminase activity; GO:0004084: branched-chain-amino-acid transaminase activity; GO:0004084: branched-chain-amino-acid transaminase activity; GO:0004084: branched-chain-amino-acid transaminase activity; GO:0004084: branched-chain-amino-acid transaminase activity; GO:0004084: branched-chain-amino-acid transaminase activity; GO:0004084: branched-chain-amino-acid transaminase activity; GO:0004084: branched-chain-amino-acid transaminase activity; GO:0004084: branched-chain-amino-acid transaminase activity; GO:0004084: branched-chain-amino-acid transaminase activity; GO:0004084: branched-chain-amino-acid transaminase activity; GO:0004084: branched-chain-amino-acid transaminase activity; GO:0004084: branched-chain-amino-acid transaminase activity; GO:0004084: branched-chain-amino-acid transaminase activity; GO:0004084: branched-chain-amino-acid transaminase activity; GO:0004084: branched-chain-amino-acid transaminase activity; GO:0008152: metabolic process; GO:0008152: metabolic process; GO:0008152: metabolic process; GO:0008152: metabolic process; GO:0008152: metabolic process; GO:0008152: metabolic process; GO:0008152: metabolic process; GO:0008152: metabolic process; GO:0008152: metabolic process; GO:0008152: metabolic process; GO:0008152: metabolic process; GO:0008152: metabolic process; GO:0008152: metabolic process; GO:0008152: metabolic process; GO:0008152: metabolic process; GO:0008152: metabolic process; GO:0008152: metabolic process; GO:0008152: metabolic process; GO:0008152: metabolic process; GO:0008152: metabolic process; GO:0008152: metabolic process; GO:0008152: metabolic process; GO:0008152: metabolic process; GO:0008152: metabolic process; GO:0008152: metabolic process; GO:0009081: branched-chain amino acid metabolic process; GO:0009081: branched-chain amino acid metabolic process; GO:0009081: branched-chain amino acid metabolic process; GO:0009081: branched-chain amino acid metabolic process; GO:0009081: branched-chain amino acid metabolic process; GO:0009081: branched-chain amino acid metabolic process; GO:0009081: branched-chain amino acid metabolic process; GO:0009081: branched-chain amino acid metabolic process; GO:0009081: branched-chain amino acid metabolic process; GO:0009081: branched-chain amino acid metabolic process; GO:0009081: branched-chain amino acid metabolic process; GO:0009081: branched-chain amino acid metabolic process; GO:0009081: branched-chain amino acid metabolic process; GO:0009081: branched-chain amino acid metabolic process; GO:0009081: branched-chain amino acid metabolic process; GO:0009081: branched-chain amino acid metabolic process; GO:0009081: branched-chain amino acid metabolic process; GO:0009081: branched-chain amino acid metabolic process; GO:0009081: branched-chain amino acid metabolic process; GO:0009081: branched-chain amino acid metabolic process; GO:0009081: branched-chain amino acid metabolic process; GO:0009081: branched-chain amino acid metabolic process; GO:0009081: branched-chain amino acid metabolic process; GO:0009081: branched-chain amino acid metabolic process; GO:0009081: branched-chain amino acid metabolic process | C22: 0 | D22: 0 | E22: 0 | F22: 279.03994 | G22: 193.92274 | H22: 18.53894 | I22: 309.72242 | K22: 0 | L22: 0 | M22: 5.9214 | N22: 2.8992 | O22: 5.4921 | P22: 6.0448 | Q22: -0.4293 | R22: 0.1234 | S22: -3.0223 | T22: -2.5929 | V22: 1 | W22: 1 | X22: 4.971e-12 | Y22: 1.469e-10 | Z22: 0.001905 | AA22: 1.903e-12 | AB22: 0.8227 | AC22: 0.9567 | AD22: 0.001509 | AE22: 0.006945 | AG22: M001111 | AH22: F020
A23: =HYPERLINK("http://fungi.ensembl.org/Fusarium_graminearum/Gene/Summary?g=FGRAMPH1_01T00167","FGRAMPH1_01T00167") -> FGRAMPH1_01T00167 | C23: 0 | D23: 0 | E23: 0 | F23: 27.52464 | G23: 1.78418 | H23: 2.90426 | I23: 0.62122 | K23: 0 | L23: 0 | M23: 4.4224 | N23: 2.0053 | O23: 1.5597 | P23: 0.8282 | Q23: -2.8627 | R23: -3.5943 | S23: -2.4172 | T23: 0.4456 | V23: 1 | W23: 1 | X23: 2.678e-06 | Y23: 0.1299 | Z23: 0.06494 | AA23: 0.473 | AB23: 0.01091 | AC23: 0.0009547 | AD23: 0.02869 | AE23: 0.7556 | AG23: M001000 | AH23: F002
A24: =HYPERLINK("http://fungi.ensembl.org/Fusarium_graminearum/Gene/Summary?g=FGRAMPH1_01T00195","FGRAMPH1_01T00195") -> FGRAMPH1_01T00195 | C24: 0 | D24: 0.51186 | E24: 0 | F24: 5.6059 | G24: 18.32042 | H24: 3.241 | I24: 17.18184 | K24: 0 | L24: 1.0465 | M24: 3.2819 | N24: 2.5607 | O24: 4.7666 | P24: 4.6831 | Q24: 1.4848 | R24: 1.4012 | S24: -0.7212 | T24: -2.206 | V24: 1 | W24: 0.364 | X24: 0.000107 | Y24: 4.83e-09 | Z24: 0.005902 | AA24: 1.111e-08 | AB24: 0.1275 | AC24: 0.1507 | AD24: 0.5308 | AE24: 0.008115 | AG24: M000101 | AH24: F000
A25: =HYPERLINK("http://fungi.ensembl.org/Fusarium_graminearum/Gene/Summary?g=FGRAMPH1_01T00215","FGRAMPH1_01T00215") -> FGRAMPH1_01T00215 | B25: GO:0005215: transporter activity; GO:0016020: membrane; GO:0016021: integral component of membrane; GO:0022857: transmembrane transporter activity; GO:0022891: substrate-specific transmembrane transporter activity; GO:0055085: transmembrane transport | C25: 0 | D25: 0 | E25: 0 | F25: 1.27672 | G25: 20.17014 | H25: 1.65352 | I25: 23.59932 | K25: 0 | L25: 0 | M25: 1.4239 | N25: 1.6324 | O25: 4.3792 | P25: 4.567 | Q25: 2.9553 | R25: 3.1431 | S25: 0.2085 | T25: -2.7468 | V25: 1 | W25: 1 | X25: 0.1626 | Y25: 1.288e-06 | Z25: 0.1436 | AA25: 4.988e-07 | AB25: 0.004348 | AC25: 0.002705 | AD25: 0.9129 | AE25: 0.005786 | AG25: M000101 | AH25: F101
A26: =HYPERLINK("http://fungi.ensembl.org/Fusarium_graminearum/Gene/Summary?g=FGRAMPH1_01T00223","FGRAMPH1_01T00223") -> FGRAMPH1_01T00223 | B26: GO:0004497: monooxygenase activity; GO:0005506: iron ion binding; GO:0016491: oxidoreductase activity; GO:0016705: oxidoreductase activity, acting on paired donors, with incorporation or reduction of molecular oxygen; GO:0020037: heme binding; GO:0046872: metal ion binding; GO:0055114: oxidation-reduction process | C26: 0.17024 | D26: 0 | E26: 0 | F26: 627.7533 | G26: 521.33822 | H26: 192.96026 | I26: 461.09602 | K26: 0.3315 | L26: 0 | M26: 7.2864 | N26: 5.8463 | O26: 7.0568 | P26: 6.9057 | Q26: -0.2297 | R26: -0.3807 | S26: -1.4401 | T26: -1.2105 | V26: 0.8751 | W26: 1 | X26: 1.814e-20 | Y26: 2.472e-19 | Z26: 3.031e-13 | AA26: 2.372e-18 | AB26: 0.9101 | AC26: 0.8145 | AD26: 0.1474 | AE26: 0.2109 | AG26: M001111 | AH26: F000
A27: =HYPERLINK("http://fungi.ensembl.org/Fusarium_graminearum/Gene/Summary?g=FGRAMPH1_01T00281","FGRAMPH1_01T00281") -> FGRAMPH1_01T00281 | B27: GO:0003824: catalytic activity; GO:0003824: catalytic activity; GO:0003824: catalytic activity; GO:0003824: catalytic activity; GO:0003824: catalytic activity; GO:0003824: catalytic activity; GO:0003824: catalytic activity; GO:0003824: catalytic activity; GO:0003824: catalytic activity; GO:0003824: catalytic activity; GO:0003824: catalytic activity; GO:0003824: catalytic activity; GO:0003824: catalytic activity; GO:0003824: catalytic activity; GO:0003824: catalytic activity; GO:0003824: catalytic activity; GO:0003824: catalytic activity; GO:0003824: catalytic activity; GO:0003824: catalytic activity; GO:0003824: catalytic activity; GO:0003824: catalytic activity; GO:0003824: catalytic activity; GO:0003824: catalytic activity; GO:0003824: catalytic activity; GO:0003824: catalytic activity; GO:0004553: hydrolase activity, hydrolyzing O-glycosyl compounds; GO:0004553: hydrolase activity, hydrolyzing O-glycosyl compounds; GO:0004553: hydrolase activity, hydrolyzing O-glycosyl compounds; GO:0004553: hydrolase activity, hydrolyzing O-glycosyl compounds; GO:0004553: hydrolase activity, hydrolyzing O-glycosyl compounds; GO:0004553: hydrolase activity, hydrolyzing O-glycosyl compounds; GO:0004553: hydrolase activity, hydrolyzing O-glycosyl compounds; GO:0004553: hydrolase activity, hydrolyzing O-glycosyl compounds; GO:0004553: hydrolase activity, hydrolyzing O-glycosyl compounds; GO:0004553: hydrolase activity, hydrolyzing O-glycosyl compounds; GO:0004553: hydrolase activity, hydrolyzing O-glycosyl compounds; GO:0004553: hydrolase activity, hydrolyzing O-glycosyl compounds; GO:0004553: hydrolase activity, hydrolyzing O-glycosyl compounds; GO:0004553: hydrolase activity, hydrolyzing O-glycosyl compounds; GO:0004553: hydrolase activity, hydrolyzing O-glycosyl compounds; GO:0004553: hydrolase activity, hydrolyzing O-glycosyl compounds; GO:0004553: hydrolase activity, hydrolyzing O-glycosyl compounds; GO:0004553: hydrolase activity, hydrolyzing O-glycosyl compounds; GO:0004553: hydrolase activity, hydrolyzing O-glycosyl compounds; GO:0004553: hydrolase activity, hydrolyzing O-glycosyl compounds; GO:0004553: hydrolase activity, hydrolyzing O-glycosyl compounds; GO:0004553: hydrolase activity, hydrolyzing O-glycosyl compounds; GO:0004553: hydrolase activity, hydrolyzing O-glycosyl compounds; GO:0004553: hydrolase activity, hydrolyzing O-glycosyl compounds; GO:0004553: hydrolase activity, hydrolyzing O-glycosyl compounds; GO:0004565: beta-galactosidase activity; GO:0004565: beta-galactosidase activity; GO:0004565: beta-galactosidase activity; GO:0004565: beta-galactosidase activity; GO:0004565: beta-galactosidase activity; GO:0004565: beta-galactosidase activity; GO:0004565: beta-galactosidase activity; GO:0004565: beta-galactosidase activity; GO:0004565: beta-galactosidase activity; GO:0004565: beta-galactosidase activity; GO:0004565: beta-galactosidase activity; GO:0004565: beta-galactosidase activity; GO:0004565: beta-galactosidase activity; GO:0004565: beta-galactosidase activity; GO:0004565: beta-galactosidase activity; GO:0004565: beta-galactosidase activity; GO:0004565: beta-galactosidase activity; GO:0004565: beta-galactosidase activity; GO:0004565: beta-galactosidase activity; GO:0004565: beta-galactosidase activity; GO:0004565: beta-galactosidase activity; GO:0004565: beta-galactosidase activity; GO:0004565: beta-galactosidase activity; GO:0004565: beta-galactosidase activity; GO:0004565: beta-galactosidase activity; GO:0005975: carbohydrate metabolic process; GO:0005975: carbohydrate metabolic process; GO:0005975: carbohydrate metabolic process; GO:0005975: carbohydrate metabolic process; GO:0005975: carbohydrate metabolic process; GO:0005975: carbohydrate metabolic process; GO:0005975: carbohydrate metabolic process; GO:0005975: carbohydrate metabolic process; GO:0005975: carbohydrate metabolic process; GO:0005975: carbohydrate metabolic process; GO:0005975: carbohydrate metabolic process; GO:0005975: carbohydrate metabolic process; GO:0005975: carbohydrate metabolic process; GO:0005975: carbohydrate metabolic process; GO:0005975: carbohydrate metabolic process; GO:0005975: carbohydrate metabolic process; GO:0005975: carbohydrate metabolic process; GO:0005975: carbohydrate metabolic process; GO:0005975: carbohydrate metabolic process; GO:0005975: carbohydrate metabolic process; GO:0005975: carbohydrate metabolic process; GO:0005975: carbohydrate metabolic process; GO:0005975: carbohydrate metabolic process; GO:0005975: carbohydrate metabolic process; GO:0005975: carbohydrate metabolic process; GO:0009341: beta-galactosidase complex; GO:0009341: beta-galactosidase complex; GO:0009341: beta-galactosidase complex; GO:0009341: beta-galactosidase complex; GO:0009341: beta-galactosidase complex; GO:0009341: beta-galactosidase complex; GO:0009341: beta-galactosidase complex; GO:0009341: beta-galactosidase complex; GO:0009341: beta-galactosidase complex; GO:0009341: beta-galactosidase complex; GO:0009341: beta-galactosidase complex; GO:0009341: beta-galactosidase complex; GO:0009341: beta-galactosidase complex; GO:0009341: beta-galactosidase complex; GO:0009341: beta-galactosidase complex; GO:0009341: beta-galactosidase complex; GO:0009341: beta-galactosidase complex; GO:0009341: beta-galactosidase complex; GO:0009341: beta-galactosidase complex; GO:0009341: beta-galactosidase complex; GO:0009341: beta-galactosidase complex; GO:0009341: beta-galactosidase complex; GO:0009341: beta-galactosidase complex; GO:0009341: beta-galactosidase complex; GO:0009341: beta-galactosidase complex; GO:0030246: carbohydrate binding; GO:0030246: carbohydrate binding; GO:0030246: carbohydrate binding; GO:0030246: carbohydrate binding; GO:0030246: carbohydrate binding; GO:0030246: carbohydrate binding; GO:0030246: carbohydrate binding; GO:0030246: carbohydrate binding; GO:0030246: carbohydrate binding; GO:0030246: carbohydrate binding; GO:0030246: carbohydrate binding; GO:0030246: carbohydrate binding; GO:0030246: carbohydrate binding; GO:0030246: carbohydrate binding; GO:0030246: carbohydrate binding; GO:0030246: carbohydrate binding; GO:0030246: carbohydrate binding; GO:0030246: carbohydrate binding; GO:0030246: carbohydrate binding; GO:0030246: carbohydrate binding; GO:0030246: carbohydrate binding; GO:0030246: carbohydrate binding; GO:0030246: carbohydrate binding; GO:0030246: carbohydrate binding; GO:0030246: carbohydrate binding | C27: 0 | D27: 0 | E27: 0 | F27: 4.28458 | G27: 12.55218 | H27: 0.72238 | I27: 13.2276 | K27: 0 | L27: 0 | M27: 3.0747 | N27: 1.2407 | O27: 4.4335 | P27: 4.4951 | Q27: 1.3588 | R27: 1.4204 | S27: -1.8341 | T27: -3.1929 | V27: 1 | W27: 1 | X27: 0.0004811 | Y27: 1.552e-07 | Z27: 0.2953 | AA27: 1.177e-07 | AB27: 0.211 | AC27: 0.1719 | AD27: 0.07462 | AE27: 0.0003429 | AG27: M000101 | AH27: F000
A28: =HYPERLINK("http://fungi.ensembl.org/Fusarium_graminearum/Gene/Summary?g=FGRAMPH1_01T00291","FGRAMPH1_01T00291") -> FGRAMPH1_01T00291 | B28: GO:0003824: catalytic activity; GO:0016491: oxidoreductase activity; GO:0016614: oxidoreductase activity, acting on CH-OH group of donors; GO:0050660: flavin adenine dinucleotide binding; GO:0055114: oxidation-reduction process | C28: 0 | D28: 0 | E28: 0 | F28: 12.12062 | G28: 23.61454 | H28: 8.27308 | I28: 52.75936 | K28: 0 | L28: 0 | M28: 4.3754 | N28: 3.8628 | O28: 5.2634 | P28: 6.3552 | Q28: 0.8881 | R28: 1.9799 | S28: -0.5125 | T28: -1.4006 | V28: 1 | W28: 1 | X28: 4.547e-09 | Y28: 6.948e-13 | Z28: 7.931e-07 | AA28: 2.222e-18 | AB28: 0.2688 | AC28: 0.001241 | AD28: 0.5587 | AE28: 0.0302 | AG28: M001101 | AH28: F001
A29: =HYPERLINK("http://fungi.ensembl.org/Fusarium_graminearum/Gene/Summary?g=FGRAMPH1_01T00293","FGRAMPH1_01T00293") -> FGRAMPH1_01T00293 | C29: 0 | D29: 0 | E29: 0 | F29: 5.41642 | G29: 9.22124 | H29: 5.3819 | I29: 11.7483 | K29: 0 | L29: 0 | M29: 3.6072 | N29: 3.5912 | O29: 4.3356 | P29: 4.6322 | Q29: 0.7284 | R29: 1.0251 | S29: -0.016 | T29: -0.7444 | V29: 1 | W29: 1 | X29: 3.332e-06 | Y29: 1.042e-08 | Z29: 9.152e-06 | AA29: 7.661e-10 | AB29: 0.4033 | AC29: 0.1589 | AD29: 0.9993 | AE29: 0.3021 | AG29: M000001 | AH29: F000
A30: =HYPERLINK("http://fungi.ensembl.org/Fusarium_graminearum/Gene/Summary?g=FGRAMPH1_01T00373","FGRAMPH1_01T00373") -> FGRAMPH1_01T00373 | C30: 0.38852 | D30: 0.25354 | E30: 0 | F30: 7.94738 | G30: 24.3246 | H30: 4.41938 | I30: 28.2404 | K30: 0.6158 | L30: 0.6027 | M30: 3.6793 | N30: 2.9094 | O30: 5.1065 | P30: 5.297 | Q30: 1.4272 | R30: 1.6177 | S30: -0.7699 | T30: -2.1971 | V30: 0.6976 | W30: 0.6629 | X30: 6.444e-06 | Y30: 9.979e-11 | Z30: 0.0009727 | AA30: 2.168e-11 | AB30: 0.1179 | AC30: 0.06215 | AD30: 0.4626 | AE30: 0.004786 | AG30: M000101 | AH30: F000
A31: =HYPERLINK("http://fungi.ensembl.org/Fusarium_graminearum/Gene/Summary?g=FGRAMPH1_01T00379","FGRAMPH1_01T00379") -> FGRAMPH1_01T00379 | B31: GO:0008152: metabolic process; GO:0016491: oxidoreductase activity; GO:0016620: oxidoreductase activity, acting on the aldehyde or oxo group of donors, NAD or NADP as acceptor; GO:0055114: oxidation-reduction process | C31: 0 | D31: 0 | E31: 0 | F31: 2.49544 | G31: 7.28564 | H31: 1.216 | I31: 16.53996 | K31: 0 | L31: 0 | M31: 2.4242 | N31: 1.6514 | O31: 3.6711 | P31: 4.6991 | Q31: 1.2469 | R31: 2.2748 | S31: -0.7728 | T31: -2.0197 | V31: 1 | W31: 1 | X31: 0.008809 | Y31: 2.964e-05 | Z31: 0.1304 | AA31: 5.389e-08 | AB31: 0.3145 | AC31: 0.02174 | AD31: 0.5592 | AE31: 0.03897 | AG31: M000001 | AH31: F000
A32: =HYPERLINK("http://fungi.ensembl.org/Fusarium_graminearum/Gene/Summary?g=FGRAMPH1_01T00381","FGRAMPH1_01T00381") -> FGRAMPH1_01T00381 | B32: GO:0005515: protein binding | C32: 0 | D32: 0 | E32: 0 | F32: 12.76614 | G32: 16.3269 | H32: 5.5411 | I32: 21.48024 | K32: 0 | L32: 0 | M32: 4.3775 | N32: 3.2278 | O32: 4.6837 | P32: 5.0342 | Q32: 0.3062 | R32: 0.6567 | S32: -1.1497 | T32: -1.4559 | V32: 1 | W32: 1 | X32: 3.922e-08 | Y32: 3.111e-09 | Z32: 0.0001757 | AA32: 1.787e-10 | AB32: 0.8352 | AC32: 0.5462 | AD32: 0.1959 | AE32: 0.06991 | AG32: M001101 | AH32: F000
A33: =HYPERLINK("http://fungi.ensembl.org/Fusarium_graminearum/Gene/Summary?g=FGRAMPH1_01T00405","FGRAMPH1_01T00405") -> FGRAMPH1_01T00405 | B33: GO:0008270: zinc ion binding; GO:0016491: oxidoreductase activity | C33: 0 | D33: 0 | E33: 0 | F33: 7.04774 | G33: 14.39532 | H33: 1.23148 | I33: 26.63492 | K33: 0 | L33: 0 | M33: 3.8116 | N33: 1.8263 | O33: 4.7537 | P33: 5.5778 | Q33: 0.9421 | R33: 1.7662 | S33: -1.9854 | T33: -2.9275 | V33: 1 | W33: 1 | X33: 1.933e-06 | Y33: 1.144e-09 | Z33: 0.06778 | AA33: 5.476e-13 | AB33: 0.317 | AC33: 0.01762 | AD33: 0.0185 | AE33: 0.0001305 | AG33: M000101 | AH33: F000
A34: =HYPERLINK("http://fungi.ensembl.org/Fusarium_graminearum/Gene/Summary?g=FGRAMPH1_01T00413","FGRAMPH1_01T00413") -> FGRAMPH1_01T00413 | B34: GO:0005215: transporter activity; GO:0016021: integral component of membrane; GO:0055085: transmembrane transport | C34: 0 | D34: 0.25354 | E34: 0 | F34: 3.6903 | G34: 8.19184 | H34: 1.7255 | I34: 13.92634 | K34: 0 | L34: 0.6356 | M34: 2.8076 | N34: 1.8727 | O34: 3.7615 | P34: 4.4254 | Q34: 0.954 | R34: 1.6179 | S34: -0.9349 | T34: -1.8889 | V34: 1 | W34: 0.654 | X34: 0.001892 | Y34: 1.634e-05 | Z34: 0.07403 | AA34: 3.097e-07 | AB34: 0.4758 | AC34: 0.1298 | AD34: 0.4457 | AE34: 0.05191 | AG34: M000001 | AH34: F000
A35: =HYPERLINK("http://fungi.ensembl.org/Fusarium_graminearum/Gene/Summary?g=FGRAMPH1_01T00455","FGRAMPH1_01T00455") -> FGRAMPH1_01T00455 | B35: GO:0003824: catalytic activity | C35: 0 | D35: 0 | E35: 0 | F35: 4.90116 | G35: 10.29394 | H35: 4.36978 | I35: 18.7853 | K35: 0 | L35: 0 | M35: 2.8845 | N35: 2.7176 | O35: 3.7341 | P35: 4.4515 | Q35: 0.8496 | R35: 1.567 | S35: -0.1669 | T35: -1.0165 | V35: 1 | W35: 1 | X35: 0.001608 | Y35: 2.63e-05 | Z35: 0.005043 | AA35: 4.441e-07 | AB35: 0.5667 | AC35: 0.1719 | AD35: 0.9281 | AE35: 0.3506 | AG35: M000101 | AH35: F000
A36: =HYPERLINK("http://fungi.ensembl.org/Fusarium_graminearum/Gene/Summary?g=FGRAMPH1_01T00457","FGRAMPH1_01T00457") -> FGRAMPH1_01T00457 | B36: GO:0004553: hydrolase activity, hydrolyzing O-glycosyl compounds; GO:0005975: carbohydrate metabolic process | C36: 0 | D36: 0 | E36: 0 | F36: 2.96386 | G36: 8.20898 | H36: 2.21912 | I36: 11.46246 | K36: 0 | L36: 0 | M36: 2.6881 | N36: 2.246 | O36: 3.9235 | P36: 4.3519 | Q36: 1.2354 | R36: 1.6638 | S36: -0.442 | T36: -1.6775 | V36: 1 | W36: 1 | X36: 0.002609 | Y36: 4.06e-06 | Z36: 0.02311 | AA36: 2.762e-07 | AB36: 0.2782 | AC36: 0.09466 | AD36: 0.7502 | AE36: 0.07197 | AG36: M000001 | AH36: F000
A37: =HYPERLINK("http://fungi.ensembl.org/Fusarium_graminearum/Gene/Summary?g=FGRAMPH1_01T00461","FGRAMPH1_01T00461") -> FGRAMPH1_01T00461 | B37: GO:0003735: structural constituent of ribosome; GO:0005840: ribosome; GO:0006412: translation | C37: 0 | D37: 0 | E37: 0 | F37: 4.01476 | G37: 8.52948 | H37: 2.48062 | I37: 15.34752 | K37: 0 | L37: 0 | M37: 3.1382 | N37: 2.5528 | O37: 4.0845 | P37: 4.8738 | Q37: 0.9463 | R37: 1.7356 | S37: -0.5854 | T37: -1.5316 | V37: 1 | W37: 1 | X37: 0.0001816 | Y37: 4.661e-07 | Z37: 0.005809 | AA37: 1.043e-09 | AB37: 0.3724 | AC37: 0.03634 | AD37: 0.6097 | AE37: 0.06853 | AG37: M000001 | AH37: F000
A38: =HYPERLINK("http://fungi.ensembl.org/Fusarium_graminearum/Gene/Summary?g=FGRAMPH1_01T00465","FGRAMPH1_01T00465") -> FGRAMPH1_01T00465 | B38: GO:0000226: microtubule cytoskeleton organization; GO:0000226: microtubule cytoskeleton organization; GO:0003924: GTPase activity; GO:0003924: GTPase activity; GO:0005525: GTP binding; GO:0005525: GTP binding; GO:0005525: GTP binding; GO:0005525: GTP binding; GO:0005634: nucleus; GO:0005634: nucleus; GO:0005829: cytosol; GO:0005829: cytosol; GO:0005886: plasma membrane; GO:0005886: plasma membrane; GO:0005933: cellular bud; GO:0005933: cellular bud; GO:0007264: small GTPase mediated signal transduction; GO:0007264: small GTPase mediated signal transduction; GO:0010590: regulation of cell separation after cytokinesis; GO:0010590: regulation of cell separation after cytokinesis; GO:0030036: actin cytoskeleton organization; GO:0030036: actin cytoskeleton organization; GO:0030950: establishment or maintenance of actin cytoskeleton polarity; GO:0030950: establishment or maintenance of actin cytoskeleton polarity; GO:0032153: cell division site; GO:0032153: cell division site; GO:0045921: positive regulation of exocytosis; GO:0045921: positive regulation of exocytosis; GO:0071963: establishment or maintenance of cell polarity regulating cell shape; GO:0071963: establishment or maintenance of cell polarity regulating cell shape; GO:0090338: positive regulation of formin-nucleated actin cable assembly; GO:0090338: positive regulation of formin-nucleated actin cable assembly | C38: 0 | D38: 0 | E38: 0 | F38: 8.4905 | G38: 14.68114 | H38: 5.48516 | I38: 32.48964 | K38: 0 | L38: 0 | M38: 3.9328 | N38: 3.3248 | O38: 4.6409 | P38: 5.6986 | Q38: 0.708 | R38: 1.7658 | S38: -0.608 | T38: -1.3161 | V38: 1 | W38: 1 | X38: 6.342e-07 | Y38: 2.148e-09 | Z38: 7.741e-05 | AA38: 9.81e-14 | AB38: 0.4997 | AC38: 0.01799 | AD38: 0.5401 | AE38: 0.08495 | AG38: M000101 | AH38: F000
A39: =HYPERLINK("http://fungi.ensembl.org/Fusarium_graminearum/Gene/Summary?g=FGRAMPH1_01T00467","FGRAMPH1_01T00467") -> FGRAMPH1_01T00467 | C39: 0.17024 | D39: 0 | E39: 0 | F39: 4.38682 | G39: 30.78298 | H39: 1.14496 | I39: 10.90348 | K39: 0.5294 | L39: 0 | M39: 2.8289 | N39: 1.4178 | O39: 5.1888 | P39: 3.9207 | Q39: 2.3599 | R39: 1.0918 | S39: -1.4111 | T39: -3.7711 | V39: 0.7636 | W39: 1 | X39: 0.001905 | Y39: 1.626e-09 | Z39: 0.2129 | AA39: 9.577e-06 | AB39: 0.01634 | AC39: 0.388 | AD39: 0.2146 | AE39: 2.64e-05 | AG39: M000101 | AH39: F000
A40: =HYPERLINK("http://fungi.ensembl.org/Fusarium_graminearum/Gene/Summary?g=FGRAMPH1_01T00473","FGRAMPH1_01T00473") -> FGRAMPH1_01T00473 | B40: GO:0004553: hydrolase activity, hydrolyzing O-glycosyl compounds; GO:0005975: carbohydrate metabolic process | C40: 0 | D40: 0 | E40: 0 | F40: 5.71554 | G40: 8.97844 | H40: 5.69398 | I40: 25.36588 | K40: 0 | L40: 0 | M40: 3.2276 | N40: 3.2086 | O40: 3.7706 | P40: 5.0638 | Q40: 0.543 | R40: 1.8362 | S40: -0.019 | T40: -0.562 | V40: 1 | W40: 1 | X40: 0.0002046 | Y40: 9.923e-06 | Z40: 0.0004007 | AA40: 1.424e-09 | AB40: 0.7238 | AC40: 0.05895 | AD40: 1 | AE40: 0.6075 | AG40: M000001 | AH40: F000
A41: =HYPERLINK("http://fungi.ensembl.org/Fusarium_graminearum/Gene/Summary?g=FGRAMPH1_01T00475","FGRAMPH1_01T00475") -> FGRAMPH1_01T00475 | B41: GO:0008080: N-acetyltransferase activity | C41: 0 | D41: 0 | E41: 0 | F41: 5.96852 | G41: 6.9115 | H41: 2.22006 | I41: 15.24194 | K41: 0 | L41: 0 | M41: 3.715 | N41: 2.4804 | O41: 3.8963 | P41: 4.9545 | Q41: 0.1813 | R41: 1.2395 | S41: -1.2346 | T41: -1.4159 | V41: 1 | W41: 1 | X41: 3.278e-06 | Y41: 9.393e-07 | Z41: 0.006742 | AA41: 1.593e-10 | AB41: 0.9088 | AC41: 0.1162 | AD41: 0.1568 | AE41: 0.08063 | AG41: M000001 | AH41: F000
A42: =HYPERLINK("http://fungi.ensembl.org/Fusarium_graminearum/Gene/Summary?g=FGRAMPH1_01T00477","FGRAMPH1_01T00477") -> FGRAMPH1_01T00477 | B42: GO:0004108: citrate (Si)-synthase activity; GO:0005739: mitochondrion; GO:0006099: tricarboxylic acid cycle; GO:0006099: tricarboxylic acid cycle; GO:0019629: propionate catabolic process, 2-methylcitrate cycle; GO:0046912: transferase activity, transferring acyl groups, acyl groups converted into alkyl on transfer; GO:0050440: 2-methylcitrate synthase activity | C42: 0 | D42: 0 | E42: 0 | F42: 50.52084 | G42: 127.3368 | H42: 35.58606 | I42: 202.78028 | K42: 0 | L42: 0 | M42: 5.7316 | N42: 5.2619 | O42: 6.9485 | P42: 7.5658 | Q42: 1.217 | R42: 1.8342 | S42: -0.4696 | T42: -1.6866 | V42: 1 | W42: 1 | X42: 1.877e-15 | Y42: 1.903e-22 | Z42: 8.36e-13 | AA42: 3.405e-26 | AB42: 0.1292 | AC42: 0.009915 | AD42: 0.6173 | AE42: 0.01114 | AG42: M001111 | AH42: F001
A43: =HYPERLINK("http://fungi.ensembl.org/Fusarium_graminearum/Gene/Summary?g=FGRAMPH1_01T00479","FGRAMPH1_01T00479") -> FGRAMPH1_01T00479 | B43: GO:0004451: isocitrate lyase activity; GO:0019752: carboxylic acid metabolic process | C43: 0 | D43: 0 | E43: 0 | F43: 9.8607 | G43: 28.69058 | H43: 6.56512 | I43: 36.96636 | K43: 0 | L43: 0 | M43: 3.9454 | N43: 3.3924 | O43: 5.3154 | P43: 5.6516 | Q43: 1.3699 | R43: 1.7062 | S43: -0.553 | T43: -1.923 | V43: 1 | W43: 1 | X43: 8.528e-07 | Y43: 9.123e-12 | Z43: 6.169e-05 | AA43: 4.253e-13 | AB43: 0.1251 | AC43: 0.03922 | AD43: 0.6085 | AE43: 0.01148 | AG43: M000101 | AH43: F000
A44: =HYPERLINK("http://fungi.ensembl.org/Fusarium_graminearum/Gene/Summary?g=FGRAMPH1_01T00481","FGRAMPH1_01T00481") -> FGRAMPH1_01T00481 | B44: GO:0016491: oxidoreductase activity | C44: 0 | D44: 0 | E44: 0 | F44: 17.85038 | G44: 27.88354 | H44: 9.53858 | I44: 45.98682 | K44: 0 | L44: 0 | M44: 4.6651 | N44: 3.8233 | O44: 5.2413 | P44: 5.8985 | Q44: 0.5762 | R44: 1.2334 | S44: -0.8418 | T44: -1.418 | V44: 1 | W44: 1 | X44: 1.715e-09 | Y44: 7.825e-12 | Z44: 2.641e-06 | AA44: 1.131e-14 | AB44: 0.6196 | AC44: 0.1491 | AD44: 0.3546 | AE44: 0.06202 | AG44: M001101 | AH44: F000
A45: =HYPERLINK("http://fungi.ensembl.org/Fusarium_graminearum/Gene/Summary?g=FGRAMPH1_01T00483","FGRAMPH1_01T00483") -> FGRAMPH1_01T00483 | B45: GO:0003824: catalytic activity; GO:0003824: catalytic activity; GO:0003824: catalytic activity; GO:0003824: catalytic activity; GO:0003824: catalytic activity; GO:0003824: catalytic activity; GO:0003824: catalytic activity; GO:0003824: catalytic activity; GO:0003824: catalytic activity; GO:0003824: catalytic activity; GO:0003824: catalytic activity; GO:0003824: catalytic activity; GO:0003824: catalytic activity; GO:0003824: catalytic activity; GO:0003824: catalytic activity; GO:0003824: catalytic activity; GO:0004356: glutamate-ammonia ligase activity; GO:0004356: glutamate-ammonia ligase activity; GO:0004356: glutamate-ammonia ligase activity; GO:0004356: glutamate-ammonia ligase activity; GO:0004356: glutamate-ammonia ligase activity; GO:0004356: glutamate-ammonia ligase activity; GO:0004356: glutamate-ammonia ligase activity; GO:0004356: glutamate-ammonia ligase activity; GO:0004356: glutamate-ammonia ligase activity; GO:0004356: glutamate-ammonia ligase activity; GO:0004356: glutamate-ammonia ligase activity; GO:0004356: glutamate-ammonia ligase activity; GO:0004356: glutamate-ammonia ligase activity; GO:0004356: glutamate-ammonia ligase activity; GO:0004356: glutamate-ammonia ligase activity; GO:0004356: glutamate-ammonia ligase activity; GO:0006542: glutamine biosynthetic process; GO:0006542: glutamine biosynthetic process; GO:0006542: glutamine biosynthetic process; GO:0006542: glutamine biosynthetic process; GO:0006542: glutamine biosynthetic process; GO:0006542: glutamine biosynthetic process; GO:0006542: glutamine biosynthetic process; GO:0006542: glutamine biosynthetic process; GO:0006542: glutamine biosynthetic process; GO:0006542: glutamine biosynthetic process; GO:0006542: glutamine biosynthetic process; GO:0006542: glutamine biosynthetic process; GO:0006542: glutamine biosynthetic process; GO:0006542: glutamine biosynthetic process; GO:0006542: glutamine biosynthetic process; GO:0006542: glutamine biosynthetic process; GO:0006807: nitrogen compound metabolic process; GO:0006807: nitrogen compound metabolic process; GO:0006807: nitrogen compound metabolic process; GO:0006807: nitrogen compound metabolic process; GO:0006807: nitrogen compound metabolic process; GO:0006807: nitrogen compound metabolic process; GO:0006807: nitrogen compound metabolic process; GO:0006807: nitrogen compound metabolic process; GO:0006807: nitrogen compound metabolic process; GO:0006807: nitrogen compound metabolic process; GO:0006807: nitrogen compound metabolic process; GO:0006807: nitrogen compound metabolic process; GO:0006807: nitrogen compound metabolic process; GO:0006807: nitrogen compound metabolic process; GO:0006807: nitrogen compound metabolic process; GO:0006807: nitrogen compound metabolic process | C45: 0 | D45: 0 | E45: 0 | F45: 9.01184 | G45: 25.71114 | H45: 5.352 | I45: 33.86642 | K45: 0 | L45: 0 | M45: 3.7521 | N45: 3.0627 | O45: 5.0682 | P45: 5.4215 | Q45: 1.3161 | R45: 1.6695 | S45: -0.6894 | T45: -2.0055 | V45: 1 | W45: 1 | X45: 6.075e-06 | Y45: 3.205e-10 | Z45: 0.0005514 | AA45: 1.778e-11 | AB45: 0.1929 | AC45: 0.06878 | AD45: 0.5401 | AE45: 0.01511 | AG45: M000101 | AH45: F000
A46: =HYPERLINK("http://fungi.ensembl.org/Fusarium_graminearum/Gene/Summary?g=FGRAMPH1_01T00499","FGRAMPH1_01T00499") -> FGRAMPH1_01T00499 | B46: GO:0005515: protein binding | C46: 0 | D46: 0 | E46: 0 | F46: 6.1856 | G46: 15.54438 | H46: 4.55454 | I46: 30.817 | K46: 0 | L46: 0 | M46: 3.5825 | N46: 3.2005 | O46: 4.8048 | P46: 5.7219 | Q46: 1.2223 | R46: 2.1394 | S46: -0.382 | T46: -1.6043 | V46: 1 | W46: 1 | X46: 6.186e-06 | Y46: 3.574e-10 | Z46: 0.000148 | AA46: 4.455e-14 | AB46: 0.1364 | AC46: 0.001765 | AD46: 0.7251 | AE46: 0.02563 | AG46: M000101 | AH46: F001
A47: =HYPERLINK("http://fungi.ensembl.org/Fusarium_graminearum/Gene/Summary?g=FGRAMPH1_01T00503","FGRAMPH1_01T00503") -> FGRAMPH1_01T00503 | B47: GO:0004553: hydrolase activity, hydrolyzing O-glycosyl compounds; GO:0005975: carbohydrate metabolic process; GO:0008152: metabolic process; GO:0016787: hydrolase activity; GO:0016798: hydrolase activity, acting on glycosyl bonds; GO:0045493: xylan catabolic process | C47: 0 | D47: 0 | E47: 0 | F47: 2.25084 | G47: 6.4101 | H47: 1.4408 | I47: 15.77924 | K47: 0 | L47: 0 | M47: 2.4222 | N47: 1.9953 | O47: 3.6946 | P47: 4.8655 | Q47: 1.2725 | R47: 2.4434 | S47: -0.4269 | T47: -1.6994 | V47: 1 | W47: 1 | X47: 0.006981 | Y47: 1.295e-05 | Z47: 0.04914 | AA47: 3.974e-09 | AB47: 0.251 | AC47: 0.005312 | AD47: 0.7618 | AE47: 0.06761 | AG47: M000001 | AH47: F001
A48: =HYPERLINK("http://fungi.ensembl.org/Fusarium_graminearum/Gene/Summary?g=FGRAMPH1_01T00507","FGRAMPH1_01T00507") -> FGRAMPH1_01T00507 | B48: GO:0004414: homoserine O-acetyltransferase activity; GO:0004414: homoserine O-acetyltransferase activity; GO:0005737: cytoplasm; GO:0005737: cytoplasm; GO:0009086: methionine biosynthetic process; GO:0009086: methionine biosynthetic process | C48: 0 | D48: 0 | E48: 0.16434 | F48: 3.09312 | G48: 8.99946 | H48: 2.25386 | I48: 11.59752 | K48: -0.0804 | L48: -0.0466 | M48: 2.3916 | N48: 1.9549 | O48: 3.7051 | P48: 4.031 | Q48: 1.3134 | R48: 1.6394 | S48: -0.4367 | T48: -1.7502 | V48: 1 | W48: 1 | X48: 0.006393 | Y48: 7.855e-06 | Z48: 0.04785 | AA48: 1.069e-06 | AB48: 0.2187 | AC48: 0.08897 | AD48: 0.7469 | AE48: 0.0517 | AG48: M000001 | AH48: F000
A49: =HYPERLINK("http://fungi.ensembl.org/Fusarium_graminearum/Gene/Summary?g=FGRAMPH1_01T00513","FGRAMPH1_01T00513") -> FGRAMPH1_01T00513 | B49: GO:0005789: endoplasmic reticulum membrane; GO:0005789: endoplasmic reticulum membrane; GO:0005789: endoplasmic reticulum membrane; GO:0005789: endoplasmic reticulum membrane; GO:0016021: integral component of membrane; GO:0016021: integral component of membrane; GO:0016021: integral component of membrane; GO:0016021: integral component of membrane; GO:0016757: transferase activity, transferring glycosyl groups; GO:0016757: transferase activity, transferring glycosyl groups; GO:0016757: transferase activity, transferring glycosyl groups; GO:0016757: transferase activity, transferring glycosyl groups; GO:0018279: protein N-linked glycosylation via asparagine; GO:0018279: protein N-linked glycosylation via asparagine; GO:0018279: protein N-linked glycosylation via asparagine; GO:0018279: protein N-linked glycosylation via asparagine | C49: 0 | D49: 0.11038 | E49: 0 | F49: 11.81522 | G49: 12.15828 | H49: 6.7264 | I49: 42.65012 | K49: 0 | L49: 0.5312 | M49: 4.2273 | N49: 3.4664 | O49: 4.2548 | P49: 5.8971 | Q49: 0.0275 | R49: 1.6699 | S49: -0.7608 | T49: -0.7883 | V49: 1 | W49: 0.7138 | X49: 9.716e-08 | Y49: 7.533e-08 | Z49: 3.773e-05 | AA49: 2.635e-14 | AB49: 0.9956 | AC49: 0.03823 | AD49: 0.4341 | AE49: 0.3687 | AG49: M001101 | AH49: F000
A50: =HYPERLINK("http://fungi.ensembl.org/Fusarium_graminearum/Gene/Summary?g=FGRAMPH1_01T00515","FGRAMPH1_01T00515") -> FGRAMPH1_01T00515 | C50: 0 | D50: 0 | E50: 0 | F50: 7.48832 | G50: 13.73656 | H50: 7.14722 | I50: 27.69 | K50: 0 | L50: 0 | M50: 3.6022 | N50: 3.5275 | O50: 4.3568 | P50: 5.2563 | Q50: 0.7546 | R50: 1.6541 | S50: -0.0747 | T50: -0.8293 | V50: 1 | W50: 1 | X50: 1.512e-05 | Y50: 9.069e-08 | Z50: 4.507e-05 | AA50: 7.372e-11 | AB50: 0.5406 | AC50: 0.06859 | AD50: 0.9698 | AE50: 0.3752 | AG50: M000101 | AH50: F000
A51: =HYPERLINK("http://fungi.ensembl.org/Fusarium_graminearum/Gene/Summary?g=FGRAMPH1_01T00517","FGRAMPH1_01T00517") -> FGRAMPH1_01T00517 | C51: 0 | D51: 0 | E51: 0 | F51: 4.04714 | G51: 11.77568 | H51: 2.62326 | I51: 19.7778 | K51: 0 | L51: 0 | M51: 3.1151 | N51: 2.5699 | O51: 4.5128 | P51: 5.2001 | Q51: 1.3977 | R51: 2.085 | S51: -0.5452 | T51: -1.9429 | V51: 1 | W51: 1 | X51: 0.0001704 | Y51: 1.151e-08 | Z51: 0.00489 | AA51: 3.168e-11 | AB51: 0.1062 | AC51: 0.006003 | AD51: 0.6302 | AE51: 0.01241 | AG51: M000101 | AH51: F001
A52: =HYPERLINK("http://fungi.ensembl.org/Fusarium_graminearum/Gene/Summary?g=FGRAMPH1_01T00521","FGRAMPH1_01T00521") -> FGRAMPH1_01T00521 | B52: GO:0004252: serine-type endopeptidase activity | C52: 0.3625 | D52: 0.11038 | E52: 0.16434 | F52: 86.97784 | G52: 172.13376 | H52: 61.24536 | I52: 225.9209 | K52: 0.4985 | L52: 0.2586 | M52: 6.2307 | N52: 5.7529 | O52: 7.1461 | P52: 7.512 | Q52: 0.9154 | R52: 1.2813 | S52: -0.4777 | T52: -1.3931 | V52: 0.7304 | W52: 0.9029 | X52: 7.673e-21 | Y52: 2.883e-27 | Z52: 1.702e-17 | AA52: 9.378e-30 | AB52: 0.2326 | AC52: 0.05799 | AD52: 0.5578 | AE52: 0.02047 | AG52: M001111 | AH52: F000
A53: =HYPERLINK("http://fungi.ensembl.org/Fusarium_graminearum/Gene/Summary?g=FGRAMPH1_01T00539","FGRAMPH1_01T00539") -> FGRAMPH1_01T00539 | B53: GO:0016491: oxidoreductase activity; GO:0016614: oxidoreductase activity, acting on CH-OH group of donors; GO:0050660: flavin adenine dinucleotide binding; GO:0055114: oxidation-reduction process | C53: 0.19226 | D53: 0 | E53: 0 | F53: 27.19128 | G53: 60.57986 | H53: 14.92312 | I53: 73.17028 | K53: 0.5568 | L53: 0 | M53: 5.187 | N53: 4.3808 | O53: 6.2522 | P53: 6.5037 | Q53: 1.0652 | R53: 1.3167 | S53: -0.8062 | T53: -1.8714 | V53: 0.7195 | W53: 1 | X53: 1.211e-12 | Y53: 3.918e-18 | Z53: 7.619e-09 | AA53: 2.268e-19 | AB53: 0.1773 | AC53: 0.06906 | AD53: 0.3081 | AE53: 0.00303 | AG53: M001111 | AH53: F000
A54: =HYPERLINK("http://fungi.ensembl.org/Fusarium_graminearum/Gene/Summary?g=FGRAMPH1_01T00541","FGRAMPH1_01T00541") -> FGRAMPH1_01T00541 | C54: 0 | D54: 0 | E54: 0 | F54: 6.0061 | G54: 13.81092 | H54: 7.60522 | I54: 14.84712 | K54: 0 | L54: 0 | M54: 3.517 | N54: 3.7836 | O54: 4.6014 | P54: 4.6841 | Q54: 1.0844 | R54: 1.1671 | S54: 0.2666 | T54: -0.8178 | V54: 1 | W54: 1 | X54: 1.469e-05 | Y54: 5e-09 | Z54: 5.444e-06 | AA54: 2.89e-09 | AB54: 0.2505 | AC54: 0.1885 | AD54: 0.8261 | AE54: 0.3249 | AG54: M000101 | AH54: F000
A55: =HYPERLINK("http://fungi.ensembl.org/Fusarium_graminearum/Gene/Summary?g=FGRAMPH1_01T00559","FGRAMPH1_01T00559") -> FGRAMPH1_01T00559 | C55: 0 | D55: 0 | E55: 0 | F55: 2.85028 | G55: 5.23328 | H55: 2.9032 | I55: 14.80686 | K55: 0 | L55: 0 | M55: 2.7151 | N55: 2.6844 | O55: 3.423 | P55: 4.7823 | Q55: 0.7079 | R55: 2.0672 | S55: -0.0308 | T55: -0.7387 | V55: 1 | W55: 1 | X55: 0.001928 | Y55: 5.501e-05 | Z55: 0.003972 | AA55: 5.614e-09 | AB55: 0.5945 | AC55: 0.0187 | AD55: 0.9947 | AE55: 0.466 | AG55: M000001 | AH55: F000
A56: =HYPERLINK("http://fungi.ensembl.org/Fusarium_graminearum/Gene/Summary?g=FGRAMPH1_01T00587","FGRAMPH1_01T00587") -> FGRAMPH1_01T00587 | B56: GO:0016021: integral component of membrane; GO:0055085: transmembrane transport | C56: 0 | D56: 0 | E56: 0 | F56: 3.31554 | G56: 3.01772 | H56: 1.14496 | I56: 11.92494 | K56: 0 | L56: 0 | M56: 2.6714 | N56: 1.4876 | O56: 2.5382 | P56: 4.1771 | Q56: -0.1332 | R56: 1.5057 | S56: -1.1839 | T56: -1.0506 | V56: 1 | W56: 1 | X56: 0.004483 | Y56: 0.00722 | Z56: 0.1947 | AA56: 3.681e-06 | AB56: 0.9628 | AC56: 0.209 | AD56: 0.3402 | AE56: 0.3685 | AG56: M000001 | AH56: F000
A57: =HYPERLINK("http://fungi.ensembl.org/Fusarium_graminearum/Gene/Summary?g=FGRAMPH1_01T00633","FGRAMPH1_01T00633") -> FGRAMPH1_01T00633 | B57: GO:0016747: transferase activity, transferring acyl groups other than amino-acyl groups | C57: 0 | D57: 0 | E57: 0 | F57: 12.9848 | G57: 34.21382 | H57: 4.59016 | I57: 44.74848 | K57: 0 | L57: 0 | M57: 4.2081 | N57: 2.9071 | O57: 5.4387 | P57: 5.7896 | Q57: 1.2307 | R57: 1.5816 | S57: -1.3009 | T57: -2.5316 | V57: 1 | W57: 1 | X57: 1.778e-07 | Y57: 5.159e-12 | Z57: 0.000968 | AA57: 2.143e-13 | AB57: 0.2078 | AC57: 0.0731 | AD57: 0.1548 | AE57: 0.001032 | AG57: M001101 | AH57: F000
A58: =HYPERLINK("http://fungi.ensembl.org/Fusarium_graminearum/Gene/Summary?g=FGRAMPH1_01T00645","FGRAMPH1_01T00645") -> FGRAMPH1_01T00645 | C58: 0 | D58: 0 | E58: 0 | F58: 5.2399 | G58: 10.40886 | H58: 4.83292 | I58: 17.06306 | K58: 0 | L58: 0 | M58: 3.0946 | N58: 2.9712 | O58: 3.8952 | P58: 4.5077 | Q58: 0.8006 | R58: 1.4131 | S58: -0.1234 | T58: -0.924 | V58: 1 | W58: 1 | X58: 0.0004951 | Y58: 6.804e-06 | Z58: 0.001478 | AA58: 1.593e-07 | AB58: 0.5711 | AC58: 0.2015 | AD58: 0.948 | AE58: 0.3777 | AG58: M000101 | AH58: F000
A59: =HYPERLINK("http://fungi.ensembl.org/Fusarium_graminearum/Gene/Summary?g=FGRAMPH1_01T00657","FGRAMPH1_01T00657") -> FGRAMPH1_01T00657 | C59: 0 | D59: 0 | E59: 0 | F59: 11.13096 | G59: 19.22028 | H59: 6.33992 | I59: 34.49902 | K59: 0 | L59: 0 | M59: 4.1181 | N59: 3.3815 | O59: 4.8133 | P59: 5.5757 | Q59: 0.6952 | R59: 1.4575 | S59: -0.7366 | T59: -1.4319 | V59: 1 | W59: 1 | X59: 2.828e-07 | Y59: 1.063e-09 | Z59: 7.186e-05 | AA59: 1.171e-12 | AB59: 0.5498 | AC59: 0.09295 | AD59: 0.4675 | AE59: 0.07624 | AG59: M001101 | AH59: F000
A60: =HYPERLINK("http://fungi.ensembl.org/Fusarium_graminearum/Gene/Summary?g=FGRAMPH1_01T00671","FGRAMPH1_01T00671") -> FGRAMPH1_01T00671 | B60: GO:0016779: nucleotidyltransferase activity | C60: 0.6066 | D60: 0 | E60: 0.15632 | F60: 9.15264 | G60: 12.98436 | H60: 5.1749 | I60: 26.69458 | K60: 0.5974 | L60: -0.035 | M60: 3.683 | N60: 2.8932 | O60: 4.1295 | P60: 5.088 | Q60: 0.4465 | R60: 1.405 | S60: -0.7898 | T60: -1.2363 | V60: 0.6971 | W60: 1 | X60: 1.677e-06 | Y60: 5.298e-08 | Z60: 0.0005202 | AA60: 1.018e-11 | AB60: 0.7159 | AC60: 0.07437 | AD60: 0.3937 | AE60: 0.1113 | AG60: M000101 | AH60: F000
A61: =HYPERLINK("http://fungi.ensembl.org/Fusarium_graminearum/Gene/Summary?g=FGRAMPH1_01T00697","FGRAMPH1_01T00697") -> FGRAMPH1_01T00697 | B61: GO:0009166: nucleotide catabolic process; GO:0016787: hydrolase activity | C61: 0 | D61: 0 | E61: 0 | F61: 8.82944 | G61: 8.59272 | H61: 2.97386 | I61: 12.76792 | K61: 0 | L61: 0 | M61: 3.7014 | N61: 2.4121 | O61: 3.6593 | P61: 4.1381 | Q61: -0.0421 | R61: 0.4367 | S61: -1.2892 | T61: -1.2471 | V61: 1 | W61: 1 | X61: 2.638e-05 | Y61: 3.133e-05 | Z61: 0.01422 | AA61: 2.27e-06 | AB61: 0.9927 | AC61: 0.7854 | AD61: 0.2403 | AE61: 0.2266 | AG61: M000001 | AH61: F000
A62: =HYPERLINK("http://fungi.ensembl.org/Fusarium_graminearum/Gene/Summary?g=FGRAMPH1_01T00701","FGRAMPH1_01T00701") -> FGRAMPH1_01T00701 | B62: GO:0072546: ER membrane protein complex | C62: 0 | D62: 0 | E62: 0 | F62: 16.94746 | G62: 30.47276 | H62: 11.51704 | I62: 58.14866 | K62: 0 | L62: 0 | M62: 4.6428 | N62: 4.1165 | O62: 5.4137 | P62: 6.2693 | Q62: 0.7709 | R62: 1.6265 | S62: -0.5263 | T62: -1.2972 | V62: 1 | W62: 1 | X62: 8.855e-10 | Y62: 4.316e-13 | Z62: 1.714e-07 | AA62: 3.574e-17 | AB62: 0.4242 | AC62: 0.0266 | AD62: 0.5797 | AE62: 0.06952 | AG62: M001111 | AH62: F000
A63: =HYPERLINK("http://fungi.ensembl.org/Fusarium_graminearum/Gene/Summary?g=FGRAMPH1_01T00705","FGRAMPH1_01T00705") -> FGRAMPH1_01T00705 | C63: 0 | D63: 0 | E63: 0 | F63: 3.681 | G63: 6.37678 | H63: 3.3456 | I63: 12.8917 | K63: 0 | L63: 0 | M63: 3.0317 | N63: 2.8751 | O63: 3.7026 | P63: 4.6386 | Q63: 0.6709 | R63: 1.607 | S63: -0.1566 | T63: -0.8275 | V63: 1 | W63: 1 | X63: 0.0003571 | Y63: 7.639e-06 | Z63: 0.001487 | AA63: 1.001e-08 | AB63: 0.5936 | AC63: 0.06722 | AD63: 0.9192 | AE63: 0.3787 | AG63: M000001 | AH63: F000
A64: =HYPERLINK("http://fungi.ensembl.org/Fusarium_graminearum/Gene/Summary?g=FGRAMPH1_01T00707","FGRAMPH1_01T00707") -> FGRAMPH1_01T00707 | C64: 0 | D64: 0 | E64: 0 | F64: 4.14692 | G64: 5.28604 | H64: 2.254 | I64: 14.01502 | K64: 0 | L64: 0 | M64: 3.0997 | N64: 2.3183 | O64: 3.3931 | P64: 4.6442 | Q64: 0.2934 | R64: 1.5445 | S64: -0.7814 | T64: -1.0748 | V64: 1 | W64: 1 | X64: 0.0003668 | Y64: 8.01e-05 | Z64: 0.01749 | AA64: 2.681e-08 | AB64: 0.8709 | AC64: 0.1132 | AD64: 0.5084 | AE64: 0.2808 | AG64: M000001 | AH64: F000
A65: =HYPERLINK("http://fungi.ensembl.org/Fusarium_graminearum/Gene/Summary?g=FGRAMPH1_01T00719","FGRAMPH1_01T00719") -> FGRAMPH1_01T00719 | B65: GO:0004514: nicotinate-nucleotide diphosphorylase (carboxylating) activity; GO:0009435: NAD biosynthetic process; GO:0016874: ligase activity | C65: 0 | D65: 0 | E65: 0 | F65: 6.68474 | G65: 13.52194 | H65: 3.92616 | I65: 24.02882 | K65: 0 | L65: 0 | M65: 3.602 | N65: 2.9006 | O65: 4.4949 | P65: 5.2439 | Q65: 0.8928 | R65: 1.6418 | S65: -0.7015 | T65: -1.5943 | V65: 1 | W65: 1 | X65: 1.228e-05 | Y65: 2.219e-08 | Z65: 0.00115 | AA65: 4.648e-11 | AB65: 0.4131 | AC65: 0.05497 | AD65: 0.5141 | AE65: 0.05333 | AG65: M000101 | AH65: F000
A66: =HYPERLINK("http://fungi.ensembl.org/Fusarium_graminearum/Gene/Summary?g=FGRAMPH1_01T00721","FGRAMPH1_01T00721") -> FGRAMPH1_01T00721 | B66: GO:0005515: protein binding | C66: 0 | D66: 0 | E66: 0 | F66: 3.02482 | G66: 6.74828 | H66: 5.1193 | I66: 20.87966 | K66: 0 | L66: 0 | M66: 2.758 | N66: 3.3854 | O66: 3.7686 | P66: 5.2627 | Q66: 1.0105 | R66: 2.5047 | S66: 0.6274 | T66: -0.3831 | V66: 1 | W66: 1 | X66: 0.001149 | Y66: 3.523e-06 | Z66: 8.165e-05 | AA66: 2.271e-11 | AB66: 0.3364 | AC66: 0.0008579 | AD66: 0.5575 | AE66: 0.7022 | AG66: M000001 | AH66: F001
A67: =HYPERLINK("http://fungi.ensembl.org/Fusarium_graminearum/Gene/Summary?g=FGRAMPH1_01T00729","FGRAMPH1_01T00729") -> FGRAMPH1_01T00729 | C67: 0 | D67: 0.11038 | E67: 0.16434 | F67: 14.31738 | G67: 29.40756 | H67: 14.00916 | I67: 39.59676 | K67: -0.0205 | L67: 0.2431 | M67: 4.2853 | N67: 4.231 | O67: 5.2676 | P67: 5.6751 | Q67: 0.9823 | R67: 1.3898 | S67: -0.0543 | T67: -1.0366 | V67: 1 | W67: 0.9251 | X67: 8.496e-10 | Y67: 1.478e-14 | Z67: 3.749e-09 | AA67: 1.079e-16 | AB67: 0.1428 | AC67: 0.01936 | AD67: 0.968 | AE67: 0.0779 | AG67: M001111 | AH67: F000
A68: =HYPERLINK("http://fungi.ensembl.org/Fusarium_graminearum/Gene/Summary?g=FGRAMPH1_01T00743","FGRAMPH1_01T00743") -> FGRAMPH1_01T00743 | C68: 0 | D68: 0 | E68: 0 | F68: 6.2554 | G68: 6.32746 | H68: 3.21754 | I68: 17.01584 | K68: 0 | L68: 0 | M68: 3.5717 | N68: 2.7085 | O68: 3.5677 | P68: 4.8341 | Q68: -0.004 | R68: 1.2624 | S68: -0.8632 | T68: -0.8592 | V68: 1 | W68: 1 | X68: 2.26e-05 | Y68: 2.294e-05 | Z68: 0.003444 | AA68: 3.754e-09 | AB68: 1 | AC68: 0.1968 | AD68: 0.4239 | AE68: 0.3819 | AG68: M000001 | AH68: F000
A69: =HYPERLINK("http://fungi.ensembl.org/Fusarium_graminearum/Gene/Summary?g=FGRAMPH1_01T00745","FGRAMPH1_01T00745") -> FGRAMPH1_01T00745 | C69: 0 | D69: 0.20074 | E69: 0 | F69: 6.57298 | G69: 16.38576 | H69: 3.8732 | I69: 18.20924 | K69: 0 | L69: 0.6054 | M69: 3.5692 | N69: 2.8583 | O69: 4.7423 | P69: 4.8774 | Q69: 1.1731 | R69: 1.3083 | S69: -0.7109 | T69: -1.8841 | V69: 1 | W69: 0.6643 | X69: 1.447e-05 | Y69: 2.811e-09 | Z69: 0.001381 | AA69: 1.073e-09 | AB69: 0.2294 | AC69: 0.1518 | AD69: 0.5069 | AE69: 0.01839 | AG69: M000101 | AH69: F000
A70: =HYPERLINK("http://fungi.ensembl.org/Fusarium_graminearum/Gene/Summary?g=FGRAMPH1_01T00747","FGRAMPH1_01T00747") -> FGRAMPH1_01T00747 | B70: GO:0004076: biotin synthase activity; GO:0009102: biotin biosynthetic process; GO:0051536: iron-sulfur cluster binding | C70: 0 | D70: 0 | E70: 0 | F70: 39.43104 | G70: 85.82076 | H70: 17.11432 | I70: 121.79148 | K70: 0 | L70: 0 | M70: 5.7197 | N70: 4.5819 | O70: 6.7717 | P70: 7.2479 | Q70: 1.052 | R70: 1.5281 | S70: -1.1378 | T70: -2.1898 | V70: 1 | W70: 1 | X70: 2.422e-16 | Y70: 9.991e-23 | Z70: 2.712e-10 | AA70: 1.087e-25 | AB70: 0.1182 | AC70: 0.01125 | AD70: 0.07136 | AE70: 5.698e-05 | AG70: M001111 | AH70: F000
A71: =HYPERLINK("http://fungi.ensembl.org/Fusarium_graminearum/Gene/Summary?g=FGRAMPH1_01T00749","FGRAMPH1_01T00749") -> FGRAMPH1_01T00749 | C71: 0 | D71: 0 | E71: 0 | F71: 4.78242 | G71: 9.63836 | H71: 3.04448 | I71: 10.26932 | K71: 0 | L71: 0 | M71: 3.1197 | N71: 2.5503 | O71: 3.9576 | P71: 4.0384 | Q71: 0.8379 | R71: 0.9187 | S71: -0.5695 | T71: -1.4073 | V71: 1 | W71: 1 | X71: 0.0004302 | Y71: 4.425e-06 | Z71: 0.008251 | AA71: 3.125e-06 | AB71: 0.5363 | AC71: 0.4615 | AD71: 0.6643 | AE71: 0.1478 | AG71: M000001 | AH71: F000
A72: =HYPERLINK("http://fungi.ensembl.org/Fusarium_graminearum/Gene/Summary?g=FGRAMPH1_01T00755","FGRAMPH1_01T00755") -> FGRAMPH1_01T00755 | B72: GO:0000077: DNA damage checkpoint; GO:0005634: nucleus | C72: 0 | D72: 0 | E72: 0 | F72: 5.61238 | G72: 8.87466 | H72: 2.53618 | I72: 17.70248 | K72: 0 | L72: 0 | M72: 3.2681 | N72: 2.3479 | O72: 3.8095 | P72: 4.6696 | Q72: 0.5414 | R72: 1.4015 | S72: -0.9202 | T72: -1.4616 | V72: 1 | W72: 1 | X72: 0.0002033 | Y72: 1.033e-05 | Z72: 0.01669 | AA72: 4.404e-08 | AB72: 0.7309 | AC72: 0.1933 | AD72: 0.4339 | AE72: 0.134 | AG72: M000001 | AH72: F000
A73: =HYPERLINK("http://fungi.ensembl.org/Fusarium_graminearum/Gene/Summary?g=FGRAMPH1_01T00765","FGRAMPH1_01T00765") -> FGRAMPH1_01T00765 | C73: 0 | D73: 0 | E73: 0 | F73: 3.59928 | G73: 7.09668 | H73: 2.67542 | I73: 15.62532 | K73: 0 | L73: 0 | M73: 2.8125 | N73: 2.3934 | O73: 3.604 | P73: 4.5915 | Q73: 0.7916 | R73: 1.7791 | S73: -0.4191 | T73: -1.2107 | V73: 1 | W73: 1 | X73: 0.001755 | Y73: 3.571e-05 | Z73: 0.01475 | AA73: 8.39e-08 | AB73: 0.5746 | AC73: 0.08131 | AD73: 0.7701 | AE73: 0.232 | AG73: M000001 | AH73: F000
A74: =HYPERLINK("http://fungi.ensembl.org/Fusarium_graminearum/Gene/Summary?g=FGRAMPH1_01T00769","FGRAMPH1_01T00769") -> FGRAMPH1_01T00769 | C74: 0.17024 | D74: 0 | E74: 0 | F74: 5.75148 | G74: 10.92924 | H74: 4.46358 | I74: 14.67682 | K74: 0.5907 | L74: 0 | M74: 3.4486 | N74: 3.098 | O74: 4.2727 | P74: 4.6642 | Q74: 0.8241 | R74: 1.2156 | S74: -0.3506 | T74: -1.1747 | V74: 0.7176 | W74: 1 | X74: 3.169e-05 | Y74: 1.243e-07 | Z74: 0.0004399 | AA74: 6.794e-09 | AB74: 0.4649 | AC74: 0.1938 | AD74: 0.7787 | AE74: 0.1694 | AG74: M000101 | AH74: F000
A75: =HYPERLINK("http://fungi.ensembl.org/Fusarium_graminearum/Gene/Summary?g=FGRAMPH1_01T00771","FGRAMPH1_01T00771") -> FGRAMPH1_01T00771 | B75: GO:0003743: translation initiation factor activity; GO:0005737: cytoplasm | C75: 0.38454 | D75: 0 | E75: 0 | F75: 16.70276 | G75: 21.20514 | H75: 12.19462 | I75: 63.97024 | K75: 0.8308 | L75: 0 | M75: 4.6742 | N75: 4.2473 | O75: 4.9834 | P75: 6.4653 | Q75: 0.3092 | R75: 1.7911 | S75: -0.427 | T75: -0.7361 | V75: 0.528 | W75: 1 | X75: 3.111e-10 | Y75: 1.442e-11 | Z75: 3.437e-08 | AA75: 6.907e-19 | AB75: 0.7997 | AC75: 0.006895 | AD75: 0.645 | AE75: 0.3188 | AG75: M001111 | AH75: F001
A76: =HYPERLINK("http://fungi.ensembl.org/Fusarium_graminearum/Gene/Summary?g=FGRAMPH1_01T00775","FGRAMPH1_01T00775") -> FGRAMPH1_01T00775 | C76: 0 | D76: 0 | E76: 0 | F76: 4.0399 | G76: 14.89632 | H76: 5.41332 | I76: 21.5966 | K76: 0 | L76: 0 | M76: 3.0931 | N76: 3.4289 | O76: 4.8023 | P76: 5.2977 | Q76: 1.7092 | R76: 2.2046 | S76: 0.3358 | T76: -1.3734 | V76: 1 | W76: 1 | X76: 0.0001434 | Y76: 4.438e-10 | Z76: 4.108e-05 | AA76: 4.641e-12 | AB76: 0.02263 | AC76: 0.001765 | AD76: 0.7672 | AE76: 0.05944 | AG76: M000101 | AH76: F001
A77: =HYPERLINK("http://fungi.ensembl.org/Fusarium_graminearum/Gene/Summary?g=FGRAMPH1_01T00779","FGRAMPH1_01T00779") -> FGRAMPH1_01T00779 | B77: GO:0000285: 1-phosphatidylinositol-3-phosphate 5-kinase activity; GO:0000750: pheromone-dependent signal transduction involved in conjugation with cellular fusion; GO:0005524: ATP binding; GO:0006995: cellular response to nitrogen starvation; GO:0046872: metal ion binding | C77: 0 | D77: 0 | E77: 0 | F77: 5.60546 | G77: 18.63056 | H77: 3.9934 | I77: 20.4703 | K77: 0 | L77: 0 | M77: 3.4595 | N77: 2.9536 | O77: 5.0431 | P77: 5.1742 | Q77: 1.5835 | R77: 1.7146 | S77: -0.506 | T77: -2.0895 | V77: 1 | W77: 1 | X77: 1.826e-05 | Y77: 7.155e-11 | Z77: 0.0006949 | AA77: 2.491e-11 | AB77: 0.04259 | AC77: 0.02543 | AD77: 0.639 | AE77: 0.003888 | AG77: M000101 | AH77: F000
A78: =HYPERLINK("http://fungi.ensembl.org/Fusarium_graminearum/Gene/Summary?g=FGRAMPH1_01T00785","FGRAMPH1_01T00785") -> FGRAMPH1_01T00785 | B78: GO:0005488: binding | C78: 0.19226 | D78: 0 | E78: 0.16904 | F78: 3.4035 | G78: 4.45598 | H78: 3.27536 | I78: 22.83512 | K78: 0.2576 | L78: -0.0493 | M78: 2.5025 | N78: 2.4704 | O78: 2.8005 | P78: 4.9255 | Q78: 0.298 | R78: 2.423 | S78: -0.0321 | T78: -0.3301 | V78: 0.9409 | W78: 1 | X78: 0.003389 | Y78: 0.0008867 | Z78: 0.006799 | AA78: 5.337e-10 | AB78: 0.8629 | AC78: 0.003043 | AD78: 0.9935 | AE78: 0.7725 | AG78: M000001 | AH78: F001
A79: =HYPERLINK("http://fungi.ensembl.org/Fusarium_graminearum/Gene/Summary?g=FGRAMPH1_01T00787","FGRAMPH1_01T00787") -> FGRAMPH1_01T00787 | B79: GO:0008017: microtubule binding | C79: 0 | D79: 0 | E79: 0 | F79: 6.3955 | G79: 5.88832 | H79: 4.04786 | I79: 16.15468 | K79: 0 | L79: 0 | M79: 3.3216 | N79: 2.7511 | O79: 3.2165 | P79: 4.4309 | Q79: -0.1051 | R79: 1.1093 | S79: -0.5705 | T79: -0.4654 | V79: 1 | W79: 1 | X79: 0.0001967 | Y79: 0.0003164 | Z79: 0.004137 | AA79: 3.732e-07 | AB79: 0.97 | AC79: 0.3658 | AD79: 0.6715 | AE79: 0.7049 | AG79: M000001 | AH79: F000
A80: =HYPERLINK("http://fungi.ensembl.org/Fusarium_graminearum/Gene/Summary?g=FGRAMPH1_01T00793","FGRAMPH1_01T00793") -> FGRAMPH1_01T00793 | B80: GO:0004794: L-threonine ammonia-lyase activity; GO:0004794: L-threonine ammonia-lyase activity; GO:0004794: L-threonine ammonia-lyase activity; GO:0004794: L-threonine ammonia-lyase activity; GO:0009097: isoleucine biosynthetic process; GO:0009097: isoleucine biosynthetic process; GO:0009097: isoleucine biosynthetic process; GO:0009097: isoleucine biosynthetic process; GO:0030170: pyridoxal phosphate binding; GO:0030170: pyridoxal phosphate binding; GO:0030170: pyridoxal phosphate binding; GO:0030170: pyridoxal phosphate binding | C80: 0 | D80: 0 | E80: 0 | F80: 10.74376 | G80: 18.06618 | H80: 6.57548 | I80: 28.852 | K80: 0 | L80: 0 | M80: 4.0932 | N80: 3.4579 | O80: 4.7545 | P80: 5.3623 | Q80: 0.6613 | R80: 1.2691 | S80: -0.6352 | T80: -1.2965 | V80: 1 | W80: 1 | X80: 3.492e-07 | Y80: 1.826e-09 | Z80: 4.673e-05 | AA80: 9.576e-12 | AB80: 0.5766 | AC80: 0.1592 | AD80: 0.5446 | AE80: 0.1125 | AG80: M001101 | AH80: F000
A81: =HYPERLINK("http://fungi.ensembl.org/Fusarium_graminearum/Gene/Summary?g=FGRAMPH1_01T00795","FGRAMPH1_01T00795") -> FGRAMPH1_01T00795 | B81: GO:0005515: protein binding; GO:0005634: nucleus; GO:0008270: zinc ion binding; GO:0016568: | C81: 0 | D81: 0 | E81: 0 | F81: 2.90064 | G81: 4.45444 | H81: 2.39152 | I81: 12.30118 | K81: 0 | L81: 0 | M81: 2.7397 | N81: 2.4624 | O81: 3.2405 | P81: 4.5463 | Q81: 0.5008 | R81: 1.8066 | S81: -0.2773 | T81: -0.7781 | V81: 1 | W81: 1 | X81: 0.001878 | Y81: 0.0001704 | Z81: 0.01023 | AA81: 4.593e-08 | AB81: 0.7453 | AC81: 0.05268 | AD81: 0.8514 | AE81: 0.4552 | AG81: M000001 | AH81: F000
A82: =HYPERLINK("http://fungi.ensembl.org/Fusarium_graminearum/Gene/Summary?g=FGRAMPH1_01T00797","FGRAMPH1_01T00797") -> FGRAMPH1_01T00797 | B82: GO:0006486: protein glycosylation; GO:0016765: transferase activity, transferring alkyl or aryl (other than methyl) groups | C82: 0 | D82: 0 | E82: 0 | F82: 3.61382 | G82: 8.34988 | H82: 1.58382 | I82: 19.48042 | K82: 0 | L82: 0 | M82: 2.8088 | N82: 1.9715 | O82: 3.8081 | P82: 4.8757 | Q82: 0.9993 | R82: 2.0669 | S82: -0.8373 | T82: -1.8366 | V82: 1 | W82: 1 | X82: 0.001757 | Y82: 1.086e-05 | Z82: 0.05535 | AA82: 1.024e-08 | AB82: 0.4375 | AC82: 0.03404 | AD82: 0.4999 | AE82: 0.0555 | AG82: M000001 | AH82: F000
A83: =HYPERLINK("http://fungi.ensembl.org/Fusarium_graminearum/Gene/Summary?g=FGRAMPH1_01T00801","FGRAMPH1_01T00801") -> FGRAMPH1_01T00801 | C83: 0 | D83: 0 | E83: 0 | F83: 20.71728 | G83: 38.72632 | H83: 11.37946 | I83: 77.00202 | K83: 0 | L83: 0 | M83: 4.8589 | N83: 4.067 | O83: 5.6799 | P83: 6.5954 | Q83: 0.821 | R83: 1.7365 | S83: -0.7919 | T83: -1.6129 | V83: 1 | W83: 1 | X83: 9.034e-11 | Y83: 1.635e-14 | Z83: 2.08e-07 | AA83: 3.807e-19 | AB83: 0.3782 | AC83: 0.01526 | AD83: 0.3504 | AE83: 0.01878 | AG83: M001111 | AH83: F000
A84: =HYPERLINK("http://fungi.ensembl.org/Fusarium_graminearum/Gene/Summary?g=FGRAMPH1_01T00803","FGRAMPH1_01T00803") -> FGRAMPH1_01T00803 | B84: GO:0015986: ATP synthesis coupled proton transport; GO:0016020: membrane; GO:0046933: proton-transporting ATP synthase activity, rotational mechanism | C84: 0 | D84: 0 | E84: 0 | F84: 27.23736 | G84: 45.0163 | H84: 21.25594 | I84: 91.3 | K84: 0 | L84: 0 | M84: 5.0953 | N84: 4.7595 | O84: 5.7509 | P84: 6.6852 | Q84: 0.6556 | R84: 1.5899 | S84: -0.3358 | T84: -0.9914 | V84: 1 | W84: 1 | X84: 8.882e-12 | Y84: 7.438e-15 | Z84: 4.947e-10 | AA84: 1.26e-19 | AB84: 0.5295 | AC84: 0.0353 | AD84: 0.7492 | AE84: 0.1846 | AG84: M001111 | AH84: F000
A85: =HYPERLINK("http://fungi.ensembl.org/Fusarium_graminearum/Gene/Summary?g=FGRAMPH1_01T00805","FGRAMPH1_01T00805") -> FGRAMPH1_01T00805 | B85: GO:0005634: nucleus; GO:0005816: spindle pole body; GO:0005829: cytosol; GO:0005935: cellular bud neck; GO:0006468: protein phosphorylation; GO:0019207: kinase regulator activity; GO:0030295: protein kinase activator activity; GO:0031031: positive regulation of septation initiation signaling; GO:0031097: medial cortex; GO:0032153: cell division site; GO:0034613: cellular protein localization; GO:0034973: Sid2-Mob1 complex; GO:0044732: mitotic spindle pole body | C85: 0 | D85: 0 | E85: 0 | F85: 2.27878 | G85: 3.9872 | H85: 1.62036 | I85: 11.27804 | K85: 0 | L85: 0 | M85: 2.4929 | N85: 1.9922 | O85: 3.1798 | P85: 4.5224 | Q85: 0.6869 | R85: 2.0295 | S85: -0.5007 | T85: -1.1876 | V85: 1 | W85: 1 | X85: 0.005178 | Y85: 0.0002243 | Z85: 0.04962 | AA85: 4.656e-08 | AB85: 0.6234 | AC85: 0.02546 | AD85: 0.7113 | AE85: 0.2342 | AG85: M000001 | AH85: F000
A86: =HYPERLINK("http://fungi.ensembl.org/Fusarium_graminearum/Gene/Summary?g=FGRAMPH1_01T00811","FGRAMPH1_01T00811") -> FGRAMPH1_01T00811 | B86: GO:0005525: GTP binding; GO:0005525: GTP binding; GO:0005622: intracellular; GO:0005622: intracellular; GO:0007264: small GTPase mediated signal transduction; GO:0007264: small GTPase mediated signal transduction | C86: 0 | D86: 0 | E86: 0 | F86: 4.18476 | G86: 8.86946 | H86: 3.07546 | I86: 21.69866 | K86: 0 | L86: 0 | M86: 2.9971 | N86: 2.6405 | O86: 3.9024 | P86: 5.0378 | Q86: 0.9053 | R86: 2.0407 | S86: -0.3566 | T86: -1.2619 | V86: 1 | W86: 1 | X86: 0.0006016 | Y86: 4.03e-06 | Z86: 0.005064 | AA86: 1.38e-09 | AB86: 0.4718 | AC86: 0.02711 | AD86: 0.7987 | AE86: 0.1836 | AG86: M000001 | AH86: F000
A87: =HYPERLINK("http://fungi.ensembl.org/Fusarium_graminearum/Gene/Summary?g=FGRAMPH1_01T00813","FGRAMPH1_01T00813") -> FGRAMPH1_01T00813 | B87: GO:0000774: adenyl-nucleotide exchange factor activity; GO:0006457: protein folding; GO:0042803: protein homodimerization activity; GO:0051087: chaperone binding | C87: 0 | D87: 0 | E87: 0 | F87: 3.36496 | G87: 3.72018 | H87: 2.25322 | I87: 17.42584 | K87: 0 | L87: 0 | M87: 3.0497 | N87: 2.559 | O87: 3.1692 | P87: 5.2609 | Q87: 0.1196 | R87: 2.2112 | S87: -0.4907 | T87: -0.6102 | V87: 1 | W87: 1 | X87: 0.0001928 | Y87: 0.0001056 | Z87: 0.00478 | AA87: 5.613e-12 | AB87: 0.9519 | AC87: 0.001248 | AD87: 0.6613 | AE87: 0.5237 | AG87: M000001 | AH87: F001
A88: =HYPERLINK("http://fungi.ensembl.org/Fusarium_graminearum/Gene/Summary?g=FGRAMPH1_01T00815","FGRAMPH1_01T00815") -> FGRAMPH1_01T00815 | B88: GO:0005515: protein binding | C88: 0 | D88: 0 | E88: 0 | F88: 14.33956 | G88: 25.34206 | H88: 6.1749 | I88: 52.86576 | K88: 0 | L88: 0 | M88: 4.5216 | N88: 3.4091 | O88: 5.2688 | P88: 6.252 | Q88: 0.7472 | R88: 1.7304 | S88: -1.1124 | T88: -1.8596 | V88: 1 | W88: 1 | X88: 2.893e-09 | Y88: 2.231e-12 | Z88: 3.079e-05 | AA88: 5.107e-17 | AB88: 0.4345 | AC88: 0.01448 | AD88: 0.1629 | AE88: 0.006954 | AG88: M001101 | AH88: F000
A89: =HYPERLINK("http://fungi.ensembl.org/Fusarium_graminearum/Gene/Summary?g=FGRAMPH1_01T00821","FGRAMPH1_01T00821") -> FGRAMPH1_01T00821 | B89: GO:0006810: transport; GO:0016021: integral component of membrane | C89: 0 | D89: 0 | E89: 0 | F89: 24.79472 | G89: 51.5579 | H89: 15.27634 | I89: 69.08622 | K89: 0 | L89: 0 | M89: 5.2131 | N89: 4.5276 | O89: 6.204 | P89: 6.6024 | Q89: 0.9909 | R89: 1.3893 | S89: -0.6854 | T89: -1.6764 | V89: 1 | W89: 1 | X89: 2.143e-13 | Y89: 8.613e-19 | Z89: 7.709e-10 | AA89: 5.286e-21 | AB89: 0.1489 | AC89: 0.02331 | AD89: 0.3402 | AE89: 0.002947 | AG89: M001111 | AH89: F000
A90: =HYPERLINK("http://fungi.ensembl.org/Fusarium_graminearum/Gene/Summary?g=FGRAMPH1_01T00823","FGRAMPH1_01T00823") -> FGRAMPH1_01T00823 | C90: 0 | D90: 0 | E90: 0 | F90: 27.30772 | G90: 54.87792 | H90: 26.266 | I90: 105.82832 | K90: 0 | L90: 0 | M90: 5.1388 | N90: 5.072 | O90: 6.0638 | P90: 6.9408 | Q90: 0.925 | R90: 1.802 | S90: -0.0668 | T90: -0.9918 | V90: 1 | W90: 1 | X90: 1.832e-12 | Y90: 3.776e-17 | Z90: 8.155e-12 | AA90: 4.938e-22 | AB90: 0.2741 | AC90: 0.007878 | AD90: 0.9638 | AE90: 0.1516 | AG90: M001111 | AH90: F001
A91: =HYPERLINK("http://fungi.ensembl.org/Fusarium_graminearum/Gene/Summary?g=FGRAMPH1_01T00833","FGRAMPH1_01T00833") -> FGRAMPH1_01T00833 | B91: GO:0005975: carbohydrate metabolic process | C91: 0.17024 | D91: 0 | E91: 0 | F91: 48.16288 | G91: 83.62332 | H91: 32.40738 | I91: 194.92342 | K91: 0.5354 | L91: 0 | M91: 5.8079 | N91: 5.2722 | O91: 6.543 | P91: 7.6803 | Q91: 0.7351 | R91: 1.8723 | S91: -0.5357 | T91: -1.2708 | V91: 0.7243 | W91: 1 | X91: 1.592e-16 | Y91: 7.475e-21 | Z91: 2.273e-13 | AA91: 3.446e-28 | AB91: 0.3959 | AC91: 0.003227 | AD91: 0.5168 | AE91: 0.04532 | AG91: M001111 | AH91: F001
A92: =HYPERLINK("http://fungi.ensembl.org/Fusarium_graminearum/Gene/Summary?g=FGRAMPH1_01T00839","FGRAMPH1_01T00839") -> FGRAMPH1_01T00839 | B92: GO:0008270: zinc ion binding; GO:0016020: membrane; GO:0016021: integral component of membrane | C92: 0 | D92: 0 | E92: 0 | F92: 4.48266 | G92: 9.9217 | H92: 5.93474 | I92: 12.59952 | K92: 0 | L92: 0 | M92: 2.8792 | N92: 3.1408 | O92: 3.817 | P92: 4.1108 | Q92: 0.9377 | R92: 1.2316 | S92: 0.2615 | T92: -0.6762 | V92: 1 | W92: 1 | X92: 0.001456 | Y92: 1.316e-05 | Z92: 0.0007723 | AA92: 2.731e-06 | AB92: 0.4964 | AC92: 0.3033 | AD92: 0.8696 | AE92: 0.5479 | AG92: M000001 | AH92: F000
A93: =HYPERLINK("http://fungi.ensembl.org/Fusarium_graminearum/Gene/Summary?g=FGRAMPH1_01T00841","FGRAMPH1_01T00841") -> FGRAMPH1_01T00841 | B93: GO:0005515: protein binding | C93: 0 | D93: 0 | E93: 0 | F93: 7.32202 | G93: 14.0277 | H93: 5.77796 | I93: 27.73474 | K93: 0 | L93: 0 | M93: 3.6196 | N93: 3.2762 | O93: 4.4354 | P93: 5.319 | Q93: 0.8158 | R93: 1.6994 | S93: -0.3434 | T93: -1.1592 | V93: 1 | W93: 1 | X93: 1.233e-05 | Y93: 4.27e-08 | Z93: 0.0001736 | AA93: 3.244e-11 | AB93: 0.4865 | AC93: 0.05345 | AD93: 0.7873 | AE93: 0.1844 | AG93: M000101 | AH93: F000
A94: =HYPERLINK("http://fungi.ensembl.org/Fusarium_graminearum/Gene/Summary?g=FGRAMPH1_01T00843","FGRAMPH1_01T00843") -> FGRAMPH1_01T00843 | C94: 0 | D94: 0 | E94: 0 | F94: 2.9459 | G94: 9.65956 | H94: 1.81082 | I94: 11.49358 | K94: 0 | L94: 0 | M94: 2.6251 | N94: 2.0994 | O94: 4.072 | P94: 4.2991 | Q94: 1.4469 | R94: 1.6739 | S94: -0.5258 | T94: -1.9727 | V94: 1 | W94: 1 | X94: 0.003659 | Y94: 1.983e-06 | Z94: 0.038 | AA94: 5.228e-07 | AB94: 0.1902 | AC94: 0.1033 | AD94: 0.7017 | AE94: 0.03401 | AG94: M000001 | AH94: F000
A95: =HYPERLINK("http://fungi.ensembl.org/Fusarium_graminearum/Gene/Summary?g=FGRAMPH1_01T00847","FGRAMPH1_01T00847") -> FGRAMPH1_01T00847 | B95: GO:0016491: oxidoreductase activity | C95: 0 | D95: 0 | E95: 0.15632 | F95: 13.62354 | G95: 24.60106 | H95: 7.60376 | I95: 29.3759 | K95: -0.0349 | L95: -0.027 | M95: 4.1293 | N95: 3.337 | O95: 4.9067 | P95: 5.141 | Q95: 0.7773 | R95: 1.0117 | S95: -0.7924 | T95: -1.5697 | V95: 1 | W95: 1 | X95: 4.58e-08 | Y95: 3.942e-11 | Z95: 3.284e-05 | AA95: 4.63e-12 | AB95: 0.4302 | AC95: 0.2397 | AD95: 0.3741 | AE95: 0.02933 | AG95: M001101 | AH95: F000
A96: =HYPERLINK("http://fungi.ensembl.org/Fusarium_graminearum/Gene/Summary?g=FGRAMPH1_01T00853","FGRAMPH1_01T00853") -> FGRAMPH1_01T00853 | B96: GO:0008612: peptidyl-lysine modification to peptidyl-hypusine; GO:0016740: transferase activity; GO:0034038: deoxyhypusine synthase activity; GO:0050983: obsolete deoxyhypusine biosynthetic process from spermidine | C96: 0 | D96: 0 | E96: 0 | F96: 1.86108 | G96: 4.3167 | H96: 1.5132 | I96: 11.59156 | K96: 0 | L96: 0 | M96: 2.1279 | N96: 2.0099 | O96: 3.0992 | P96: 4.3224 | Q96: 0.9713 | R96: 2.1945 | S96: -0.1179 | T96: -1.0893 | V96: 1 | W96: 1 | X96: 0.02432 | Y96: 0.0005629 | Z96: 0.05294 | AA96: 7.147e-07 | AB96: 0.4879 | AC96: 0.03117 | AD96: 0.9548 | AE96: 0.3145 | AG96: M000001 | AH96: F000
A97: =HYPERLINK("http://fungi.ensembl.org/Fusarium_graminearum/Gene/Summary?g=FGRAMPH1_01T00855","FGRAMPH1_01T00855") -> FGRAMPH1_01T00855 | C97: 0 | D97: 0 | E97: 0 | F97: 5.0259 | G97: 16.17686 | H97: 4.06798 | I97: 22.07006 | K97: 0 | L97: 0 | M97: 3.11 | N97: 2.8325 | O97: 4.5353 | P97: 4.9241 | Q97: 1.4253 | R97: 1.8141 | S97: -0.2775 | T97: -1.7028 | V97: 1 | W97: 1 | X97: 0.0003411 | Y97: 5.394e-08 | Z97: 0.002179 | AA97: 3.437e-09 | AB97: 0.1791 | AC97: 0.05937 | AD97: 0.85 | AE97: 0.05773 | AG97: M000101 | AH97: F000
A98: =HYPERLINK("http://fungi.ensembl.org/Fusarium_graminearum/Gene/Summary?g=FGRAMPH1_01T00861","FGRAMPH1_01T00861") -> FGRAMPH1_01T00861 | B98: GO:0003677: DNA binding; GO:0003689: DNA clamp loader activity; GO:0005524: ATP binding; GO:0005663: DNA replication factor C complex; GO:0006260: DNA replication; GO:0006281: DNA repair | C98: 0 | D98: 0 | E98: 0 | F98: 4.0775 | G98: 8.52982 | H98: 3.1861 | I98: 18.65602 | K98: 0 | L98: 0 | M98: 3.1811 | N98: 2.8655 | O98: 4.1347 | P98: 5.1821 | Q98: 0.9536 | R98: 2.001 | S98: -0.3156 | T98: -1.2691 | V98: 1 | W98: 1 | X98: 0.0001019 | Y98: 1.703e-07 | Z98: 0.001158 | AA98: 2.222e-11 | AB98: 0.3248 | AC98: 0.006174 | AD98: 0.7947 | AE98: 0.1108 | AG98: M000001 | AH98: F001
A99: =HYPERLINK("http://fungi.ensembl.org/Fusarium_graminearum/Gene/Summary?g=FGRAMPH1_01T00863","FGRAMPH1_01T00863") -> FGRAMPH1_01T00863 | B99: GO:0003735: structural constituent of ribosome; GO:0005840: ribosome; GO:0006412: translation; GO:0019843: rRNA binding | C99: 0 | D99: 0 | E99: 0 | F99: 10.95628 | G99: 14.83252 | H99: 5.99864 | I99: 41.16372 | K99: 0 | L99: 0 | M99: 4.2156 | N99: 3.4031 | O99: 4.6104 | P99: 5.9673 | Q99: 0.3948 | R99: 1.7518 | S99: -0.8125 | T99: -1.2073 | V99: 1 | W99: 1 | X99: 6.38e-08 | Y99: 2.328e-09 | Z99: 4.335e-05 | AA99: 4.017e-15 | AB99: 0.7552 | AC99: 0.01752 | AD99: 0.3681 | AE99: 0.1157 | AG99: M001101 | AH99: F000
A100: =HYPERLINK("http://fungi.ensembl.org/Fusarium_graminearum/Gene/Summary?g=FGRAMPH1_01T00867","FGRAMPH1_01T00867") -> FGRAMPH1_01T00867 | B100: GO:0003987: acetate-CoA ligase activity; GO:0003987: acetate-CoA ligase activity; GO:0003987: acetate-CoA ligase activity; GO:0003987: acetate-CoA ligase activity; GO:0003987: acetate-CoA ligase activity; GO:0003987: acetate-CoA ligase activity; GO:0003987: acetate-CoA ligase activity; GO:0003987: acetate-CoA ligase activity; GO:0003987: acetate-CoA ligase activity; GO:0003987: acetate-CoA ligase activity; GO:0003987: acetate-CoA ligase activity; GO:0003987: acetate-CoA ligase activity; GO:0003987: acetate-CoA ligase activity; GO:0003987: acetate-CoA ligase activity; GO:0003987: acetate-CoA ligase activity; GO:0003987: acetate-CoA ligase activity; GO:0003987: acetate-CoA ligase activity; GO:0003987: acetate-CoA ligase activity; GO:0003987: acetate-CoA ligase activity; GO:0003987: acetate-CoA ligase activity; GO:0003987: acetate-CoA ligase activity; GO:0003987: acetate-CoA ligase activity; GO:0003987: acetate-CoA ligase activity; GO:0003987: acetate-CoA ligase activity; GO:0003987: acetate-CoA ligase activity; GO:0005524: ATP binding; GO:0005524: ATP binding; GO:0005524: ATP binding; GO:0005524: ATP binding; GO:0005524: ATP binding; GO:0005524: ATP binding; GO:0005524: ATP binding; GO:0005524: ATP binding; GO:0005524: ATP binding; GO:0005524: ATP binding; GO:0005524: ATP binding; GO:0005524: ATP binding; GO:0005524: ATP binding; GO:0005524: ATP binding; GO:0005524: ATP binding; GO:0005524: ATP binding; GO:0005524: ATP binding; GO:0005524: ATP binding; GO:0005524: ATP binding; GO:0005524: ATP binding; GO:0005524: ATP binding; GO:0005524: ATP binding; GO:0005524: ATP binding; GO:0005524: ATP binding; GO:0005524: ATP binding; GO:0016208: AMP binding; GO:0016208: AMP binding; GO:0016208: AMP binding; GO:0016208: AMP binding; GO:0016208: AMP binding; GO:0016208: AMP binding; GO:0016208: AMP binding; GO:0016208: AMP binding; GO:0016208: AMP binding; GO:0016208: AMP binding; GO:0016208: AMP binding; GO:0016208: AMP binding; GO:0016208: AMP binding; GO:0016208: AMP binding; GO:0016208: AMP binding; GO:0016208: AMP binding; GO:0016208: AMP binding; GO:0016208: AMP binding; GO:0016208: AMP binding; GO:0016208: AMP binding; GO:0016208: AMP binding; GO:0016208: AMP binding; GO:0016208: AMP binding; GO:0016208: AMP binding; GO:0016208: AMP binding; GO:0019427: acetyl-CoA biosynthetic process from acetate; GO:0019427: acetyl-CoA biosynthetic process from acetate; GO:0019427: acetyl-CoA biosynthetic process from acetate; GO:0019427: acetyl-CoA biosynthetic process from acetate; GO:0019427: acetyl-CoA biosynthetic process from acetate; GO:0019427: acetyl-CoA biosynthetic process from acetate; GO:0019427: acetyl-CoA biosynthetic process from acetate; GO:0019427: acetyl-CoA biosynthetic process from acetate; GO:0019427: acetyl-CoA biosynthetic process from acetate; GO:0019427: acetyl-CoA biosynthetic process from acetate; GO:0019427: acetyl-CoA biosynthetic process from acetate; GO:0019427: acetyl-CoA biosynthetic process from acetate; GO:0019427: acetyl-CoA biosynthetic process from acetate; GO:0019427: acetyl-CoA biosynthetic process from acetate; GO:0019427: acetyl-CoA biosynthetic process from acetate; GO:0019427: acetyl-CoA biosynthetic process from acetate; GO:0019427: acetyl-CoA biosynthetic process from acetate; GO:0019427: acetyl-CoA biosynthetic process from acetate; GO:0019427: acetyl-CoA biosynthetic process from acetate; GO:0019427: acetyl-CoA biosynthetic process from acetate; GO:0019427: acetyl-CoA biosynthetic process from acetate; GO:0019427: acetyl-CoA biosynthetic process from acetate; GO:0019427: acetyl-CoA biosynthetic process from acetate; GO:0019427: acetyl-CoA biosynthetic process from acetate; GO:0019427: acetyl-CoA biosynthetic process from acetate | C100: 0.19226 | D100: 0 | E100: 0 | F100: 26.95072 | G100: 58.58714 | H100: 26.14918 | I100: 43.83582 | K100: 0.5584 | L100: 0 | M100: 5.1878 | N100: 5.1264 | O100: 6.2235 | P100: 5.8302 | Q100: 1.0357 | R100: 0.6423 | S100: -0.0614 | T100: -1.0971 | V100: 0.7183 | W100: 1 | X100: 1.015e-12 | Y100: 4.394e-18 | Z100: 4.379e-12 | AA100: 8.307e-16 | AB100: 0.1873 | AC100: 0.4729 | AD100: 0.967 | AE100: 0.09827 | AG100: M001111 | AH100: F000
...

Sheet DEFE stats
A1: Frequency of each Differential Expression Feature Extraction (DEFE) pattern
A3: M(ABA/MT, GA/MT, Fg/MT, Fg+ABA/MT, Fg+AS6/MT, Fg+GA/MT) | D3: F(Fg+ABA_vs_Fg, Fg+AS6_vs_Fg, Fg+GA_vs_Fg)
A4: M000000 | B4: =COUNTIF('Fg DEGs'!AG$4:AG$4875,A4) -> 0 | D4: F000 | E4: =COUNTIF('Fg DEGs'!AH$4:AH$4875,D4) -> 3902
A5: M000001 | B5: =COUNTIF('Fg DEGs'!AG$4:AG$4875,A5) -> 1589 | D5: F001 | E5: =COUNTIF('Fg DEGs'!AH$4:AH$4875,D5) -> 856
A6: M000010 | B6: =COUNTIF('Fg DEGs'!AG$4:AG$4875,A6) -> 6 | D6: F002 | E6: =COUNTIF('Fg DEGs'!AH$4:AH$4875,D6) -> 1
A7: M000011 | B7: =COUNTIF('Fg DEGs'!AG$4:AG$4875,A7) -> 10 | D7: F010 | E7: =COUNTIF('Fg DEGs'!AH$4:AH$4875,D7) -> 6
A8: M000100 | B8: =COUNTIF('Fg DEGs'!AG$4:AG$4875,A8) -> 40 | D8: F011 | E8: =COUNTIF('Fg DEGs'!AH$4:AH$4875,D8) -> 2
A9: M000101 | B9: =COUNTIF('Fg DEGs'!AG$4:AG$4875,A9) -> 1315 | D9: F012 | E9: =COUNTIF('Fg DEGs'!AH$4:AH$4875,D9) -> 0
A10: M000110 | B10: =COUNTIF('Fg DEGs'!AG$4:AG$4875,A10) -> 4 | D10: F020 | E10: =COUNTIF('Fg DEGs'!AH$4:AH$4875,D10) -> 24
A11: M000111 | B11: =COUNTIF('Fg DEGs'!AG$4:AG$4875,A11) -> 72 | D11: F021 | E11: =COUNTIF('Fg DEGs'!AH$4:AH$4875,D11) -> 2
A12: M001000 | B12: =COUNTIF('Fg DEGs'!AG$4:AG$4875,A12) -> 5 | D12: F022 | E12: =COUNTIF('Fg DEGs'!AH$4:AH$4875,D12) -> 0
A13: M001001 | B13: =COUNTIF('Fg DEGs'!AG$4:AG$4875,A13) -> 18 | D13: F100 | E13: =COUNTIF('Fg DEGs'!AH$4:AH$4875,D13) -> 39
A14: M001011 | B14: =COUNTIF('Fg DEGs'!AG$4:AG$4875,A14) -> 1 | D14: F101 | E14: =COUNTIF('Fg DEGs'!AH$4:AH$4875,D14) -> 31
A15: M001101 | B15: =COUNTIF('Fg DEGs'!AG$4:AG$4875,A15) -> 647 | D15: F102 | E15: =COUNTIF('Fg DEGs'!AH$4:AH$4875,D15) -> 0
A16: M001111 | B16: =COUNTIF('Fg DEGs'!AG$4:AG$4875,A16) -> 1165 | D16: F110 | E16: =COUNTIF('Fg DEGs'!AH$4:AH$4875,D16) -> 3
D17: F111 | E17: =COUNTIF('Fg DEGs'!AH$4:AH$4875,D17) -> 6
