Workbook
Name A_TAIR: #REF!
Name A_TAIR: #REF!
Name A_TAIR_2: #REF!
Name A_TAIR_2: #REF!
Name aa: #REF!
Name aa: #REF!
Name ARA: #REF!
Name ARA: #REF!
Name B_TAIR: #REF!
Name B_TAIR: #REF!
Name B_TAIR_2: #REF!
Name B_TAIR_2: #REF!
Name bb: #REF!
Name bb: #REF!
Name BP: #REF!
Name BP: #REF!
Name D_TAIR: #REF!
Name D_TAIR: #REF!
Name D_TAIR_2: #REF!
Name D_TAIR_2: #REF!
Name list: #REF!
Name list: #REF!
Name list: #REF!
Name list_B_A: #REF!
Name list_B_A: #REF!
Name list_D_A: #REF!
Name list_D_A: #REF!
Name list1: #REF!
Name list1: #REF!
Name list11: #REF!
Name list11: #REF!
Name list111: #REF!
Name list111: #REF!
Name list2: #REF!
Name list2: #REF!
Name list22: #REF!
Name list22: #REF!
Name list3: #REF!
Name list3: #REF!
Name list33: #REF!
Name list33: #REF!
Name list4: #REF!
Name list4: #REF!
Name list5: #REF!
Name list5: #REF!
Name list6: #REF!
Name list6: #REF!
Name list7: #REF!
Name list7: #REF!
Name list8: #REF!
Name list8: #REF!
Name list9: #REF!
Name list9: #REF!
Name TAB: #REF!
Name TAB: #REF!
Name Tair: #REF!
Name Tair: #REF!
Name TAIR10: #REF!
Name TAIR10: #REF!
Name wheat: #REF!

Sheet Fg_DEGs
A1: Additional File 7: twenty-six Fg genes expressed in wheat host (condition Fg), but suppressed in condition Fg+AS6.
C2: mean count | K2: log2FoldChange | V2: padj
A3: Gene stable ID | B3: GO term accession:name | C3: ABA | D3: GA | E3: MT | F3: Fg | G3: Fg+ABA | H3: Fg+AS6 | I3: Fg+GA | K3: ABA /MT | L3: GA /MT | M3: Fg /MT | N3: Fg+AS6 /MT | O3: Fg+ABA /MT | P3: Fg+GA /MT | Q3: Fg+ABA /Fg | R3: Fg+GA /Fg | S3: Fg+AS6 /FHB | T3: Fg+AS /Fg+ABA | V3: ABA /MT | W3: GA /MT | X3: Fg /MT | Y3: Fg+AS6 /MT | Z3: Fg+ABA /MT | AA3: Fg+GA /MT | AB3: Fg+ABA /Fg | AC3: Fg+GA /Fg | AD3: Fg+AS6 /FHB | AE3: Fg+AS /Fg+ABA | AG3: M(ABA/MT, GA/MT, Fg/MT, Fg+ABA/MT, Fg+AS6/T, Fg+GA/MT) | AH3: F(Fg+ABA/Fg, Fg+AS6/Fg, Fg+GA/Fg)
A4: =HYPERLINK("http://fungi.ensembl.org/Fusarium_graminearum/Gene/Summary?g=FGRAMPH1_01T00127","FGRAMPH1_01T00127") -> FGRAMPH1_01T00127 | B4: GO:0003824: catalytic activity; GO:0008152: metabolic process; GO:0016740: transferase activity | C4: 0 | D4: 0 | E4: 0 | F4: 260.63764 | G4: 167.75552 | H4: 15.87644 | I4: 227.90098 | K4: 0 | L4: 0 | M4: 6.0369 | N4: 2.8954 | O4: 5.5141 | P4: 5.8768 | Q4: -0.5227 | R4: -0.1601 | S4: -3.1415 | T4: -2.6187 | V4: 1 | W4: 1 | X4: 1.525e-12 | Y4: 1.06e-10 | Z4: 0.001877 | AA4: 6.815e-12 | AB4: 0.7705 | AC4: 0.9395 | AD4: 0.0008221 | AE4: 0.005933 | AG4: M001111 | AH4: F020
A5: =HYPERLINK("http://fungi.ensembl.org/Fusarium_graminearum/Gene/Summary?g=FGRAMPH1_01T00129","FGRAMPH1_01T00129") -> FGRAMPH1_01T00129 | B5: GO:0004497: monooxygenase activity; GO:0005506: iron ion binding; GO:0016491: oxidoreductase activity; GO:0016705: oxidoreductase activity, acting on paired donors, with incorporation or reduction of molecular oxygen; GO:0020037: heme binding; GO:0046872: metal ion binding; GO:0055114: oxidation-reduction process | C5: 0 | D5: 0 | E5: 0 | F5: 145.46818 | G5: 93.9761 | H5: 8.5576 | I5: 140.61872 | K5: 0 | L5: 0 | M5: 5.409 | N5: 2.3349 | O5: 4.9 | P5: 5.3689 | Q5: -0.5089 | R5: -0.04 | S5: -3.0741 | T5: -2.5651 | V5: 1 | W5: 1 | X5: 7.082e-10 | Y5: 2.376e-08 | Z5: 0.01822 | AA5: 1.033e-09 | AB5: 0.7837 | AC5: 0.9907 | AD5: 0.001543 | AE5: 0.009105 | AG5: M001101 | AH5: F020
A6: =HYPERLINK("http://fungi.ensembl.org/Fusarium_graminearum/Gene/Summary?g=FGRAMPH1_01T00131","FGRAMPH1_01T00131") -> FGRAMPH1_01T00131 | B6: GO:0003824: catalytic activity; GO:0003824: catalytic activity; GO:0004312: fatty acid synthase activity; GO:0004312: fatty acid synthase activity; GO:0004318: enoyl-[acyl-carrier-protein] reductase (NADH) activity; GO:0004318: enoyl-[acyl-carrier-protein] reductase (NADH) activity; GO:0005835: fatty acid synthase complex; GO:0005835: fatty acid synthase complex; GO:0006633: fatty acid biosynthetic process; GO:0006633: fatty acid biosynthetic process; GO:0008152: metabolic process; GO:0008152: metabolic process; GO:0016740: transferase activity; GO:0016740: transferase activity; GO:0055114: oxidation-reduction process; GO:0055114: oxidation-reduction process | C6: 0 | D6: 0 | E6: 0 | F6: 98.37976 | G6: 46.29566 | H6: 2.59694 | I6: 75.83892 | K6: 0 | L6: 0 | M6: 4.9356 | N6: 1.3443 | O6: 4.0839 | P6: 4.6381 | Q6: -0.8516 | R6: -0.2975 | S6: -3.5913 | T6: -2.7396 | V6: 1 | W6: 1 | X6: 5.477e-08 | Y6: 7.8e-06 | Z6: 0.2483 | AA6: 3.829e-07 | AB6: 0.6058 | AC6: 0.8837 | AD6: 0.0002803 | AE6: 0.007022 | AG6: M001101 | AH6: F020
A7: =HYPERLINK("http://fungi.ensembl.org/Fusarium_graminearum/Gene/Summary?g=FGRAMPH1_01T00143","FGRAMPH1_01T00143") -> FGRAMPH1_01T00143 | B7: GO:0003824: catalytic activity; GO:0008152: metabolic process; GO:0031177: phosphopantetheine binding | C7: 0 | D7: 0 | E7: 0 | F7: 65.68952 | G7: 54.75236 | H7: 3.79644 | I7: 53.82698 | K7: 0 | L7: 0 | M7: 5.2988 | N7: 2.1379 | O7: 5.0771 | P7: 5.0587 | Q7: -0.2217 | R7: -0.2401 | S7: -3.161 | T7: -2.9392 | V7: 1 | W7: 1 | X7: 7.37e-10 | Y7: 3.38e-09 | Z7: 0.03153 | AA7: 4.867e-09 | AB7: 0.9208 | AC7: 0.8999 | AD7: 0.0006569 | AE7: 0.001481 | AG7: M001101 | AH7: F020
A8: =HYPERLINK("http://fungi.ensembl.org/Fusarium_graminearum/Gene/Summary?g=FGRAMPH1_01T00145","FGRAMPH1_01T00145") -> FGRAMPH1_01T00145 | B8: GO:0016491: oxidoreductase activity; GO:0055114: oxidation-reduction process | C8: 0 | D8: 0 | E8: 0 | F8: 255.3803 | G8: 186.70818 | H8: 12.03718 | I8: 255.04682 | K8: 0 | L8: 0 | M8: 5.7414 | N8: 2.4231 | O8: 5.3742 | P8: 5.7395 | Q8: -0.3672 | R8: -0.0018 | S8: -3.3184 | T8: -2.9512 | V8: 1 | W8: 1 | X8: 3.925e-11 | Y8: 5.97e-10 | Z8: 0.01279 | AA8: 4.371e-11 | AB8: 0.858 | AC8: 1 | AD8: 0.0005082 | AE8: 0.002053 | AG8: M001101 | AH8: F020
A9: =HYPERLINK("http://fungi.ensembl.org/Fusarium_graminearum/Gene/Summary?g=FGRAMPH1_01T00147","FGRAMPH1_01T00147") -> FGRAMPH1_01T00147 | C9: 0 | D9: 0 | E9: 0 | F9: 121.71986 | G9: 82.6833 | H9: 8.66868 | I9: 132.03918 | K9: 0 | L9: 0 | M9: 5.2832 | N9: 2.4116 | O9: 4.8329 | P9: 5.3778 | Q9: -0.4503 | R9: 0.0947 | S9: -2.8716 | T9: -2.4213 | V9: 1 | W9: 1 | X9: 1.776e-09 | Y9: 3.68e-08 | Z9: 0.01412 | AA9: 9.413e-10 | AB9: 0.8152 | AC9: 0.9702 | AD9: 0.003399 | AE9: 0.01449 | AG9: M001101 | AH9: F020
A10: =HYPERLINK("http://fungi.ensembl.org/Fusarium_graminearum/Gene/Summary?g=FGRAMPH1_01T00151","FGRAMPH1_01T00151") -> FGRAMPH1_01T00151 | B10: GO:0005524: ATP binding; GO:0006810: transport; GO:0016021: integral component of membrane; GO:0016887: ATPase activity; GO:0042626: ATPase activity, coupled to transmembrane movement of substances; GO:0055085: transmembrane transport | C10: 0 | D10: 0 | E10: 0 | F10: 187.84698 | G10: 115.0813 | H10: 13.42888 | I10: 179.22132 | K10: 0 | L10: 0 | M10: 5.6368 | N10: 2.7217 | O10: 5.0637 | P10: 5.5812 | Q10: -0.5732 | R10: -0.0557 | S10: -2.9151 | T10: -2.3419 | V10: 1 | W10: 1 | X10: 8.414e-11 | Y10: 5.637e-09 | Z10: 0.004326 | AA10: 1.433e-10 | AB10: 0.7479 | AC10: 0.9851 | AD10: 0.002613 | AE10: 0.01756 | AG10: M001111 | AH10: F020
A11: =HYPERLINK("http://fungi.ensembl.org/Fusarium_graminearum/Gene/Summary?g=FGRAMPH1_01T00153","FGRAMPH1_01T00153") -> FGRAMPH1_01T00153 | B11: GO:0009058: biosynthetic process; GO:0016788: hydrolase activity, acting on ester bonds | C11: 0 | D11: 0 | E11: 0 | F11: 53.11284 | G11: 36.51342 | H11: 3.79574 | I11: 59.41728 | K11: 0 | L11: 0 | M11: 4.4336 | N11: 1.7497 | O11: 4.01 | P11: 4.5595 | Q11: -0.4236 | R11: 0.126 | S11: -2.6839 | T11: -2.2604 | V11: 1 | W11: 1 | X11: 1.2e-06 | Y11: 1.14e-05 | Z11: 0.1067 | AA11: 5.997e-07 | AB11: 0.8356 | AC11: 0.958 | AD11: 0.009517 | AE11: 0.03 | AG11: M001101 | AH11: F020
A12: =HYPERLINK("http://fungi.ensembl.org/Fusarium_graminearum/Gene/Summary?g=FGRAMPH1_01T00155","FGRAMPH1_01T00155") -> FGRAMPH1_01T00155 | B12: GO:0016491: oxidoreductase activity; GO:0055114: oxidation-reduction process | C12: 0 | D12: 0 | E12: 0 | F12: 288.49824 | G12: 181.49788 | H12: 17.25394 | I12: 275.55618 | K12: 0 | L12: 0 | M12: 5.7192 | N12: 2.6427 | O12: 5.1799 | P12: 5.6652 | Q12: -0.5393 | R12: -0.054 | S12: -3.0765 | T12: -2.5372 | V12: 1 | W12: 1 | X12: 5.409e-11 | Y12: 2.884e-09 | Z12: 0.006011 | AA12: 9.143e-11 | AB12: 0.7693 | AC12: 0.9857 | AD12: 0.001535 | AE12: 0.01002 | AG12: M001111 | AH12: F020
A13: =HYPERLINK("http://fungi.ensembl.org/Fusarium_graminearum/Gene/Summary?g=FGRAMPH1_01T00157","FGRAMPH1_01T00157") -> FGRAMPH1_01T00157 | B13: GO:0003824: catalytic activity; GO:0003824: catalytic activity; GO:0003824: catalytic activity; GO:0003824: catalytic activity; GO:0003824: catalytic activity; GO:0003824: catalytic activity; GO:0003824: catalytic activity; GO:0003824: catalytic activity; GO:0003824: catalytic activity; GO:0003824: catalytic activity; GO:0003824: catalytic activity; GO:0003824: catalytic activity; GO:0003824: catalytic activity; GO:0003824: catalytic activity; GO:0003824: catalytic activity; GO:0003824: catalytic activity; GO:0003824: catalytic activity; GO:0003824: catalytic activity; GO:0003824: catalytic activity; GO:0003824: catalytic activity; GO:0003824: catalytic activity; GO:0003824: catalytic activity; GO:0003824: catalytic activity; GO:0003824: catalytic activity; GO:0003824: catalytic activity; GO:0004084: branched-chain-amino-acid transaminase activity; GO:0004084: branched-chain-amino-acid transaminase activity; GO:0004084: branched-chain-amino-acid transaminase activity; GO:0004084: branched-chain-amino-acid transaminase activity; GO:0004084: branched-chain-amino-acid transaminase activity; GO:0004084: branched-chain-amino-acid transaminase activity; GO:0004084: branched-chain-amino-acid transaminase activity; GO:0004084: branched-chain-amino-acid transaminase activity; GO:0004084: branched-chain-amino-acid transaminase activity; GO:0004084: branched-chain-amino-acid transaminase activity; GO:0004084: branched-chain-amino-acid transaminase activity; GO:0004084: branched-chain-amino-acid transaminase activity; GO:0004084: branched-chain-amino-acid transaminase activity; GO:0004084: branched-chain-amino-acid transaminase activity; GO:0004084: branched-chain-amino-acid transaminase activity; GO:0004084: branched-chain-amino-acid transaminase activity; GO:0004084: branched-chain-amino-acid transaminase activity; GO:0004084: branched-chain-amino-acid transaminase activity; GO:0004084: branched-chain-amino-acid transaminase activity; GO:0004084: branched-chain-amino-acid transaminase activity; GO:0004084: branched-chain-amino-acid transaminase activity; GO:0004084: branched-chain-amino-acid transaminase activity; GO:0004084: branched-chain-amino-acid transaminase activity; GO:0004084: branched-chain-amino-acid transaminase activity; GO:0004084: branched-chain-amino-acid transaminase activity; GO:0008152: metabolic process; GO:0008152: metabolic process; GO:0008152: metabolic process; GO:0008152: metabolic process; GO:0008152: metabolic process; GO:0008152: metabolic process; GO:0008152: metabolic process; GO:0008152: metabolic process; GO:0008152: metabolic process; GO:0008152: metabolic process; GO:0008152: metabolic process; GO:0008152: metabolic process; GO:0008152: metabolic process; GO:0008152: metabolic process; GO:0008152: metabolic process; GO:0008152: metabolic process; GO:0008152: metabolic process; GO:0008152: metabolic process; GO:0008152: metabolic process; GO:0008152: metabolic process; GO:0008152: metabolic process; GO:0008152: metabolic process; GO:0008152: metabolic process; GO:0008152: metabolic process; GO:0008152: metabolic process; GO:0009081: branched-chain amino acid metabolic process; GO:0009081: branched-chain amino acid metabolic process; GO:0009081: branched-chain amino acid metabolic process; GO:0009081: branched-chain amino acid metabolic process; GO:0009081: branched-chain amino acid metabolic process; GO:0009081: branched-chain amino acid metabolic process; GO:0009081: branched-chain amino acid metabolic process; GO:0009081: branched-chain amino acid metabolic process; GO:0009081: branched-chain amino acid metabolic process; GO:0009081: branched-chain amino acid metabolic process; GO:0009081: branched-chain amino acid metabolic process; GO:0009081: branched-chain amino acid metabolic process; GO:0009081: branched-chain amino acid metabolic process; GO:0009081: branched-chain amino acid metabolic process; GO:0009081: branched-chain amino acid metabolic process; GO:0009081: branched-chain amino acid metabolic process; GO:0009081: branched-chain amino acid metabolic process; GO:0009081: branched-chain amino acid metabolic process; GO:0009081: branched-chain amino acid metabolic process; GO:0009081: branched-chain amino acid metabolic process; GO:0009081: branched-chain amino acid metabolic process; GO:0009081: branched-chain amino acid metabolic process; GO:0009081: branched-chain amino acid metabolic process; GO:0009081: branched-chain amino acid metabolic process; GO:0009081: branched-chain amino acid metabolic process | C13: 0 | D13: 0 | E13: 0 | F13: 279.03994 | G13: 193.92274 | H13: 18.53894 | I13: 309.72242 | K13: 0 | L13: 0 | M13: 5.9214 | N13: 2.8992 | O13: 5.4921 | P13: 6.0448 | Q13: -0.4293 | R13: 0.1234 | S13: -3.0223 | T13: -2.5929 | V13: 1 | W13: 1 | X13: 4.971e-12 | Y13: 1.469e-10 | Z13: 0.001905 | AA13: 1.903e-12 | AB13: 0.8227 | AC13: 0.9567 | AD13: 0.001509 | AE13: 0.006945 | AG13: M001111 | AH13: F020
A14: =HYPERLINK("http://fungi.ensembl.org/Fusarium_graminearum/Gene/Summary?g=FGRAMPH1_01T07763","FGRAMPH1_01T07763") -> FGRAMPH1_01T07763 | B14: GO:0016491: oxidoreductase activity | C14: 0 | D14: 0 | E14: 0 | F14: 21.20886 | G14: 35.14296 | H14: 5.16084 | I14: 44.58388 | K14: 0 | L14: 0 | M14: 5.0721 | N14: 3.1536 | O14: 5.7415 | P14: 6.0672 | Q14: 0.6695 | R14: 0.9951 | S14: -1.9185 | T14: -2.5879 | V14: 1 | W14: 1 | X14: 7.405e-12 | Y14: 4.69e-15 | Z14: 0.000118 | AA14: 1.342e-16 | AB14: 0.4597 | AC14: 0.1876 | AD14: 0.004471 | AE14: 4.098e-05 | AG14: M001101 | AH14: F020
A15: =HYPERLINK("http://fungi.ensembl.org/Fusarium_graminearum/Gene/Summary?g=FGRAMPH1_01T09063","FGRAMPH1_01T09063") -> FGRAMPH1_01T09063 | B15: GO:0003824: catalytic activity; GO:0010181: FMN binding; GO:0016491: oxidoreductase activity; GO:0055114: oxidation-reduction process | C15: 0.19226 | D15: 0 | E15: 0 | F15: 167.35742 | G15: 431.4002 | H15: 17.11198 | I15: 610.34708 | K15: 0.3765 | L15: 0 | M15: 5.9797 | N15: 3.3317 | O15: 7.1395 | P15: 7.5709 | Q15: 1.1598 | R15: 1.5912 | S15: -2.648 | T15: -3.8078 | V15: 0.8491 | W15: 1 | X15: 1.413e-13 | Y15: 4.692e-19 | Z15: 0.0001167 | AA15: 4.591e-21 | AB15: 0.3475 | AC15: 0.1393 | AD15: 0.002874 | AE15: 4.292e-06 | AG15: M001111 | AH15: F020
A16: =HYPERLINK("http://fungi.ensembl.org/Fusarium_graminearum/Gene/Summary?g=FGRAMPH1_01T09065","FGRAMPH1_01T09065") -> FGRAMPH1_01T09065 | B16: GO:0016884: carbon-nitrogen ligase activity, with glutamine as amido-N-donor | C16: 0 | D16: 0 | E16: 0 | F16: 44.86506 | G16: 100.55626 | H16: 8.17408 | I16: 165.89274 | K16: 0 | L16: 0 | M16: 5.4501 | N16: 3.3369 | O16: 6.4834 | P16: 7.1318 | Q16: 1.0334 | R16: 1.6817 | S16: -2.1132 | T16: -3.1466 | V16: 1 | W16: 1 | X16: 1.53e-12 | Y16: 1.728e-17 | Z16: 5.936e-05 | AA16: 9.311e-21 | AB16: 0.3174 | AC16: 0.05105 | AD16: 0.007483 | AE16: 1.548e-05 | AG16: M001101 | AH16: F020
A17: =HYPERLINK("http://fungi.ensembl.org/Fusarium_graminearum/Gene/Summary?g=FGRAMPH1_01T09067","FGRAMPH1_01T09067") -> FGRAMPH1_01T09067 | B17: GO:0005506: iron ion binding; GO:0016705: oxidoreductase activity, acting on paired donors, with incorporation or reduction of molecular oxygen; GO:0020037: heme binding | C17: 0 | D17: 0 | E17: 0 | F17: 61.8662 | G17: 344.08292 | H17: 4.98484 | I17: 285.98948 | K17: 0 | L17: 0 | M17: 5.3179 | N17: 2.426 | O17: 7.4525 | P17: 7.2201 | Q17: 2.1346 | R17: 1.9023 | S17: -2.8919 | T17: -5.0265 | V17: 1 | W17: 1 | X17: 4.465e-11 | Y17: 5.502e-21 | Z17: 0.007694 | AA17: 1.562e-19 | AB17: 0.02164 | AC17: 0.0509 | AD17: 0.0007233 | AE17: 1.612e-10 | AG17: M001101 | AH17: F020
A18: =HYPERLINK("http://fungi.ensembl.org/Fusarium_graminearum/Gene/Summary?g=FGRAMPH1_01T09071","FGRAMPH1_01T09071") -> FGRAMPH1_01T09071 | B18: GO:0016491: oxidoreductase activity | C18: 0.19226 | D18: 0 | E18: 0.16434 | F18: 118.0109 | G18: 618.0645 | H18: 7.4495 | I18: 589.54776 | K18: 0.2125 | L18: 0.0621 | M18: 5.5285 | N18: 2.3895 | O18: 7.5732 | P18: 7.5145 | Q18: 2.0447 | R18: 1.9859 | S18: -3.1391 | T18: -5.1838 | V18: 0.9621 | W18: 1 | X18: 5.552e-12 | Y18: 8.876e-22 | Z18: 0.007971 | AA18: 3.271e-21 | AB18: 0.03625 | AC18: 0.04601 | AD18: 0.0002542 | AE18: 7.703e-11 | AG18: M001101 | AH18: F020
A19: =HYPERLINK("http://fungi.ensembl.org/Fusarium_graminearum/Gene/Summary?g=FGRAMPH1_01T09073","FGRAMPH1_01T09073") -> FGRAMPH1_01T09073 | B19: GO:0008080: N-acetyltransferase activity | C19: 0.21808 | D19: 0 | E19: 0 | F19: 27.8034 | G19: 180.79624 | H19: 1.44512 | I19: 160.70038 | K19: 0.4565 | L19: 0 | M19: 4.3754 | N19: 1.376 | O19: 6.6496 | P19: 6.5048 | Q19: 2.2742 | R19: 2.1295 | S19: -2.9994 | T19: -5.2736 | V19: 0.8013 | W19: 1 | X19: 2.633e-07 | Y19: 9.517e-16 | Z19: 0.2073 | AA19: 5.819e-15 | AB19: 0.0199 | AC19: 0.03532 | AD19: 0.001125 | AE19: 3.89e-10 | AG19: M001101 | AH19: F020
A20: =HYPERLINK("http://fungi.ensembl.org/Fusarium_graminearum/Gene/Summary?g=FGRAMPH1_01T09075","FGRAMPH1_01T09075") -> FGRAMPH1_01T09075 | B20: GO:0016831: carboxy-lyase activity; GO:0019752: carboxylic acid metabolic process; GO:0030170: pyridoxal phosphate binding | C20: 0 | D20: 0 | E20: 0 | F20: 62.23978 | G20: 352.4675 | H20: 2.60768 | I20: 354.68104 | K20: 0 | L20: 0 | M20: 4.3484 | N20: 1.319 | O20: 6.3668 | P20: 6.375 | Q20: 2.0184 | R20: 2.0266 | S20: -3.0294 | T20: -5.0479 | V20: 1 | W20: 1 | X20: 9.39e-07 | Y20: 1.906e-13 | Z20: 0.2433 | AA20: 2.41e-13 | AB20: 0.07789 | AC20: 0.07577 | AD20: 0.001993 | AE20: 2.064e-08 | AG20: M001101 | AH20: F020
A21: =HYPERLINK("http://fungi.ensembl.org/Fusarium_graminearum/Gene/Summary?g=FGRAMPH1_01T11835","FGRAMPH1_01T11835") -> FGRAMPH1_01T11835 | B21: GO:0005506: iron ion binding; GO:0016705: oxidoreductase activity, acting on paired donors, with incorporation or reduction of molecular oxygen; GO:0020037: heme binding; GO:0055114: oxidation-reduction process | C21: 0 | D21: 0 | E21: 0 | F21: 12.9498 | G21: 21.06358 | H21: 1.90074 | I21: 55.29862 | K21: 0 | L21: 0 | M21: 4.378 | N21: 2.04 | O21: 5.0107 | P21: 6.2788 | Q21: 0.6327 | R21: 1.9008 | S21: -2.338 | T21: -2.9707 | V21: 1 | W21: 1 | X21: 3.27e-08 | Y21: 1.44e-10 | Z21: 0.03299 | AA21: 4.85e-16 | AB21: 0.5814 | AC21: 0.0142 | AD21: 0.003829 | AE21: 9.934e-05 | AG21: M001101 | AH21: F020
A22: =HYPERLINK("http://fungi.ensembl.org/Fusarium_graminearum/Gene/Summary?g=FGRAMPH1_01T11837","FGRAMPH1_01T11837") -> FGRAMPH1_01T11837 | C22: 0.34046 | D22: 0 | E22: 0 | F22: 18.97006 | G22: 31.30074 | H22: 3.236 | I22: 62.28136 | K22: 0.7746 | L22: 0 | M22: 4.641 | N22: 2.4907 | O22: 5.2846 | P22: 6.1763 | Q22: 0.6436 | R22: 1.5353 | S22: -2.1504 | T22: -2.794 | V22: 0.5787 | W22: 1 | X22: 4.806e-09 | Y22: 1.515e-11 | Z22: 0.005852 | AA22: 2.424e-15 | AB22: 0.5961 | AC22: 0.07876 | AD22: 0.008629 | AE22: 0.0002755 | AG22: M001101 | AH22: F020
A23: =HYPERLINK("http://fungi.ensembl.org/Fusarium_graminearum/Gene/Summary?g=FGRAMPH1_01T11979","FGRAMPH1_01T11979") -> FGRAMPH1_01T11979 | B23: GO:0003824: catalytic activity; GO:0008152: metabolic process; GO:0016829: lyase activity | C23: 0.17024 | D23: 0 | E23: 0 | F23: 16.6624 | G23: 59.331 | H23: 2.31994 | I23: 82.40112 | K23: 0.5336 | L23: 0 | M23: 4.4596 | N23: 2.1624 | O23: 6.0967 | P23: 6.5271 | Q23: 1.6371 | R23: 2.0676 | S23: -2.2971 | T23: -3.9342 | V23: 0.7443 | W23: 1 | X23: 1.763e-08 | Y23: 3.104e-15 | Z23: 0.02019 | AA23: 3.56e-17 | AB23: 0.05429 | AC23: 0.01026 | AD23: 0.005043 | AE23: 1.059e-07 | AG23: M001101 | AH23: F020
A24: =HYPERLINK("http://fungi.ensembl.org/Fusarium_graminearum/Gene/Summary?g=FGRAMPH1_01T12681","FGRAMPH1_01T12681") -> FGRAMPH1_01T12681 | B24: GO:0010181: FMN binding; GO:0016491: oxidoreductase activity | C24: 0 | D24: 0 | E24: 0 | F24: 10.36708 | G24: 9.6504 | H24: 0.50872 | I24: 6.28562 | K24: 0 | L24: 0 | M24: 3.9248 | N24: 0.9244 | O24: 3.8308 | P24: 3.3196 | Q24: -0.094 | R24: -0.6052 | S24: -3.0004 | T24: -2.9064 | V24: 1 | W24: 1 | X24: 1.247e-05 | Y24: 1.936e-05 | Z24: 0.4956 | AA24: 0.0003031 | AB24: 0.9754 | AC24: 0.6982 | AD24: 0.002382 | AE24: 0.002996 | AG24: M001000 | AH24: F020
A25: =HYPERLINK("http://fungi.ensembl.org/Fusarium_graminearum/Gene/Summary?g=FGRAMPH1_01T14067","FGRAMPH1_01T14067") -> FGRAMPH1_01T14067 | B25: GO:0005215: transporter activity; GO:0016020: membrane; GO:0016021: integral component of membrane; GO:0022857: transmembrane transporter activity; GO:0022891: substrate-specific transmembrane transporter activity; GO:0055085: transmembrane transport | C25: 0 | D25: 0 | E25: 0 | F25: 15.9054 | G25: 22.56162 | H25: 1.93874 | I25: 66.86852 | K25: 0 | L25: 0 | M25: 4.5078 | N25: 2.0395 | O25: 4.948 | P25: 6.3598 | Q25: 0.4402 | R25: 1.8521 | S25: -2.4683 | T25: -2.9085 | V25: 1 | W25: 1 | X25: 2.013e-08 | Y25: 4.96e-10 | Z25: 0.0342 | AA25: 6.532e-16 | AB25: 0.754 | AC25: 0.02744 | AD25: 0.002951 | AE25: 0.0002545 | AG25: M001101 | AH25: F020
A26: =HYPERLINK("http://fungi.ensembl.org/Fusarium_graminearum/Gene/Summary?g=FGRAMPH1_01T14069","FGRAMPH1_01T14069") -> FGRAMPH1_01T14069 | C26: 0 | D26: 0 | E26: 0 | F26: 12.0361 | G26: 30.25174 | H26: 1.61658 | I26: 57.47314 | K26: 0 | L26: 0 | M26: 4.3077 | N26: 1.9015 | O26: 5.5183 | P26: 6.3728 | Q26: 1.2106 | R26: 2.0651 | S26: -2.4062 | T26: -3.6168 | V26: 1 | W26: 1 | X26: 3.89e-08 | Y26: 6.026e-13 | Z26: 0.04961 | AA26: 6.965e-17 | AB26: 0.1592 | AC26: 0.004508 | AD26: 0.00248 | AE26: 7.62e-07 | AG26: M001101 | AH26: F021
A27: =HYPERLINK("http://fungi.ensembl.org/Fusarium_graminearum/Gene/Summary?g=FGRAMPH1_01T14071","FGRAMPH1_01T14071") -> FGRAMPH1_01T14071 | B27: GO:0008152: metabolic process; GO:0016491: oxidoreductase activity; GO:0016620: oxidoreductase activity, acting on the aldehyde or oxo group of donors, NAD or NADP as acceptor; GO:0055114: oxidation-reduction process | C27: 0 | D27: 0 | E27: 0.16458 | F27: 17.65092 | G27: 45.57058 | H27: 3.01134 | I27: 96.6653 | K27: -0.0268 | L27: -0.0193 | M27: 4.3465 | N27: 2.127 | O27: 5.5897 | P27: 6.5858 | Q27: 1.2432 | R27: 2.2393 | S27: -2.2195 | T27: -3.4627 | V27: 1 | W27: 1 | X27: 8.073e-09 | Y27: 3.708e-14 | Z27: 0.01666 | AA27: 3.577e-19 | AB27: 0.1443 | AC27: 0.001718 | AD27: 0.00367 | AE27: 7.403e-07 | AG27: M001101 | AH27: F021
A28: =HYPERLINK("http://fungi.ensembl.org/Fusarium_graminearum/Gene/Summary?g=FGRAMPH1_01T25409","FGRAMPH1_01T25409") -> FGRAMPH1_01T25409 | C28: 0 | D28: 0 | E28: 0 | F28: 13.4838 | G28: 31.09026 | H28: 1.41024 | I28: 61.76324 | K28: 0 | L28: 0 | M28: 4.0122 | N28: 1.5732 | O28: 5.0266 | P28: 5.885 | Q28: 1.0143 | R28: 1.8728 | S28: -2.439 | T28: -3.4534 | V28: 1 | W28: 1 | X28: 2.779e-06 | Y28: 2.055e-09 | Z28: 0.1411 | AA28: 1.893e-12 | AB28: 0.4215 | AC28: 0.06068 | AD28: 0.009678 | AE28: 7.442e-05 | AG28: M001101 | AH28: F020
A29: =HYPERLINK("http://fungi.ensembl.org/Fusarium_graminearum/Gene/Summary?g=FGRAMPH1_01T26199","FGRAMPH1_01T26199") -> FGRAMPH1_01T26199 | B29: GO:0004553: hydrolase activity, hydrolyzing O-glycosyl compounds; GO:0005975: carbohydrate metabolic process | C29: 0 | D29: 0 | E29: 0 | F29: 18.67428 | G29: 57.31602 | H29: 4.55104 | I29: 58.11958 | K29: 0 | L29: 0 | M29: 4.878 | N29: 3.0161 | O29: 6.395 | P29: 6.4128 | Q29: 1.517 | R29: 1.5348 | S29: -1.8619 | T29: -3.3789 | V29: 1 | W29: 1 | X29: 3.166e-11 | Y29: 6.303e-19 | Z29: 0.0002296 | AA29: 7.579e-19 | AB29: 0.01815 | AC29: 0.01859 | AD29: 0.005578 | AE29: 1.768e-08 | AG29: M001101 | AH29: F020
A32: Total reads | C32: =SUM(C3:C29) -> 1.1133 | D32: =SUM(D3:D29) -> 0 | E32: =SUM(E3:E29) -> 0.32892 | F32: =SUM(F3:F29) -> 2395.8247 | G32: =SUM(G3:G29) -> 3529.833 | H32: =SUM(H3:H29) -> 171.97816 | I32: =SUM(I3:I29) -> 4468.0877
A33: % total Fg reads | C33: =C32/SUM($C32:$I32)*100 -> 0.010535465 | D33: =D32/SUM($C32:$I32)*100 -> 0 | E33: =E32/SUM($C32:$I32)*100 -> 0.0031126606 | F33: =F32/SUM($C32:$I32)*100 -> 22.672349 | G33: =G32/SUM($C32:$I32)*100 -> 33.403782 | H33: =H32/SUM($C32:$I32)*100 -> 1.6274767 | I33: =I32/SUM($C32:$I32)*100 -> 42.282744

Sheet Fg_GeneAnnotation
A3: Gene stable ID | B3: GO term accession:name | C3: PHI-base ID | D3: Plant host | E3: KEGG ID | F3: KEGG Pathway and Enzyme ID | G3: 0
A4: =HYPERLINK("http://fungi.ensembl.org/Fusarium_graminearum/Gene/Summary?g=FGRAMPH1_01T00127","FGRAMPH1_01T00127") -> FGRAMPH1_01T00127 | B4: GO:0003824: catalytic activity; GO:0008152: metabolic process; GO:0016740: transferase activity | G4: =IF(A4=Fg_DEGs!A4,0,1) -> 0
A5: =HYPERLINK("http://fungi.ensembl.org/Fusarium_graminearum/Gene/Summary?g=FGRAMPH1_01T00129","FGRAMPH1_01T00129") -> FGRAMPH1_01T00129 | B5: GO:0004497: monooxygenase activity; GO:0005506: iron ion binding; GO:0016491: oxidoreductase activity; GO:0016705: oxidoreductase activity, acting on paired donors, with incorporation or reduction of molecular oxygen; GO:0020037: heme binding; GO:0046872: metal ion binding; GO:0055114: oxidation-reduction process | G5: =IF(A5=Fg_DEGs!A5,0,1) -> 0
A6: =HYPERLINK("http://fungi.ensembl.org/Fusarium_graminearum/Gene/Summary?g=FGRAMPH1_01T00131","FGRAMPH1_01T00131") -> FGRAMPH1_01T00131 | B6: GO:0003824: catalytic activity; GO:0003824: catalytic activity; GO:0004312: fatty acid synthase activity; GO:0004312: fatty acid synthase activity; GO:0004318: enoyl-[acyl-carrier-protein] reductase (NADH) activity; GO:0004318: enoyl-[acyl-carrier-protein] reductase (NADH) activity; GO:0005835: fatty acid synthase complex; GO:0005835: fatty acid synthase complex; GO:0006633: fatty acid biosynthetic process; GO:0006633: fatty acid biosynthetic process; GO:0008152: metabolic process; GO:0008152: metabolic process; GO:0016740: transferase activity; GO:0016740: transferase activity; GO:0055114: oxidation-reduction process; GO:0055114: oxidation-reduction process | E6: 00061+4.2.1.59+2.3.1.39+1.3.1.9+3.1.2.14 | G6: =IF(A6=Fg_DEGs!A6,0,1) -> 0
A7: =HYPERLINK("http://fungi.ensembl.org/Fusarium_graminearum/Gene/Summary?g=FGRAMPH1_01T00143","FGRAMPH1_01T00143") -> FGRAMPH1_01T00143 | B7: GO:0003824: catalytic activity; GO:0008152: metabolic process; GO:0031177: phosphopantetheine binding | G7: =IF(A7=Fg_DEGs!A7,0,1) -> 0
A8: =HYPERLINK("http://fungi.ensembl.org/Fusarium_graminearum/Gene/Summary?g=FGRAMPH1_01T00145","FGRAMPH1_01T00145") -> FGRAMPH1_01T00145 | B8: GO:0016491: oxidoreductase activity; GO:0055114: oxidation-reduction process | G8: =IF(A8=Fg_DEGs!A8,0,1) -> 0
A9: =HYPERLINK("http://fungi.ensembl.org/Fusarium_graminearum/Gene/Summary?g=FGRAMPH1_01T00147","FGRAMPH1_01T00147") -> FGRAMPH1_01T00147 | G9: =IF(A9=Fg_DEGs!A9,0,1) -> 0
A10: =HYPERLINK("http://fungi.ensembl.org/Fusarium_graminearum/Gene/Summary?g=FGRAMPH1_01T00151","FGRAMPH1_01T00151") -> FGRAMPH1_01T00151 | B10: GO:0005524: ATP binding; GO:0006810: transport; GO:0016021: integral component of membrane; GO:0016887: ATPase activity; GO:0042626: ATPase activity, coupled to transmembrane movement of substances; GO:0055085: transmembrane transport | G10: =IF(A10=Fg_DEGs!A10,0,1) -> 0
A11: =HYPERLINK("http://fungi.ensembl.org/Fusarium_graminearum/Gene/Summary?g=FGRAMPH1_01T00153","FGRAMPH1_01T00153") -> FGRAMPH1_01T00153 | B11: GO:0009058: biosynthetic process; GO:0016788: hydrolase activity, acting on ester bonds | G11: =IF(A11=Fg_DEGs!A11,0,1) -> 0
A12: =HYPERLINK("http://fungi.ensembl.org/Fusarium_graminearum/Gene/Summary?g=FGRAMPH1_01T00155","FGRAMPH1_01T00155") -> FGRAMPH1_01T00155 | B12: GO:0016491: oxidoreductase activity; GO:0055114: oxidation-reduction process | G12: =IF(A12=Fg_DEGs!A12,0,1) -> 0
A13: =HYPERLINK("http://fungi.ensembl.org/Fusarium_graminearum/Gene/Summary?g=FGRAMPH1_01T00157","FGRAMPH1_01T00157") -> FGRAMPH1_01T00157 | B13: GO:0003824: catalytic activity; GO:0003824: catalytic activity; GO:0003824: catalytic activity; GO:0003824: catalytic activity; GO:0003824: catalytic activity; GO:0003824: catalytic activity; GO:0003824: catalytic activity; GO:0003824: catalytic activity; GO:0003824: catalytic activity; GO:0003824: catalytic activity; GO:0003824: catalytic activity; GO:0003824: catalytic activity; GO:0003824: catalytic activity; GO:0003824: catalytic activity; GO:0003824: catalytic activity; GO:0003824: catalytic activity; GO:0003824: catalytic activity; GO:0003824: catalytic activity; GO:0003824: catalytic activity; GO:0003824: catalytic activity; GO:0003824: catalytic activity; GO:0003824: catalytic activity; GO:0003824: catalytic activity; GO:0003824: catalytic activity; GO:0003824: catalytic activity; GO:0004084: branched-chain-amino-acid transaminase activity; GO:0004084: branched-chain-amino-acid transaminase activity; GO:0004084: branched-chain-amino-acid transaminase activity; GO:0004084: branched-chain-amino-acid transaminase activity; GO:0004084: branched-chain-amino-acid transaminase activity; GO:0004084: branched-chain-amino-acid transaminase activity; GO:0004084: branched-chain-amino-acid transaminase activity; GO:0004084: branched-chain-amino-acid transaminase activity; GO:0004084: branched-chain-amino-acid transaminase activity; GO:0004084: branched-chain-amino-acid transaminase activity; GO:0004084: branched-chain-amino-acid transaminase activity; GO:0004084: branched-chain-amino-acid transaminase activity; GO:0004084: branched-chain-amino-acid transaminase activity; GO:0004084: branched-chain-amino-acid transaminase activity; GO:0004084: branched-chain-amino-acid transaminase activity; GO:0004084: branched-chain-amino-acid transaminase activity; GO:0004084: branched-chain-amino-acid transaminase activity; GO:0004084: branched-chain-amino-acid transaminase activity; GO:0004084: branched-chain-amino-acid transaminase activity; GO:0004084: branched-chain-amino-acid transaminase activity; GO:0004084: branched-chain-amino-acid transaminase activity; GO:0004084: branched-chain-amino-acid transaminase activity; GO:0004084: branched-chain-amino-acid transaminase activity; GO:0004084: branched-chain-amino-acid transaminase activity; GO:0004084: branched-chain-amino-acid transaminase activity; GO:0008152: metabolic process; GO:0008152: metabolic process; GO:0008152: metabolic process; GO:0008152: metabolic process; GO:0008152: metabolic process; GO:0008152: metabolic process; GO:0008152: metabolic process; GO:0008152: metabolic process; GO:0008152: metabolic process; GO:0008152: metabolic process; GO:0008152: metabolic process; GO:0008152: metabolic process; GO:0008152: metabolic process; GO:0008152: metabolic process; GO:0008152: metabolic process; GO:0008152: metabolic process; GO:0008152: metabolic process; GO:0008152: metabolic process; GO:0008152: metabolic process; GO:0008152: metabolic process; GO:0008152: metabolic process; GO:0008152: metabolic process; GO:0008152: metabolic process; GO:0008152: metabolic process; GO:0008152: metabolic process; GO:0009081: branched-chain amino acid metabolic process; GO:0009081: branched-chain amino acid metabolic process; GO:0009081: branched-chain amino acid metabolic process; GO:0009081: branched-chain amino acid metabolic process; GO:0009081: branched-chain amino acid metabolic process; GO:0009081: branched-chain amino acid metabolic process; GO:0009081: branched-chain amino acid metabolic process; GO:0009081: branched-chain amino acid metabolic process; GO:0009081: branched-chain amino acid metabolic process; GO:0009081: branched-chain amino acid metabolic process; GO:0009081: branched-chain amino acid metabolic process; GO:0009081: branched-chain amino acid metabolic process; GO:0009081: branched-chain amino acid metabolic process; GO:0009081: branched-chain amino acid metabolic process; GO:0009081: branched-chain amino acid metabolic process; GO:0009081: branched-chain amino acid metabolic process; GO:0009081: branched-chain amino acid metabolic process; GO:0009081: branched-chain amino acid metabolic process; GO:0009081: branched-chain amino acid metabolic process; GO:0009081: branched-chain amino acid metabolic process; GO:0009081: branched-chain amino acid metabolic process; GO:0009081: branched-chain amino acid metabolic process; GO:0009081: branched-chain amino acid metabolic process; GO:0009081: branched-chain amino acid metabolic process; GO:0009081: branched-chain amino acid metabolic process | E13: 00270+2.6.1.42 | F13: 00270+2.6.1.42 | G13: =IF(A13=Fg_DEGs!A13,0,1) -> 0
A14: =HYPERLINK("http://fungi.ensembl.org/Fusarium_graminearum/Gene/Summary?g=FGRAMPH1_01T07763","FGRAMPH1_01T07763") -> FGRAMPH1_01T07763 | B14: GO:0016491: oxidoreductase activity | G14: =IF(A14=Fg_DEGs!A14,0,1) -> 0
A15: =HYPERLINK("http://fungi.ensembl.org/Fusarium_graminearum/Gene/Summary?g=FGRAMPH1_01T09063","FGRAMPH1_01T09063") -> FGRAMPH1_01T09063 | B15: GO:0003824: catalytic activity; GO:0010181: FMN binding; GO:0016491: oxidoreductase activity; GO:0055114: oxidation-reduction process | G15: =IF(A15=Fg_DEGs!A15,0,1) -> 0
A16: =HYPERLINK("http://fungi.ensembl.org/Fusarium_graminearum/Gene/Summary?g=FGRAMPH1_01T09065","FGRAMPH1_01T09065") -> FGRAMPH1_01T09065 | B16: GO:0016884: carbon-nitrogen ligase activity, with glutamine as amido-N-donor | E16: 00970+6.3.5.7 | F16: 00970+6.3.5.7 | G16: =IF(A16=Fg_DEGs!A16,0,1) -> 0
A17: =HYPERLINK("http://fungi.ensembl.org/Fusarium_graminearum/Gene/Summary?g=FGRAMPH1_01T09067","FGRAMPH1_01T09067") -> FGRAMPH1_01T09067 | B17: GO:0005506: iron ion binding; GO:0016705: oxidoreductase activity, acting on paired donors, with incorporation or reduction of molecular oxygen; GO:0020037: heme binding | G17: =IF(A17=Fg_DEGs!A17,0,1) -> 0
A18: =HYPERLINK("http://fungi.ensembl.org/Fusarium_graminearum/Gene/Summary?g=FGRAMPH1_01T09071","FGRAMPH1_01T09071") -> FGRAMPH1_01T09071 | B18: GO:0016491: oxidoreductase activity | G18: =IF(A18=Fg_DEGs!A18,0,1) -> 0
A19: =HYPERLINK("http://fungi.ensembl.org/Fusarium_graminearum/Gene/Summary?g=FGRAMPH1_01T09073","FGRAMPH1_01T09073") -> FGRAMPH1_01T09073 | B19: GO:0008080: N-acetyltransferase activity | G19: =IF(A19=Fg_DEGs!A19,0,1) -> 0
A20: =HYPERLINK("http://fungi.ensembl.org/Fusarium_graminearum/Gene/Summary?g=FGRAMPH1_01T09075","FGRAMPH1_01T09075") -> FGRAMPH1_01T09075 | B20: GO:0016831: carboxy-lyase activity; GO:0019752: carboxylic acid metabolic process; GO:0030170: pyridoxal phosphate binding | G20: =IF(A20=Fg_DEGs!A20,0,1) -> 0
A21: =HYPERLINK("http://fungi.ensembl.org/Fusarium_graminearum/Gene/Summary?g=FGRAMPH1_01T11835","FGRAMPH1_01T11835") -> FGRAMPH1_01T11835 | B21: GO:0005506: iron ion binding; GO:0016705: oxidoreductase activity, acting on paired donors, with incorporation or reduction of molecular oxygen; GO:0020037: heme binding; GO:0055114: oxidation-reduction process | G21: =IF(A21=Fg_DEGs!A21,0,1) -> 0
A22: =HYPERLINK("http://fungi.ensembl.org/Fusarium_graminearum/Gene/Summary?g=FGRAMPH1_01T11837","FGRAMPH1_01T11837") -> FGRAMPH1_01T11837 | G22: =IF(A22=Fg_DEGs!A22,0,1) -> 0
A23: =HYPERLINK("http://fungi.ensembl.org/Fusarium_graminearum/Gene/Summary?g=FGRAMPH1_01T11979","FGRAMPH1_01T11979") -> FGRAMPH1_01T11979 | B23: GO:0003824: catalytic activity; GO:0008152: metabolic process; GO:0016829: lyase activity | G23: =IF(A23=Fg_DEGs!A23,0,1) -> 0
A24: =HYPERLINK("http://fungi.ensembl.org/Fusarium_graminearum/Gene/Summary?g=FGRAMPH1_01T12681","FGRAMPH1_01T12681") -> FGRAMPH1_01T12681 | B24: GO:0010181: FMN binding; GO:0016491: oxidoreductase activity | G24: =IF(A24=Fg_DEGs!A24,0,1) -> 0
A25: =HYPERLINK("http://fungi.ensembl.org/Fusarium_graminearum/Gene/Summary?g=FGRAMPH1_01T14067","FGRAMPH1_01T14067") -> FGRAMPH1_01T14067 | B25: GO:0005215: transporter activity; GO:0016020: membrane; GO:0016021: integral component of membrane; GO:0022857: transmembrane transporter activity; GO:0022891: substrate-specific transmembrane transporter activity; GO:0055085: transmembrane transport | G25: =IF(A25=Fg_DEGs!A25,0,1) -> 0
A26: =HYPERLINK("http://fungi.ensembl.org/Fusarium_graminearum/Gene/Summary?g=FGRAMPH1_01T14069","FGRAMPH1_01T14069") -> FGRAMPH1_01T14069 | G26: =IF(A26=Fg_DEGs!A26,0,1) -> 0
A27: =HYPERLINK("http://fungi.ensembl.org/Fusarium_graminearum/Gene/Summary?g=FGRAMPH1_01T14071","FGRAMPH1_01T14071") -> FGRAMPH1_01T14071 | B27: GO:0008152: metabolic process; GO:0016491: oxidoreductase activity; GO:0016620: oxidoreductase activity, acting on the aldehyde or oxo group of donors, NAD or NADP as acceptor; GO:0055114: oxidation-reduction process | G27: =IF(A27=Fg_DEGs!A27,0,1) -> 0
A28: =HYPERLINK("http://fungi.ensembl.org/Fusarium_graminearum/Gene/Summary?g=FGRAMPH1_01T25409","FGRAMPH1_01T25409") -> FGRAMPH1_01T25409 | G28: =IF(A28=Fg_DEGs!A28,0,1) -> 0
A29: =HYPERLINK("http://fungi.ensembl.org/Fusarium_graminearum/Gene/Summary?g=FGRAMPH1_01T26199","FGRAMPH1_01T26199") -> FGRAMPH1_01T26199 | B29: GO:0004553: hydrolase activity, hydrolyzing O-glycosyl compounds; GO:0005975: carbohydrate metabolic process | G29: =IF(A29=Fg_DEGs!A29,0,1) -> 0
