Workbook

Sheet Sheet1
A2: The expression information of important genes at different developmental stages in this study
A4: GeneID | B4: Symbol | C4: FS1_FPKM | D4: FS2-3_FPKM | E4: FS4_FPKM | F4: MS1_FPKM | G4: MS2-3_FPKM | H4: MS4_FPKM | I4: Female_1-6mm_mix_flower | J4: Male_1-6mm_mix_flower
A5: sunup.05G0006810 | B5: CpAGL6 | C5: 14.664667 | D5: 4.4283333 | E5: 0.036666667 | F5: 66.211333 | G5: 0.499 | H5: 0.19266667 | I5: =VLOOKUP(A5,Sheet2!E:G,2,0) -> 11.63 | J5: =VLOOKUP(A5,Sheet2!E:G,3,0) -> 38.26
A6: sunup.04G0000360 | B6: CpHEC2 | C6: 2.6013333 | D6: 17.256333 | E6: 5.95 | F6: 0.049666667 | G6: 0.037516667 | H6: 0.0422 | I6: =VLOOKUP(A6,Sheet2!E:G,2,0) -> 2.71 | J6: =VLOOKUP(A6,Sheet2!E:G,3,0) -> 0.88
A7: sunup.03G0006060 | B7: CpSUPL | C7: 1.95 | D7: 2.6153333 | E7: 8.672 | F7: 0.077933333 | G7: 0.095833333 | H7: 0 | I7: =VLOOKUP(A7,Sheet2!E:G,2,0) -> 1.26 | J7: =VLOOKUP(A7,Sheet2!E:G,3,0) -> 0.16
A8: sunup.01G0026370 | B8: CpAGL11 | C8: 2.9713333 | D8: 37.837667 | E8: 119.78233 | F8: 0.073333333 | G8: 0.011566667 | H8: 0.089566667 | I8: =VLOOKUP(A8,Sheet2!E:G,2,0) -> 10.66 | J8: =VLOOKUP(A8,Sheet2!E:G,3,0) -> 0.16
A9: sunup.01G0022430 | B9: CpSVPL | C9: 1.8736667 | D9: 1.637 | E9: 1.0686667 | F9: 0.012466667 | G9: 0.96566667 | H9: 1.923 | I9: =VLOOKUP(A9,Sheet2!E:G,2,0) -> 2.57 | J9: =VLOOKUP(A9,Sheet2!E:G,3,0) -> 2.17
A10: sunup.02G0012880 | B10: CpTGA9 | C10: 2.6703333 | D10: 12.390333 | E10: 3.76 | F10: 4.8886667 | G10: 0.48666667 | H10: 0.29966667 | I10: =VLOOKUP(A10,Sheet2!E:G,2,0) -> 1.86 | J10: =VLOOKUP(A10,Sheet2!E:G,3,0) -> 11.07
A11: sunup.01G0000330 | B11: CpCYC | C11: 4.3233333 | D11: 1.8486667 | E11: 2.5923333 | F11: 14.196333 | G11: 0.47266667 | H11: 0.268 | I11: =VLOOKUP(A11,Sheet2!E:G,2,0) -> 11 | J11: =VLOOKUP(A11,Sheet2!E:G,3,0) -> 19.63
A12: sunup.04G0001590 | B12: CpDOF5.7L | C12: 9.5736667 | D12: 3.0248333 | E12: 2.702 | F12: 5.885 | G12: 1.44 | H12: 0.087666667 | I12: =VLOOKUP(A12,Sheet2!E:G,2,0) -> 3.87 | J12: =VLOOKUP(A12,Sheet2!E:G,3,0) -> 3.16
A13: sunup.04G0003750 | B13: CpHBI1L | C13: 13.057667 | D13: 1.2261667 | E13: 5.212 | F13: 9.9986667 | G13: 1.7035 | H13: 0.48333333 | I13: =VLOOKUP(A13,Sheet2!E:G,2,0) -> 8.28 | J13: =VLOOKUP(A13,Sheet2!E:G,3,0) -> 24.99
A14: sunup.03G0023770 | B14: CpZAT11 | C14: 2.5146667 | D14: 7.194 | E14: 22.6 | F14: 5.3216667 | G14: 2.0515 | H14: 0.16166667 | I14: =VLOOKUP(A14,Sheet2!E:G,2,0) -> 2.87 | J14: =VLOOKUP(A14,Sheet2!E:G,3,0) -> 1.96
A15: sunup.05G0010320 | B15: CpMYC2 | C15: 19.674333 | D15: 18.730333 | E15: 9.237 | F15: 15.590333 | G15: 19.644 | H15: 0.65233333 | I15: =VLOOKUP(A15,Sheet2!E:G,2,0) -> 19.71 | J15: =VLOOKUP(A15,Sheet2!E:G,3,0) -> 49.54
A16: sunup.08G0004940 | B16: CpATH51 | C16: 23.504667 | D16: 8.8055 | E16: 7.347 | F16: 10.247 | G16: 0.7865 | H16: 0.08 | I16: =VLOOKUP(A16,Sheet2!E:G,2,0) -> 9.36 | J16: =VLOOKUP(A16,Sheet2!E:G,3,0) -> 16.84
... A45: sunup.04G0024070 | B45: CpGH3.1 | C45: 73.919333 | D45: 45.254667 | E45: 36.975333 | F45: 19.250333 | G45: 11.456333 | H45: 1.7686667 | I45: =VLOOKUP(A45,Sheet2!E:G,2,0) -> 30.72 | J45: =VLOOKUP(A45,Sheet2!E:G,3,0) -> 21.97

Sheet Sheet2
E1: Gene | F1: FF16 | G1: MF16
E2: sunup.01G0000010 | F2: 67.81 | G2: 65.99
E3: sunup.01G0000020 | F3: 9.92 | G3: 12.7
E4: sunup.01G0000030 | F4: 68.32 | G4: 119.58
E5: sunup.01G0000040 | F5: 24.96 | G5: 33.83
E6: sunup.01G0000050 | F6: 2.76 | G6: 4.38
E7: sunup.01G0000060 | F7: 36.42 | G7: 34.68
E8: sunup.01G0000070 | F8: 184.53 | G8: 209.39
E9: sunup.01G0000080 | F9: 16.78 | G9: 19.08
E10: sunup.01G0000090 | F10: 6.74 | G10: 13.5
E11: sunup.01G0000100 | F11: 28.43 | G11: 52.74
E12: sunup.01G0000110 | F12: 18.81 | G12: 20.72
E13: sunup.01G0000120 | F13: 15.13 | G13: 17.9
... E22536: sunup.HSY0001520 | F22536: 0 | G22536: 0
