Workbook

Sheet Trihelix gene information
A1: Supplementary Table 1 List of the 47 CqTH genes identified in this study
A2: Gene | B2: Gene ID | C2: Protein length | D2: Mw (KDa) | E2: pI | F2: Location | G2: Start | H2: End | I2: Positive and negative chain | J2: Predicted Subcellular location（W） | K2: Group | L2: Number of exons
A3: =VLOOKUP(B3,[1]基因编号!A:B,2,FALSE) -> CqTH01 | B3: AUR62021521-RA | C3: 383 | D3: 44.6566 | E3: 4.65 | F3: Chr01 | G3: 19024926 | H3: 19026625 | I3: - | J3: chlo | K3: SIP1 | L3: 4
A4: =VLOOKUP(B4,[1]基因编号!A:B,2,FALSE) -> CqTH02 | B4: AUR62021815-RA | C4: 212 | D4: 24.248 | E4: 8.64 | F4: Chr01 | G4: 39334978 | H4: 39335613 | I4: + | J4: mito | K4: GT2 | L4: 1
A5: =VLOOKUP(B5,[1]基因编号!A:B,2,FALSE) -> CqTH03 | B5: AUR62032637-RA | C5: 275 | D5: 30.4015 | E5: 8.68 | F5: Chr01 | G5: 49150942 | H5: 49152972 | I5: - | J5: nucl | K5: SIP1 | L5: 4
A6: =VLOOKUP(B6,[1]基因编号!A:B,2,FALSE) -> CqTH04 | B6: AUR62043827-RA | C6: 274 | D6: 30.5561 | E6: 4.81 | F6: Chr01 | G6: 52098162 | H6: 52105061 | I6: + | J6: cyto | K6: SH4 | L6: 2
A7: =VLOOKUP(B7,[1]基因编号!A:B,2,FALSE) -> CqTH05 | B7: AUR62038724-RA | C7: 274 | D7: 30.5561 | E7: 4.81 | F7: Chr01 | G7: 105731552 | H7: 105738436 | I7: - | J7: cyto | K7: SH4 | L7: 2
A8: =VLOOKUP(B8,[1]基因编号!A:B,2,FALSE) -> CqTH06 | B8: AUR62027681-RA | C8: 221 | D8: 25.4742 | E8: 9.13 | F8: Chr01 | G8: 127337961 | H8: 127338884 | I8: + | J8: cyto | K8: SIP1 | L8: 2
A9: =VLOOKUP(B9,[1]基因编号!A:B,2,FALSE) -> CqTH07 | B9: AUR62012844-RA | C9: 365 | D9: 41.499 | E9: 7.01 | F9: Chr02 | G9: 563506 | H9: 565056 | I9: - | J9: nucl | K9: GT2 | L9: 2
A10: =VLOOKUP(B10,[1]基因编号!A:B,2,FALSE) -> CqTH08 | B10: AUR62031211-RA | C10: 557 | D10: 61.4565 | E10: 9.82 | F10: Chr02 | G10: 7890238 | H10: 7900586 | I10: - | J10: E.R. | K10: SIP1 | L10: 6
A11: =VLOOKUP(B11,[1]基因编号!A:B,2,FALSE) -> CqTH09 | B11: AUR62011010-RA | C11: 216 | D11: 24.955 | E11: 4.99 | F11: Chr02 | G11: 55453034 | H11: 55453750 | I11: - | J11: nucl | K11: SIP1 | L11: 2
A12: =VLOOKUP(B12,[1]基因编号!A:B,2,FALSE) -> CqTH10 | B12: AUR62013581-RA | C12: 510 | D12: 56.3359 | E12: 5.93 | F12: Chr03 | G12: 64232538 | H12: 64235320 | I12: - | J12: nucl | K12: GT2 | L12: 4
A13: =VLOOKUP(B13,[1]基因编号!A:B,2,FALSE) -> CqTH11 | B13: AUR62013578-RA | C13: 406 | D13: 46.4494 | E13: 8.97 | F13: Chr03 | G13: 64340338 | H13: 64341651 | I13: - | J13: nucl | K13: GTΥ | L13: 2
A14: =VLOOKUP(B14,[1]基因编号!A:B,2,FALSE) -> CqTH12 | B14: AUR62012274-RA | C14: 253 | D14: 28.5425 | E14: 10.31 | F14: Chr03 | G14: 78326973 | H14: 78331288 | I14: - | J14: nucl | K14: SIP1 | L14: 5
... A49: =VLOOKUP(B49,[1]基因编号!A:B,2,FALSE) -> CqTH47 | B49: AUR62044655-RA | C49: 275 | D49: 30.8121 | E49: 8.03 | F49: Chr00 | G49: 97652515 | H49: 97653339 | I49: + | J49: nucl | K49: GT2 | L49: 1

Sheet Trihelix gene sequences
A1: Supplementary Table 1 List of the 47 CqTH genes identified in this study
A2: Gene | B2: Gene ID | C2: Sequence Type | D2: Sequences
A3: CqTH01 | B3: AUR62021521-RA | C3: CDS | D3: ATGGATCGTCGATCGAATTACCCTTATTCTCGCCGATCAAAACCCCAAAAAAGTTACGCCGAAGAAGAAGATGATGACGATGAAAACGACGTCGTTCTTGGAGCAATCGACGATTCCGATGAAGAAGAAGATGACGACATCAATGACGAAGACTTCAACGGTCCTGGGCGTCGCCGCACATCCACTCGACATCGCCAGAAGCAGAGAAAGCTCTCTACTTGGAATTACCATTCTACCCCTAAATCCTCCGGCATGGATTCCGATTGGTCGGAGCAGGGTACTTTCGTCCTTTTGGAAATCGTCGCTGAGCGAGTTTCGGAGGCGACGCGGTCGAAACGCTGCGTTTCGGATTGTAGAAGTAGGTTGAATGCATTGAAGATGAAGTATAAGAGAGAGAAAGCTAAAGTGATTGGCTTAGGAATTGGGAGTAGCAAATGGGTATTCTTCAAGAAAATGGATGTTTTGATGACAATGTCACCTAGGCAATTGCAACAGCAAGAGCAATGTGGGTTAGCTTGTGGGGTTGATTCGGGCGAGTTCGTGTTTATGAACCCGAGAGTTTACTTGGATCATTCTAATGCATCTGATGAGATGAGGGATAGTCCAGGGAATTCGGAAATGTTATCGGAGTCGATTAAGAGGGTTGGGGAGATATATGAGAAGATGGAGGATAGTAAGAAGCAACATATGGAGGAATTGGATAGGATGAGGGAGGAGTTTCAGAGAGAATTGGAATTGCAAAAGAAGGAGATGCTTGATCGAACTAAGGTTGAGATTGCGAAATTAGGACAAAAGGATGATCAGGAACAGGACAGTGATTGTTCTGTTGAGAATGTAATGTTGGCTGAAAATGTGTATTATTACATGATGGTTGTGTATGCTTTAGCTTTGGAAGCAACCAATATTCTATTTGCTGAAGGCATGCTAGTTGTTTTCTGCATCCTTTTCAAGTTTGCATTTTGTGCTCAAATTCGTGGGCACAACTTGAGGAAGAGTGATGATAATGTGATATACAGTGGATGCTATTGGAACTTTCGGGAGGGCGAATATGATGAGGACTGCCGTATGTTTTTCGATGGGCTAGCTTGA
A4: CqTH01 | B4: AUR62021521-RA | C4: Protein | D4: MDRRSNYPYSRRSKPQKSYAEEEDDDDENDVVLGAIDDSDEEEDDDINDEDFNGPGRRRTSTRHRQKQRKLSTWNYHSTPKSSGMDSDWSEQGTFVLLEIWGERFLQLGRSSLRSEDWNEVAERVSEATRSKRCVSDCRSRLNALKMKYKREKAKVIGLGIGSSKWVFFKKMDVLMTMSPRQLQQQEQCGLACGVDSGEFVFMNPRVYLDHSNASDEMRDSPGNSEMLSESIKRVGEIYEKMEDSKKQHMEELDRMREEFQRELELQKKEMLDRTKVEIAKLGQKDDQEQDSDCSVENVMLAENVYYYMMVVYALALEATNILFAEGMLVVFCILFKFAFCAQIRGHNLRKSDDNVIYSGCYWNFREGEYDEDCRMFFDGLA*
A5: CqTH02 | B5: AUR62021815-RA | C5: CDS | D5: ATGCACCAGCAGTTGATGAACATGATTGAAAACAAGGAGAAAGACAGGATTCTTAGAGAGGAAGCGTGGCGCCAACAGGAGTTGGAGCGTGCTAATAGAGACCACCAGATTAGAGCTCAGGAGGCTGCTCGTAATGTCGCTCTTATTTCCTTCATTCGCAACGCTCTTGGGCTTTCCGAATTACAGGTTCCCGACCTCCTATCTTTGCCCCAGGTTTTTTCAGGGGAGGATAATGTTGCTGATACTCAGTCCTTGGGCCAATCCGAACAGGATAGGTTTGATCCTAATTATAAGAGGTGGCCGACGTCTGAGGTGCAAGCCCTCATCACTCTACGAGCTGCTCTCGATCACAAGTTTCATACTATTGGAGCTAAAGCTCCTGTGTGGGATGAAGTGGCAGCTGGAATGGCTAAAATGGGATACACCCCTCGGAGTGCAAGAAAATGCAAGGAGAAGTGGGAGAATGTTAACAAGTATTACAAGAAGGCAACTGCCAATGGAAACAAATATTCCGAGAATGCCAAATCGTGCCCATACTTCCATGAGCTTGAAACCCTCTACAAAAATCGACTTATTACTTCTGCAAAATCAAACTCTCCTACCAATGAACACTCGGAACAGAATGCAAATGTATAA
A6: CqTH02 | B6: AUR62021815-RA | C6: Protein | D6: MHQQLMNMIENKEKDRILREEAWRQQELERANRDHQIRAQEAARNVALISFIRNALGLSELQVPDLLSLPQVFSGEDNVADTQSLGQSEQDRFDPNYKRWPTSEVQALITLRAALDHKFHTIGAKAPVWDEVAAGMAKMGYTPRSARKCKEKWENVNKYYKKATANGNKYSENAKSCPYFHELETLYKNRLITSAKSNSPTNEHSEQNANV*
A7: CqTH03 | B7: AUR62032637-RA | C7: CDS | D7: ATGGAGAAGGAAACCAATCAAGATGATCAAAACCCCTCACCCACTAAACTCGAACAGTCTCCCCGGAAACCACTGCTGGTTGGTGGCAGTAGTGGTGGTGATCGTTTGAAGAGAGACGAGTGGAGCGAAGGGGCAGTTTCTAGCTTGCTTGAAGCCTATGAATCAAAGTGGATTCTTAGGAACAGGGCTAAGCTTAAAGGGCAAGATTGGGAGGATGTAGCCAAGCATGTGTCTTCTCGTGCCAATAACACAAAGTCACCTAAGACACAAACTCAATGCAAGAATAAGATTGAGTCCATGAAAAAGAGGTATAGATCAGAGTCTGCCACTGCTGACTCTTCATCATGGCCACTTTTTTCGAGACTTGATAACCTGCTGCGCGGGACTGGGGGAAGTACTGGACTATCATCAGCTCATTCATCACCTATGAAGGCCACTGCTGTGGCGAAGATTGCACAAAACTCTCAGGAGTCCAATGGTGCGGAGCCCATGGCTAAGGATTGTGACGAAGTAGCAGCAAAAGTTTCTGACCAAATCTCAGACAAAAACCATAATGATGATGATCACATAGAAACTGACAGCAGCACTCCTGCTCTTTATAAGAGCATCCGGTGGCTGGGAGAAGCCGTGGTGCGATCTGAGCAAGTGAGGATGGACACCATGAGGGAGTTAGAAAGAATGAGAGTGGAAGCAGAAGCTAAGAGAGGGGAAATGGATCTTAAAAGAACAGAGATTATTGCAAATACCCAGCTAGAAATTGCTAGGCTTTTTGCCTCAACTACTGGGAAAAGTGTTGATTCTTCTTTAAGGATTGGAAGAAGTTAA
A8: CqTH03 | B8: AUR62032637-RA | C8: Protein | D8: MEKETNQDDQNPSPTKLEQSPRKPLLVGGSSGGDRLKRDEWSEGAVSSLLEAYESKWILRNRAKLKGQDWEDVAKHVSSRANNTKSPKTQTQCKNKIESMKKRYRSESATADSSSWPLFSRLDNLLRGTGGSTGLSSAHSSPMKATAVAKIAQNSQESNGAEPMAKDCDEVAAKVSDQISDKNHNDDDHIETDSSTPALYKSIRWLGEAVVRSEQVRMDTMRELERMRVEAEAKRGEMDLKRTEIIANTQLEIARLFASTTGKSVDSSLRIGRS*
A9: CqTH04 | B9: AUR62043827-RA | C9: CDS | D9: ATGAGGGAAGCAGATGTGGGTCAACTTGCAGAATCAATTTCTGGTTCTCGATGCACCAGATCACATTTACAAGCAGCAGCAGTATGGACTGTACAAGATATGCTTATTCTTGTGAATGAAATTGCTGCTGTTGAAGGGGACTGGCAAAATTCTCTGTCAACTCATCAAAAATGGACCATTATATCAGAAACTTGTACTGCACTGGGAGTAGGAAGGAATGCAAACCAGTGCCGCAGAAAGTGGCAGTCCTTGCTTGCTGATTACAATCTTGTCAAGGAATGGAAATTGAACTCTGGGAGTGATTCTTACTGGTCTCTTGGGTGTGATAGGAGAAAAGAAGCTGGTCTTCCTTTGGAATTTGACAAAGACCTGTATAAAGCTATGGAGGATTTCATGAAGGCATCAGATAGAGCAGATACAGACCCAGAATGTGATCCGGATGCGGGAGAGGTTGATGTTCTTGATGCTGAGGAATCCGGTCCAAAACCCAAAAAGCGAAGGCGTCGGTCAATCCCTAAAAAACGGTTATCTGAAGGGAGGAAACAGCCTGTAACAGAGGTAGAGCATGTGATTCCAGAGCCTCCTGTTGCTGAAGACATGGAGCAAATCCTGGCTGCGAAACTCATGGAGAACACAGAGCTGATCCATGCCATACTTGCAGGAAATGTTACTGAAAATGTTGACGAGGACTTGACCAGTGTAAGAAATGAGGAGTCCCTGAAGACTGAAAATGTTAGACGTAAAGCTGACAAGCTTGTTGAGTGCCTCGGAGATCTTGCCAAAAATCTGGAACACCTTTGTGGTGCAGTGGAGAAAGGTTAA
A10: CqTH04 | B10: AUR62043827-RA | C10: Protein | D10: MREADVGQLAESISGSRCTRSHLQAAAVWTVQDMLILVNEIAAVEGDWQNSLSTHQKWTIISETCTALGVGRNANQCRRKWQSLLADYNLVKEWKLNSGSDSYWSLGCDRRKEAGLPLEFDKDLYKAMEDFMKASDRADTDPECDPDAGEVDVLDAEESGPKPKKRRRRSIPKKRLSEGRKQPVTEVEHVIPEPPVAEDMEQILAAKLMENTELIHAILAGNVTENVDEDLTSVRNEESLKTENVRRKADKLVECLGDLAKNLEHLCGAVEKG*
A11: CqTH05 | B11: AUR62038724-RA | C11: CDS | D11: ATGAGGGAAGCAGATGTGGGTCAACTTGCAGAATCAATTTCTGGTTCTCGATGCACCAGATCACATTTACAAGCAGCAGCAGTATGGACTGTACAAGATATGCTTATTCTTGTGAATGAAATTGCTGCTGTTGAAGGGGACTGGCAAAATTCTCTGTCAACTCATCAAAAATGGACCATTATATCAGAAACTTGTACTGCACTGGGAGTAGGAAGGAATGCAAACCAGTGCCGCAGAAAGTGGCAGTCCTTGCTTGCTGATTACAATCTTGTCAAGGAATGGAAATTGAACTCTGGGAGTGATTCTTACTGGTCTCTTGGGTGTGATAGGAGAAAAGAAGCTGGTCTTCCTTTGGAATTTGACAAAGACCTGTATAAAGCTATGGAGGATTTCATGAAGGCATCAGATAGAGCAGATACAGACCCAGAATGTGATCCGGATGCGGGAGAGGTTGATGTTCTTGATGCTGAGGAATCCGGTCCAAAACCCAAAAAGCGAAGGCGTCGGTCAATCCCTAAAAAACGGTTATCTGAAGGGAGGAAACAGCCTGTAACAGAGGTAGAGCATGTGATTCCAGAGCCTCCTGTTGCTGAAGACATGGAGCAAATCCTGGCTGCGAAACTCATGGAGAACACAGAGCTGATCCATGCCATACTTGCAGGAAATGTTACTGAAAATGTTGACGAGGACTTGACCAGTGTAAGAAATGAGGAGTCCCTGAAGACTGAAAATGTTAGACGTAAAGCTGACAAGCTTGTTGAGTGCCTCGGAGATCTTGCCAAAAATCTGGAACACCTTTGTGGTGCAGTGGAGAAAGGTTAA
A12: CqTH05 | B12: AUR62038724-RA | C12: Protein | D12: MREADVGQLAESISGSRCTRSHLQAAAVWTVQDMLILVNEIAAVEGDWQNSLSTHQKWTIISETCTALGVGRNANQCRRKWQSLLADYNLVKEWKLNSGSDSYWSLGCDRRKEAGLPLEFDKDLYKAMEDFMKASDRADTDPECDPDAGEVDVLDAEESGPKPKKRRRRSIPKKRLSEGRKQPVTEVEHVIPEPPVAEDMEQILAAKLMENTELIHAILAGNVTENVDEDLTSVRNEESLKTENVRRKADKLVECLGDLAKNLEHLCGAVEKG*
A13: CqTH06 | B13: AUR62027681-RA | C13: CDS | D13: ATGGCGGAAGGTCCAGATTCATCGTCGCCATCTCTGGCGATGATTTCATCGTCTCGGCCTGTTCCAGTGAGGGAGGATTGTTGGAGCGAAGACGCGACGTTTACGCTGATCGAGGCGTGGGGACAGAGGTATATTGAGCTGAATCGAGGAAATCTGAGGCAGAAACAATGGCAGGAGGTTGCTGATACGGTGAATAACCGCCATGGACATGTGAAGAAAGCTCGGAGAACGGATGTGCAGTGTAAGAATCGGATCGATACTTTGAAGAAGAAGTATAAGATTGAGAAGGCTAGGGTTTTGGATTCTAATGGTGAGTATAAGAGTTCTTGGCCTTTCTTTGATCCTTTGGATCAATTGATTGGATCTACTATGCCGTTGAAGAAAATTTCTTCTCCTTCGCCTCCAATGGCGGTTCCGGTGATTGAGAAGTTTGGGGAGGTTTATGCGAAAGTCGAGGCCGAAAAGCAGAGGCAGATGGTTGAATTGGAGAAGCAGAGGATGCAATTTGCCAAGGAGATGGAGTGTCAAAGGATGCAGATGCTTGTTGAAATGCAGGTGCAGCTTGAGAAGGTTAAGCGTGCCAAGAGATCCGATTCGAATGGTGAGATTACGCTTCTTAGCTTTGTTAATTTGTTTGATTTTATTGATTTGTTGATCATGTGA
... A96: CqTH47 | B96: AUR62044655-RA | C96: Protein | D96: MMAQQEELHCKIIRDMVKRDEEKIAKEEAWKRQEFERLEKELDARAHEQAVSGDRHTKILGFLNKFSTSSSSFLETQSFKEALEKLNKVPKMTSSNSSILTQDSICVQLQPNSSCTTHTPLVNNIPSSSSNENLALDNSKSTLPLKSSSLDHQNPNNPLPSHQNEPLKIPSLVSSRKFSSSEHTSTNAADHITNTKALENIKSGNKDDTGRRWPRDEVLALINIRCSLFNNNGGETPHDTETSSKGPLWERISQKMTELGYKEVLRDAKKNGRT*
