Workbook

Sheet S1
A1: Table S1. Characteristics of the GATA genes in barley.
A2: Gene Name | B2: Gene ID(V3) | C2: Gene ID(V1) | D2: Chr. | E2: Protein | H2: Position of GATA domain
E3: Amino acids | F3: MW(kDa) | G3: pI | H3: From | I3: To
A4: HvGATA1 | B4: HORVU.MOREX.r3.1HG0023970 | C4: HORVU1Hr1G022710 | D4: 1 | E4: 155 | F4: 17.3433 | G4: 9.84 | H4: 23 | I4: 57
A5: HvGATA2 | B5: HORVU.MOREX.r3.1HG0058390 | C5: HORVU1Hr1G056280 | D5: 1 | E5: 360 | F5: 37.7468 | G5: 7.45 | H5: 259 | I5: 293
A6: HvGATA3 | B6: HORVU.MOREX.r3.1HG0073340 | C6: HORVU1Hr1G091450 | D6: 1 | E6: 326 | F6: 34.7281 | G6: 6.6 | H6: 248 | I6: 280
A7: HvGATA4 | B7: HORVU.MOREX.r3.1HG0076900 | C7: HORVU1Hr1G076000 | D7: 1 | E7: 377 | F7: 39.2595 | G7: 6.05 | H7: 250 | I7: 284
A8: HvGATA5 | B8: HORVU.MOREX.r3.1HG0091840 | C8: HORVU1Hr1G091450 | D8: 1 | E8: 217 | F8: 23.0835 | G8: 8.47 | H8: 112 | I8: 146
A9: HvGATA6 | B9: HORVU.MOREX.r3.2HG0125050 | C9: HORVU4Hr1G077050 | D9: 2 | E9: 775 | F9: 88.6077 | G9: 7.59 | H9: 115 | I9: 142
A10: HvGATA7 | B10: HORVU.MOREX.r3.2HG0184840 | C10: HORVU2Hr1G092420 | D10: 2 | E10: 368 | F10: 39.3787 | G10: 7.47 | H10: 286 | I10: 320
A11: HvGATA8 | B11: HORVU.MOREX.r3.2HG0185510 | C11: HORVU2Hr1G093230 | D11: 2 | E11: 441 | F11: 48.2336 | G11: 8.02 | H11: 7 | I11: 41
A12: HvGATA9 | B12: HORVU.MOREX.r3.2HG0217760 | C12: HORVU2Hr1G127370 | D12: 2 | E12: 456 | F12: 49.4143 | G12: 7.05 | H12: 8 | I12: 42
A13: HvGATA10 | B13: HORVU.MOREX.r3.3HG0277700 | C13: HORVU3Hr1G059870 | D13: 3 | E13: 232 | F13: 24.2498 | G13: 7.5 | H13: 109 | I13: 143
A14: HvGATA11 | B14: HORVU.MOREX.r3.3HG0288270 | C14: HORVU3Hr1G071030 | D14: 3 | E14: 392 | F14: 41.3539 | G14: 6.39 | H14: 265 | I14: 299
A15: HvGATA12 | B15: HORVU.MOREX.r3.3HG0330940 | C15: HORVU1Hr1G091450 | D15: 3 | E15: 181 | F15: 19.6874 | G15: 9.8 | H15: 43 | I15: 77
... A30: HvGATA27 | B30: HORVU.MOREX.r3.7HG0728220 | C30: HORVU7Hr1G097840 | D30: 7 | E30: 272 | F30: 28.8211 | G30: 9.85 | H30: 167 | I30: 202

Sheet S2
A1: Table S2. The list of 27 GATA genes identified in barley.
A2: Gene Name | B2: Gene ID | C2: Subfamily | D2: Sequence Type | E2: Sequences
A3: HvGATA1 | B3: =VLOOKUP(A3,'S1'!A:B,2,FALSE) -> HORVU.MOREX.r3.1HG0023970 | C3: Ⅱ | D3: CDS | E3: ATGGATTCGTCTCACCACAAGGTGATCGGGGTCGCTCCGGCGGTGGCGGAGGGAGGGAGGATGTGCTGTGTCGAATGCCGCACCACCACCACTCCCATGTGGCGCAGCGGGCCGACGGGGCCGAGGACGCTTTGCAACGCCTGCGGGATCCGGTACAGGAAGAAGAGGAGGCAAGAGCTAGGTCTCGACAACAAGCAGCAGAACCAGCAGGAGAACCAACAACAACAACAACATCAACAGCAGAACCAACAACAACAGCATCAACAACAACAAGAACAACAACAGCAACGAGAAGATAACGCAGAGGCAACAAGTGCAGTAAAAGACAGCAGCAGCAGTAGCAACAGCAAAAGCAGCAACCTCCAAGTGGTGAAGAAAAAAAGGAGGGTCTCAATGGGAGTGGAGGAGGCTGCATTCTTGCTCATGGCCTTGTCCTCCTCATCTACACCCCCACTACTGCATGGCTGA
D4: Protein | E4: MDSSHHKVIGVAPAVAEGGRMCCVECRTTTTPMWRSGPTGPRTLCNACGIRYRKKRRQELGLDNKQQNQQENQQQQQHQQQNQQQQHQQQQEQQQQREDNAEATSAVKDSSSSSNSKSSNLQVVKKKRRVSMGVEEAAFLLMALSSSSTPPLLHG
D5: GATAdomain | E5: CVECRTTTTPMWRSGPTGPRTLCNACGIRYRKKRR
A6: HvGATA2 | B6: =VLOOKUP(A6,'S1'!A:B,2,FALSE) -> HORVU.MOREX.r3.1HG0058390 | C6: Ⅰ | D6: CDS | E6: ATGGCGTCGGAGTGGGAAATGGCCATGGGCGTGGAGCTCGGCATGGGAATGGGATCGTACCACAACGCCGCCAACGTCAACGCCGCGCCCATGAGCCACCAGTCCGGCGGCTACTCCGCCTCCGCGGCTGCTCACCATTTCTACGGGATGCAGCCCATGCGCGACGCCAACATGCGCGTGGATGAGCTTATGGATCACTTCCCCAGCGCGGGCGCCCACGACTTCTTCCCCGCCGCGCCGGACAACGGACTCCACCACCACCAGCACCTCGGCGCCGCCGTGGGCGAGCTGTCGGCCACCACCCCTTCCGCCACGTCGTCCGATCACCAGACGTCGATGCTCTCTTTCGCCGACGAGTTCTACATACCCAGCGAGGAAGCCGCAGAGCTCGAATGGCTGTCCAAGTTCGTGGACGACTCCTACTCGGACATGCCGAATTACTCATCGGCTGCGCATGCGGCAATGGCGGCGGCAAACGCGGCGAACAACAGCGGCGGTGGCAGCGCGGCTGGTCCAGACAGCTGCGTCACAGCGCTGCCAGGCCGCGGAGCACGAAGCAAGCGGTCGCGGGCGAGCGCCGCGGCGGCCGCAGCATGGCACTCCCTCATGCCGCGCCCGCCCTCGCAGCCATCGCCGTCGTCCTCGTGTTCGTCGTCCGACTTGCCGTCCTCGACGACGGCACGACCCAGCGGCTCCAACTGTGGCGGCCGCGGTAAGAAGCAGGGACCCGTTGCCTGCGGGGAGGTGGGCCTGGTGGAAGGCGGCGTGCGGCGCTGCACGCACTGCGCGTCGGAGAAGACGCCGCAATGGCGAACGGGCCCGCTGGGGCCCAAGACGCTGTGCAACGCGTGCGGCGTGAGGTTCAAGTCAGGGCGGCTGGTGCCGGAGTACCGGCCGGCGGCAAGCCCCACCTTCCTGCTCACACAACACTCCAACTCTCACCGCAAGGTCATGGAGCTGCGCCGCCAGAAGGAGCTCGTTCTCATCCGCGGCAGCCACCGTCTCGACGCGGCGGCGGCTGGCCCCGGCCCCGGGGTGACCGTGAAGCCGGAGCTCATGTTCCATGACTACGGCATATGTTGA
D7: Protein | E7: MASEWEMAMGVELGMGMGSYHNAANVNAAPMSHQSGGYSASAAAHHFYGMQPMRDANMRVDELMDHFPSAGAHDFFPAAPDNGLHHHQHLGAAVGELSATTPSATSSDHQTSMLSFADEFYIPSEEAAELEWLSKFVDDSYSDMPNYSSAAHAAMAAANAANNSGGGSAAGPDSCVTALPGRGARSKRSRASAAAAAAWHSLMPRPPSQPSPSSSCSSSDLPSSTTARPSGSNCGGRGKKQGPVACGEVGLVEGGVRRCTHCASEKTPQWRTGPLGPKTLCNACGVRFKSGRLVPEYRPAASPTFLLTQHSNSHRKVMELRRQKELVLIRGSHRLDAAAAGPGPGVTVKPELMFHDYGIC
D8: GATAdomain | E8: CTHCASEKTPQWRTGPLGPKTLCNACGVRFKSGRL
A9: HvGATA3 | B9: =VLOOKUP(A9,'S1'!A:B,2,FALSE) -> HORVU.MOREX.r3.1HG0073340 | C9: Ⅲ | D9: CDS | E9: ATGCAACTTCCCGATCGAGAGGCCATAGATCGATCGACCGCTGCCTCCGCCCACGCCATGAAGCCTTACGGCGCGATGCACCAAAGCCATGTCCGCCAAGCGCGGGGCGCCTCTCACACCGACGACGTCGCCGGCAGCGGCACCGTCGGGCCGCCGGCCTTCGTCTCCGCACTCTACATCCCCGACGACCCGCTCGACGACGTCATGCAGTGCCTCGGCGACGGCACGGAGGATGGCTTCGCCGGCGGCGCGTGGTTCGACGACTTCTGCGGCGGCAGCATGGACATGTCGATGCGCGCCGGGACGGATTTCCTGAAAATGCTGCAGGAGCTCCCGGACCCAGAGAAAACGTCCGTCATTGCCGTCGACGGCTCCAATGGAACGACGCCGACGCCGACGCCGACAGCAACCGAAACTGCCACCGCTGTGCCGGACAGGCCAGCCGTGGCGACTAACCGCTGGTCCTCGTTGCCGTTCAGCGACCACATGGACGATGATGGGGACGACGACCAATATGTGATGTCGTCGAGCGATTCCTCGTCGGAGGACGACGACACCGACGCCCAGTGGCACCCATATGAGGGCAAGCAGAGTTACGCCGCGAACCGCCGGCAGCCGAAGCATCAGAGCGGCCCCGCGGCAGAGAGGAAGCAGCAAACGGAAACCGTCGTGCGGCCGGTGGTGCCGCGCAGCGTGGTGATCACCGTTGACGGCGGAGGCGGTTGCAGGGACAGTCACTGGTGCCGCAACTGCGGCATCTCGGAGACCCCGCTGTGGCGCGCTGGCCCGCAGGGGCCCAAGACGCTGTGCAACGCGTGCGGTTTGCGGTATAAGAACAAGCTAGCGGCGCCGCCGACCACTAAGCGCCCCCGGGCGGCGAAACCAAGTAGCGCCAAAAGCAAGAAACACTCCGGCAAGCCGTTGGCGGGCGGTGCGACGGTGGCGAGGAAGAAGCGCAGTGCCGCAAGTCGCGTGGACTGA
D10: Protein | E10: MQLPDREAIDRSTAASAHAMKPYGAMHQSHVRQARGASHTDDVAGSGTVGPPAFVSALYIPDDPLDDVMQCLGDGTEDGFAGGAWFDDFCGGSMDMSMRAGTDFLKMLQELPDPEKTSVIAVDGSNGTTPTPTPTATETATAVPDRPAVATNRWSSLPFSDHMDDDGDDDQYVMSSSDSSSEDDDTDAQWHPYEGKQSYAANRRQPKHQSGPAAERKQQTETVVRPVVPRSVVITVDGGGGCRDSHWCRNCGISETPLWRAGPQGPKTLCNACGLRYKNKLAAPPTTKRPRAAKPSSAKSKKHSGKPLAGGATVARKKRSAASRVD
D11: GATAdomain | E11: CRNCGISETPLWRAGPQGPKTLCNACGLRYKNK
A12: HvGATA4 | B12: =VLOOKUP(A12,'S1'!A:B,2,FALSE) -> HORVU.MOREX.r3.1HG0076900 | C12: Ⅰ | D12: CDS | E12: ATGGAGGTGGCGGCGGCCGAGTGCGCGGGCGGCGGCCTGCGGGAGGTCAAGAAGGAGGCCGCCGCCGCCGGCGACGTGTTCCTCGTCGACGACCTCCTCGACCTGCCCTGCGACGACGACGGGGAGGAGGAGGACGAGGCGGCGGGGTTCGCCGACGGGGCCGACTGCAGCGCCGGCGGCGCCGGCAACGCGTCGGCCGACTCCTCCACCGTCACCGCCGTCGACAGCTGCAGCAACTCCCTCTCCGGCGGCCTCGCCGACGGCGACTTCTCCGGCGGCCTCTGCGAGCCGTACGACCAGTTGGCGGAGCTGGAATGGCTGTCCAACTACATGGGCGACGACAACTTCCCCACCGAGGACCTCCGCAAGCTGCAGCTCATCTCCGGCATCCCCTCGGCGTCCTCCCAGACGGCGCCCAAGGCCGCGGCGCCGGTGCAGCCTTGTGGCGGCGGCGGTGTGGCCTTGTGGCGCTCGGAGGCTCAGGCGGGGCAGGTGGCTGTTCCGGGCAAGGCGCGCAGCAAGCGGTCCCGCGTGGCGCCGTGCAACTGGTCCTCCCGCCTGCTCGTGCTCCCGCCGGCGCCGGCCTCGCCGCCCTCCCCGGCGTCCGCGGTCATCTCGCCGTCCGAGTCCGGCACGGCCTTCCCGCTCTTCCCGAACAAGAAGCCCGCCAAGTCGTCCAAGAAGAAGGAGGCGCCGGCCGCCCCCGCCATGACCGCCGCGGAGGCCGCGGCCGCGGAGGGGAGGCGGTGCCTGCACTGCGAGACCGACAAGACGCCGCAGTGGAGGACGGGGCCGCTGGGGCCCAAGACGCTGTGCAACGCGTGCGGGGTGCGGTACAAGTCCGGGCGGCTGGTGCCGGAGTACCGGCCGGCGGCGAGCCCGACGTTCGTGCCGTCCAAGCACTCCAACTCGCACCGCAAGGTGGTGGAGCTGCGGCGCCAGAAGGACGCTCCGCCGACGCAGCATCAGCTCCTGCACCAGCAGCCGCAGCAGCACCAGCTTGGGCAGGGCCTGGGGTTCCACGTGCCGAGCCCGCTGCTGTTCGACGGGCCGGCGGCGCCGCACCTGGGCGGCGGCGCGGAAGAGTTCCTCATCCGCAACCGCATAGGCCCCGACCACCGGCAGCTCATCTAG
D13: Protein | E13: MEVAAAECAGGGLREVKKEAAAAGDVFLVDDLLDLPCDDDGEEEDEAAGFADGADCSAGGAGNASADSSTVTAVDSCSNSLSGGLADGDFSGGLCEPYDQLAELEWLSNYMGDDNFPTEDLRKLQLISGIPSASSQTAPKAAAPVQPCGGGGVALWRSEAQAGQVAVPGKARSKRSRVAPCNWSSRLLVLPPAPASPPSPASAVISPSESGTAFPLFPNKKPAKSSKKKEAPAAPAMTAAEAAAAEGRRCLHCETDKTPQWRTGPLGPKTLCNACGVRYKSGRLVPEYRPAASPTFVPSKHSNSHRKVVELRRQKDAPPTQHQLLHQQPQQHQLGQGLGFHVPSPLLFDGPAAPHLGGGAEEFLIRNRIGPDHRQLI
D14: GATAdomain | E14: CLHCETDKTPQWRTGPLGPKTLCNACGVRYKSGRL
A15: HvGATA5 | B15: =VLOOKUP(A15,'S1'!A:B,2,FALSE) -> HORVU.MOREX.r3.1HG0091840 | C15: Ⅱ | D15: CDS | E15: ATGGCCACCTCCACCTTCTCGCTCTTCTTCCCGCCGCTGCCCAGCAGCAAAGGCCAGTGGCCGGTGGCTGAGGAAGCTGCCTACTCCTACGACGACCACAGCACCGTCACCACCCTCTCTCCTTCCTCCCCGGCCTCCTCTGCTTCCTCGGGATCCCTGGTCGACTGCACGCTCTCCCTCGGCATGCCGTCCTCGCGCCGCCCACAGCCTGACCGCAGGCCACCGCCGCAGGCATACCCGTCCGTGTCCGCCGCGGCTGAGCCCTGCTACTACCACCAGCAGCATGGTGGCAGGGGCGGCGCCGCCGGGCACGAGCAGCTCCTGGACCGCCGCTGCGCCAACTGCGGCACCGCGTCCACCCCGCTCTGGAGGAACGGCCCCCGCGGACCCAAGTCGCTGTGCAACGCGTGCGGCATCAGGTTCAAGAAGGAGGAGCGGCGCGCGGCGGAGACCAACGGCGGCGGCGGGTGCGGCTACGTCGCGCAGCGGGCGCCCATGTCGGCCCCTCGCGCCGTGCCGTACGCGGAGGAGGCGCTACCTTACGCCGGCGCCGTCGACGCGCCGTTCCTGGCGTGGCGGCTGAACGGCGTCCCGCCGGCGCCGGCGTTCTCGGCGTGGCCCGACAGGCAGCACGGCGTGTACCAGTACAACTAG
D16: Protein | E16: MATSTFSLFFPPLPSSKGQWPVAEEAAYSYDDHSTVTTLSPSSPASSASSGSLVDCTLSLGMPSSRRPQPDRRPPPQAYPSVSAAAEPCYYHQQHGGRGGAAGHEQLLDRRCANCGTASTPLWRNGPRGPKSLCNACGIRFKKEERRAAETNGGGGCGYVAQRAPMSAPRAVPYAEEALPYAGAVDAPFLAWRLNGVPPAPAFSAWPDRQHGVYQYN
D17: GATAdomain | E17: CANCGTASTPLWRNGPRGPKSLCNACGIRFKKEER
A18: HvGATA6 | B18: =VLOOKUP(A18,'S1'!A:B,2,FALSE) -> HORVU.MOREX.r3.2HG0125050 | C18: Ⅳ | D18: CDS | E18: ATGAGACCACACGAGGCCACCTACCGCGCCGGCGCATCGGATCCCATCACCCCCTCCCCATCCCCACCCCCGCTCATCTGCTTGGCTCCAAACCCTAGCTCCGATTCCCACAAACAAAGAGGTTTTCAAAAATTCCTGCGAGATTTCGTCCCAGACCACTCGCCAGTGCTTCTCAAGGGTGGTGATGCCATGATGCACATGCTGGTGGCCTCGGACGGAGGCGGAGGGGAGATGCACCCGTACGCCATCGTGCCGGCGGAGCAGGAGCTGGAGCTGCACCGCGACAACGCCGCCGACGACAGCCTCGACGGCCACGTCCGGTGCCTGCGGTGTGGTATATCAGGCAATGCGACACCCCATATGCGACGTGGCCCTGATGGCCCGAGAACTCTTTGCAACGCCTGTGGCATCGCTTACAGGAAGGGCAAAATGAGAAGAATGATAGAAGCTGAACCACCTATAGATGAGGCTTCACTTGCTAAGCTTGTTCCTGAGGTGGATATGGAATTTGAGAGCGAGGAAAAAGCATATGAGTTCTACAACAAATATGCTGGGCATGTTGGCTTTAGTGTTCGAAAAAGCACGTCACATAAATCTTCTGAAAATATTACCAAAGTGAGGACTTTTGTATGCTCAAGAGAGGGTTACAATAGGGATAAAAAATCATTGGAGGCAAAGAAGCCAAGGTTGGATACAAGAATTGGCTGTCCAGCACGGCTGATTATTAAAGTCACACCAGAGTGTAAATACAGGGTCACTGATTTTAAAGCAGAGCACAATCATCAGCTGGCCCCTCCTTCGACGATGCATATGCTAAGGTCACAAAGGATATTGACAGAACTTCAGTCTGGGGAAGCAGAACTGTCAGATGATTCTGTAGTGACACCAACTACAAAAGCAACTGGTGATCTTGTTGTGAGACAAGTCGGTTTCCTTCGAAGTATTTCTCTCCTCCCAGCAGATTACAAGAACTATCTCCGGTCAAAGCGCACGAAGGCAATGCAACCTGGTGATGGTGGGGCCATATTAAAATATTTGCAGACTATGCAAATGGATAACCCATCGTTCTTTTATACCATGCAGATTGATGAGGATGACAAGCTAACCAACTTCTTTTGGACAGACCCAAAATCTAGAGATGACTTCAACTACTTCAACGATGTACTATGTCTAGACACAACTTACAAGATAAATGGATATGGCAGGCCATTGGCATTATTCCTTGGCGTGAATCATCACAGACAAACAATTATTTTCGGTGCAGCTATGCTTTATGATGAATCATTTGAGTCATATAAGTGGCTGTTTGAGAGTTTTAAGATCGCAATGCATGGAAAACAACCAGCGGTAGCTTTAATAGATCAATCGATTCAGTTGAGCAGCGCAATGGCAGCCGCCTGGCCAAATACTACTCAACGAGTTTGTGCTTGGCATGTATATCAGAATTCTGTTAAGCACCTGAATCAAGTTTTCCAAGGTTCAAAGACATTTGCAAAGGATTTTAGCAAATGTGTCTTTGGCTACGAGGAAGAGGAAGAATATGTCTTTGCTTGGAGAAGTATGCTGGAAAAATATGATCTTAGACATAATGAGTGGCTGTCTAAACTGTTTGATGAAAGGGAAAGATGGGCGTTGGCATATGATAGGCATATATTTTGTGCTGACATGATAAGTTCCCTTCAAACCGAGAGTTTTAGTAGCATTTTGAAGAAATTCTTGAGCCCTCAACTGGATCTGCTGTCCTTCTTCAAACACTATGAAAGAGCAGTAGATGAGCATCGCTACGCTGAGCTCCAAGCTGACTTCCAAGCTAGTCAAAGTTATCCAAGGATACCCCCGGCCAAGATGTTAAAGCAAACTTCCCATACGTACACACCAGTGGTGTTTGAGATCTTTCGTAAAGAGTTTGAACTGTTCATGGACTCTGTATTATTCTGTTGTGGAGAGGCTGGAACAACCTCTGACTACAAAGTTGCTCCCTCTGAGAAGCCCAAGGAACACTTTGTTAGATTCGACTCAAGTGATAACTCTTGTATGTGTACTTGTAGGAAGTTTGAGTTTATGGGTGTTCCATGTTGTCACATGTTGAAGGTGCTCGATTACAGAAATATCAAAGAGTTGCCTCAAATATATTTGTTGAAGAGATGGAGAAGGACTGCCAAGTCTACAGATGAAGACAACCAAGGCCATGCAGCAAACGATAACAGGTCATCATTAAATGTCTCTATACCTTCTGCAAATCACCATGGGCTCCAAAGCAACAATGCAAGGATTCAAGACACATCGCTTTCCAATATGCATGAGAACCCATTTCATAGAAGCTCATAA
D19: Protein | E19: MRPHEATYRAGASDPITPSPSPPPLICLAPNPSSDSHKQRGFQKFLRDFVPDHSPVLLKGGDAMMHMLVASDGGGGEMHPYAIVPAEQELELHRDNAADDSLDGHVRCLRCGISGNATPHMRRGPDGPRTLCNACGIAYRKGKMRRMIEAEPPIDEASLAKLVPEVDMEFESEEKAYEFYNKYAGHVGFSVRKSTSHKSSENITKVRTFVCSREGYNRDKKSLEAKKPRLDTRIGCPARLIIKVTPECKYRVTDFKAEHNHQLAPPSTMHMLRSQRILTELQSGEAELSDDSVVTPTTKATGDLVVRQVGFLRSISLLPADYKNYLRSKRTKAMQPGDGGAILKYLQTMQMDNPSFFYTMQIDEDDKLTNFFWTDPKSRDDFNYFNDVLCLDTTYKINGYGRPLALFLGVNHHRQTIIFGAAMLYDESFESYKWLFESFKIAMHGKQPAVALIDQSIQLSSAMAAAWPNTTQRVCAWHVYQNSVKHLNQVFQGSKTFAKDFSKCVFGYEEEEEYVFAWRSMLEKYDLRHNEWLSKLFDERERWALAYDRHIFCADMISSLQTESFSSILKKFLSPQLDLLSFFKHYERAVDEHRYAELQADFQASQSYPRIPPAKMLKQTSHTYTPVVFEIFRKEFELFMDSVLFCCGEAGTTSDYKVAPSEKPKEHFVRFDSSDNSCMCTCRKFEFMGVPCCHMLKVLDYRNIKELPQIYLLKRWRRTAKSTDEDNQGHAANDNRSSLNVSIPSANHHGLQSNNARIQDTSLSNMHENPFHRSS
D20: GATAdomain | E20: GNATPHMRRGPDGPRTLCNACGIAYRKG
A21: HvGATA7 | B21: =VLOOKUP(A21,'S1'!A:B,2,FALSE) -> HORVU.MOREX.r3.2HG0184840 | C21: Ⅰ | D21: CDS | E21: ATGGACGCGCTCAAGGGCAGTGGCCGGCACGAGGAGACGGCCGACGAGGTCGCCGCCGCCGACGCGCCGCCGGCCTGGGGCTTCGCCGAGAGGGACGGCTTCTCCGTCGAGGACCTGCTGGACCTCGAGGAGTTCTGCGAGCCGGATAAGGACGCCGCCGACGAGCCCGAGGAGGCGCCGCCGGCCGCCGCCGCGAAAGAAGACAAGTTGAACGGCGGGCCCCGTGCCTCCGCCGTGTCGTACGAGCTCGCCCCTCCGGCGCCGCCAGCGCCGGAGATTGTTGACCTGCCGGCGCATGACGTCGAGGAGGAGCTCGAGTGGGTGTCCCGTATCATGGACGACTCGCTCTCCGAGCTGCCGCCGCAGCCGGCGCCGCCCGCGTCGATGATGGCGGCGCGCCCGCCGCAGCACCGTCTGCTGCCGCAGCGGCGCCCGCAGGACGGAGCGTACCGCGCCCTGCCGTCCATGTCCGACCCCATGCGGACTCCGACCATATGCGCGCTGTCGACGGAGGCGCTGGTCCCTATCAAGGCGAAGCGCAGCAAGCGGTCTCGGGCGTCGGGGTGGTCGCTCTCGGGCCCCACGCCGGACTCCACCTCGTCCTCGTCGACCACCACCACCTCCTCGTGCTCCTCGTCGGCCTCCTTCTCGCCCTACTTCCTGCTGGACTCGCCCCAGTTCGGCGCGTCGGAGCTCATGGGGGAGTACAACATCCTGCCGCCGCCGGCGCCCAAGAAGTCCAAGCACGGTAAGAGCAGCAAGAACAAGCCCAAGAAGCGCGGCCGCAAGCCCAAGAACCTCCCCGCCCACCCGCCCAGCGGCGCGGAGGCCGCCGCCACCCAGAGCGACCGGCGCTGCAGCCACTGCGGCGTCCAGAAGACCCCGCAGTGGCGCGCGGGGCCGGAGGGCGCCAAGACGCTGTGCAACGCGTGCGGCGTCCGCTACAAGTCCGGCAGGCTCCTCCCCGAGTACCGCCCGGCGTGCAGCCCGACGTACGTGAGCAGCGTCCACTCCAACTCCCACCGCAAGGTGCTCGAGATGAGGCGCAAGAAGGAGGACGGCCCTCTCGCAGTCACCGCCACCGCGCCCGCAGTGGCGTCCTTCTAG
D22: Protein | E22: MDALKGSGRHEETADEVAAADAPPAWGFAERDGFSVEDLLDLEEFCEPDKDAADEPEEAPPAAAAKEDKLNGGPRASAVSYELAPPAPPAPEIVDLPAHDVEEELEWVSRIMDDSLSELPPQPAPPASMMAARPPQHRLLPQRRPQDGAYRALPSMSDPMRTPTICALSTEALVPIKAKRSKRSRASGWSLSGPTPDSTSSSSTTTTSSCSSSASFSPYFLLDSPQFGASELMGEYNILPPPAPKKSKHGKSSKNKPKKRGRKPKNLPAHPPSGAEAAATQSDRRCSHCGVQKTPQWRAGPEGAKTLCNACGVRYKSGRLLPEYRPACSPTYVSSVHSNSHRKVLEMRRKKEDGPLAVTATAPAVASF
D23: GATAdomain | E23: CSHCGVQKTPQWRAGPEGAKTLCNACGVRYKSGRL
A24: HvGATA8 | B24: =VLOOKUP(A24,'S1'!A:B,2,FALSE) -> HORVU.MOREX.r3.2HG0185510 | C24: Ⅳ | D24: CDS | E24: ATGGGAAAGGAGGGCCCTTGCCGTCATTGCGGCGTCACAAGCACTCCACTTTGGCGAAATGGGCCACTAAATAAGCCAGTGCTGTGCAATGCATGTGGCTCGAGATGGAGAACAAAGGGTTCCTTGGAGAATTACACACCAATGCATTCTCGTGACGATATTGATGCTGAGCAACCTAGAGTTAGCAAGCTGAAGCCGCCGACATTGAGGCTGAAGGAACAGAGGCAAGTAAAGAAAAAGCCAAGCCACAGCATAAGGGAGAATGGAGCATTTTCTGATCAAAACTTCTGGAAGATGGGGGATGCGGACCCAAGTCGATCTAGTTCAGGATCAGCACTATCATATTCAGAGAGTTGTGCCCCATATGGTTCTGCTGATGTTAGCGAAATGACTGGTTCAGCGCAATCGCATGCTTGGGAGTCATTGGTACCATCAAAAAAGAGAAGCTATGTCACTCGGACCAAGTCTTCATCCGTGGATATGCTTGTCAAGGATCTTCATTGTATAATGCATGAAGAGCAGTTATCTTACCTTTCTGGATCCTCGGAGGAAGATCTAATTTACCACAATGCAACCCCTGTGGGTTCCTTTGAGATTGGCTATGGAAGTATGCTTCTGAGAAGTTCAAACTCAAAATCAGCGGAGGAAGATTCAGAAGCAAACTCTGTTCCTGCAGATAATAAATCATACCTTACAAGTGAATCCTATTCAGGGACTGCCTCGTTTGTTGTGCATAGTGAAAGCAAGGGAGCAAGTAATTCAAATGCTGCACCTGAGAAGCCAAAGTGGTTTCCGGTGCAGACACATGAAAATGTTAAAAGGGGTAAACTTCATTACTCAAAGCAGCATACCCTGGAAAATGTAGGCTCAGCTTTAGTTTCAGTAGCTTTAGAGGGAGAAGACACTAAGGAAACAGGAGGAAATGAAAATACCAGTGCTTTGAAAGACCTTACCAAATCCAACATGAAGCCTCTCAAAAGGCCTCACGAAAGCCAGTTGCAAAGCTGCCCAGAAGGAACCATGAGGATTGCCAAAAAAGTTTGCAAATCTGTGACTATGGCTCCTCAGTTCAAAGGTTCATTTTTGCCCAAATCTGGAGGAGCGCCATTTAACTTACTCATGTTACCCCCAGATAAAATATCCATGCTGGCCCCTCCACAGTACATGGATAATTCTGATCAAGACTTGCTGCTGGAGGTTCCTCTCAATGCACGGCAGCCAGAGGCAGAGCTTCTTTACCAACCATTTCAACTTAGCTCAGTAGCCCGAAGCTCCACCTCCGCAGACGTGGTTGCTGATGGCGAGGGCCGCCTCAAGCAACCGTAG
D25: Protein | E25: MGKEGPCRHCGVTSTPLWRNGPLNKPVLCNACGSRWRTKGSLENYTPMHSRDDIDAEQPRVSKLKPPTLRLKEQRQVKKKPSHSIRENGAFSDQNFWKMGDADPSRSSSGSALSYSESCAPYGSADVSEMTGSAQSHAWESLVPSKKRSYVTRTKSSSVDMLVKDLHCIMHEEQLSYLSGSSEEDLIYHNATPVGSFEIGYGSMLLRSSNSKSAEEDSEANSVPADNKSYLTSESYSGTASFVVHSESKGASNSNAAPEKPKWFPVQTHENVKRGKLHYSKQHTLENVGSALVSVALEGEDTKETGGNENTSALKDLTKSNMKPLKRPHESQLQSCPEGTMRIAKKVCKSVTMAPQFKGSFLPKSGGAPFNLLMLPPDKISMLAPPQYMDNSDQDLLLEVPLNARQPEAELLYQPFQLSSVARSSTSADVVADGEGRLKQP
D26: GATAdomain | E26: CRHCGVTSTPLWRNGPLNKPVLCNACGSRWRTKGS
A27: HvGATA9 | B27: =VLOOKUP(A27,'S1'!A:B,2,FALSE) -> HORVU.MOREX.r3.2HG0217760 | C27: Ⅳ | D27: CDS | E27: ATGGCGAAGAAGGAGGGACCTTGCGGCCATTGCGGAGTCACAAGTACTCCTCTTTGGCGAAACGGGCCACCAGACAAGCCAGTTCTCTGCAATGCGTGTGGGTCAAGATGGAGGATAAAGGGTACGTTGGTGAATTACACACCGGCGCATCGTTGGGAAGATACTGATGCTGACAAGCTGAAGCATAAGGGACAGAAACAGCCCAAGAAAAGACCAAACCGCAGCATAGTCCAGGATGAACCATGTTCTGATCAGAACTTCTGGAAGATGGGGAATGCGGACACAAGCAATCGATCTGGTTCTGGATCAGCGGTGTCATATTCAGAGAGTTGTGCCCCATATGGTTCTGTTGATGCGTGTGAAATAGCCGGTTCAGCTCAGTCACGTGCTTGGGATTCACTAGTACCATCAAGAAAAAGGAGTTGTGTCACTCGTCCTAAGCCGTCACCCGTGGAAGAGCTTGTAGAGGATCTCAACTCCATATTGCAGGAAGAAAAGTTATATTGCCTTTCAGCAGGATCCACAGAGGAAGACCTGCTTTATCATAGTGAAACTCCCGTTGGCTCCTTTGAGATCGGTTATGGGAGTGTGCTTCTTAGATATCCGAACTCGAAATCAGTAGAGGAAGAGTCAGAAGCAAACTCTGTTCCTGCAGATAGCAAGTCATACATTACGAGCGAATCCTATTCAGGTTCTGCCTCATTCATTGCGCATAGTGAAATCAAGGGAGCGAGCAACTCAAATGCTGCATCTGAGAAGCTAAAGTGGTCACCGATGCAGACACATGACAGTGCTAAAAGGGACGAGCTTCATTATTCGAACCAGCATACCCTGGAGAGCACAGATTCAGCTTTAGTTTCAGTAACTTTAGAGGACAATTACAGCAAGGAAGTTGAAGGAAGAGGAGATGCAGGCGGCGGTTTCAGAGGCCTTACCAAGTCAAGCATGAGGTCTCTCAAAAGACCTTATGAAAGCCAGCCGCAAAGCTTCACAGATGCAGATGTGAGAGGTGGAACCATGACAATAGCTTCTTCGAGATCCAGGGCTATGGCTTCTTCTTGTCAGTTGAGAAGAAGCGCATGTTTGCCGAAATCTGGCAATGCCACCGGAGCAGTGGCAGCATCACTCAACCTGTTCATGTTAGCCCCAGATAAATTATCATCTATGCTGAATCCCTTGGACAAGGATTCTGACAAAGATTCGCTGCTGCTGGAGGTCCCTTGCAACACACGGCACTCGGAAGCAGAGCTTCTTCTCTGCGGCCCCCCACCATCTCAGCTCAGCTCCGTGACCGTAACCACAGCCTCTCCTCCGCGCAACCATAGTCCTGGTTCCGTTGGCGATCAGCTTAGGAACAGGCATCAGTGGTAG
D28: Protein | E28: MAKKEGPCGHCGVTSTPLWRNGPPDKPVLCNACGSRWRIKGTLVNYTPAHRWEDTDADKLKHKGQKQPKKRPNRSIVQDEPCSDQNFWKMGNADTSNRSGSGSAVSYSESCAPYGSVDACEIAGSAQSRAWDSLVPSRKRSCVTRPKPSPVEELVEDLNSILQEEKLYCLSAGSTEEDLLYHSETPVGSFEIGYGSVLLRYPNSKSVEEESEANSVPADSKSYITSESYSGSASFIAHSEIKGASNSNAASEKLKWSPMQTHDSAKRDELHYSNQHTLESTDSALVSVTLEDNYSKEVEGRGDAGGGFRGLTKSSMRSLKRPYESQPQSFTDADVRGGTMTIASSRSRAMASSCQLRRSACLPKSGNATGAVAASLNLFMLAPDKLSSMLNPLDKDSDKDSLLLEVPCNTRHSEAELLLCGPPPSQLSSVTVTTASPPRNHSPGSVGDQLRNRHQW
D29: GATAdomain | E29: CGHCGVTSTPLWRNGPPDKPVLCNACGSRWRIKGT
A30: HvGATA10 | B30: =VLOOKUP(A30,'S1'!A:B,2,FALSE) -> HORVU.MOREX.r3.3HG0277700 | C30: Ⅱ | D30: CDS | E30: ATGCTGCACGAGGCGGCGCCATGCACGTGTGGGCTGCTCTACGGCAGCTGCGGCGGCGGCTGCTCCATGCTGTTCGCCGCGGCGCCGGGGGACCACCACTACTACACCAAGCAATGCGTCGACGACGGCTCCTACGCCACCTACGGCGGCTCCGTCGACTGCACGCTCTCGCTCGGCACGCCCTCCACCAGGCGCGCCGAGGCCGGGGTCCGTGCGCCAGCGGCCGGGCTGCCGTGGGAGGCGGTGCCCAGCTGCAACGGCAGGCAGGATATCGGCCCGGCTCGAGCGGATCAGAGCAATGCCGGCGCCGCGTCCGCTCGCCGGTGCGCCAACTGCGACACCACCTCCACCCCGCTCTGGAGGAACGGGCCTCGCGGACCAAAGTCATTGTGCAATGCGTGTGGAATCCGGTACAAGAAAGAGGAGCGGCGCGCGGCAGCCGCAGCGGCGGCGCCGACGGCGCTGGCGTCGGAGAGCGGGATCGAGTACGCGTACGGGTACGCGCGGCAGCAGCAGCAGCAGCAGCAGCAGCAGTGGGGTTGCTACGGCCCGGCCGTGGCGAAGGCTGCGTCCTACGGGATGTTCGGCGACGCGGCGGCGGAGGACGGGCCGTGCCTGCCATGGGGGCTGGGCGTCATGCCCTCATCGCCGGCGTTCGGGTCCGTCCGGGAGATGACAAGCCTGTTCCAGTACTACTAG
D31: Protein | E31: MLHEAAPCTCGLLYGSCGGGCSMLFAAAPGDHHYYTKQCVDDGSYATYGGSVDCTLSLGTPSTRRAEAGVRAPAAGLPWEAVPSCNGRQDIGPARADQSNAGAASARRCANCDTTSTPLWRNGPRGPKSLCNACGIRYKKEERRAAAAAAAPTALASESGIEYAYGYARQQQQQQQQQWGCYGPAVAKAASYGMFGDAAAEDGPCLPWGLGVMPSSPAFGSVREMTSLFQYY
D32: GATAdomain | E32: CANCDTTSTPLWRNGPRGPKSLCNACGIRYKKEER
A33: HvGATA11 | B33: =VLOOKUP(A33,'S1'!A:B,2,FALSE) -> HORVU.MOREX.r3.3HG0288270 | C33: Ⅰ | D33: CDS | E33: ATGGAGGCGACGGCGACGGCGCCCGACTGCGACGCGCACGGCTACTACGGCCGCGACAACAAGAAGGGCCCCGACCTCTTCGTCGTCGACGACCTCCTCGCGCTGCCGTGCGACGACGACGAGGAGGACGAGGAGGCGCCGCCCTTCCTGCCCGCCGCCACCGCCGTCGTCAAGCAGGAGGCCGCAGGGTTCGGGAACGCGTCGGCCGACTCGTCTACCGTCACGGCCCTCGACAGCTGCAGCAACTCCTTCTCCGGCCTCGCCGACGGCGACTTCTCCGGCGGCCTCTGCGAGCCGTACGATCAACTGGCGGAGCTGGAATGGCTGTCCAACTACATGGGCGAGGGCGAGGAGAGCTTCGCCACCGAGGACCTGCACAAGCTGCAGCTCATCTCCGGCATCCCGTCCGGCGGCTTTCCCACGGCGAACGGGCCACCTGCTCCAGCGACCACCGCTGCTGCCAGTGCCAGTGCCAGTGCAACGGCGCAGCCTGGCGTGTTCCTGCCGGAGGGCCCCGTCCCCGCCAAGGCCCGTAGCAAGCGCTCCCGCGTCGCACCAGGCAACTGGTCGTCCCGCCTGCTCGTTCTCCCGCCGGCTCCGGCCTCTCCGCCGTCCCCGGCGTCCATGGCCATCTCGCCGGCGGAGTCTGGCGTCTCGGCTCAGGCGTTCCACGTCAAGAAGCCTTCCAAGCCGGCCAAGAAGAAGGAGGTGCCGCCGCAGGCTCAGCCAGTGACCGTGAGCTCGCCCACAGCGCCCTCGGGCGTCACGGCGGCCGCCAACGAAGGTCGGCGGTGCCTGCACTGCGAGACGGACAAGACGCCGCAGTGGAGGACGGGGCCCTTGGGCCCCAAGACGCTGTGCAACGCGTGCGGGGTGCGGTACAAGTCGGGCCGGCTGGTGCCGGAGTACCGCCCCGCCGCGAGCCCGACGTTCGTGACGTCGAGGCACTCCAACTCCCACCGCAAGGTGCTGGAGCTCCGCCGGCAGAGGGAGATGCACCACCAGCCGTCGCAGCACCTGCAGCAGCACGTGGTCCCCGGCGGCGTCGGGAGGATAATGCACATGGAGAGCCACCTGCTGTTCGACGGGCCGGCGGCGCCGCCCATCATCGGCGGAGGCGACGACTTCTTGATCCACCACCGCCTAGGGACGACGGACTACCGGCAGCAGCTCATCTAG
D34: Protein | E34: MEATATAPDCDAHGYYGRDNKKGPDLFVVDDLLALPCDDDEEDEEAPPFLPAATAVVKQEAAGFGNASADSSTVTALDSCSNSFSGLADGDFSGGLCEPYDQLAELEWLSNYMGEGEESFATEDLHKLQLISGIPSGGFPTANGPPAPATTAAASASASATAQPGVFLPEGPVPAKARSKRSRVAPGNWSSRLLVLPPAPASPPSPASMAISPAESGVSAQAFHVKKPSKPAKKKEVPPQAQPVTVSSPTAPSGVTAAANEGRRCLHCETDKTPQWRTGPLGPKTLCNACGVRYKSGRLVPEYRPAASPTFVTSRHSNSHRKVLELRRQREMHHQPSQHLQQHVVPGGVGRIMHMESHLLFDGPAAPPIIGGGDDFLIHHRLGTTDYRQQLI
D35: GATAdomain | E35: CLHCETDKTPQWRTGPLGPKTLCNACGVRYKSGRL
A36: HvGATA12 | B36: =VLOOKUP(A36,'S1'!A:B,2,FALSE) -> HORVU.MOREX.r3.3HG0330940 | C36: Ⅱ | D36: CDS | E36: ATGTCGCCGGCGGAGATGGGGTCCGACAAGATGAAGATGAAGATGAAGATGATTGAGGTGGAGGTCCAGGCGGCGGCGGCGGATCCTGATGACTGCACGGCTTCCGGCGCCGGCGACCCCAAGTCCTGCGCCGACTGCAACACCACCAAGACGCCGCTCTGGCGCGGAGGACCCAACGGACCAAAGTCGCTGTGCAACGCGTGCGGGATCCGCTACCGGAAGAGGCGGCGGGTGGCCATGGGGCTCGACCCGGAGGCCAAGAGGAAGCCCAAGAGGGACGACGCCATCAATTCAGCCGCAGCCGCAGCCGAGGCCTCTACCCAGCAGCAGGAGGAGGTCACCAAGCCCACCGACGACGACAAGGCGGTCAGCACCAACAAGACTACAAAGACGCACACCGTTGAGCTCCACATGGTGGGGTTCGGCAAGGACGCCGTGCTCAAGCAGCGGCGCCGGATGCGCCGGAGGAAGCCGTCGTGCCTGGGAGAGGAGGAGCGCGCCGCCATGCTCCTCATGGCGCTCTCCTCGGGCGTAATATACGCCTGA
D37: Protein | E37: MSPAEMGSDKMKMKMKMIEVEVQAAAADPDDCTASGAGDPKSCADCNTTKTPLWRGGPNGPKSLCNACGIRYRKRRRVAMGLDPEAKRKPKRDDAINSAAAAAEASTQQQEEVTKPTDDDKAVSTNKTTKTHTVELHMVGFGKDAVLKQRRRMRRRKPSCLGEEERAAMLLMALSSGVIYA
D38: GATAdomain | E38: CADCNTTKTPLWRGGPNGPKSLCNACGIRYRKRRR
A39: HvGATA13 | B39: =VLOOKUP(A39,'S1'!A:B,2,FALSE) -> HORVU.MOREX.r3.4HG0334570 | C39: Ⅲ | D39: CDS | E39: ATGTCCGACCCTGCCTCCGCCCGGGACCCCGACGCCGAGATGCGCGACGCCGCCGCGGCAGAAGCGGCAGCAGCCGGCGACGACGACGACGGCAGCGAGGATGACGCGGAGGAGGAGGAGGAGGAGGAGGAGGAGGAGGAGGAGGAGCTGGCACCTGCCGAGGAGCCGGCGGCGGCACCGGAGCCGGTCTCGGCCTTCCCGGGGAGCCCGAACCAGCTGACGCTGCTGTTCCAGGGCGAGGTCTACGTGTTCGAGTCCGTCACCCCTGACAAGGTTCAAGCTGTCCTGTTACTGTTAGGAACTGGTGAAATTCCACCCGGTCTATCTGCCATGGTTTTACCCAGTCGACGTGAAAACAGGGGTTATGAGGATTTGCTTCAGAGGACAGACATTCCTGCAAAAAGGGTTGCTTCACTCATTCGGTTCCGCGAAAAACGCAAGGGGAGAAATTTTGATAAGCAAATACGCTATGCTGTACGCAAAGAAGTGGCGCACAGGATGCAGCGTCGGAAGGGGCAATTTGTTGGAAGTGCAAATTTGGAGGGGGAGTCCCCTTCTCCAGGCTGTGATCCTGCCTCCCAGGGCTCAGGCCAAGATTTCCTGTCTCGAGAATCAAAGTGTCAGAATTGTGGCACTAGTGAAAAGATGACGCCGGCAATGCGTCGTGGTCCAGCTGGTCCAAGGACTTTGTGCAATGCTTGTGGACTGATGTGGGCAAACAAGGGCACCCTGAGAAGTTGCTCCAAGGCAAAAGTCGAAGCTCCTATGCTTGCAATTGAGCAGTGCAACGCTGCGGTTGCCCAGTGTCAGACTGGAACCGATGTCAAAGCACTGCCAGCTCCAAGCAACTACGACGTCACTCCAAGCAAGGGCGAAGCCATGGATAACAGTGTGACTGCAACCGTAGCTGCTGCTGCGATAGAAGGAGCGCCGAAGGCGCAGTCAGAATAA
D40: Protein | E40: MSDPASARDPDAEMRDAAAAEAAAAGDDDDGSEDDAEEEEEEEEEEEEELAPAEEPAAAPEPVSAFPGSPNQLTLLFQGEVYVFESVTPDKVQAVLLLLGTGEIPPGLSAMVLPSRRENRGYEDLLQRTDIPAKRVASLIRFREKRKGRNFDKQIRYAVRKEVAHRMQRRKGQFVGSANLEGESPSPGCDPASQGSGQDFLSRESKCQNCGTSEKMTPAMRRGPAGPRTLCNACGLMWANKGTLRSCSKAKVEAPMLAIEQCNAAVAQCQTGTDVKALPAPSNYDVTPSKGEAMDNSVTATVAAAAIEGAPKAQSE
D41: GATAdomain | E41: CQNCGTSEKMTPAMRRGPAGPRTLCNACGLMWANKGT
A42: HvGATA14 | B42: =VLOOKUP(A42,'S1'!A:B,2,FALSE) -> HORVU.MOREX.r3.4HG0340090 | C42: Ⅲ | D42: CDS | E42: ATGGCGGCGGAGCCCGCGGCGGACGGCCACGATCCCCCGCTGGCGGATGCCTCCGGCGACGACGACGCCGCGGCGGCGGACGCGCTCCTGAGCGCGGCCTCGGAGCAGCTGACGCTGGTGTACCAGGGGGAGGTCTACGTCTTCGACCCCGTCCCGCCCCAAAAGGTTCAAGCTGCTCTATTGGTGCTTGGAGGGTGTGAGCTGCCTACTGGTTTAGTAAGCATGGCTGGGCCTACTGCATATGGTGAAAAGAGTACAACTGTGGCTGCCAAAAGGGTTGCTTCCTTAATGAGGTTTCGTGAGAAGAGGAAGGAAAGATGTTTTGATAAGAAAATAAGATACGGAGTGCGCAAGGAAGTTGCCCAAAAGATGAAACGGCGTAAAGGACAGTTTGCTGGAAGGGCAGATTTTGGTGATGCTGCAAGTTCTTCTGCAGCTTGTGTCTCTGCAGCCGATGGCGAGGATGATCATTTCCGAGAATCCCATTGTCAAAACTGTGGTGTCAGCTCAAGGCTTACTCCAGCAATGCGTCGGGGGCCGGCTGGCCCAAGGACCCTCTGTAATGCTTGTGGCCTGATGTGGGCAAATAAGGGTACTCTGAGAAGTCCTTTGAATGCCCCAAAGATGACGGTGCAGCATCCCGCCAATCCGAGTAAAATGGAAAGTGTGGATGATGATAAAGCAATTGTGTGTGCTGAGCATAACCATACCGCGGTCAAAATGGACTCTGAGATGAGTCCGGAACAAGAACAGAAACCGGAACTGCGCCCGGCGACCGAAGGCGACAGCATGGCTGATTCATGA
D43: Protein | E43: MAAEPAADGHDPPLADASGDDDAAAADALLSAASEQLTLVYQGEVYVFDPVPPQKVQAALLVLGGCELPTGLVSMAGPTAYGEKSTTVAAKRVASLMRFREKRKERCFDKKIRYGVRKEVAQKMKRRKGQFAGRADFGDAASSSAACVSAADGEDDHFRESHCQNCGVSSRLTPAMRRGPAGPRTLCNACGLMWANKGTLRSPLNAPKMTVQHPANPSKMESVDDDKAIVCAEHNHTAVKMDSEMSPEQEQKPELRPATEGDSMADS
D44: GATAdomain | E44: CQNCGVSSRLTPAMRRGPAGPRTLCNACGLMWANKGT
A45: HvGATA15 | B45: =VLOOKUP(A45,'S1'!A:B,2,FALSE) -> HORVU.MOREX.r3.4HG0347200 | C45: Ⅰ | D45: CDS | E45: ATGCGGAACCCAGCGCCGTACGCCTCCCTCCTCAATGACGTCCCTCCCGCCGACGTCAACGGCGCCGGCGCCGGCGCCGACGCCGACGCCGACCTCTGCCCGGACGGCGGCCTGTGCTGGCCGGACGACCCGCTCGACGAGGTCATAGGCTACGTGTCCATGCTCGACGACGGCTTCTTGGAGGGCCTCGGGCTGCGCTGCTCGCCGCCGCGGGGCGGAGTCGGCGACGGCCAGGACTACTACGGGGGCGCGCTGGAGGGCATGGAGGCCGACGCGAACCTCGGTTCGCTGGCGGAGGAGGGACCGCTCTCTCTCTGTGGCGCCGGCGCCCCCGGCGGCCGGAAGAGGACCGCGTTCCACGTGTTCGACAGTAAGCCCCAGGGGTTGCCGCCGGCGCGAGCGCGCTCCCTGTCTTGCAGCATGACGACGACCTCGTCGTCCACCGCGTCCTGGCGCAGCAGCCTCTCGCCCACGTCCGGCGTGACCGAGTCGCCCCGGGAGCCTGCCTCCGAGGGCGATGACCTGCGTTGGACTTTGCCGAGGAAGCCGCACCACCGACGGCCCGTCCGCAGTCGCGCCGCCTGCCCCTCCATGTCTTTGGCTCTCCCGCCCCAGCTCATGTCGGCCGCCGCCTACGACTGTCAAGGTGACAAGAATCCCAACGACGACAAAGACAAAGACTACGTGCTCTGCAAGAACGGCCGCGGCAAAGCCGGTCCACGCCCGGCCCGGCGGCAGCAGAAGAAAACGGATGGCCCGGGTAAGATTTGCACCCACTGCGGCTCGACGAGCACGCCGCAATGGCGGACGGGGCCGGCCGGGAGCGGCACCCTGTGCAACGCATGCGGCATCCGGTACAAGATGGGCAAGCTATTCCCGGAGTACCGCCCGTCCACGAGCCCCGAGTTCAGCAACATTGAGCACTCTAACCGCCACAAGAACGTGGAAAGAATCAGGGATCGGAAGAAGAAGTTGAAGGTGATGACTCCCGAGGTGCCGGTGAGTCCGGACGTCGATGACAAAGTGCTCCTTCGAGCCTGTAAATACGAAAGGTAG
D46: Protein | E46: MRNPAPYASLLNDVPPADVNGAGAGADADADLCPDGGLCWPDDPLDEVIGYVSMLDDGFLEGLGLRCSPPRGGVGDGQDYYGGALEGMEADANLGSLAEEGPLSLCGAGAPGGRKRTAFHVFDSKPQGLPPARARSLSCSMTTTSSSTASWRSSLSPTSGVTESPREPASEGDDLRWTLPRKPHHRRPVRSRAACPSMSLALPPQLMSAAAYDCQGDKNPNDDKDKDYVLCKNGRGKAGPRPARRQQKKTDGPGKICTHCGSTSTPQWRTGPAGSGTLCNACGIRYKMGKLFPEYRPSTSPEFSNIEHSNRHKNVERIRDRKKKLKVMTPEVPVSPDVDDKVLLRACKYER
D47: GATAdomain | E47: CTHCGSTSTPQWRTGPAGSGTLCNACGIRYKMG
A48: HvGATA16 | B48: =VLOOKUP(A48,'S1'!A:B,2,FALSE) -> HORVU.MOREX.r3.4HG0405380 | C48: Ⅳ | D48: CDS | E48: ATGCAGTTCGAGGGCGCGGGGGGCGTTGGTGTTGGTGTCGGCGATGGCGAAGGAGACGGCAGGGTGGACGAGCCTACCAGATGCCTACGCTGTGGAATTAGCGCAAATGCGACGCCTCACATGCGTCGTGGACCGGAAGGACGGCGGACTTTATGCAATGCATGTGGAATAGCATGGGCAAAGGGAAAATTGAGAAAAGTTATTGATTCTGATGACCCCATTGATGATGCCACTGTTGCAAAAGTGGTGCCTGAAATTGGCATGGAATTTGACAATGAAGATAAAGCATATGAATTCTATAACAGGTATGCTGGACACATGGGCTTTAGTGTTCGTAAGAGTTCATCGGACAAATCAGCTGACAATATCACAAGATCAAGAACCTTTGTATGCTCGAGGGAGGGTTTCCGTAAGGACAAGAAAGGAGCTAACGAAGTTAAAAGGCCACGGCCAGAAACAAGAATAGGGTGCCTTGCACGGATGATAATTAAGATTACATCCGATAATAAATATCGCATTGCTGAATTTAGAGCAGAACATAACCACCAGCCAGCACCCCCATCTACCATGCATATGCTGAGATCTCAGAGGGTGGTTACTGAGGTAGAAAGAACTGAATGCGACTCCTCAGAAGATTCCACAACACCGTCAAGTTTTTCTGGTGTCTCTTTAGTACAGCAGGCAGGAGCTTTTAGAAATGTTAAATTCCTCCCTGCAGATTACAGAAGTTCCCTTTGTTCAAAGCGTATGAAAAATATGCAACCTGGTGATGCAGGAGGTGTTGTGAAGTACCTGCAGAGCATGCAGTTAAACAATCCGTCTTTCTTTTATGCTGTCCAGCTCGACGAGGATGACAAACTGACCAATATTTTCTGGGCCGATTCCAAATCTAGAGTTGATTTCAGCTACTTCAGTGACGTGGTTTGTTTGGACACAACCTACAAGATAAATGCACATGGAAGGCCATTAACTCTCTTCCTTGGAGTGAATCATCACAAGCAAATTTCCATATTTGGCGCTGCTTTGCTTTATGATGAATCAGTGGAATCGTTCAAGTGGTTGTTTGACACGTTCAAGATCGCTACAGATGGAAAGCAGCCAAAAACAATCTTGACAGATCAATCAATTGCAGCAAGTGCTGCCATAAGCGCAGTATGGCCAAGTACAATTCACTGTCTTTGCCCATGGCAAGTGTACCAAAATACTGTCAAACACCTTAATCACATCTTCCAAGGCGCTAAAACATTTGCAAAGGATTTCAGCAGATGTGTCTATGATTGTGAGGATGAAGAGGGTTTCTTGGTAGGATGGAGAACCATGCTAGAGAAGTATGATCTAAGAAACAATGAATGGCTTCATGAGTTATTCGAAGATCGAGATAAATGGGCATCAGCGTACAATCAACATGTATTCACCGCAGATATAAAAAGTTCATTGCAGTTAGAAAGTGTTAGCAATGTCTTGAGAAAGTACCTGAGTCCACAGTTTGATTTCTTGTCTTTCTTCAAGCACTATGAAAGAGTTTTGGATGAGAATCGCTATGCAGAGCTTCAAGCTGATTTTCATGCAAGCCAAAGCTTTCCGAGAATACCTCCCTCGAAAATGCTGAAACAAGCTGCCAACATATACACACCTGTGGTTTTTGAAAAATTTCGCAGAGAGTTTGAGATGTTTGTGGATTCAGTGATCTACAGTTGTGGGGAGTCAGGAACTGCATCGGACTATAGAGTAGCAGTAACAGATAGGCCTGGGGAACACTATGTTAGGTTTGACTCCAGTGACTTATCTGTTGTTTGCAGTTGTAAAAAATTCGAATCAATGGGTATCCAGTGTTGCCATGTATTGAAAGTCCTAGATTTCAGAAATATAAAGGATTTGCCAGAAAAATATTTGATGAGAAGATGGACAAAGGATGCAAAGTCTGCAGATAGAGGCAATCAAGAGTTCTTGAGTGATGGAGCTTCGCAAACTCCAAGCTCTCGTTTAAATGACACTGTGCCAATCATAGATCAACCACAATTGCACTTAAATAATCACCACGGTCATGGCGCTTCTGTTTCTAACTTTGGCCACCAAGCCCTTCAGGAAAATGCCCATGGAAACCAGGGTTATGCCCCTTTAGCTGGGATGAACCAGCAGCCATTTATCGGAGGTTCCCCCCTAAACCATGAAACAGGTTTTGGATGA
D49: Protein | E49: MQFEGAGGVGVGVGDGEGDGRVDEPTRCLRCGISANATPHMRRGPEGRRTLCNACGIAWAKGKLRKVIDSDDPIDDATVAKVVPEIGMEFDNEDKAYEFYNRYAGHMGFSVRKSSSDKSADNITRSRTFVCSREGFRKDKKGANEVKRPRPETRIGCLARMIIKITSDNKYRIAEFRAEHNHQPAPPSTMHMLRSQRVVTEVERTECDSSEDSTTPSSFSGVSLVQQAGAFRNVKFLPADYRSSLCSKRMKNMQPGDAGGVVKYLQSMQLNNPSFFYAVQLDEDDKLTNIFWADSKSRVDFSYFSDVVCLDTTYKINAHGRPLTLFLGVNHHKQISIFGAALLYDESVESFKWLFDTFKIATDGKQPKTILTDQSIAASAAISAVWPSTIHCLCPWQVYQNTVKHLNHIFQGAKTFAKDFSRCVYDCEDEEGFLVGWRTMLEKYDLRNNEWLHELFEDRDKWASAYNQHVFTADIKSSLQLESVSNVLRKYLSPQFDFLSFFKHYERVLDENRYAELQADFHASQSFPRIPPSKMLKQAANIYTPVVFEKFRREFEMFVDSVIYSCGESGTASDYRVAVTDRPGEHYVRFDSSDLSVVCSCKKFESMGIQCCHVLKVLDFRNIKDLPEKYLMRRWTKDAKSADRGNQEFLSDGASQTPSSRLNDTVPIIDQPQLHLNNHHGHGASVSNFGHQALQENAHGNQGYAPLAGMNQQPFIGGSPLNHETGFG
D50: GATAdomain | E50: CGISANATPHMRRGPEGRRTLCNACGIAWAKGKL
A51: HvGATA17 | B51: =VLOOKUP(A51,'S1'!A:B,2,FALSE) -> HORVU.MOREX.r3.4HG0407380 | C51: Ⅰ | D51: CDS | E51: ATGGTGGGCGGCGGCGATGTTGGCAAGCAGGCCGCGGCGGCGGCGGCGGCGGCGGCGGCGCTGGACCAGGACCTGCCCAGCTTCAATATGTTCTTTGACCAGACGGGGTTGGAGGTGGCGGCGGCGGCGGCGGCGGGGGATTGGGGACTGGCGGCGGCGGGGGAGGAGGATTTGGAGGAGCTGGAGTGGCTTTCGAACATGGACGCGTTCCCGTCGGTGGAGACCATGGCGGTGGAGGCGGTGGAGGAGGTGCCGGAGCTGGTGCCGGCCGCGCCGTCCGGGCGGCCGGCGGTGGGGCCGAGGACGAAGGGGCGTCGGCGTCGGGTGACGGCCCCGTGGAACCTGGCGGAGCCGCCCACGCTGCCGCCGCCGCTCCCGGCGGCTCGGCGGTGCACGCACTGCGCGTCGGAGGTGACCCCGCAGTGGCGGCAGGGTCCGCTGGGGCCCCGCACGCTGTGCAACGCGTGCGGCGTGCGGTACAAGACGGGGCGGCTGCTCCCGGAGTACCGGCCGGCCAACAGCCCCACCTTCTCCCCGCTGCTGCACTCCAACTCCCACCGCCGCGTCATGCAGATGCGGCTCCGGAGCGAGAGCGAGGGCGAGGGCGAGGGCGAGGGCGCCTCCCCCGCCGTCCGCGCCGCCGCAAAGGCCCGCCGCGCCGAGCGCGCGGCGGCCCGCCTCGCCGCCAAGGCCGGCGACGGCGCCCCGGCCCCTGCTCCAGCCCCATCCCAGGCGCCGCTGCCGTAG
D52: Protein | E52: MVGGGDVGKQAAAAAAAAAALDQDLPSFNMFFDQTGLEVAAAAAAGDWGLAAAGEEDLEELEWLSNMDAFPSVETMAVEAVEEVPELVPAAPSGRPAVGPRTKGRRRRVTAPWNLAEPPTLPPPLPAARRCTHCASEVTPQWRQGPLGPRTLCNACGVRYKTGRLLPEYRPANSPTFSPLLHSNSHRRVMQMRLRSESEGEGEGEGASPAVRAAAKARRAERAAARLAAKAGDGAPAPAPAPSQAPLP
D53: GATAdomain | E53: CTHCASEVTPQWRQGPLGPRTLCNACGVRYKTGRL
A54: HvGATA18 | B54: =VLOOKUP(A54,'S1'!A:B,2,FALSE) -> HORVU.MOREX.r3.4HG0416070 | C54: Ⅰ | D54: CDS | E54: ATGGCGCCGGAGTGGGAGGCAGCGTTGGGCATGGAGCTCGGCATGGGCACGCACTACCACCACGCGCCGCCATCCGCCGCCGCCTCCCCCATGAACCACCACCACCACCACCACCACGGCTACTCCCACTCCCAGCCCCCGCACCAGTACCATTTCTACGGGGGCGCCGCGGGCGGTGACGGCGCCGACCCCATGCGCGTCGACGAGATGCTCGACCTGTCCTCCCACCTCGGCGCGCACGACTTCTTCTCCGGCGCCGCCAATGGCCAGGGCGGCGACAACGCGCCGGCCCCGCCTGCGGCTGCCGCGGCCTCATCGTCCGACCACCAGCACCACCACCCGTCGTCCTTCAACCTCTCCTTCGCCGACGAGTTTTACCTGCCTGTTCCGACTGAGGAGGCCGCGGAGCTGGAGTGGCTGTCCAATTTCGTGGACGACTCCTACCCGGACGTCCCCAACTACCCGCCGGCCGTGCAGGCGGCGATGGCGGCCGCCGCGAGGAACGGCGGCGTCGTGGTGAAGCAGGAGAATTCCGCGTCGGCGGCCGCGCCTGGCCGCGGCGCGCGGAGCAAGCGGTCGCGGGCGGCCTCCGCGGCCGCGGCAGCGTGGCACGCCCTTGCACCGCGCCAGCCCTCGCCGTCCTCGTCTTCGTCGTCCTCGGACTCCAAGCCTGCGCGTTCAGGCGGCGGCGGGGGCGGCGTGAAGAAGAGCGGGCTCGTGGTCGGGGCCGCGGAGCTGGGCGGAGGGGAGCAGAGCGGCGAGGTGCGTCGGTGCACGCACTGCGCGTCGGAGAAGACGCCGCAGTGGCGGACGGGGCCGCTGGGGCCCAAGACGCTGTGCAACGCGTGCGGGGTGCGGTACAAGTCGGGGCGGCTGGTGCCGGAGTACCGCCCGGCGGCGAGCCCCACGTTCGTGCTGACGCAGCACTCCAACTCCCACCGCAAGGTGATGGAGCTACGCCGGCAGAACGAGCTTGTCCACCTCCGCGGCGGCGTGGCCGGGGGCGTCGTGTCGGGGTCGTCCGGCTCCGGCGGCGCGGCGGAGCACATGTTCCGCGACTACGGCGTGTGCTGA
D55: Protein | E55: MAPEWEAALGMELGMGTHYHHAPPSAAASPMNHHHHHHHGYSHSQPPHQYHFYGGAAGGDGADPMRVDEMLDLSSHLGAHDFFSGAANGQGGDNAPAPPAAAAASSSDHQHHHPSSFNLSFADEFYLPVPTEEAAELEWLSNFVDDSYPDVPNYPPAVQAAMAAAARNGGVVVKQENSASAAAPGRGARSKRSRAASAAAAAWHALAPRQPSPSSSSSSSDSKPARSGGGGGGVKKSGLVVGAAELGGGEQSGEVRRCTHCASEKTPQWRTGPLGPKTLCNACGVRYKSGRLVPEYRPAASPTFVLTQHSNSHRKVMELRRQNELVHLRGGVAGGVVSGSSGSGGAAEHMFRDYGVC
D56: GATAdomain | E56: CTHCASEKTPQWRTGPLGPKTLCNACGVRYKSGRL
A57: HvGATA19 | B57: =VLOOKUP(A57,'S1'!A:B,2,FALSE) -> HORVU.MOREX.r3.5HG0424280 | C57: Ⅰ | D57: CDS | E57: ATGGACGTGCACCACCCACCGAATGCGGCGGCGGCGGCGGCGGCCGCCGCCCTCGGCGACATGTTCCCCCACGAGCCCGCCACGGAAAGTGAAGACAGCAGCACAGAGTGGCTCTCCATCTATTTAGAGGACTGCTTGTCTAACCCTGCATCCTACTCTGTCTCCGAAGAACAAGCATCTGTAAACCCGAAGCTGCCACATCCTTCATCTTCCAATCCCAGAAGAAAGAAGAGAAGCCTGGCCTCTGTCATAAGAGATAGTGATGAAGAATATTTCACGCTGATTGTTGAGCCACCGCTACTACTTGATCAGAAGCACTGGCTAGCAGAGAGTGAGCTCATCCTCCCCAAGAAAGACAAGGACCAAGAACTTGTCCAAAAACAGGAGCAGCAACACGAGGAAGAATATAAGCCCTATACAGTGCAGGTCAAGCAAGAGCAGGTGGTGATGAGGTGTAGCATTTGTTTGTCCGACCAAACATCACAGCAGTGGCAGGGCAGTCCATCAGGGGCATTATTGTGCAACAAGTGTAGCCTGAGGCTCAAGGCACGGAACGGGTTCATCAAACTGGAGCGCTGCGGCCAACAAGTTGATGAAGAACAAGATCATGGAAGGGGGCAGGATAAGAGGAAGATCAAGAAGACCACATATTATGGAGATGATGAGGAGCCTCCACAGGAGAAGAAGAGGATCAAGAAGATCTCATTTGTGGACGAGCAGGGCAAGAGGAGGACCAAGAAGACATATGTGAATGAGGAGGTCCCACTGGAGGAGGAAGTGAAGCGGTGCACCCATTGCCTGTCCCACACAACACCGCAGTGGAGGAGCGGCCCTCTAGGGCCCAAGACCCTATGCAACGCGTGCGGCGTGAGGTACAAGTCCGGCAGGCTGCTGCCGGAGTACAGGCCCGCCAACAGCCCAACCTTCGTGAGCTTCATGCACTCCAATTCTCACAAGAAGGTGATGCAGATGAGGATGAGTGTCGAGAACGAGAACGAGAACGAGAACGAGCACTCGCACTCGCACTCGCACTCGCACTCGGATATGTGA
D58: Protein | E58: MDVHHPPNAAAAAAAAALGDMFPHEPATESEDSSTEWLSIYLEDCLSNPASYSVSEEQASVNPKLPHPSSSNPRRKKRSLASVIRDSDEEYFTLIVEPPLLLDQKHWLAESELILPKKDKDQELVQKQEQQHEEEYKPYTVQVKQEQVVMRCSICLSDQTSQQWQGSPSGALLCNKCSLRLKARNGFIKLERCGQQVDEEQDHGRGQDKRKIKKTTYYGDDEEPPQEKKRIKKISFVDEQGKRRTKKTYVNEEVPLEEEVKRCTHCLSHTTPQWRSGPLGPKTLCNACGVRYKSGRLLPEYRPANSPTFVSFMHSNSHKKVMQMRMSVENENENENEHSHSHSHSHSDM
D59: GATAdomain | E59: CTHCLSHTTPQWRSGPLGPKTLCNACGVRYKSGRL
A60: HvGATA20 | B60: =VLOOKUP(A60,'S1'!A:B,2,FALSE) -> HORVU.MOREX.r3.5HG0454780 | C60: Ⅰ | D60: CDS | E60: ATGGCCGGAGGCGGCGGCGTTGGGGGGAAGGAGGATGGCGGCACGGAGCCCCTTCTCCTGACCGTCCTCGCTCTCCCCGCAACGGCGCTCCCCGCCGTCGTCTCCCGCCTTGAGGCCGCCGTCCCGCGGAAGGCGCGCAGCTACCTCCCCCGCAACGTCCCGTCGGCCTGGTGGTCACTCAGGATCCCCTTCATCCAGCCGCTGCCGCCGGCTGGGGACCCGACAAACGAAGAGGAGGGGAGAAGGTTCCCCCGTCCCCAGCGCGTGCAGGTGGTTCCCTCTCTCGATCCAGGCTCGGCCGATAAGCCGCCCAAGAGGTTGAGGAGGTGCCTGCACTGCAAGGCGGTGGAGACGCCGCAGCGGAGGTCAGGGCCGATGGGGCGGGGTACCCTCTGCAACGCCTGCGGAGTCTGGTACAGTAAAAACGGGACGCTGCCGGAGCACCGTCCGGTGGCAAGCCCAATCGTCGATTCGCCACTGGAGAGCCAGATCTGGGAGCCCGACGTGCCTGGGGCCATCTACCTGGTCAGAAAGTCGGCCACGGAGAGGCGGCCTCCCAAGACAGAAGCCGCGCCAGCGCCACGGCCGGGGACGAGCTGCTTGCACTGCGGGTCGTCAGAGCCACCTTTGTGGATAGAAGGGTCCATGGGGCGGAGGGAAGTCTGCACCGCCTGCGGCATGCGGTACAAGAAGGGGAGGATGCTGCCGGAGTGCCGTCCAGCTGGGTGCTCAGTGACGGATTCCTGGCAGAAGAGCCCAATCATCAACTCCCCTCCGGAGAGTCCCATCTGGGAGCCTGAGGCGCCTCCGGCCGTGCACCTGCCAAGAAAGCCTTCGAAGAAGAAGAATAGGAGGCGGTCGAGAAGCCAAGCCCCTTCGGTGCCATGGCCGGCAAATAAGGGGAAGAGGTGCCAGCATTGTGGGTCGTCAGAGACGCCACAGTGGAGGGAGGGGCCAAAGGGGCGAGGCACGCTGTGCAACGCGTGCGGCGTGCGGTACAGGCAGGGGAGGCTGCTGCCGGAGTACCGGCCCATGGCAAGCCCCACATTTGTGCCATCAAAGCATGCCAATTCCCACCGCAAGGTGCTCCAGTTGCATCGGACCAGGCAAAGCAACGATGAGCATCCGTCACCGCTGCCTGCCGACAGAGTCGCCAACCTCTCCCCAATCCTCGACGACCTCCCGACCACCAGCACAGCAGGTCTTGCCAGTGAGAACCCGGCCGACACACTGGGCTACACTGACAACCCAATCAACGCGCCGAGCTCACTGGACTCGCTGCTGTTTGACGGGCCATCGGCACCGCTCATTGTAGAGAGTGAAGATTTTGTGATTAGCTAG
D61: Protein | E61: MAGGGGVGGKEDGGTEPLLLTVLALPATALPAVVSRLEAAVPRKARSYLPRNVPSAWWSLRIPFIQPLPPAGDPTNEEEGRRFPRPQRVQVVPSLDPGSADKPPKRLRRCLHCKAVETPQRRSGPMGRGTLCNACGVWYSKNGTLPEHRPVASPIVDSPLESQIWEPDVPGAIYLVRKSATERRPPKTEAAPAPRPGTSCLHCGSSEPPLWIEGSMGRREVCTACGMRYKKGRMLPECRPAGCSVTDSWQKSPIINSPPESPIWEPEAPPAVHLPRKPSKKKNRRRSRSQAPSVPWPANKGKRCQHCGSSETPQWREGPKGRGTLCNACGVRYRQGRLLPEYRPMASPTFVPSKHANSHRKVLQLHRTRQSNDEHPSPLPADRVANLSPILDDLPTTSTAGLASENPADTLGYTDNPINAPSSLDSLLFDGPSAPLIVESEDFVIS
D62: GATAdomain | E62: CLHCKAVETPQRRSGPMGRGTLCNACGVWYSKNGT
A63: HvGATA21 | B63: =VLOOKUP(A63,'S1'!A:B,2,FALSE) -> HORVU.MOREX.r3.5HG0528890 | C63: Ⅱ | D63: CDS | E63: ATGAGTTCCTCGGTCGAGAAGGGAAGCGGATCGCTGGATCCCGGCGAGCGCCCGGCCTCCGGCAGCCAGCCCAAGGCCTGCACCGCCTGCAACACCACCAAGACGCCGCTCTGGCGCGGCGGGCCCTCCGGACCCATGTCTCTGTGCAACGCGTGCGGGATCCGGTACAGGAAGAAGCGGAGGGAGGCGCTGGGCCTCGACGAGCCGCCCAAGAAGAGGCAGCCTGCTGCGGCAGCATCCGCTGCAGTCGCGGCGGCGTGCTCGGAGGCCGGCGGCGAGAGCGCGGAGCCGGATCAGCAGCAGCAGCAGCCCAAGAAGAAGACGACGACGACCAAGAGGGGCCGCGAGGTGGAGCTCCGTGTGGTCGGGTTCGGCAAGGAGGTGGTGCTGAAGCAGCGGCGGCGGATGCGGCGCAGGCGGCGCCTTGGCGAGGAGGAGAAGGCGGCCATCCTCCTCATGGCGCTCTCCTCCGGCGTCATCTACGGCTGA
D64: Protein | E64: MSSSVEKGSGSLDPGERPASGSQPKACTACNTTKTPLWRGGPSGPMSLCNACGIRYRKKRREALGLDEPPKKRQPAAAASAAVAAACSEAGGESAEPDQQQQQPKKKTTTTKRGREVELRVVGFGKEVVLKQRRRMRRRRRLGEEEKAAILLMALSSGVIYG
D65: GATAdomain | E65: CTACNTTKTPLWRGGPSGPMSLCNACGIRYRKKRR
A66: HvGATA22 | B66: =VLOOKUP(A66,'S1'!A:B,2,FALSE) -> HORVU.MOREX.r3.6HG0559190 | C66: Ⅲ | D66: CDS | E66: ATGAGCGGCCACCACGACGCCAGCAAGCCCTACCAGCCCCGCCGGGGCCCGGAGCGCCCCCCGCCGCAGCAGCCGGCGGAGGACGAGGAGGCGGCCGCGGCGGCGATGGCCGAGGCCGAGGCCGCGGCGGGGGCGATGGAGCAGTACGAGCCGCATCTGGAGCACGAGGAGGAGGAGGAGGAAGAGGAGGAGGGGGAGGAAGAGGGGGAGGAGGAGGGAGAGGAAGGGCATGGGTACGCGTACGACTACGTTACCGGGGAGGCCGTCCCGATGGACGAGGAAGCCGCTGCGGCCGCGGCGCACGCCCACCACGGGGCGGCGGGGCCGCTCGGCATGGAGGCTGGCGGCGCGCCGCAGGCCCCGTCCAACACGCTCACTCTCTCTTTCCAGGGCGAGGTGTTCGTCTTCGAGTCTGTGTCCGCCGAGAAGGTGCAAGCGGTTCTCTTATTGCTTGGAGGAAGGGAGCTCGGCCCGGGTATGGGCGCGGGGCCGTCGTCTTCGGCATCATACAGTAAGAGGCTGAATTCACACCGGATGGCATCACTGATGAGGTTCCGCGAAAAGCGCAAGGAAAGGAACTTCGATAAGAAGATCCGCTATTCTGTTAGGAAGGAAGTTGCACATAGGATGCATCGCCATAAAGGTCAGTTCACATCATCCAAAGCGAAGGCCGAAGAAGCCGCATCCGTGGCTAATTCAGATTGGGGTGCAGTGGAAGGCCGGCCCCCTTCTGCGCCTGTATGTCAGCATTGTGGTATCAGTTCTAACAATACACCTATGATGCGTCGAGGACCGGATGGACCAAGGACTCTGTGCAATGCATGTGGACTCGCATGGGCAAACAAGGGTATGATGAGAGAGGTCAAAGGTCATACACCTTTGAAAGTTGTGCCGCCTGCAACCGATGACGCTCAGAACGGAGTTGCTGAAGCACCAACCGCTGAGCAGCAACATCTCGCACTAGAAGCAGCACCAGAAGCTCCTGCTCCTGCTGCCAATGGCCATGATTCATAG
D67: Protein | E67: MSGHHDASKPYQPRRGPERPPPQQPAEDEEAAAAAMAEAEAAAGAMEQYEPHLEHEEEEEEEEEGEEEGEEEGEEGHGYAYDYVTGEAVPMDEEAAAAAAHAHHGAAGPLGMEAGGAPQAPSNTLTLSFQGEVFVFESVSAEKVQAVLLLLGGRELGPGMGAGPSSSASYSKRLNSHRMASLMRFREKRKERNFDKKIRYSVRKEVAHRMHRHKGQFTSSKAKAEEAASVANSDWGAVEGRPPSAPVCQHCGISSNNTPMMRRGPDGPRTLCNACGLAWANKGMMREVKGHTPLKVVPPATDDAQNGVAEAPTAEQQHLALEAAPEAPAPAANGHDS
D68: GATAdomain | E68: CQHCGISSNNTPMMRRGPDGPRTLCNACGLAWANKG
A69: HvGATA23 | B69: =VLOOKUP(A69,'S1'!A:B,2,FALSE) -> HORVU.MOREX.r3.6HG0579890 | C69: Ⅱ | D69: CDS | E69: ATGTCTACTATCTACATGAGCCAGCTATCTACTCTCCCTCTAATGGATGGAGATCAAGATCAAGGGCACTTTCAAGCCTTTCATCTACCCAAGGACCCTCCTATCTTGTTCCCTTTCATGATCGACAACCCTGTGGATCATCAAGGGCAAGGCTGTGGAGACCAGCACTCGGGGCAGCATCTTTTTGGTGAATCTAGTCAGCAGTTCAATGATCGCATGATGATGGGCGGAGGATCTGCGGACGTCTTCGCCACATGTTCCCCGTTCGGACCTACCATCCAAAGCATCGGCAGTGACATGATCCAGAGATCCTCATACAATTCCTATGATTTCGAAGCCACACATGCTAGCGATGGATCGACCAGTCAGTGGGCATCTGCCAAACCGCCAGTGAAGATGAGGATCATGAGAAAGGCGCCAACGAATGATCCCCAAGGAGGGATGGTGAGAAAGCCAAGGAGAAGGGCACAAGCACACCAAGCTGATGAGAGCCAGCAGCTGCAGCATGCCATGGGTGTTATCAGAGTGTGCTCAGACTGCAACACCACCAAGACCCCCTTGTGGAGGAGTGGTCCTTGTGGCCCCAAGTCTCTTTGCAACGCATGTGGCATACGCCAAAGGAAGGTTCGCCGTGCGATGGCTGCAGCGGCGGCCACCGGAGCCAACGGTGGGGTGGCATCTGCTTCCAGTGGCGGGGTGGCGTCCGGGGGCGTGCAAACAAGCGAAGCATCACAAGCGGTGAAGGCCACAAAGAAGGAGAAGAGGGCTGCGGACCTCGACCGGTCGCTGCCCTTCAAGAAGAGGTGCAAGATGGTTGATCATCCTACCGTTACCTCCACCAAGGTCGTGGCTGTCGACGCCACTCCGAAGCATCAAGATCACGTTGTGTCCGAGGACGTCGCCACGGTGGAGAGACTGAGCAAAGCCGATCCGCCGGCAGCGTTCACTCACGTTTTCGTGCGAGACGAGATCACCGACGCTGCCATGCTGCTCATGACCCTATCCTGCGGTCTTGTTCGCAGCTAG
D70: Protein | E70: MSTIYMSQLSTLPLMDGDQDQGHFQAFHLPKDPPILFPFMIDNPVDHQGQGCGDQHSGQHLFGESSQQFNDRMMMGGGSADVFATCSPFGPTIQSIGSDMIQRSSYNSYDFEATHASDGSTSQWASAKPPVKMRIMRKAPTNDPQGGMVRKPRRRAQAHQADESQQLQHAMGVIRVCSDCNTTKTPLWRSGPCGPKSLCNACGIRQRKVRRAMAAAAATGANGGVASASSGGVASGGVQTSEASQAVKATKKEKRAADLDRSLPFKKRCKMVDHPTVTSTKVVAVDATPKHQDHVVSEDVATVERLSKADPPAAFTHVFVRDEITDAAMLLMTLSCGLVRS
D71: GATAdomain | E71: CSDCNTTKTPLWRSGPCGPKSLCNACGIRQRKVR
A72: HvGATA24 | B72: =VLOOKUP(A72,'S1'!A:B,2,FALSE) -> HORVU.MOREX.r3.6HG0599190 | C72: Ⅰ | D72: CDS | E72: ATGACCCACCAGACACTCATCTCTTCCGCCCCTGCCGCTGCCTTTTCCTCTGCTCCTCACCTCCTCAACGCCTCCCTCCCTACCCTTTCCCACTCCTCCTCCTCTGCAGCCGCCTCCGCCATGTCGTCGTCGTTCGCGCACCACCACGGCTCCCTGCAGGCGGAGAGGATGTCTGCGCTGAGAAGTAGCCTCAGGCCGTACGAGGCAGTCGAGGAGGTGGCGGCCGCCGCGGTCGCTGGGCCGACGGCGTGGGGAGCCGGGCTGTTGGGTGACGGCTTCTCGGTGGAGGAGCTCCTTGACCTTGAGGAGCTCTGCGAGGTGGACAAGGAAGACGGCTTTCTCTGCGAGACGGCTCCGGCCACCGAGGAGGAGGAAAAGTGCAGTGACTCGCACGGCTCGTCGGCGGTCTCCTACGAGCTCATGCCGCTTCTTCCGCCGGAGATGGACCTGCCGGCCCACGACGCGGAGGAACTGGAGTGGGTGTCGCGTATCATGGACGACTCGCAGGCAGAGCTCCCGCCTCCGCCGCAGCTCCCAGCGCCAGCGGCGTGGCCACCGCAGCACCGCCGGCCGCAGGAAAGCGCCGTGCCGGCCGTGGACCCTATGCGGACCCCGACAATATGCGCGCTTTCCACTGAAGCGTTGGTGCCGGTGAGGTCCAAGAAGCGTAGCAAGCGCTCGCGCGGCACCACCGTGTGGTCGCTCTCCGGCGCGTCCATATCCGACTCGGCGTCGTCGTCCGCCACCAGCTCCTCCTGCTCCTCGTCGGCCTCCCTGTCGTCCTTTTTCCTAATGGACTCCCCCACCTTCAACCTCCTGGACGAAGCGCCACGCACGAAGAACAAGAACAAGAAGTCCAAGCACAAGCCCAAGAAGCGCGGGCGCAAGCCAAGGAGCCATCTCCCGCCACAGCTGTCGGGCGGCGCCGCCTCCCCGCCGGTCCAGGGAGACCGGCGCTGCAGCCACTGCGGCGTCCAGAAGACGCCCCAGTGGCGCGCGGGGCCGGAGGGCGCCAAGACGCTGTGCAACGCCTGCGGCGTGCGGTTCAAGTCGGGGCGGCTCCTCCCGGAGTACCGGCCGGCGTGCAGCCCCACCTTCGTGGGCAACCTGCACTCCAACTCCCACCGCAAGGTGCTGGAGATGCGCCGCAAGAAGGACCCCGTCGGCGTCGTCGTCATCGAGGTCGCCGCCGCCGCGCCGGCCGTTGCCTCGTTCTAG
D73: Protein | E73: MTHQTLISSAPAAAFSSAPHLLNASLPTLSHSSSSAAASAMSSSFAHHHGSLQAERMSALRSSLRPYEAVEEVAAAAVAGPTAWGAGLLGDGFSVEELLDLEELCEVDKEDGFLCETAPATEEEEKCSDSHGSSAVSYELMPLLPPEMDLPAHDAEELEWVSRIMDDSQAELPPPPQLPAPAAWPPQHRRPQESAVPAVDPMRTPTICALSTEALVPVRSKKRSKRSRGTTVWSLSGASISDSASSSATSSSCSSSASLSSFFLMDSPTFNLLDEAPRTKNKNKKSKHKPKKRGRKPRSHLPPQLSGGAASPPVQGDRRCSHCGVQKTPQWRAGPEGAKTLCNACGVRFKSGRLLPEYRPACSPTFVGNLHSNSHRKVLEMRRKKDPVGVVVIEVAAAAPAVASF
D74: GATAdomain | E74: CSHCGVQKTPQWRAGPEGAKTLCNACGVRFKSGRL
A75: HvGATA25 | B75: =VLOOKUP(A75,'S1'!A:B,2,FALSE) -> HORVU.MOREX.r3.6HG0627260 | C75: Ⅰ | D75: CDS | E75: ATGGACATGGCGCAGCTCGAGTGGCTGTCGGGCCTGTTCGACGACACCTCCATCCCGCACGAGCCGGCGTTCGCGTGCGCCGCGCCCATCATCAGGGCCTCCGCGCTCTCGGCCAACGCCGGCGTCGTGCTGCCCGACAAGATGGAGGACGCGCTCTTCCGCAGCTCCAGCCCCACCTCCGTGCTCGAGGACGGCGCCAACAATGTTAACGTTAACATGAACAACAACAGCGGTGGATCCTCGGCGTCGTCCACGTCGTCATCGGCGTCGTCCTCCTCGGAGTCCTTCTCCGGGAGCGGCCGCCCATGGTCAGTGCCGCTGTCGCCGCGCCCGGAGCCTCCGGTGCTCGTCATCCCGGCGCGTGCGCGCAGCAAGCGGTCCCGCGCCTCTGCGTTCCCCACTGCCATCCGCGCCGCTGTTCCCGCGCCCGAGGCCACCATCCTCGTGCCAACGCCCATGTTCTCCTCCACCTCCTCCTACTCGGAGGAGCCTGAGTGCATTGCTGAGTCCAACTCGCAGCCCAAGAAGAAGAAGAAGGCCAAGAGGCCGACCCCTCCAGTCACCTCTGACGCTGAGGGCGACGCGGACTACGAGGAAGGCGGTGGCGCCGCGCTCCCGGCCGGCGAGGTGCGGAGGTGCACGCATTGCCAGATCGAGAAGACGCCGCAGTGGCGTGCGGGGCCTCTGGGGCCCAAGACGCTCTGCAACGCCTGTGGCGTGCGCTACAAGTCCGGCCGCCTCTTTCCGGAGTACCGCCCGGCGGCCAGCCCCACCTTCGTGCCAGCCATCCATTCCAACTCCCACAAGAAGGTGGTGGAGATGCGCCAGAAGGTTGAACCCAAGGGCGACGACCTCCTGCAGTTTATCCGCCGCCGGGATTGA
D76: Protein | E76: MDMAQLEWLSGLFDDTSIPHEPAFACAAPIIRASALSANAGVVLPDKMEDALFRSSSPTSVLEDGANNVNVNMNNNSGGSSASSTSSSASSSSESFSGSGRPWSVPLSPRRARSKRSRASAFPTAIRAAVPAPEATILVPTPMFSSTSSYSEEPECIAESNSQPKKKKKAKRPTPPVTSDAEGDADYEEGGGAALPAGEVRRCTHCQIEKTPQWRAGPLGPKTLCNACGVRYKSGRLFPEYRPAASPTFVPAIHSNSHKKVVEMRQKVEPKGDDLLQFIRRRD
D77: GATAdomain | E77: CTHCQIEKTPQWRAGPLGPKTLCNACGVRYKSGR
A78: HvGATA26 | B78: =VLOOKUP(A78,'S1'!A:B,2,FALSE) -> HORVU.MOREX.r3.7HG0716520 | C78: Ⅱ | D78: CDS | E78: ATGTCTACCATCTACATGAGCCAGCTCTCTACTGCTTTCCCTCTAATGGAGGAAGATCATCATCACCAGGATCACCATCAGGGACACTTCCAGGCCTTCACCCTGCCCAAGGATCCCCCGATCTTGTTCCCTTTTGTGATCAGCAACAGCAGCCCTAGCGAGAACAGCAGTACTCTCAGCTACGGATCGGACCAGCACTTGATGCAGCACCATGTCATGCTAGATCAGCCCCAACATATGATCGGTGGATCATCGAGTGTGTTTTCGACGCCGTTCCCGACCGTCGAGAGCATCCGCGACGACATGATCGAGCGATCCTACTCGTACGATCCATATGATATGGAGAAGCTGCAGGCCACCAGCGGATCGCTCAAGATCGGCAAGTGGACGGCGCCTGCTCCCGCAGCCAAGATGAGGATCACGAGGAAGACGAGCGATCCTGGTGTCAAGAAGCCGAGGAAGAGGGCGCAGGCATACGAGGATCATGGCCACATGGGCGGCATGAACCAAGCTCTGGGTGTTATTAGGACATGCTCTGATTGCAACACCACCAAGACCCCCTTGTGGAGGAGTGGTCCTTGTGGCCCCAAGTCGCTTTGCAACGCATGCGGCATCAGGCAGCGGAAGGCGCGCCGGGCGATGATGGCCACCGGGGCGGCGCCCGCCACCGATGTTGGTGCAGCCAAGGCCGCCGCGGCGGGTGAAGCCGCCGTGACCGTGCACCCACCGAAGGTGAAGAAGGAGAAGAGAGCTGCCGACGTTGACCGGTCCCTGCCGTTCAAGAAACGGTGCAAGGTGGTCCAGGATCACACCGCCACAAACTCCGCTGCTTCCACCACCGTCGAGGCTGCCGCAGAGCCACCGATCGTCGTCACCACCACCACCACCACCACTGATGCTGCGCCGGCGAGGGATCTCGTCGACACCATCGGGGCCAACTGGAGCAAGAGCCCTACTGCCGCCACAGCCTCCTGCTTCCGGCCACCGCCGGCGCCCTTCGCGGTGTCAGTGCCGGTGCAAGACGAGATCACGGACGCCGCCATGCTGCTGATGACGCTATCCTGCGAGCTTGTCCGGAGCTGA
D79: Protein | E79: MSTIYMSQLSTAFPLMEEDHHHQDHHQGHFQAFTLPKDPPILFPFVISNSSPSENSSTLSYGSDQHLMQHHVMLDQPQHMIGGSSSVFSTPFPTVESIRDDMIERSYSYDPYDMEKLQATSGSLKIGKWTAPAPAAKMRITRKTSDPGVKKPRKRAQAYEDHGHMGGMNQALGVIRTCSDCNTTKTPLWRSGPCGPKSLCNACGIRQRKARRAMMATGAAPATDVGAAKAAAAGEAAVTVHPPKVKKEKRAADVDRSLPFKKRCKVVQDHTATNSAASTTVEAAAEPPIVVTTTTTTTDAAPARDLVDTIGANWSKSPTAATASCFRPPPAPFAVSVPVQDEITDAAMLLMTLSCELVRS
D80: GATAdomain | E80: CSDCNTTKTPLWRSGPCGPKSLCNACGIRQRKARR
A81: HvGATA27 | B81: =VLOOKUP(A81,'S1'!A:B,2,FALSE) -> HORVU.MOREX.r3.7HG0728220 | C81: Ⅲ | D81: CDS | E81: ATGGACGCAGAGGCCGCGGCGCAGGCGGCAGCTGCAGCTGCGGCTGGCGCACAGTTGGACCCGCACGGGGCGATGGTCACTGCGATTGTGCCGCCCGCCACGGGTAACCAGCTCACCCTTTCATTTCAAGGCGAGGTCTACGTTTTCGACTCTGTATCCCCTGATAAGGTGCAAGCTGTACTTTTGCTGCTAGGGGGAAGGGAGCTGAACCCAGGCATAGGTGCCGGAGCATCATCATCAACTCCATACAGTAAGAGGTTGAATTTTCCACACCGGGTGGCATCGTTGATGAGGTTTAGGGAGAAGCGGAAAGAGCGCAATTTTGATAAGAAGATCCGGTATACTGTTCGCAAGGAAGTTGCACTAAGGATGCAGCGTAATAGAGGCCAATTTACATCTTCAAAACCAAAACCTGATGAAGGAACATCTGAACTGGCAACTGCAGATGGCTCCCCAAATTGGGGGTCAGTGGAAGGTCGACCTCCGTCTGCTGCTGCATGCCATCACTGTGGTACTAATGCACATAATACACCTATGATGCGTCGTGGACCTGAAGGGCCAAGAACATTATGCAATGCTTGCGGCCTCATGTGGGCGAATAAGGGCATGTTGAGGGACCTAGCAAAGTCTACTCCCCAATCTCTTCAAATGATGGCAACAGCTCCAAATGATAGTCAGAATGGAAACACCCTATCTCAGCAGAACGGAAACGCTCTCTCTCAGCAGAATGGAAATGCTGCCATTGTGCCCTTTGCCGAGCAACAAACCCTGGCACAAGCGACCGACGCCAACGGTCACAGCCACGGGTCTTCGACATGA
D82: Protein | E82: MDAEAAAQAAAAAAAGAQLDPHGAMVTAIVPPATGNQLTLSFQGEVYVFDSVSPDKVQAVLLLLGGRELNPGIGAGASSSTPYSKRLNFPHRVASLMRFREKRKERNFDKKIRYTVRKEVALRMQRNRGQFTSSKPKPDEGTSELATADGSPNWGSVEGRPPSAAACHHCGTNAHNTPMMRRGPEGPRTLCNACGLMWANKGMLRDLAKSTPQSLQMMATAPNDSQNGNTLSQQNGNALSQQNGNAAIVPFAEQQTLAQATDANGHSHGSST
D83: GATAdomain | E83: CHHCGTNAHNTPMMRRGPEGPRTLCNACGLMWANKG

Sheet S3
A1: Table S3. The information of GATAs in A. thaliana.
A2: Species | B2: Gene Name | C2: Gene ID | D2: Sequences
A3: Arabidopsis thaliana | B3: AtGATA1 | C3: AT1G08010 | D3: MNWLPEAEAEDDFKGLLSGDFFDDLINHLDVPLDDIDTTNGEGDWVDRFQDLEPPPMDMFPTLPSDLTSCGSGMAKAPRVDIQRNIPALKQSYSSEALSSTLHQSSAPPEIKVSKLFQSLSPVSVLENSYGSLSTHNNGSQRLAFPVKGMRSKRKRPTTLRLSYLFPSEPRKPEKSTPGKPESECYFSSEQHAKKKRKIHLTTRTVSSTLEASNSDGIVRKCTHCETTKTPQWREGPSGPKTLCNACGVRFRSGRLVPEYRPASSPTFIPAVHSNSHRKIIEMRRKDDEQFDSSMIRAVISRG
B4: AtGATA2 | C4: AT1G51600 | D4: MDDLHGSNARMHIREAQDPMHVQFEHHALHHIHNGSGMVDDQADDGNAGGMSEGVETDIPSHPGNVTDNRGEVVDRGSEQGDQLTLSFQGQVYVFDSVLPEKVQAVLLLLGGRELPQAAPPGLGSPHQNNRVSSLPGTPQRFSIPQRLASLVRFREKRKGRNFDKKIRYTVRKEVALRMQRNKGQFTSAKSNNDEAASAGSSWGSNQTWAIESSEAQHQEISCRHCGIGEKSTPMMRRGPAGPRTLCNACGLMWANKGAFRDLSKASPQTAQNLPLNKNEDANLETDHQIMITVANDISNSQ
B5: AtGATA3 | C5: AT2G18380 | D5: MMGYQTNSNFSMFFSSENDDQNHHNYDPYNNFSSSTSVDCTLSLGTPSTRLDDHHRFSSANSNNISGDFYIHGGNAKTSSYKKGGVAHSLPRRCASCDTTSTPLWRNGPKGPKSLCNACGIRFKKEERRATARNLTISGGGSSAAEVPVENSYNGGGNYYSHHHHHYASSSPSWAHQNTQRVPYFSPVPEMEYPYVDNVTASSFMSWN
B6: AtGATA4 | C6: AT2G28340 | D6: MNNDLWLPEEDFKGLPDNFLDNLVDPTNDVSVEDIETGDDEGDWDAKFQKLVPPPLDELMSLSYEFTCNGQRVQVQKHVPILKQSSSSEVFSTVDNSPPNVKVSKLLQSLSPVSVLKNTNGSGSPQNPNGDQKLAFLVKGIRSKRKRPTLLRVTFLKSFLLEMSQQFAPDESESSEISALKKRKKNKSRRLKCTHCETTTTPQWREGPNGRKTLCNACGIRFRSGRLVLEYRPAASPTFIPTVHSNLHKKIIYMRMKDNDQFDTRKIRAETSGPETRSRLRNFGRPMSYGQ
B7: AtGATA5 | C7: AT2G45050 | D7: MDVYGLSSPDLLRIDDLLDFSNEDIFSASSSGGSTAATSSSSFPPPQNPSFHHHHLPSSADHHSFLHDICVPSDDAAHLEWLSQFVDDSFADFPANPLGGTMTSVKTETSFPGKPRSKRSRAPAPFAGTWSPMPLESEHQQLHSAAKFKPKKEQSGGGGGGGGRHQSSSSETTEGGGMRRCTHCASEKTPQWRTGPLGPKTLCNACGVRFKSGRLVPEYRPASSPTFVLTQHSNSHRKVMELRRQKEVMRQPQQVQLHHHHHPF
B8: AtGATA6 | C8: AT3G06740 | D8: MLDPTEKVIDSESMESKLTSVDAIEEHSSSSSNEAISNEKKSCAICGTSKTPLWRGGPAGPKSLCNACGIRNRKKRRTLISNRSEDKKKKSHNRNPKFGDSLKQRLMELGREVMMQRSTAENQRRNKLGEEEQAAVLLMALSYASSVYA
B9: AtGATA7 | C9: AT3G16870 | D9: MSEGSEDTKTKLDSAGELSDVDNENCSSSGSGGGSSSGDTKRTCVDCGTIRTPLWRGGPAGPKSLCNACGIKSRKKRQAALGMRSEEKKKNRKSNCNNDLNLDHRNAKKYKINIVDDGKIDIDDDPKICNNKRSSSSSSNKGVSKFLDLGFKVPVMKRSAVEKKRLWRKLGEEERAAVLLMALSCSSVYA
B10: AtGATA8 | C10: AT3G20750 | D10: MEPELDLTLKLGLPNSTVETHLTLSPPTTTTDQGTNVVDGGEVINHRRGLLGDDEVIHNEPTRNNVEFNIRIYNYVFQQFVGAPNTLNFAPYPMPPSPAPAPETPPVSDEYVLIDVPARRARRNNSTVMTNSWKENATPKRIRGCGGFCGGRIEGMKKCTNMNCNALNTPMWRRGPLGPKSLCNACGIKFRKEEERKAKRNVVIVLDD
B11: AtGATA9 | C11: AT3G21175 | D11: MDDLHGRNGRMHIGVAQNPMHVQYEDHGLHHIDNENSMMDDHADGGMDEGVETDIPSHPGNSADNRGEVVDRGIENGDQLTLSFQGQVYVFDRVSPEKVQAVLLLLGGREVPHTLPTTLGSPHQNNRVLGLSGTPQRLSVPQRLASLLRFREKRKGRNFDKTIRYTVRKEVALRMQRKKGQFTSAKSSNDDSGSTGSDWGSNQSWAVEGTETQKPEVLCRHCGTSEKSTPMMRRGPDGPRTLCNACGLMWANKGTLRDLSKVPPPQTPQHLSLNKNEDANLEADQMMEVTGDISNTQ
B12: AtGATA10 | C12: AT3G24050 | D12: MEMESFMDDLLNFSVPEEEEDDDEHTQPPRNITRRKTGLRPTDSFGLFNTDDLGVVEEEDLEWISNKNAFPVIETFVGVLPSEHFPITSLLEREATEVKQLSPVSVLETSSHSSTTTTSNSSGGSNGSTAVATTTTTPTIMSCCVGFKAPAKARSKRRRTGRRDLRVLWTGNEQGGIQKKKTMTVAAAALIMGRKCQHCGAEKTPQWRAGPAGPKTLCNACGVRYKSGRLVPEYRPANSPTFTAELHSNSHRKIVEMRKQYQSGDGDGDRKDCG
B13: AtGATA11 | C13: AT3G45170 | D13: MSGREDEEEDLGTAMQKIPIPVNVFDKEPMDLDTVFGFADGVREIIEDSNLLLEESREFDTNDSKPSRNFSNLPTATRGRLHAPKRSGNKRGRQKRLSFKSPSDLFDSKFGITDKSCSHCGTRKTPLWREGPRGAGTLCNACGMRYRTGRLLPEYRPASSPDFKPNVHSNFHRKVMEIRRERKSSPPNSFGFSESYHSTRKLGF
B14: AtGATA12 | C14: AT3G50870 | D14: MMQTPYTTSTQGQYCHSCGMFHHHSQSCCYNNNNNSNAGSYSMVFSMQNGGVFEQNGEDYHHSSSLVDCTLSLGTPSTRLCEEDEKRRRSTSSGASSCISNFWDLIHTKNNNSKTAPYNNVPSFSANKPSRGCSGGGGGGGGGGGGDSLLARRCANCDTTSTPLWRNGPRGPKSLCNACGIRFKKEERRTTAATGNTVVGAAPVQTDQYGHHNSGYNNYHAATNNNNNNGTPWAHHHSTQRVPCNYPANEIRFMDDYGSGVANNVESDGAHGGVPFLSWRLNVADRASLVHDFTR
B15: AtGATA13 | C15: AT3G51080 | D15: MESVELTLKNSNMKDKTLTGGAQNGDDFSVDDLLDFSKEEEDDDVLVEDEAELKVQRKRGVSDENTLHRSNDFSTADFHTSGLSVPMDDIAELEWLSNFVDDSSFTPYSAPTNKPVWLTGNRRHLVQPVKEETCFKSQHPAVKTRPKRARTGVRVWSHGSQSLTDSSSSSTTSSSSSPRPSSPLWLASGQFLDEPMTKTQKKKKVWKNAGQTQTQTQTQTRQCGHCGVQKTPQWRAGPLGAKTLCNACGVRYKSGRLLPEYRPACSPTFSSELHSNHHSKVIEMRRKKETSDGAEETGLNQPVQTVQVVSSF
... B29: AtGATA27 | C29: AT5G66320 | D29: MEQAALKSSVRKEMALKTTSPVYEEFLAVTTAQNGFSVDDFSVDDLLDLSNDDVFADEETDLKAQHEMVRVSSEEPNDDGDALRRSSDFSGCDDFGSLPTSELSLPADDLANLEWLSHFVEDSFTEYSGPNLTGTPTEKPAWLTGDRKHPVTAVTEETCFKSPVPAKARSKRNRNGLKVWSLGSSSSSGPSSSGSTSSSSSGPSSPWFSGAELLEPVVTSERPPFPKKHKKRSAESVFSGELQQLQPQRKCSHCGVQKTPQWRAGPMGAKTLCNACGVRYKSGRLLPEYRPACSPTFSSELHSNHHRKVIEMRRKKEPTSDNETGLNQLVQSPQAVPSF

Sheet S4
A1: Table S4. Conserved amino acid motifs and annotation of the GATA genes identified in barley.
A2: No. | B2: E-value | C2: Width | D2: Best possible match
A3: 1 | B3: 2.8e-492 | C3: 29 | D3: HCGTTKTPQWRRGPLGPKTLCNACGVRYK
A4: 2 | B4: 1.5e-184 | C4: 36 | D4: SGRLLPEYRPAASPTFVPSKHSNSHRKVLELRRQKE
A5: 3 | B5: 1.5e-65 | C5: 41 | D5: KRVASLMRFREKRKERNFDKKIRYAVRKEVAHRMQRRKGQF
A6: 4 | B6: 2.1e-43 | C6: 98 | D6: KYLQSMQLDNPSFFYAMQJDEDDKLTNFFWADPKSRDDFNYFNDVLCLDTTYKINGHGRPLALFLGVNHHKQIIIFGAALLYDESFESFKWLFESFKI
A7: 5 | B7: 6.1e-39 | C7: 41 | D7: NQLTLSFQGEVYVFDSVSPDKVQAVLLLLGGRELPPGLGAG
A8: 6 | B8: 7.2e-35 | C8: 15 | D8: EDLAELEWLSNLMDD
A9: 7 | B9: 8.9e-31 | C9: 100 | D9: QSFPRIPPAKMLKQAANIYTPVVFEKFRKEFELFMDSVJFCCGEAGTASDYKVAPSEKPGEHFVRFDSSDNSCMCSCKKFEFMGIPCCHMLKVLDFRNIK
A10: 8 | B10: 1.8e-21 | C10: 80 | D10: GKQPKVILIDQSIQASAAIAAVWPNTIQCLCPWQVYQNSVKHLNQIFQGAKTFAKDFSKCVFGCEEEEEFLFGWRSMLEK
A11: 9 | B11: 5.2e-21 | C11: 100 | D11: DLJYHNETPVGSFEIGYGSMLLRYPNSKSVEEESEANSVPADNKSYJTSESYSGSASFIVHSEIKGASNSNAAPEKPKWFPMQTHENVKRGELHYSKQHT
A12: 10 | B12: 1.2e-16 | C12: 80 | D12: KGKLRKMIEAEDPIDEASLAKLVPEIGMEFENEEKAYEFYNKYAGHMGFSVRKSSSDKSAENITKVRTFVCSREGFRKDK

Sheet S5
A1: Table S5. Promoter element analysis of barley GATA genes.
A2: Gene Name | B2: Gene ID | C2: ABRE | D2: AuxRR-core | E2: ARE | F2: DRE | G2: GT1-motif | H2: MBS | I2: SARE | J2: Sp1 | K2: TCA | L2: TGA | M2: TC-rich repeats
A3: HvGATA1 | B3: HORVU.MOREX.r3.1HG0023970 | C3: √ | D3: × | E3: √ | F3: × | G3: × | H3: × | I3: × | J3: × | K3: √ | L3: × | M3: ×
A4: HvGATA2 | B4: HORVU.MOREX.r3.1HG0058390 | C4: √ | D4: × | E4: × | F4: × | G4: × | H4: √ | I4: × | J4: √ | K4: × | L4: × | M4: ×
A5: HvGATA3 | B5: HORVU.MOREX.r3.1HG0073340 | C5: × | D5: × | E5: √ | F5: × | G5: × | H5: √ | I5: × | J5: × | K5: × | L5: √ | M5: ×
A6: HvGATA4 | B6: HORVU.MOREX.r3.1HG0076900 | C6: √ | D6: √ | E6: × | F6: × | G6: × | H6: √ | I6: × | J6: √ | K6: √ | L6: √ | M6: ×
A7: HvGATA5 | B7: HORVU.MOREX.r3.1HG0091840 | C7: × | D7: × | E7: √ | F7: × | G7: × | H7: × | I7: × | J7: × | K7: × | L7: × | M7: ×
A8: HvGATA6 | B8: HORVU.MOREX.r3.2HG0125050 | C8: √ | D8: × | E8: × | F8: × | G8: √ | H8: × | I8: × | J8: × | K8: √ | L8: × | M8: ×
A9: HvGATA7 | B9: HORVU.MOREX.r3.2HG0184840 | C9: √ | D9: × | E9: × | F9: × | G9: × | H9: × | I9: × | J9: √ | K9: √ | L9: × | M9: ×
A10: HvGATA8 | B10: HORVU.MOREX.r3.2HG0185510 | C10: √ | D10: × | E10: × | F10: × | G10: √ | H10: √ | I10: × | J10: × | K10: × | L10: √ | M10: √
A11: HvGATA9 | B11: HORVU.MOREX.r3.2HG0217760 | C11: √ | D11: × | E11: √ | F11: × | G11: × | H11: × | I11: × | J11: × | K11: × | L11: √ | M11: ×
A12: HvGATA10 | B12: HORVU.MOREX.r3.3HG0277700 | C12: √ | D12: × | E12: √ | F12: × | G12: × | H12: × | I12: × | J12: √ | K12: √ | L12: × | M12: ×
A13: HvGATA11 | B13: HORVU.MOREX.r3.3HG0288270 | C13: √ | D13: × | E13: √ | F13: × | G13: × | H13: × | I13: × | J13: × | K13: √ | L13: × | M13: √
... A18: HvGATA16 | B18: HORVU.MOREX.r3.4HG0405380 | C18: √ | D18: × | E18: √ | F18: × | G18: × | H18: √ | I18: × | J18: √ | K18: × | L18: × | M18: √
A19: HvGATA17 | B19: HORVU.MOREX.r3.4HG0407380 | C19: √ | D19: × | E19: √ | F19: × | G19: √ | H19: √ | I19: × | K19: × | L19: × | M19: ×
A20: HvGATA18 | B20: HORVU.MOREX.r3.4HG0416070 | C20: √ | D20: × | E20: √ | F20: × | G20: × | H20: √ | I20: × | J20: √ | K20: × | L20: × | M20: √
A21: HvGATA19 | B21: HORVU.MOREX.r3.5HG0424280 | C21: √ | D21: × | E21: √ | F21: × | G21: × | H21: √ | I21: × | J21: × | K21: √ | L21: × | M21: ×
A22: HvGATA20 | B22: HORVU.MOREX.r3.5HG0454780 | C22: √ | D22: √ | E22: × | F22: × | G22: × | H22: × | I22: × | J22: × | K22: × | L22: × | M22: ×
A23: HvGATA21 | B23: HORVU.MOREX.r3.5HG0528890 | C23: √ | D23: × | E23: √ | F23: × | G23: × | H23: √ | I23: √ | J23: √ | K23: × | L23: × | M23: √
A24: HvGATA22 | B24: HORVU.MOREX.r3.6HG0559190 | C24: √ | D24: √ | E24: √ | F24: × | G24: × | H24: × | I24: × | J24: × | K24: × | L24: × | M24: ×
A25: HvGATA23 | B25: HORVU.MOREX.r3.6HG0579890 | C25: √ | D25: × | E25: √ | F25: × | G25: √ | H25: √ | I25: × | J25: × | K25: × | L25: × | M25: √
A26: HvGATA24 | B26: HORVU.MOREX.r3.6HG0599190 | C26: √ | D26: × | E26: × | F26: × | G26: × | H26: × | I26: × | J26: √ | K26: × | L26: √ | M26: ×
A27: HvGATA25 | B27: HORVU.MOREX.r3.6HG0627260 | C27: √ | D27: × | E27: × | F27: × | G27: × | H27: √ | I27: × | J27: √ | K27: × | L27: × | M27: ×
A28: HvGATA26 | B28: HORVU.MOREX.r3.7HG0716520 | C28: √ | D28: × | E28: √ | F28: × | G28: √ | H28: × | I28: × | J28: × | K28: × | L28: √ | M28: ×
A29: HvGATA27 | B29: HORVU.MOREX.r3.7HG0728220 | C29: √ | D29: × | E29: √ | F29: × | G29: √ | H29: × | I29: × | J29: √ | K29: √ | L29: × | M29: ×
A31: ABRE | B31: cis-acting element involved in the abscisic acid responsiveness
A32: AuxRR-core | B32: cis-acting regulatory element involved in auxin responsiveness
A33: ARE | B33: cis-acting regulatory element essential for the anaerobic induction
A34: DRE | B34: cis-acting element involved in dehydration, low-temp, salt stresses
A35: GT1-motif | B35: light responsive element
A36: MBS | B36: MYB binding site involved in drought-inducibility
A37: SARE | B37: cis-acting element involved in salicylic acid responsiveness
A38: Sp1 | B38: light responsive element
A39: TCA | B39: cis-acting element involved in salicylic acid responsiveness
A40: TGA | B40: auxin-responsive element
A41: TC-rich repeats | B41: cis-acting element involved in defense and stress responsiveness

Sheet S6
A1: Table S6. The expression profiles (log2-TPM+1) of the GATA genes in different tissues and stages of barley.
A2: Gene Name | B2: Gene ID | C2: EMB | D2: ETI | E2: LEA | F2: EPI | G2: ROO | H2: ROO2 | I2: NOD | J2: RAC | K2: INF1 | L2: INF2 | M2: CAR5 | N2: CAR15 | O2: LEM | P2: LOD | Q2: PAL | R2: SEN
A3: HvGATA1 | B3: HORVU.MOREX.r3.1HG0023970 | C3: 3.1039944 | D3: 3.4355233 | E3: 2.6560509 | F3: 3.1007927 | G3: 1.971424 | H3: 1.976553 | I3: 3.9734117 | J3: 1.6419406 | K3: 0.88484743 | L3: 1.4034768 | M3: 2.1914911 | N3: 1.6462149 | O3: 2.2553235 | P3: 1.6336792 | Q3: 2.8729272 | R3: 1.8371588
A4: HvGATA2 | B4: HORVU.MOREX.r3.1HG0058390 | C4: 3.8284928 | D4: 1.8554184 | E4: 2.486027 | F4: 0.61659013 | G4: 1.8810603 | H4: 2.4591317 | I4: 1.5335285 | J4: 5.1524417 | K4: 2.0957624 | L4: 2.9014706 | M4: 4.4561184 | N4: 0.1159104 | O4: 1.1189836 | P4: 4.588011 | Q4: 1.8197935 | R4: 0
A5: HvGATA3 | B5: HORVU.MOREX.r3.1HG0073340 | C5: 0 | D5: 0 | E5: 0 | F5: 0 | G5: 0 | H5: 0 | I5: 0 | J5: 0 | K5: 0 | L5: 0 | M5: 0 | N5: 0 | O5: 0.97350445 | P5: 0.031636331 | Q5: 1.8149332 | R5: 0
A6: HvGATA4 | B6: HORVU.MOREX.r3.1HG0076900 | C6: 3.4484213 | D6: 2.1013173 | E6: 2.0415128 | F6: 1.9519408 | G6: 2.5119192 | H6: 3.6871802 | I6: 1.6726121 | J6: 3.600154 | K6: 4.0693699 | L6: 3.5342314 | M6: 3.363365 | N6: 1.2721447 | O6: 2.2394826 | P6: 5.0363465 | Q6: 2.0592041 | R6: 2.3636206
A7: HvGATA5 | B7: HORVU.MOREX.r3.1HG0091840 | C7: 0.30435956 | D7: 0 | E7: 0.022748741 | F7: 0.056368033 | G7: 0.24561046 | H7: 0.8106216 | I7: 0 | J7: 0.325868 | K7: 2.1829031 | L7: 1.9541913 | M7: 0.026264894 | N7: 0.02964257 | O7: 0.17387497 | P7: 0 | Q7: 0.27115484 | R7: 0
A8: HvGATA6 | B8: HORVU.MOREX.r3.2HG0125050 | C8: 0.94148847 | D8: 0.62488572 | E8: 0.64822306 | F8: 0.29647424 | G8: 0.4680936 | H8: 0.6815773 | I8: 0.45215506 | J8: 0.5321211 | K8: 1.2647626 | L8: 1.4861016 | M8: 1.6931784 | N8: 0.41853648 | O8: 0.53162483 | P8: 0.33507883 | Q8: 0.55891805 | R8: 0.35559781
A9: HvGATA7 | B9: HORVU.MOREX.r3.2HG0184840 | C9: 1.7479216 | D9: 2.3548668 | E9: 1.7363754 | F9: 2.9984898 | G9: 1.8877709 | H9: 1.3375475 | I9: 1.9189891 | J9: 2.5585534 | K9: 3.6642325 | L9: 4.0121962 | M9: 1.0387653 | N9: 2.1439082 | O9: 2.8669423 | P9: 1.6632581 | Q9: 2.9821022 | R9: 2.6682878
A10: HvGATA8 | B10: HORVU.MOREX.r3.2HG0185510 | C10: 3.6896581 | D10: 3.2437772 | E10: 3.5142035 | F10: 3.825399 | G10: 3.0161831 | H10: 3.8115224 | I10: 3.0713743 | J10: 2.8336599 | K10: 2.4340766 | L10: 2.801985 | M10: 3.0195679 | N10: 1.6730332 | O10: 2.7821541 | P10: 4.2393955 | Q10: 2.0587113 | R10: 3.6216729
A11: HvGATA9 | B11: HORVU.MOREX.r3.2HG0217760 | C11: 1.5406159 | D11: 3.3395265 | E11: 1.5354143 | F11: 3.37495 | G11: 0.83190696 | H11: 0.74990978 | I11: 2.3727376 | J11: 2.1534411 | K11: 1.1886575 | L11: 1.4866294 | M11: 2.3261739 | N11: 0.86488804 | O11: 2.4540539 | P11: 1.9181419 | Q11: 1.9193286 | R11: 2.8954959
A12: HvGATA10 | B12: HORVU.MOREX.r3.3HG0277700 | C12: 1.1380051 | D12: 0 | E12: 0.12610561 | F12: 0 | G12: 0.68594553 | H12: 0.76594034 | I12: 0.030277922 | J12: 1.0219366 | K12: 2.2689693 | L12: 2.7085323 | M12: 0.029358175 | N12: 0.13529884 | O12: 0 | P12: 0.022928517 | Q12: 0 | R12: 0
A13: HvGATA11 | B13: HORVU.MOREX.r3.3HG0288270 | C13: 2.2837095 | D13: 1.3091121 | E13: 0.44063015 | F13: 1.1223449 | G13: 1.2439532 | H13: 2.5523558 | I13: 0.0742979 | J13: 1.4836911 | K13: 0.8398411 | L13: 0.69068497 | M13: 1.2962792 | N13: 0.92367633 | O13: 1.4111134 | P13: 4.1807976 | Q13: 0.81261104 | R13: 0.86320265
A14: HvGATA12 | B14: HORVU.MOREX.r3.3HG0330940 | C14: 1.4415647 | D14: 0.29149436 | E14: 0.56227409 | F14: 0.38231395 | G14: 1.1081763 | H14: 1.2445346 | I14: 0.41472173 | J14: 0.71757151 | K14: 1.8516937 | L14: 1.4472089 | M14: 1.4080934 | N14: 0.43460314 | O14: 1.021204 | P14: 0.47583797 | Q14: 1.0404544 | R14: 0.45904545
... A29: HvGATA27 | B29: HORVU.MOREX.r3.7HG0728220 | C29: 2.2835584e-06 | D29: 0 | E29: 0.28804587 | F29: 0 | G29: 0 | H29: 0 | I29: 0 | J29: 0 | K29: 0 | L29: 0 | M29: 0 | N29: 0.0005786741 | O29: 0 | P29: 0 | Q29: 0 | R29: 0
A31: EMB | B31: Embryo (germinating)
A32: ROO | B32: Root (10cm seedlings)
A33: LEA | B33: Shoot (10cm seedlings)
A34: INF1 | B34: Inflorescence (0.5cm)
A35: INF2 | B35: Inflorescence (1-1.5cm)
A36: NOD | B36: Tillers (3rd internode)
A37: CAR5 | B37: Grain (5 DPA)
A38: CAR15 | B38: Grain (15 DPA)
A39: ETI | B39: Etiolated (10 day seedlings)
A40: LEM | B40: Lemma (6 weeks pa)
A41: LOD | B41: Lodicule (6 weeks pa)
A42: PAL | B42: Palea (6 weeks pa)
... A46: SEN | B46: Senescing leaf (2 months)

Sheet S7
A1: Table S7. The expression profiles (log2-TPM+1) of the GATA genes in different abiotic tolerance of barley.
A2: Gene Name | B2: Gene ID | C2: SALT | D2: COLD | E2: HEAT | F2: DROUGHT | G2: Pi Starvation
A3: HvGATA1 | B3: HORVU.MOREX.r3.1HG0023970 | C3: 0.76266643 | D3: -0.17052466 | E3: -1.0530517 | F3: -0.83448825 | G3: -0.94781318
A4: HvGATA2 | B4: HORVU.MOREX.r3.1HG0058390 | C4: 0.085349547 | D4: -1.1859693 | E4: -0.31735655 | F4: 0 | G4: -3.0309522
A5: HvGATA3 | B5: HORVU.MOREX.r3.1HG0073340 | C5: 0 | D5: 0 | E5: 0 | F5: 0 | G5: 0
A6: HvGATA4 | B6: HORVU.MOREX.r3.1HG0076900 | C6: -0.36349853 | D6: 2.3450549 | E6: -0.86794599 | F6: 0.18866038 | G6: -0.13140853
A7: HvGATA5 | B7: HORVU.MOREX.r3.1HG0091840 | C7: 0.061693853 | D7: 0 | E7: -2.4907948 | F7: 0 | G7: 0
A8: HvGATA6 | B8: HORVU.MOREX.r3.2HG0125050 | C8: 0.093615889 | D8: 0.74362962 | E8: -0.40879282 | F8: 0.30023976 | G8: -0.1397577
A9: HvGATA7 | B9: HORVU.MOREX.r3.2HG0184840 | C9: 0.68211658 | D9: 2.6603535 | E9: -0.3520726 | F9: 0.052211865 | G9: 0.32476839
A10: HvGATA8 | B10: HORVU.MOREX.r3.2HG0185510 | C10: 0.24579548 | D10: 0.34981923 | E10: -1.6143087 | F10: 0.12557279 | G10: -0.28041425
A11: HvGATA9 | B11: HORVU.MOREX.r3.2HG0217760 | C11: 0.54946218 | D11: -0.48085237 | E11: -0.82597234 | F11: 0.23147025 | G11: 1.2392506
A12: HvGATA10 | B12: HORVU.MOREX.r3.3HG0277700 | C12: -1.0841651 | D12: 0 | E12: -2.1448082 | F12: 0 | G12: 0
A13: HvGATA11 | B13: HORVU.MOREX.r3.3HG0288270 | C13: -0.087638551 | D13: 1.474027 | E13: -0.35856213 | F13: -0.078039789 | G13: -1.2329446
A14: HvGATA12 | B14: HORVU.MOREX.r3.3HG0330940 | C14: 0.10395809 | D14: 0.6355497 | E14: -1.3867537 | F14: -0.67324461 | G14: 2.2957412
... A29: HvGATA27 | B29: HORVU.MOREX.r3.7HG0728220 | C29: 2.525678 | D29: -1.2324397 | E29: 0.78454233 | F29: -0.92675379 | G29: -0.28016602

Sheet S8
A1: Table S8. The list of GO ID in HvGATAs target genes.
A2: MLOC_10229 | B2: GO:0005515
A3: MLOC_11883 | B3: GO:0005525, GO:0005622, GO:0005886, GO:0007264
A4: MLOC_13225 | B4: GO:0004672, GO:0005515, GO:0005524, GO:0006468
A5: MLOC_1493 | B5: GO:0006511
A6: MLOC_15070 | B6: GO:0000166, GO:0003676
A7: MLOC_17760 | B7: GO:0004784, GO:0009570, GO:0009579, GO:0010039, GO:0019430, GO:0035195, GO:0046688, GO:0046872, GO:0048046, GO:0055114, GO:0071329, GO:0071457, GO:0071472, GO:0071484, GO:0071493
A8: MLOC_18664 | B8: GO:0005524, GO:0006457, GO:0006950, GO:0051082
A9: MLOC_19368 | B9: GO:0003735, GO:0005840, GO:0006357, GO:0006412, GO:0032784
A10: MLOC_2142 | B10: GO:0005634, GO:0006367, GO:0046982
A11: MLOC_22225 | B11: GO:0006952
A12: MLOC_27708 | B12: GO:0005515
A13: MLOC_36488 | B13: GO:0004861, GO:0005634, GO:0007050
... A53: MLOC_81502 | B53: GO:0003824, GO:0005829, GO:0005992

Sheet S9
A1: Table S9. Gene ontology (GO) enrichment analysis for HvGATAs target genes
A2: GO.ID | B2: Term | C2: Annotated | D2: Count | E2: Expected | F2: p-value | G2: q-value | H2: Aspect | I2: Genes
A3: GO:0010035 | B3: response to inorganic substance | C3: 421 | D3: 6 | E3: 1.58 | F3: 0.0044 | G3: 1 | H3: P | I3: MLOC_17760, MLOC_36840, MLOC_50740, MLOC_55371, MLOC_59318, MLOC_69600
A4: GO:0006457 | B4: protein folding | C4: 114 | D4: 3 | E4: 0.43 | F4: 0.0087 | G4: 1 | H4: P | I4: MLOC_18664, MLOC_67890, MLOC_72488
A5: GO:0030244 | B5: cellulose biosynthetic process | C5: 38 | D5: 2 | E5: 0.14 | F5: 0.0088 | G5: 1 | H5: P | I5: MLOC_55371, MLOC_59289
A6: GO:0030243 | B6: cellulose metabolic process | C6: 39 | D6: 2 | E6: 0.15 | F6: 0.0093 | G6: 1 | H6: P | I6: MLOC_55371, MLOC_59289
A7: GO:0034637 | B7: cellular carbohydrate biosynthetic process | C7: 120 | D7: 3 | E7: 0.45 | F7: 0.01 | G7: 1 | H7: P | I7: MLOC_55371, MLOC_59289, MLOC_81502
A8: GO:0005576 | B8: extracellular region | C8: 273 | D8: 4 | E8: 0.87 | F8: 0.01 | G8: 1 | H8: C | I8: MLOC_17760, MLOC_45394, MLOC_55371, MLOC_69600
A9: GO:0051082 | B9: unfolded protein binding | C9: 57 | D9: 4 | E9: 0.17 | F9: 2.6e-05 | G9: 0.05725 | H9: F | I9: MLOC_18664, MLOC_59770, MLOC_67890, MLOC_72488

Sheet S10
A1: Table S10. Information on miRNA and miRNA-acted ZmIDDs.
A2: miRNA_Acc. | B2: Target_Acc. | C2: Expectation | D2: UPE$ | E2: miRNA_start | F2: miRNA_end | G2: Target_start | H2: Target_end | I2: miRNA_aligned_fragment | J2: alignment | K2: Target_aligned_fragment | L2: Inhibition | M2: Target_Desc. | N2: Multiplicity
A3: hvu-miR5053 | B3: HvGATA27 | C3: 3.5 | D3: -1 | E3: 1 | F3: 21 | G3: 22 | H3: 42 | I3: CGCAGCUGUAGUCGCCGGCGU | J3: : :::: .::.:::::::: | K3: CAGGCGGCAGCUGCAGCUGCG | L3: Cleavage | N3: 1
A4: hvu-miR159a | B4: HvGATA6 | C4: 4 | D4: -1 | E4: 1 | F4: 21 | G4: 1669 | H4: 1689 | I4: UUUGGAUUGAAGGGAGCUCUG | J4: ::.::::::::: ::.:. | K4: AUAAGUUCCCUUCAAACCGAG | L4: Cleavage | N4: 1
A5: hvu-miR159b | B5: HvGATA6 | C5: 4 | D5: -1 | E5: 1 | F5: 21 | G5: 1669 | H5: 1689 | I5: UUUGGAUUGAAGGGAGCUCUG | J5: ::.::::::::: ::.:. | K5: AUAAGUUCCCUUCAAACCGAG | L5: Cleavage | N5: 1
A6: hvu-miR5048a | B6: HvGATA16 | C6: 4 | D6: -1 | E6: 1 | F6: 22 | G6: 1909 | H6: 1930 | I6: UAUUUGCAGGUUUUAGGUCUAA | J6: .::. :::..:::::.::: | K6: AAGGAUGCAAAGUCUGCAGAUA | L6: Cleavage | N6: 1
A7: hvu-miR5048b | B7: HvGATA16 | C7: 4 | D7: -1 | E7: 1 | F7: 22 | G7: 1909 | H7: 1930 | I7: UAUUUGCAGGUUUUAGGUCUAA | J7: .::. :::..:::::.::: | K7: AAGGAUGCAAAGUCUGCAGAUA | L7: Cleavage | N7: 1
A8: hvu-miR6214 | B8: HvGATA18 | C8: 4 | D8: -1 | E8: 1 | F8: 20 | G8: 641 | H8: 660 | I8: CGACGACGACGAGCACGACA | J8: :::: .:::::::: ::: | K8: CCUCGUCUUCGUCGUCCUCG | L8: Cleavage | N8: 1
A9: hvu-miR168-5p | B9: HvGATA14 | C9: 4.5 | D9: -1 | E9: 1 | F9: 21 | G9: 755 | H9: 775 | I9: UCGCUUGGUGCAGAUCGGGAC | J9: :: :: ::::.:: .:::: | K9: AACCGGAACUGCGCCCGGCGA | L9: Cleavage | N9: 1
A10: hvu-miR5049e | B10: HvGATA8 | C10: 4.5 | D10: -1 | E10: 1 | F10: 21 | G10: 1154 | H10: 1174 | I10: AAUUAUUUAGGUACAGAGGGA | J10: .:: : :::: :..:::::: | K10: CUCCACAGUACAUGGAUAAUU | L10: Translation | N10: 1
A11: hvu-miR6178 | B11: HvGATA18 | C11: 4.5 | D11: -1 | E11: 1 | F11: 22 | G11: 411 | H11: 432 | I11: CACGGAACUGGGCGGUUGCACU | J11: .: :...:.:.::: ::.:::: | K11: GGAGUGGCUGUCCAAUUUCGUG | L11: Cleavage | N11: 1
A12: hvu-miR6181 | B12: HvGATA19 | C12: 4.5 | D12: -1 | E12: 1 | F12: 23 | G12: 491 | H12: 513 | I12: UGCUCUUCAUGGACUGCGGCGCC | J12: ::: ::::::::: :.:.::: | K12: GGCAGGGCAGUCCAUCAGGGGCA | L12: Cleavage | N12: 1
A13: hvu-miR6187 | B13: HvGATA25 | C13: 4.5 | D13: -1 | E13: 1 | F13: 21 | G13: 20 | H13: 40 | I13: UGAACAGGUUCGGCGACCUCA | J13: : :: .:.::..:::::::. | K13: AGUGGCUGUCGGGCCUGUUCG | L13: Cleavage | N13: 1
A14: hvu-miR5048a | B14: HvGATA15 | C14: 5 | D14: -1 | E14: 1 | F14: 22 | G14: 1025 | H14: 1046 | I14: UAUUUGCAGGUUUUAGGUCUAA | J14: :.: .:.::::.::::: | K14: UGCUCCUUCGAGCCUGUAAAUA | L14: Cleavage | N14: 1
... A21: hvu-miR6193 | B21: HvGATA5 | C21: 5 | D21: -1 | E21: 1 | F21: 23 | G21: 50 | H21: 72 | I21: CUCUGCCACCGGUCCAUGACGAC | J21: : :: :.:::::::: ::: | K21: AAGGCCAGUGGCCGGUGGCUGAG | L21: Cleavage | N21: 1
A23: HvGATA-targeting miRNAs were predicted with HvGATAs’ coding sequences using
A24: the psRNATarget serverunder default
A25: parameters except that the number of mismatches allowed in the seed region was one

Sheet S11
A1: Table S11. Syntenic blocks and Ka/Ks values of IDD genes in Zea mays.
A2: Gene in the synteny region | C2: Gene ID | E2: Method | F2: Ka | G2: Ks | H2: Ka/Ks | I2: P-Value(Fisher) | J2: S-Sites | K2: N-Sites | L2: Divergence-Time(MYA)
A3: Gene1 | B3: Gene2 | C3: Gene1 | D3: Gene2
A4: HvGATA2 | B4: HvGATA18 | C4: HORVU.MOREX.r3.1HG0058390 | D4: HORVU.MOREX.r3.4HG0416070 | E4: MA | F4: 0.300098 | G4: 0.793384 | H4: 0.378251 | I4: 2.59429e-22 | J4: 260.236 | K4: 726.764 | L4: 0.43016
A5: HvGATA4 | B5: HvGATA11 | C5: HORVU.MOREX.r3.1HG0076900 | D5: HORVU.MOREX.r3.3HG0288270 | E5: MA | F5: 0.314173 | G5: 0.352278 | H5: 0.891832 | I5: 0.328322 | J5: 285.672 | K5: 791.328 | L5: 0.32428
A6: HvGATA5 | B6: HvGATA10 | C6: HORVU.MOREX.r3.1HG0091840 | D6: HORVU.MOREX.r3.3HG0277700 | E6: MA | F6: 0.525934 | G6: 0.922221 | H6: 0.57029 | I6: 3.16489e-07 | J6: 140.594 | K6: 453.406 | L6: 0.619731
A7: HvGATA6 | B7: HvGATA16 | C7: HORVU.MOREX.r3.2HG0125050 | D7: HORVU.MOREX.r3.4HG0405380 | E7: MA | F7: 0.948267 | G7: 1.2049 | H7: 0.787006 | I7: 2.08675e-15 | J7: 378.57 | K7: 1499.43 | L7: 1
A8: HvGATA7 | B8: HvGATA24 | C8: HORVU.MOREX.r3.2HG0184840 | D8: HORVU.MOREX.r3.6HG0599190 | E8: MA | F8: 0.730763 | G8: 2.12998 | H8: 0.343084 | I8: 0 | J8: 187.031 | K8: 784.969 | L8: 1
A9: HvGATA23 | B9: HvGATA26 | C9: HORVU.MOREX.r3.6HG0579890 | D9: HORVU.MOREX.r3.7HG0716520 | E9: MA | F9: 0.420075 | G9: 0.373686 | H9: 1.12414 | I9: 0.35922 | J9: 238.071 | K9: 628.929 | L9: 0.407337

Sheet S12
A1: Table S12. One-to-one orthologous relationships of the GATA genes between barley and wheat.
A2: Gene Name | C2: Gene ID
A3: Hordeum vulgare L. | B3: Triticum aestivum L. | C3: Hordeum vulgare L. | D3: Triticum aestivum L.
A4: HvGATA1 | B4: TaGATA1 | C4: HORVU.MOREX.r3.1HG0023970 | D4: TraesCS1A02G097300
A5: HvGATA1 | B5: TaGATA7 | C5: HORVU.MOREX.r3.1HG0023970 | D5: TraesCS1B02G126600
A6: HvGATA1 | B6: TaGATA12 | C6: HORVU.MOREX.r3.1HG0023970 | D6: TraesCS1D02G106100
A7: HvGATA2 | B7: TaGATA9 | C7: HORVU.MOREX.r3.1HG0058390 | D7: TraesCS1B02G234800
A8: HvGATA2 | B8: TaGATA14 | C8: HORVU.MOREX.r3.1HG0058390 | D8: TraesCS1D02G223200
A9: HvGATA3 | B9: TaGATA4 | C9: HORVU.MOREX.r3.1HG0073340 | D9: TraesCS1A02G285100
A10: HvGATA3 | B10: TaGATA15 | C10: HORVU.MOREX.r3.1HG0073340 | D10: TraesCS1D02G284100
A11: HvGATA4 | B11: TaGATA5 | C11: HORVU.MOREX.r3.1HG0076900 | D11: TraesCS1A02G340900
A12: HvGATA4 | B12: TaGATA10 | C12: HORVU.MOREX.r3.1HG0076900 | D12: TraesCS1B02G353700
A13: HvGATA4 | B13: TaGATA16 | C13: HORVU.MOREX.r3.1HG0076900 | D13: TraesCS1D02G343000
A14: HvGATA5 | B14: TaGATA6 | C14: HORVU.MOREX.r3.1HG0091840 | D14: TraesCS1A02G418200
... A67: HvGATA27 | B67: TaGATA79 | C67: HORVU.MOREX.r3.7HG0728220 | D67: TraesCS7D02G416000

Sheet S13
A1: Table S13. One-to-one orthologous relationships of the GATA genes between barley and maize.
A2: Gene Name | C2: Gene ID
A3: Hordeum vulgare L. | B3: Zea mays L. | C3: Hordeum vulgare L. | D3: Zea mays L.
A4: HvGATA1 | B4: ZmGATA27 | C4: HORVU.MOREX.r3.1HG0023970 | D4: Zm00001d037605
A5: HvGATA4 | B5: ZmGATA28 | C5: HORVU.MOREX.r3.1HG0076900 | D5: Zm00001d038801
A6: HvGATA4 | B6: ZmGATA7 | C6: HORVU.MOREX.r3.1HG0076900 | D6: Zm00001d010785
A7: HvGATA5 | B7: ZmGATA29 | C7: HORVU.MOREX.r3.1HG0091840 | D7: Zm00001d039113
A8: HvGATA5 | B8: ZmGATA6 | C8: HORVU.MOREX.r3.1HG0091840 | D8: Zm00001d009668
A9: HvGATA6 | B9: ZmGATA15 | C9: HORVU.MOREX.r3.2HG0125050 | D9: Zm00001d022142
A10: HvGATA7 | B10: ZmGATA19 | C10: HORVU.MOREX.r3.2HG0184840 | D10: Zm00001d025953
A11: HvGATA7 | B11: ZmGATA2 | C11: HORVU.MOREX.r3.2HG0184840 | D11: Zm00001d002811
A12: HvGATA8 | B12: ZmGATA20 | C12: HORVU.MOREX.r3.2HG0185510 | D12: Zm00001d025988
A13: HvGATA8 | B13: ZmGATA1 | C13: HORVU.MOREX.r3.2HG0185510 | D13: Zm00001d002790
A14: HvGATA10 | B14: ZmGATA31 | C14: HORVU.MOREX.r3.3HG0277700 | D14: Zm00001d043969
... A28: HvGATA27 | B28: ZmGATA26 | C28: HORVU.MOREX.r3.7HG0728220 | D28: Zm00001d036494

Sheet S14
A1: Table S14. One-to-one orthologous relationships of the GATA genes between barley and rice.
A2: Gene Name | C2: Gene ID
A3: Hordeum vulgare L. | B3: Oryza sativa L. | C3: Hordeum vulgare L. | D3: Oryza sativa L.
A4: HvGATA2 | B4: OsGATA23 | C4: HORVU.MOREX.r3.1HG0058390 | D4: Os10t0557600
A5: HvGATA4 | B5: OsGATA17 | C5: HORVU.MOREX.r3.1HG0076900 | D5: Os05t0520300
A6: HvGATA10 | B6: OsGATA2 | C6: HORVU.MOREX.r3.3HG0277700 | D6: Os01t0662800
A7: HvGATA14 | B7: OsGATA11 | C7: HORVU.MOREX.r3.4HG0340090 | D7: Os03t0734900

Sheet S15
A1: Table S15. The list of HvGATAs target genes in barley.
A2: TF | B2: Target | C2: Method | D2: Position | E2: Strand | F2: Sequence | G2: DistanceToTSS | H2: P-value | I2: Correlation
A3: HORVU.MOREX.r3.3HG0288270 | B3: MLOC_10229 | C3: FunTFBS | D3: 7:314117698-314117710 | E3: + | F3: GGTCCAGATCTGG | G3: 54 | H3: 8.72e-06 | I3: 0.6378
A4: HORVU.MOREX.r3.3HG0288270 | B4: MLOC_15070 | C4: FunTFBS | D4: 7:315821654-315821666,7:315821657-315821669 | E4: +,- | F4: AATCTAGATCTGG,GGTCCAGATCTAG | G4: -480,-477 | H4: 1.51e-06,8.33e-06 | I4: 0.6609,0.6902
A5: HORVU.MOREX.r3.3HG0288270 | B5: MLOC_5009 | C5: FunTFBS | D5: 2:14771139-14771151 | E5: - | F5: AATCCAGATCTGT | G5: -405 | H5: 1.72e-06 | I5: 0.5733
A6: HORVU.MOREX.r3.3HG0288270 | B6: MLOC_55753 | C6: FunTFBS | D6: 3:3857280-3857292 | E6: - | F6: GATTCAGATCTCG | G6: 72 | H6: 4.14e-06 | I6: 0.5764
A7: HORVU.MOREX.r3.3HG0288270 | B7: MLOC_56733 | C7: FunTFBS | D7: 7:33666562-33666574,7:33666559-33666571 | E7: -,+ | F7: GAACCAGATCTGA,GTTTCAGATCTGG | G7: -313,-310 | H7: 4.31e-07,3.17e-06 | I7: 0.7642,0.8112
A8: HORVU.MOREX.r3.3HG0288270 | B8: MLOC_68938 | C8: FunTFBS | D8: 1:18222560-18222572 | E8: - | F8: TATCCAGATCTAG | G8: 15 | H8: 1.12e-06 | I8: 0.6163
A9: HORVU.MOREX.r3.3HG0288270 | B9: MLOC_74329 | C9: FunTFBS | D9: 2:624138013-624138025 | E9: - | F9: GACCCAGATCTGG | G9: -372 | H9: 7.3e-06 | I9: 0.5866
A10: HORVU.MOREX.r3.6HG0559190 | B10: MLOC_1493 | C10: FunTFBS | D10: 3:173905151-173905165 | E10: + | F10: TCATCATCAGCACCC | G10: 0 | H10: 3.37e-06 | I10: 0.7611
A11: HORVU.MOREX.r3.6HG0559190 | B11: MLOC_18664 | C11: FunTFBS | D11: 7:228085748-228085762,7:228085745-228085759 | E11: +,+ | F11: TCATCTTCATCGTCA,TCCTCATCTTCATCG | G11: -93,-90 | H11: 9.3e-06,4.96e-06 | I11: 0.7053,0.5258
A12: HORVU.MOREX.r3.6HG0559190 | B12: MLOC_19532 | C12: FunTFBS | D12: 3HL_unordered:2551672-2551686 | E12: - | F12: CCATCTTCATCATCA | G12: -483 | H12: 9.91e-08 | I12: 0.5568
A13: HORVU.MOREX.r3.6HG0559190 | B13: MLOC_22225 | C13: FunTFBS | D13: 1:449278406-449278420,1:449278400-449278414 | E13: -,- | F13: TCATAACCATCATCT,CCATCATCTTTATCA | G13: -269,-263 | H13: 3.22e-06,2.33e-06 | I13: 0.813,0.9702
A14: HORVU.MOREX.r3.6HG0559190 | B14: MLOC_30287 | C14: FunTFBS | D14: 4:7724113-7724127 | E14: - | F14: TCATCTTCGTCTTCG | G14: -133 | H14: 6.52e-06 | I14: 0.5228
A15: HORVU.MOREX.r3.6HG0559190 | B15: MLOC_36488 | C15: FunTFBS | D15: 7:96048500-96048514 | E15: - | F15: TCATCCTCATCTTCG | G15: -2 | H15: 1.17e-06 | I15: 0.6255
A16: HORVU.MOREX.r3.6HG0559190 | B16: MLOC_3965 | C16: FunTFBS | D16: 4:537093039-537093053 | E16: + | F16: TCATGACCATCCTCA | G16: -366 | H16: 5.99e-06 | I16: 0.5488
A17: HORVU.MOREX.r3.6HG0559190 | B17: MLOC_42504 | C17: FunTFBS | D17: 4:279886247-279886261 | E17: - | F17: ACGCCATCATCATCT | G17: 0 | H17: 9.43e-06 | I17: 0.523
A18: HORVU.MOREX.r3.6HG0559190 | B18: MLOC_45394 | C18: FunTFBS | D18: 4:537220530-537220544 | E18: + | F18: CCATCGTCACCATCA | G18: -79 | H18: 1.52e-06 | I18: 0.6007
A19: HORVU.MOREX.r3.6HG0559190 | B19: MLOC_50740 | C19: FunTFBS | D19: 5:8628694-8628708 | E19: - | F19: ACATCATCATCAACC | G19: 56 | H19: 2.09e-06 | I19: 0.5688
A20: HORVU.MOREX.r3.6HG0559190 | B20: MLOC_51828 | C20: FunTFBS | D20: 7:308546370-308546384,7:308546367-308546381 | E20: -,- | F20: TAATCATCAACAACA,TCATCAACAACAACA | G20: -99,-96 | H20: 5.81e-06,9.59e-06 | I20: 0.679,0.5846
A21: HORVU.MOREX.r3.6HG0559190 | B21: MLOC_52795 | C21: FunTFBS | D21: 7:537099861-537099875 | E21: + | F21: TCATCATCACTATCC | G21: -180 | H21: 1.02e-06 | I21: 0.5403
A22: HORVU.MOREX.r3.6HG0559190 | B22: MLOC_53644 | C22: FunTFBS | D22: 2:601046339-601046353 | E22: + | F22: TCTTCATCTTCCTCA | G22: 0 | H22: 7.71e-06 | I22: 0.5395
A23: HORVU.MOREX.r3.6HG0559190 | B23: MLOC_55371 | C23: FunTFBS | D23: 7:202415211-202415225 | E23: - | F23: TCAACTTCGTCATCG | G23: -481 | H23: 7.69e-06 | I23: 0.5437
A24: HORVU.MOREX.r3.6HG0559190 | B24: MLOC_55549 | C24: FunTFBS | D24: 2:56596839-56596853 | E24: - | F24: ACATCGTCATCTTCA | G24: -415 | H24: 3.65e-06 | I24: 0.6444
A25: HORVU.MOREX.r3.6HG0559190 | B25: MLOC_56191 | C25: FunTFBS | D25: 2:69293824-69293838 | E25: - | F25: ACATCATCATCATCG | G25: -131 | H25: 7.04e-08 | I25: 0.6462
A26: HORVU.MOREX.r3.6HG0559190 | B26: MLOC_5763 | C26: FunTFBS | D26: 1:147464738-147464752 | E26: + | F26: CGATCATCACCATCA | G26: -448 | H26: 5.62e-07 | I26: 0.5256
A27: HORVU.MOREX.r3.6HG0559190 | B27: MLOC_59318 | C27: FunTFBS | D27: 4:488999862-488999876 | E27: + | F27: ACATCATCGTCATCG | G27: -146 | H27: 6.66e-07 | I27: 0.6209
A28: HORVU.MOREX.r3.6HG0559190 | B28: MLOC_59427 | C28: FunTFBS | D28: 3:430164460-430164474,3:430164457-430164471 | E28: +,+ | F28: TCATCGTCTTCATCC,CCGTCATCGTCTTCA | G28: 75,78 | H28: 4.51e-06,9.3e-06 | I28: 0.7198,0.5844
A29: HORVU.MOREX.r3.6HG0559190 | B29: MLOC_59770 | C29: FunTFBS | D29: 2:411383369-411383383,2:411383363-411383377 | E29: -,- | F29: TCACCGTCACCATCG,TCACCATCGCCATCG | G29: 60,66 | H29: 8.86e-06,3.37e-06 | I29: 0.5527,0.9196
A30: HORVU.MOREX.r3.6HG0559190 | B30: MLOC_63006 | C30: FunTFBS | D30: 1:4375899-4375913 | E30: + | F30: TCATCATCACCACCC | G30: -127 | H30: 1.56e-06 | I30: 0.5445
A31: HORVU.MOREX.r3.6HG0559190 | B31: MLOC_63199 | C31: FunTFBS | D31: 4:310115914-310115928 | E31: - | F31: TCATCTTCATCCTCC | G31: -238 | H31: 3.51e-06 | I31: 0.5241
A32: HORVU.MOREX.r3.6HG0559190 | B32: MLOC_6370 | C32: FunTFBS | D32: 3:4288686-4288700 | E32: - | F32: AGAACATCACCATCA | G32: -74 | H32: 7.76e-06 | I32: 0.6489
A33: HORVU.MOREX.r3.6HG0559190 | B33: MLOC_67385 | C33: FunTFBS | D33: 2:588619028-588619042 | E33: - | F33: TCATCCTCACCCTCA | G33: 13 | H33: 3.69e-06 | I33: 0.5957
A34: HORVU.MOREX.r3.6HG0559190 | B34: MLOC_70579 | C34: FunTFBS | D34: 7:291063835-291063849 | E34: - | F34: CCATCATCACCACCG | G34: 49 | H34: 6.17e-06 | I34: 0.5189
A35: HORVU.MOREX.r3.6HG0559190 | B35: MLOC_74749 | C35: FunTFBS | D35: 1:1978617-1978631 | E35: + | F35: CTATCCTCATCATCA | G35: -14 | H35: 2.63e-06 | I35: 0.6583
A36: HORVU.MOREX.r3.6HG0559190 | B36: MLOC_74750 | C36: FunTFBS | D36: 1:1978617-1978631 | E36: + | F36: CTATCCTCATCATCA | G36: -350 | H36: 2.63e-06 | I36: 0.6583
A37: HORVU.MOREX.r3.6HG0559190 | B37: MLOC_80433 | C37: FunTFBS | D37: 2HL_unordered:778784-778798 | E37: - | F37: CCACCATCATTATCA | G37: -122 | H37: 9.78e-07 | I37: 0.5372
A38: HORVU.MOREX.r3.3HG0277700 | B38: MLOC_17760 | C38: FunTFBS | D38: 7:390015784-390015796 | E38: - | F38: CCGATCTGATTGA | G38: -472 | H38: 9.45e-06 | I38: 0.5701
A39: HORVU.MOREX.r3.3HG0277700 | B39: MLOC_34869 | C39: FunTFBS | D39: 1:436450825-436450837 | E39: - | F39: TTGATCTGATCTA | G39: 22 | H39: 4.91e-06 | I39: 0.6256
A40: HORVU.MOREX.r3.3HG0277700 | B40: MLOC_51300 | C40: FunTFBS | D40: 6:209313852-209313864 | E40: + | F40: CGGATCGGATTGG | G40: 0 | H40: 3.96e-06 | I40: 0.7124
A41: HORVU.MOREX.r3.3HG0277700 | B41: MLOC_55123 | C41: FunTFBS | D41: 3:533594305-533594317 | E41: - | F41: CTGATCTGATCGG | G41: -106 | H41: 7.74e-06 | I41: 0.6382
... A44: HORVU.MOREX.r3.3HG0277700 | B44: MLOC_81120 | C44: FunTFBS | D44: 7:282023700-282023712 | E44: - | F44: CAGATCGGATCTG | G44: -206 | H44: 6.48e-06 | I44: 0.6119
A45: HORVU.MOREX.r3.3HG0277700 | B45: MLOC_81502 | C45: FunTFBS | D45: 3:434422393-434422405,3:434422388-434422400 | E45: -,+ | F45: CAGATCGGATCGG,TTGATCCGATCCG | G45: 33,38 | H45: 4.91e-06,4.05e-06 | I45: 0.703,0.5602
A46: HORVU.MOREX.r3.4HG0340090 | B46: MLOC_11883 | C46: FunTFBS | D46: 4:155260021-155260039 | E46: + | F46: CATCATCAACTTTATTAAT | G46: -21 | H46: 7.17e-06 | I46: 0.5322
A47: HORVU.MOREX.r3.4HG0340090 | B47: MLOC_13225 | C47: FunTFBS | D47: 2:615564471-615564489,2:615564474-615564492 | E47: -,- | F47: CGTCGTCGTCGTCGTCGTC,CACCGTCGTCGTCGTCGTC | G47: -103,-100 | H47: 7.52e-06,4.2e-06 | I47: 0.5021,0.6797
A48: HORVU.MOREX.r3.4HG0340090 | B48: MLOC_19368 | C48: FunTFBS | D48: 7:91128417-91128435 | E48: - | F48: CCTCGTCCTCGTCGTCGTC | G48: 82 | H48: 2.68e-06 | I48: 0.963
A49: HORVU.MOREX.r3.4HG0340090 | B49: MLOC_2142 | C49: FunTFBS | D49: 3:408663956-408663974 | E49: - | F49: CCTCGTCGTCGTCGTCATC | G49: 60 | H49: 9.52e-07 | I49: 0.7067
A50: HORVU.MOREX.r3.4HG0340090 | B50: MLOC_22225 | C50: FunTFBS | D50: 1:449278398-449278416,1:449278395-449278413 | E50: -,- | F50: AACCATCATCTTTATCATA,CATCATCTTTATCATACAC | G50: -261,-258 | H50: 1.93e-06,1.76e-06 | I50: 0.8885,0.6121
A51: HORVU.MOREX.r3.4HG0340090 | B51: MLOC_36840 | C51: FunTFBS | D51: 7:589470077-589470095,7:589470086-589470104 | E51: -,- | F51: CGTCGTCCTCGTCGTCGTC,CGTCCTCCTCGTCGTCCTC | G51: 46,55 | H51: 3.44e-06,8.78e-06 | I51: 0.8477,0.5038
A52: HORVU.MOREX.r3.4HG0340090 | B52: MLOC_41237 | C52: FunTFBS | D52: 5:53055966-53055984 | E52: - | F52: CATCACCTCCATCGTCAGC | G52: -421 | H52: 5.14e-06 | I52: 0.5067
A53: HORVU.MOREX.r3.4HG0340090 | B53: MLOC_45355 | C53: FunTFBS | D53: 7:452503071-452503089 | E53: - | F53: CATCCTTCTCTTCTTCCTC | G53: -44 | H53: 6.49e-06 | I53: 0.5091
A54: HORVU.MOREX.r3.4HG0340090 | B54: MLOC_52344 | C54: FunTFBS | D54: 6:471543071-471543089 | E54: - | F54: CATCAGCAACAGCAGCAGC | G54: 8 | H54: 4.56e-06 | I54: 0.5219
A55: HORVU.MOREX.r3.4HG0340090 | B55: MLOC_59318 | C55: FunTFBS | D55: 4:488999863-488999881 | E55: + | F55: CATCATCGTCATCGAGAAA | G55: -147 | H55: 6.42e-06 | I55: 0.5292
A56: HORVU.MOREX.r3.4HG0340090 | B56: MLOC_59770 | C56: FunTFBS | D56: 2:411383364-411383382,2:411383361-411383379 | E56: -,- | F56: CACCGTCACCATCGCCATC,CGTCACCATCGCCATCGTC | G56: 61,64 | H56: 1.43e-06,2.82e-06 | I56: 0.5708,0.641
A57: HORVU.MOREX.r3.4HG0340090 | B57: MLOC_63194 | C57: FunTFBS | D57: 7:533238532-533238550 | E57: + | F57: CATCAGCAACAGCAACAGC | G57: -37 | H57: 4.89e-06 | I57: 0.7557
A58: HORVU.MOREX.r3.4HG0340090 | B58: MLOC_64685 | C58: FunTFBS | D58: 4:139274701-139274719 | E58: - | F58: CATGGTTCTTATCATCATC | G58: -138 | H58: 2.08e-06 | I58: 0.5013
A59: HORVU.MOREX.r3.4HG0340090 | B59: MLOC_64852 | C59: FunTFBS | D59: 2:548520225-548520243 | E59: - | F59: CGTCTTCATCTTCGTGCTC | G59: -79 | H59: 6.22e-06 | I59: 0.5625
A60: HORVU.MOREX.r3.4HG0340090 | B60: MLOC_66511 | C60: FunTFBS | D60: 4:383504086-383504104 | E60: + | F60: CATCATCATAAGCATCATT | G60: -434 | H60: 6.48e-08 | I60: 0.6877
A61: HORVU.MOREX.r3.4HG0340090 | B61: MLOC_72488 | C61: FunTFBS | D61: 5:435918713-435918731 | E61: - | F61: CCTCCTCGTCTTCGTCGTC | G61: -96 | H61: 8.65e-06 | I61: 0.589
A62: HORVU.MOREX.r3.4HG0340090 | B62: MLOC_81117 | C62: FunTFBS | D62: 4:272938849-272938867 | E62: - | F62: CGCTTTCTTCGTCATCATC | G62: -389 | H62: 8.3e-06 | I62: 0.5048
A63: HORVU.MOREX.r3.1HG0091840 | B63: MLOC_34673 | C63: FunTFBS | D63: 5:517622851-517622861 | E63: - | F63: CGGATCCGATC | G63: 59 | H63: 3.33e-06 | I63: 0.6131
A64: HORVU.MOREX.r3.1HG0091840 | B64: MLOC_38826 | C64: FunTFBS | D64: 4:358389092-358389102 | E64: - | F64: CAGATCTGATT | G64: -245 | H64: 3.61e-06 | I64: 0.6375
A65: HORVU.MOREX.r3.1HG0091840 | B65: MLOC_51300 | C65: FunTFBS | D65: 6:209313852-209313862 | E65: + | F65: CGGATCGGATT | G65: 0 | H65: 4.39e-07 | I65: 0.701
A66: HORVU.MOREX.r3.1HG0091840 | B66: MLOC_55123 | C66: FunTFBS | D66: 3:533594307-533594317 | E66: - | F66: CTGATCTGATC | G66: -108 | H66: 6.98e-06 | I66: 0.6367
A67: HORVU.MOREX.r3.1HG0091840 | B67: MLOC_55986 | C67: FunTFBS | D67: 2:552574344-552574354 | E67: - | F67: TCGATCGGATT | G67: -118 | H67: 4.77e-06 | I67: 0.6035
A68: HORVU.MOREX.r3.1HG0091840 | B68: MLOC_59289 | C68: FunTFBS | D68: 2:468257981-468257991 | E68: - | F68: TAGATCGGATC | G68: -275 | H68: 6.52e-06 | I68: 0.7888
... A73: HORVU.MOREX.r3.1HG0091840 | B73: MLOC_76498 | C73: FunTFBS | D73: 3:18342300-18342310 | E73: + | F73: CCGATCGGATC | G73: 52 | H73: 8.81e-07 | I73: 0.7002
A74: HORVU.MOREX.r3.1HG0091840 | B74: MLOC_81502 | C74: FunTFBS | D74: 3:434422395-434422405,3:434422390-434422400 | E74: -,- | F74: CAGATCGGATC,CGGATCGGATC | G74: 33,38 | H74: 1.29e-06,1.07e-06 | I74: 0.6724,0.8179
A75: HORVU.MOREX.r3.5HG0454780 | B75: MLOC_27708 | C75: FunTFBS | D75: 7:557800289-557800303 | E75: + | F75: TTTAGATCTATATTC | G75: 8 | H75: 1.17e-06 | I75: 0.6325
A76: HORVU.MOREX.r3.5HG0454780 | B76: MLOC_56733 | C76: FunTFBS | D76: 7:33666561-33666575 | E76: + | F76: TTCAGATCTGGTTCA | G76: -312 | H76: 4e-06 | I76: 0.7338
A77: HORVU.MOREX.r3.5HG0454780 | B77: MLOC_69401 | C77: FunTFBS | D77: 1:460152588-460152602 | E77: + | F77: CGTAGATCCGATCTT | G77: 55 | H77: 8.55e-06 | I77: 0.7721
A78: HORVU.MOREX.r3.5HG0454780 | B78: MLOC_77656 | C78: FunTFBS | D78: 4:400204194-400204208 | E78: + | F78: ATGAGATCTGTTTTT | G78: -209 | H78: 8.95e-06 | I78: 0.587

Sheet S16
A1: Table S16.The Primers used for qRT-PCR validation.
A2: Gene ID | B2: Forward primer | C2: Reverse primer
A3: HvGATA1 | B3: TGGATTCGTCTCACCACAAGG | C3: GCATTCGACACAGCACATCC
A4: HvGATA9 | B4: AATGCGGACACAAGCAATCG | C4: GAACCGGCTATTTCACACGC
A5: HvGATA13 | B5: AACAAGGGCACCCTGAGAAG | C5: GGAGTGACGTCGTAGTTGCT
A6: HvGATA16 | B6: GTGGACGAGCCTACCAGATG | C6: GCCCATGCTATTCCACATGC
A7: HvGATA14 | B7: GCTGCTCTATTGGTGCTTGG | C7: AAGGAAGCAACCCTTTTGGC
A8: HvGATA20 | B8: ACCCGACAAACGAAGAGGAG | C8: GATCGAGAGAGGGAACCACC
A9: HvGATA24 | B9: GTCTCCTACGAGCTCATGCC | C9: ATGATACGCGACACCCACTC
A10: Actin | B10: TGGCTGACGGTGAGGACA | C10: CGAGGGCGACCAACTATG
