Workbook

Sheet Table S1
A1: Table S1. The result of gene structure error detect
A2: QueryGene | B2: QualityScore | C2: PairCount | D2: Rank
A3: evm.model.LG08.1354 | B3: 0.675296 | C3: 24 | D3: 1
A4: evm.model.LG08.1355 | B4: 0.675059 | C4: 24 | D4: 2
A5: evm.model.LG08.1356 | B5: 0.674429 | C5: 24 | D5: 3
A6: evm.model.LG04.2084 | B6: 0.664728 | C6: 24 | D6: 4
A7: evm.model.LG08.0669 | B7: 0.661906 | C7: 24 | D7: 5
A8: evm.model.LG08.1363 | B8: 0.661847 | C8: 24 | D8: 6
A9: evm.model.LG01.0670 | B9: 0.659908 | C9: 24 | D9: 7
A10: evm.model.LG08.1357 | B10: 0.659091 | C10: 24 | D10: 8
A11: evm.model.LG01.1691 | B11: 0.659059 | C11: 24 | D11: 9
A12: evm.model.LG08.1358 | B12: 0.651794 | C12: 24 | D12: 10
A13: evm.model.LG08.1815 | B13: 0.646272 | C13: 24 | D13: 11
A14: evm.model.LG08.1816 | B14: 0.64426 | C14: 24 | D14: 12
... A156: evm.model.LG02.0562 | B156: 0.335307 | C156: 24 | D156: 154

Sheet Table S2
A1: Table S2. The primers used in RT-qPCR analysis
A2: Genes | B2: Primers
A3: CcERF-4 | B3: F：ACGCATGAAGGTGGAGAGACAG
B4: R: ATCCCACAAAGCATCTGAAGGTTC
A5: CcERF-30 | B5: F：CTTCGACACGGCGGAGGAG
B6: R: GCGGCGGAGACGGAGATC
A7: CcERF-34 | B7: F：GTGGCTTGGGACCTTTGATACG
B8: R: CATCGGCTTGGCTTACACTCAG
A9: CcERF-41 | B9: F：TCTTCATCGTCATCGTCATCATCG
B10: R: ACTTCCTGTCTCCTTTCCTTGTTC
A11: CcERF-42 | B11: F：GACAGGTCTATCCGCAATTCTCAG
B12: R: ACCCTTCTGCCACACTCCTATG
A13: CcERF-66 | B13: F：CTCCCGTGCTCTGCTCAATTTC
B14: R: AGCTGCTCTCCGATAAGGATGTC
A15: CcERF-84 | B15: F：CGTGTATGGCTTGGAACCTTCG
B16: R: TGCGGCTCGGAGATGATCG
A17: CcAP2-11 | B17: F：ACCAGAGAAGAGAAGACCCAGATG
B18: R: TTGAATTGTCGTTGGAGGAGGATC
A19: CcAP2-13 | B19: F：ATTGTGGGAAGCAGGTGTATTTGG
B20: R: TTAATGTCCGCATCAACTCCTCTG

Sheet Table S3
A1: Table S3. Characterization of of AP2/ERF family identification in C.camphora
A2: Gene ID | B2: Rename | C2: AA | D2: PI | E2: MW | F2: subfamily | G2: Localizations
A3: evm.model.LG01.0164 | B3: CcAP2_1 | C3: 571 | D3: 6.18 | E3: 62149.37 | F3: AP2 | G3: =VLOOKUP(A3,[2]亚细胞!$A:$B,2,0) -> Nucleus
A4: evm.model.LG01.2154 | B4: CcAP2_2 | C4: 654 | D4: 6.36 | E4: 72302.34 | F4: AP2 | G4: =VLOOKUP(A4,[2]亚细胞!$A:$B,2,0) -> Nucleus
A5: evm.model.LG01.3113 | B5: CcAP2_3 | C5: 391 | D5: 5.07 | E5: 43510.93 | F5: AP2 | G5: =VLOOKUP(A5,[2]亚细胞!$A:$B,2,0) -> Nucleus
A6: evm.model.LG02.1312 | B6: CcAP2_4 | C6: 378 | D6: 5.16 | E6: 42535.11 | F6: AP2 | G6: =VLOOKUP(A6,[2]亚细胞!$A:$B,2,0) -> Nucleus
A7: evm.model.LG03.0115 | B7: CcAP2_5 | C7: 468 | D7: 6.43 | E7: 51854.46 | F7: AP2 | G7: =VLOOKUP(A7,[2]亚细胞!$A:$B,2,0) -> Nucleus
A8: evm.model.LG03.0223 | B8: CcAP2_6 | C8: 342 | D8: 6.33 | E8: 38195.91 | F8: AP2 | G8: =VLOOKUP(A8,[2]亚细胞!$A:$B,2,0) -> Nucleus
A9: evm.model.LG03.1745 | B9: CcAP2_7 | C9: 484 | D9: 5.66 | E9: 52710.23 | F9: AP2 | G9: =VLOOKUP(A9,[2]亚细胞!$A:$B,2,0) -> Nucleus
A10: evm.model.LG03.2171 | B10: CcAP2_8 | C10: 464 | D10: 6.57 | E10: 50844.19 | F10: AP2 | G10: =VLOOKUP(A10,[2]亚细胞!$A:$B,2,0) -> Nucleus
A11: evm.model.LG03.2431 | B11: CcAP2_9 | C11: 538 | D11: 6.94 | E11: 58826.02 | F11: AP2 | G11: =VLOOKUP(A11,[2]亚细胞!$A:$B,2,0) -> Nucleus
A12: evm.model.LG03.2801 | B12: CcAP2_10 | C12: 672 | D12: 6.44 | E12: 73975.4 | F12: AP2 | G12: =VLOOKUP(A12,[2]亚细胞!$A:$B,2,0) -> Nucleus
A13: evm.model.LG04.1385 | B13: CcAP2_11 | C13: 526 | D13: 6.88 | E13: 58265.55 | F13: AP2 | G13: =VLOOKUP(A13,[2]亚细胞!$A:$B,2,0) -> Nucleus
A14: evm.model.LG04.1492 | B14: CcAP2_12 | C14: 670 | D14: 6.4 | E14: 73524.5 | F14: AP2 | G14: =VLOOKUP(A14,[2]亚细胞!$A:$B,2,0) -> Nucleus
... A27: evm.model.LG11.1208 | B27: CcRAV_4 | C27: 348 | D27: 8.15 | E27: 39616.6 | F27: RAV | G27: =VLOOKUP(A27,[2]亚细胞!$A:$B,2,0) -> Nucleus
A28: evm.model.LG01.0469 | B28: CcERF_1 | C28: 213 | D28: 5.33 | E28: 24019.98 | F28: =VLOOKUP(A28,[1]ERF排好!$B$1:$F$65536,5,0) -> ERF-Ⅸ | G28: =VLOOKUP(A28,[2]亚细胞!$A:$B,2,0) -> Nucleus
A29: evm.model.LG01.0505 | B29: CcERF_2 | C29: 493 | D29: 6.02 | E29: 54202.64 | F29: =VLOOKUP(A29,[1]ERF排好!$B$1:$F$65536,5,0) -> ERF-Ⅰ | G29: =VLOOKUP(A29,[2]亚细胞!$A:$B,2,0) -> Nucleus
A30: evm.model.LG01.0670 | B30: CcERF_3 | C30: 232 | D30: 5 | E30: 25457.52 | F30: =VLOOKUP(A30,[1]ERF排好!$B$1:$F$65536,5,0) -> ERF-Ⅲ | G30: =VLOOKUP(A30,[2]亚细胞!$A:$B,2,0) -> Nucleus
A31: evm.model.LG01.0847 | B31: CcERF_4 | C31: 300 | D31: 7.07 | E31: 33315.66 | F31: =VLOOKUP(A31,[1]ERF排好!$B$1:$F$65536,5,0) -> ERF-Ⅴ | G31: =VLOOKUP(A31,[2]亚细胞!$A:$B,2,0) -> Nucleus
A32: evm.model.LG01.1691 | B32: CcERF_5 | C32: 235 | D32: 4.96 | E32: 25994.92 | F32: =VLOOKUP(A32,[1]ERF排好!$B$1:$F$65536,5,0) -> ERF-Ⅲ | G32: =VLOOKUP(A32,[2]亚细胞!$A:$B,2,0) -> Nucleus
A33: evm.model.LG01.1931 | B33: CcERF_6 | C33: 266 | D33: 6.02 | E33: 30105.54 | F33: =VLOOKUP(A33,[1]ERF排好!$B$1:$F$65536,5,0) -> ERF-Ⅴ | G33: =VLOOKUP(A33,[2]亚细胞!$A:$B,2,0) -> Nucleus
A34: evm.model.LG01.1988 | B34: CcERF_7 | C34: 289 | D34: 5.22 | E34: 33098.78 | F34: =VLOOKUP(A34,[1]ERF排好!$B$1:$F$65536,5,0) -> ERF-Ⅳ | G34: =VLOOKUP(A34,[2]亚细胞!$A:$B,2,0) -> Nucleus
A35: evm.model.LG01.2586 | B35: CcERF_8 | C35: 209 | D35: 9.58 | E35: 23529.46 | F35: =VLOOKUP(A35,[1]ERF排好!$B$1:$F$65536,5,0) -> ERF-Ⅰ | G35: =VLOOKUP(A35,[2]亚细胞!$A:$B,2,0) -> Nucleus
A36: evm.model.LG01.2653 | B36: CcERF_9 | C36: 162 | D36: 9.93 | E36: 18211.19 | F36: =VLOOKUP(A36,[1]ERF排好!$B$1:$F$65536,5,0) -> ERF-Ⅷ | G36: =VLOOKUP(A36,[2]亚细胞!$A:$B,2,0) -> Nucleus
A37: evm.model.LG01.3027 | B37: CcERF_10 | C37: 302 | D37: 7.05 | E37: 33945.12 | F37: =VLOOKUP(A37,[1]ERF排好!$B$1:$F$65536,5,0) -> ERF-Ⅰ | G37: =VLOOKUP(A37,[2]亚细胞!$A:$B,2,0) -> Nucleus
A38: evm.model.LG02.0119 | B38: CcERF_11 | C38: 320 | D38: 6.21 | E38: 35410.65 | F38: =VLOOKUP(A38,[1]ERF排好!$B$1:$F$65536,5,0) -> ERF-Ⅰ | G38: =VLOOKUP(A38,[2]亚细胞!$A:$B,2,0) -> Nucleus
A39: evm.model.LG02.0232 | B39: CcERF_12 | C39: 215 | D39: 6.72 | E39: 23072.87 | F39: =VLOOKUP(A39,[1]ERF排好!$B$1:$F$65536,5,0) -> ERF-Ⅱ | G39: =VLOOKUP(A39,[2]亚细胞!$A:$B,2,0) -> Nucleus
... A156: evm.model.LG12.1254 | B156: CcERF_129 | C156: 220 | D156: 4.8 | E156: 23856.71 | F156: =VLOOKUP(A156,[1]ERF排好!$B$1:$F$65536,5,0) -> ERF-Ⅳ | G156: =VLOOKUP(A156,[2]亚细胞!$A:$B,2,0) -> Nucleus

Sheet Table S4
A1: Table S4. Summary of AP2/ERF family identification in C.camphora
A2: Subfamily | B2: Group | C2: Number | D2: Sum
A3: DREB | B3: ERF-Ⅰ | C3: 8 | D3: =SUM(C3:C6) -> 54
B4: ERF-Ⅱ | C4: 12
B5: ERF-Ⅲ | C5: 29
B6: ERF-Ⅳ | C6: 5
A7: ERF | B7: ERF-Ⅴ | C7: 13 | D7: =SUM(C7:C12) -> 75
B8: ERF-Ⅵ | C8: 4
B9: ERF-Ⅶ | C9: 7
B10: ERF-Ⅷ | C10: 13
B11: ERF-Ⅸ | C11: 22
B12: ERF-X | C12: 16
A13: AP2 | B13: AP2 | C13: 21 | D13: 21
A14: RAV | B14: RAV | C14: 4 | D14: 4

Sheet Table S5
A1: Table S5. Syntenic analysis of CcAP2/ERF genes
A2: Gene ID | B2: Gene name | C2: Gene ID | D2: Gene name
A3: evm.model.LG01.0164 | B3: =VLOOKUP(A3,'[3]Table S1'!A$1:B$65536,2,0) -> CcAP2_1 | C3: evm.model.LG12.0446 | D3: =VLOOKUP(C3,'[3]Table S1'!A$1:B$65536,2,0) -> CcAP2_21
A4: evm.model.LG03.2801 | B4: =VLOOKUP(A4,'[3]Table S1'!A$1:B$65536,2,0) -> CcAP2_10 | C4: evm.model.LG04.1492 | D4: =VLOOKUP(C4,'[3]Table S1'!A$1:B$65536,2,0) -> CcAP2_12
A5: evm.model.LG04.2673 | B5: =VLOOKUP(A5,'[3]Table S1'!A$1:B$65536,2,0) -> CcAP2_13 | C5: evm.model.LG05.2031 | D5: =VLOOKUP(C5,'[3]Table S1'!A$1:B$65536,2,0) -> CcAP2_14
A6: evm.model.LG04.2673 | B6: =VLOOKUP(A6,'[3]Table S1'!A$1:B$65536,2,0) -> CcAP2_13 | C6: evm.model.LG11.0547 | D6: =VLOOKUP(C6,'[3]Table S1'!A$1:B$65536,2,0) -> CcAP2_20
A7: evm.model.LG01.2154 | B7: =VLOOKUP(A7,'[3]Table S1'!A$1:B$65536,2,0) -> CcAP2_2 | C7: evm.model.LG03.2801 | D7: =VLOOKUP(C7,'[3]Table S1'!A$1:B$65536,2,0) -> CcAP2_10
A8: evm.model.LG01.2154 | B8: =VLOOKUP(A8,'[3]Table S1'!A$1:B$65536,2,0) -> CcAP2_2 | C8: evm.model.LG04.1492 | D8: =VLOOKUP(C8,'[3]Table S1'!A$1:B$65536,2,0) -> CcAP2_12
A9: evm.model.LG01.3113 | B9: =VLOOKUP(A9,'[3]Table S1'!A$1:B$65536,2,0) -> CcAP2_3 | C9: evm.model.LG02.1312 | D9: =VLOOKUP(C9,'[3]Table S1'!A$1:B$65536,2,0) -> CcAP2_4
A10: evm.model.LG03.0115 | B10: =VLOOKUP(A10,'[3]Table S1'!A$1:B$65536,2,0) -> CcAP2_5 | C10: evm.model.LG07.1604 | D10: =VLOOKUP(C10,'[3]Table S1'!A$1:B$65536,2,0) -> CcAP2_18
A11: evm.model.LG03.0223 | B11: =VLOOKUP(A11,'[3]Table S1'!A$1:B$65536,2,0) -> CcAP2_6 | C11: evm.model.LG07.1481 | D11: =VLOOKUP(C11,'[3]Table S1'!A$1:B$65536,2,0) -> CcAP2_17
A12: evm.model.LG03.1745 | B12: =VLOOKUP(A12,'[3]Table S1'!A$1:B$65536,2,0) -> CcAP2_7 | C12: evm.model.LG11.0547 | D12: =VLOOKUP(C12,'[3]Table S1'!A$1:B$65536,2,0) -> CcAP2_20
A13: evm.model.LG03.2431 | B13: =VLOOKUP(A13,'[3]Table S1'!A$1:B$65536,2,0) -> CcAP2_9 | C13: evm.model.LG04.1385 | D13: =VLOOKUP(C13,'[3]Table S1'!A$1:B$65536,2,0) -> CcAP2_11
A14: evm.model.LG01.0469 | B14: =VLOOKUP(A14,'[3]Table S1'!A$1:B$65536,2,0) -> CcERF_1 | C14: evm.model.LG09.1570 | D14: =VLOOKUP(C14,'[3]Table S1'!A$1:B$65536,2,0) -> CcERF_111
... A55: evm.model.LG04.2372 | B55: =VLOOKUP(A55,'[3]Table S1'!A$1:B$65536,2,0) -> CcRAV_2 | C55: evm.model.LG05.1643 | D55: =VLOOKUP(C55,'[3]Table S1'!A$1:B$65536,2,0) -> CcRAV_3

Sheet Table S6
A1: Table S6. Promoter analysis of CcAP2/ERF genes
A2: CcAP2/ERF | B2: Plant growth and development | L2: Phytohormone responsiveness | W2: Stress respnsiveness
B3: AT-rich element | C3: AAGAA-motif | D3: AS-1 element | E3: CAT-box | F3: CCAAT-box | G3: Circadian | H3: GCN4-motif | I3: MRE | J3: O2-site | K3: RY-element | L3: ABRE | M3: CGTCA-motif | N3: ERE | O3: GARE-motif | P3: MYC | Q3: P-box | R3: TATC-box | S3: TCA-element | T3: TGA-element | U3: TGACG-element | V3: AUXRR-core | W3: 3-AF1 binding site | X3: ATC-motif | Y3: ACE-motif | Z3: AE-box | AA3: ATCT-motif | AB3: Box-4 | AC3: chs-CMA1a | AD3: GA-motif | AE3: TCT-motif | AF3: TCCC-motif | AG3: SP1-motif | AH3: sbp-CMA1c | AI3: L-box | AJ3: LAMP-element | AK3: I-box | AL3: GT1-motif | AM3: G-box | AN3: GATA-motif | AO3: GAP-box | AP3: ARE | AQ3: DRE | AR3: LTR | AS3: MBS | AT3: STRE | AU3: TC-rich repeats | AV3: WRE3 | AW3: WUN-motif | AX3: Plant growth and development | AY3: Phytohormone responsiveness | AZ3: Stress responsiveness
A4: CcAP2_1 | B4: 0 | C4: 3 | D4: 2 | E4: 0 | F4: 0 | G4: 0 | H4: 0 | I4: 1 | J4: 0 | K4: 0 | L4: 2 | M4: 1 | N4: 0 | O4: 1 | P4: 2 | Q4: 1 | R4: 0 | S4: 2 | T4: 0 | U4: 2 | V4: 0 | W4: 0 | X4: 0 | Y4: 0 | Z4: 0 | AA4: 0 | AB4: 1 | AC4: 0 | AD4: 0 | AE4: 1 | AF4: 1 | AG4: 0 | AH4: 0 | AI4: 0 | AJ4: 0 | AK4: 2 | AL4: 0 | AM4: 2 | AN4: 2 | AO4: 0 | AP4: 2 | AQ4: 1 | AR4: 0 | AS4: 0 | AT4: 2 | AU4: 0 | AV4: 4 | AW4: 0 | AX4: =SUM(B4:K4) -> 6 | AY4: =SUM(L4:V4) -> 11 | AZ4: =SUM(W4:AW4) -> 18
A5: CcAP2_2 | B5: 0 | C5: 3 | D5: 0 | E5: 1 | F5: 0 | G5: 0 | H5: 1 | I5: 0 | J5: 0 | K5: 1 | L5: 0 | M5: 0 | N5: 3 | O5: 0 | P5: 4 | Q5: 0 | R5: 0 | S5: 0 | T5: 0 | U5: 0 | V5: 0 | W5: 0 | X5: 0 | Y5: 0 | Z5: 0 | AA5: 0 | AB5: 2 | AC5: 0 | AD5: 2 | AE5: 0 | AF5: 0 | AG5: 0 | AH5: 0 | AI5: 0 | AJ5: 2 | AK5: 2 | AL5: 1 | AM5: 0 | AN5: 1 | AO5: 0 | AP5: 2 | AQ5: 0 | AR5: 0 | AS5: 1 | AT5: 3 | AU5: 0 | AV5: 2 | AW5: 1 | AX5: =SUM(B5:K5) -> 6 | AY5: =SUM(L5:V5) -> 7 | AZ5: =SUM(W5:AW5) -> 19
A6: CcAP2_3 | B6: 0 | C6: 1 | D6: 2 | E6: 2 | F6: 0 | G6: 0 | H6: 1 | I6: 0 | J6: 0 | K6: 0 | L6: 1 | M6: 2 | N6: 1 | O6: 0 | P6: 4 | Q6: 0 | R6: 0 | S6: 2 | T6: 0 | U6: 2 | V6: 0 | W6: 0 | X6: 0 | Y6: 0 | Z6: 0 | AA6: 1 | AB6: 1 | AC6: 0 | AD6: 1 | AE6: 1 | AF6: 1 | AG6: 1 | AH6: 0 | AI6: 0 | AJ6: 0 | AK6: 0 | AL6: 1 | AM6: 1 | AN6: 0 | AO6: 0 | AP6: 0 | AQ6: 0 | AR6: 0 | AS6: 1 | AT6: 4 | AU6: 1 | AV6: 1 | AW6: 3 | AX6: =SUM(B6:K6) -> 6 | AY6: =SUM(L6:V6) -> 12 | AZ6: =SUM(W6:AW6) -> 18
A7: CcAP2_4 | B7: 1 | C7: 3 | D7: 0 | E7: 1 | F7: 0 | G7: 0 | H7: 0 | I7: 2 | J7: 0 | K7: 2 | L7: 3 | M7: 0 | N7: 1 | O7: 1 | P7: 1 | Q7: 0 | R7: 0 | S7: 0 | T7: 0 | U7: 0 | V7: 0 | W7: 0 | X7: 0 | Y7: 0 | Z7: 1 | AA7: 1 | AB7: 3 | AC7: 0 | AD7: 0 | AE7: 1 | AF7: 0 | AG7: 0 | AH7: 0 | AI7: 0 | AJ7: 0 | AK7: 0 | AL7: 2 | AM7: 2 | AN7: 0 | AO7: 0 | AP7: 2 | AQ7: 0 | AR7: 0 | AS7: 1 | AT7: 6 | AU7: 1 | AV7: 1 | AW7: 3 | AX7: =SUM(B7:K7) -> 9 | AY7: =SUM(L7:V7) -> 6 | AZ7: =SUM(W7:AW7) -> 24
A8: CcAP2_5 | B8: 0 | C8: 1 | D8: 1 | E8: 0 | F8: 0 | G8: 0 | H8: 0 | I8: 1 | J8: 1 | K8: 0 | L8: 4 | M8: 1 | N8: 2 | O8: 0 | P8: 8 | Q8: 0 | R8: 0 | S8: 1 | T8: 0 | U8: 1 | V8: 0 | W8: 0 | X8: 0 | Y8: 0 | Z8: 0 | AA8: 2 | AB8: 2 | AC8: 0 | AD8: 0 | AE8: 0 | AF8: 0 | AG8: 3 | AH8: 0 | AI8: 0 | AJ8: 0 | AK8: 0 | AL8: 3 | AM8: 4 | AN8: 0 | AO8: 0 | AP8: 4 | AQ8: 0 | AR8: 0 | AS8: 0 | AT8: 3 | AU8: 0 | AV8: 0 | AW8: 0 | AX8: =SUM(B8:K8) -> 4 | AY8: =SUM(L8:V8) -> 17 | AZ8: =SUM(W8:AW8) -> 21
A9: CcAP2_6 | B9: 1 | C9: 1 | D9: 0 | E9: 2 | F9: 0 | G9: 0 | H9: 1 | I9: 1 | J9: 0 | K9: 0 | L9: 4 | M9: 0 | N9: 0 | O9: 0 | P9: 13 | Q9: 1 | R9: 0 | S9: 0 | T9: 1 | U9: 0 | V9: 0 | W9: 1 | X9: 0 | Y9: 0 | Z9: 0 | AA9: 1 | AB9: 3 | AC9: 0 | AD9: 0 | AE9: 0 | AF9: 0 | AG9: 0 | AH9: 0 | AI9: 0 | AJ9: 1 | AK9: 1 | AL9: 3 | AM9: 6 | AN9: 1 | AO9: 0 | AP9: 2 | AQ9: 0 | AR9: 0 | AS9: 1 | AT9: 0 | AU9: 0 | AV9: 2 | AW9: 0 | AX9: =SUM(B9:K9) -> 6 | AY9: =SUM(L9:V9) -> 19 | AZ9: =SUM(W9:AW9) -> 22
A10: CcAP2_7 | B10: 1 | C10: 4 | D10: 0 | E10: 1 | F10: 0 | G10: 0 | H10: 0 | I10: 1 | J10: 0 | K10: 0 | L10: 1 | M10: 0 | N10: 2 | O10: 0 | P10: 3 | Q10: 0 | R10: 1 | S10: 1 | T10: 0 | U10: 0 | V10: 0 | W10: 0 | X10: 0 | Y10: 0 | Z10: 1 | AA10: 0 | AB10: 0 | AC10: 0 | AD10: 1 | AE10: 3 | AF10: 1 | AG10: 0 | AH10: 0 | AI10: 0 | AJ10: 0 | AK10: 1 | AL10: 0 | AM10: 1 | AN10: 0 | AO10: 0 | AP10: 0 | AQ10: 0 | AR10: 0 | AS10: 1 | AT10: 1 | AU10: 0 | AV10: 1 | AW10: 1 | AX10: =SUM(B10:K10) -> 7 | AY10: =SUM(L10:V10) -> 8 | AZ10: =SUM(W10:AW10) -> 12
A11: CcAP2_8 | B11: 0 | C11: 3 | D11: 1 | E11: 0 | F11: 0 | G11: 0 | H11: 0 | I11: 1 | J11: 0 | K11: 0 | L11: 3 | M11: 1 | N11: 2 | O11: 1 | P11: 6 | Q11: 1 | R11: 0 | S11: 1 | T11: 0 | U11: 1 | V11: 0 | W11: 0 | X11: 0 | Y11: 0 | Z11: 1 | AA11: 0 | AB11: 3 | AC11: 0 | AD11: 0 | AE11: 1 | AF11: 0 | AG11: 2 | AH11: 0 | AI11: 0 | AJ11: 0 | AK11: 2 | AL11: 0 | AM11: 4 | AN11: 0 | AO11: 0 | AP11: 2 | AQ11: 0 | AR11: 2 | AS11: 0 | AT11: 2 | AU11: 0 | AV11: 0 | AW11: 2 | AX11: =SUM(B11:K11) -> 5 | AY11: =SUM(L11:V11) -> 16 | AZ11: =SUM(W11:AW11) -> 21
A12: CcAP2_9 | B12: 0 | C12: 0 | D12: 1 | E12: 0 | F12: 0 | G12: 1 | H12: 2 | I12: 0 | J12: 0 | K12: 0 | L12: 1 | M12: 1 | N12: 1 | O12: 1 | P12: 3 | Q12: 1 | R12: 0 | S12: 1 | T12: 0 | U12: 1 | V12: 0 | W12: 0 | X12: 1 | Y12: 1 | Z12: 1 | AA12: 0 | AB12: 1 | AC12: 0 | AD12: 0 | AE12: 0 | AF12: 1 | AG12: 0 | AH12: 0 | AI12: 0 | AJ12: 0 | AK12: 0 | AL12: 3 | AM12: 1 | AN12: 1 | AO12: 0 | AP12: 0 | AQ12: 1 | AR12: 1 | AS12: 0 | AT12: 4 | AU12: 0 | AV12: 0 | AW12: 0 | AX12: =SUM(B12:K12) -> 4 | AY12: =SUM(L12:V12) -> 10 | AZ12: =SUM(W12:AW12) -> 16
A13: CcAP2_10 | B13: 0 | C13: 4 | D13: 1 | E13: 1 | F13: 0 | G13: 0 | H13: 0 | I13: 1 | J13: 0 | K13: 0 | L13: 4 | M13: 1 | N13: 1 | O13: 0 | P13: 6 | Q13: 3 | R13: 0 | S13: 0 | T13: 0 | U13: 1 | V13: 0 | W13: 1 | X13: 0 | Y13: 0 | Z13: 0 | AA13: 0 | AB13: 1 | AC13: 0 | AD13: 0 | AE13: 2 | AF13: 0 | AG13: 0 | AH13: 0 | AI13: 0 | AJ13: 0 | AK13: 1 | AL13: 0 | AM13: 5 | AN13: 1 | AO13: 0 | AP13: 0 | AQ13: 0 | AR13: 0 | AS13: 2 | AT13: 1 | AU13: 0 | AV13: 1 | AW13: 0 | AX13: =SUM(B13:K13) -> 7 | AY13: =SUM(L13:V13) -> 16 | AZ13: =SUM(W13:AW13) -> 15
A14: CcAP2_11 | B14: 1 | C14: 2 | D14: 2 | E14: 0 | F14: 0 | G14: 0 | H14: 0 | I14: 0 | J14: 0 | K14: 0 | L14: 1 | M14: 2 | N14: 3 | O14: 1 | P14: 4 | Q14: 0 | R14: 0 | S14: 0 | T14: 0 | U14: 2 | V14: 0 | W14: 1 | X14: 0 | Y14: 0 | Z14: 1 | AA14: 0 | AB14: 3 | AC14: 0 | AD14: 0 | AE14: 1 | AF14: 0 | AG14: 0 | AH14: 0 | AI14: 0 | AJ14: 0 | AK14: 0 | AL14: 1 | AM14: 1 | AN14: 0 | AO14: 0 | AP14: 0 | AQ14: 0 | AR14: 0 | AS14: 1 | AT14: 3 | AU14: 0 | AV14: 1 | AW14: 1 | AX14: =SUM(B14:K14) -> 5 | AY14: =SUM(L14:V14) -> 13 | AZ14: =SUM(W14:AW14) -> 14
A15: CcAP2_12 | B15: 0 | C15: 4 | D15: 1 | E15: 1 | F15: 0 | G15: 0 | H15: 0 | I15: 0 | J15: 0 | K15: 0 | L15: 0 | M15: 1 | N15: 1 | O15: 0 | P15: 7 | Q15: 2 | R15: 2 | S15: 0 | T15: 0 | U15: 1 | V15: 0 | W15: 0 | X15: 1 | Y15: 0 | Z15: 1 | AA15: 0 | AB15: 2 | AC15: 0 | AD15: 0 | AE15: 0 | AF15: 0 | AG15: 0 | AH15: 0 | AI15: 0 | AJ15: 0 | AK15: 0 | AL15: 0 | AM15: 0 | AN15: 2 | AO15: 0 | AP15: 2 | AQ15: 0 | AR15: 0 | AS15: 2 | AT15: 8 | AU15: 0 | AV15: 2 | AW15: 1 | AX15: =SUM(B15:K15) -> 6 | AY15: =SUM(L15:V15) -> 14 | AZ15: =SUM(W15:AW15) -> 21
... A157: CcERF_129 | B157: 0 | C157: 0 | D157: 0 | E157: 0 | F157: 0 | G157: 0 | H157: 0 | I157: 0 | J157: 0 | K157: 0 | L157: 2 | M157: 0 | N157: 1 | O157: 2 | P157: 7 | Q157: 1 | R157: 0 | S157: 1 | T157: 0 | U157: 0 | V157: 0 | W157: 0 | X157: 0 | Y157: 0 | Z157: 0 | AA157: 0 | AB157: 0 | AC157: 0 | AD157: 0 | AE157: 0 | AF157: 1 | AG157: 0 | AH157: 0 | AI157: 0 | AJ157: 0 | AK157: 1 | AL157: 3 | AM157: 3 | AN157: 1 | AO157: 1 | AP157: 4 | AQ157: 0 | AR157: 0 | AS157: 2 | AT157: 3 | AU157: 1 | AV157: 1 | AW157: 1 | AX157: =SUM(B157:K157) -> 0 | AY157: =SUM(L157:V157) -> 14 | AZ157: =SUM(W157:AW157) -> 22
A158: Sum | B158: =SUM(B4:B157) -> 30 | C158: =SUM(C4:C157) -> 187 | D158: =SUM(D4:D157) -> 180 | E158: =SUM(E4:E157) -> 69 | F158: =SUM(F4:F157) -> 63 | G158: =SUM(G4:G157) -> 31 | H158: =SUM(H4:H157) -> 50 | I158: =SUM(I4:I157) -> 52 | ... AZ158: =SUM(AZ4:AZ157) -> 3036
AY159: total | AZ159: =SUM(AX158:AZ158) -> 5991

Sheet Table S7
A1: Table S7 Expression Patterns of AP2/ERF Gene Family Members in Different Tissues of Camphor Tree Based on Transcriptome Analysis
A2: Gene ID | B2: Gene Name | C2: CcLeaf_1 | D2: CcLeaf_2 | E2: CcLeaf_3 | F2: CcStem_1 | G2: CcStem_2 | H2: CcStem_3 | I2: CcRoot_1 | J2: CcRoot_2 | K2: CcRoot_3 | L2: CcLeaf | M2: CcStem | N2: CcRoot
A3: evm.model.LG01.0164 | B3: CcAP2_1 | C3: 0 | D3: 0 | E3: 0 | F3: 0.19 | G3: 0 | H3: 0 | I3: 1.13 | J3: 0.4 | K3: 0.22 | L3: 0 | M3: 0.063333 | N3: 0.583333
A4: evm.model.LG01.0469 | B4: CcERF_1 | C4: 7.94 | D4: 1.73 | E4: 0.61 | F4: 0.71 | G4: 2.36 | H4: 1.1 | I4: 8.79 | J4: 12.53 | K4: 6.63 | L4: 3.426667 | M4: 1.39 | N4: 9.316667
A5: evm.model.LG01.0505 | B5: CcERF_2 | C5: 2.55 | D5: 7.61 | E5: 8.75 | F5: 0.82 | G5: 1.7 | H5: 0.48 | I5: 1.26 | J5: 11.19 | K5: 11.34 | L5: 6.303333 | M5: 1 | N5: 7.93
A6: evm.model.LG01.0670 | B6: CcERF_3 | C6: 0.43 | D6: 1.27 | E6: 0.53 | F6: 3.23 | G6: 7.94 | H6: 4.21 | I6: 6.18 | J6: 4.35 | K6: 8.67 | L6: 0.743333 | M6: 5.126667 | N6: 6.4
A7: evm.model.LG01.0847 | B7: CcERF_4 | C7: 0 | D7: 0 | E7: 0.07 | F7: 1.48 | G7: 0.15 | H7: 0.25 | I7: 59.65 | J7: 10.61 | K7: 16.82 | L7: 0.023333 | M7: 0.626667 | N7: 29.026667
A8: evm.model.LG01.1691 | B8: CcERF_5 | C8: 1.48 | D8: 0.34 | E8: 0.21 | F8: 1.46 | G8: 5.4 | H8: 3.3 | I8: 0.77 | J8: 2.26 | K8: 1.73 | L8: 0.676667 | M8: 3.386667 | N8: 1.586667
A9: evm.model.LG01.1931 | B9: CcERF_6 | C9: 0.18 | D9: 0 | E9: 0 | F9: 0 | G9: 0 | H9: 0 | I9: 0.11 | J9: 0.11 | K9: 0 | L9: 0.06 | M9: 0 | N9: 0.073333
A10: evm.model.LG01.1988 | B10: CcERF_7 | C10: 0 | D10: 0 | E10: 0 | F10: 0 | G10: 0.09 | H10: 0 | I10: 0 | J10: 0 | K10: 0 | L10: 0 | M10: 0.03 | N10: 0
A11: evm.model.LG01.2154 | B11: CcAP2_2 | C11: 0.08 | D11: 0.36 | E11: 0.27 | F11: 25.89 | G11: 32.69 | H11: 31.74 | I11: 16.71 | J11: 26.84 | K11: 21.81 | L11: 0.236667 | M11: 30.106667 | N11: 21.786667
A12: evm.model.LG01.2586 | B12: CcERF_8 | C12: 0 | D12: 0.17 | E12: 0.03 | F12: 1.33 | G12: 0.08 | H12: 0.29 | I12: 2.14 | J12: 2.02 | K12: 2.91 | L12: 0.066667 | M12: 0.566667 | N12: 2.356667
A13: evm.model.LG01.2653 | B13: CcERF_9 | C13: 0.94 | D13: 1.45 | E13: 1.13 | F13: 0.12 | G13: 0.88 | H13: 1.54 | I13: 2.37 | J13: 1.68 | K13: 1.03 | L13: 1.173333 | M13: 0.846667 | N13: 1.693333
A14: evm.model.LG01.3027 | B14: CcERF_10 | C14: 38.64 | D14: 60.35 | E14: 62.96 | F14: 20.67 | G14: 48.82 | H14: 25.73 | I14: 4.77 | J14: 15.72 | K14: 6.88 | L14: 53.983333 | M14: 31.74 | N14: 9.123333
... A156: evm.model.LG12.1254 | B156: CcERF_129 | C156: 0 | D156: 0 | E156: 0 | F156: 0 | G156: 0 | H156: 0.13 | I156: 0 | J156: 0.15 | K156: 0 | L156: 0 | M156: 0.043333 | N156: 0.05

Sheet Table S8
A1: Table S8. Co-expression analysis of CcAP2/ERF genes wtih CcTPS genes.
A2: x | B2: y | C2: Coefficiency | D2: p-adj
A3: CcTPS49 | B3: CcAP2_11 | C3: -0.98382272 | D3: 1.74524282645009e-06
A4: CcTPS26 | B4: CcAP2_11 | C4: -0.91275815 | D4: 0.000592448758015528
A5: CcTPS72 | B5: CcERF_16 | C5: -0.91148902 | D5: 0.000622372601632265
A6: CcTPS72 | B6: CcERF_34 | C6: -0.90039624 | D6: 0.000930419841415562
A7: CcTPS72 | B7: CcAP2_14 | C7: -0.88925705 | D7: 0.00133331660728333
A8: CcTPS26 | B8: CcERF_10 | C8: -0.86757563 | D8: 0.00243862433767265
A9: CcTPS26 | B9: CcAP2_9 | C9: -0.86576558 | D9: 0.00255257411444872
A10: CcTPS49 | B10: CcAP2_9 | C10: -0.82200941 | D10: 0.00655059077838552
A11: CcTPS49 | B11: CcAP2_6 | C11: -0.82077814 | D11: 0.0067019954090143
A12: CcTPS72 | B12: CcERF_26 | C12: -0.81607743 | D12: 0.00730190775928632
A13: CcTPS26 | B13: CcAP2_17 | C13: -0.80272109 | D13: 0.00920335678263103
A14: CcTPS26 | B14: CcAP2_6 | C14: -0.80232769 | D14: 0.00926393980361458
... A113: CcTPS26 | B113: CcERF_118 | C113: 0.79067204 | D113: 0.0111834379987157
A114: CcTPS26 | B114: CcERF_86 | C114: 0.0158989019747499 | D114: 0.967617844689917
A115: CcTPS49 | B115: CcERF_27 | C115: 0.020134321145925 | D115: 0.958996551949755
A116: CcTPS49 | B116: CcERF_80 | C116: 0.0233139920803383 | D116: 0.952526632970298
A117: CcTPS72 | B117: CcAP2_1 | C117: 0.0238732444264533 | D117: 0.951388918361204
A118: CcTPS72 | B118: CcERF_91 | C118: 0.0245958766791552 | D118: 0.949918944744698
A119: CcTPS49 | B119: CcERF_79 | C119: 0.0345763756631678 | D119: 0.929631723940768
A120: CcTPS72 | B120: CcERF_123 | C120: 0.0351488548004153 | D120: 0.928469019509531
A121: CcTPS72 | B121: CcERF_14 | C121: 0.0368067821613592 | D121: 0.925102438563977
A122: CcTPS72 | B122: CcERF_70 | C122: 0.0368067821613592 | D122: 0.925102438563977
A123: CcTPS72 | B123: CcERF_75 | C123: 0.0368067821613592 | D123: 0.925102438563977
A124: CcTPS72 | B124: CcERF_128 | C124: 0.0368067821613592 | D124: 0.925102438563977
A125: CcTPS72 | B125: CcERF_4 | C125: 0.0384792345564616 | D125: 0.921707405261187
... A437: CcTPS72 | B437: CcAP2_12 | C437: 0.987415062594302 | D437: 7.2726047564954e-07
A438: CcTPS74 | B438: CcERF_23 | C438: -0.97099193 | D438: 1.3305792644931e-05
A439: CcTPS74 | B439: CcAP2_2 | C439: -0.96945804 | D439: 1.59114362833688e-05
A440: CcTPS74 | B440: CcAP2_10 | C440: -0.96506975 | D440: 2.5345530619288e-05
A441: CcTPS74 | B441: CcERF_94 | C441: -0.96352853 | D441: 2.94355948915956e-05
A442: CcTPS74 | B442: CcAP2_18 | C442: -0.96022232 | D442: 3.97520109580291e-05
A443: CcTPS74 | B443: CcAP2_5 | C443: -0.95993657 | D443: 4.07489935056513e-05
A444: CcTPS74 | B444: CcERF_35 | C444: -0.94429694 | D444: 0.000127161721076573
A445: CcTPS74 | B445: CcERF_82 | C445: -0.92936287 | D445: 0.000287702726429885
A446: CcTPS74 | B446: CcERF_3 | C446: -0.92297456 | D446: 0.000387059384700595
A447: CcTPS74 | B447: CcERF_120 | C447: -0.91538157 | D447: 0.0005338064406949
A448: CcTPS74 | B448: CcERF_106 | C448: -0.90283453 | D448: 0.000855209885985153
A449: CcTPS74 | B449: CcAP2_20 | C449: -0.89940721 | D449: 0.000962198876833188
...
