Workbook

Sheet Fig1A
A1: Stamm: | B1: 1) 8640
B2: 2) SB6
A7: vor der Infektion | G7: vor der Infektion | M7: vor der Infektion | S7: vor der Infektion
B9: 8640 (1) | C9: 8640 (2) | D9: lepA (1) | E9: lepA (2) | H9: 8640 (1) | I9: 8640 (2) | J9: lepA (1) | K9: lepA (2) | N9: 8640 (1) | O9: 8640 (2) | P9: lepA (1) | Q9: lepA (2) | T9: 8640 (1) | U9: 8640 (2) | V9: lepA (1) | W9: lepA (2)
A10: t0 | B10: 102->10µl | G10: t0 | H10: 103->10µl | M10: t0 | N10: 103->10µl | S10: t0 | T10: 103->10µl
B11: 187 | C11: x | D11: 164 | E11: x | H11: 43 | I11: x | J11: 34 | K11: x | N11: 123 | O11: x | P11: 133 | Q11: x | T11: 25 | U11: x | V11: 17 | W11: x
B12: 180 | C12: x | D12: 156 | E12: x | H12: 33 | I12: x | J12: 34 | K12: x | N12: 130 | O12: x | P12: 146 | Q12: x | T12: 24 | U12: x | V12: 17 | W12: x
B13: 202 | C13: x | D13: 177 | E13: x | H13: 56 | I13: x | J13: 46 | K13: x | N13: 134 | O13: x | P13: 132 | Q13: x | T13: 29 | U13: x | V13: 16 | W13: x
A14: Mittelwert | B14: =AVERAGE(B11:B13) -> 189.66667 | C14: =AVERAGE(C11:C13) -> #DIV/0! | D14: =AVERAGE(D11:D13) -> 165.66667 | E14: =AVERAGE(E11:E13) -> #DIV/0! | G14: Mittelwert | H14: =AVERAGE(H11:H13) -> 44 | I14: =AVERAGE(I11:I13) -> #DIV/0! | J14: =AVERAGE(J11:J13) -> 38 | K14: =AVERAGE(K11:K13) -> #DIV/0! | M14: Mittelwert | N14: =AVERAGE(N11:N13) -> 129 | O14: =AVERAGE(O11:O13) -> #DIV/0! | P14: =AVERAGE(P11:P13) -> 137 | Q14: =AVERAGE(Q11:Q13) -> #DIV/0! | S14: Mittelwert | T14: =AVERAGE(T11:T13) -> 26 | U14: =AVERAGE(U11:U13) -> #DIV/0! | V14: =AVERAGE(V11:V13) -> 16.666667 | W14: =AVERAGE(W11:W13) -> #DIV/0!
A15: Standardab. | B15: =STDEVA(B11:B13) -> 11.23981 | C15: =STDEVA(C11:C13) -> 0 | D15: =STDEVA(D11:D13) -> 10.598742 | E15: =STDEVA(E11:E13) -> 0 | G15: Standardab. | H15: =STDEVA(H11:H13) -> 11.532563 | I15: =STDEVA(I11:I13) -> 0 | J15: =STDEVA(J11:J13) -> 6.9282032 | K15: =STDEVA(K11:K13) -> 0 | M15: Standardab. | N15: =STDEVA(N11:N13) -> 5.5677644 | O15: =STDEVA(O11:O13) -> 0 | P15: =STDEVA(P11:P13) -> 7.8102497 | Q15: =STDEVA(Q11:Q13) -> 0 | S15: Standardab. | T15: =STDEVA(T11:T13) -> 2.6457513 | U15: =STDEVA(U11:U13) -> 0 | V15: =STDEVA(V11:V13) -> 0.57735027 | W15: =STDEVA(W11:W13) -> 0
A16: CFU/ml | B16: 1896600 | D16: 1656600 | G16: CFU/ml | H16: 4400000 | J16: 3800000 | M16: CFU/ml | N16: 12900000 | P16: 13700000 | S16: CFU/ml | T16: 2600000 | V16: 1666000
A19: nach der Infektion | G19: nach der Infektion | M19: nach der Infektion | S19: nach der Infektion
B21: 8640 (1) | C21: 8640 (2) | D21: lepA (1) | E21: lepA (2) | H21: 8640 (1) | I21: 8640 (2) | J21: lepA (1) | K21: lepA (2) | N21: 8640 (1) | O21: 8640 (2) | P21: lepA (1) | Q21: lepA (2) | T21: 8640 (1) | U21: 8640 (2) | V21: lepA (1) | W21: lepA (2)
A22: t0 | B22: 101->10µl | G22: t0 | H22: 101->10µl | J22: unverd.->10µl | M22: t0 | N22: 101->10µl | P22: unverd.->10µl | S22: t0 | T22: 101->10µl
B23: 70 | C23: 70 | D23: 143 | E23: 126 | H23: 145 | I23: 163 | J23: 211 | K23: 200 | N23: 147 | O23: 129 | P23: 180 | Q23: 163 | T23: 64 | U23: 45 | V23: 99 | W23: 78
B24: 71 | C24: 71 | D24: 136 | E24: 114 | H24: 140 | I24: 173 | J24: 220 | K24: 209 | N24: 143 | O24: 146 | P24: 184 | Q24: 154 | T24: 50 | U24: 53 | V24: 92 | W24: 71
B25: 84 | C25: 84 | D25: 143 | E25: 139 | H25: 151 | I25: 156 | J25: 215 | K25: 211 | N25: 143 | O25: 161 | P25: 182 | Q25: 185 | T25: 56 | U25: 53 | V25: 93 | W25: 80
A26: Mittelwert | B26: =AVERAGE(B23:B25) -> 75 | C26: =AVERAGE(C23:C25) -> 75 | D26: =AVERAGE(D23:D25) -> 140.66667 | E26: =AVERAGE(E23:E25) -> 126.33333 | G26: Mittelwert | H26: =AVERAGE(H23:H25) -> 145.33333 | I26: =AVERAGE(I23:I25) -> 164 | J26: =AVERAGE(J23:J25) -> 215.33333 | K26: =AVERAGE(K23:K25) -> 206.66667 | M26: Mittelwert | N26: =AVERAGE(N23:N25) -> 144.33333 | O26: =AVERAGE(O23:O25) -> 145.33333 | P26: =AVERAGE(P23:P25) -> 182 | Q26: =AVERAGE(Q23:Q25) -> 167.33333 | S26: Mittelwert | T26: =AVERAGE(T23:T25) -> 56.666667 | U26: =AVERAGE(U23:U25) -> 50.333333 | V26: =AVERAGE(V23:V25) -> 94.666667 | W26: =AVERAGE(W23:W25) -> 76.333333
A27: Standardab. | B27: =STDEVA(B23:B25) -> 7.8102497 | C27: =STDEVA(C23:C25) -> 7.8102497 | D27: =STDEVA(D23:D25) -> 4.0414519 | E27: =STDEVA(E23:E25) -> 12.503333 | G27: Standardab. | H27: =STDEVA(H23:H25) -> 5.5075705 | I27: =STDEVA(I23:I25) -> 8.5440037 | J27: =STDEVA(J23:J25) -> 4.5092498 | K27: =STDEVA(K23:K25) -> 5.8594653 | M27: Standardab. | N27: =STDEVA(N23:N25) -> 2.3094011 | O27: =STDEVA(O23:O25) -> 16.010413 | P27: =STDEVA(P23:P25) -> 2 | Q27: =STDEVA(Q23:Q25) -> 15.947832 | S27: Standardab. | T27: =STDEVA(T23:T25) -> 7.0237692 | U27: =STDEVA(U23:U25) -> 4.6188022 | V27: =STDEVA(V23:V25) -> 3.7859389 | W27: =STDEVA(W23:W25) -> 4.7258156
A28: CFU/ml | B28: 75000 | C28: 75000 | D28: 14066 | E28: 12633 | G28: CFU/ml | H28: 145330 | I28: 164000 | J28: 21533 | K28: 20666 | M28: CFU/ml | N28: 144330 | O28: 145330 | P28: 18200 | Q28: 16733 | S28: CFU/ml | T28: 56660 | U28: 50330 | V28: 9466 | W28: 7633
B31: 8640 (1) | C31: 8640 (2) | D31: lepA (1) | E31: lepA (2) | H31: 8640 (1) | I31: 8640 (2) | J31: lepA (1) | K31: lepA (2) | N31: 8640 (1) | O31: 8640 (2) | P31: lepA (1) | Q31: lepA (2) | T31: 8640 (1) | U31: 8640 (2) | V31: lepA (1) | W31: lepA (2)
A32: t2 | B32: 101->10µl | D32: unverd.->10µl | G32: t2 | H32: 102->10µl | J32: 101->10µl | M32: t2 | N32: 102->10µl | S32: t2 | T32: 101->10µl | V32: unverd.->10µl
B33: 122 | C33: 127 | D33: 98 | E33: 62 | H33: 31 | I33: 41 | J33: 23 | K33: 27 | N33: 50 | O33: 46 | P33: 18 | Q33: 22 | T33: 72 | U33: 69 | V33: 38 | W33: 36
B34: 100 | C34: 110 | D34: 83 | E34: 70 | H34: 25 | I34: 37 | J34: 23 | K34: 27 | N34: 36 | O34: 40 | P34: 18 | Q34: 16 | T34: 85 | U34: 98 | V34: 25 | W34: 25
B35: 100 | C35: 128 | D35: 88 | E35: 79 | H35: 28 | I35: 37 | J35: 27 | K35: 22 | N35: 38 | O35: 39 | P35: 20 | Q35: 24 | T35: 71 | U35: 85 | V35: 25 | W35: 28
A36: Mittelwert | B36: =AVERAGE(B33:B35) -> 107.33333 | C36: =AVERAGE(C33:C35) -> 121.66667 | D36: =AVERAGE(D33:D35) -> 89.666667 | E36: =AVERAGE(E33:E35) -> 70.333333 | G36: Mittelwert | H36: =AVERAGE(H33:H35) -> 28 | I36: =AVERAGE(I33:I35) -> 38.333333 | J36: =AVERAGE(J33:J35) -> 24.333333 | K36: =AVERAGE(K33:K35) -> 25.333333 | M36: Mittelwert | N36: =AVERAGE(N33:N35) -> 41.333333 | O36: =AVERAGE(O33:O35) -> 41.666667 | P36: =AVERAGE(P33:P35) -> 18.666667 | Q36: =AVERAGE(Q33:Q35) -> 20.666667 | S36: Mittelwert | T36: =AVERAGE(T33:T35) -> 76 | U36: =AVERAGE(U33:U35) -> 84 | V36: =AVERAGE(V33:V35) -> 29.333333 | W36: =AVERAGE(W33:W35) -> 29.666667
A37: Standardab. | B37: =STDEVA(B33:B35) -> 12.701706 | C37: =STDEVA(C33:C35) -> 10.115994 | D37: =STDEVA(D33:D35) -> 7.6376262 | E37: =STDEVA(E33:E35) -> 8.5049005 | G37: Standardab. | H37: =STDEVA(H33:H35) -> 3 | I37: =STDEVA(I33:I35) -> 2.3094011 | J37: =STDEVA(J33:J35) -> 2.3094011 | K37: =STDEVA(K33:K35) -> 2.8867513 | M37: Standardab. | N37: =STDEVA(N33:N35) -> 7.5718778 | O37: =STDEVA(O33:O35) -> 3.7859389 | P37: =STDEVA(P33:P35) -> 1.1547005 | Q37: =STDEVA(Q33:Q35) -> 4.163332 | S37: Standardab. | T37: =STDEVA(T33:T35) -> 7.8102497 | U37: =STDEVA(U33:U35) -> 14.525839 | V37: =STDEVA(V33:V35) -> 7.5055535 | W37: =STDEVA(W33:W35) -> 5.6862407
A38: CFU/ml | B38: 107330 | C38: 121660 | D38: 8966 | E38: 7033 | G38: CFU/ml | H38: 280000 | I38: 383300 | J38: 24330 | K38: 25330 | M38: CFU/ml | N38: 413300 | O38: 416600 | P38: 18660 | Q38: 20660 | S38: CFU/ml | T38: 76000 | U38: 84000 | V38: 2933 | W38: 2966
B41: 8640 (1) | C41: 8640 (2) | D41: lepA (1) | E41: lepA (2) | H41: 8640 (1) | I41: 8640 (2) | J41: lepA (1) | K41: lepA (2) | N41: 8640 (1) | O41: 8640 (2) | P41: lepA (1) | Q41: lepA (2) | T41: 8640 (1) | U41: 8640 (2) | V41: lepA (1) | W41: lepA (2)
A42: t4 | B42: 102->10µl | D42: unverd.->10µl | G42: t4 | H42: 102->10µl | J42: 101->10µl | M42: t4 | N42: 102->10µl | P42: 101->10µl | S42: t4 | T42: 102->10µl | V42: unverd.->10µl
B43: 14 | C43: 24 | D43: 163 | E43: 113 | H43: 28 | I43: 42 | J43: 48 | K43: 46 | N43: 45 | O43: 57 | P43: 35 | Q43: 42 | T43: 20 | U43: 11 | V43: 100 | W43: 85
B44: 15 | C44: 24 | D44: 130 | E44: 140 | H44: 34 | I44: 45 | J44: 48 | K44: 42 | N44: 56 | O44: 53 | P44: 43 | Q44: 26 | T44: 14 | U44: 12 | V44: 100 | W44: 65
B45: 24 | C45: 21 | D45: 143 | E45: 149 | H45: 43 | I45: 39 | J45: 46 | K45: 40 | N45: 46 | O45: 45 | P45: 29 | Q45: 30 | T45: 19 | U45: 14 | V45: 70 | W45: 70
A46: Mittelwert | B46: =AVERAGE(B43:B45) -> 17.666667 | C46: =AVERAGE(C43:C45) -> 23 | D46: =AVERAGE(D43:D45) -> 145.33333 | E46: =AVERAGE(E43:E45) -> 134 | G46: Mittelwert | H46: =AVERAGE(H43:H45) -> 35 | I46: =AVERAGE(I43:I45) -> 42 | J46: =AVERAGE(J43:J45) -> 47.333333 | K46: =AVERAGE(K43:K45) -> 42.666667 | M46: Mittelwert | N46: =AVERAGE(N43:N45) -> 49 | O46: =AVERAGE(O43:O45) -> 51.666667 | P46: =AVERAGE(P43:P45) -> 35.666667 | Q46: =AVERAGE(Q43:Q45) -> 32.666667 | S46: Mittelwert | T46: =AVERAGE(T43:T45) -> 17.666667 | U46: =AVERAGE(U43:U45) -> 12.333333 | V46: =AVERAGE(V43:V45) -> 90 | W46: =AVERAGE(W43:W45) -> 73.333333
A47: Standardab. | B47: =STDEVA(B43:B45) -> 5.5075705 | C47: =STDEVA(C43:C45) -> 1.7320508 | D47: =STDEVA(D43:D45) -> 16.623277 | E47: =STDEVA(E43:E45) -> 18.734994 | G47: Standardab. | H47: =STDEVA(H43:H45) -> 7.5498344 | I47: =STDEVA(I43:I45) -> 3 | J47: =STDEVA(J43:J45) -> 1.1547005 | K47: =STDEVA(K43:K45) -> 3.0550505 | M47: Standardab. | N47: =STDEVA(N43:N45) -> 6.0827625 | O47: =STDEVA(O43:O45) -> 6.1101009 | P47: =STDEVA(P43:P45) -> 7.0237692 | Q47: =STDEVA(Q43:Q45) -> 8.326664 | S47: Standardab. | T47: =STDEVA(T43:T45) -> 3.2145503 | U47: =STDEVA(U43:U45) -> 1.5275252 | V47: =STDEVA(V43:V45) -> 17.320508 | W47: =STDEVA(W43:W45) -> 10.40833
A48: CFU/ml | B48: 176600 | C48: 230000 | D48: 14533 | E48: 13400 | G48: CFU/ml | H48: 350000 | I48: 420000 | J48: 47330 | K48: 42660 | M48: CFU/ml | N48: 490000 | O48: 516600 | P48: 35660 | Q48: 32660 | S48: CFU/ml | T48: 176600 | U48: 123300 | V48: 9000 | W48: 7333
B51: 8640 (1) | C51: 8640 (2) | D51: lepA (1) | E51: lepA (2) | H51: 8640 (1) | I51: 8640 (2) | J51: lepA (1) | K51: lepA (2) | N51: 8640 (1) | O51: 8640 (2) | P51: lepA (1) | Q51: lepA (2) | T51: 8640 (1) | U51: 8640 (2) | V51: lepA (1) | W51: lepA (2)
A52: t6 | B52: 102->10µl | G52: t6 | H52: 102->10µl | M52: t6 | N52: 102->10µl | P52: 101->10µl | S52: t6 | T52: 102->10µl | V52: unverd.->10µl
B53: 31 | C53: 45 | D53: 49 | E53: 31 | H53: 22 | I53: 54 | J53: 56 | K53: 40 | N53: 66 | O53: 49 | P53: 67 | Q53: 58 | T53: 15 | U53: 30 | V53: 66 | W53: 51
B54: 35 | C54: 51 | D54: 43 | E54: 43 | H54: 18 | I54: 34 | J54: 47 | K54: 46 | N54: 50 | O54: 49 | P54: 47 | Q54: 68 | T54: 17 | U54: 23 | V54: 51 | W54: 42
...

Sheet Fig1B
A1: Stamm: | B1: 1) 8640
B2: 2) SB6
A7: vor der Infektion | G7: vor der Infektion | M7: vor der Infektion | S7: vor der Infektion
B9: 8640 (1) | C9: 8640 (2) | D9: SB6 (1) | E9: SB6 (2) | H9: 8640 (1) | I9: 8640 (2) | J9: SB6 (1) | K9: SB6 (2) | N9: 8640 (1) | O9: 8640 (2) | P9: SB6 (1) | Q9: SB6 (2) | T9: 8640 (1) | U9: 8640 (2) | V9: SB6 (1) | W9: SB6 (2)
A10: t0 | B10: 102->10µl | G10: t0 | H10: 103->10µl | M10: t0 | N10: 103->10µl | S10: t0 | T10: 103->10µl
B11: 57 | D11: 52 | H11: 48 | J11: 50 | N11: 75 | P11: 67 | T11: 67 | V11: 66
B12: 55 | D12: 49 | H12: 45 | J12: 50 | N12: 78 | P12: 67 | T12: 64 | V12: 63
B13: 56 | D13: 37 | H13: 70 | J13: 56 | N13: 84 | P13: 55 | T13: 59 | V13: 62
A14: Mittelwert | B14: =AVERAGE(B11:B13) -> 56 | C14: =AVERAGE(C11:C13) -> #DIV/0! | D14: =AVERAGE(D11:D13) -> 46 | E14: =AVERAGE(E11:E13) -> #DIV/0! | G14: Mittelwert | H14: =AVERAGE(H11:H13) -> 54.333333 | I14: =AVERAGE(I11:I13) -> #DIV/0! | J14: =AVERAGE(J11:J13) -> 52 | K14: =AVERAGE(K11:K13) -> #DIV/0! | M14: Mittelwert | N14: =AVERAGE(N11:N13) -> 79 | O14: =AVERAGE(O11:O13) -> #DIV/0! | P14: =AVERAGE(P11:P13) -> 63 | Q14: =AVERAGE(Q11:Q13) -> #DIV/0! | S14: Mittelwert | T14: =AVERAGE(T11:T13) -> 63.333333 | U14: =AVERAGE(U11:U13) -> #DIV/0! | V14: =AVERAGE(V11:V13) -> 63.666667 | W14: =AVERAGE(W11:W13) -> #DIV/0!
A15: Standardab. | B15: =STDEVA(B11:B13) -> 1 | C15: =STDEVA(C11:C13) -> #DIV/0! | D15: =STDEVA(D11:D13) -> 7.9372539 | E15: =STDEVA(E11:E13) -> #DIV/0! | G15: Standardab. | H15: =STDEVA(H11:H13) -> 13.650397 | I15: =STDEVA(I11:I13) -> #DIV/0! | J15: =STDEVA(J11:J13) -> 3.4641016 | K15: =STDEVA(K11:K13) -> #DIV/0! | M15: Standardab. | N15: =STDEVA(N11:N13) -> 4.5825757 | O15: =STDEVA(O11:O13) -> #DIV/0! | P15: =STDEVA(P11:P13) -> 6.9282032 | Q15: =STDEVA(Q11:Q13) -> #DIV/0! | S15: Standardab. | T15: =STDEVA(T11:T13) -> 4.0414519 | U15: =STDEVA(U11:U13) -> #DIV/0! | V15: =STDEVA(V11:V13) -> 2.081666 | W15: =STDEVA(W11:W13) -> #DIV/0!
A16: CFU/ml | B16: 5600000 | D16: 4600000 | G16: CFU/ml | H16: 5433000 | J16: 5200000 | M16: CFU/ml | N16: 7900000 | P16: 6300000 | S16: CFU/ml | T16: 6333000 | V16: 6366000
A19: nach der Infektion | G19: nach der Infektion | M19: nach der Infektion | S19: nach der Infektion
B21: 8640 (1) | C21: 8640 (2) | D21: SB6 (1) | E21: SB6 (2) | H21: 8640 (1) | I21: 8640 (2) | J21: SB6 (1) | K21: SB6 (2) | N21: 8640 (1) | O21: 8640 (2) | P21: SB6 (1) | Q21: SB6 (2) | T21: 8640 (1) | U21: 8640 (2) | V21: SB6 (1) | W21: SB6 (2)
A22: t0 | B22: 101->10µl | D22: unverd.->10µl | G22: t0 | H22: 101->10µl | J22: unverd.->10µl | M22: t0 | N22: 101->10µl | P22: unverd.->10µl | S22: t0 | T22: 101->10µl | V22: unverd.->10µl
B23: 41 | C23: 34 | D23: 67 | E23: 91 | H23: 33 | I23: 42 | J23: 94 | K23: 100 | N23: 10 | O23: 9 | P23: 40 | Q23: 31 | T23: 23 | U23: 22 | V23: 78 | W23: 54
B24: 37 | C24: 40 | D24: 68 | E24: 96 | H24: 33 | I24: 25 | J24: 99 | K24: 68 | N24: 10 | O24: 9 | P24: 41 | Q24: 28 | T24: 23 | U24: 24 | V24: 80 | W24: 64
B25: 35 | C25: 40 | D25: 73 | E25: 62 | H25: 25 | I25: 38 | J25: 84 | K25: 80 | N25: 14 | O25: 7 | P25: 35 | Q25: 27 | T25: 16 | U25: 20 | V25: 49 | W25: 72
A26: Mittelwert | B26: =AVERAGE(B23:B25) -> 37.666667 | C26: =AVERAGE(C23:C25) -> 38 | D26: =AVERAGE(D23:D25) -> 69.333333 | E26: =AVERAGE(E23:E25) -> 83 | G26: Mittelwert | H26: =AVERAGE(H23:H25) -> 30.333333 | I26: =AVERAGE(I23:I25) -> 35 | J26: =AVERAGE(J23:J25) -> 92.333333 | K26: =AVERAGE(K23:K25) -> 82.666667 | M26: Mittelwert | N26: =AVERAGE(N23:N25) -> 11.333333 | O26: =AVERAGE(O23:O25) -> 8.3333333 | P26: =AVERAGE(P23:P25) -> 38.666667 | Q26: =AVERAGE(Q23:Q25) -> 28.666667 | S26: Mittelwert | T26: =AVERAGE(T23:T25) -> 20.666667 | U26: =AVERAGE(U23:U25) -> 22 | V26: =AVERAGE(V23:V25) -> 69 | W26: =AVERAGE(W23:W25) -> 63.333333
A27: Standardab. | B27: =STDEVA(B23:B25) -> 3.0550505 | C27: =STDEVA(C23:C25) -> 3.4641016 | D27: =STDEVA(D23:D25) -> 3.2145503 | E27: =STDEVA(E23:E25) -> 18.35756 | G27: Standardab. | H27: =STDEVA(H23:H25) -> 4.6188022 | I27: =STDEVA(I23:I25) -> 8.8881944 | J27: =STDEVA(J23:J25) -> 7.6376262 | K27: =STDEVA(K23:K25) -> 16.165808 | M27: Standardab. | N27: =STDEVA(N23:N25) -> 2.3094011 | O27: =STDEVA(O23:O25) -> 1.1547005 | P27: =STDEVA(P23:P25) -> 3.2145503 | Q27: =STDEVA(Q23:Q25) -> 2.081666 | S27: Standardab. | T27: =STDEVA(T23:T25) -> 4.0414519 | U27: =STDEVA(U23:U25) -> 2 | V27: =STDEVA(V23:V25) -> 17.349352 | W27: =STDEVA(W23:W25) -> 9.0184995
A28: CFU/ml | B28: 37660 | C28: 38000 | D28: 6933 | E28: 8300 | G28: CFU/ml | H28: 30330 | I28: 35000 | J28: 9233 | K28: 8266 | M28: CFU/ml | N28: 11330 | O28: 8330 | P28: 3866 | Q28: 2866 | S28: CFU/ml | T28: 20660 | U28: 22000 | V28: 6900 | W28: 6333
B31: 8640 (1) | C31: 8640 (2) | D31: SB6 (1) | E31: SB6 (2) | H31: 8640 (1) | I31: 8640 (2) | J31: SB6 (1) | K31: SB6 (2) | N31: 8640 (1) | O31: 8640 (2) | P31: SB6 (1) | Q31: SB6 (2) | T31: 8640 (1) | U31: SB6 (1)
A32: t2 | B32: 101->10µl | D32: unverd.->10µl | G32: t2 | H32: 101->10µl | J32: unverd.->10µl | M32: t2 | N32: 101->10µl | P32: unverd.->10µl | S32: 0 | T32: =AVERAGE([1]Tabelle1!E37:F37) -> 21330 | U32: =AVERAGE([1]Tabelle1!G37:H37) -> 6616.5
B33: 58 | C33: 42 | D33: 109 | E33: 119 | H33: 43 | I33: 44 | J33: 104 | K33: 112 | N33: 13 | O33: 11 | P33: 34 | Q33: 37
B34: 65 | C34: 54 | D34: 115 | E34: 117 | H34: 39 | I34: 45 | J34: 95 | K34: 102 | N34: 15 | O34: 10 | P34: 39 | Q34: 30
B35: 61 | C35: 54 | D35: 129 | E35: 127 | H35: 41 | I35: 48 | J35: 112 | K35: 114 | N35: 11 | O35: 14 | P35: 32 | Q35: 35
A36: Mittelwert | B36: =AVERAGE(B33:B35) -> 61.333333 | C36: =AVERAGE(C33:C35) -> 50 | D36: =AVERAGE(D33:D35) -> 117.66667 | E36: =AVERAGE(E33:E35) -> 121 | G36: Mittelwert | H36: =AVERAGE(H33:H35) -> 41 | I36: =AVERAGE(I33:I35) -> 45.666667 | J36: =AVERAGE(J33:J35) -> 103.66667 | K36: =AVERAGE(K33:K35) -> 109.33333 | M36: Mittelwert | N36: =AVERAGE(N33:N35) -> 13 | O36: =AVERAGE(O33:O35) -> 11.666667 | P36: =AVERAGE(P33:P35) -> 35 | Q36: =AVERAGE(Q33:Q35) -> 34
A37: Standardab. | B37: =STDEVA(B33:B35) -> 3.5118846 | C37: =STDEVA(C33:C35) -> 6.9282032 | D37: =STDEVA(D33:D35) -> 10.263203 | E37: =STDEVA(E33:E35) -> 5.2915026 | G37: Standardab. | H37: =STDEVA(H33:H35) -> 2 | I37: =STDEVA(I33:I35) -> 2.081666 | J37: =STDEVA(J33:J35) -> 8.5049005 | K37: =STDEVA(K33:K35) -> 6.4291005 | M37: Standardab. | N37: =STDEVA(N33:N35) -> 2 | O37: =STDEVA(O33:O35) -> 2.081666 | P37: =STDEVA(P33:P35) -> 3.6055513 | Q37: =STDEVA(Q33:Q35) -> 3.6055513
A38: CFU/ml | B38: 61330 | C38: 50000 | D38: 11766 | E38: 12100 | G38: CFU/ml | H38: 41000 | I38: 45660 | J38: 10366 | K38: 10933 | M38: CFU/ml | N38: 13000 | O38: 11660 | P38: 3500 | Q38: 3400
B41: 8640 (1) | C41: 8640 (2) | D41: SB6 (1) | E41: SB6 (2) | H41: 8640 (1) | I41: 8640 (2) | J41: SB6 (1) | K41: SB6 (2) | N41: 8640 (1) | O41: 8640 (2) | P41: SB6 (1) | Q41: SB6 (2)
A42: t4 | B42: 101->10µl | G42: t4 | H42: 101->10µl | M42: t4 | N42: 101->10µl
B43: 118 | C43: 110 | D43: 27 | E43: 25 | H43: 65 | I43: 89 | J43: 45 | K43: 37 | N43: 31 | O43: 23 | P43: 12 | Q43: 10
B44: 112 | C44: 106 | D44: 27 | E44: 38 | H44: 49 | I44: 82 | J44: 46 | K44: 43 | N44: 28 | O44: 22 | P44: 14 | Q44: 10
B45: 110 | C45: 118 | D45: 36 | E45: 30 | H45: 70 | I45: 100 | J45: 40 | K45: 40 | N45: 30 | O45: 24 | P45: 10 | Q45: 10
A46: Mittelwert | B46: =AVERAGE(B43:B45) -> 113.33333 | C46: =AVERAGE(C43:C45) -> 111.33333 | D46: =AVERAGE(D43:D45) -> 30 | E46: =AVERAGE(E43:E45) -> 31 | G46: Mittelwert | H46: =AVERAGE(H43:H45) -> 61.333333 | I46: =AVERAGE(I43:I45) -> 90.333333 | J46: =AVERAGE(J43:J45) -> 43.666667 | K46: =AVERAGE(K43:K45) -> 40 | M46: Mittelwert | N46: =AVERAGE(N43:N45) -> 29.666667 | O46: =AVERAGE(O43:O45) -> 23 | P46: =AVERAGE(P43:P45) -> 12 | Q46: =AVERAGE(Q43:Q45) -> 10
A47: Standardab. | B47: =STDEVA(B43:B45) -> 4.163332 | C47: =STDEVA(C43:C45) -> 6.1101009 | D47: =STDEVA(D43:D45) -> 5.1961524 | E47: =STDEVA(E43:E45) -> 6.5574385 | G47: Standardab. | H47: =STDEVA(H43:H45) -> 10.969655 | I47: =STDEVA(I43:I45) -> 9.0737717 | J47: =STDEVA(J43:J45) -> 3.2145503 | K47: =STDEVA(K43:K45) -> 3 | M47: Standardab. | N47: =STDEVA(N43:N45) -> 1.5275252 | O47: =STDEVA(O43:O45) -> 1 | P47: =STDEVA(P43:P45) -> 2 | Q47: =STDEVA(Q43:Q45) -> 0
A48: CFU/ml | B48: 113330 | C48: 111330 | D48: 30000 | E48: 31000 | G48: CFU/ml | H48: 61330 | I48: 90330 | J48: 43660 | K48: 40000 | M48: CFU/ml | N48: 29660 | O48: 23000 | P48: 12000 | Q48: 10000
B51: 8640 (1) | C51: 8640 (2) | D51: SB6 (1) | E51: SB6 (2) | H51: 8640 (1) | I51: 8640 (2) | J51: SB6 (1) | K51: SB6 (2) | N51: 8640 (1) | O51: 8640 (2) | P51: SB6 (1) | Q51: SB6 (2)
A52: t6 | B52: 102->10µl | D52: 101->10µl | G52: t6 | H52: 101->10µl | J52: 101->10µl | M52: t6 | N52: 101->10µl | P52: 101->10µl
B53: 21 | C53: 19 | D53: 46 | E53: 53 | H53: 102 | I53: 115 | J53: 56 | K53: 43 | N53: 52 | O53: 56 | P53: 50 | Q53: 16
B54: 19 | C54: 16 | D54: 39 | E54: 48 | H54: 81 | I54: 101 | J54: 61 | K54: 34 | N54: 56 | O54: 53 | P54: 38 | Q54: 16
...

Sheet Fig1C
A1: Stamm: | B1: 1) 8640
B2: 2) SB6
A7: vor der Infektion | M7: vor der Infektion | Y7: vor der Infektion
B9: 8640 | C9: SB6 | N9: 8640 | O9: SB6 | Z9: 8640 | AA9: SB6
B10: 103->10µl | N10: 103->10µl | Z10: 103->10µl
B11: 34 | C11: 21 | N11: 56 | O11: 51 | Z11: 58 | AA11: 30
B12: 44 | C12: 28 | N12: 55 | O12: 45 | Z12: 48 | AA12: 39
B13: 35 | C13: 20 | N13: 65 | O13: 39 | Z13: 50 | AA13: 45
A14: Standardabweichung | B14: =STDEVA(B11:B13) -> 5.5075705 | C14: =STDEVA(C11:C13) -> 4.3588989 | M14: Standardabweichung | N14: =STDEVA(N11:N13) -> 5.5075705 | O14: =STDEVA(O11:O13) -> 6 | Y14: Standardabweichung | Z14: =STDEVA(Z11:Z13) -> 5.2915026 | AA14: =STDEVA(AA11:AA13) -> 7.5498344
A15: Mittelwert | B15: =AVERAGE(B11:B13) -> 37.666667 | C15: =AVERAGE(C11:C13) -> 23 | M15: Mittelwert | N15: =AVERAGE(N11:N13) -> 58.666667 | O15: =AVERAGE(O11:O13) -> 45 | Y15: Mittelwert | Z15: =AVERAGE(Z11:Z13) -> 52 | AA15: =AVERAGE(AA11:AA13) -> 38
A16: CFU/ml | B16: 3766000 | C16: 2300000 | M16: CFU/ml | N16: 5866000 | O16: 4500000 | Y16: CFU/ml | Z16: 5200000 | AA16: 3800000
A19: nach Infektion (ohne Gentamicin) | G19: nach Infektion (mit Gentamicin) | M19: nach Infektion (ohne Gentamicin) | S19: nach Infektion (mit Gentamicin) | Y19: nach Infektion (ohne Gentamicin) | AE19: nach Infektion (mit Gentamicin)
B22: 8640 | C22: 8640 | D22: SB6 | E22: SB6 | H22: 8640 | I22: 8640 | J22: SB6 | K22: SB6 | N22: 8640 | O22: 8640 | P22: SB6 | Q22: SB6 | T22: 8640 | U22: 8640 | V22: SB6 | W22: SB6 | Z22: 8640 | AA22: 8640 | AB22: SB6 | AC22: SB6 | AF22: 8640 | AG22: 8640 | AH22: SB6 | AI22: SB6
B23: 101->10µl | H23: unverd->10µl | N23: 101->10µl | T23: unverd->10µl | Z23: 101->10µl | AF23: unverd->10µl
B24: 91 | C24: 67 | D24: 51 | E24: 55 | H24: 1 | I24: 0 | J24: 1 | K24: 3 | N24: 27 | O24: 26 | P24: 17 | Q24: 16 | T24: 3 | U24: 3 | V24: 2 | W24: 5 | Z24: 73 | AA24: 42 | AB24: 23 | AC24: 47 | AF24: 0 | AG24: 4 | AH24: 2 | AI24: 2
B25: 74 | C25: 65 | D25: 48 | E25: 52 | H25: 2 | I25: 4 | J25: 5 | K25: 4 | N25: 27 | O25: 26 | P25: 16 | Q25: 16 | T25: 1 | U25: 3 | V25: 3 | W25: 1 | Z25: 73 | AA25: 51 | AB25: 29 | AC25: 47 | AF25: 4 | AG25: 5 | AH25: 3 | AI25: 1
B26: 95 | C26: 65 | D26: 38 | E26: 49 | H26: 3 | I26: 2 | J26: 3 | K26: 4 | N26: 27 | O26: 16 | P26: 16 | Q26: 27 | T26: 1 | U26: 7 | V26: 4 | W26: 1 | Z26: 95 | AA26: 55 | AB26: 30 | AC26: 55 | AF26: 2 | AG26: 1 | AH26: 4 | AI26: 1
A27: Standardabweichung | B27: =STDEVA(B24:B26) -> 11.150486 | C27: =STDEVA(C24:C26) -> 1.1547005 | D27: =STDEVA(D24:D26) -> 6.8068593 | E27: =STDEVA(E24:E26) -> 3 | G27: Standardabweichung | H27: =STDEVA(H24:H26) -> 1 | I27: =STDEVA(I24:I26) -> 2 | J27: =STDEVA(J24:J26) -> 2 | K27: =STDEVA(K24:K26) -> 0.57735027 | M27: Standardabweichung | N27: =STDEVA(N24:N26) -> 0 | O27: =STDEVA(O24:O26) -> 5.7735027 | P27: =STDEVA(P24:P26) -> 0.57735027 | Q27: =STDEVA(Q24:Q26) -> 6.350853 | S27: Standardabweichung | T27: =STDEVA(T24:T26) -> 1.1547005 | U27: =STDEVA(U24:U26) -> 2.3094011 | V27: =STDEVA(V24:V26) -> 1 | W27: =STDEVA(W24:W26) -> 2.3094011 | Y27: Standardabweichung | Z27: =STDEVA(Z24:Z26) -> 12.701706 | AA27: =STDEVA(AA24:AA26) -> 6.6583281 | AB27: =STDEVA(AB24:AB26) -> 3.7859389 | AC27: =STDEVA(AC24:AC26) -> 4.6188022 | AE27: Standardabweichung | AF27: =STDEVA(AF24:AF26) -> 2 | AG27: =STDEVA(AG24:AG26) -> 2.081666 | AH27: =STDEVA(AH24:AH26) -> 1 | AI27: =STDEVA(AI24:AI26) -> 0.57735027
A28: Mittelwert | B28: =AVERAGE(B24:B26) -> 86.666667 | C28: =AVERAGE(C24:C26) -> 65.666667 | D28: =AVERAGE(D24:D26) -> 45.666667 | E28: =AVERAGE(E24:E26) -> 52 | G28: Mittelwert | H28: =AVERAGE(H24:H26) -> 2 | I28: =AVERAGE(I24:I26) -> 2 | J28: =AVERAGE(J24:J26) -> 3 | K28: =AVERAGE(K24:K26) -> 3.6666667 | M28: Mittelwert | N28: =AVERAGE(N24:N26) -> 27 | O28: =AVERAGE(O24:O26) -> 22.666667 | P28: =AVERAGE(P24:P26) -> 16.333333 | Q28: =AVERAGE(Q24:Q26) -> 19.666667 | S28: Mittelwert | T28: =AVERAGE(T24:T26) -> 1.6666667 | U28: =AVERAGE(U24:U26) -> 4.3333333 | V28: =AVERAGE(V24:V26) -> 3 | W28: =AVERAGE(W24:W26) -> 2.3333333 | Y28: Mittelwert | Z28: =AVERAGE(Z24:Z26) -> 80.333333 | AA28: =AVERAGE(AA24:AA26) -> 49.333333 | AB28: =AVERAGE(AB24:AB26) -> 27.333333 | AC28: =AVERAGE(AC24:AC26) -> 49.666667 | AE28: Mittelwert | AF28: =AVERAGE(AF24:AF26) -> 2 | AG28: =AVERAGE(AG24:AG26) -> 3.3333333 | AH28: =AVERAGE(AH24:AH26) -> 3 | AI28: =AVERAGE(AI24:AI26) -> 1.3333333
A29: CFU/ml | B29: 86660 | C29: 65660 | D29: 45660 | E29: 52000 | G29: CFU/ml | H29: 200 | I29: 200 | J29: 300 | K29: 366 | M29: CFU/ml | N29: 27000 | O29: 22660 | P29: 16330 | Q29: 19660 | S29: CFU/ml | T29: 166 | U29: 433 | V29: 300 | W29: 233 | Y29: CFU/ml | Z29: 80330 | AA29: 49330 | AB29: 27330 | AC29: 49660 | AE29: CFU/ml | AF29: 200 | AG29: 433 | AH29: 300 | AI29: 133
O32: 8640 | P32: SB6 | T32: 8640 | V32: SB6 | Z32: 8640 | AA32: SB6 | AF32: 8640 | AH32: SB6
A33: mean | B33: 8640 | C33: SB6 | H33: 8640 | J33: SB6
O34: =AVERAGE(Fig1C!N29:O29) -> 24830 | P34: =AVERAGE(Fig1C!P29:Q29) -> 17995 | T34: =AVERAGE(Fig1C!T29:U29) -> 299.5 | V34: =AVERAGE(Fig1C!V29:W29) -> 266.5 | Z34: =AVERAGE(Fig1C!Z29:AA29) -> 64830 | AA34: =AVERAGE(Fig1C!AB29:AC29) -> 38495 | AF34: =AVERAGE(Fig1C!AF29:AG29) -> 316.5 | AH34: =AVERAGE(Fig1C!AH29:AI29) -> 216.5
B35: =AVERAGE([2]Tabelle1!E42:F42) -> 76160 | C35: =AVERAGE([2]Tabelle1!G42:H42) -> 48830 | H35: =AVERAGE([2]Tabelle1!K42:L42) -> 200 | J35: =AVERAGE([2]Tabelle1!M42:N42) -> 333

Sheet Fig1D
A1: Stamm: | B1: 1) 8640
B2: 2) SB6
B7: 8640 (1) | C7: 8640 (2) | D7: SB6 (1) | E7: SB6 (2) | H7: 8640 (1) | I7: 8640 (2) | J7: SB6 (1) | K7: SB6 (2) | N7: 8640 (1) | O7: 8640 (2) | P7: SB6 (1) | Q7: SB6 (2) | T7: 8640 (1) | U7: 8640 (2) | V7: SB6 (1) | W7: SB6 (2)
A8: t0 | B8: 103->10µl | G8: t0 | H8: 103->10µl | M8: t0 | N8: 103->10µl | S8: t0 | T8: 103->10µl
B9: 53 | D9: 54 | H9: 80 | J9: 66 | N9: 79 | P9: 60 | T9: 67 | V9: 60
B10: 44 | D10: 46 | H10: 74 | J10: 78 | N10: 71 | P10: 61 | T10: 68 | V10: 47
B11: 47 | D11: 52 | H11: 74 | J11: 81 | N11: 87 | P11: 55 | T11: 71 | V11: 53
A12: Mittelwert | B12: =AVERAGE(B9:B11) -> 48 | C12: =AVERAGE(C9:C11) -> #DIV/0! | D12: =AVERAGE(D9:D11) -> 50.666667 | E12: =AVERAGE(E9:E11) -> #DIV/0! | G12: Mittelwert | H12: =AVERAGE(H9:H11) -> 76 | I12: =AVERAGE(I9:I11) -> #DIV/0! | J12: =AVERAGE(J9:J11) -> 75 | K12: =AVERAGE(K9:K11) -> #DIV/0! | M12: Mittelwert | N12: =AVERAGE(N9:N11) -> 79 | O12: =AVERAGE(O9:O11) -> #DIV/0! | P12: =AVERAGE(P9:P11) -> 58.666667 | Q12: =AVERAGE(Q9:Q11) -> #DIV/0! | S12: Mittelwert | T12: =AVERAGE(T9:T11) -> 68.666667 | U12: =AVERAGE(U9:U11) -> #DIV/0! | V12: =AVERAGE(V9:V11) -> 53.333333 | W12: =AVERAGE(W9:W11) -> #DIV/0!
A13: Standardab. | B13: =STDEVA(B9:B11) -> 4.5825757 | C13: =STDEVA(C9:C11) -> #DIV/0! | D13: =STDEVA(D9:D11) -> 4.163332 | E13: =STDEVA(E9:E11) -> #DIV/0! | G13: Standardab. | H13: =STDEVA(H9:H11) -> 3.4641016 | I13: =STDEVA(I9:I11) -> #DIV/0! | J13: =STDEVA(J9:J11) -> 7.9372539 | K13: =STDEVA(K9:K11) -> #DIV/0! | M13: Standardab. | N13: =STDEVA(N9:N11) -> 8 | O13: =STDEVA(O9:O11) -> #DIV/0! | P13: =STDEVA(P9:P11) -> 3.2145503 | Q13: =STDEVA(Q9:Q11) -> #DIV/0! | S13: Standardab. | T13: =STDEVA(T9:T11) -> 2.081666 | U13: =STDEVA(U9:U11) -> #DIV/0! | V13: =STDEVA(V9:V11) -> 6.5064071 | W13: =STDEVA(W9:W11) -> #DIV/0!
A14: CFU/ml | B14: 4800000 | D14: 5066000 | G14: CFU/ml | H14: 7600000 | J14: 7500000 | M14: CFU/ml | N14: 7900000 | O14: 7533000 | P14: 5866000 | S14: CFU/ml | T14: 6866000 | V14: 5333000
A17: nach der Infektion | G17: nach der Infektion | M17: nach der Infektion | S17: nach der Infektion
B19: 8640 (1) | C19: 8640 (2) | D19: SB6 (1) | E19: SB6 (2) | H19: 8640 (1) | I19: 8640 (2) | J19: SB6 (1) | K19: SB6 (2) | N19: 8640 (1) | O19: 8640 (2) | P19: SB6 (1) | Q19: SB6 (2) | T19: 8640 (1) | U19: 8640 (2) | V19: SB6 (1) | W19: SB6 (2)
A20: t60 | B20: 101->10µl | G20: t60 | H20: unverd.->10µl | M20: t60 | N20: 101->10µl | S20: t60 | T20: unverd.->10µl
B21: 47 | C21: 29 | D21: 180 | E21: 122 | H21: 220 | I21: 230 | J21: 126 | K21: 128 | N21: 22 | O21: 16 | P21: 96 | Q21: 88 | T21: 231 | U21: 218 | V21: 113 | W21: 128
B22: 57 | C22: 33 | D22: 175 | E22: 110 | H22: 225 | I22: 228 | J22: 130 | K22: 122 | N22: 23 | O22: 18 | P22: 81 | Q22: 94 | T22: 239 | U22: 220 | V22: 128 | W22: 144
B23: 45 | C23: 27 | D23: 111 | E23: 160 | H23: 218 | I23: 225 | J23: 122 | K23: 127 | N23: 14 | O23: 26 | P23: 83 | Q23: 72 | T23: 240 | U23: 215 | V23: 132 | W23: 143
A24: Mittelwert | B24: =AVERAGE(B21:B23) -> 49.666667 | C24: =AVERAGE(C21:C23) -> 29.666667 | D24: =AVERAGE(D21:D23) -> 155.33333 | E24: =AVERAGE(E21:E23) -> 130.66667 | G24: Mittelwert | H24: =AVERAGE(H21:H23) -> 221 | I24: =AVERAGE(I21:I23) -> 227.66667 | J24: =AVERAGE(J21:J23) -> 126 | K24: =AVERAGE(K21:K23) -> 125.66667 | M24: Mittelwert | N24: =AVERAGE(N21:N23) -> 19.666667 | O24: =AVERAGE(O21:O23) -> 20 | P24: =AVERAGE(P21:P23) -> 86.666667 | Q24: =AVERAGE(Q21:Q23) -> 84.666667 | S24: Mittelwert | T24: =AVERAGE(T21:T23) -> 236.66667 | U24: =AVERAGE(U21:U23) -> 217.66667 | V24: =AVERAGE(V21:V23) -> 124.33333 | W24: =AVERAGE(W21:W23) -> 138.33333
A25: Standardab. | B25: =STDEVA(B21:B23) -> 6.4291005 | C25: =STDEVA(C21:C23) -> 3.0550505 | D25: =STDEVA(D21:D23) -> 38.4751 | E25: =STDEVA(E21:E23) -> 26.102363 | G25: Standardab. | H25: =STDEVA(H21:H23) -> 3.6055513 | I25: =STDEVA(I21:I23) -> 2.5166115 | J25: =STDEVA(J21:J23) -> 4 | K25: =STDEVA(K21:K23) -> 3.2145503 | M25: Standardab. | N25: =STDEVA(N21:N23) -> 4.9328829 | O25: =STDEVA(O21:O23) -> 5.2915026 | P25: =STDEVA(P21:P23) -> 8.1445278 | Q25: =STDEVA(Q21:Q23) -> 11.372481 | S25: Standardab. | T25: =STDEVA(T21:T23) -> 4.9328829 | U25: =STDEVA(U21:U23) -> 2.5166115 | V25: =STDEVA(V21:V23) -> 10.016653 | W25: =STDEVA(W21:W23) -> 8.9628864
A26: CFU/ml | B26: 49660 | C26: 29660 | D26: 15533 | E26: 13066 | G26: CFU/ml | H26: 22100 | I26: 22766 | J26: 12600 | K26: 12566 | M26: CFU/ml | N26: 19660 | O26: 20000 | P26: 8666 | Q26: 8466 | S26: CFU/ml | T26: 23666 | U26: 21766 | V26: 12433 | W26: 13833
A28: Mittelwert | B28: =AVERAGE(B26:C26) -> 39660 | D28: =AVERAGE(D26:E26) -> 14299.5 | G28: Mittelwert | H28: =AVERAGE(H26:I26) -> 22433 | J28: =AVERAGE(J26:K26) -> 12583 | M28: Mittelwert | N28: =AVERAGE(N26:O26) -> 19830 | P28: =AVERAGE(P26:Q26) -> 8566 | S28: Mittelwert | T28: =AVERAGE(T26:U26) -> 22716 | V28: =AVERAGE(V26:W26) -> 13133

Sheet Fig1E
A1: Stamm: | B1: 1) 8640
B2: 2) SB6
A7: vor der Infektion | G7: vor der Infektion | M7: vor der Infektion
B9: 8640 (1) | C9: 8640 (2) | D9: SB6 (1) | E9: SB6 (2) | H9: 8640 (1) | I9: 8640 (2) | J9: SB6 (1) | K9: SB6 (2) | N9: 8640 (1) | O9: 8640 (2) | P9: SB6 (1) | Q9: SB6 (2)
A10: t0 | B10: 103->10µl | G10: t0 | H10: 103->10µl | M10: t0 | N10: 103->10µl
B11: 75 | D11: 57 | H11: 56 | J11: 53 | N11: 61 | P11: 51
B12: 67 | D12: 54 | H12: 58 | J12: 46 | N12: 53 | P12: 49
B13: 64 | D13: 54 | H13: 59 | J13: 43 | N13: 53 | P13: 60
A14: Mittelwert | B14: =AVERAGE(B11:B13) -> 68.666667 | C14: =AVERAGE(C11:C13) -> #DIV/0! | D14: =AVERAGE(D11:D13) -> 55 | E14: =AVERAGE(E11:E13) -> #DIV/0! | G14: Mittelwert | H14: =AVERAGE(H11:H13) -> 57.666667 | I14: =AVERAGE(I11:I13) -> #DIV/0! | J14: =AVERAGE(J11:J13) -> 47.333333 | K14: =AVERAGE(K11:K13) -> #DIV/0! | M14: Mittelwert | N14: =AVERAGE(N11:N13) -> 55.666667 | O14: =AVERAGE(O11:O13) -> #DIV/0! | P14: =AVERAGE(P11:P13) -> 53.333333 | Q14: =AVERAGE(Q11:Q13) -> #DIV/0!
A15: Standardab. | B15: =STDEVA(B11:B13) -> 5.6862407 | C15: =STDEVA(C11:C13) -> #DIV/0! | D15: =STDEVA(D11:D13) -> 1.7320508 | E15: =STDEVA(E11:E13) -> #DIV/0! | G15: Standardab. | H15: =STDEVA(H11:H13) -> 1.5275252 | I15: =STDEVA(I11:I13) -> #DIV/0! | J15: =STDEVA(J11:J13) -> 5.1316014 | K15: =STDEVA(K11:K13) -> #DIV/0! | M15: Standardab. | N15: =STDEVA(N11:N13) -> 4.6188022 | O15: =STDEVA(O11:O13) -> #DIV/0! | P15: =STDEVA(P11:P13) -> 5.8594653 | Q15: =STDEVA(Q11:Q13) -> #DIV/0!
A16: CFU/ml | B16: 6866000 | D16: 5500000 | G16: CFU/ml | H16: 5766000 | J16: 4733000 | M16: CFU/ml | N16: 5566000 | P16: 5333000
A19: nach der Infektion | G19: nach der Infektion | M19: nach der Infektion
B21: 8640 (1) | C21: 8640 (2) | D21: SB6 (1) | E21: SB6 (2) | H21: 8640 (1) | I21: 8640 (2) | J21: SB6 (1) | K21: SB6 (2) | N21: 8640 (1) | O21: 8640 (2) | P21: SB6 (1) | Q21: SB6 (2)
A22: t30 | B22: 101->10µl | D22: unverd.->10µl | G22: t60 | H22: 101->10µl | M22: t60 | N22: 101->10µl
B23: 66 | C23: 68 | D23: 157 | E23: 117 | H23: 51 | I23: 57 | J23: 121 | K23: 110 | N23: 53 | O23: 61 | P23: 101 | Q23: 120
B24: 69 | C24: 49 | D24: 147 | E24: 93 | H24: 51 | I24: 57 | J24: 125 | K24: 89 | N24: 53 | O24: 64 | P24: 109 | Q24: 105
B25: 61 | C25: 62 | D25: 151 | E25: 123 | H25: 60 | I25: 56 | J25: 107 | K25: 87 | N25: 59 | O25: 71 | P25: 119 | Q25: 107
A26: Mittelwert | B26: =AVERAGE(B23:B25) -> 65.333333 | C26: =AVERAGE(C23:C25) -> 59.666667 | D26: =AVERAGE(D23:D25) -> 151.66667 | E26: =AVERAGE(E23:E25) -> 111 | G26: Mittelwert | H26: =AVERAGE(H23:H25) -> 54 | I26: =AVERAGE(I23:I25) -> 56.666667 | J26: =AVERAGE(J23:J25) -> 117.66667 | K26: =AVERAGE(K23:K25) -> 95.333333 | M26: Mittelwert | N26: =AVERAGE(N23:N25) -> 55 | O26: =AVERAGE(O23:O25) -> 65.333333 | P26: =AVERAGE(P23:P25) -> 109.66667 | Q26: =AVERAGE(Q23:Q25) -> 110.66667
A27: Standardab. | B27: =STDEVA(B23:B25) -> 4.0414519 | C27: =STDEVA(C23:C25) -> 9.7125349 | D27: =STDEVA(D23:D25) -> 5.033223 | E27: =STDEVA(E23:E25) -> 15.874508 | G27: Standardab. | H27: =STDEVA(H23:H25) -> 5.1961524 | I27: =STDEVA(I23:I25) -> 0.57735027 | J27: =STDEVA(J23:J25) -> 9.4516313 | K27: =STDEVA(K23:K25) -> 12.74101 | M27: Standardab. | N27: =STDEVA(N23:N25) -> 3.4641016 | O27: =STDEVA(O23:O25) -> 5.1316014 | P27: =STDEVA(P23:P25) -> 9.0184995 | Q27: =STDEVA(Q23:Q25) -> 8.1445278
A28: CFU/ml | B28: 65330 | C28: 59660 | D28: 15166 | E28: 11100 | G28: CFU/ml | H28: 54000 | I28: 56660 | J28: 11766 | K28: 9533 | M28: CFU/ml | N28: 55000 | O28: 65330 | P28: 10966 | Q28: 11066
A30: Mittelwert | B30: =AVERAGE(B28:C28) -> 62495 | D30: =AVERAGE(D28:E28) -> 13133 | G30: Mittelwert | H30: =AVERAGE(H28:I28) -> 55330 | J30: =AVERAGE(J28:K28) -> 10649.5 | M30: Mittelwert | N30: =AVERAGE(N28:O28) -> 60165 | P30: =AVERAGE(P28:Q28) -> 11016

Sheet Fig2A
A1: Stamm: | B1: 1) SB473
B2: 2) SB474
B3: 3) SB478
B4: 4) SB479
B7: 1 | C7: 2 | D7: 3 | E7: 4 | F7: 5 | G7: 6 | H7: 7 | I7: 8 | J7: 9 | K7: 10 | L7: 11 | M7: 12 | P7: 1 | Q7: 2 | R7: 3 | S7: 4 | T7: 5 | U7: 6 | V7: 7 | W7: 8 | X7: 9 | Y7: 10 | Z7: 11 | AA7: 12 | AD7: 1 | AE7: 2 | AF7: 3 | AG7: 4 | AH7: 5 | AI7: 6 | AJ7: 7 | AK7: 8 | AL7: 9 | AM7: 10 | AN7: 11 | AO7: 12
A8: A | N8: 420 | O8: A | P8: 0.101 | Q8: 0.102 | R8: 0.103 | S8: 0.183 | T8: 0.184 | U8: 0.187 | V8: 0.107 | W8: 0.107 | X8: 0.107 | Y8: 0.184 | Z8: 0.192 | AA8: 0.191 | AB8: 420 | AC8: A | AP8: 420
A9: B | N9: 420 | O9: B | P9: 0.147 | Q9: 0.152 | R9: 0.149 | S9: 0.266 | T9: 0.275 | U9: 0.271 | V9: 0.115 | W9: 0.116 | X9: 0.117 | Y9: 0.224 | Z9: 0.231 | AA9: 0.229 | AB9: 420 | AC9: B | AP9: 420
A10: C | N10: 420 | O10: C | P10: 0.102 | Q10: 0.102 | R10: 0.102 | S10: 0.207 | T10: 0.21 | U10: 0.21 | V10: 0.156 | W10: 0.161 | X10: 0.16 | Y10: 0.179 | Z10: 0.184 | AA10: 0.181 | AB10: 420 | AC10: C | AP10: 420
A11: D | N11: 420 | O11: D | P11: 0.289 | Q11: 0.299 | R11: 0.294 | S11: 0.104 | T11: 0.102 | U11: 0.1 | V11: 0.1 | W11: 0.101 | X11: 0.102 | Y11: 0.101 | Z11: 0.101 | AA11: 0.101 | AB11: 420 | AC11: D | AP11: 420
A12: E | B12: 0.098 | C12: 0.098 | D12: 0.096 | E12: 0.229 | F12: 0.232 | G12: 0.23 | H12: 0.141 | I12: 0.146 | J12: 0.144 | K12: 0.218 | L12: 0.222 | M12: 0.221 | N12: 420 | O12: E | AB12: 420 | AC12: E | AP12: 420
A13: F | B13: 0.222 | C13: 0.226 | D13: 0.225 | E13: 0.18 | F13: 0.179 | G13: 0.184 | H13: 0.7 | I13: 0.734 | J13: 0.718 | K13: 0.231 | L13: 0.242 | M13: 0.237 | N13: 420 | O13: F | AB13: 420 | AC13: F | AD13: 0.103 | AE13: 0.104 | AF13: 0.104 | AG13: 0.141 | AH13: 0.154 | AI13: 0.143 | AJ13: 0.14 | AK13: 0.141 | AL13: 0.142 | AM13: 0.29 | AN13: 0.298 | AO13: 0.298 | AP13: 420
A14: G | B14: 0.789 | C14: 0.836 | D14: 0.824 | E14: 0.288 | F14: 0.292 | G14: 0.29 | H14: 0.425 | I14: 0.436 | J14: 0.438 | K14: 0.097 | L14: 0.096 | M14: 0.096 | N14: 420 | O14: G | AB14: 420 | AC14: G | AD14: 0.213 | AE14: 0.218 | AF14: 0.218 | AG14: 0.477 | AH14: 0.504 | AI14: 0.499 | AJ14: 0.125 | AK14: 0.126 | AL14: 0.134 | AM14: 0.216 | AN14: 0.224 | AO14: 0.224 | AP14: 420
A15: H | N15: 420 | O15: H | AB15: 420 | AC15: H | AD15: 0.64 | AE15: 0.683 | AF15: 0.681 | AG15: 0.109 | AH15: 0.102 | AI15: 0.101 | AJ15: 0.102 | AK15: 0.101 | AL15: 0.1 | AM15: 0.101 | AN15: 0.101 | AO15: 0.101 | AP15: 420
A18: 23 | O18: 21.5 | AC18: 21.5
B20: 1 | C20: 2 | D20: 3 | E20: 4 | F20: 5 | G20: 6 | H20: 7 | I20: 8 | J20: 9 | K20: 10 | L20: 11 | M20: 12 | P20: 1 | Q20: 2 | R20: 3 | S20: 4 | T20: 5 | U20: 6 | V20: 7 | W20: 8 | X20: 9 | Y20: 10 | Z20: 11 | AA20: 12 | AD20: 1 | AE20: 2 | AF20: 3 | AG20: 4 | AH20: 5 | AI20: 6 | AJ20: 7 | AK20: 8 | AL20: 9 | AM20: 10 | AN20: 11 | AO20: 12
A21: A | N21: 550 | O21: A | P21: 0.086 | Q21: 0.087 | R21: 0.089 | S21: 0.094 | T21: 0.088 | U21: 0.089 | V21: 0.088 | W21: 0.087 | X21: 0.087 | Y21: 0.089 | Z21: 0.089 | AA21: 0.089 | AB21: 550 | AC21: A | AP21: 550
A22: B | N22: 550 | O22: B | P22: 0.088 | Q22: 0.09 | R22: 0.088 | S22: 0.093 | T22: 0.088 | U22: 0.089 | V22: 0.088 | W22: 0.088 | X22: 0.089 | Y22: 0.089 | Z22: 0.089 | AA22: 0.088 | AB22: 550 | AC22: B | AP22: 550
A23: C | N23: 550 | O23: C | P23: 0.087 | Q23: 0.087 | R23: 0.088 | S23: 0.088 | T23: 0.088 | U23: 0.088 | V23: 0.088 | W23: 0.087 | X23: 0.088 | Y23: 0.089 | Z23: 0.088 | AA23: 0.088 | AB23: 550 | AC23: C | AP23: 550
A24: D | N24: 550 | O24: D | P24: 0.088 | Q24: 0.089 | R24: 0.088 | S24: 0.091 | T24: 0.088 | U24: 0.087 | V24: 0.087 | W24: 0.088 | X24: 0.089 | Y24: 0.089 | Z24: 0.089 | AA24: 0.089 | AB24: 550 | AC24: D | AP24: 550
A25: E | B25: 0.089 | C25: 0.089 | D25: 0.088 | E25: 0.088 | F25: 0.088 | G25: 0.086 | H25: 0.086 | I25: 0.089 | J25: 0.087 | K25: 0.088 | L25: 0.087 | M25: 0.088 | N25: 550 | O25: E | AB25: 550 | AC25: E | AP25: 550
A26: F | B26: 0.088 | C26: 0.091 | D26: 0.088 | E26: 0.088 | F26: 0.086 | G26: 0.089 | H26: 0.09 | I26: 0.095 | J26: 0.09 | K26: 0.088 | L26: 0.089 | M26: 0.087 | N26: 550 | O26: F | AB26: 550 | AC26: F | AD26: 0.088 | AE26: 0.089 | AF26: 0.089 | AG26: 0.089 | AH26: 0.096 | AI26: 0.088 | AJ26: 0.088 | AK26: 0.087 | AL26: 0.089 | AM26: 0.09 | AN26: 0.091 | AO26: 0.089 | AP26: 550
A27: G | B27: 0.09 | C27: 0.091 | D27: 0.09 | E27: 0.09 | F27: 0.089 | G27: 0.089 | H27: 0.091 | I27: 0.09 | J27: 0.091 | K27: 0.088 | L27: 0.089 | M27: 0.087 | N27: 550 | O27: G | AB27: 550 | AC27: G | AD27: 0.091 | AE27: 0.089 | AF27: 0.089 | AG27: 0.095 | AH27: 0.091 | AI27: 0.094 | AJ27: 0.089 | AK27: 0.086 | AL27: 0.095 | AM27: 0.087 | AN27: 0.088 | AO27: 0.089 | AP27: 550
A28: H | N28: 550 | O28: H | AB28: 550 | AC28: H | AD28: 0.09 | AE28: 0.09 | AF28: 0.092 | AG28: 0.096 | AH28: 0.088 | AI28: 0.09 | AJ28: 0.09 | AK28: 0.089 | AL28: 0.089 | AM28: 0.091 | AN28: 0.088 | AO28: 0.089 | AP28: 550
A32: Miller Units
B35: 8640 Cntrl | C35: 8640 hilA | D35: SB6 hilA | F35: 8640 Cntrl | G35: 8640 sipC | H35: SB6 sipC | P35: 8640 Cntrl | Q35: 8640 hilA | R35: SB6 hilA | T35: 8640 Cntrl | U35: 8640 sipC | V35: SB6 sipC | AD35: 8640 Cntrl | AE35: 8640 hilA | AF35: SB6 hilA | AH35: 8640 Cntrl | AI35: 8640 sipC | AJ35: SB6 sipC
B37: =1000*((Fig2A!B12-(1.75*Fig2A!B25)/15*1*(0.129*20))) -> 71.211 | C37: =1000*((Fig2A!E12-(1.75*Fig2A!E25)/15*1*(0.129*20))) -> 202.512 | D37: =1000*((Fig2A!H12-(1.75*Fig2A!H25)/15*1*(0.125*20))) -> 115.91667 | F37: =1000*((Fig2A!B12-(1.75*Fig2A!B25)/15*1*(0.129*20))) -> 71.211 | G37: =1000*((Fig2A!H13-(1.75*Fig2A!H26)/15*1*(0.129*20))) -> 672.91 | H37: =1000*((Fig2A!K13-(1.75*Fig2A!K26)/15*1*(0.125*20))) -> 205.33333 | P37: =1000*((Fig2A!P8-(1.75*Fig2A!P21)/15*1*(0.1*20))) -> 80.933333 | Q37: =1000*((Fig2A!S8-(1.75*Fig2A!S21)/15*1*(0.1*20))) -> 161.06667 | R37: =1000*((Fig2A!V8-(1.75*Fig2A!V21)/15*1*(0.04*20))) -> 98.786667 | T37: =1000*((Fig2A!P8-(1.75*Fig2A!P21)/15*1*(0.1*20))) -> 80.933333 | U37: =1000*((Fig2A!Y9-(1.75*Fig2A!Y22)/15*1*(0.07*20))) -> 209.46333 | V37: =1000*((Fig2A!P10-(1.75*Fig2A!P23)/15*1*(0.03*20))) -> 95.91 | AD37: =1000*((Fig2A!AD13-(1.75*Fig2A!AD26)/15*1*(0.109*20))) -> 80.618667 | AE37: =1000*((Fig2A!AG13-(1.75*Fig2A!AG26)/15*1*(0.109*20))) -> 118.36433 | AF37: =1000*((Fig2A!AJ13-(1.75*Fig2A!AJ26)/15*1*(0.062*20))) -> 127.26933 | AH37: =1000*((Fig2A!AD13-(1.75*Fig2A!AD26)/15*1*(0.109*20))) -> 80.618667 | AI37: =1000*((Fig2A!AG14-(1.75*Fig2A!AG27)/15*1*(0.11*20))) -> 452.61667 | AJ37: =1000*((Fig2A!AJ14-(1.75*Fig2A!AJ27)/15*1*(0.044*20))) -> 115.86267
B38: =1000*((Fig2A!C12-(1.75*Fig2A!C25)/15*1*(0.129*20))) -> 71.211 | C38: =1000*((Fig2A!F12-(1.75*Fig2A!F25)/15*1*(0.129*20))) -> 205.512 | D38: =1000*((Fig2A!I12-(1.75*Fig2A!I25)/15*1*(0.125*20))) -> 120.04167 | F38: =1000*((Fig2A!C12-(1.75*Fig2A!C25)/15*1*(0.129*20))) -> 71.211 | G38: =1000*((Fig2A!I13-(1.75*Fig2A!I26)/15*1*(0.129*20))) -> 705.405 | H38: =1000*((Fig2A!L13-(1.75*Fig2A!L26)/15*1*(0.125*20))) -> 216.04167 | P38: =1000*((Fig2A!Q8-(1.75*Fig2A!Q21)/15*1*(0.1*20))) -> 81.7 | Q38: =1000*((Fig2A!T8-(1.75*Fig2A!T21)/15*1*(0.1*20))) -> 163.46667 | R38: =1000*((Fig2A!W8-(1.75*Fig2A!W21)/15*1*(0.04*20))) -> 98.88 | T38: =1000*((Fig2A!Q8-(1.75*Fig2A!Q21)/15*1*(0.1*20))) -> 81.7 | U38: =1000*((Fig2A!Z9-(1.75*Fig2A!Z22)/15*1*(0.07*20))) -> 216.46333 | V38: =1000*((Fig2A!Q10-(1.75*Fig2A!Q22)/15*1*(0.03*20))) -> 95.7 | AD38: =1000*((Fig2A!AE13-(1.75*Fig2A!AE26)/15*1*(0.109*20))) -> 81.364333 | AE38: =1000*((Fig2A!AH13-(1.75*Fig2A!AH26)/15*1*(0.109*20))) -> 129.584 | AF38: =1000*((Fig2A!AK13-(1.75*Fig2A!AK26)/15*1*(0.062*20))) -> 128.414 | AH38: =1000*((Fig2A!AE13-(1.75*Fig2A!AE26)/15*1*(0.109*20))) -> 81.364333 | AI38: =1000*((Fig2A!AH14-(1.75*Fig2A!AH27)/15*1*(0.11*20))) -> 480.64333 | AJ38: =1000*((Fig2A!AK14-(1.75*Fig2A!AK27)/15*1*(0.044*20))) -> 117.17067
B39: =1000*((Fig2A!D12-(1.75*Fig2A!D25)/15*1*(0.129*20))) -> 69.512 | C39: =1000*((Fig2A!G12-(1.75*Fig2A!G25)/15*1*(0.129*20))) -> 204.114 | D39: =1000*((Fig2A!J12-(1.75*Fig2A!J25)/15*1*(0.125*20))) -> 118.625 | F39: =1000*((Fig2A!D12-(1.75*Fig2A!D25)/15*1*(0.129*20))) -> 69.512 | G39: =1000*((Fig2A!J13-(1.75*Fig2A!J26)/15*1*(0.129*20))) -> 690.91 | H39: =1000*((Fig2A!M13-(1.75*Fig2A!M26)/15*1*(0.125*20))) -> 211.625 | P39: =1000*((Fig2A!R8-(1.75*Fig2A!R21)/15*1*(0.1*20))) -> 82.233333 | Q39: =1000*((Fig2A!U8-(1.75*Fig2A!U21)/15*1*(0.1*20))) -> 166.23333 | R39: =1000*((Fig2A!X8-(1.75*Fig2A!X21)/15*1*(0.04*20))) -> 98.88 | T39: =1000*((Fig2A!R8-(1.75*Fig2A!R21)/15*1*(0.1*20))) -> 82.233333 | U39: =1000*((Fig2A!AA9-(1.75*Fig2A!AA22)/15*1*(0.07*20))) -> 214.62667 | V39: =1000*((Fig2A!R10-(1.75*Fig2A!R23)/15*1*(0.03*20))) -> 95.84 | AD39: =1000*((Fig2A!AF13-(1.75*Fig2A!AF26)/15*1*(0.109*20))) -> 81.364333 | AE39: =1000*((Fig2A!AI13-(1.75*Fig2A!AI26)/15*1*(0.109*20))) -> 120.61867 | AF39: =1000*((Fig2A!AL13-(1.75*Fig2A!AL26)/15*1*(0.062*20))) -> 129.12467 | AH39: =1000*((Fig2A!AF13-(1.75*Fig2A!AF26)/15*1*(0.109*20))) -> 81.364333 | AI39: =1000*((Fig2A!AI14-(1.75*Fig2A!AI27)/15*1*(0.11*20))) -> 474.87333 | AJ39: =1000*((Fig2A!AL14-(1.75*Fig2A!AL27)/15*1*(0.044*20))) -> 124.24667
A40: Mittelwert | B40: =AVERAGE(B37:B39) -> 70.644667 | C40: =AVERAGE(C37:C39) -> 204.046 | D40: =AVERAGE(D37:D39) -> 118.19444 | F40: =AVERAGE(F37:F39) -> 70.644667 | G40: =AVERAGE(G37:G39) -> 689.74167 | H40: =AVERAGE(H37:H39) -> 211 | O40: Mittelwert | P40: =AVERAGE(P37:P39) -> 81.622222 | Q40: =AVERAGE(Q37:Q39) -> 163.58889 | R40: =AVERAGE(R37:R39) -> 98.848889 | T40: =AVERAGE(T37:T39) -> 81.622222 | U40: =AVERAGE(U37:U39) -> 213.51778 | V40: =AVERAGE(V37:V39) -> 95.816667 | AC40: Mittelwert | AD40: =AVERAGE(AD37:AD39) -> 81.115778 | AE40: =AVERAGE(AE37:AE39) -> 122.85567 | AF40: =AVERAGE(AF37:AF39) -> 128.26933 | AH40: =AVERAGE(AH37:AH39) -> 81.115778 | AI40: =AVERAGE(AI37:AI39) -> 469.37778 | AJ40: =AVERAGE(AJ37:AJ39) -> 119.09333
A41: Ratio Mut/WT | B41: =B40/C40 -> 0.34621932 | C41: =C40/C40 -> 1 | D41: =D40/C40 -> 0.57925392 | F41: =F40/G40 -> 0.10242192 | G41: =G40/G40 -> 1 | H41: =H40/G40 -> 0.30591163 | O41: Ratio Mut/WT | P41: =P40/Q40 -> 0.49894723 | Q41: =Q40/Q40 -> 1 | R41: =R40/Q40 -> 0.60425185 | T41: =T40/U40 -> 0.38227366 | U41: =U40/U40 -> 1 | V41: =V40/U40 -> 0.44875264 | AC41: Ratio Mut/WT | AD41: =AD40/AE40 -> 0.66025264 | AE41: =AE40/AE40 -> 1 | AF41: =AF40/AE40 -> 1.0440653 | AH41: =AH40/AI40 -> 0.17281555 | AI41: =AI40/AI40 -> 1 | AJ41: =AJ40/AI40 -> 0.25372597
A42: Ratio lacZ/cntrl | B42: =B40/B40 -> 1 | C42: =C40/B40 -> 2.8883426 | D42: =D40/B40 -> 1.6730838 | F42: =F40/F40 -> 1 | G42: =G40/F40 -> 9.7635349 | H42: =H40/F40 -> 2.9867789 | O42: Ratio lacZ/cntrl | P42: =P40/P40 -> 1 | Q42: =Q40/P40 -> 2.00422 | R42: =R40/P40 -> 1.2110536 | T42: =T40/T40 -> 1 | U42: =U40/T40 -> 2.615927 | V42: =V40/T40 -> 1.1739042 | AC42: Ratio lacZ/cntrl | AD42: =AD40/AD40 -> 1 | AE42: =AE40/AD40 -> 1.5145718 | AF42: =AF40/AD40 -> 1.5813118 | AH42: =AH40/AH40 -> 1 | AI42: =AI40/AH40 -> 5.7865164 | AJ42: =AJ40/AH40 -> 1.4681895
A43: cntrl - lacZ | B43: =B40-B40 -> 0 | C43: =C40-B40 -> 133.40133 | D43: =D40-B40 -> 47.549778 | F43: =F40-F40 -> 0 | G43: =G40-F40 -> 619.097 | H43: =H40-F40 -> 140.35533 | O43: cntrl - lacZ | P43: =P40-P40 -> 0 | Q43: =Q40-P40 -> 81.966667 | R43: =R40-P40 -> 17.226667 | T43: =T40-T40 -> 0 | U43: =U40-T40 -> 131.89556 | V43: =V40-T40 -> 14.194444 | AC43: cntrl - lacZ | AD43: =AD40-AD40 -> 0 | AE43: =AE40-AD40 -> 41.739889 | AF43: =AF40-AD40 -> 47.153556 | AH43: =AH40-AH40 -> 0 | AI43: =AI40-AH40 -> 388.262 | AJ43: =AJ40-AH40 -> 37.977556
A44: Ratio lepA/WT | C44: =C43/C43 -> 1 | D44: =D43/C43 -> 0.35644155 | G44: =G43/G43 -> 1 | H44: =H43/G43 -> 0.22670976 | O44: Ratio lepA/WT | Q44: =Q43/Q43 -> 1 | R44: =R43/Q43 -> 0.21016673 | U44: =U43/U43 -> 1 | V44: =V43/U43 -> 0.10761882 | AC44: Ratio lepA/WT | AE44: =AE43/AE43 -> 1 | AF44: =AF43/AE43 -> 1.1297001 | AI44: =AI43/AI43 -> 1 | AJ44: =AJ43/AI43 -> 0.097814248

Sheet Fig2B
A1: Stamm: | B1: 1) SB210
B2: 2) SB212
B3: 3) 8640
A7: (FitcA=150)
B8: 8640 | J8: SB210 | R8: SB212
A10: 45926 | B10: 1 | C10: 2 | D10: 3 | E10: 4 | F10: 5 | G10: 6 | J10: 1 | K10: 2 | L10: 3 | M10: 4 | N10: 5 | O10: 6 | R10: 1 | S10: 2 | T10: 3 | U10: 4 | V10: 5 | W10: 6
A11: Mean (FITC) | B11: 69.8 | C11: 74.4 | D11: 66.9 | E11: 70.3 | F11: 76.9 | G11: 70.1 | I11: Mean (FITC) | J11: 255 | K11: 596 | L11: 404 | M11: 412 | N11: 324 | O11: 1165 | Q11: Mean (FITC) | R11: 378 | S11: 172 | T11: 202 | U11: 157 | V11: 167 | W11: 521
I12: netto gfp | J12: =J11-B11 -> 185.2 | K12: =K11-C11 -> 521.6 | L12: =L11-D11 -> 337.1 | M12: =M11-E11 -> 341.7 | N12: =N11-F11 -> 247.1 | O12: =O11-G11 -> 1094.9 | Q12: netto gfp | R12: =R11-B11 -> 308.2 | S12: =S11-C11 -> 97.6 | T12: =T11-D11 -> 135.1 | U12: =U11-E11 -> 86.7 | V12: =V11-F11 -> 90.1 | W12: =W11-G11 -> 450.9
A16: 45940 | B16: 1 | C16: 2 | D16: 3 | E16: 4 | F16: 5 | G16: 6 | J16: 1 | K16: 2 | L16: 3 | M16: 4 | N16: 5 | O16: 6 | R16: 1 | S16: 2 | T16: 3 | U16: 4 | V16: 5 | W16: 6
A17: Mean (FITC) | B17: 122 | C17: 79.1 | D17: 94.4 | E17: 88.1 | F17: 71.1 | G17: 66.5 | I17: Mean (FITC) | J17: 234 | K17: 267 | L17: 316 | M17: 252 | N17: 161 | O17: 876 | Q17: Mean (FITC) | R17: 181 | S17: 123 | T17: 174 | U17: 202 | V17: 206 | W17: 402
I18: netto gfp | J18: =J17-B17 -> 112 | K18: =K17-C17 -> 187.9 | L18: =L17-D17 -> 221.6 | M18: =M17-E17 -> 163.9 | N18: =N17-F17 -> 89.9 | O18: =O17-G17 -> 809.5 | Q18: netto gfp | R18: =R17-B17 -> 59 | S18: =S17-C17 -> 43.9 | T18: =T17-D17 -> 79.6 | U18: =U17-E17 -> 113.9 | V18: =V17-F17 -> 134.9 | W18: =W17-G17 -> 335.5
A22: 45947 | B22: 1 | C22: 2 | D22: 3 | E22: 4 | F22: 5 | G22: 6 | J22: 1 | K22: 2 | L22: 3 | M22: 4 | N22: 5 | O22: 6 | R22: 1 | S22: 2 | T22: 3 | U22: 4 | V22: 5 | W22: 6
A23: Mean (FITC) | B23: 81.7 | C23: 77.4 | D23: 63.8 | E23: 66.1 | F23: 62.6 | G23: 65.3 | I23: Mean (FITC) | J23: 492 | K23: 443 | L23: 366 | M23: 448 | N23: 375 | O23: 1300 | Q23: Mean (FITC) | R23: 212 | S23: 182 | T23: 147 | U23: 178 | V23: 144 | W23: 380
I24: netto gfp | J24: =J23-B23 -> 410.3 | K24: =K23-C23 -> 365.6 | L24: =L23-D23 -> 302.2 | M24: =M23-E23 -> 381.9 | N24: =N23-F23 -> 312.4 | O24: =O23-G23 -> 1234.7 | Q24: netto gfp | R24: =R23-B23 -> 130.3 | S24: =S23-C23 -> 104.6 | T24: =T23-D23 -> 83.2 | U24: =U23-E23 -> 111.9 | V24: =V23-F23 -> 81.4 | W24: =W23-G23 -> 314.7

Sheet Fig2D
A1: Stamm: | B1: 1) 8640
B2: 2) SB6
A7: CT-Werte | G7: CT-Werte | M7: CT-Werte
A9: 8640 LB | B9: SB6 LB | D9: 8640 DMEM | E9: SB6 DMEM | G9: 8640 LB | H9: SB6 LB | J9: 8640 DMEM | K9: SB6 DMEM | M9: 8640 LB | N9: SB6 LB | P9: 8640 DMEM | Q9: SB6 DMEM
A11: siiE | B11: siiE | D11: siiE | E11: siiE | G11: siiE | H11: siiE | J11: siiE | K11: siiE | M11: siiE | N11: siiE | P11: siiE | Q11: siiE
A13: 20.213 | B13: 21.402 | D13: 19.639 | E13: 20.045 | G13: 19.567 | H13: 20.475 | J13: 19.48 | K13: 18.963 | M13: 21.67 | N13: 22.559 | P13: 19.123 | Q13: 20.556
A14: 20.261 | B14: 21.507 | D14: 19.779 | E14: 20.428 | G14: 19.309 | H14: 20.648 | J14: 19.926 | K14: 19.817 | M14: 21.734 | N14: 22.618 | P14: 19.562 | Q14: 20.971
A17: trpA | B17: trpA | D17: trpA | E17: trpA | G17: trpA | H17: trpA | J17: trpA | K17: trpA | M17: trpA | N17: trpA | P17: trpA | Q17: trpA
A19: 19.185 | B19: 19.975 | D19: 19.682 | E19: 18.936 | G19: 17.97 | H19: 20.07 | J19: 19.085 | K19: 18.224 | M19: 20.997 | N19: 21.122 | P19: 19.365 | Q19: 19.294
A20: 20.555 | B20: 20.867 | D20: 19.88 | E20: 18.969 | G20: 18.218 | H20: 20.153 | J20: 18.528 | K20: 19.31 | M20: 21.122 | N20: 21.211 | P20: 19.326 | Q20: 19.929
A23: CT (Durchschnitt) | G23: CT (Durchschnitt) | M23: CT (Durchschnitt)
A25: 8640 LB | B25: SB6 LB | D25: 8640 DMEM | E25: SB6 DMEM | G25: 8640 LB | H25: SB6 LB | J25: 8640 DMEM | K25: SB6 DMEM | M25: 8640 LB | N25: SB6 LB | P25: 8640 DMEM | Q25: SB6 DMEM
A27: siiE | B27: siiE | D27: siiE | E27: siiE | G27: siiE | H27: siiE | J27: siiE | K27: siiE | M27: siiE | N27: siiE | P27: siiE | Q27: siiE
A29: =AVERAGE(Fig2D!A13:A14) -> 20.237 | B29: =AVERAGE(Fig2D!B13:B14) -> 21.4545 | D29: =AVERAGE(Fig2D!D13:D14) -> 19.709 | E29: =AVERAGE(Fig2D!E13:E14) -> 20.2365 | G29: =AVERAGE(Fig2D!G13:G14) -> 19.438 | H29: =AVERAGE(Fig2D!H13:H14) -> 20.5615 | J29: =AVERAGE(Fig2D!J13:J14) -> 19.703 | K29: =AVERAGE(Fig2D!K13:K14) -> 19.39 | M29: =AVERAGE(Fig2D!M13:M14) -> 21.702 | N29: =AVERAGE(Fig2D!N13:N14) -> 22.5885 | P29: =AVERAGE(Fig2D!P13:P14) -> 19.3425 | Q29: =AVERAGE(Fig2D!Q13:Q14) -> 20.7635
A33: trpA | B33: trpA | D33: trpA | E33: trpA | G33: trpA | H33: trpA | J33: trpA | K33: trpA | M33: trpA | N33: trpA | P33: trpA | Q33: trpA
A35: =AVERAGE(Fig2D!A19:A20) -> 19.87 | B35: =AVERAGE(Fig2D!B19:B20) -> 20.421 | D35: =AVERAGE(Fig2D!D19:D20) -> 19.781 | E35: =AVERAGE(Fig2D!E19:E20) -> 18.9525 | G35: =AVERAGE(Fig2D!G19:G20) -> 18.094 | H35: =AVERAGE(Fig2D!H19:H20) -> 20.1115 | J35: =AVERAGE(Fig2D!J19:J20) -> 18.8065 | K35: =AVERAGE(Fig2D!K19:K20) -> 18.767 | M35: =AVERAGE(Fig2D!M19:M20) -> 21.0595 | N35: =AVERAGE(Fig2D!N19:N20) -> 21.1665 | P35: =AVERAGE(Fig2D!P19:P20) -> 19.3455 | Q35: =AVERAGE(Fig2D!Q19:Q20) -> 19.6115
A41: Norm. to trpA (ΔCT) -> Durchschnitt | G41: Norm. to trpA (ΔCT) -> Durchschnitt | M41: Norm. to trpA (ΔCT) -> Durchschnitt
A43: 8640 LB | B43: SB6 LB | D43: 8640 DMEM | E43: SB6 DMEM | G43: 8640 LB | H43: SB6 LB | J43: 8640 DMEM | K43: SB6 DMEM | M43: 8640 LB | N43: SB6 LB | P43: 8640 DMEM | Q43: SB6 DMEM
A45: siiE | B45: siiE | D45: siiE | E45: siiE | G45: siiE | H45: siiE | J45: siiE | K45: siiE | M45: siiE | N45: siiE | P45: siiE | Q45: siiE
A47: =A29-A35 -> 0.367 | B47: =B29-B35 -> 1.0335 | D47: =D29-D35 -> -0.072 | E47: =E29-E35 -> 1.284 | G47: =G29-G35 -> 1.344 | H47: =H29-H35 -> 0.45 | J47: =J29-J35 -> 0.8965 | K47: =K29-K35 -> 0.623 | M47: =M29-M35 -> 0.6425 | N47: =N29-N35 -> 1.422 | P47: =P29-P35 -> -0.003 | Q47: =Q29-Q35 -> 1.152
A53: ΔΔCt (Durchschnitt) | G53: ΔΔCt (Durchschnitt) | M53: ΔΔCt (Durchschnitt)
A55: 8640 LB | B55: SB6 LB | D55: 8640 DMEM | E55: SB6 DMEM | G55: 8640 LB | H55: SB6 LB | J55: 8640 DMEM | K55: SB6 DMEM | M55: 8640 LB | N55: SB6 LB | P55: 8640 DMEM | Q55: SB6 DMEM
A57: siiE | B57: siiE | D57: siiE | E57: siiE | G57: siiE | H57: siiE | J57: siiE | K57: siiE | M57: siiE | N57: siiE | P57: siiE | Q57: siiE
A59: =A47-A47 -> 0 | B59: =A47-B47 -> -0.6665 | D59: =A47-D47 -> 0.439 | E59: =A47-E47 -> -0.917 | G59: =G47-G47 -> 0 | H59: =G47-H47 -> 0.894 | J59: =G47-J47 -> 0.4475 | K59: =G47-K47 -> 0.721 | M59: =M47-M47 -> 0 | N59: =M47-N47 -> -0.7795 | P59: =M47-P47 -> 0.6455 | Q59: =M47-Q47 -> -0.5095
A63: 2^-ΔΔCt (Durchsnitt) | G63: 2^-ΔΔCt (Durchsnitt) | M63: 2^-ΔΔCt (Durchsnitt)
A65: 8640 LB | B65: SB6 LB | D65: 8640 DMEM | E65: SB6 DMEM | G65: 8640 LB | H65: SB6 LB | J65: 8640 DMEM | K65: SB6 DMEM | M65: 8640 LB | N65: SB6 LB | P65: 8640 DMEM | Q65: SB6 DMEM
A67: siiE | B67: siiE | D67: siiE | E67: siiE | G67: siiE | H67: siiE | J67: siiE | K67: siiE | M67: siiE | N67: siiE | P67: siiE | Q67: siiE
A69: =2^A59 -> 1 | B69: =2^B59 -> 0.63003331 | D69: =2^D59 -> 1.3556643 | E69: =2^E59 -> 0.52960917 | G69: =2^G59 -> 1 | H69: =2^H59 -> 1.8583213 | J69: =2^J59 -> 1.3636751 | K69: =2^K59 -> 1.6483242 | M69: =2^M59 -> 1 | N69: =2^N59 -> 0.58256866 | P69: =2^P59 -> 1.5642813 | Q69: =2^Q59 -> 0.70246585

Sheet Fig2E
A1: Stamm | B1: 1) 8640
B2: 2) SB6
B3: 3) 9436
A7: diameter of circle (mm)
B9: 8640 | F9: SB6 | J9: 9436
B10: 17 | C10: 17 | D10: 21 | F10: 14 | G10: 11 | H10: 12 | J10: 2 | K10: 1 | L10: 2

Sheet Fig3
A1: Stamm: | B1: 1) 8640 | D1: 0 = lebendig
B2: 2) SB6 | D2: 1 = tot
B3: 3) SB556
C7: 8640 | U7: SB6
C8: t (h) | F8: t (h) | I8: t (h) | L8: t (h) | O8: t (h) | R8: t (h) | U8: t (h) | X8: t (h) | AA8: t (h) | AD8: t (h) | AG8: t (h) | AJ8: t (h)
B9: 1. | C9: 0 | D9: 0 | F9: 2 | G9: 0 | I9: 4 | J9: 0 | L9: 6 | M9: 0 | O9: 24 | P9: 1 | R9: 48 | S9: 1 | U9: 0 | V9: 0 | X9: 2 | Y9: 0 | AA9: 4 | AB9: 0 | AD9: 6 | AE9: 0 | AG9: 24 | AH9: 1 | AJ9: 48 | AK9: 1
B10: 2. | C10: 0 | D10: 0 | F10: 2 | G10: 0 | I10: 4 | J10: 0 | L10: 6 | M10: 0 | O10: 24 | P10: 1 | R10: 48 | S10: 1 | U10: 0 | V10: 0 | X10: 2 | Y10: 0 | AA10: 4 | AB10: 0 | AD10: 6 | AE10: 0 | AG10: 24 | AH10: 1 | AJ10: 48 | AK10: 1
B11: 3. | C11: 0 | D11: 0 | F11: 2 | G11: 0 | I11: 4 | J11: 0 | L11: 6 | M11: 0 | O11: 24 | P11: 1 | R11: 48 | S11: 1 | U11: 0 | V11: 0 | X11: 2 | Y11: 0 | AA11: 4 | AB11: 0 | AD11: 6 | AE11: 0 | AG11: 24 | AH11: 1 | AJ11: 48 | AK11: 1
B12: 4. | C12: 0 | D12: 0 | F12: 2 | G12: 0 | I12: 4 | J12: 0 | L12: 6 | M12: 0 | O12: 24 | P12: 1 | R12: 48 | S12: 1 | U12: 0 | V12: 0 | X12: 2 | Y12: 0 | AA12: 4 | AB12: 0 | AD12: 6 | AE12: 0 | AG12: 24 | AH12: 0 | AJ12: 48 | AK12: 0
B13: 5. | C13: 0 | D13: 0 | F13: 2 | G13: 0 | I13: 4 | J13: 0 | L13: 6 | M13: 0 | O13: 24 | P13: 1 | R13: 48 | S13: 1 | U13: 0 | V13: 0 | X13: 2 | Y13: 0 | AA13: 4 | AB13: 0 | AD13: 6 | AE13: 0 | AG13: 24 | AH13: 0 | AJ13: 48 | AK13: 0
B14: 6. | C14: 0 | D14: 0 | F14: 2 | G14: 0 | I14: 4 | J14: 0 | L14: 6 | M14: 0 | O14: 24 | P14: 1 | R14: 48 | S14: 1 | U14: 0 | V14: 0 | X14: 2 | Y14: 0 | AA14: 4 | AB14: 0 | AD14: 6 | AE14: 0 | AG14: 24 | AH14: 0 | AJ14: 48 | AK14: 0
B15: 7. | C15: 0 | D15: 0 | F15: 2 | G15: 0 | I15: 4 | J15: 0 | L15: 6 | M15: 0 | O15: 24 | P15: 1 | R15: 48 | S15: 1 | U15: 0 | V15: 0 | X15: 2 | Y15: 0 | AA15: 4 | AB15: 0 | AD15: 6 | AE15: 0 | AG15: 24 | AH15: 0 | AJ15: 48 | AK15: 0
B16: 8. | C16: 0 | D16: 0 | F16: 2 | G16: 0 | I16: 4 | J16: 0 | L16: 6 | M16: 0 | O16: 24 | P16: 1 | R16: 48 | S16: 1 | U16: 0 | V16: 0 | X16: 2 | Y16: 0 | AA16: 4 | AB16: 0 | AD16: 6 | AE16: 0 | AG16: 24 | AH16: 0 | AJ16: 48 | AK16: 0
B17: 9. | C17: 0 | D17: 0 | F17: 2 | G17: 0 | I17: 4 | J17: 0 | L17: 6 | M17: 0 | O17: 24 | P17: 1 | R17: 48 | S17: 1 | U17: 0 | V17: 0 | X17: 2 | Y17: 0 | AA17: 4 | AB17: 0 | AD17: 6 | AE17: 0 | AG17: 24 | AH17: 0 | AJ17: 48 | AK17: 0
B18: 10. | C18: 0 | D18: 0 | F18: 2 | G18: 0 | I18: 4 | J18: 0 | L18: 6 | M18: 0 | O18: 24 | P18: 1 | R18: 48 | S18: 1 | U18: 0 | V18: 0 | X18: 2 | Y18: 0 | AA18: 4 | AB18: 0 | AD18: 6 | AE18: 0 | AG18: 24 | AH18: 0 | AJ18: 48 | AK18: 0
B19: 11. | C19: 0 | D19: 0 | F19: 2 | G19: 0 | I19: 4 | J19: 0 | L19: 6 | M19: 0 | O19: 24 | P19: 1 | R19: 48 | S19: 1 | U19: 0 | V19: 0 | X19: 2 | Y19: 0 | AA19: 4 | AB19: 0 | AD19: 6 | AE19: 0 | AG19: 24 | AH19: 0 | AJ19: 48 | AK19: 0
B20: 12. | C20: 0 | D20: 0 | F20: 2 | G20: 0 | I20: 4 | J20: 0 | L20: 6 | M20: 0 | O20: 24 | P20: 1 | R20: 48 | S20: 1 | U20: 0 | V20: 0 | X20: 2 | Y20: 0 | AA20: 4 | AB20: 0 | AD20: 6 | AE20: 0 | AG20: 24 | AH20: 0 | AJ20: 48 | AK20: 0
... B23: 15. | C23: 0 | D23: 0 | F23: 2 | G23: 0 | I23: 4 | J23: 0 | L23: 6 | M23: 0 | O23: 24 | P23: 0 | R23: 48 | S23: 0 | U23: 0 | V23: 0 | X23: 2 | Y23: 0 | AA23: 4 | AB23: 0 | AD23: 6 | AE23: 0 | AG23: 24 | AH23: 0 | AJ23: 48 | AK23: 0
C28: lepA+ | U28: PBS (cntrl)
C29: t (h) | F29: t (h) | I29: t (h) | L29: t (h) | O29: t (h) | R29: t (h) | U29: t (h) | X29: t (h) | AA29: t (h) | AD29: t (h) | AG29: t (h) | AJ29: t (h)
B30: 1. | C30: 0 | D30: 0 | F30: 2 | G30: 0 | I30: 4 | J30: 0 | L30: 6 | M30: 0 | O30: 24 | P30: 1 | R30: 48 | S30: 1 | U30: 0 | V30: 0 | X30: 2 | Y30: 0 | AA30: 4 | AB30: 0 | AD30: 6 | AE30: 0 | AG30: 24 | AH30: 0 | AJ30: 48 | AK30: 0
B31: 2. | C31: 0 | D31: 0 | F31: 2 | G31: 0 | I31: 4 | J31: 0 | L31: 6 | M31: 0 | O31: 24 | P31: 1 | R31: 48 | S31: 1 | U31: 0 | V31: 0 | X31: 2 | Y31: 0 | AA31: 4 | AB31: 0 | AD31: 6 | AE31: 0 | AG31: 24 | AH31: 0 | AJ31: 48 | AK31: 0
B32: 3. | C32: 0 | D32: 0 | F32: 2 | G32: 0 | I32: 4 | J32: 0 | L32: 6 | M32: 0 | O32: 24 | P32: 1 | R32: 48 | S32: 1 | U32: 0 | V32: 0 | X32: 2 | Y32: 0 | AA32: 4 | AB32: 0 | AD32: 6 | AE32: 0 | AG32: 24 | AH32: 0 | AJ32: 48 | AK32: 0
B33: 4. | C33: 0 | D33: 0 | F33: 2 | G33: 0 | I33: 4 | J33: 0 | L33: 6 | M33: 0 | O33: 24 | P33: 1 | R33: 48 | S33: 1 | U33: 0 | V33: 0 | X33: 2 | Y33: 0 | AA33: 4 | AB33: 0 | AD33: 6 | AE33: 0 | AG33: 24 | AH33: 0 | AJ33: 48 | AK33: 0
B34: 5. | C34: 0 | D34: 0 | F34: 2 | G34: 0 | I34: 4 | J34: 0 | L34: 6 | M34: 0 | O34: 24 | P34: 1 | R34: 48 | S34: 1 | U34: 0 | V34: 0 | X34: 2 | Y34: 0 | AA34: 4 | AB34: 0 | AD34: 6 | AE34: 0 | AG34: 24 | AH34: 0 | AJ34: 48 | AK34: 0
B35: 6. | C35: 0 | D35: 0 | F35: 2 | G35: 0 | I35: 4 | J35: 0 | L35: 6 | M35: 0 | O35: 24 | P35: 1 | R35: 48 | S35: 1 | U35: 0 | V35: 0 | X35: 2 | Y35: 0 | AA35: 4 | AB35: 0 | AD35: 6 | AE35: 0 | AG35: 24 | AH35: 0 | AJ35: 48 | AK35: 0
B36: 7. | C36: 0 | D36: 0 | F36: 2 | G36: 0 | I36: 4 | J36: 0 | L36: 6 | M36: 0 | O36: 24 | P36: 1 | R36: 48 | S36: 1 | U36: 0 | V36: 0 | X36: 2 | Y36: 0 | AA36: 4 | AB36: 0 | AD36: 6 | AE36: 0 | AG36: 24 | AH36: 0 | AJ36: 48 | AK36: 0
B37: 8. | C37: 0 | D37: 0 | F37: 2 | G37: 0 | I37: 4 | J37: 0 | L37: 6 | M37: 0 | O37: 24 | P37: 1 | R37: 48 | S37: 1 | U37: 0 | V37: 0 | X37: 2 | Y37: 0 | AA37: 4 | AB37: 0 | AD37: 6 | AE37: 0 | AG37: 24 | AH37: 0 | AJ37: 48 | AK37: 0
B38: 9. | C38: 0 | D38: 0 | F38: 2 | G38: 0 | I38: 4 | J38: 0 | L38: 6 | M38: 0 | O38: 24 | P38: 1 | R38: 48 | S38: 1 | U38: 0 | V38: 0 | X38: 2 | Y38: 0 | AA38: 4 | AB38: 0 | AD38: 6 | AE38: 0 | AG38: 24 | AH38: 0 | AJ38: 48 | AK38: 0
B39: 10. | C39: 0 | D39: 0 | F39: 2 | G39: 0 | I39: 4 | J39: 0 | L39: 6 | M39: 0 | O39: 24 | P39: 1 | R39: 48 | S39: 1 | U39: 0 | V39: 0 | X39: 2 | Y39: 0 | AA39: 4 | AB39: 0 | AD39: 6 | AE39: 0 | AG39: 24 | AH39: 0 | AJ39: 48 | AK39: 0
B40: 11. | C40: 0 | D40: 0 | F40: 2 | G40: 0 | I40: 4 | J40: 0 | L40: 6 | M40: 0 | O40: 24 | P40: 1 | R40: 48 | S40: 1 | U40: 0 | V40: 0 | X40: 2 | Y40: 0 | AA40: 4 | AB40: 0 | AD40: 6 | AE40: 0 | AG40: 24 | AH40: 0 | AJ40: 48 | AK40: 0
B41: 12. | C41: 0 | D41: 0 | F41: 2 | G41: 0 | I41: 4 | J41: 0 | L41: 6 | M41: 0 | O41: 24 | P41: 0 | R41: 48 | S41: 0 | U41: 0 | V41: 0 | X41: 2 | Y41: 0 | AA41: 4 | AB41: 0 | AD41: 6 | AE41: 0 | AG41: 24 | AH41: 0 | AJ41: 48 | AK41: 0
... B44: 15. | C44: 0 | D44: 0 | F44: 2 | G44: 0 | I44: 4 | J44: 0 | L44: 6 | M44: 0 | O44: 24 | P44: 0 | R44: 48 | S44: 0 | U44: 0 | V44: 0 | X44: 2 | Y44: 0 | AA44: 4 | AB44: 0 | AD44: 6 | AE44: 0 | AG44: 24 | AH44: 0 | AJ44: 48 | AK44: 0
B49: CFU
B51: 8640 | C51: SB6 | D51: SB556
B52: 103->10µl
B53: 11 | C53: 10 | D53: 21
B54: 10 | C54: 16 | D54: 22
B55: 20 | C55: 13 | D55: 24
A56: Mittelwert | B56: =AVERAGE(B53:B55) -> 13.666667 | C56: =AVERAGE(C53:C55) -> 13 | D56: =AVERAGE(D53:D55) -> 22.333333
...
