Workbook

Sheet Fig1A
A1: Stamm: | B1: 1) 8640
B2: 2) SB6
A7: vor der Infektion | G7: vor der Infektion | M7: vor der Infektion | S7: vor der Infektion
B9: 8640 (1) | C9: 8640 (2) | D9: lepA (1) | E9: lepA (2) | H9: 8640 (1) | I9: 8640 (2) | J9: lepA (1) | K9: lepA (2) | N9: 8640 (1) | O9: 8640 (2) | P9: lepA (1) | Q9: lepA (2) | T9: 8640 (1) | U9: 8640 (2) | V9: lepA (1) | W9: lepA (2)
A10: t0 | B10: 102->10µl | G10: t0 | H10: 103->10µl | M10: t0 | N10: 103->10µl | S10: t0 | T10: 103->10µl
B11: 187 | C11: x | D11: 164 | E11: x | H11: 43 | I11: x | J11: 34 | K11: x | N11: 123 | O11: x | P11: 133 | Q11: x | T11: 25 | U11: x | V11: 17 | W11: x
B12: 180 | C12: x | D12: 156 | E12: x | H12: 33 | I12: x | J12: 34 | K12: x | N12: 130 | O12: x | P12: 146 | Q12: x | T12: 24 | U12: x | V12: 17 | W12: x
B13: 202 | C13: x | D13: 177 | E13: x | H13: 56 | I13: x | J13: 46 | K13: x | N13: 134 | O13: x | P13: 132 | Q13: x | T13: 29 | U13: x | V13: 16 | W13: x
A14: Mittelwert | B14: =AVERAGE(B11:B13) -> 189.66667 | C14: =AVERAGE(C11:C13) -> #DIV/0! | D14: =AVERAGE(D11:D13) -> 165.66667 | E14: =AVERAGE(E11:E13) -> #DIV/0! | G14: Mittelwert | H14: =AVERAGE(H11:H13) -> 44 | I14: =AVERAGE(I11:I13) -> #DIV/0! | J14: =AVERAGE(J11:J13) -> 38 | K14: =AVERAGE(K11:K13) -> #DIV/0! | M14: Mittelwert | N14: =AVERAGE(N11:N13) -> 129 | O14: =AVERAGE(O11:O13) -> #DIV/0! | P14: =AVERAGE(P11:P13) -> 137 | Q14: =AVERAGE(Q11:Q13) -> #DIV/0! | S14: Mittelwert | T14: =AVERAGE(T11:T13) -> 26 | U14: =AVERAGE(U11:U13) -> #DIV/0! | V14: =AVERAGE(V11:V13) -> 16.666667 | W14: =AVERAGE(W11:W13) -> #DIV/0!
A15: Standardab. | B15: =STDEVA(B11:B13) -> 11.23981 | C15: =STDEVA(C11:C13) -> 0 | D15: =STDEVA(D11:D13) -> 10.598742 | E15: =STDEVA(E11:E13) -> 0 | G15: Standardab. | H15: =STDEVA(H11:H13) -> 11.532563 | I15: =STDEVA(I11:I13) -> 0 | J15: =STDEVA(J11:J13) -> 6.9282032 | K15: =STDEVA(K11:K13) -> 0 | M15: Standardab. | N15: =STDEVA(N11:N13) -> 5.5677644 | O15: =STDEVA(O11:O13) -> 0 | P15: =STDEVA(P11:P13) -> 7.8102497 | Q15: =STDEVA(Q11:Q13) -> 0 | S15: Standardab. | T15: =STDEVA(T11:T13) -> 2.6457513 | U15: =STDEVA(U11:U13) -> 0 | V15: =STDEVA(V11:V13) -> 0.57735027 | W15: =STDEVA(W11:W13) -> 0
A16: CFU/ml | B16: 1896600 | D16: 1656600 | G16: CFU/ml | H16: 4400000 | J16: 3800000 | M16: CFU/ml | N16: 12900000 | P16: 13700000 | S16: CFU/ml | T16: 2600000 | V16: 1666000
A19: nach der Infektion | G19: nach der Infektion | M19: nach der Infektion | S19: nach der Infektion
B21: 8640 (1) | C21: 8640 (2) | D21: lepA (1) | E21: lepA (2) | H21: 8640 (1) | I21: 8640 (2) | J21: lepA (1) | K21: lepA (2) | N21: 8640 (1) | O21: 8640 (2) | P21: lepA (1) | Q21: lepA (2) | T21: 8640 (1) | U21: 8640 (2) | V21: lepA (1) | W21: lepA (2)
A22: t0 | B22: 101->10µl | G22: t0 | H22: 101->10µl | J22: unverd.->10µl | M22: t0 | N22: 101->10µl | P22: unverd.->10µl | S22: t0 | T22: 101->10µl
B23: 70 | C23: 70 | D23: 143 | E23: 126 | H23: 145 | I23: 163 | J23: 211 | K23: 200 | N23: 147 | O23: 129 | P23: 180 | Q23: 163 | T23: 64 | U23: 45 | V23: 99 | W23: 78
B24: 71 | C24: 71 | D24: 136 | E24: 114 | H24: 140 | I24: 173 | J24: 220 | K24: 209 | N24: 143 | O24: 146 | P24: 184 | Q24: 154 | T24: 50 | U24: 53 | V24: 92 | W24: 71
B25: 84 | C25: 84 | D25: 143 | E25: 139 | H25: 151 | I25: 156 | J25: 215 | K25: 211 | N25: 143 | O25: 161 | P25: 182 | Q25: 185 | T25: 56 | U25: 53 | V25: 93 | W25: 80
A26: Mittelwert | B26: =AVERAGE(B23:B25) -> 75 | C26: =AVERAGE(C23:C25) -> 75 | D26: =AVERAGE(D23:D25) -> 140.66667 | E26: =AVERAGE(E23:E25) -> 126.33333 | G26: Mittelwert | H26: =AVERAGE(H23:H25) -> 145.33333 | I26: =AVERAGE(I23:I25) -> 164 | J26: =AVERAGE(J23:J25) -> 215.33333 | K26: =AVERAGE(K23:K25) -> 206.66667 | M26: Mittelwert | N26: =AVERAGE(N23:N25) -> 144.33333 | O26: =AVERAGE(O23:O25) -> 145.33333 | P26: =AVERAGE(P23:P25) -> 182 | Q26: =AVERAGE(Q23:Q25) -> 167.33333 | S26: Mittelwert | T26: =AVERAGE(T23:T25) -> 56.666667 | U26: =AVERAGE(U23:U25) -> 50.333333 | V26: =AVERAGE(V23:V25) -> 94.666667 | W26: =AVERAGE(W23:W25) -> 76.333333
A27: Standardab. | B27: =STDEVA(B23:B25) -> 7.8102497 | C27: =STDEVA(C23:C25) -> 7.8102497 | D27: =STDEVA(D23:D25) -> 4.0414519 | E27: =STDEVA(E23:E25) -> 12.503333 | G27: Standardab. | H27: =STDEVA(H23:H25) -> 5.5075705 | I27: =STDEVA(I23:I25) -> 8.5440037 | J27: =STDEVA(J23:J25) -> 4.5092498 | K27: =STDEVA(K23:K25) -> 5.8594653 | M27: Standardab. | N27: =STDEVA(N23:N25) -> 2.3094011 | O27: =STDEVA(O23:O25) -> 16.010413 | P27: =STDEVA(P23:P25) -> 2 | Q27: =STDEVA(Q23:Q25) -> 15.947832 | S27: Standardab. | T27: =STDEVA(T23:T25) -> 7.0237692 | U27: =STDEVA(U23:U25) -> 4.6188022 | V27: =STDEVA(V23:V25) -> 3.7859389 | W27: =STDEVA(W23:W25) -> 4.7258156
A28: CFU/ml | B28: 75000 | C28: 75000 | D28: 14066 | E28: 12633 | G28: CFU/ml | H28: 145330 | I28: 164000 | J28: 21533 | K28: 20666 | M28: CFU/ml | N28: 144330 | O28: 145330 | P28: 18200 | Q28: 16733 | S28: CFU/ml | T28: 56660 | U28: 50330 | V28: 9466 | W28: 7633
B31: 8640 (1) | C31: 8640 (2) | D31: lepA (1) | E31: lepA (2) | H31: 8640 (1) | I31: 8640 (2) | J31: lepA (1) | K31: lepA (2) | N31: 8640 (1) | O31: 8640 (2) | P31: lepA (1) | Q31: lepA (2) | T31: 8640 (1) | U31: 8640 (2) | V31: lepA (1) | W31: lepA (2)
A32: t2 | B32: 101->10µl | D32: unverd.->10µl | G32: t2 | H32: 102->10µl | J32: 101->10µl | M32: t2 | N32: 102->10µl | S32: t2 | T32: 101->10µl | V32: unverd.->10µl
B33: 122 | C33: 127 | D33: 98 | E33: 62 | H33: 31 | I33: 41 | J33: 23 | K33: 27 | N33: 50 | O33: 46 | P33: 18 | Q33: 22 | T33: 72 | U33: 69 | V33: 38 | W33: 36
B34: 100 | C34: 110 | D34: 83 | E34: 70 | H34: 25 | I34: 37 | J34: 23 | K34: 27 | N34: 36 | O34: 40 | P34: 18 | Q34: 16 | T34: 85 | U34: 98 | V34: 25 | W34: 25
B35: 100 | C35: 128 | D35: 88 | E35: 79 | H35: 28 | I35: 37 | J35: 27 | K35: 22 | N35: 38 | O35: 39 | P35: 20 | Q35: 24 | T35: 71 | U35: 85 | V35: 25 | W35: 28
A36: Mittelwert | B36: =AVERAGE(B33:B35) -> 107.33333 | C36: =AVERAGE(C33:C35) -> 121.66667 | D36: =AVERAGE(D33:D35) -> 89.666667 | E36: =AVERAGE(E33:E35) -> 70.333333 | G36: Mittelwert | H36: =AVERAGE(H33:H35) -> 28 | I36: =AVERAGE(I33:I35) -> 38.333333 | J36: =AVERAGE(J33:J35) -> 24.333333 | K36: =AVERAGE(K33:K35) -> 25.333333 | M36: Mittelwert | N36: =AVERAGE(N33:N35) -> 41.333333 | O36: =AVERAGE(O33:O35) -> 41.666667 | P36: =AVERAGE(P33:P35) -> 18.666667 | Q36: =AVERAGE(Q33:Q35) -> 20.666667 | S36: Mittelwert | T36: =AVERAGE(T33:T35) -> 76 | U36: =AVERAGE(U33:U35) -> 84 | V36: =AVERAGE(V33:V35) -> 29.333333 | W36: =AVERAGE(W33:W35) -> 29.666667
A37: Standardab. | B37: =STDEVA(B33:B35) -> 12.701706 | C37: =STDEVA(C33:C35) -> 10.115994 | D37: =STDEVA(D33:D35) -> 7.6376262 | E37: =STDEVA(E33:E35) -> 8.5049005 | G37: Standardab. | H37: =STDEVA(H33:H35) -> 3 | I37: =STDEVA(I33:I35) -> 2.3094011 | J37: =STDEVA(J33:J35) -> 2.3094011 | K37: =STDEVA(K33:K35) -> 2.8867513 | M37: Standardab. | N37: =STDEVA(N33:N35) -> 7.5718778 | O37: =STDEVA(O33:O35) -> 3.7859389 | P37: =STDEVA(P33:P35) -> 1.1547005 | Q37: =STDEVA(Q33:Q35) -> 4.163332 | S37: Standardab. | T37: =STDEVA(T33:T35) -> 7.8102497 | U37: =STDEVA(U33:U35) -> 14.525839 | V37: =STDEVA(V33:V35) -> 7.5055535 | W37: =STDEVA(W33:W35) -> 5.6862407
A38: CFU/ml | B38: 107330 | C38: 121660 | D38: 8966 | E38: 7033 | G38: CFU/ml | H38: 280000 | I38: 383300 | J38: 24330 | K38: 25330 | M38: CFU/ml | N38: 413300 | O38: 416600 | P38: 18660 | Q38: 20660 | S38: CFU/ml | T38: 76000 | U38: 84000 | V38: 2933 | W38: 2966
B41: 8640 (1) | C41: 8640 (2) | D41: lepA (1) | E41: lepA (2) | H41: 8640 (1) | I41: 8640 (2) | J41: lepA (1) | K41: lepA (2) | N41: 8640 (1) | O41: 8640 (2) | P41: lepA (1) | Q41: lepA (2) | T41: 8640 (1) | U41: 8640 (2) | V41: lepA (1) | W41: lepA (2)
A42: t4 | B42: 102->10µl | D42: unverd.->10µl | G42: t4 | H42: 102->10µl | J42: 101->10µl | M42: t4 | N42: 102->10µl | P42: 101->10µl | S42: t4 | T42: 102->10µl | V42: unverd.->10µl
B43: 14 | C43: 24 | D43: 163 | E43: 113 | H43: 28 | I43: 42 | J43: 48 | K43: 46 | N43: 45 | O43: 57 | P43: 35 | Q43: 42 | T43: 20 | U43: 11 | V43: 100 | W43: 85
B44: 15 | C44: 24 | D44: 130 | E44: 140 | H44: 34 | I44: 45 | J44: 48 | K44: 42 | N44: 56 | O44: 53 | P44: 43 | Q44: 26 | T44: 14 | U44: 12 | V44: 100 | W44: 65
B45: 24 | C45: 21 | D45: 143 | E45: 149 | H45: 43 | I45: 39 | J45: 46 | K45: 40 | N45: 46 | O45: 45 | P45: 29 | Q45: 30 | T45: 19 | U45: 14 | V45: 70 | W45: 70
A46: Mittelwert | B46: =AVERAGE(B43:B45) -> 17.666667 | C46: =AVERAGE(C43:C45) -> 23 | D46: =AVERAGE(D43:D45) -> 145.33333 | E46: =AVERAGE(E43:E45) -> 134 | G46: Mittelwert | H46: =AVERAGE(H43:H45) -> 35 | I46: =AVERAGE(I43:I45) -> 42 | J46: =AVERAGE(J43:J45) -> 47.333333 | K46: =AVERAGE(K43:K45) -> 42.666667 | M46: Mittelwert | N46: =AVERAGE(N43:N45) -> 49 | O46: =AVERAGE(O43:O45) -> 51.666667 | P46: =AVERAGE(P43:P45) -> 35.666667 | Q46: =AVERAGE(Q43:Q45) -> 32.666667 | S46: Mittelwert | T46: =AVERAGE(T43:T45) -> 17.666667 | U46: =AVERAGE(U43:U45) -> 12.333333 | V46: =AVERAGE(V43:V45) -> 90 | W46: =AVERAGE(W43:W45) -> 73.333333
A47: Standardab. | B47: =STDEVA(B43:B45) -> 5.5075705 | C47: =STDEVA(C43:C45) -> 1.7320508 | D47: =STDEVA(D43:D45) -> 16.623277 | E47: =STDEVA(E43:E45) -> 18.734994 | G47: Standardab. | H47: =STDEVA(H43:H45) -> 7.5498344 | I47: =STDEVA(I43:I45) -> 3 | J47: =STDEVA(J43:J45) -> 1.1547005 | K47: =STDEVA(K43:K45) -> 3.0550505 | M47: Standardab. | N47: =STDEVA(N43:N45) -> 6.0827625 | O47: =STDEVA(O43:O45) -> 6.1101009 | P47: =STDEVA(P43:P45) -> 7.0237692 | Q47: =STDEVA(Q43:Q45) -> 8.326664 | S47: Standardab. | T47: =STDEVA(T43:T45) -> 3.2145503 | U47: =STDEVA(U43:U45) -> 1.5275252 | V47: =STDEVA(V43:V45) -> 17.320508 | W47: =STDEVA(W43:W45) -> 10.40833
A48: CFU/ml | B48: 176600 | C48: 230000 | D48: 14533 | E48: 13400 | G48: CFU/ml | H48: 350000 | I48: 420000 | J48: 47330 | K48: 42660 | M48: CFU/ml | N48: 490000 | O48: 516600 | P48: 35660 | Q48: 32660 | S48: CFU/ml | T48: 176600 | U48: 123300 | V48: 9000 | W48: 7333
B51: 8640 (1) | C51: 8640 (2) | D51: lepA (1) | E51: lepA (2) | H51: 8640 (1) | I51: 8640 (2) | J51: lepA (1) | K51: lepA (2) | N51: 8640 (1) | O51: 8640 (2) | P51: lepA (1) | Q51: lepA (2) | T51: 8640 (1) | U51: 8640 (2) | V51: lepA (1) | W51: lepA (2)
A52: t6 | B52: 102->10µl | G52: t6 | H52: 102->10µl | M52: t6 | N52: 102->10µl | P52: 101->10µl | S52: t6 | T52: 102->10µl | V52: unverd.->10µl
B53: 31 | C53: 45 | D53: 49 | E53: 31 | H53: 22 | I53: 54 | J53: 56 | K53: 40 | N53: 66 | O53: 49 | P53: 67 | Q53: 58 | T53: 15 | U53: 30 | V53: 66 | W53: 51
B54: 35 | C54: 51 | D54: 43 | E54: 43 | H54: 18 | I54: 34 | J54: 47 | K54: 46 | N54: 50 | O54: 49 | P54: 47 | Q54: 68 | T54: 17 | U54: 23 | V54: 51 | W54: 42
B55: 24 | C55: 33 | D55: 42 | E55: 20 | H55: 32 | I55: 30 | J55: 54 | K55: 52 | N55: 46 | O55: 69 | P55: 57 | Q55: 67 | T55: 21 | U55: 24 | V55: 57 | W55: 45
A56: Mittelwert | B56: =AVERAGE(B53:B55) -> 30 | C56: =AVERAGE(C53:C55) -> 43 | D56: =AVERAGE(D53:D55) -> 44.666667 | E56: =AVERAGE(E53:E55) -> 31.333333 | G56: Mittelwert | H56: =AVERAGE(H53:H55) -> 24 | I56: =AVERAGE(I53:I55) -> 39.333333 | J56: =AVERAGE(J53:J55) -> 52.333333 | K56: =AVERAGE(K53:K55) -> 46 | M56: Mittelwert | N56: =AVERAGE(N53:N55) -> 54 | O56: =AVERAGE(O53:O55) -> 55.666667 | P56: =AVERAGE(P53:P55) -> 57 | Q56: =AVERAGE(Q53:Q55) -> 64.333333 | S56: Mittelwert | T56: =AVERAGE(T53:T55) -> 17.666667 | U56: =AVERAGE(U53:U55) -> 25.666667 | V56: =AVERAGE(V53:V55) -> 58 | W56: =AVERAGE(W53:W55) -> 46
A57: Standardab. | B57: =STDEVA(B53:B55) -> 5.5677644 | C57: =STDEVA(C53:C55) -> 9.1651514 | D57: =STDEVA(D53:D55) -> 3.7859389 | E57: =STDEVA(E53:E55) -> 11.503623 | G57: Standardab. | H57: =STDEVA(H53:H55) -> 7.2111026 | I57: =STDEVA(I53:I55) -> 12.858201 | J57: =STDEVA(J53:J55) -> 4.7258156 | K57: =STDEVA(K53:K55) -> 6 | M57: Standardab. | N57: =STDEVA(N53:N55) -> 10.583005 | O57: =STDEVA(O53:O55) -> 11.547005 | P57: =STDEVA(P53:P55) -> 10 | Q57: =STDEVA(Q53:Q55) -> 5.5075705 | S57: Standardab. | T57: =STDEVA(T53:T55) -> 3.0550505 | U57: =STDEVA(U53:U55) -> 3.7859389 | V57: =STDEVA(V53:V55) -> 7.5498344 | W57: =STDEVA(W53:W55) -> 4.5825757
A58: CFU/ml | B58: 300000 | C58: 430000 | D58: 44660 | E58: 31330 | G58: CFU/ml | H58: 240000 | I58: 393300 | J58: 52330 | K58: 46000 | M58: CFU/ml | N58: 540000 | O58: 556600 | P58: 57000 | Q58: 64330 | S58: CFU/ml | T58: 176600 | U58: 256600 | V58: 5800 | W58: 4600
B61: 8640 (1) | C61: 8640 (2) | D61: lepA (1) | E61: lepA (2) | H61: 8640 (1) | I61: 8640 (2) | J61: lepA (1) | K61: lepA (2) | N61: 8640 (1) | O61: 8640 (2) | P61: lepA (1) | Q61: lepA (2) | T61: 8640 (1) | U61: 8640 (2) | V61: lepA (1) | W61: lepA (2)
A62: t24 | B62: 103->10µl | G62: t24 | H62: 102->10µl | I62: 103->10µl | J62: 102->10µl | M62: t24 | N62: 103->10µl | P62: 102->10µl | S62: t24 | T62: 102->10µl | V62: 101->10µl
B63: 29 | C63: 26 | D63: 53 | E63: 39 | H63: 81 | I63: 46 | J63: 120 | K63: 104 | N63: 25 | O63: 26 | P63: 48 | Q63: 52 | T63: 155 | U63: 175 | V63: 165 | W63: 209
B64: 30 | C64: 25 | D64: 50 | E64: 45 | H64: 61 | I64: 54 | J64: 144 | K64: 92 | N64: 28 | O64: 26 | P64: 36 | Q64: 42 | T64: 141 | U64: 160 | V64: 188 | W64: 220
B65: 26 | C65: 35 | D65: 62 | E65: 46 | H65: 69 | I65: 60 | J65: 119 | K65: 108 | N65: 34 | O65: 35 | P65: 67 | Q65: 33 | T65: 149 | U65: 169 | V65: 179 | W65: 213
A66: Mittelwert | B66: =AVERAGE(B63:B65) -> 28.333333 | C66: =AVERAGE(C63:C65) -> 28.666667 | D66: =AVERAGE(D63:D65) -> 55 | E66: =AVERAGE(E63:E65) -> 43.333333 | G66: Mittelwert | H66: =AVERAGE(H63:H65) -> 70.333333 | I66: =AVERAGE(I63:I65) -> 53.333333 | J66: =AVERAGE(J63:J65) -> 127.66667 | K66: =AVERAGE(K63:K65) -> 101.33333 | M66: Mittelwert | N66: =AVERAGE(N63:N65) -> 29 | O66: =AVERAGE(O63:O65) -> 29 | P66: =AVERAGE(P63:P65) -> 50.333333 | Q66: =AVERAGE(Q63:Q65) -> 42.333333 | S66: Mittelwert | T66: =AVERAGE(T63:T65) -> 148.33333 | U66: =AVERAGE(U63:U65) -> 168 | V66: =AVERAGE(V63:V65) -> 177.33333 | W66: =AVERAGE(W63:W65) -> 214
A67: Standardab. | B67: =STDEVA(B63:B65) -> 2.081666 | C67: =STDEVA(C63:C65) -> 5.5075705 | D67: =STDEVA(D63:D65) -> 6.244998 | E67: =STDEVA(E63:E65) -> 3.7859389 | G67: Standardab. | H67: =STDEVA(H63:H65) -> 10.066446 | I67: =STDEVA(I63:I65) -> 7.0237692 | J67: =STDEVA(J63:J65) -> 14.153916 | K67: =STDEVA(K63:K65) -> 8.326664 | M67: Standardab. | N67: =STDEVA(N63:N65) -> 4.5825757 | O67: =STDEVA(O63:O65) -> 5.1961524 | P67: =STDEVA(P63:P65) -> 15.631165 | Q67: =STDEVA(Q63:Q65) -> 9.504385 | S67: Standardab. | T67: =STDEVA(T63:T65) -> 7.0237692 | U67: =STDEVA(U63:U65) -> 7.5498344 | V67: =STDEVA(V63:V65) -> 11.590226 | W67: =STDEVA(W63:W65) -> 5.5677644
A68: CFU/ml | B68: 2833000 | C68: 2866000 | D68: 550000 | E68: 433300 | G68: CFU/ml | H68: 703300 | I68: 5333000 | J68: 1276600 | K68: 1013300 | M68: CFU/ml | N68: 2900000 | O68: 2900000 | P68: 503300 | Q68: 423300 | S68: CFU/ml | T68: 1483300 | U68: 1680000 | V68: 177330 | W68: 214000
A71: mean | B71: 8640 | C71: SB6 | G71: mean | H71: 8640 | I71: SB6 | M71: mean | N71: 8640 | O71: SB6 | S71: mean | T71: 8640 | U71: SB6
A73: 0 | B73: =AVERAGE(Fig1A!B28:C28) -> 75000 | C73: =AVERAGE(Fig1A!D28:E28) -> 13349.5 | G73: 0 | H73: =AVERAGE(Fig1A!H28:I28) -> 154665 | I73: =AVERAGE(Fig1A!J28:K28) -> 21099.5 | M73: 0 | N73: =AVERAGE(Fig1A!N28:O28) -> 144830 | O73: =AVERAGE(Fig1A!P28:Q28) -> 17466.5 | S73: 0 | T73: =AVERAGE(Fig1A!T28:U28) -> 53495 | U73: =AVERAGE(Fig1A!V28:W28) -> 8549.5
A74: 2 | B74: =AVERAGE(Fig1A!B38:C38) -> 114495 | C74: =AVERAGE(Fig1A!D38:E38) -> 7999.5 | G74: 2 | H74: =AVERAGE(Fig1A!H38:I38) -> 331650 | I74: =AVERAGE(Fig1A!J38:K38) -> 24830 | M74: 2 | N74: =AVERAGE(Fig1A!N38:O38) -> 414950 | O74: =AVERAGE(Fig1A!P38:Q38) -> 19660 | S74: 2 | T74: =AVERAGE(Fig1A!T38:U38) -> 80000 | U74: =AVERAGE(Fig1A!V38:W38) -> 2949.5
A75: 4 | B75: =AVERAGE(Fig1A!B48:C48) -> 203300 | C75: =AVERAGE(Fig1A!D48:E48) -> 13966.5 | G75: 4 | H75: =AVERAGE(Fig1A!H48:I48) -> 385000 | I75: =AVERAGE(Fig1A!J48:K48) -> 44995 | M75: 4 | N75: =AVERAGE(Fig1A!N48:O48) -> 503300 | O75: =AVERAGE(Fig1A!P48:Q48) -> 34160 | S75: 4 | T75: =AVERAGE(Fig1A!T48:U48) -> 149950 | U75: =AVERAGE(Fig1A!V48:W48) -> 8166.5
A76: 6 | B76: =AVERAGE(Fig1A!B58:C58) -> 365000 | C76: =AVERAGE(Fig1A!D58:E58) -> 37995 | G76: 6 | H76: =AVERAGE(Fig1A!H58:I58) -> 316650 | I76: =AVERAGE(Fig1A!J58:K58) -> 49165 | M76: 6 | N76: =AVERAGE(Fig1A!N58:O58) -> 548300 | O76: =AVERAGE(Fig1A!P58:Q58) -> 60665 | S76: 6 | T76: =AVERAGE(Fig1A!T58:U58) -> 216600 | U76: =AVERAGE(Fig1A!V58:W58) -> 5200
A77: 24 | B77: =AVERAGE(Fig1A!B68:C68) -> 2849500 | C77: =AVERAGE(Fig1A!D68:E68) -> 491650 | G77: 24 | H77: =AVERAGE(Fig1A!H68:I68) -> 3018150 | I77: =AVERAGE(Fig1A!J68:K68) -> 1144950 | M77: 24 | N77: =AVERAGE(Fig1A!N68:O68) -> 2900000 | O77: =AVERAGE(Fig1A!P68:Q68) -> 463300 | S77: 24 | T77: =AVERAGE(Fig1A!T68:U68) -> 1581650 | U77: =AVERAGE(Fig1A!V68:W68) -> 195665

Sheet Fig1B
A1: Stamm: | B1: 1) 8640
B2: 2) SB6
A7: vor der Infektion | G7: vor der Infektion | M7: vor der Infektion | S7: vor der Infektion
B9: 8640 (1) | C9: 8640 (2) | D9: SB6 (1) | E9: SB6 (2) | H9: 8640 (1) | I9: 8640 (2) | J9: SB6 (1) | K9: SB6 (2) | N9: 8640 (1) | O9: 8640 (2) | P9: SB6 (1) | Q9: SB6 (2) | T9: 8640 (1) | U9: 8640 (2) | V9: SB6 (1) | W9: SB6 (2)
A10: t0 | B10: 102->10µl | G10: t0 | H10: 103->10µl | M10: t0 | N10: 103->10µl | S10: t0 | T10: 103->10µl
B11: 57 | D11: 52 | H11: 48 | J11: 50 | N11: 75 | P11: 67 | T11: 67 | V11: 66
B12: 55 | D12: 49 | H12: 45 | J12: 50 | N12: 78 | P12: 67 | T12: 64 | V12: 63
B13: 56 | D13: 37 | H13: 70 | J13: 56 | N13: 84 | P13: 55 | T13: 59 | V13: 62
A14: Mittelwert | B14: =AVERAGE(B11:B13) -> 56 | C14: =AVERAGE(C11:C13) -> #DIV/0! | D14: =AVERAGE(D11:D13) -> 46 | E14: =AVERAGE(E11:E13) -> #DIV/0! | G14: Mittelwert | H14: =AVERAGE(H11:H13) -> 54.333333 | I14: =AVERAGE(I11:I13) -> #DIV/0! | J14: =AVERAGE(J11:J13) -> 52 | K14: =AVERAGE(K11:K13) -> #DIV/0! | M14: Mittelwert | N14: =AVERAGE(N11:N13) -> 79 | O14: =AVERAGE(O11:O13) -> #DIV/0! | P14: =AVERAGE(P11:P13) -> 63 | Q14: =AVERAGE(Q11:Q13) -> #DIV/0! | S14: Mittelwert | T14: =AVERAGE(T11:T13) -> 63.333333 | U14: =AVERAGE(U11:U13) -> #DIV/0! | V14: =AVERAGE(V11:V13) -> 63.666667 | W14: =AVERAGE(W11:W13) -> #DIV/0!
A15: Standardab. | B15: =STDEVA(B11:B13) -> 1 | C15: =STDEVA(C11:C13) -> #DIV/0! | D15: =STDEVA(D11:D13) -> 7.9372539 | E15: =STDEVA(E11:E13) -> #DIV/0! | G15: Standardab. | H15: =STDEVA(H11:H13) -> 13.650397 | I15: =STDEVA(I11:I13) -> #DIV/0! | J15: =STDEVA(J11:J13) -> 3.4641016 | K15: =STDEVA(K11:K13) -> #DIV/0! | M15: Standardab. | N15: =STDEVA(N11:N13) -> 4.5825757 | O15: =STDEVA(O11:O13) -> #DIV/0! | P15: =STDEVA(P11:P13) -> 6.9282032 | Q15: =STDEVA(Q11:Q13) -> #DIV/0! | S15: Standardab. | T15: =STDEVA(T11:T13) -> 4.0414519 | U15: =STDEVA(U11:U13) -> #DIV/0! | V15: =STDEVA(V11:V13) -> 2.081666 | W15: =STDEVA(W11:W13) -> #DIV/0!
A16: CFU/ml | B16: 5600000 | D16: 4600000 | G16: CFU/ml | H16: 5433000 | J16: 5200000 | M16: CFU/ml | N16: 7900000 | P16: 6300000 | S16: CFU/ml | T16: 6333000 | V16: 6366000
A19: nach der Infektion | G19: nach der Infektion | M19: nach der Infektion | S19: nach der Infektion
B21: 8640 (1) | C21: 8640 (2) | D21: SB6 (1) | E21: SB6 (2) | H21: 8640 (1) | I21: 8640 (2) | J21: SB6 (1) | K21: SB6 (2) | N21: 8640 (1) | O21: 8640 (2) | P21: SB6 (1) | Q21: SB6 (2) | T21: 8640 (1) | U21: 8640 (2) | V21: SB6 (1) | W21: SB6 (2)
A22: t0 | B22: 101->10µl | D22: unverd.->10µl | G22: t0 | H22: 101->10µl | J22: unverd.->10µl | M22: t0 | N22: 101->10µl | P22: unverd.->10µl | S22: t0 | T22: 101->10µl | V22: unverd.->10µl
B23: 41 | C23: 34 | D23: 67 | E23: 91 | H23: 33 | I23: 42 | J23: 94 | K23: 100 | N23: 10 | O23: 9 | P23: 40 | Q23: 31 | T23: 23 | U23: 22 | V23: 78 | W23: 54
B24: 37 | C24: 40 | D24: 68 | E24: 96 | H24: 33 | I24: 25 | J24: 99 | K24: 68 | N24: 10 | O24: 9 | P24: 41 | Q24: 28 | T24: 23 | U24: 24 | V24: 80 | W24: 64
B25: 35 | C25: 40 | D25: 73 | E25: 62 | H25: 25 | I25: 38 | J25: 84 | K25: 80 | N25: 14 | O25: 7 | P25: 35 | Q25: 27 | T25: 16 | U25: 20 | V25: 49 | W25: 72
A26: Mittelwert | B26: =AVERAGE(B23:B25) -> 37.666667 | C26: =AVERAGE(C23:C25) -> 38 | D26: =AVERAGE(D23:D25) -> 69.333333 | E26: =AVERAGE(E23:E25) -> 83 | G26: Mittelwert | H26: =AVERAGE(H23:H25) -> 30.333333 | I26: =AVERAGE(I23:I25) -> 35 | J26: =AVERAGE(J23:J25) -> 92.333333 | K26: =AVERAGE(K23:K25) -> 82.666667 | M26: Mittelwert | N26: =AVERAGE(N23:N25) -> 11.333333 | O26: =AVERAGE(O23:O25) -> 8.3333333 | P26: =AVERAGE(P23:P25) -> 38.666667 | Q26: =AVERAGE(Q23:Q25) -> 28.666667 | S26: Mittelwert | T26: =AVERAGE(T23:T25) -> 20.666667 | U26: =AVERAGE(U23:U25) -> 22 | V26: =AVERAGE(V23:V25) -> 69 | W26: =AVERAGE(W23:W25) -> 63.333333
A27: Standardab. | B27: =STDEVA(B23:B25) -> 3.0550505 | C27: =STDEVA(C23:C25) -> 3.4641016 | D27: =STDEVA(D23:D25) -> 3.2145503 | E27: =STDEVA(E23:E25) -> 18.35756 | G27: Standardab. | H27: =STDEVA(H23:H25) -> 4.6188022 | I27: =STDEVA(I23:I25) -> 8.8881944 | J27: =STDEVA(J23:J25) -> 7.6376262 | K27: =STDEVA(K23:K25) -> 16.165808 | M27: Standardab. | N27: =STDEVA(N23:N25) -> 2.3094011 | O27: =STDEVA(O23:O25) -> 1.1547005 | P27: =STDEVA(P23:P25) -> 3.2145503 | Q27: =STDEVA(Q23:Q25) -> 2.081666 | S27: Standardab. | T27: =STDEVA(T23:T25) -> 4.0414519 | U27: =STDEVA(U23:U25) -> 2 | V27: =STDEVA(V23:V25) -> 17.349352 | W27: =STDEVA(W23:W25) -> 9.0184995
A28: CFU/ml | B28: 37660 | C28: 38000 | D28: 6933 | E28: 8300 | G28: CFU/ml | H28: 30330 | I28: 35000 | J28: 9233 | K28: 8266 | M28: CFU/ml | N28: 11330 | O28: 8330 | P28: 3866 | Q28: 2866 | S28: CFU/ml | T28: 20660 | U28: 22000 | V28: 6900 | W28: 6333
B31: 8640 (1) | C31: 8640 (2) | D31: SB6 (1) | E31: SB6 (2) | H31: 8640 (1) | I31: 8640 (2) | J31: SB6 (1) | K31: SB6 (2) | N31: 8640 (1) | O31: 8640 (2) | P31: SB6 (1) | Q31: SB6 (2) | T31: 8640 (1) | U31: SB6 (1)
A32: t2 | B32: 101->10µl | D32: unverd.->10µl | G32: t2 | H32: 101->10µl | J32: unverd.->10µl | M32: t2 | N32: 101->10µl | P32: unverd.->10µl | S32: 0 | T32: =AVERAGE([1]Tabelle1!E37:F37) -> 21330 | U32: =AVERAGE([1]Tabelle1!G37:H37) -> 6616.5
B33: 58 | C33: 42 | D33: 109 | E33: 119 | H33: 43 | I33: 44 | J33: 104 | K33: 112 | N33: 13 | O33: 11 | P33: 34 | Q33: 37
B34: 65 | C34: 54 | D34: 115 | E34: 117 | H34: 39 | I34: 45 | J34: 95 | K34: 102 | N34: 15 | O34: 10 | P34: 39 | Q34: 30
B35: 61 | C35: 54 | D35: 129 | E35: 127 | H35: 41 | I35: 48 | J35: 112 | K35: 114 | N35: 11 | O35: 14 | P35: 32 | Q35: 35
A36: Mittelwert | B36: =AVERAGE(B33:B35) -> 61.333333 | C36: =AVERAGE(C33:C35) -> 50 | D36: =AVERAGE(D33:D35) -> 117.66667 | E36: =AVERAGE(E33:E35) -> 121 | G36: Mittelwert | H36: =AVERAGE(H33:H35) -> 41 | I36: =AVERAGE(I33:I35) -> 45.666667 | J36: =AVERAGE(J33:J35) -> 103.66667 | K36: =AVERAGE(K33:K35) -> 109.33333 | M36: Mittelwert | N36: =AVERAGE(N33:N35) -> 13 | O36: =AVERAGE(O33:O35) -> 11.666667 | P36: =AVERAGE(P33:P35) -> 35 | Q36: =AVERAGE(Q33:Q35) -> 34
A37: Standardab. | B37: =STDEVA(B33:B35) -> 3.5118846 | C37: =STDEVA(C33:C35) -> 6.9282032 | D37: =STDEVA(D33:D35) -> 10.263203 | E37: =STDEVA(E33:E35) -> 5.2915026 | G37: Standardab. | H37: =STDEVA(H33:H35) -> 2 | I37: =STDEVA(I33:I35) -> 2.081666 | J37: =STDEVA(J33:J35) -> 8.5049005 | K37: =STDEVA(K33:K35) -> 6.4291005 | M37: Standardab. | N37: =STDEVA(N33:N35) -> 2 | O37: =STDEVA(O33:O35) -> 2.081666 | P37: =STDEVA(P33:P35) -> 3.6055513 | Q37: =STDEVA(Q33:Q35) -> 3.6055513
A38: CFU/ml | B38: 61330 | C38: 50000 | D38: 11766 | E38: 12100 | G38: CFU/ml | H38: 41000 | I38: 45660 | J38: 10366 | K38: 10933 | M38: CFU/ml | N38: 13000 | O38: 11660 | P38: 3500 | Q38: 3400
B41: 8640 (1) | C41: 8640 (2) | D41: SB6 (1) | E41: SB6 (2) | H41: 8640 (1) | I41: 8640 (2) | J41: SB6 (1) | K41: SB6 (2) | N41: 8640 (1) | O41: 8640 (2) | P41: SB6 (1) | Q41: SB6 (2)
A42: t4 | B42: 101->10µl | G42: t4 | H42: 101->10µl | M42: t4 | N42: 101->10µl
B43: 118 | C43: 110 | D43: 27 | E43: 25 | H43: 65 | I43: 89 | J43: 45 | K43: 37 | N43: 31 | O43: 23 | P43: 12 | Q43: 10
B44: 112 | C44: 106 | D44: 27 | E44: 38 | H44: 49 | I44: 82 | J44: 46 | K44: 43 | N44: 28 | O44: 22 | P44: 14 | Q44: 10
B45: 110 | C45: 118 | D45: 36 | E45: 30 | H45: 70 | I45: 100 | J45: 40 | K45: 40 | N45: 30 | O45: 24 | P45: 10 | Q45: 10
A46: Mittelwert | B46: =AVERAGE(B43:B45) -> 113.33333 | C46: =AVERAGE(C43:C45) -> 111.33333 | D46: =AVERAGE(D43:D45) -> 30 | E46: =AVERAGE(E43:E45) -> 31 | G46: Mittelwert | H46: =AVERAGE(H43:H45) -> 61.333333 | I46: =AVERAGE(I43:I45) -> 90.333333 | J46: =AVERAGE(J43:J45) -> 43.666667 | K46: =AVERAGE(K43:K45) -> 40 | M46: Mittelwert | N46: =AVERAGE(N43:N45) -> 29.666667 | O46: =AVERAGE(O43:O45) -> 23 | P46: =AVERAGE(P43:P45) -> 12 | Q46: =AVERAGE(Q43:Q45) -> 10
A47: Standardab. | B47: =STDEVA(B43:B45) -> 4.163332 | C47: =STDEVA(C43:C45) -> 6.1101009 | D47: =STDEVA(D43:D45) -> 5.1961524 | E47: =STDEVA(E43:E45) -> 6.5574385 | G47: Standardab. | H47: =STDEVA(H43:H45) -> 10.969655 | I47: =STDEVA(I43:I45) -> 9.0737717 | J47: =STDEVA(J43:J45) -> 3.2145503 | K47: =STDEVA(K43:K45) -> 3 | M47: Standardab. | N47: =STDEVA(N43:N45) -> 1.5275252 | O47: =STDEVA(O43:O45) -> 1 | P47: =STDEVA(P43:P45) -> 2 | Q47: =STDEVA(Q43:Q45) -> 0
A48: CFU/ml | B48: 113330 | C48: 111330 | D48: 30000 | E48: 31000 | G48: CFU/ml | H48: 61330 | I48: 90330 | J48: 43660 | K48: 40000 | M48: CFU/ml | N48: 29660 | O48: 23000 | P48: 12000 | Q48: 10000
B51: 8640 (1) | C51: 8640 (2) | D51: SB6 (1) | E51: SB6 (2) | H51: 8640 (1) | I51: 8640 (2) | J51: SB6 (1) | K51: SB6 (2) | N51: 8640 (1) | O51: 8640 (2) | P51: SB6 (1) | Q51: SB6 (2)
A52: t6 | B52: 102->10µl | D52: 101->10µl | G52: t6 | H52: 101->10µl | J52: 101->10µl | M52: t6 | N52: 101->10µl | P52: 101->10µl
B53: 21 | C53: 19 | D53: 46 | E53: 53 | H53: 102 | I53: 115 | J53: 56 | K53: 43 | N53: 52 | O53: 56 | P53: 50 | Q53: 16
B54: 19 | C54: 16 | D54: 39 | E54: 48 | H54: 81 | I54: 101 | J54: 61 | K54: 34 | N54: 56 | O54: 53 | P54: 38 | Q54: 16
B55: 17 | C55: 21 | D55: 36 | E55: 48 | H55: 92 | I55: 113 | J55: 73 | K55: 42 | N55: 51 | O55: 61 | P55: 63 | Q55: 14
A56: Mittelwert | B56: =AVERAGE(B53:B55) -> 19 | C56: =AVERAGE(C53:C55) -> 18.666667 | D56: =AVERAGE(D53:D55) -> 40.333333 | E56: =AVERAGE(E53:E55) -> 49.666667 | G56: Mittelwert | H56: =AVERAGE(H53:H55) -> 91.666667 | I56: =AVERAGE(I53:I55) -> 109.66667 | J56: =AVERAGE(J53:J55) -> 63.333333 | K56: =AVERAGE(K53:K55) -> 39.666667 | M56: Mittelwert | N56: =AVERAGE(N53:N55) -> 53 | O56: =AVERAGE(O53:O55) -> 56.666667 | P56: =AVERAGE(P53:P55) -> 50.333333 | Q56: =AVERAGE(Q53:Q55) -> 15.333333
A57: Standardab. | B57: =STDEVA(B53:B55) -> 2 | C57: =STDEVA(C53:C55) -> 2.5166115 | D57: =STDEVA(D53:D55) -> 5.1316014 | E57: =STDEVA(E53:E55) -> 2.8867513 | G57: Standardab. | H57: =STDEVA(H53:H55) -> 10.503968 | I57: =STDEVA(I53:I55) -> 7.5718778 | J57: =STDEVA(J53:J55) -> 8.7368949 | K57: =STDEVA(K53:K55) -> 4.9328829 | M57: Standardab. | N57: =STDEVA(N53:N55) -> 2.6457513 | O57: =STDEVA(O53:O55) -> 4.0414519 | P57: =STDEVA(P53:P55) -> 12.503333 | Q57: =STDEVA(Q53:Q55) -> 1.1547005
A58: CFU/ml | B58: 190000 | C58: 186600 | D58: 40330 | E58: 49660 | G58: CFU/ml | H58: 91660 | I58: 109660 | J58: 63330 | K58: 39660 | M58: CFU/ml | N58: 53000 | O58: 56660 | P58: 50330 | Q58: 15330
B61: 8640 (1) | C61: 8640 (2) | D61: SB6 (1) | E61: SB6 (2) | H61: 8640 (1) | I61: 8640 (2) | J61: SB6 (1) | K61: SB6 (2) | N61: 8640 (1) | O61: 8640 (2) | P61: SB6 (1) | Q61: SB6 (2)
A62: t24 | B62: 102->10µl | D62: 101->10µl | G62: t24 | H62: 101->10µl | M62: t24 | N62: 101->10µl
B63: 39 | C63: 34 | D63: 55 | E63: 55 | H63: 31 | I63: 99 | J63: 43 | K63: 42 | N63: 20 | O63: 54 | P63: 12 | Q63: 13
B64: 46 | C64: 40 | D64: 50 | E64: 37 | H64: 38 | I64: 81 | J64: 42 | K64: 46 | N64: 19 | O64: 63 | P64: 16 | Q64: 13
B65: 34 | C65: 49 | D65: 47 | E65: 39 | H65: 28 | I65: 77 | J65: 62 | K65: 47 | N65: 27 | O65: 73 | P65: 17 | Q65: 18
A66: Mittelwert | B66: =AVERAGE(B63:B65) -> 39.666667 | C66: =AVERAGE(C63:C65) -> 41 | D66: =AVERAGE(D63:D65) -> 50.666667 | E66: =AVERAGE(E63:E65) -> 43.666667 | G66: Mittelwert | H66: =AVERAGE(H63:H65) -> 32.333333 | I66: =AVERAGE(I63:I65) -> 85.666667 | J66: =AVERAGE(J63:J65) -> 49 | K66: =AVERAGE(K63:K65) -> 45 | M66: Mittelwert | N66: =AVERAGE(N63:N65) -> 22 | O66: =AVERAGE(O63:O65) -> 63.333333 | P66: =AVERAGE(P63:P65) -> 15 | Q66: =AVERAGE(Q63:Q65) -> 14.666667
A67: Standardab. | B67: =STDEVA(B63:B65) -> 6.0277138 | C67: =STDEVA(C63:C65) -> 7.5498344 | D67: =STDEVA(D63:D65) -> 4.0414519 | E67: =STDEVA(E63:E65) -> 9.8657657 | G67: Standardab. | H67: =STDEVA(H63:H65) -> 5.1316014 | I67: =STDEVA(I63:I65) -> 11.718931 | J67: =STDEVA(J63:J65) -> 11.269428 | K67: =STDEVA(K63:K65) -> 2.6457513 | M67: Standardab. | N67: =STDEVA(N63:N65) -> 4.3588989 | O67: =STDEVA(O63:O65) -> 9.504385 | P67: =STDEVA(P63:P65) -> 2.6457513 | Q67: =STDEVA(Q63:Q65) -> 2.8867513
A68: CFU/ml | B68: 396600 | C68: 410000 | D68: 50660 | E68: 43660 | G68: CFU/ml | H68: 32330 | I68: 85660 | J68: 49000 | K68: 45000 | M68: CFU/ml | N68: 22000 | O68: 63330 | P68: 15000 | Q68: 14660
B71: 8640 (1) | C71: SB6 (1) | H71: 8640 (1) | I71: SB6 (1) | N71: 8640 (1) | O71: SB6 (1)
A72: 0 | B72: =AVERAGE(Fig1B!B28:C28) -> 37830 | C72: =AVERAGE(Fig1B!D28:E28) -> 7616.5 | G72: 0 | H72: =AVERAGE(H28:I28) -> 32665 | I72: =AVERAGE(J28:K28) -> 8749.5 | M72: 0 | N72: =AVERAGE(Fig1B!N28:O28) -> 9830 | O72: =AVERAGE(Fig1B!P28:Q28) -> 3366
A73: 2 | B73: =AVERAGE(Fig1B!B38:C38) -> 55665 | C73: =AVERAGE(Fig1B!D38:E38) -> 11933 | G73: 2 | H73: =AVERAGE(H38:I38) -> 43330 | I73: =AVERAGE(J38:K38) -> 10649.5 | M73: 2 | N73: =AVERAGE(Fig1B!N38:O38) -> 12330 | O73: =AVERAGE(Fig1B!P38:Q38) -> 3450
A74: 4 | B74: =AVERAGE(Fig1B!B48:C48) -> 112330 | C74: =AVERAGE(Fig1B!D48:E48) -> 30500 | G74: 4 | H74: =AVERAGE(H48:I48) -> 75830 | I74: =AVERAGE(J48:K48) -> 41830 | M74: 4 | N74: =AVERAGE(Fig1B!N48:O48) -> 26330 | O74: =AVERAGE(Fig1B!P48:Q48) -> 11000
A75: 6 | B75: =AVERAGE(Fig1B!B58:C58) -> 188300 | C75: =AVERAGE(Fig1B!D58:E58) -> 44995 | G75: 6 | H75: =AVERAGE(H58:I58) -> 100660 | I75: =AVERAGE(J58:K58) -> 51495 | M75: 6 | N75: =AVERAGE(Fig1B!N58:O58) -> 54830 | O75: =AVERAGE(Fig1B!P58:Q58) -> 32830
A76: 24 | B76: =AVERAGE(Fig1B!B68:C68) -> 403300 | C76: =AVERAGE(Fig1B!D68:E68) -> 47160 | G76: 24 | H76: =AVERAGE(H68:I68) -> 58995 | I76: =AVERAGE(J68:K68) -> 47000 | M76: 24 | N76: =AVERAGE(Fig1B!N68:O68) -> 42665 | O76: =AVERAGE(Fig1B!P68:Q68) -> 14830

Sheet Fig1C
A1: Stamm: | B1: 1) 8640
B2: 2) SB6
A7: vor der Infektion | M7: vor der Infektion | Y7: vor der Infektion
B9: 8640 | C9: SB6 | N9: 8640 | O9: SB6 | Z9: 8640 | AA9: SB6
B10: 103->10µl | N10: 103->10µl | Z10: 103->10µl
B11: 34 | C11: 21 | N11: 56 | O11: 51 | Z11: 58 | AA11: 30
B12: 44 | C12: 28 | N12: 55 | O12: 45 | Z12: 48 | AA12: 39
B13: 35 | C13: 20 | N13: 65 | O13: 39 | Z13: 50 | AA13: 45
A14: Standardabweichung | B14: =STDEVA(B11:B13) -> 5.5075705 | C14: =STDEVA(C11:C13) -> 4.3588989 | M14: Standardabweichung | N14: =STDEVA(N11:N13) -> 5.5075705 | O14: =STDEVA(O11:O13) -> 6 | Y14: Standardabweichung | Z14: =STDEVA(Z11:Z13) -> 5.2915026 | AA14: =STDEVA(AA11:AA13) -> 7.5498344
A15: Mittelwert | B15: =AVERAGE(B11:B13) -> 37.666667 | C15: =AVERAGE(C11:C13) -> 23 | M15: Mittelwert | N15: =AVERAGE(N11:N13) -> 58.666667 | O15: =AVERAGE(O11:O13) -> 45 | Y15: Mittelwert | Z15: =AVERAGE(Z11:Z13) -> 52 | AA15: =AVERAGE(AA11:AA13) -> 38
A16: CFU/ml | B16: 3766000 | C16: 2300000 | M16: CFU/ml | N16: 5866000 | O16: 4500000 | Y16: CFU/ml | Z16: 5200000 | AA16: 3800000
A19: nach Infektion (ohne Gentamicin) | G19: nach Infektion (mit Gentamicin) | M19: nach Infektion (ohne Gentamicin) | S19: nach Infektion (mit Gentamicin) | Y19: nach Infektion (ohne Gentamicin) | AE19: nach Infektion (mit Gentamicin)
B22: 8640 | C22: 8640 | D22: SB6 | E22: SB6 | H22: 8640 | I22: 8640 | J22: SB6 | K22: SB6 | N22: 8640 | O22: 8640 | P22: SB6 | Q22: SB6 | T22: 8640 | U22: 8640 | V22: SB6 | W22: SB6 | Z22: 8640 | AA22: 8640 | AB22: SB6 | AC22: SB6 | AF22: 8640 | AG22: 8640 | AH22: SB6 | AI22: SB6
B23: 101->10µl | H23: unverd->10µl | N23: 101->10µl | T23: unverd->10µl | Z23: 101->10µl | AF23: unverd->10µl
B24: 91 | C24: 67 | D24: 51 | E24: 55 | H24: 1 | I24: 0 | J24: 1 | K24: 3 | N24: 27 | O24: 26 | P24: 17 | Q24: 16 | T24: 3 | U24: 3 | V24: 2 | W24: 5 | Z24: 73 | AA24: 42 | AB24: 23 | AC24: 47 | AF24: 0 | AG24: 4 | AH24: 2 | AI24: 2
B25: 74 | C25: 65 | D25: 48 | E25: 52 | H25: 2 | I25: 4 | J25: 5 | K25: 4 | N25: 27 | O25: 26 | P25: 16 | Q25: 16 | T25: 1 | U25: 3 | V25: 3 | W25: 1 | Z25: 73 | AA25: 51 | AB25: 29 | AC25: 47 | AF25: 4 | AG25: 5 | AH25: 3 | AI25: 1
B26: 95 | C26: 65 | D26: 38 | E26: 49 | H26: 3 | I26: 2 | J26: 3 | K26: 4 | N26: 27 | O26: 16 | P26: 16 | Q26: 27 | T26: 1 | U26: 7 | V26: 4 | W26: 1 | Z26: 95 | AA26: 55 | AB26: 30 | AC26: 55 | AF26: 2 | AG26: 1 | AH26: 4 | AI26: 1
A27: Standardabweichung | B27: =STDEVA(B24:B26) -> 11.150486 | C27: =STDEVA(C24:C26) -> 1.1547005 | D27: =STDEVA(D24:D26) -> 6.8068593 | E27: =STDEVA(E24:E26) -> 3 | G27: Standardabweichung | H27: =STDEVA(H24:H26) -> 1 | I27: =STDEVA(I24:I26) -> 2 | J27: =STDEVA(J24:J26) -> 2 | K27: =STDEVA(K24:K26) -> 0.57735027 | M27: Standardabweichung | N27: =STDEVA(N24:N26) -> 0 | O27: =STDEVA(O24:O26) -> 5.7735027 | P27: =STDEVA(P24:P26) -> 0.57735027 | Q27: =STDEVA(Q24:Q26) -> 6.350853 | S27: Standardabweichung | T27: =STDEVA(T24:T26) -> 1.1547005 | U27: =STDEVA(U24:U26) -> 2.3094011 | V27: =STDEVA(V24:V26) -> 1 | W27: =STDEVA(W24:W26) -> 2.3094011 | Y27: Standardabweichung | Z27: =STDEVA(Z24:Z26) -> 12.701706 | AA27: =STDEVA(AA24:AA26) -> 6.6583281 | AB27: =STDEVA(AB24:AB26) -> 3.7859389 | AC27: =STDEVA(AC24:AC26) -> 4.6188022 | AE27: Standardabweichung | AF27: =STDEVA(AF24:AF26) -> 2 | AG27: =STDEVA(AG24:AG26) -> 2.081666 | AH27: =STDEVA(AH24:AH26) -> 1 | AI27: =STDEVA(AI24:AI26) -> 0.57735027
A28: Mittelwert | B28: =AVERAGE(B24:B26) -> 86.666667 | C28: =AVERAGE(C24:C26) -> 65.666667 | D28: =AVERAGE(D24:D26) -> 45.666667 | E28: =AVERAGE(E24:E26) -> 52 | G28: Mittelwert | H28: =AVERAGE(H24:H26) -> 2 | I28: =AVERAGE(I24:I26) -> 2 | J28: =AVERAGE(J24:J26) -> 3 | K28: =AVERAGE(K24:K26) -> 3.6666667 | M28: Mittelwert | N28: =AVERAGE(N24:N26) -> 27 | O28: =AVERAGE(O24:O26) -> 22.666667 | P28: =AVERAGE(P24:P26) -> 16.333333 | Q28: =AVERAGE(Q24:Q26) -> 19.666667 | S28: Mittelwert | T28: =AVERAGE(T24:T26) -> 1.6666667 | U28: =AVERAGE(U24:U26) -> 4.3333333 | V28: =AVERAGE(V24:V26) -> 3 | W28: =AVERAGE(W24:W26) -> 2.3333333 | Y28: Mittelwert | Z28: =AVERAGE(Z24:Z26) -> 80.333333 | AA28: =AVERAGE(AA24:AA26) -> 49.333333 | AB28: =AVERAGE(AB24:AB26) -> 27.333333 | AC28: =AVERAGE(AC24:AC26) -> 49.666667 | AE28: Mittelwert | AF28: =AVERAGE(AF24:AF26) -> 2 | AG28: =AVERAGE(AG24:AG26) -> 3.3333333 | AH28: =AVERAGE(AH24:AH26) -> 3 | AI28: =AVERAGE(AI24:AI26) -> 1.3333333
A29: CFU/ml | B29: 86660 | C29: 65660 | D29: 45660 | E29: 52000 | G29: CFU/ml | H29: 200 | I29: 200 | J29: 300 | K29: 366 | M29: CFU/ml | N29: 27000 | O29: 22660 | P29: 16330 | Q29: 19660 | S29: CFU/ml | T29: 166 | U29: 433 | V29: 300 | W29: 233 | Y29: CFU/ml | Z29: 80330 | AA29: 49330 | AB29: 27330 | AC29: 49660 | AE29: CFU/ml | AF29: 200 | AG29: 433 | AH29: 300 | AI29: 133
O32: 8640 | P32: SB6 | T32: 8640 | V32: SB6 | Z32: 8640 | AA32: SB6 | AF32: 8640 | AH32: SB6
A33: mean | B33: 8640 | C33: SB6 | H33: 8640 | J33: SB6
O34: =AVERAGE(Fig1C!N29:O29) -> 24830 | P34: =AVERAGE(Fig1C!P29:Q29) -> 17995 | T34: =AVERAGE(Fig1C!T29:U29) -> 299.5 | V34: =AVERAGE(Fig1C!V29:W29) -> 266.5 | Z34: =AVERAGE(Fig1C!Z29:AA29) -> 64830 | AA34: =AVERAGE(Fig1C!AB29:AC29) -> 38495 | AF34: =AVERAGE(Fig1C!AF29:AG29) -> 316.5 | AH34: =AVERAGE(Fig1C!AH29:AI29) -> 216.5
B35: =AVERAGE([2]Tabelle1!E42:F42) -> 76160 | C35: =AVERAGE([2]Tabelle1!G42:H42) -> 48830 | H35: =AVERAGE([2]Tabelle1!K42:L42) -> 200 | J35: =AVERAGE([2]Tabelle1!M42:N42) -> 333

Sheet Fig1D
A1: Stamm: | B1: 1) 8640
B2: 2) SB6
B7: 8640 (1) | C7: 8640 (2) | D7: SB6 (1) | E7: SB6 (2) | H7: 8640 (1) | I7: 8640 (2) | J7: SB6 (1) | K7: SB6 (2) | N7: 8640 (1) | O7: 8640 (2) | P7: SB6 (1) | Q7: SB6 (2) | T7: 8640 (1) | U7: 8640 (2) | V7: SB6 (1) | W7: SB6 (2)
A8: t0 | B8: 103->10µl | G8: t0 | H8: 103->10µl | M8: t0 | N8: 103->10µl | S8: t0 | T8: 103->10µl
B9: 53 | D9: 54 | H9: 80 | J9: 66 | N9: 79 | P9: 60 | T9: 67 | V9: 60
B10: 44 | D10: 46 | H10: 74 | J10: 78 | N10: 71 | P10: 61 | T10: 68 | V10: 47
B11: 47 | D11: 52 | H11: 74 | J11: 81 | N11: 87 | P11: 55 | T11: 71 | V11: 53
A12: Mittelwert | B12: =AVERAGE(B9:B11) -> 48 | C12: =AVERAGE(C9:C11) -> #DIV/0! | D12: =AVERAGE(D9:D11) -> 50.666667 | E12: =AVERAGE(E9:E11) -> #DIV/0! | G12: Mittelwert | H12: =AVERAGE(H9:H11) -> 76 | I12: =AVERAGE(I9:I11) -> #DIV/0! | J12: =AVERAGE(J9:J11) -> 75 | K12: =AVERAGE(K9:K11) -> #DIV/0! | M12: Mittelwert | N12: =AVERAGE(N9:N11) -> 79 | O12: =AVERAGE(O9:O11) -> #DIV/0! | P12: =AVERAGE(P9:P11) -> 58.666667 | Q12: =AVERAGE(Q9:Q11) -> #DIV/0! | S12: Mittelwert | T12: =AVERAGE(T9:T11) -> 68.666667 | U12: =AVERAGE(U9:U11) -> #DIV/0! | V12: =AVERAGE(V9:V11) -> 53.333333 | W12: =AVERAGE(W9:W11) -> #DIV/0!
A13: Standardab. | B13: =STDEVA(B9:B11) -> 4.5825757 | C13: =STDEVA(C9:C11) -> #DIV/0! | D13: =STDEVA(D9:D11) -> 4.163332 | E13: =STDEVA(E9:E11) -> #DIV/0! | G13: Standardab. | H13: =STDEVA(H9:H11) -> 3.4641016 | I13: =STDEVA(I9:I11) -> #DIV/0! | J13: =STDEVA(J9:J11) -> 7.9372539 | K13: =STDEVA(K9:K11) -> #DIV/0! | M13: Standardab. | N13: =STDEVA(N9:N11) -> 8 | O13: =STDEVA(O9:O11) -> #DIV/0! | P13: =STDEVA(P9:P11) -> 3.2145503 | Q13: =STDEVA(Q9:Q11) -> #DIV/0! | S13: Standardab. | T13: =STDEVA(T9:T11) -> 2.081666 | U13: =STDEVA(U9:U11) -> #DIV/0! | V13: =STDEVA(V9:V11) -> 6.5064071 | W13: =STDEVA(W9:W11) -> #DIV/0!
A14: CFU/ml | B14: 4800000 | D14: 5066000 | G14: CFU/ml | H14: 7600000 | J14: 7500000 | M14: CFU/ml | N14: 7900000 | O14: 7533000 | P14: 5866000 | S14: CFU/ml | T14: 6866000 | V14: 5333000
A17: nach der Infektion | G17: nach der Infektion | M17: nach der Infektion | S17: nach der Infektion
B19: 8640 (1) | C19: 8640 (2) | D19: SB6 (1) | E19: SB6 (2) | H19: 8640 (1) | I19: 8640 (2) | J19: SB6 (1) | K19: SB6 (2) | N19: 8640 (1) | O19: 8640 (2) | P19: SB6 (1) | Q19: SB6 (2) | T19: 8640 (1) | U19: 8640 (2) | V19: SB6 (1) | W19: SB6 (2)
A20: t60 | B20: 101->10µl | G20: t60 | H20: unverd.->10µl | M20: t60 | N20: 101->10µl | S20: t60 | T20: unverd.->10µl
B21: 47 | C21: 29 | D21: 180 | E21: 122 | H21: 220 | I21: 230 | J21: 126 | K21: 128 | N21: 22 | O21: 16 | P21: 96 | Q21: 88 | T21: 231 | U21: 218 | V21: 113 | W21: 128
B22: 57 | C22: 33 | D22: 175 | E22: 110 | H22: 225 | I22: 228 | J22: 130 | K22: 122 | N22: 23 | O22: 18 | P22: 81 | Q22: 94 | T22: 239 | U22: 220 | V22: 128 | W22: 144
B23: 45 | C23: 27 | D23: 111 | E23: 160 | H23: 218 | I23: 225 | J23: 122 | K23: 127 | N23: 14 | O23: 26 | P23: 83 | Q23: 72 | T23: 240 | U23: 215 | V23: 132 | W23: 143
A24: Mittelwert | B24: =AVERAGE(B21:B23) -> 49.666667 | C24: =AVERAGE(C21:C23) -> 29.666667 | D24: =AVERAGE(D21:D23) -> 155.33333 | E24: =AVERAGE(E21:E23) -> 130.66667 | G24: Mittelwert | H24: =AVERAGE(H21:H23) -> 221 | I24: =AVERAGE(I21:I23) -> 227.66667 | J24: =AVERAGE(J21:J23) -> 126 | K24: =AVERAGE(K21:K23) -> 125.66667 | M24: Mittelwert | N24: =AVERAGE(N21:N23) -> 19.666667 | O24: =AVERAGE(O21:O23) -> 20 | P24: =AVERAGE(P21:P23) -> 86.666667 | Q24: =AVERAGE(Q21:Q23) -> 84.666667 | S24: Mittelwert | T24: =AVERAGE(T21:T23) -> 236.66667 | U24: =AVERAGE(U21:U23) -> 217.66667 | V24: =AVERAGE(V21:V23) -> 124.33333 | W24: =AVERAGE(W21:W23) -> 138.33333
A25: Standardab. | B25: =STDEVA(B21:B23) -> 6.4291005 | C25: =STDEVA(C21:C23) -> 3.0550505 | D25: =STDEVA(D21:D23) -> 38.4751 | E25: =STDEVA(E21:E23) -> 26.102363 | G25: Standardab. | H25: =STDEVA(H21:H23) -> 3.6055513 | I25: =STDEVA(I21:I23) -> 2.5166115 | J25: =STDEVA(J21:J23) -> 4 | K25: =STDEVA(K21:K23) -> 3.2145503 | M25: Standardab. | N25: =STDEVA(N21:N23) -> 4.9328829 | O25: =STDEVA(O21:O23) -> 5.2915026 | P25: =STDEVA(P21:P23) -> 8.1445278 | Q25: =STDEVA(Q21:Q23) -> 11.372481 | S25: Standardab. | T25: =STDEVA(T21:T23) -> 4.9328829 | U25: =STDEVA(U21:U23) -> 2.5166115 | V25: =STDEVA(V21:V23) -> 10.016653 | W25: =STDEVA(W21:W23) -> 8.9628864
A26: CFU/ml | B26: 49660 | C26: 29660 | D26: 15533 | E26: 13066 | G26: CFU/ml | H26: 22100 | I26: 22766 | J26: 12600 | K26: 12566 | M26: CFU/ml | N26: 19660 | O26: 20000 | P26: 8666 | Q26: 8466 | S26: CFU/ml | T26: 23666 | U26: 21766 | V26: 12433 | W26: 13833
A28: Mittelwert | B28: =AVERAGE(B26:C26) -> 39660 | D28: =AVERAGE(D26:E26) -> 14299.5 | G28: Mittelwert | H28: =AVERAGE(H26:I26) -> 22433 | J28: =AVERAGE(J26:K26) -> 12583 | M28: Mittelwert | N28: =AVERAGE(N26:O26) -> 19830 | P28: =AVERAGE(P26:Q26) -> 8566 | S28: Mittelwert | T28: =AVERAGE(T26:U26) -> 22716 | V28: =AVERAGE(V26:W26) -> 13133

Sheet Fig1E
A1: Stamm: | B1: 1) 8640
B2: 2) SB6
A7: vor der Infektion | G7: vor der Infektion | M7: vor der Infektion
B9: 8640 (1) | C9: 8640 (2) | D9: SB6 (1) | E9: SB6 (2) | H9: 8640 (1) | I9: 8640 (2) | J9: SB6 (1) | K9: SB6 (2) | N9: 8640 (1) | O9: 8640 (2) | P9: SB6 (1) | Q9: SB6 (2)
A10: t0 | B10: 103->10µl | G10: t0 | H10: 103->10µl | M10: t0 | N10: 103->10µl
B11: 75 | D11: 57 | H11: 56 | J11: 53 | N11: 61 | P11: 51
B12: 67 | D12: 54 | H12: 58 | J12: 46 | N12: 53 | P12: 49
B13: 64 | D13: 54 | H13: 59 | J13: 43 | N13: 53 | P13: 60
A14: Mittelwert | B14: =AVERAGE(B11:B13) -> 68.666667 | C14: =AVERAGE(C11:C13) -> #DIV/0! | D14: =AVERAGE(D11:D13) -> 55 | E14: =AVERAGE(E11:E13) -> #DIV/0! | G14: Mittelwert | H14: =AVERAGE(H11:H13) -> 57.666667 | I14: =AVERAGE(I11:I13) -> #DIV/0! | J14: =AVERAGE(J11:J13) -> 47.333333 | K14: =AVERAGE(K11:K13) -> #DIV/0! | M14: Mittelwert | N14: =AVERAGE(N11:N13) -> 55.666667 | O14: =AVERAGE(O11:O13) -> #DIV/0! | P14: =AVERAGE(P11:P13) -> 53.333333 | Q14: =AVERAGE(Q11:Q13) -> #DIV/0!
A15: Standardab. | B15: =STDEVA(B11:B13) -> 5.6862407 | C15: =STDEVA(C11:C13) -> #DIV/0! | D15: =STDEVA(D11:D13) -> 1.7320508 | E15: =STDEVA(E11:E13) -> #DIV/0! | G15: Standardab. | H15: =STDEVA(H11:H13) -> 1.5275252 | I15: =STDEVA(I11:I13) -> #DIV/0! | J15: =STDEVA(J11:J13) -> 5.1316014 | K15: =STDEVA(K11:K13) -> #DIV/0! | M15: Standardab. | N15: =STDEVA(N11:N13) -> 4.6188022 | O15: =STDEVA(O11:O13) -> #DIV/0! | P15: =STDEVA(P11:P13) -> 5.8594653 | Q15: =STDEVA(Q11:Q13) -> #DIV/0!
A16: CFU/ml | B16: 6866000 | D16: 5500000 | G16: CFU/ml | H16: 5766000 | J16: 4733000 | M16: CFU/ml | N16: 5566000 | P16: 5333000
A19: nach der Infektion | G19: nach der Infektion | M19: nach der Infektion
B21: 8640 (1) | C21: 8640 (2) | D21: SB6 (1) | E21: SB6 (2) | H21: 8640 (1) | I21: 8640 (2) | J21: SB6 (1) | K21: SB6 (2) | N21: 8640 (1) | O21: 8640 (2) | P21: SB6 (1) | Q21: SB6 (2)
A22: t30 | B22: 101->10µl | D22: unverd.->10µl | G22: t60 | H22: 101->10µl | M22: t60 | N22: 101->10µl
B23: 66 | C23: 68 | D23: 157 | E23: 117 | H23: 51 | I23: 57 | J23: 121 | K23: 110 | N23: 53 | O23: 61 | P23: 101 | Q23: 120
B24: 69 | C24: 49 | D24: 147 | E24: 93 | H24: 51 | I24: 57 | J24: 125 | K24: 89 | N24: 53 | O24: 64 | P24: 109 | Q24: 105
B25: 61 | C25: 62 | D25: 151 | E25: 123 | H25: 60 | I25: 56 | J25: 107 | K25: 87 | N25: 59 | O25: 71 | P25: 119 | Q25: 107
A26: Mittelwert | B26: =AVERAGE(B23:B25) -> 65.333333 | C26: =AVERAGE(C23:C25) -> 59.666667 | D26: =AVERAGE(D23:D25) -> 151.66667 | E26: =AVERAGE(E23:E25) -> 111 | G26: Mittelwert | H26: =AVERAGE(H23:H25) -> 54 | I26: =AVERAGE(I23:I25) -> 56.666667 | J26: =AVERAGE(J23:J25) -> 117.66667 | K26: =AVERAGE(K23:K25) -> 95.333333 | M26: Mittelwert | N26: =AVERAGE(N23:N25) -> 55 | O26: =AVERAGE(O23:O25) -> 65.333333 | P26: =AVERAGE(P23:P25) -> 109.66667 | Q26: =AVERAGE(Q23:Q25) -> 110.66667
A27: Standardab. | B27: =STDEVA(B23:B25) -> 4.0414519 | C27: =STDEVA(C23:C25) -> 9.7125349 | D27: =STDEVA(D23:D25) -> 5.033223 | E27: =STDEVA(E23:E25) -> 15.874508 | G27: Standardab. | H27: =STDEVA(H23:H25) -> 5.1961524 | I27: =STDEVA(I23:I25) -> 0.57735027 | J27: =STDEVA(J23:J25) -> 9.4516313 | K27: =STDEVA(K23:K25) -> 12.74101 | M27: Standardab. | N27: =STDEVA(N23:N25) -> 3.4641016 | O27: =STDEVA(O23:O25) -> 5.1316014 | P27: =STDEVA(P23:P25) -> 9.0184995 | Q27: =STDEVA(Q23:Q25) -> 8.1445278
A28: CFU/ml | B28: 65330 | C28: 59660 | D28: 15166 | E28: 11100 | G28: CFU/ml | H28: 54000 | I28: 56660 | J28: 11766 | K28: 9533 | M28: CFU/ml | N28: 55000 | O28: 65330 | P28: 10966 | Q28: 11066
A30: Mittelwert | B30: =AVERAGE(B28:C28) -> 62495 | D30: =AVERAGE(D28:E28) -> 13133 | G30: Mittelwert | H30: =AVERAGE(H28:I28) -> 55330 | J30: =AVERAGE(J28:K28) -> 10649.5 | M30: Mittelwert | N30: =AVERAGE(N28:O28) -> 60165 | P30: =AVERAGE(P28:Q28) -> 11016

Sheet Fig2A
A1: Stamm: | B1: 1) SB473
B2: 2) SB474
B3: 3) SB478
B4: 4) SB479
B7: 1 | C7: 2 | D7: 3 | E7: 4 | F7: 5 | G7: 6 | H7: 7 | I7: 8 | J7: 9 | K7: 10 | L7: 11 | M7: 12 | P7: 1 | Q7: 2 | R7: 3 | S7: 4 | T7: 5 | U7: 6 | V7: 7 | W7: 8 | X7: 9 | Y7: 10 | Z7: 11 | AA7: 12 | AD7: 1 | AE7: 2 | AF7: 3 | AG7: 4 | AH7: 5 | AI7: 6 | AJ7: 7 | AK7: 8 | AL7: 9 | AM7: 10 | AN7: 11 | AO7: 12
A8: A | N8: 420 | O8: A | P8: 0.101 | Q8: 0.102 | R8: 0.103 | S8: 0.183 | T8: 0.184 | U8: 0.187 | V8: 0.107 | W8: 0.107 | X8: 0.107 | Y8: 0.184 | Z8: 0.192 | AA8: 0.191 | AB8: 420 | AC8: A | AP8: 420
A9: B | N9: 420 | O9: B | P9: 0.147 | Q9: 0.152 | R9: 0.149 | S9: 0.266 | T9: 0.275 | U9: 0.271 | V9: 0.115 | W9: 0.116 | X9: 0.117 | Y9: 0.224 | Z9: 0.231 | AA9: 0.229 | AB9: 420 | AC9: B | AP9: 420
A10: C | N10: 420 | O10: C | P10: 0.102 | Q10: 0.102 | R10: 0.102 | S10: 0.207 | T10: 0.21 | U10: 0.21 | V10: 0.156 | W10: 0.161 | X10: 0.16 | Y10: 0.179 | Z10: 0.184 | AA10: 0.181 | AB10: 420 | AC10: C | AP10: 420
A11: D | N11: 420 | O11: D | P11: 0.289 | Q11: 0.299 | R11: 0.294 | S11: 0.104 | T11: 0.102 | U11: 0.1 | V11: 0.1 | W11: 0.101 | X11: 0.102 | Y11: 0.101 | Z11: 0.101 | AA11: 0.101 | AB11: 420 | AC11: D | AP11: 420
A12: E | B12: 0.098 | C12: 0.098 | D12: 0.096 | E12: 0.229 | F12: 0.232 | G12: 0.23 | H12: 0.141 | I12: 0.146 | J12: 0.144 | K12: 0.218 | L12: 0.222 | M12: 0.221 | N12: 420 | O12: E | AB12: 420 | AC12: E | AP12: 420
A13: F | B13: 0.222 | C13: 0.226 | D13: 0.225 | E13: 0.18 | F13: 0.179 | G13: 0.184 | H13: 0.7 | I13: 0.734 | J13: 0.718 | K13: 0.231 | L13: 0.242 | M13: 0.237 | N13: 420 | O13: F | AB13: 420 | AC13: F | AD13: 0.103 | AE13: 0.104 | AF13: 0.104 | AG13: 0.141 | AH13: 0.154 | AI13: 0.143 | AJ13: 0.14 | AK13: 0.141 | AL13: 0.142 | AM13: 0.29 | AN13: 0.298 | AO13: 0.298 | AP13: 420
A14: G | B14: 0.789 | C14: 0.836 | D14: 0.824 | E14: 0.288 | F14: 0.292 | G14: 0.29 | H14: 0.425 | I14: 0.436 | J14: 0.438 | K14: 0.097 | L14: 0.096 | M14: 0.096 | N14: 420 | O14: G | AB14: 420 | AC14: G | AD14: 0.213 | AE14: 0.218 | AF14: 0.218 | AG14: 0.477 | AH14: 0.504 | AI14: 0.499 | AJ14: 0.125 | AK14: 0.126 | AL14: 0.134 | AM14: 0.216 | AN14: 0.224 | AO14: 0.224 | AP14: 420
A15: H | N15: 420 | O15: H | AB15: 420 | AC15: H | AD15: 0.64 | AE15: 0.683 | AF15: 0.681 | AG15: 0.109 | AH15: 0.102 | AI15: 0.101 | AJ15: 0.102 | AK15: 0.101 | AL15: 0.1 | AM15: 0.101 | AN15: 0.101 | AO15: 0.101 | AP15: 420
A18: 23 | O18: 21.5 | AC18: 21.5
B20: 1 | C20: 2 | D20: 3 | E20: 4 | F20: 5 | G20: 6 | H20: 7 | I20: 8 | J20: 9 | K20: 10 | L20: 11 | M20: 12 | P20: 1 | Q20: 2 | R20: 3 | S20: 4 | T20: 5 | U20: 6 | V20: 7 | W20: 8 | X20: 9 | Y20: 10 | Z20: 11 | AA20: 12 | AD20: 1 | AE20: 2 | AF20: 3 | AG20: 4 | AH20: 5 | AI20: 6 | AJ20: 7 | AK20: 8 | AL20: 9 | AM20: 10 | AN20: 11 | AO20: 12
A21: A | N21: 550 | O21: A | P21: 0.086 | Q21: 0.087 | R21: 0.089 | S21: 0.094 | T21: 0.088 | U21: 0.089 | V21: 0.088 | W21: 0.087 | X21: 0.087 | Y21: 0.089 | Z21: 0.089 | AA21: 0.089 | AB21: 550 | AC21: A | AP21: 550
A22: B | N22: 550 | O22: B | P22: 0.088 | Q22: 0.09 | R22: 0.088 | S22: 0.093 | T22: 0.088 | U22: 0.089 | V22: 0.088 | W22: 0.088 | X22: 0.089 | Y22: 0.089 | Z22: 0.089 | AA22: 0.088 | AB22: 550 | AC22: B | AP22: 550
A23: C | N23: 550 | O23: C | P23: 0.087 | Q23: 0.087 | R23: 0.088 | S23: 0.088 | T23: 0.088 | U23: 0.088 | V23: 0.088 | W23: 0.087 | X23: 0.088 | Y23: 0.089 | Z23: 0.088 | AA23: 0.088 | AB23: 550 | AC23: C | AP23: 550
A24: D | N24: 550 | O24: D | P24: 0.088 | Q24: 0.089 | R24: 0.088 | S24: 0.091 | T24: 0.088 | U24: 0.087 | V24: 0.087 | W24: 0.088 | X24: 0.089 | Y24: 0.089 | Z24: 0.089 | AA24: 0.089 | AB24: 550 | AC24: D | AP24: 550
A25: E | B25: 0.089 | C25: 0.089 | D25: 0.088 | E25: 0.088 | F25: 0.088 | G25: 0.086 | H25: 0.086 | I25: 0.089 | J25: 0.087 | K25: 0.088 | L25: 0.087 | M25: 0.088 | N25: 550 | O25: E | AB25: 550 | AC25: E | AP25: 550
A26: F | B26: 0.088 | C26: 0.091 | D26: 0.088 | E26: 0.088 | F26: 0.086 | G26: 0.089 | H26: 0.09 | I26: 0.095 | J26: 0.09 | K26: 0.088 | L26: 0.089 | M26: 0.087 | N26: 550 | O26: F | AB26: 550 | AC26: F | AD26: 0.088 | AE26: 0.089 | AF26: 0.089 | AG26: 0.089 | AH26: 0.096 | AI26: 0.088 | AJ26: 0.088 | AK26: 0.087 | AL26: 0.089 | AM26: 0.09 | AN26: 0.091 | AO26: 0.089 | AP26: 550
A27: G | B27: 0.09 | C27: 0.091 | D27: 0.09 | E27: 0.09 | F27: 0.089 | G27: 0.089 | H27: 0.091 | I27: 0.09 | J27: 0.091 | K27: 0.088 | L27: 0.089 | M27: 0.087 | N27: 550 | O27: G | AB27: 550 | AC27: G | AD27: 0.091 | AE27: 0.089 | AF27: 0.089 | AG27: 0.095 | AH27: 0.091 | AI27: 0.094 | AJ27: 0.089 | AK27: 0.086 | AL27: 0.095 | AM27: 0.087 | AN27: 0.088 | AO27: 0.089 | AP27: 550
A28: H | N28: 550 | O28: H | AB28: 550 | AC28: H | AD28: 0.09 | AE28: 0.09 | AF28: 0.092 | AG28: 0.096 | AH28: 0.088 | AI28: 0.09 | AJ28: 0.09 | AK28: 0.089 | AL28: 0.089 | AM28: 0.091 | AN28: 0.088 | AO28: 0.089 | AP28: 550
A32: Miller Units
B35: 8640 Cntrl | C35: 8640 hilA | D35: SB6 hilA | F35: 8640 Cntrl | G35: 8640 sipC | H35: SB6 sipC | P35: 8640 Cntrl | Q35: 8640 hilA | R35: SB6 hilA | T35: 8640 Cntrl | U35: 8640 sipC | V35: SB6 sipC | AD35: 8640 Cntrl | AE35: 8640 hilA | AF35: SB6 hilA | AH35: 8640 Cntrl | AI35: 8640 sipC | AJ35: SB6 sipC
B37: =1000*((Fig2A!B12-(1.75*Fig2A!B25)/15*1*(0.129*20))) -> 71.211 | C37: =1000*((Fig2A!E12-(1.75*Fig2A!E25)/15*1*(0.129*20))) -> 202.512 | D37: =1000*((Fig2A!H12-(1.75*Fig2A!H25)/15*1*(0.125*20))) -> 115.91667 | F37: =1000*((Fig2A!B12-(1.75*Fig2A!B25)/15*1*(0.129*20))) -> 71.211 | G37: =1000*((Fig2A!H13-(1.75*Fig2A!H26)/15*1*(0.129*20))) -> 672.91 | H37: =1000*((Fig2A!K13-(1.75*Fig2A!K26)/15*1*(0.125*20))) -> 205.33333 | P37: =1000*((Fig2A!P8-(1.75*Fig2A!P21)/15*1*(0.1*20))) -> 80.933333 | Q37: =1000*((Fig2A!S8-(1.75*Fig2A!S21)/15*1*(0.1*20))) -> 161.06667 | R37: =1000*((Fig2A!V8-(1.75*Fig2A!V21)/15*1*(0.04*20))) -> 98.786667 | T37: =1000*((Fig2A!P8-(1.75*Fig2A!P21)/15*1*(0.1*20))) -> 80.933333 | U37: =1000*((Fig2A!Y9-(1.75*Fig2A!Y22)/15*1*(0.07*20))) -> 209.46333 | V37: =1000*((Fig2A!P10-(1.75*Fig2A!P23)/15*1*(0.03*20))) -> 95.91 | AD37: =1000*((Fig2A!AD13-(1.75*Fig2A!AD26)/15*1*(0.109*20))) -> 80.618667 | AE37: =1000*((Fig2A!AG13-(1.75*Fig2A!AG26)/15*1*(0.109*20))) -> 118.36433 | AF37: =1000*((Fig2A!AJ13-(1.75*Fig2A!AJ26)/15*1*(0.062*20))) -> 127.26933 | AH37: =1000*((Fig2A!AD13-(1.75*Fig2A!AD26)/15*1*(0.109*20))) -> 80.618667 | AI37: =1000*((Fig2A!AG14-(1.75*Fig2A!AG27)/15*1*(0.11*20))) -> 452.61667 | AJ37: =1000*((Fig2A!AJ14-(1.75*Fig2A!AJ27)/15*1*(0.044*20))) -> 115.86267
B38: =1000*((Fig2A!C12-(1.75*Fig2A!C25)/15*1*(0.129*20))) -> 71.211 | C38: =1000*((Fig2A!F12-(1.75*Fig2A!F25)/15*1*(0.129*20))) -> 205.512 | D38: =1000*((Fig2A!I12-(1.75*Fig2A!I25)/15*1*(0.125*20))) -> 120.04167 | F38: =1000*((Fig2A!C12-(1.75*Fig2A!C25)/15*1*(0.129*20))) -> 71.211 | G38: =1000*((Fig2A!I13-(1.75*Fig2A!I26)/15*1*(0.129*20))) -> 705.405 | H38: =1000*((Fig2A!L13-(1.75*Fig2A!L26)/15*1*(0.125*20))) -> 216.04167 | P38: =1000*((Fig2A!Q8-(1.75*Fig2A!Q21)/15*1*(0.1*20))) -> 81.7 | Q38: =1000*((Fig2A!T8-(1.75*Fig2A!T21)/15*1*(0.1*20))) -> 163.46667 | R38: =1000*((Fig2A!W8-(1.75*Fig2A!W21)/15*1*(0.04*20))) -> 98.88 | T38: =1000*((Fig2A!Q8-(1.75*Fig2A!Q21)/15*1*(0.1*20))) -> 81.7 | U38: =1000*((Fig2A!Z9-(1.75*Fig2A!Z22)/15*1*(0.07*20))) -> 216.46333 | V38: =1000*((Fig2A!Q10-(1.75*Fig2A!Q22)/15*1*(0.03*20))) -> 95.7 | AD38: =1000*((Fig2A!AE13-(1.75*Fig2A!AE26)/15*1*(0.109*20))) -> 81.364333 | AE38: =1000*((Fig2A!AH13-(1.75*Fig2A!AH26)/15*1*(0.109*20))) -> 129.584 | AF38: =1000*((Fig2A!AK13-(1.75*Fig2A!AK26)/15*1*(0.062*20))) -> 128.414 | AH38: =1000*((Fig2A!AE13-(1.75*Fig2A!AE26)/15*1*(0.109*20))) -> 81.364333 | AI38: =1000*((Fig2A!AH14-(1.75*Fig2A!AH27)/15*1*(0.11*20))) -> 480.64333 | AJ38: =1000*((Fig2A!AK14-(1.75*Fig2A!AK27)/15*1*(0.044*20))) -> 117.17067
B39: =1000*((Fig2A!D12-(1.75*Fig2A!D25)/15*1*(0.129*20))) -> 69.512 | C39: =1000*((Fig2A!G12-(1.75*Fig2A!G25)/15*1*(0.129*20))) -> 204.114 | D39: =1000*((Fig2A!J12-(1.75*Fig2A!J25)/15*1*(0.125*20))) -> 118.625 | F39: =1000*((Fig2A!D12-(1.75*Fig2A!D25)/15*1*(0.129*20))) -> 69.512 | G39: =1000*((Fig2A!J13-(1.75*Fig2A!J26)/15*1*(0.129*20))) -> 690.91 | H39: =1000*((Fig2A!M13-(1.75*Fig2A!M26)/15*1*(0.125*20))) -> 211.625 | P39: =1000*((Fig2A!R8-(1.75*Fig2A!R21)/15*1*(0.1*20))) -> 82.233333 | Q39: =1000*((Fig2A!U8-(1.75*Fig2A!U21)/15*1*(0.1*20))) -> 166.23333 | R39: =1000*((Fig2A!X8-(1.75*Fig2A!X21)/15*1*(0.04*20))) -> 98.88 | T39: =1000*((Fig2A!R8-(1.75*Fig2A!R21)/15*1*(0.1*20))) -> 82.233333 | U39: =1000*((Fig2A!AA9-(1.75*Fig2A!AA22)/15*1*(0.07*20))) -> 214.62667 | V39: =1000*((Fig2A!R10-(1.75*Fig2A!R23)/15*1*(0.03*20))) -> 95.84 | AD39: =1000*((Fig2A!AF13-(1.75*Fig2A!AF26)/15*1*(0.109*20))) -> 81.364333 | AE39: =1000*((Fig2A!AI13-(1.75*Fig2A!AI26)/15*1*(0.109*20))) -> 120.61867 | AF39: =1000*((Fig2A!AL13-(1.75*Fig2A!AL26)/15*1*(0.062*20))) -> 129.12467 | AH39: =1000*((Fig2A!AF13-(1.75*Fig2A!AF26)/15*1*(0.109*20))) -> 81.364333 | AI39: =1000*((Fig2A!AI14-(1.75*Fig2A!AI27)/15*1*(0.11*20))) -> 474.87333 | AJ39: =1000*((Fig2A!AL14-(1.75*Fig2A!AL27)/15*1*(0.044*20))) -> 124.24667
A40: Mittelwert | B40: =AVERAGE(B37:B39) -> 70.644667 | C40: =AVERAGE(C37:C39) -> 204.046 | D40: =AVERAGE(D37:D39) -> 118.19444 | F40: =AVERAGE(F37:F39) -> 70.644667 | G40: =AVERAGE(G37:G39) -> 689.74167 | H40: =AVERAGE(H37:H39) -> 211 | O40: Mittelwert | P40: =AVERAGE(P37:P39) -> 81.622222 | Q40: =AVERAGE(Q37:Q39) -> 163.58889 | R40: =AVERAGE(R37:R39) -> 98.848889 | T40: =AVERAGE(T37:T39) -> 81.622222 | U40: =AVERAGE(U37:U39) -> 213.51778 | V40: =AVERAGE(V37:V39) -> 95.816667 | AC40: Mittelwert | AD40: =AVERAGE(AD37:AD39) -> 81.115778 | AE40: =AVERAGE(AE37:AE39) -> 122.85567 | AF40: =AVERAGE(AF37:AF39) -> 128.26933 | AH40: =AVERAGE(AH37:AH39) -> 81.115778 | AI40: =AVERAGE(AI37:AI39) -> 469.37778 | AJ40: =AVERAGE(AJ37:AJ39) -> 119.09333
A41: Ratio Mut/WT | B41: =B40/C40 -> 0.34621932 | C41: =C40/C40 -> 1 | D41: =D40/C40 -> 0.57925392 | F41: =F40/G40 -> 0.10242192 | G41: =G40/G40 -> 1 | H41: =H40/G40 -> 0.30591163 | O41: Ratio Mut/WT | P41: =P40/Q40 -> 0.49894723 | Q41: =Q40/Q40 -> 1 | R41: =R40/Q40 -> 0.60425185 | T41: =T40/U40 -> 0.38227366 | U41: =U40/U40 -> 1 | V41: =V40/U40 -> 0.44875264 | AC41: Ratio Mut/WT | AD41: =AD40/AE40 -> 0.66025264 | AE41: =AE40/AE40 -> 1 | AF41: =AF40/AE40 -> 1.0440653 | AH41: =AH40/AI40 -> 0.17281555 | AI41: =AI40/AI40 -> 1 | AJ41: =AJ40/AI40 -> 0.25372597
A42: Ratio lacZ/cntrl | B42: =B40/B40 -> 1 | C42: =C40/B40 -> 2.8883426 | D42: =D40/B40 -> 1.6730838 | F42: =F40/F40 -> 1 | G42: =G40/F40 -> 9.7635349 | H42: =H40/F40 -> 2.9867789 | O42: Ratio lacZ/cntrl | P42: =P40/P40 -> 1 | Q42: =Q40/P40 -> 2.00422 | R42: =R40/P40 -> 1.2110536 | T42: =T40/T40 -> 1 | U42: =U40/T40 -> 2.615927 | V42: =V40/T40 -> 1.1739042 | AC42: Ratio lacZ/cntrl | AD42: =AD40/AD40 -> 1 | AE42: =AE40/AD40 -> 1.5145718 | AF42: =AF40/AD40 -> 1.5813118 | AH42: =AH40/AH40 -> 1 | AI42: =AI40/AH40 -> 5.7865164 | AJ42: =AJ40/AH40 -> 1.4681895
A43: cntrl - lacZ | B43: =B40-B40 -> 0 | C43: =C40-B40 -> 133.40133 | D43: =D40-B40 -> 47.549778 | F43: =F40-F40 -> 0 | G43: =G40-F40 -> 619.097 | H43: =H40-F40 -> 140.35533 | O43: cntrl - lacZ | P43: =P40-P40 -> 0 | Q43: =Q40-P40 -> 81.966667 | R43: =R40-P40 -> 17.226667 | T43: =T40-T40 -> 0 | U43: =U40-T40 -> 131.89556 | V43: =V40-T40 -> 14.194444 | AC43: cntrl - lacZ | AD43: =AD40-AD40 -> 0 | AE43: =AE40-AD40 -> 41.739889 | AF43: =AF40-AD40 -> 47.153556 | AH43: =AH40-AH40 -> 0 | AI43: =AI40-AH40 -> 388.262 | AJ43: =AJ40-AH40 -> 37.977556
A44: Ratio lepA/WT | C44: =C43/C43 -> 1 | D44: =D43/C43 -> 0.35644155 | G44: =G43/G43 -> 1 | H44: =H43/G43 -> 0.22670976 | O44: Ratio lepA/WT | Q44: =Q43/Q43 -> 1 | R44: =R43/Q43 -> 0.21016673 | U44: =U43/U43 -> 1 | V44: =V43/U43 -> 0.10761882 | AC44: Ratio lepA/WT | AE44: =AE43/AE43 -> 1 | AF44: =AF43/AE43 -> 1.1297001 | AI44: =AI43/AI43 -> 1 | AJ44: =AJ43/AI43 -> 0.097814248

Sheet Fig2B
A1: Stamm: | B1: 1) SB210
B2: 2) SB212
B3: 3) 8640
A7: (FitcA=150)
B8: 8640 | J8: SB210 | R8: SB212
A10: 45926 | B10: 1 | C10: 2 | D10: 3 | E10: 4 | F10: 5 | G10: 6 | J10: 1 | K10: 2 | L10: 3 | M10: 4 | N10: 5 | O10: 6 | R10: 1 | S10: 2 | T10: 3 | U10: 4 | V10: 5 | W10: 6
A11: Mean (FITC) | B11: 69.8 | C11: 74.4 | D11: 66.9 | E11: 70.3 | F11: 76.9 | G11: 70.1 | I11: Mean (FITC) | J11: 255 | K11: 596 | L11: 404 | M11: 412 | N11: 324 | O11: 1165 | Q11: Mean (FITC) | R11: 378 | S11: 172 | T11: 202 | U11: 157 | V11: 167 | W11: 521
I12: netto gfp | J12: =J11-B11 -> 185.2 | K12: =K11-C11 -> 521.6 | L12: =L11-D11 -> 337.1 | M12: =M11-E11 -> 341.7 | N12: =N11-F11 -> 247.1 | O12: =O11-G11 -> 1094.9 | Q12: netto gfp | R12: =R11-B11 -> 308.2 | S12: =S11-C11 -> 97.6 | T12: =T11-D11 -> 135.1 | U12: =U11-E11 -> 86.7 | V12: =V11-F11 -> 90.1 | W12: =W11-G11 -> 450.9
A16: 45940 | B16: 1 | C16: 2 | D16: 3 | E16: 4 | F16: 5 | G16: 6 | J16: 1 | K16: 2 | L16: 3 | M16: 4 | N16: 5 | O16: 6 | R16: 1 | S16: 2 | T16: 3 | U16: 4 | V16: 5 | W16: 6
A17: Mean (FITC) | B17: 122 | C17: 79.1 | D17: 94.4 | E17: 88.1 | F17: 71.1 | G17: 66.5 | I17: Mean (FITC) | J17: 234 | K17: 267 | L17: 316 | M17: 252 | N17: 161 | O17: 876 | Q17: Mean (FITC) | R17: 181 | S17: 123 | T17: 174 | U17: 202 | V17: 206 | W17: 402
I18: netto gfp | J18: =J17-B17 -> 112 | K18: =K17-C17 -> 187.9 | L18: =L17-D17 -> 221.6 | M18: =M17-E17 -> 163.9 | N18: =N17-F17 -> 89.9 | O18: =O17-G17 -> 809.5 | Q18: netto gfp | R18: =R17-B17 -> 59 | S18: =S17-C17 -> 43.9 | T18: =T17-D17 -> 79.6 | U18: =U17-E17 -> 113.9 | V18: =V17-F17 -> 134.9 | W18: =W17-G17 -> 335.5
A22: 45947 | B22: 1 | C22: 2 | D22: 3 | E22: 4 | F22: 5 | G22: 6 | J22: 1 | K22: 2 | L22: 3 | M22: 4 | N22: 5 | O22: 6 | R22: 1 | S22: 2 | T22: 3 | U22: 4 | V22: 5 | W22: 6
A23: Mean (FITC) | B23: 81.7 | C23: 77.4 | D23: 63.8 | E23: 66.1 | F23: 62.6 | G23: 65.3 | I23: Mean (FITC) | J23: 492 | K23: 443 | L23: 366 | M23: 448 | N23: 375 | O23: 1300 | Q23: Mean (FITC) | R23: 212 | S23: 182 | T23: 147 | U23: 178 | V23: 144 | W23: 380
I24: netto gfp | J24: =J23-B23 -> 410.3 | K24: =K23-C23 -> 365.6 | L24: =L23-D23 -> 302.2 | M24: =M23-E23 -> 381.9 | N24: =N23-F23 -> 312.4 | O24: =O23-G23 -> 1234.7 | Q24: netto gfp | R24: =R23-B23 -> 130.3 | S24: =S23-C23 -> 104.6 | T24: =T23-D23 -> 83.2 | U24: =U23-E23 -> 111.9 | V24: =V23-F23 -> 81.4 | W24: =W23-G23 -> 314.7

Sheet Fig2D
A1: Stamm: | B1: 1) 8640
B2: 2) SB6
A7: CT-Werte | G7: CT-Werte | M7: CT-Werte
A9: 8640 LB | B9: SB6 LB | D9: 8640 DMEM | E9: SB6 DMEM | G9: 8640 LB | H9: SB6 LB | J9: 8640 DMEM | K9: SB6 DMEM | M9: 8640 LB | N9: SB6 LB | P9: 8640 DMEM | Q9: SB6 DMEM
A11: siiE | B11: siiE | D11: siiE | E11: siiE | G11: siiE | H11: siiE | J11: siiE | K11: siiE | M11: siiE | N11: siiE | P11: siiE | Q11: siiE
A13: 20.213 | B13: 21.402 | D13: 19.639 | E13: 20.045 | G13: 19.567 | H13: 20.475 | J13: 19.48 | K13: 18.963 | M13: 21.67 | N13: 22.559 | P13: 19.123 | Q13: 20.556
A14: 20.261 | B14: 21.507 | D14: 19.779 | E14: 20.428 | G14: 19.309 | H14: 20.648 | J14: 19.926 | K14: 19.817 | M14: 21.734 | N14: 22.618 | P14: 19.562 | Q14: 20.971
A17: trpA | B17: trpA | D17: trpA | E17: trpA | G17: trpA | H17: trpA | J17: trpA | K17: trpA | M17: trpA | N17: trpA | P17: trpA | Q17: trpA
A19: 19.185 | B19: 19.975 | D19: 19.682 | E19: 18.936 | G19: 17.97 | H19: 20.07 | J19: 19.085 | K19: 18.224 | M19: 20.997 | N19: 21.122 | P19: 19.365 | Q19: 19.294
A20: 20.555 | B20: 20.867 | D20: 19.88 | E20: 18.969 | G20: 18.218 | H20: 20.153 | J20: 18.528 | K20: 19.31 | M20: 21.122 | N20: 21.211 | P20: 19.326 | Q20: 19.929
A23: CT (Durchschnitt) | G23: CT (Durchschnitt) | M23: CT (Durchschnitt)
A25: 8640 LB | B25: SB6 LB | D25: 8640 DMEM | E25: SB6 DMEM | G25: 8640 LB | H25: SB6 LB | J25: 8640 DMEM | K25: SB6 DMEM | M25: 8640 LB | N25: SB6 LB | P25: 8640 DMEM | Q25: SB6 DMEM
A27: siiE | B27: siiE | D27: siiE | E27: siiE | G27: siiE | H27: siiE | J27: siiE | K27: siiE | M27: siiE | N27: siiE | P27: siiE | Q27: siiE
A29: =AVERAGE(Fig2D!A13:A14) -> 20.237 | B29: =AVERAGE(Fig2D!B13:B14) -> 21.4545 | D29: =AVERAGE(Fig2D!D13:D14) -> 19.709 | E29: =AVERAGE(Fig2D!E13:E14) -> 20.2365 | G29: =AVERAGE(Fig2D!G13:G14) -> 19.438 | H29: =AVERAGE(Fig2D!H13:H14) -> 20.5615 | J29: =AVERAGE(Fig2D!J13:J14) -> 19.703 | K29: =AVERAGE(Fig2D!K13:K14) -> 19.39 | M29: =AVERAGE(Fig2D!M13:M14) -> 21.702 | N29: =AVERAGE(Fig2D!N13:N14) -> 22.5885 | P29: =AVERAGE(Fig2D!P13:P14) -> 19.3425 | Q29: =AVERAGE(Fig2D!Q13:Q14) -> 20.7635
A33: trpA | B33: trpA | D33: trpA | E33: trpA | G33: trpA | H33: trpA | J33: trpA | K33: trpA | M33: trpA | N33: trpA | P33: trpA | Q33: trpA
A35: =AVERAGE(Fig2D!A19:A20) -> 19.87 | B35: =AVERAGE(Fig2D!B19:B20) -> 20.421 | D35: =AVERAGE(Fig2D!D19:D20) -> 19.781 | E35: =AVERAGE(Fig2D!E19:E20) -> 18.9525 | G35: =AVERAGE(Fig2D!G19:G20) -> 18.094 | H35: =AVERAGE(Fig2D!H19:H20) -> 20.1115 | J35: =AVERAGE(Fig2D!J19:J20) -> 18.8065 | K35: =AVERAGE(Fig2D!K19:K20) -> 18.767 | M35: =AVERAGE(Fig2D!M19:M20) -> 21.0595 | N35: =AVERAGE(Fig2D!N19:N20) -> 21.1665 | P35: =AVERAGE(Fig2D!P19:P20) -> 19.3455 | Q35: =AVERAGE(Fig2D!Q19:Q20) -> 19.6115
A41: Norm. to trpA (ΔCT) -> Durchschnitt | G41: Norm. to trpA (ΔCT) -> Durchschnitt | M41: Norm. to trpA (ΔCT) -> Durchschnitt
A43: 8640 LB | B43: SB6 LB | D43: 8640 DMEM | E43: SB6 DMEM | G43: 8640 LB | H43: SB6 LB | J43: 8640 DMEM | K43: SB6 DMEM | M43: 8640 LB | N43: SB6 LB | P43: 8640 DMEM | Q43: SB6 DMEM
A45: siiE | B45: siiE | D45: siiE | E45: siiE | G45: siiE | H45: siiE | J45: siiE | K45: siiE | M45: siiE | N45: siiE | P45: siiE | Q45: siiE
A47: =A29-A35 -> 0.367 | B47: =B29-B35 -> 1.0335 | D47: =D29-D35 -> -0.072 | E47: =E29-E35 -> 1.284 | G47: =G29-G35 -> 1.344 | H47: =H29-H35 -> 0.45 | J47: =J29-J35 -> 0.8965 | K47: =K29-K35 -> 0.623 | M47: =M29-M35 -> 0.6425 | N47: =N29-N35 -> 1.422 | P47: =P29-P35 -> -0.003 | Q47: =Q29-Q35 -> 1.152
A53: ΔΔCt (Durchschnitt) | G53: ΔΔCt (Durchschnitt) | M53: ΔΔCt (Durchschnitt)
A55: 8640 LB | B55: SB6 LB | D55: 8640 DMEM | E55: SB6 DMEM | G55: 8640 LB | H55: SB6 LB | J55: 8640 DMEM | K55: SB6 DMEM | M55: 8640 LB | N55: SB6 LB | P55: 8640 DMEM | Q55: SB6 DMEM
A57: siiE | B57: siiE | D57: siiE | E57: siiE | G57: siiE | H57: siiE | J57: siiE | K57: siiE | M57: siiE | N57: siiE | P57: siiE | Q57: siiE
A59: =A47-A47 -> 0 | B59: =A47-B47 -> -0.6665 | D59: =A47-D47 -> 0.439 | E59: =A47-E47 -> -0.917 | G59: =G47-G47 -> 0 | H59: =G47-H47 -> 0.894 | J59: =G47-J47 -> 0.4475 | K59: =G47-K47 -> 0.721 | M59: =M47-M47 -> 0 | N59: =M47-N47 -> -0.7795 | P59: =M47-P47 -> 0.6455 | Q59: =M47-Q47 -> -0.5095
A63: 2^-ΔΔCt (Durchsnitt) | G63: 2^-ΔΔCt (Durchsnitt) | M63: 2^-ΔΔCt (Durchsnitt)
A65: 8640 LB | B65: SB6 LB | D65: 8640 DMEM | E65: SB6 DMEM | G65: 8640 LB | H65: SB6 LB | J65: 8640 DMEM | K65: SB6 DMEM | M65: 8640 LB | N65: SB6 LB | P65: 8640 DMEM | Q65: SB6 DMEM
A67: siiE | B67: siiE | D67: siiE | E67: siiE | G67: siiE | H67: siiE | J67: siiE | K67: siiE | M67: siiE | N67: siiE | P67: siiE | Q67: siiE
A69: =2^A59 -> 1 | B69: =2^B59 -> 0.63003331 | D69: =2^D59 -> 1.3556643 | E69: =2^E59 -> 0.52960917 | G69: =2^G59 -> 1 | H69: =2^H59 -> 1.8583213 | J69: =2^J59 -> 1.3636751 | K69: =2^K59 -> 1.6483242 | M69: =2^M59 -> 1 | N69: =2^N59 -> 0.58256866 | P69: =2^P59 -> 1.5642813 | Q69: =2^Q59 -> 0.70246585

Sheet Fig2E
A1: Stamm | B1: 1) 8640
B2: 2) SB6
B3: 3) 9436
A7: diameter of circle (mm)
B9: 8640 | F9: SB6 | J9: 9436
B10: 17 | C10: 17 | D10: 21 | F10: 14 | G10: 11 | H10: 12 | J10: 2 | K10: 1 | L10: 2

Sheet Fig3
A1: Stamm: | B1: 1) 8640 | D1: 0 = lebendig
B2: 2) SB6 | D2: 1 = tot
B3: 3) SB556
C7: 8640 | U7: SB6
C8: t (h) | F8: t (h) | I8: t (h) | L8: t (h) | O8: t (h) | R8: t (h) | U8: t (h) | X8: t (h) | AA8: t (h) | AD8: t (h) | AG8: t (h) | AJ8: t (h)
B9: 1. | C9: 0 | D9: 0 | F9: 2 | G9: 0 | I9: 4 | J9: 0 | L9: 6 | M9: 0 | O9: 24 | P9: 1 | R9: 48 | S9: 1 | U9: 0 | V9: 0 | X9: 2 | Y9: 0 | AA9: 4 | AB9: 0 | AD9: 6 | AE9: 0 | AG9: 24 | AH9: 1 | AJ9: 48 | AK9: 1
B10: 2. | C10: 0 | D10: 0 | F10: 2 | G10: 0 | I10: 4 | J10: 0 | L10: 6 | M10: 0 | O10: 24 | P10: 1 | R10: 48 | S10: 1 | U10: 0 | V10: 0 | X10: 2 | Y10: 0 | AA10: 4 | AB10: 0 | AD10: 6 | AE10: 0 | AG10: 24 | AH10: 1 | AJ10: 48 | AK10: 1
B11: 3. | C11: 0 | D11: 0 | F11: 2 | G11: 0 | I11: 4 | J11: 0 | L11: 6 | M11: 0 | O11: 24 | P11: 1 | R11: 48 | S11: 1 | U11: 0 | V11: 0 | X11: 2 | Y11: 0 | AA11: 4 | AB11: 0 | AD11: 6 | AE11: 0 | AG11: 24 | AH11: 1 | AJ11: 48 | AK11: 1
B12: 4. | C12: 0 | D12: 0 | F12: 2 | G12: 0 | I12: 4 | J12: 0 | L12: 6 | M12: 0 | O12: 24 | P12: 1 | R12: 48 | S12: 1 | U12: 0 | V12: 0 | X12: 2 | Y12: 0 | AA12: 4 | AB12: 0 | AD12: 6 | AE12: 0 | AG12: 24 | AH12: 0 | AJ12: 48 | AK12: 0
B13: 5. | C13: 0 | D13: 0 | F13: 2 | G13: 0 | I13: 4 | J13: 0 | L13: 6 | M13: 0 | O13: 24 | P13: 1 | R13: 48 | S13: 1 | U13: 0 | V13: 0 | X13: 2 | Y13: 0 | AA13: 4 | AB13: 0 | AD13: 6 | AE13: 0 | AG13: 24 | AH13: 0 | AJ13: 48 | AK13: 0
B14: 6. | C14: 0 | D14: 0 | F14: 2 | G14: 0 | I14: 4 | J14: 0 | L14: 6 | M14: 0 | O14: 24 | P14: 1 | R14: 48 | S14: 1 | U14: 0 | V14: 0 | X14: 2 | Y14: 0 | AA14: 4 | AB14: 0 | AD14: 6 | AE14: 0 | AG14: 24 | AH14: 0 | AJ14: 48 | AK14: 0
B15: 7. | C15: 0 | D15: 0 | F15: 2 | G15: 0 | I15: 4 | J15: 0 | L15: 6 | M15: 0 | O15: 24 | P15: 1 | R15: 48 | S15: 1 | U15: 0 | V15: 0 | X15: 2 | Y15: 0 | AA15: 4 | AB15: 0 | AD15: 6 | AE15: 0 | AG15: 24 | AH15: 0 | AJ15: 48 | AK15: 0
B16: 8. | C16: 0 | D16: 0 | F16: 2 | G16: 0 | I16: 4 | J16: 0 | L16: 6 | M16: 0 | O16: 24 | P16: 1 | R16: 48 | S16: 1 | U16: 0 | V16: 0 | X16: 2 | Y16: 0 | AA16: 4 | AB16: 0 | AD16: 6 | AE16: 0 | AG16: 24 | AH16: 0 | AJ16: 48 | AK16: 0
B17: 9. | C17: 0 | D17: 0 | F17: 2 | G17: 0 | I17: 4 | J17: 0 | L17: 6 | M17: 0 | O17: 24 | P17: 1 | R17: 48 | S17: 1 | U17: 0 | V17: 0 | X17: 2 | Y17: 0 | AA17: 4 | AB17: 0 | AD17: 6 | AE17: 0 | AG17: 24 | AH17: 0 | AJ17: 48 | AK17: 0
B18: 10. | C18: 0 | D18: 0 | F18: 2 | G18: 0 | I18: 4 | J18: 0 | L18: 6 | M18: 0 | O18: 24 | P18: 1 | R18: 48 | S18: 1 | U18: 0 | V18: 0 | X18: 2 | Y18: 0 | AA18: 4 | AB18: 0 | AD18: 6 | AE18: 0 | AG18: 24 | AH18: 0 | AJ18: 48 | AK18: 0
B19: 11. | C19: 0 | D19: 0 | F19: 2 | G19: 0 | I19: 4 | J19: 0 | L19: 6 | M19: 0 | O19: 24 | P19: 1 | R19: 48 | S19: 1 | U19: 0 | V19: 0 | X19: 2 | Y19: 0 | AA19: 4 | AB19: 0 | AD19: 6 | AE19: 0 | AG19: 24 | AH19: 0 | AJ19: 48 | AK19: 0
B20: 12. | C20: 0 | D20: 0 | F20: 2 | G20: 0 | I20: 4 | J20: 0 | L20: 6 | M20: 0 | O20: 24 | P20: 1 | R20: 48 | S20: 1 | U20: 0 | V20: 0 | X20: 2 | Y20: 0 | AA20: 4 | AB20: 0 | AD20: 6 | AE20: 0 | AG20: 24 | AH20: 0 | AJ20: 48 | AK20: 0
... B23: 15. | C23: 0 | D23: 0 | F23: 2 | G23: 0 | I23: 4 | J23: 0 | L23: 6 | M23: 0 | O23: 24 | P23: 0 | R23: 48 | S23: 0 | U23: 0 | V23: 0 | X23: 2 | Y23: 0 | AA23: 4 | AB23: 0 | AD23: 6 | AE23: 0 | AG23: 24 | AH23: 0 | AJ23: 48 | AK23: 0
C28: lepA+ | U28: PBS (cntrl)
C29: t (h) | F29: t (h) | I29: t (h) | L29: t (h) | O29: t (h) | R29: t (h) | U29: t (h) | X29: t (h) | AA29: t (h) | AD29: t (h) | AG29: t (h) | AJ29: t (h)
B30: 1. | C30: 0 | D30: 0 | F30: 2 | G30: 0 | I30: 4 | J30: 0 | L30: 6 | M30: 0 | O30: 24 | P30: 1 | R30: 48 | S30: 1 | U30: 0 | V30: 0 | X30: 2 | Y30: 0 | AA30: 4 | AB30: 0 | AD30: 6 | AE30: 0 | AG30: 24 | AH30: 0 | AJ30: 48 | AK30: 0
B31: 2. | C31: 0 | D31: 0 | F31: 2 | G31: 0 | I31: 4 | J31: 0 | L31: 6 | M31: 0 | O31: 24 | P31: 1 | R31: 48 | S31: 1 | U31: 0 | V31: 0 | X31: 2 | Y31: 0 | AA31: 4 | AB31: 0 | AD31: 6 | AE31: 0 | AG31: 24 | AH31: 0 | AJ31: 48 | AK31: 0
B32: 3. | C32: 0 | D32: 0 | F32: 2 | G32: 0 | I32: 4 | J32: 0 | L32: 6 | M32: 0 | O32: 24 | P32: 1 | R32: 48 | S32: 1 | U32: 0 | V32: 0 | X32: 2 | Y32: 0 | AA32: 4 | AB32: 0 | AD32: 6 | AE32: 0 | AG32: 24 | AH32: 0 | AJ32: 48 | AK32: 0
B33: 4. | C33: 0 | D33: 0 | F33: 2 | G33: 0 | I33: 4 | J33: 0 | L33: 6 | M33: 0 | O33: 24 | P33: 1 | R33: 48 | S33: 1 | U33: 0 | V33: 0 | X33: 2 | Y33: 0 | AA33: 4 | AB33: 0 | AD33: 6 | AE33: 0 | AG33: 24 | AH33: 0 | AJ33: 48 | AK33: 0
B34: 5. | C34: 0 | D34: 0 | F34: 2 | G34: 0 | I34: 4 | J34: 0 | L34: 6 | M34: 0 | O34: 24 | P34: 1 | R34: 48 | S34: 1 | U34: 0 | V34: 0 | X34: 2 | Y34: 0 | AA34: 4 | AB34: 0 | AD34: 6 | AE34: 0 | AG34: 24 | AH34: 0 | AJ34: 48 | AK34: 0
B35: 6. | C35: 0 | D35: 0 | F35: 2 | G35: 0 | I35: 4 | J35: 0 | L35: 6 | M35: 0 | O35: 24 | P35: 1 | R35: 48 | S35: 1 | U35: 0 | V35: 0 | X35: 2 | Y35: 0 | AA35: 4 | AB35: 0 | AD35: 6 | AE35: 0 | AG35: 24 | AH35: 0 | AJ35: 48 | AK35: 0
B36: 7. | C36: 0 | D36: 0 | F36: 2 | G36: 0 | I36: 4 | J36: 0 | L36: 6 | M36: 0 | O36: 24 | P36: 1 | R36: 48 | S36: 1 | U36: 0 | V36: 0 | X36: 2 | Y36: 0 | AA36: 4 | AB36: 0 | AD36: 6 | AE36: 0 | AG36: 24 | AH36: 0 | AJ36: 48 | AK36: 0
B37: 8. | C37: 0 | D37: 0 | F37: 2 | G37: 0 | I37: 4 | J37: 0 | L37: 6 | M37: 0 | O37: 24 | P37: 1 | R37: 48 | S37: 1 | U37: 0 | V37: 0 | X37: 2 | Y37: 0 | AA37: 4 | AB37: 0 | AD37: 6 | AE37: 0 | AG37: 24 | AH37: 0 | AJ37: 48 | AK37: 0
B38: 9. | C38: 0 | D38: 0 | F38: 2 | G38: 0 | I38: 4 | J38: 0 | L38: 6 | M38: 0 | O38: 24 | P38: 1 | R38: 48 | S38: 1 | U38: 0 | V38: 0 | X38: 2 | Y38: 0 | AA38: 4 | AB38: 0 | AD38: 6 | AE38: 0 | AG38: 24 | AH38: 0 | AJ38: 48 | AK38: 0
B39: 10. | C39: 0 | D39: 0 | F39: 2 | G39: 0 | I39: 4 | J39: 0 | L39: 6 | M39: 0 | O39: 24 | P39: 1 | R39: 48 | S39: 1 | U39: 0 | V39: 0 | X39: 2 | Y39: 0 | AA39: 4 | AB39: 0 | AD39: 6 | AE39: 0 | AG39: 24 | AH39: 0 | AJ39: 48 | AK39: 0
B40: 11. | C40: 0 | D40: 0 | F40: 2 | G40: 0 | I40: 4 | J40: 0 | L40: 6 | M40: 0 | O40: 24 | P40: 1 | R40: 48 | S40: 1 | U40: 0 | V40: 0 | X40: 2 | Y40: 0 | AA40: 4 | AB40: 0 | AD40: 6 | AE40: 0 | AG40: 24 | AH40: 0 | AJ40: 48 | AK40: 0
B41: 12. | C41: 0 | D41: 0 | F41: 2 | G41: 0 | I41: 4 | J41: 0 | L41: 6 | M41: 0 | O41: 24 | P41: 0 | R41: 48 | S41: 0 | U41: 0 | V41: 0 | X41: 2 | Y41: 0 | AA41: 4 | AB41: 0 | AD41: 6 | AE41: 0 | AG41: 24 | AH41: 0 | AJ41: 48 | AK41: 0
... B44: 15. | C44: 0 | D44: 0 | F44: 2 | G44: 0 | I44: 4 | J44: 0 | L44: 6 | M44: 0 | O44: 24 | P44: 0 | R44: 48 | S44: 0 | U44: 0 | V44: 0 | X44: 2 | Y44: 0 | AA44: 4 | AB44: 0 | AD44: 6 | AE44: 0 | AG44: 24 | AH44: 0 | AJ44: 48 | AK44: 0
B49: CFU
B51: 8640 | C51: SB6 | D51: SB556
B52: 103->10µl
B53: 11 | C53: 10 | D53: 21
B54: 10 | C54: 16 | D54: 22
B55: 20 | C55: 13 | D55: 24
A56: Mittelwert | B56: =AVERAGE(B53:B55) -> 13.666667 | C56: =AVERAGE(C53:C55) -> 13 | D56: =AVERAGE(D53:D55) -> 22.333333
A57: Standardabweichung | B57: =STDEVA(B53:B55) -> 5.5075705 | C57: =STDEVA(C53:C55) -> 3 | D57: =STDEVA(D53:D55) -> 1.5275252
A58: CFU/ml | B58: 1366000 | C58: 1300000 | D58: 2233000
A59: in 10µl | B59: =B58/(100) -> 13660 | C59: =C58/(100) -> 13000 | D59: =D58/(100) -> 22330
C63: 8640 | U63: SB6
C64: t (h) | F64: t (h) | I64: t (h) | L64: t (h) | O64: t (h) | R64: t (h) | U64: t (h) | X64: t (h) | AA64: t (h) | AD64: t (h) | AG64: t (h) | AJ64: t (h)
B65: 1. | C65: 0 | D65: 0 | F65: 2 | G65: 0 | I65: 4 | J65: 0 | L65: 6 | M65: 0 | O65: 24 | P65: 1 | R65: 48 | S65: 1 | U65: 0 | V65: 0 | X65: 2 | Y65: 0 | AA65: 4 | AB65: 0 | AD65: 6 | AE65: 0 | AG65: 24 | AH65: 1 | AJ65: 48 | AK65: 1
B66: 2. | C66: 0 | D66: 0 | F66: 2 | G66: 0 | I66: 4 | J66: 0 | L66: 6 | M66: 0 | O66: 24 | P66: 1 | R66: 48 | S66: 1 | U66: 0 | V66: 0 | X66: 2 | Y66: 0 | AA66: 4 | AB66: 0 | AD66: 6 | AE66: 0 | AG66: 24 | AH66: 1 | AJ66: 48 | AK66: 1
B67: 3. | C67: 0 | D67: 0 | F67: 2 | G67: 0 | I67: 4 | J67: 0 | L67: 6 | M67: 0 | O67: 24 | P67: 1 | R67: 48 | S67: 1 | U67: 0 | V67: 0 | X67: 2 | Y67: 0 | AA67: 4 | AB67: 0 | AD67: 6 | AE67: 0 | AG67: 24 | AH67: 0 | AJ67: 48 | AK67: 1
B68: 4. | C68: 0 | D68: 0 | F68: 2 | G68: 0 | I68: 4 | J68: 0 | L68: 6 | M68: 0 | O68: 24 | P68: 1 | R68: 48 | S68: 1 | U68: 0 | V68: 0 | X68: 2 | Y68: 0 | AA68: 4 | AB68: 0 | AD68: 6 | AE68: 0 | AG68: 24 | AH68: 0 | AJ68: 48 | AK68: 1
B69: 5. | C69: 0 | D69: 0 | F69: 2 | G69: 0 | I69: 4 | J69: 0 | L69: 6 | M69: 0 | O69: 24 | P69: 1 | R69: 48 | S69: 1 | U69: 0 | V69: 0 | X69: 2 | Y69: 0 | AA69: 4 | AB69: 0 | AD69: 6 | AE69: 0 | AG69: 24 | AH69: 0 | AJ69: 48 | AK69: 0
B70: 6. | C70: 0 | D70: 0 | F70: 2 | G70: 0 | I70: 4 | J70: 0 | L70: 6 | M70: 0 | O70: 24 | P70: 1 | R70: 48 | S70: 1 | U70: 0 | V70: 0 | X70: 2 | Y70: 0 | AA70: 4 | AB70: 0 | AD70: 6 | AE70: 0 | AG70: 24 | AH70: 0 | AJ70: 48 | AK70: 0
B71: 7. | C71: 0 | D71: 0 | F71: 2 | G71: 0 | I71: 4 | J71: 0 | L71: 6 | M71: 0 | O71: 24 | P71: 1 | R71: 48 | S71: 1 | U71: 0 | V71: 0 | X71: 2 | Y71: 0 | AA71: 4 | AB71: 0 | AD71: 6 | AE71: 0 | AG71: 24 | AH71: 0 | AJ71: 48 | AK71: 0
B72: 8. | C72: 0 | D72: 0 | F72: 2 | G72: 0 | I72: 4 | J72: 0 | L72: 6 | M72: 0 | O72: 24 | P72: 1 | R72: 48 | S72: 1 | U72: 0 | V72: 0 | X72: 2 | Y72: 0 | AA72: 4 | AB72: 0 | AD72: 6 | AE72: 0 | AG72: 24 | AH72: 0 | AJ72: 48 | AK72: 0
B73: 9. | C73: 0 | D73: 0 | F73: 2 | G73: 0 | I73: 4 | J73: 0 | L73: 6 | M73: 0 | O73: 24 | P73: 1 | R73: 48 | S73: 1 | U73: 0 | V73: 0 | X73: 2 | Y73: 0 | AA73: 4 | AB73: 0 | AD73: 6 | AE73: 0 | AG73: 24 | AH73: 0 | AJ73: 48 | AK73: 0
B74: 10. | C74: 0 | D74: 0 | F74: 2 | G74: 0 | I74: 4 | J74: 0 | L74: 6 | M74: 0 | O74: 24 | P74: 1 | R74: 48 | S74: 1 | U74: 0 | V74: 0 | X74: 2 | Y74: 0 | AA74: 4 | AB74: 0 | AD74: 6 | AE74: 0 | AG74: 24 | AH74: 0 | AJ74: 48 | AK74: 0
B75: 11. | C75: 0 | D75: 0 | F75: 2 | G75: 0 | I75: 4 | J75: 0 | L75: 6 | M75: 0 | O75: 24 | P75: 1 | R75: 48 | S75: 1 | U75: 0 | V75: 0 | X75: 2 | Y75: 0 | AA75: 4 | AB75: 0 | AD75: 6 | AE75: 0 | AG75: 24 | AH75: 0 | AJ75: 48 | AK75: 0
B76: 12. | C76: 0 | D76: 0 | F76: 2 | G76: 0 | I76: 4 | J76: 0 | L76: 6 | M76: 0 | O76: 24 | P76: 1 | R76: 48 | S76: 1 | U76: 0 | V76: 0 | X76: 2 | Y76: 0 | AA76: 4 | AB76: 0 | AD76: 6 | AE76: 0 | AG76: 24 | AH76: 0 | AJ76: 48 | AK76: 0
... B79: 15. | C79: 0 | D79: 0 | F79: 2 | G79: 0 | I79: 4 | J79: 0 | L79: 6 | M79: 0 | O79: 24 | P79: 0 | R79: 48 | S79: 0 | U79: 0 | V79: 0 | X79: 2 | Y79: 0 | AA79: 4 | AB79: 0 | AD79: 6 | AE79: 0 | AG79: 24 | AH79: 0 | AJ79: 48 | AK79: 0
C84: lepA+ | U84: PBS (cntrl)
C85: t (h) | F85: t (h) | I85: t (h) | L85: t (h) | O85: t (h) | R85: t (h) | U85: t (h) | X85: t (h) | AA85: t (h) | AD85: t (h) | AG85: t (h) | AJ85: t (h)
B86: 1. | C86: 0 | D86: 0 | F86: 2 | G86: 0 | I86: 4 | J86: 0 | L86: 6 | M86: 0 | O86: 24 | P86: 1 | R86: 48 | S86: 1 | U86: 0 | V86: 0 | X86: 2 | Y86: 0 | AA86: 4 | AB86: 0 | AD86: 6 | AE86: 0 | AG86: 24 | AH86: 0 | AJ86: 48 | AK86: 0
B87: 2. | C87: 0 | D87: 0 | F87: 2 | G87: 0 | I87: 4 | J87: 0 | L87: 6 | M87: 0 | O87: 24 | P87: 1 | R87: 48 | S87: 1 | U87: 0 | V87: 0 | X87: 2 | Y87: 0 | AA87: 4 | AB87: 0 | AD87: 6 | AE87: 0 | AG87: 24 | AH87: 0 | AJ87: 48 | AK87: 0
B88: 3. | C88: 0 | D88: 0 | F88: 2 | G88: 0 | I88: 4 | J88: 0 | L88: 6 | M88: 0 | O88: 24 | P88: 1 | R88: 48 | S88: 1 | U88: 0 | V88: 0 | X88: 2 | Y88: 0 | AA88: 4 | AB88: 0 | AD88: 6 | AE88: 0 | AG88: 24 | AH88: 0 | AJ88: 48 | AK88: 0
B89: 4. | C89: 0 | D89: 0 | F89: 2 | G89: 0 | I89: 4 | J89: 0 | L89: 6 | M89: 0 | O89: 24 | P89: 1 | R89: 48 | S89: 1 | U89: 0 | V89: 0 | X89: 2 | Y89: 0 | AA89: 4 | AB89: 0 | AD89: 6 | AE89: 0 | AG89: 24 | AH89: 0 | AJ89: 48 | AK89: 0
B90: 5. | C90: 0 | D90: 0 | F90: 2 | G90: 0 | I90: 4 | J90: 0 | L90: 6 | M90: 0 | O90: 24 | P90: 1 | R90: 48 | S90: 1 | U90: 0 | V90: 0 | X90: 2 | Y90: 0 | AA90: 4 | AB90: 0 | AD90: 6 | AE90: 0 | AG90: 24 | AH90: 0 | AJ90: 48 | AK90: 0
B91: 6. | C91: 0 | D91: 0 | F91: 2 | G91: 0 | I91: 4 | J91: 0 | L91: 6 | M91: 0 | O91: 24 | P91: 1 | R91: 48 | S91: 1 | U91: 0 | V91: 0 | X91: 2 | Y91: 0 | AA91: 4 | AB91: 0 | AD91: 6 | AE91: 0 | AG91: 24 | AH91: 0 | AJ91: 48 | AK91: 0
B92: 7. | C92: 0 | D92: 0 | F92: 2 | G92: 0 | I92: 4 | J92: 0 | L92: 6 | M92: 0 | O92: 24 | P92: 1 | R92: 48 | S92: 1 | U92: 0 | V92: 0 | X92: 2 | Y92: 0 | AA92: 4 | AB92: 0 | AD92: 6 | AE92: 0 | AG92: 24 | AH92: 0 | AJ92: 48 | AK92: 0
B93: 8. | C93: 0 | D93: 0 | F93: 2 | G93: 0 | I93: 4 | J93: 0 | L93: 6 | M93: 0 | O93: 24 | P93: 1 | R93: 48 | S93: 1 | U93: 0 | V93: 0 | X93: 2 | Y93: 0 | AA93: 4 | AB93: 0 | AD93: 6 | AE93: 0 | AG93: 24 | AH93: 0 | AJ93: 48 | AK93: 0
B94: 9. | C94: 0 | D94: 0 | F94: 2 | G94: 0 | I94: 4 | J94: 0 | L94: 6 | M94: 0 | O94: 24 | P94: 1 | R94: 48 | S94: 1 | U94: 0 | V94: 0 | X94: 2 | Y94: 0 | AA94: 4 | AB94: 0 | AD94: 6 | AE94: 0 | AG94: 24 | AH94: 0 | AJ94: 48 | AK94: 0
B95: 10. | C95: 0 | D95: 0 | F95: 2 | G95: 0 | I95: 4 | J95: 0 | L95: 6 | M95: 0 | O95: 24 | P95: 1 | R95: 48 | S95: 1 | U95: 0 | V95: 0 | X95: 2 | Y95: 0 | AA95: 4 | AB95: 0 | AD95: 6 | AE95: 0 | AG95: 24 | AH95: 0 | AJ95: 48 | AK95: 0
B96: 11. | C96: 0 | D96: 0 | F96: 2 | G96: 0 | I96: 4 | J96: 0 | L96: 6 | M96: 0 | O96: 24 | P96: 1 | R96: 48 | S96: 1 | U96: 0 | V96: 0 | X96: 2 | Y96: 0 | AA96: 4 | AB96: 0 | AD96: 6 | AE96: 0 | AG96: 24 | AH96: 0 | AJ96: 48 | AK96: 0
B97: 12. | C97: 0 | D97: 0 | F97: 2 | G97: 0 | I97: 4 | J97: 0 | L97: 6 | M97: 0 | O97: 24 | P97: 0 | R97: 48 | S97: 0 | U97: 0 | V97: 0 | X97: 2 | Y97: 0 | AA97: 4 | AB97: 0 | AD97: 6 | AE97: 0 | AG97: 24 | AH97: 0 | AJ97: 48 | AK97: 0
... B100: 15. | C100: 0 | D100: 0 | F100: 2 | G100: 0 | I100: 4 | J100: 0 | L100: 6 | M100: 0 | O100: 24 | P100: 0 | R100: 48 | S100: 0 | U100: 0 | V100: 0 | X100: 2 | Y100: 0 | AA100: 4 | AB100: 0 | AD100: 6 | AE100: 0 | AG100: 24 | AH100: 0 | AJ100: 48 | AK100: 0
B105: CFU
B107: 8640 | C107: SB6 | D107: SB556
B108: 103->10µl
B109: 21 | C109: 12 | D109: 26
B110: 26 | C110: 13 | D110: 29
B111: 19 | C111: 15 | D111: 15
A112: Mittelwert | B112: =AVERAGE(B109:B111) -> 22 | C112: =AVERAGE(C109:C111) -> 13.333333 | D112: =AVERAGE(D109:D111) -> 23.333333
A113: Standardabweichung | B113: =STDEVA(B109:B111) -> 3.6055513 | C113: =STDEVA(C109:C111) -> 1.5275252 | D113: =STDEVA(D109:D111) -> 7.3711148
A114: CFU/ml | B114: 2200000 | C114: 1333000 | D114: 2333000
A115: in 10µl | B115: =B114/(100) -> 22000 | C115: =C114/(100) -> 13330 | D115: =D114/(100) -> 23330
C119: 8640 | U119: SB6
C120: t (h) | F120: t (h) | I120: t (h) | L120: t (h) | O120: t (h) | R120: t (h) | U120: t (h) | X120: t (h) | AA120: t (h) | AD120: t (h) | AG120: t (h) | AJ120: t (h)
B121: 1. | C121: 0 | D121: 0 | F121: 2 | G121: 0 | I121: 4 | J121: 0 | L121: 6 | M121: 0 | O121: 24 | P121: 1 | R121: 48 | S121: 1 | U121: 0 | V121: 0 | X121: 2 | Y121: 0 | AA121: 4 | AB121: 0 | AD121: 6 | AE121: 0 | AG121: 24 | AH121: 1 | AJ121: 48 | AK121: 1
B122: 2. | C122: 0 | D122: 0 | F122: 2 | G122: 0 | I122: 4 | J122: 0 | L122: 6 | M122: 0 | O122: 24 | P122: 1 | R122: 48 | S122: 1 | U122: 0 | V122: 0 | X122: 2 | Y122: 0 | AA122: 4 | AB122: 0 | AD122: 6 | AE122: 0 | AG122: 24 | AH122: 1 | AJ122: 48 | AK122: 1
B123: 3. | C123: 0 | D123: 0 | F123: 2 | G123: 0 | I123: 4 | J123: 0 | L123: 6 | M123: 0 | O123: 24 | P123: 1 | R123: 48 | S123: 1 | U123: 0 | V123: 0 | X123: 2 | Y123: 0 | AA123: 4 | AB123: 0 | AD123: 6 | AE123: 0 | AG123: 24 | AH123: 1 | AJ123: 48 | AK123: 1
B124: 4. | C124: 0 | D124: 0 | F124: 2 | G124: 0 | I124: 4 | J124: 0 | L124: 6 | M124: 0 | O124: 24 | P124: 1 | R124: 48 | S124: 1 | U124: 0 | V124: 0 | X124: 2 | Y124: 0 | AA124: 4 | AB124: 0 | AD124: 6 | AE124: 0 | AG124: 24 | AH124: 1 | AJ124: 48 | AK124: 1
B125: 5. | C125: 0 | D125: 0 | F125: 2 | G125: 0 | I125: 4 | J125: 0 | L125: 6 | M125: 0 | O125: 24 | P125: 1 | R125: 48 | S125: 1 | U125: 0 | V125: 0 | X125: 2 | Y125: 0 | AA125: 4 | AB125: 0 | AD125: 6 | AE125: 0 | AG125: 24 | AH125: 1 | AJ125: 48 | AK125: 1
B126: 6. | C126: 0 | D126: 0 | F126: 2 | G126: 0 | I126: 4 | J126: 0 | L126: 6 | M126: 0 | O126: 24 | P126: 1 | R126: 48 | S126: 1 | U126: 0 | V126: 0 | X126: 2 | Y126: 0 | AA126: 4 | AB126: 0 | AD126: 6 | AE126: 0 | AG126: 24 | AH126: 0 | AJ126: 48 | AK126: 0
B127: 7. | C127: 0 | D127: 0 | F127: 2 | G127: 0 | I127: 4 | J127: 0 | L127: 6 | M127: 0 | O127: 24 | P127: 1 | R127: 48 | S127: 1 | U127: 0 | V127: 0 | X127: 2 | Y127: 0 | AA127: 4 | AB127: 0 | AD127: 6 | AE127: 0 | AG127: 24 | AH127: 0 | AJ127: 48 | AK127: 0
B128: 8. | C128: 0 | D128: 0 | F128: 2 | G128: 0 | I128: 4 | J128: 0 | L128: 6 | M128: 0 | O128: 24 | P128: 1 | R128: 48 | S128: 1 | U128: 0 | V128: 0 | X128: 2 | Y128: 0 | AA128: 4 | AB128: 0 | AD128: 6 | AE128: 0 | AG128: 24 | AH128: 0 | AJ128: 48 | AK128: 0
B129: 9. | C129: 0 | D129: 0 | F129: 2 | G129: 0 | I129: 4 | J129: 0 | L129: 6 | M129: 0 | O129: 24 | P129: 1 | R129: 48 | S129: 1 | U129: 0 | V129: 0 | X129: 2 | Y129: 0 | AA129: 4 | AB129: 0 | AD129: 6 | AE129: 0 | AG129: 24 | AH129: 0 | AJ129: 48 | AK129: 0
B130: 10. | C130: 0 | D130: 0 | F130: 2 | G130: 0 | I130: 4 | J130: 0 | L130: 6 | M130: 0 | O130: 24 | P130: 1 | R130: 48 | S130: 1 | U130: 0 | V130: 0 | X130: 2 | Y130: 0 | AA130: 4 | AB130: 0 | AD130: 6 | AE130: 0 | AG130: 24 | AH130: 0 | AJ130: 48 | AK130: 0
B131: 11. | C131: 0 | D131: 0 | F131: 2 | G131: 0 | I131: 4 | J131: 0 | L131: 6 | M131: 0 | O131: 24 | P131: 1 | R131: 48 | S131: 1 | U131: 0 | V131: 0 | X131: 2 | Y131: 0 | AA131: 4 | AB131: 0 | AD131: 6 | AE131: 0 | AG131: 24 | AH131: 0 | AJ131: 48 | AK131: 0
B132: 12. | C132: 0 | D132: 0 | F132: 2 | G132: 0 | I132: 4 | J132: 0 | L132: 6 | M132: 0 | O132: 24 | P132: 1 | R132: 48 | S132: 1 | U132: 0 | V132: 0 | X132: 2 | Y132: 0 | AA132: 4 | AB132: 0 | AD132: 6 | AE132: 0 | AG132: 24 | AH132: 0 | AJ132: 48 | AK132: 0
... B135: 15. | C135: 0 | D135: 0 | F135: 2 | G135: 0 | I135: 4 | J135: 0 | L135: 6 | M135: 0 | O135: 24 | P135: 0 | R135: 48 | S135: 0 | U135: 0 | V135: 0 | X135: 2 | Y135: 0 | AA135: 4 | AB135: 0 | AD135: 6 | AE135: 0 | AG135: 24 | AH135: 0 | AJ135: 48 | AK135: 0
C140: lepA+ | U140: PBS (cntrl)
C141: t (h) | F141: t (h) | I141: t (h) | L141: t (h) | O141: t (h) | R141: t (h) | U141: t (h) | X141: t (h) | AA141: t (h) | AD141: t (h) | AG141: t (h) | AJ141: t (h)
...

Sheet SFig1A
A1: Stamm: | B1: 1) 8640
B2: 2) SB6
A5: Infection ratio (WT / mutant)
A6: J774A.1
B7: 1. | C7: 2. | D7: 3. | E7: 4.
A8: 0 | B8: 6.26 | C8: 8.29 | D8: 7.33 | E8: 5.618188
A9: 2 | B9: 27.123241 | C9: 21.106307 | D9: 13.356826 | E9: 14.312769
A10: 4 | B10: 18.361599 | C10: 14.733607 | D10: 8.5565063 | E10: 14.55626
A11: 6 | B11: 41.653846 | C11: 9.0381604 | D11: 6.4405573 | E11: 9.6065272
A12: 24 | B12: 8.083459 | C12: 6.2594431 | D12: 2.636054 | E12: 5.7957897

Sheet SFig1B
A1: Stamm: | B1: 1) 8640
B2: 2) SB6
A5: Infection ratio (WT / mutant)
A6: Caco-2
B7: 1. | C7: 2. | D7: 3. | E7: 4.
A8: 0 | B8: 4.97 | C8: 3.73 | D8: 2.92 | E8: 3.22
A9: 2 | B9: 4.66 | C9: 4.07 | D9: 3.57
A10: 4 | B10: 3.68 | C10: 1.81 | D10: 2.39
A11: 6 | B11: 4.18 | C11: 1.95 | D11: 1.67
A12: 24 | B12: 8.55 | C12: 1.26 | D12: 2.88

Sheet SFig2A
A1: Stamm: | B1: 1) 8640
B2: 2) SB6
B3: 3) SB580
B10: vor der Infektion | J10: vor der Infektion | R10: vor der Infektion
C12: 8640 (1) | D12: 8640 (2) | E12: SB6 (1) | F12: SB6 (2) | G12: lepA+ (1) | H12: lepA+ (2) | K12: 8640 (1) | L12: 8640 (2) | M12: SB6 (1) | N12: SB6 (2) | O12: lepA+ (1) | P12: lepA+ (2) | S12: 8640 (1) | T12: 8640 (2) | U12: SB6 (1) | V12: SB6 (2) | W12: lepA+ (1) | X12: lepA+ (2)
B13: t0 | C13: 104->10µl | J13: t0 | K13: 104->10µl | R13: t0 | S13: 104->10µl
C14: 83 | D14: x | E14: 59 | F14: x | G14: 58 | H14: x | K14: 51 | L14: x | M14: 56 | N14: x | O14: 55 | P14: x | S14: 60 | T14: x | U14: 71 | V14: x | W14: 61 | X14: x
C15: 56 | D15: x | E15: 59 | F15: x | G15: 58 | H15: x | K15: 51 | L15: x | M15: 62 | N15: x | O15: 60 | P15: x | S15: 60 | T15: x | U15: 73 | V15: x | W15: 66 | X15: x
C16: 59 | D16: x | E16: 61 | F16: x | G16: 53 | H16: x | K16: 63 | L16: x | M16: 53 | N16: x | O16: 63 | P16: x | S16: 54 | T16: x | U16: 67 | V16: x | W16: 66 | X16: x
B17: Mittelwert | C17: =AVERAGE(C14:C16) -> 66 | E17: =AVERAGE(E14:E16) -> 59.666667 | G17: =AVERAGE(G14:G16) -> 56.333333 | J17: Mittelwert | K17: =AVERAGE(K14:K16) -> 55 | M17: =AVERAGE(M14:M16) -> 57 | O17: =AVERAGE(O14:O16) -> 59.333333 | R17: Mittelwert | S17: =AVERAGE(S14:S16) -> 58 | U17: =AVERAGE(U14:U16) -> 70.333333 | W17: =AVERAGE(W14:W16) -> 64.333333
B18: Standardab. | C18: =STDEVA(C14:C16) -> 14.798649 | E18: =STDEVA(E14:E16) -> 1.1547005 | G18: =STDEVA(G14:G16) -> 2.8867513 | J18: Standardab. | K18: =STDEVA(K14:K16) -> 6.9282032 | M18: =STDEVA(M14:M16) -> 4.5825757 | O18: =STDEVA(O14:O16) -> 4.0414519 | R18: Standardab. | S18: =STDEVA(S14:S16) -> 3.4641016 | U18: =STDEVA(U14:U16) -> 3.0550505 | W18: =STDEVA(W14:W16) -> 2.8867513
B19: CFU/ml | C19: 66000000 | E19: 59660000 | G19: 56330000 | J19: CFU/ml | K19: 55000000 | M19: 57000000 | O19: 59330000 | R19: CFU/ml | S19: 58000000 | U19: 70330000 | W19: 64330000
B22: nach der Infektion | J22: nach der Infektion | R22: nach der Infektion
C24: 8640 (1) | D24: 8640 (2) | E24: SB6 (1) | F24: SB6 (2) | G24: lepA+ (1) | H24: lepA+ (2) | K24: 8640 (1) | L24: 8640 (2) | M24: SB6 (1) | N24: SB6 (2) | O24: lepA+ (1) | P24: lepA+ (2) | S24: 8640 (1) | T24: 8640 (2) | U24: SB6 (1) | V24: SB6 (2) | W24: lepA+ (1) | X24: lepA+ (2)
B25: t0 | C25: 103->10µl | D25: 102->10µl | E25: 101->10µl | G25: 102->10µl | J25: t0 | K25: 103->10µl | M25: 102->10µl | O25: 103->10µl | R25: t0 | S25: 103->10µl | U25: 102->10µl | W25: 103->10µl
C26: 38 | D26: 229 | E26: 410 | F26: 382 | G26: 115 | H26: 111 | K26: 15 | L26: 33 | M26: 58 | N26: 38 | O26: 21 | P26: 22 | S26: 39 | T26: 29 | U26: 46 | V26: 56 | W26: 25 | X26: 23
C27: 42 | D27: 230 | E27: 400 | F27: 370 | G27: 99 | H27: 112 | K27: 17 | L27: 24 | M27: 67 | N27: 61 | O27: 22 | P27: 24 | S27: 29 | T27: 24 | U27: 49 | V27: 51 | W27: 25 | X27: 26
C28: 34 | D28: 225 | E28: 390 | F28: 390 | G28: 132 | H28: 110 | K28: 19 | L28: 22 | M28: 54 | N28: 58 | O28: 19 | P28: 24 | S28: 28 | T28: 37 | U28: 36 | V28: 53 | W28: 21 | X28: 20
B29: Mittelwert | C29: =AVERAGE(C26:C28) -> 38 | D29: =AVERAGE(D26:D28) -> 228 | E29: =AVERAGE(E26:E28) -> 400 | F29: =AVERAGE(F26:F28) -> 380.66667 | G29: =AVERAGE(G26:G28) -> 115.33333 | H29: =AVERAGE(H26:H28) -> 111 | J29: Mittelwert | K29: =AVERAGE(K26:K28) -> 17 | L29: =AVERAGE(L26:L28) -> 26.333333 | M29: =AVERAGE(M26:M28) -> 59.666667 | N29: =AVERAGE(N26:N28) -> 52.333333 | O29: =AVERAGE(O26:O28) -> 20.666667 | P29: =AVERAGE(P26:P28) -> 23.333333 | R29: Mittelwert | S29: =AVERAGE(S26:S28) -> 32 | T29: =AVERAGE(T26:T28) -> 30 | U29: =AVERAGE(U26:U28) -> 43.666667 | V29: =AVERAGE(V26:V28) -> 53.333333 | W29: =AVERAGE(W26:W28) -> 23.666667 | X29: =AVERAGE(X26:X28) -> 23
B30: Standardab. | C30: =STDEVA(C26:C28) -> 4 | D30: =STDEVA(D26:D28) -> 2.6457513 | E30: =STDEVA(E26:E28) -> 10 | F30: =STDEVA(F26:F28) -> 10.066446 | G30: =STDEVA(G26:G28) -> 16.502525 | H30: =STDEVA(H26:H28) -> 1 | J30: Standardab. | K30: =STDEVA(K26:K28) -> 2 | L30: =STDEVA(L26:L28) -> 5.8594653 | M30: =STDEVA(M26:M28) -> 6.6583281 | N30: =STDEVA(N26:N28) -> 12.503333 | O30: =STDEVA(O26:O28) -> 1.5275252 | P30: =STDEVA(P26:P28) -> 1.1547005 | R30: Standardab. | S30: =STDEVA(S26:S28) -> 6.0827625 | T30: =STDEVA(T26:T28) -> 6.5574385 | U30: =STDEVA(U26:U28) -> 6.8068593 | V30: =STDEVA(V26:V28) -> 2.5166115 | W30: =STDEVA(W26:W28) -> 2.3094011 | X30: =STDEVA(X26:X28) -> 3
B31: CFU/ml | C31: 3800000 | D31: 2280000 | E31: 400000 | F31: 380660 | G31: 1153300 | H31: 1110000 | J31: CFU/ml | K31: 1700000 | L31: 2633000 | M31: 596600 | N31: 523300 | O31: 2066000 | P31: 2333000 | R31: CFU/ml | S31: 3200000 | T31: 3000000 | U31: 436600 | V31: 533300 | W31: 2366000 | X31: 2300000
C34: 8640 (1) | D34: 8640 (2) | E34: SB6 (1) | F34: SB6 (2) | G34: lepA+ (1) | H34: lepA+ (2) | K34: 8640 (1) | L34: 8640 (2) | M34: SB6 (1) | N34: SB6 (2) | O34: lepA+ (1) | P34: lepA+ (2) | S34: 8640 (1) | T34: 8640 (2) | U34: SB6 (1) | V34: SB6 (2) | W34: lepA+ (1) | X34: lepA+ (2)
B35: t2 | C35: 102->10µl | E35: 101->10µl | G35: 102->10µl | J35: t2 | K35: 103->10µl | M35: 102->10µl | O35: 103->10µl | R35: t2 | S35: 103->10µl | U35: 102->10µl | W35: 103->10µl
C36: 159 | D36: 129 | E36: 259 | F36: 264 | G36: 142 | H36: 155 | K36: 24 | L36: 35 | M36: 12 | N36: 12 | O36: 21 | P36: 27 | S36: 31 | T36: 43 | U36: 26 | V36: 33 | W36: 31 | X36: 41
C37: 180 | D37: 127 | E37: 260 | F37: 261 | G37: 141 | H37: 138 | K37: 20 | L37: 47 | M37: 17 | N37: 14 | O37: 27 | P37: 28 | S37: 41 | T37: 41 | U37: 29 | V37: 26 | W37: 39 | X37: 39
C38: 172 | D38: 137 | E38: 255 | F38: 265 | G38: 117 | H38: 160 | K38: 15 | L38: 27 | M38: 16 | N38: 17 | O38: 14 | P38: 26 | S38: 50 | T38: 49 | U38: 23 | V38: 24 | W38: 30 | X38: 38
B39: Mittelwert | C39: =AVERAGE(C36:C38) -> 170.33333 | D39: =AVERAGE(D36:D38) -> 131 | E39: =AVERAGE(E36:E38) -> 258 | F39: =AVERAGE(F36:F38) -> 263.33333 | G39: =AVERAGE(G36:G38) -> 133.33333 | H39: =AVERAGE(H36:H38) -> 151 | J39: Mittelwert | K39: =AVERAGE(K36:K38) -> 19.666667 | L39: =AVERAGE(L36:L38) -> 36.333333 | M39: =AVERAGE(M36:M38) -> 15 | N39: =AVERAGE(N36:N38) -> 14.333333 | O39: =AVERAGE(O36:O38) -> 20.666667 | P39: =AVERAGE(P36:P38) -> 27 | R39: Mittelwert | S39: =AVERAGE(S36:S38) -> 40.666667 | T39: =AVERAGE(T36:T38) -> 44.333333 | U39: =AVERAGE(U36:U38) -> 26 | V39: =AVERAGE(V36:V38) -> 27.666667 | W39: =AVERAGE(W36:W38) -> 33.333333 | X39: =AVERAGE(X36:X38) -> 39.333333
B40: Standardab. | C40: =STDEVA(C36:C38) -> 10.598742 | D40: =STDEVA(D36:D38) -> 5.2915026 | E40: =STDEVA(E36:E38) -> 2.6457513 | F40: =STDEVA(F36:F38) -> 2.081666 | G40: =STDEVA(G36:G38) -> 14.153916 | H40: =STDEVA(H36:H38) -> 11.532563 | J40: Standardab. | K40: =STDEVA(K36:K38) -> 4.5092498 | L40: =STDEVA(L36:L38) -> 10.066446 | M40: =STDEVA(M36:M38) -> 2.6457513 | N40: =STDEVA(N36:N38) -> 2.5166115 | O40: =STDEVA(O36:O38) -> 6.5064071 | P40: =STDEVA(P36:P38) -> 1 | R40: Standardab. | S40: =STDEVA(S36:S38) -> 9.504385 | T40: =STDEVA(T36:T38) -> 4.163332 | U40: =STDEVA(U36:U38) -> 3 | V40: =STDEVA(V36:V38) -> 4.7258156 | W40: =STDEVA(W36:W38) -> 4.9328829 | X40: =STDEVA(X36:X38) -> 1.5275252
B41: CFU/ml | C41: 1703300 | D41: 1310000 | E41: 258000 | F41: 263330 | G41: 1333300 | H41: 1510000 | J41: CFU/ml | K41: 1966000 | L41: 3633000 | M41: 150000 | N41: 143300 | O41: 2066000 | P41: 2700000 | R41: CFU/ml | S41: 4066000 | T41: 4433000 | U41: 260000 | V41: 276600 | W41: 3333000 | X41: 3933000
C43: 8640 | E43: SB6 | G43: lepA+ | K43: 8640 | M43: SB6 | O43: lepA+ | S43: 8640 | U43: SB6 | W43: lepA+
B44: t0 | C44: =AVERAGE(D31) -> 2280000 | E44: =AVERAGE(E31:F31) -> 390330 | G44: =AVERAGE(G31:H31) -> 1131650 | J44: t0 | K44: =AVERAGE(K31:L31) -> 2166500 | M44: =AVERAGE(M31:N31) -> 559950 | O44: =AVERAGE(O31:P31) -> 2199500 | R44: t0 | S44: =AVERAGE(S31:T31) -> 3100000 | U44: =AVERAGE(U31:V31) -> 484950 | W44: =AVERAGE(W31:X31) -> 2333000
B45: t2 | C45: =AVERAGE(C41:D41) -> 1506650 | E45: =AVERAGE(E41:F41) -> 260665 | G45: =AVERAGE(G41:H41) -> 1421650 | J45: t2 | K45: =AVERAGE(K41:L41) -> 2799500 | M45: =AVERAGE(M41:N41) -> 146650 | O45: =AVERAGE(O41:P41) -> 2383000 | R45: t2 | S45: =AVERAGE(S41:T41) -> 4249500 | U45: =AVERAGE(U41:V41) -> 268300 | W45: =AVERAGE(W41:X41) -> 3633000

Sheet SFig2B
A1: Stamm: | B1: 1) 8640
B2: 2) SB6
B8: vor der Infektion | H8: vor der Infektion | N8: vor der Infektion
C10: 8640 (1) | D10: 8640 (2) | E10: SB6 (1) | F10: SB6 (2) | I10: 8640 (1) | J10: 8640 (2) | K10: SB6 (1) | L10: SB6 (2) | O10: 8640 (1) | P10: 8640 (2) | Q10: SB6 (1) | R10: SB6 (2)
B11: t0 | C11: 104->10µl | H11: t0 | I11: 104->10µl | N11: t0 | O11: 104->10µl
C12: 51 | E12: 44 | I12: 55 | K12: 54 | O12: 43 | Q12: 38
C13: 47 | E13: 54 | I13: 64 | K13: 47 | O13: 47 | Q13: 40
C14: 49 | E14: 46 | I14: 48 | K14: 46 | O14: 52 | Q14: 52
B15: Mittelwert | C15: =AVERAGE(C12:C14) -> 49 | D15: =AVERAGE(D12:D14) -> #DIV/0! | E15: =AVERAGE(E12:E14) -> 48 | F15: =AVERAGE(F12:F14) -> #DIV/0! | H15: Mittelwert | I15: =AVERAGE(I12:I14) -> 55.666667 | J15: =AVERAGE(J12:J14) -> #DIV/0! | K15: =AVERAGE(K12:K14) -> 49 | L15: =AVERAGE(L12:L14) -> #DIV/0! | N15: Mittelwert | O15: =AVERAGE(O12:O14) -> 47.333333 | P15: =AVERAGE(P12:P14) -> #DIV/0! | Q15: =AVERAGE(Q12:Q14) -> 43.333333 | R15: =AVERAGE(R12:R14) -> #DIV/0!
B16: Standardab. | C16: =STDEVA(C12:C14) -> 2 | D16: =STDEVA(D12:D14) -> #DIV/0! | E16: =STDEVA(E12:E14) -> 5.2915026 | F16: =STDEVA(F12:F14) -> #DIV/0! | H16: Standardab. | I16: =STDEVA(I12:I14) -> 8.0208063 | J16: =STDEVA(J12:J14) -> #DIV/0! | K16: =STDEVA(K12:K14) -> 4.3588989 | L16: =STDEVA(L12:L14) -> #DIV/0! | N16: Standardab. | O16: =STDEVA(O12:O14) -> 4.5092498 | P16: =STDEVA(P12:P14) -> #DIV/0! | Q16: =STDEVA(Q12:Q14) -> 7.5718778 | R16: =STDEVA(R12:R14) -> #DIV/0!
B17: CFU/ml | C17: 49000000 | E17: 48000000 | H17: CFU/ml | I17: 55660000 | K17: 49000000 | N17: CFU/ml | O17: 47330000 | Q17: 43330000
B20: nach der Infektion | H20: nach der Infektion | N20: nach der Infektion
C22: 8640 (1) | D22: 8640 (2) | E22: SB6 (1) | F22: SB6 (2) | I22: 8640 (1) | J22: 8640 (2) | K22: SB6 (1) | L22: SB6 (2) | O22: 8640 (1) | P22: 8640 (2) | Q22: SB6 (1) | R22: SB6 (2)
B23: t1 | C23: 101->10µl | E23: unverd.->10µl | H23: t1 | I23: 101->10µl | K23: unverd.->10µl | N23: t1 | O23: unverd.->10µl
C24: 18 | D24: 18 | E24: 67 | F24: 98 | I24: 19 | J24: 52 | K24: 95 | L24: 121 | O24: 125 | P24: 178 | Q24: 101 | R24: 121
C25: 13 | D25: 18 | E25: 71 | F25: 89 | I25: 19 | J25: 51 | K25: 97 | L25: 107 | O25: 127 | P25: 188 | Q25: 106 | R25: 104
C26: 13 | D26: 19 | E26: 93 | F26: 82 | I26: 12 | J26: 56 | K26: 88 | L26: 117 | O26: 123 | P26: 170 | Q26: 108 | R26: 117
B27: Mittelwert | C27: =AVERAGE(C24:C26) -> 14.666667 | D27: =AVERAGE(D24:D26) -> 18.333333 | E27: =AVERAGE(E24:E26) -> 77 | F27: =AVERAGE(F24:F26) -> 89.666667 | H27: Mittelwert | I27: =AVERAGE(I24:I26) -> 16.666667 | J27: =AVERAGE(J24:J26) -> 53 | K27: =AVERAGE(K24:K26) -> 93.333333 | L27: =AVERAGE(L24:L26) -> 115 | N27: Mittelwert | O27: =AVERAGE(O24:O26) -> 125 | P27: =AVERAGE(P24:P26) -> 178.66667 | Q27: =AVERAGE(Q24:Q26) -> 105 | R27: =AVERAGE(R24:R26) -> 114
B28: Standardab. | C28: =STDEVA(C24:C26) -> 2.8867513 | D28: =STDEVA(D24:D26) -> 0.57735027 | E28: =STDEVA(E24:E26) -> 14 | F28: =STDEVA(F24:F26) -> 8.0208063 | H28: Standardab. | I28: =STDEVA(I24:I26) -> 4.0414519 | J28: =STDEVA(J24:J26) -> 2.6457513 | K28: =STDEVA(K24:K26) -> 4.7258156 | L28: =STDEVA(L24:L26) -> 7.2111026 | N28: Standardab. | O28: =STDEVA(O24:O26) -> 2 | P28: =STDEVA(P24:P26) -> 9.0184995 | Q28: =STDEVA(Q24:Q26) -> 3.6055513 | R28: =STDEVA(R24:R26) -> 8.8881944
B29: CFU/ml | C29: 14660 | D29: 18330 | E29: 7700 | F29: 8966 | H29: CFU/ml | I29: 16660 | J29: 53000 | K29: 9333 | L29: 11500 | N29: CFU/ml | O29: 12500 | P29: 17866 | Q29: 10500 | R29: 11400
B31: Mittelwert | H31: Mittelwert | N31: Mittelwert
C32: 8640 (1) | E32: SB6 (1) | I32: 8640 (1) | K32: SB6 (1) | O32: 8640 (1) | Q32: SB6 (1)
B33: 0 | C33: =AVERAGE(SFig2B!C29:D29) -> 16495 | E33: =AVERAGE(SFig2B!E29:F29) -> 8333 | H33: 0 | I33: =AVERAGE(SFig2B!I29:J29) -> 34830 | K33: =AVERAGE(SFig2B!K29:L29) -> 10416.5 | N33: 0 | O33: =AVERAGE(SFig2B!O29:P29) -> 15183 | Q33: =AVERAGE(SFig2B!Q29:R29) -> 10950

Sheet SFig3A
A1: Stamm: | B1: 1) 8640 | D1: Medium: | E1: 1) LB
B2: 2) SB210 | E2: 2) M9 + 5mM Acetat
B3: 3) SB580 | E3: 3) M9 ohne Mg
E4: 4) M9 mit 4% Glucose
E5: 5) M9 mikroaerophil (Zellkulturinkubator)
E6: 6) DMEN (Zellkulturinkubator)
C10: 8640 | K10: SB210 | S10: SB580
C12: 1 | D12: 2 | E12: 3 | F12: 4 | G12: 5 | H12: 6 | K12: 1 | L12: 2 | M12: 3 | N12: 4 | O12: 5 | P12: 6 | S12: 1 | T12: 2 | U12: 3 | V12: 4 | W12: 5 | X12: 6
B13: Mean (FITC) | C13: 116 | D13: 79 | E13: 66 | F13: 73 | G13: 66 | H13: 76 | J13: Mean (FITC) | K13: 183 | L13: 270 | M13: 170 | N13: 193 | O13: 132 | P13: 343 | R13: Mean (FITC) | S13: 162 | T13: 163 | U13: 134 | V13: 152 | W13: 150 | X13: 182
J14: netto gfp | K14: =K13-C13 -> 67 | L14: =L13-D13 -> 191 | M14: =M13-E13 -> 104 | N14: =N13-F13 -> 120 | O14: =O13-G13 -> 66 | P14: =P13-H13 -> 267 | R14: netto gfp | S14: =S13-C13 -> 46 | T14: =T13-D13 -> 84 | U14: =U13-E13 -> 68 | V14: =V13-F13 -> 79 | W14: =W13-G13 -> 84 | X14: =X13-H13 -> 106
C18: 1 | D18: 2 | E18: 3 | F18: 4 | G18: 5 | H18: 6 | K18: 1 | L18: 2 | M18: 3 | N18: 4 | O18: 5 | P18: 6 | S18: 1 | T18: 2 | U18: 3 | V18: 4 | W18: 5 | X18: 6
B19: Mean (FITC) | C19: 71 | D19: 79 | E19: 65 | F19: 65 | G19: 64 | H19: 67 | J19: Mean (FITC) | K19: 306 | L19: 687 | M19: 377 | N19: 357 | O19: 316 | P19: 686 | R19: Mean (FITC) | S19: 245 | T19: 367 | U19: 244 | V19: 299 | W19: 238 | X19: 639
J20: netto gfp | K20: =K19-C19 -> 235 | L20: =L19-D19 -> 608 | M20: =M19-E19 -> 312 | N20: =N19-F19 -> 292 | O20: =O19-G19 -> 252 | P20: =P19-H19 -> 619 | R20: netto gfp | S20: =S19-C19 -> 174 | T20: =T19-D19 -> 288 | U20: =U19-E19 -> 179 | V20: =V19-F19 -> 234 | W20: =W19-G19 -> 174 | X20: =X19-H19 -> 572
C24: 1 | D24: 2 | E24: 3 | F24: 4 | G24: 5 | H24: 6 | K24: 1 | L24: 2 | M24: 3 | N24: 4 | O24: 5 | P24: 6 | S24: 1 | T24: 2 | U24: 3 | V24: 4 | W24: 5 | X24: 6
B25: Mean (FITC) | C25: 65 | D25: 65 | E25: 63 | F25: 67 | G25: 65 | H25: 65 | J25: Mean (FITC) | K25: 126 | L25: 164 | M25: 126 | N25: 140 | O25: 132 | P25: 223 | R25: Mean (FITC) | S25: 149 | T25: 181 | U25: 148 | V25: 160 | W25: 162 | X25: 395
J26: netto gfp | K26: =K25-C25 -> 61 | L26: =L25-D25 -> 99 | M26: =M25-E25 -> 63 | N26: =N25-F25 -> 73 | O26: =O25-G25 -> 67 | P26: =P25-H25 -> 158 | R26: netto gfp | S26: =S25-C25 -> 84 | T26: =T25-D25 -> 116 | U26: =U25-E25 -> 85 | V26: =V25-F25 -> 93 | W26: =W25-G25 -> 97 | X26: =X25-H25 -> 330

Sheet SFig3B
A1: Stamm: | B1: 1) 8640 | D1: Medium: | E1: 1) LB
B2: 2) SB210 | E2: 2) M9 + 5mM Acetat
B3: 3) SB212 | E3: 3) M9 ohne Mg
E4: 4) M9 mit 4% Glucose
E5: 5) M9 mikroaerophil (Zellkulturinkubator)
E6: 6) DMEN (Zellkulturinkubator)
C7: 8640 | K7: SB210 | S7: SB212
C10: 1 | D10: 2 | E10: 3 | F10: 4 | G10: 5 | H10: 6 | K10: 1 | L10: 2 | M10: 3 | N10: 4 | O10: 5 | P10: 6 | S10: 1 | T10: 2 | U10: 3 | V10: 4 | W10: 5 | X10: 6
B11: Mean (FITC) | C11: 88 | D11: 72 | E11: 75 | F11: 80 | G11: 79 | H11: 87 | J11: Mean (FITC) | K11: 156 | L11: 174 | M11: 123 | N11: 127 | O11: 126 | P11: 179 | R11: Mean (FITC) | S11: 149 | T11: 147 | U11: 97 | V11: 109 | W11: 97 | X11: 129
J12: netto gfp | K12: =K11-C11 -> 68 | L12: =L11-D11 -> 102 | M12: =M11-E11 -> 48 | N12: =N11-F11 -> 47 | O12: =O11-G11 -> 47 | P12: =P11-H11 -> 92 | R12: netto gfp | S12: =S11-C11 -> 61 | T12: =T11-D11 -> 75 | U12: =U11-E11 -> 22 | V12: =V11-F11 -> 29 | W12: =W11-G11 -> 18 | X12: =X11-H11 -> 42
C16: 1 | D16: 2 | E16: 3 | F16: 4 | G16: 5 | H16: 6 | K16: 1 | L16: 2 | M16: 3 | N16: 4 | O16: 5 | P16: 6 | S16: 1 | T16: 2 | U16: 3 | V16: 4 | W16: 5 | X16: 6
B17: Mean (FITC) | C17: 103 | D17: 73 | E17: 75 | F17: 79 | G17: 75 | H17: 91 | J17: Mean (FITC) | K17: 146 | L17: 207 | M17: 135 | N17: 145 | O17: 151 | P17: 191 | R17: Mean (FITC) | S17: 134 | T17: 147 | U17: 105 | V17: 112 | W17: 110 | X17: 117
J18: netto gfp | K18: =K17-C17 -> 43 | L18: =L17-D17 -> 134 | M18: =M17-E17 -> 60 | N18: =N17-F17 -> 66 | O18: =O17-G17 -> 76 | P18: =P17-H17 -> 100 | R18: netto gfp | S18: =S17-C17 -> 31 | T18: =T17-D17 -> 74 | U18: =U17-E17 -> 30 | V18: =V17-F17 -> 33 | W18: =W17-G17 -> 35 | X18: =X17-H17 -> 26
C23: 1 | D23: 2 | E23: 3 | F23: 4 | G23: 5 | H23: 6 | K23: 1 | L23: 2 | M23: 3 | N23: 4 | O23: 5 | P23: 6 | S23: 1 | T23: 2 | U23: 3 | V23: 4 | W23: 5 | X23: 6
B24: Mean (FITC) | C24: 95 | D24: 69 | E24: 73 | F24: 78 | G24: 76 | H24: 85 | J24: Mean (FITC) | K24: 153 | L24: 210 | M24: 137 | N24: 150 | O24: 143 | P24: 176 | R24: Mean (FITC) | S24: 145 | T24: 129 | U24: 108 | V24: 118 | W24: 119 | X24: 144
J25: netto gfp | K25: =K24-C24 -> 58 | L25: =L24-D24 -> 141 | M25: =M24-E24 -> 64 | N25: =N24-F24 -> 72 | O25: =O24-G24 -> 67 | P25: =P24-H24 -> 91 | R25: netto gfp | S25: =S24-C24 -> 50 | T25: =T24-D24 -> 60 | U25: =U24-E24 -> 35 | V25: =V24-F24 -> 40 | W25: =W24-G24 -> 43 | X25: =X24-H24 -> 59

Sheet SFig4
A1: Stamm | B1: 1) 8640
B2: 2) SB214
B3: 3) SB216
C9: % GFP | D9: % GFP | E9: % GFP
B10: internal | C10: 1. | D10: 2. | E10: 3.
B11: 8640 | C11: 0.014 | D11: 0.014 | E11: 0.006
B12: SB214 | C12: 3.15 | D12: 6.5 | E12: 3
B13: SB216 | C13: 1.44 | D13: 2.25 | E13: 1.46
B15: ratio (Mut/WT) | C15: =C13/C12 -> 0.45714286 | D15: =D13/D12 -> 0.34615385 | E15: =E13/E12 -> 0.48666667
C17: % GFP | D17: % GFP | E17: % GFP
B18: external | C18: 1. | D18: 2. | E18: 3.
B19: 8640 | C19: 0.021 | D19: 0.023 | E19: 0.037
B20: SB214 | C20: 1.21 | D20: 1.29 | E20: 0.724
B21: SB216 | C21: 0.514 | D21: 0.614 | E21: 0.914

Sheet SFig5A
A1: Stamm: | B1: 1) 8640
B2: 2) SB6
C7: 8640 | F7: SB6 | K7: 8640 | N7: SB6 | Q7: LB | U7: 8640 | X7: SB6
A8: Time | B8: A2 | C8: A3 | D8: A4 | E8: D2 | F8: D3 | G8: D4 | I8: Time | J8: A2 | K8: A3 | L8: A4 | M8: A5 | N8: A6 | O8: A7 | P8: B5 | Q8: B6 | S8: Time | T8: A10 | U8: A11 | V8: A12 | W8: D10 | X8: D11 | Y8: D12
A9: 0.02037037 | B9: 0.098 | C9: 0.101 | D9: 0.101 | E9: 0.1 | F9: 0.101 | G9: 0.1 | I9: 0.020729167 | J9: 0.11 | K9: 0.108 | L9: 0.107 | M9: 0.108 | N9: 0.11 | O9: 0.11 | P9: 0.104 | Q9: 0.103 | S9: 0.02037037 | T9: 0.09 | U9: 0.091 | V9: 0.09 | W9: 0.09 | X9: 0.09 | Y9: 0.089
A10: 0.041203704 | B10: 0.098 | C10: 0.101 | D10: 0.101 | E10: 0.1 | F10: 0.101 | G10: 0.1 | I10: 0.0415625 | J10: 0.106 | K10: 0.108 | L10: 0.107 | M10: 0.108 | N10: 0.111 | O10: 0.11 | P10: 0.103 | Q10: 0.103 | S10: 0.041203704 | T10: 0.09 | U10: 0.091 | V10: 0.091 | W10: 0.09 | X10: 0.09 | Y10: 0.089
A11: 0.062037037 | B11: 0.099 | C11: 0.102 | D11: 0.101 | E11: 0.101 | F11: 0.102 | G11: 0.101 | I11: 0.062395833 | J11: 0.111 | K11: 0.11 | L11: 0.109 | M11: 0.109 | N11: 0.112 | O11: 0.112 | P11: 0.103 | Q11: 0.103 | S11: 0.062037037 | T11: 0.091 | U11: 0.092 | V11: 0.09 | W11: 0.09 | X11: 0.09 | Y11: 0.09
A12: 0.08287037 | B12: 0.102 | C12: 0.105 | D12: 0.104 | E12: 0.103 | F12: 0.103 | G12: 0.102 | I12: 0.083229167 | J12: 0.113 | K12: 0.115 | L12: 0.114 | M12: 0.112 | N12: 0.115 | O12: 0.115 | P12: 0.103 | Q12: 0.103 | S12: 0.08287037 | T12: 0.093 | U12: 0.094 | V12: 0.093 | W12: 0.091 | X12: 0.092 | Y12: 0.091
A13: 0.1037037 | B13: 0.11 | C13: 0.113 | D13: 0.114 | E13: 0.107 | F13: 0.108 | G13: 0.107 | I13: 0.1040625 | J13: 0.127 | K13: 0.128 | L13: 0.127 | M13: 0.12 | N13: 0.123 | O13: 0.124 | P13: 0.103 | Q13: 0.103 | S13: 0.1037037 | T13: 0.1 | U13: 0.102 | V13: 0.1 | W13: 0.095 | X13: 0.095 | Y13: 0.094
A14: 0.12453704 | B14: 0.132 | C14: 0.136 | D14: 0.137 | E14: 0.117 | F14: 0.118 | G14: 0.117 | I14: 0.12489583 | J14: 0.159 | K14: 0.164 | L14: 0.163 | M14: 0.138 | N14: 0.141 | O14: 0.142 | P14: 0.103 | Q14: 0.103 | S14: 0.12453704 | T14: 0.114 | U14: 0.116 | V14: 0.115 | W14: 0.102 | X14: 0.102 | Y14: 0.101
A15: 0.14537037 | B15: 0.188 | C15: 0.194 | D15: 0.196 | E15: 0.14 | F15: 0.141 | G15: 0.14 | I15: 0.14572917 | J15: 0.243 | K15: 0.253 | L15: 0.252 | M15: 0.178 | N15: 0.181 | O15: 0.183 | P15: 0.103 | Q15: 0.103 | S15: 0.14537037 | T15: 0.141 | U15: 0.144 | V15: 0.141 | W15: 0.114 | X15: 0.113 | Y15: 0.112
A16: 0.1662037 | B16: 0.314 | C16: 0.324 | D16: 0.33 | E16: 0.187 | F16: 0.191 | G16: 0.189 | I16: 0.1665625 | J16: 0.414 | K16: 0.43 | L16: 0.43 | M16: 0.261 | N16: 0.267 | O16: 0.271 | P16: 0.103 | Q16: 0.103 | S16: 0.1662037 | T16: 0.192 | U16: 0.2 | V16: 0.201 | W16: 0.134 | X16: 0.133 | Y16: 0.132
A17: 0.18703704 | B17: 0.522 | C17: 0.54 | D17: 0.55 | E17: 0.286 | F17: 0.294 | G17: 0.293 | I17: 0.18739583 | J17: 0.674 | K17: 0.704 | L17: 0.702 | M17: 0.399 | N17: 0.406 | O17: 0.412 | P17: 0.103 | Q17: 0.103 | S17: 0.18703704 | T17: 0.261 | U17: 0.268 | V17: 0.267 | W17: 0.172 | X17: 0.172 | Y17: 0.17
A18: 0.20787037 | B18: 0.843 | C18: 0.872 | D18: 0.889 | E18: 0.431 | F18: 0.444 | G18: 0.442 | I18: 0.20822917 | J18: 1.055 | K18: 1.079 | L18: 1.092 | M18: 0.611 | N18: 0.621 | O18: 0.629 | P18: 0.103 | Q18: 0.103 | S18: 0.20787037 | T18: 0.347 | U18: 0.356 | V18: 0.358 | W18: 0.221 | X18: 0.218 | Y18: 0.213
A19: 0.2287037 | B19: 1.175 | C19: 1.208 | D19: 1.229 | E19: 0.66 | F19: 0.683 | G19: 0.679 | I19: 0.2290625 | J19: 1.346 | K19: 1.338 | L19: 1.331 | M19: 0.905 | N19: 0.918 | O19: 0.926 | P19: 0.103 | Q19: 0.103 | S19: 0.2287037 | T19: 0.429 | U19: 0.436 | V19: 0.438 | W19: 0.292 | X19: 0.29 | Y19: 0.284
A20: 0.24953704 | B20: 1.399 | C20: 1.431 | D20: 1.456 | E20: 0.971 | F20: 1.001 | G20: 0.993 | I20: 0.24989583 | J20: 1.553 | K20: 1.537 | L20: 1.53 | M20: 1.205 | N20: 1.215 | O20: 1.226 | P20: 0.103 | Q20: 0.103 | S20: 0.24953704 | T20: 0.493 | U20: 0.498 | V20: 0.504 | W20: 0.373 | X20: 0.369 | Y20: 0.357
... A48: 0.83287037 | B48: 1.867 | C48: 1.935 | D48: 1.946 | E48: 1.884 | F48: 1.935 | G48: 1.932 | I48: 0.83322917 | J48: 1.938 | K48: 1.958 | L48: 1.966 | M48: 1.939 | N48: 1.945 | O48: 1.926 | P48: 0.105 | Q48: 1.816 | S48: 0.83287037 | T48: 0.747 | U48: 0.812 | V48: 0.805 | W48: 0.78 | X48: 0.782 | Y48: 0.722
I49: 0.8540625 | J49: 1.935 | K49: 1.957 | L49: 1.964 | M49: 1.938 | N49: 1.944 | O49: 1.924 | P49: 0.105 | Q49: 1.838 | S49: 0.8537037 | T49: 0.742 | U49: 0.81 | V49: 0.801 | W49: 0.776 | X49: 0.778 | Y49: 0.716
S50: 0.87453704 | T50: 0.737 | U50: 0.808 | V50: 0.798 | W50: 0.773 | X50: 0.774 | Y50: 0.712
S51: 0.89537037 | T51: 0.732 | U51: 0.805 | V51: 0.796 | W51: 0.77 | X51: 0.77 | Y51: 0.706
S52: 0.9162037 | T52: 0.727 | U52: 0.804 | V52: 0.794 | W52: 0.767 | X52: 0.767 | Y52: 0.702
S53: 0.93703704 | T53: 0.721 | U53: 0.801 | V53: 0.792 | W53: 0.764 | X53: 0.762 | Y53: 0.696
S54: 0.95787037 | T54: 0.715 | U54: 0.798 | V54: 0.789 | W54: 0.76 | X54: 0.759 | Y54: 0.691
S55: 0.9787037 | T55: 0.71 | U55: 0.795 | V55: 0.786 | W55: 0.756 | X55: 0.755 | Y55: 0.685
S56: 0.99953704 | T56: 0.704 | U56: 0.793 | V56: 0.783 | W56: 0.753 | X56: 0.751 | Y56: 0.68
S57: 1.0203704 | T57: 0.699 | U57: 0.791 | V57: 0.781 | W57: 0.749 | X57: 0.747 | Y57: 0.674

Sheet SFig5B
A1: Stamm: | B1: 1) 8640
B2: 2) SB6
A8: 600
E9: 8640 | H9: SB6 | K9: LB | O9: 8640 | R9: SB6 | U9: LB | Z9: 8640 | AC9: SB6 | AF9: LB | AJ9: 8640 | AM9: SB6
B10: Time | C10: T° 600 | D10: A1 | E10: A2 | F10: A3 | G10: A4 | H10: A5 | I10: A6 | J10: A7 | K10: A8 | M10: Time | N10: B1 | O10: B2 | P10: B3 | Q10: B4 | R10: B5 | S10: B6 | T10: B7 | U10: B8 | X10: Time | Y10: A10 | Z10: A11 | AA10: A12 | AB10: C10 | AC10: C11 | AD10: C12 | AE10: D11 | AF10: D12 | AH10: Time | AI10: A1 | AJ10: A2 | AK10: A3 | AL10: A4 | AM10: A5 | AN10: A6
B11: 0.020763889 | C11: 22.3 | D11: 0.102 | E11: 0.104 | F11: 0.102 | G11: 0.104 | H11: 0.102 | I11: 0.105 | J11: 0.104 | K11: 0.104 | M11: 0.020763889 | N11: 0.104 | O11: 0.103 | P11: 0.1 | Q11: 0.101 | R11: 0.102 | S11: 0.101 | T11: 0.103 | U11: 0.103 | X11: 0.020763889 | Y11: 0.094 | Z11: 0.089 | AA11: 0.089 | AB11: 0.09 | AC11: 0.089 | AD11: 0.09 | AE11: 0.104 | AF11: 0.103 | AH11: 0.020763889 | AI11: 0.102 | AJ11: 0.104 | AK11: 0.102 | AL11: 0.104 | AM11: 0.102 | AN11: 0.105
B12: 0.041597222 | C12: 22.8 | D12: 0.102 | E12: 0.104 | F12: 0.102 | G12: 0.104 | H12: 0.102 | I12: 0.105 | J12: 0.106 | K12: 0.105 | M12: 0.041597222 | N12: 0.104 | O12: 0.102 | P12: 0.1 | Q12: 0.101 | R12: 0.102 | S12: 0.102 | T12: 0.103 | U12: 0.103 | X12: 0.041597222 | Y12: 0.094 | Z12: 0.089 | AA12: 0.09 | AB12: 0.09 | AC12: 0.089 | AD12: 0.09 | AE12: 0.105 | AF12: 0.103 | AH12: 0.041597222 | AI12: 0.102 | AJ12: 0.104 | AK12: 0.102 | AL12: 0.104 | AM12: 0.102 | AN12: 0.105
B13: 0.062430556 | C13: 23.3 | D13: 0.102 | E13: 0.105 | F13: 0.103 | G13: 0.104 | H13: 0.103 | I13: 0.106 | J13: 0.105 | K13: 0.104 | M13: 0.062430556 | N13: 0.104 | O13: 0.103 | P13: 0.101 | Q13: 0.102 | R13: 0.102 | S13: 0.102 | T13: 0.102 | U13: 0.103 | X13: 0.062430556 | Y13: 0.094 | Z13: 0.089 | AA13: 0.089 | AB13: 0.09 | AC13: 0.089 | AD13: 0.09 | AE13: 0.104 | AF13: 0.102 | AH13: 0.062430556 | AI13: 0.102 | AJ13: 0.105 | AK13: 0.103 | AL13: 0.104 | AM13: 0.103 | AN13: 0.106
B14: 0.083263889 | C14: 23.6 | D14: 0.102 | E14: 0.105 | F14: 0.103 | G14: 0.104 | H14: 0.103 | I14: 0.106 | J14: 0.105 | K14: 0.104 | M14: 0.083263889 | N14: 0.105 | O14: 0.103 | P14: 0.102 | Q14: 0.102 | R14: 0.103 | S14: 0.103 | T14: 0.103 | U14: 0.103 | X14: 0.083263889 | Y14: 0.094 | Z14: 0.089 | AA14: 0.089 | AB14: 0.09 | AC14: 0.089 | AD14: 0.09 | AE14: 0.104 | AF14: 0.103 | AH14: 0.083263889 | AI14: 0.102 | AJ14: 0.105 | AK14: 0.103 | AL14: 0.104 | AM14: 0.103 | AN14: 0.106
B15: 0.10409722 | C15: 23.8 | D15: 0.103 | E15: 0.105 | F15: 0.103 | G15: 0.104 | H15: 0.103 | I15: 0.107 | J15: 0.105 | K15: 0.104 | M15: 0.10409722 | N15: 0.106 | O15: 0.111 | P15: 0.102 | Q15: 0.103 | R15: 0.104 | S15: 0.103 | T15: 0.103 | U15: 0.103 | X15: 0.10409722 | Y15: 0.094 | Z15: 0.089 | AA15: 0.09 | AB15: 0.091 | AC15: 0.09 | AD15: 0.09 | AE15: 0.104 | AF15: 0.103 | AH15: 0.10409722 | AI15: 0.103 | AJ15: 0.105 | AK15: 0.103 | AL15: 0.104 | AM15: 0.103 | AN15: 0.107
B16: 0.12493056 | C16: 23.9 | D16: 0.103 | E16: 0.106 | F16: 0.104 | G16: 0.105 | H16: 0.104 | I16: 0.107 | J16: 0.104 | K16: 0.104 | M16: 0.12493056 | N16: 0.108 | O16: 0.109 | P16: 0.104 | Q16: 0.104 | R16: 0.105 | S16: 0.104 | T16: 0.103 | U16: 0.103 | X16: 0.12493056 | Y16: 0.094 | Z16: 0.089 | AA16: 0.09 | AB16: 0.091 | AC16: 0.089 | AD16: 0.09 | AE16: 0.104 | AF16: 0.103 | AH16: 0.12493056 | AI16: 0.103 | AJ16: 0.106 | AK16: 0.104 | AL16: 0.105 | AM16: 0.104 | AN16: 0.107
B17: 0.14576389 | C17: 24 | D17: 0.105 | E17: 0.108 | F17: 0.105 | G17: 0.106 | H17: 0.105 | I17: 0.108 | J17: 0.104 | K17: 0.104 | M17: 0.14576389 | N17: 0.111 | O17: 0.109 | P17: 0.107 | Q17: 0.105 | R17: 0.106 | S17: 0.106 | T17: 0.103 | U17: 0.103 | X17: 0.14576389 | Y17: 0.094 | Z17: 0.089 | AA17: 0.09 | AB17: 0.091 | AC17: 0.089 | AD17: 0.09 | AE17: 0.104 | AF17: 0.103 | AH17: 0.14576389 | AI17: 0.105 | AJ17: 0.108 | AK17: 0.105 | AL17: 0.106 | AM17: 0.105 | AN17: 0.108
B18: 0.16659722 | C18: 24 | D18: 0.106 | E18: 0.11 | F18: 0.107 | G18: 0.107 | H18: 0.109 | I18: 0.109 | J18: 0.105 | K18: 0.104 | M18: 0.16659722 | N18: 0.115 | O18: 0.113 | P18: 0.111 | Q18: 0.107 | R18: 0.108 | S18: 0.108 | T18: 0.103 | U18: 0.103 | X18: 0.16659722 | Y18: 0.095 | Z18: 0.089 | AA18: 0.09 | AB18: 0.09 | AC18: 0.09 | AD18: 0.09 | AE18: 0.104 | AF18: 0.103 | AH18: 0.16659722 | AI18: 0.106 | AJ18: 0.11 | AK18: 0.107 | AL18: 0.107 | AM18: 0.109 | AN18: 0.109
B19: 0.18743056 | C19: 24 | D19: 0.109 | E19: 0.114 | F19: 0.11 | G19: 0.108 | H19: 0.107 | I19: 0.11 | J19: 0.105 | K19: 0.104 | M19: 0.18743056 | N19: 0.122 | O19: 0.119 | P19: 0.117 | Q19: 0.11 | R19: 0.111 | S19: 0.11 | T19: 0.103 | U19: 0.103 | X19: 0.18743056 | Y19: 0.095 | Z19: 0.09 | AA19: 0.09 | AB19: 0.091 | AC19: 0.089 | AD19: 0.09 | AE19: 0.104 | AF19: 0.103 | AH19: 0.18743056 | AI19: 0.109 | AJ19: 0.114 | AK19: 0.11 | AL19: 0.108 | AM19: 0.107 | AN19: 0.11
B20: 0.20826389 | C20: 24.1 | D20: 0.113 | E20: 0.117 | F20: 0.115 | G20: 0.11 | H20: 0.112 | I20: 0.112 | J20: 0.104 | K20: 0.104 | M20: 0.20826389 | N20: 0.132 | O20: 0.133 | P20: 0.128 | Q20: 0.115 | R20: 0.115 | S20: 0.114 | T20: 0.103 | U20: 0.103 | X20: 0.20826389 | Y20: 0.095 | Z20: 0.09 | AA20: 0.091 | AB20: 0.091 | AC20: 0.09 | AD20: 0.091 | AE20: 0.104 | AF20: 0.103 | AH20: 0.20826389 | AI20: 0.113 | AJ20: 0.117 | AK20: 0.115 | AL20: 0.11 | AM20: 0.112 | AN20: 0.112
B21: 0.22909722 | C21: 24.1 | D21: 0.12 | E21: 0.124 | F21: 0.122 | G21: 0.113 | H21: 0.116 | I21: 0.115 | J21: 0.105 | K21: 0.104 | M21: 0.22909722 | N21: 0.148 | O21: 0.145 | P21: 0.143 | Q21: 0.118 | R21: 0.12 | S21: 0.12 | T21: 0.103 | U21: 0.103 | X21: 0.22909722 | Y21: 0.096 | Z21: 0.091 | AA21: 0.091 | AB21: 0.091 | AC21: 0.09 | AD21: 0.091 | AE21: 0.104 | AF21: 0.103 | AH21: 0.22909722 | AI21: 0.12 | AJ21: 0.124 | AK21: 0.122 | AL21: 0.113 | AM21: 0.116 | AN21: 0.115
B22: 0.24993056 | C22: 24.2 | D22: 0.135 | E22: 0.136 | F22: 0.133 | G22: 0.117 | H22: 0.116 | I22: 0.119 | J22: 0.105 | K22: 0.104 | M22: 0.24993056 | N22: 0.171 | O22: 0.17 | P22: 0.168 | Q22: 0.125 | R22: 0.127 | S22: 0.127 | T22: 0.103 | U22: 0.103 | X22: 0.24993056 | Y22: 0.097 | Z22: 0.092 | AA22: 0.092 | AB22: 0.091 | AC22: 0.09 | AD22: 0.091 | AE22: 0.104 | AF22: 0.103 | AH22: 0.24993056 | AI22: 0.135 | AJ22: 0.136 | AK22: 0.133 | AL22: 0.117 | AM22: 0.116 | AN22: 0.119
... B54: 0.91659722 | C54: 24.2 | D54: 2.012 | E54: 2.086 | F54: 2.035 | G54: 1.932 | H54: 1.959 | I54: 2.001 | J54: 0.105 | K54: 0.104 | M54: 0.91659722 | N54: 2.036 | O54: 2.061 | P54: 2.067 | Q54: 1.899 | R54: 1.922 | S54: 1.915 | T54: 0.103 | U54: 0.103 | X54: 0.91659722 | Y54: 1.093 | Z54: 0.986 | AA54: 0.969 | AB54: 0.863 | AC54: 0.818 | AD54: 0.833 | AE54: 0.104 | AF54: 0.103 | AH54: 0.91659722 | AI54: 2.012 | AJ54: 2.086 | AK54: 2.035 | AL54: 1.932 | AM54: 1.959 | AN54: 2.001
B55: 0.93743056 | C55: 24.2 | D55: 2.005 | E55: 2.085 | F55: 2.049 | G55: 1.941 | H55: 1.985 | I55: 2.044 | J55: 0.105 | K55: 0.104 | AH55: 0.93743056 | AI55: 2.005 | AJ55: 2.085 | AK55: 2.049 | AL55: 1.941 | AM55: 1.985 | AN55: 2.044
B56: 0.95826389 | C56: 24.3 | D56: 2 | E56: 2.087 | F56: 2.034 | G56: 1.936 | H56: 1.954 | I56: 2.005 | J56: 0.105 | K56: 0.104 | AH56: 0.95826389 | AI56: 2 | AJ56: 2.087 | AK56: 2.034 | AL56: 1.936 | AM56: 1.954 | AN56: 2.005
B57: 0.97909722 | C57: 24.4 | D57: 2 | E57: 2.08 | F57: 2.032 | G57: 1.936 | H57: 2.057 | I57: 2.021 | J57: 0.105 | K57: 0.104 | AH57: 0.97909722 | AI57: 2 | AJ57: 2.08 | AK57: 2.032 | AL57: 1.936 | AM57: 2.057 | AN57: 2.021
B58: 0.99993056 | C58: 24.5 | D58: 2.003 | E58: 2.086 | F58: 2.03 | G58: 1.948 | H58: 1.959 | I58: 2.032 | J58: 0.105 | K58: 0.104 | AH58: 0.99993056 | AI58: 2.003 | AJ58: 2.086 | AK58: 2.03 | AL58: 1.948 | AM58: 1.959 | AN58: 2.032
B59: 1.0207639 | C59: 24.6 | D59: 1.999 | E59: 2.093 | F59: 2.038 | G59: 1.94 | H59: 1.967 | I59: 2.01 | J59: 0.107 | K59: 0.104 | AH59: 1.0207639 | AI59: 1.999 | AJ59: 2.093 | AK59: 2.038 | AL59: 1.94 | AM59: 1.967 | AN59: 2.01

Sheet SFig5C
A1: Stamm: | B1: 1) 8640
B2: 2) SB6
A7: 600nm | D7: 8640 Glucose | G7: SB6 Glucose | J7: 600nm | M7: 8640 Glucose | P7: SB6 Glucose | S7: 600nm | U7: 8640 Maltose | X7: SB6 Maltose | AA7: 600nm | AC7: 8640 Maltose | AF7: SB6 Maltose | AI7: 600nm | AK7: 8640 Maltose | AN7: SB6 Maltose
A8: Time (s) | B8: A1 | C8: A2 | D8: A3 | E8: A4 | F8: A5 | G8: A6 | H8: A7 | J8: Time (s) | K8: A1 | L8: A2 | M8: A3 | N8: A4 | O8: A5 | P8: A6 | Q8: A7 | S8: Time (s) | T8: B2 | U8: B3 | V8: B4 | W8: B5 | X8: B6 | Y8: B7 | AA8: Time (s) | AB8: A2 | AC8: A3 | AD8: A4 | AE8: A4 | AF8: D4 | AG8: D3 | AI8: Time (s) | AJ8: A2 | AK8: B2 | AL8: C2 | AM8: A5 | AN8: B5 | AO8: C5
A9: 0 | B9: 0.084 | C9: 0.081 | D9: 0.082 | E9: 0.083 | F9: 0.083 | G9: 0.082 | H9: 0.083 | J9: 0 | K9: 0.083 | L9: 0.08 | M9: 0.081 | N9: 0.083 | O9: 0.083 | P9: 0.082 | Q9: 0.082 | S9: 0 | T9: 0.083 | U9: 0.083 | V9: 0.082 | W9: 0.082 | X9: 0.082 | Y9: 0.083 | AA9: 0 | AB9: 0.088 | AC9: 0.084 | AD9: 0.088 | AE9: 0.086 | AF9: 0.086 | AG9: 0.086 | AI9: 0 | AJ9: 0.086 | AK9: 0.084 | AL9: 0.084 | AM9: 0.086 | AN9: 0.084 | AO9: 0.085
A10: 0.013888889 | B10: 0.083 | C10: 0.081 | D10: 0.083 | E10: 0.084 | F10: 0.083 | G10: 0.082 | H10: 0.083 | J10: 0.013888889 | K10: 0.083 | L10: 0.08 | M10: 0.081 | N10: 0.083 | O10: 0.082 | P10: 0.082 | Q10: 0.082 | S10: 0.013888889 | T10: 0.082 | U10: 0.082 | V10: 0.082 | W10: 0.083 | X10: 0.082 | Y10: 0.083 | AA10: 0.013888889 | AB10: 0.087 | AC10: 0.085 | AD10: 0.088 | AE10: 0.086 | AF10: 0.086 | AG10: 0.086 | AI10: 0.013888889 | AJ10: 0.086 | AK10: 0.084 | AL10: 0.084 | AM10: 0.085 | AN10: 0.084 | AO10: 0.087
A11: 0.027777778 | B11: 0.083 | C11: 0.081 | D11: 0.083 | E11: 0.084 | F11: 0.083 | G11: 0.082 | H11: 0.083 | J11: 0.027777778 | K11: 0.084 | L11: 0.08 | M11: 0.081 | N11: 0.084 | O11: 0.083 | P11: 0.081 | Q11: 0.082 | S11: 0.027777778 | T11: 0.083 | U11: 0.082 | V11: 0.081 | W11: 0.083 | X11: 0.082 | Y11: 0.083 | AA11: 0.027777778 | AB11: 0.086 | AC11: 0.084 | AD11: 0.088 | AE11: 0.086 | AF11: 0.086 | AG11: 0.086 | AI11: 0.027777778 | AJ11: 0.086 | AK11: 0.084 | AL11: 0.084 | AM11: 0.085 | AN11: 0.084 | AO11: 0.087
A12: 0.041666667 | B12: 0.083 | C12: 0.081 | D12: 0.083 | E12: 0.083 | F12: 0.083 | G12: 0.082 | H12: 0.083 | J12: 0.041666667 | K12: 0.083 | L12: 0.08 | M12: 0.081 | N12: 0.083 | O12: 0.082 | P12: 0.081 | Q12: 0.082 | S12: 0.041666667 | T12: 0.082 | U12: 0.082 | V12: 0.081 | W12: 0.082 | X12: 0.082 | Y12: 0.083 | AA12: 0.041666667 | AB12: 0.087 | AC12: 0.084 | AD12: 0.088 | AE12: 0.086 | AF12: 0.086 | AG12: 0.086 | AI12: 0.041666667 | AJ12: 0.086 | AK12: 0.084 | AL12: 0.084 | AM12: 0.085 | AN12: 0.084 | AO12: 0.087
A13: 0.055555556 | B13: 0.083 | C13: 0.081 | D13: 0.083 | E13: 0.083 | F13: 0.083 | G13: 0.082 | H13: 0.083 | J13: 0.055555556 | K13: 0.083 | L13: 0.08 | M13: 0.081 | N13: 0.083 | O13: 0.083 | P13: 0.081 | Q13: 0.082 | S13: 0.055555556 | T13: 0.082 | U13: 0.082 | V13: 0.081 | W13: 0.082 | X13: 0.082 | Y13: 0.082 | AA13: 0.055555556 | AB13: 0.087 | AC13: 0.084 | AD13: 0.088 | AE13: 0.086 | AF13: 0.086 | AG13: 0.086 | AI13: 0.055555556 | AJ13: 0.086 | AK13: 0.084 | AL13: 0.084 | AM13: 0.085 | AN13: 0.084 | AO13: 0.086
A14: 0.069444444 | B14: 0.083 | C14: 0.081 | D14: 0.082 | E14: 0.083 | F14: 0.083 | G14: 0.082 | H14: 0.083 | J14: 0.069444444 | K14: 0.083 | L14: 0.08 | M14: 0.081 | N14: 0.083 | O14: 0.083 | P14: 0.081 | Q14: 0.082 | S14: 0.069444444 | T14: 0.082 | U14: 0.082 | V14: 0.081 | W14: 0.082 | X14: 0.082 | Y14: 0.082 | AA14: 0.069444444 | AB14: 0.087 | AC14: 0.084 | AD14: 0.088 | AE14: 0.086 | AF14: 0.086 | AG14: 0.086 | AI14: 0.069444444 | AJ14: 0.086 | AK14: 0.084 | AL14: 0.084 | AM14: 0.085 | AN14: 0.084 | AO14: 0.087
A15: 0.083333333 | B15: 0.083 | C15: 0.081 | D15: 0.083 | E15: 0.084 | F15: 0.083 | G15: 0.082 | H15: 0.083 | J15: 0.083333333 | K15: 0.083 | L15: 0.08 | M15: 0.081 | N15: 0.083 | O15: 0.082 | P15: 0.081 | Q15: 0.082 | S15: 0.083333333 | T15: 0.082 | U15: 0.082 | V15: 0.082 | W15: 0.082 | X15: 0.082 | Y15: 0.083 | AA15: 0.083333333 | AB15: 0.087 | AC15: 0.084 | AD15: 0.089 | AE15: 0.086 | AF15: 0.086 | AG15: 0.086 | AI15: 0.083333333 | AJ15: 0.086 | AK15: 0.084 | AL15: 0.084 | AM15: 0.085 | AN15: 0.084 | AO15: 0.086
A16: 0.097222222 | B16: 0.083 | C16: 0.081 | D16: 0.083 | E16: 0.083 | F16: 0.083 | G16: 0.082 | H16: 0.083 | J16: 0.097222222 | K16: 0.083 | L16: 0.08 | M16: 0.081 | N16: 0.083 | O16: 0.082 | P16: 0.081 | Q16: 0.082 | S16: 0.097222222 | T16: 0.083 | U16: 0.082 | V16: 0.081 | W16: 0.082 | X16: 0.082 | Y16: 0.083 | AA16: 0.097222222 | AB16: 0.087 | AC16: 0.084 | AD16: 0.088 | AE16: 0.086 | AF16: 0.086 | AG16: 0.086 | AI16: 0.097222222 | AJ16: 0.086 | AK16: 0.084 | AL16: 0.085 | AM16: 0.085 | AN16: 0.084 | AO16: 0.087
A17: 0.11111111 | B17: 0.083 | C17: 0.081 | D17: 0.083 | E17: 0.083 | F17: 0.083 | G17: 0.082 | H17: 0.083 | J17: 0.11111111 | K17: 0.083 | L17: 0.08 | M17: 0.081 | N17: 0.083 | O17: 0.082 | P17: 0.081 | Q17: 0.082 | S17: 0.11111111 | T17: 0.082 | U17: 0.083 | V17: 0.082 | W17: 0.083 | X17: 0.082 | Y17: 0.082 | AA17: 0.11111111 | AB17: 0.087 | AC17: 0.085 | AD17: 0.088 | AE17: 0.087 | AF17: 0.086 | AG17: 0.086 | AI17: 0.11111111 | AJ17: 0.086 | AK17: 0.084 | AL17: 0.084 | AM17: 0.086 | AN17: 0.085 | AO17: 0.087
A18: 0.125 | B18: 0.083 | C18: 0.081 | D18: 0.083 | E18: 0.084 | F18: 0.083 | G18: 0.082 | H18: 0.083 | J18: 0.125 | K18: 0.083 | L18: 0.08 | M18: 0.081 | N18: 0.084 | O18: 0.082 | P18: 0.081 | Q18: 0.082 | S18: 0.125 | T18: 0.083 | U18: 0.082 | V18: 0.082 | W18: 0.082 | X18: 0.082 | Y18: 0.082 | AA18: 0.125 | AB18: 0.087 | AC18: 0.085 | AD18: 0.088 | AE18: 0.087 | AF18: 0.086 | AG18: 0.087 | AI18: 0.125 | AJ18: 0.086 | AK18: 0.084 | AL18: 0.084 | AM18: 0.086 | AN18: 0.084 | AO18: 0.087
A19: 0.13888889 | B19: 0.083 | C19: 0.081 | D19: 0.083 | E19: 0.084 | F19: 0.083 | G19: 0.082 | H19: 0.083 | J19: 0.13888889 | K19: 0.083 | L19: 0.081 | M19: 0.081 | N19: 0.084 | O19: 0.082 | P19: 0.082 | Q19: 0.082 | S19: 0.13888889 | T19: 0.082 | U19: 0.082 | V19: 0.082 | W19: 0.082 | X19: 0.082 | Y19: 0.083 | AA19: 0.13888889 | AB19: 0.087 | AC19: 0.084 | AD19: 0.089 | AE19: 0.086 | AF19: 0.086 | AG19: 0.086 | AI19: 0.13888889 | AJ19: 0.086 | AK19: 0.084 | AL19: 0.084 | AM19: 0.085 | AN19: 0.085 | AO19: 0.087
A20: 0.15277778 | B20: 0.083 | C20: 0.081 | D20: 0.083 | E20: 0.084 | F20: 0.083 | G20: 0.082 | H20: 0.083 | J20: 0.15277778 | K20: 0.083 | L20: 0.08 | M20: 0.082 | N20: 0.084 | O20: 0.083 | P20: 0.082 | Q20: 0.082 | S20: 0.15277778 | T20: 0.083 | U20: 0.082 | V20: 0.082 | W20: 0.082 | X20: 0.082 | Y20: 0.082 | AA20: 0.15277778 | AB20: 0.087 | AC20: 0.085 | AD20: 0.089 | AE20: 0.087 | AF20: 0.087 | AG20: 0.087 | AI20: 0.15277778 | AJ20: 0.086 | AK20: 0.085 | AL20: 0.084 | AM20: 0.086 | AN20: 0.085 | AO20: 0.087
... A68: 0.81944444 | B68: 0.083 | C68: 0.853 | D68: 0.847 | E68: 0.859 | F68: 0.886 | G68: 0.853 | H68: 0.862 | J68: 0.81944444 | K68: 0.083 | L68: 0.865 | M68: 0.853 | N68: 0.846 | O68: 0.833 | P68: 0.825 | Q68: 0.843 | S68: 0.81944444 | T68: 0.817 | U68: 0.818 | V68: 0.82 | W68: 0.706 | X68: 0.689 | Y68: 0.69 | AA68: 0.81944444 | AB68: 0.903 | AC68: 0.972 | AD68: 0.918 | AE68: 0.776 | AF68: 0.815 | AG68: 0.777 | AI68: 0.81944444 | AJ68: 1.034 | AK68: 1.039 | AL68: 1.053 | AM68: 0.866 | AN68: 0.864 | AO68: 0.829
A69: 0.83333333 | B69: 0.083 | C69: 0.853 | D69: 0.846 | E69: 0.859 | F69: 0.891 | G69: 0.852 | H69: 0.861 | J69: 0.83333333 | K69: 0.083 | L69: 0.836 | M69: 0.853 | N69: 0.854 | O69: 0.841 | P69: 0.832 | Q69: 0.85 | S69: 0.83333333 | T69: 0.837 | U69: 0.837 | V69: 0.838 | W69: 0.733 | X69: 0.717 | Y69: 0.717 | AA69: 0.83333333 | AB69: 0.928 | AC69: 0.999 | AD69: 0.942 | AE69: 0.812 | AF69: 0.851 | AG69: 0.814
A70: 0.84722222 | B70: 0.083 | C70: 0.854 | D70: 0.845 | E70: 0.86 | F70: 0.895 | G70: 0.852 | H70: 0.861 | J70: 0.84722222 | K70: 0.083 | L70: 0.837 | M70: 0.851 | N70: 0.856 | O70: 0.849 | P70: 0.839 | Q70: 0.855 | S70: 0.84722222 | T70: 0.853 | U70: 0.856 | V70: 0.854 | W70: 0.759 | X70: 0.742 | Y70: 0.741
A71: 0.86111111 | B71: 0.083 | C71: 0.852 | D71: 0.843 | E71: 0.859 | F71: 0.894 | G71: 0.849 | H71: 0.858 | J71: 0.86111111 | K71: 0.083 | L71: 0.841 | M71: 0.856 | N71: 0.857 | O71: 0.851 | P71: 0.846 | Q71: 0.86 | S71: 0.86111111 | T71: 0.867 | U71: 0.871 | V71: 0.848 | W71: 0.781 | X71: 0.764 | Y71: 0.764
A72: 0.875 | B72: 0.083 | C72: 0.851 | D72: 0.842 | E72: 0.858 | F72: 0.898 | G72: 0.849 | H72: 0.856 | J72: 0.875 | K72: 0.083 | L72: 0.842 | M72: 0.856 | N72: 0.858 | O72: 0.853 | P72: 0.851 | Q72: 0.862 | S72: 0.875 | T72: 0.879 | U72: 0.868 | V72: 0.839 | W72: 0.802 | X72: 0.784 | Y72: 0.783
A73: 0.88888889 | B73: 0.083 | C73: 0.85 | D73: 0.841 | E73: 0.856 | F73: 0.896 | G73: 0.847 | H73: 0.855 | J73: 0.88888889 | K73: 0.083 | L73: 0.844 | M73: 0.858 | N73: 0.859 | O73: 0.855 | P73: 0.854 | Q73: 0.865 | S73: 0.88888889 | T73: 0.87 | U73: 0.859 | V73: 0.831 | W73: 0.821 | X73: 0.801 | Y73: 0.801
A78: 600nm | C78: 8640 glycerol | F78: SB6 glycerol | I78: 600nm | L78: 8640 glycerol | O78: SB6 glycerol | S78: 600nm | U78: 8640 Pepton | X78: SB6 Pepton | AC78: 8640 Pepton | AF78: SB6 Pepton
A79: Time (s) | B79: F5 | C79: F6 | D79: F7 | E79: E2 | F79: E3 | G79: E4 | I79: Time (s) | J79: A1 | K79: A2 | L79: A3 | M79: A4 | N79: B5 | O79: B6 | P79: B7 | S79: Time (s) | T79: B1 | U79: B2 | V79: B3 | W79: B4 | X79: B5 | Y79: B6 | AA79: Time | AB79: B1 | AC79: B2 | AD79: B3 | AE79: B4 | AF79: B5 | AG79: B6
A80: 0 | B80: 0.087 | C80: 0.086 | D80: 0.086 | E80: 0.086 | F80: 0.084 | G80: 0.087 | I80: 0 | J80: 0.085 | K80: 0.079 | L80: 0.081 | M80: 0.084 | N80: 0.082 | O80: 0.081 | P80: 0.082 | S80: 0 | T80: 0.091 | U80: 0.093 | V80: 0.091 | W80: 0.093 | X80: 0.092 | Y80: 0.098 | AA80: 0.020648148 | AB80: 0.091 | AC80: 0.092 | AD80: 0.09 | AE80: 0.092 | AF80: 0.094 | AG80: 0.093
A81: 0.013888889 | B81: 0.087 | C81: 0.086 | D81: 0.085 | E81: 0.085 | F81: 0.084 | G81: 0.087 | I81: 0.013888889 | J81: 0.085 | K81: 0.081 | L81: 0.082 | M81: 0.084 | N81: 0.083 | O81: 0.082 | P81: 0.083 | S81: 0.013888889 | T81: 0.092 | U81: 0.094 | V81: 0.092 | W81: 0.093 | X81: 0.093 | Y81: 0.099 | AA81: 0.041481481 | AB81: 0.092 | AC81: 0.093 | AD81: 0.091 | AE81: 0.093 | AF81: 0.095 | AG81: 0.092
A82: 0.027777778 | B82: 0.087 | C82: 0.086 | D82: 0.085 | E82: 0.085 | F82: 0.084 | G82: 0.087 | I82: 0.027777778 | J82: 0.084 | K82: 0.08 | L82: 0.081 | M82: 0.083 | N82: 0.082 | O82: 0.081 | P82: 0.082 | S82: 0.027777778 | T82: 0.095 | U82: 0.099 | V82: 0.095 | W82: 0.096 | X82: 0.095 | Y82: 0.101 | AA82: 0.062314815 | AB82: 0.094 | AC82: 0.095 | AD82: 0.094 | AE82: 0.095 | AF82: 0.096 | AG82: 0.095
A83: 0.041666667 | B83: 0.086 | C83: 0.086 | D83: 0.085 | E83: 0.086 | F83: 0.084 | G83: 0.087 | I83: 0.041666667 | J83: 0.085 | K83: 0.081 | L83: 0.082 | M83: 0.085 | N83: 0.083 | O83: 0.082 | P83: 0.083 | S83: 0.041666667 | T83: 0.103 | U83: 0.105 | V83: 0.104 | W83: 0.1 | X83: 0.099 | Y83: 0.105 | AA83: 0.083148148 | AB83: 0.102 | AC83: 0.105 | AD83: 0.107 | AE83: 0.099 | AF83: 0.092 | AG83: 0.102
A84: 0.055555556 | B84: 0.087 | C84: 0.086 | D84: 0.085 | E84: 0.085 | F84: 0.084 | G84: 0.087 | I84: 0.055555556 | J84: 0.085 | K84: 0.081 | L84: 0.082 | M84: 0.084 | N84: 0.083 | O84: 0.082 | P84: 0.083 | S84: 0.055555556 | T84: 0.123 | U84: 0.124 | V84: 0.124 | W84: 0.11 | X84: 0.108 | Y84: 0.115 | AA84: 0.10398148 | AB84: 0.123 | AC84: 0.127 | AD84: 0.131 | AE84: 0.11 | AF84: 0.103 | AG84: 0.114
A85: 0.069444444 | B85: 0.087 | C85: 0.086 | D85: 0.085 | E85: 0.086 | F85: 0.084 | G85: 0.087 | I85: 0.069444444 | J85: 0.084 | K85: 0.08 | L85: 0.082 | M85: 0.084 | N85: 0.083 | O85: 0.081 | P85: 0.083 | S85: 0.069444444 | T85: 0.163 | U85: 0.166 | V85: 0.167 | W85: 0.127 | X85: 0.126 | Y85: 0.133 | AA85: 0.12481481 | AB85: 0.172 | AC85: 0.178 | AD85: 0.18 | AE85: 0.131 | AF85: 0.125 | AG85: 0.138
A86: 0.083333333 | B86: 0.087 | C86: 0.086 | D86: 0.085 | E86: 0.086 | F86: 0.084 | G86: 0.087 | I86: 0.083333333 | J86: 0.085 | K86: 0.081 | L86: 0.082 | M86: 0.085 | N86: 0.083 | O86: 0.082 | P86: 0.083 | S86: 0.083333333 | T86: 0.222 | U86: 0.225 | V86: 0.227 | W86: 0.162 | X86: 0.159 | Y86: 0.168 | AA86: 0.14564815 | AB86: 0.235 | AC86: 0.244 | AD86: 0.244 | AE86: 0.173 | AF86: 0.169 | AG86: 0.206
A87: 0.097222222 | B87: 0.087 | C87: 0.086 | D87: 0.085 | E87: 0.086 | F87: 0.084 | G87: 0.087 | I87: 0.097222222 | J87: 0.085 | K87: 0.081 | L87: 0.082 | M87: 0.085 | N87: 0.083 | O87: 0.082 | P87: 0.083 | S87: 0.097222222 | T87: 0.306 | U87: 0.316 | V87: 0.319 | W87: 0.204 | X87: 0.203 | Y87: 0.211 | AA87: 0.16648148 | AB87: 0.331 | AC87: 0.345 | AD87: 0.361 | AE87: 0.22 | AF87: 0.217 | AG87: 0.236
A88: 0.11111111 | B88: 0.086 | C88: 0.086 | D88: 0.084 | E88: 0.085 | F88: 0.084 | G88: 0.087 | I88: 0.11111111 | J88: 0.085 | K88: 0.081 | L88: 0.083 | M88: 0.085 | N88: 0.083 | O88: 0.082 | P88: 0.083 | S88: 0.11111111 | T88: 0.445 | U88: 0.457 | V88: 0.463 | W88: 0.27 | X88: 0.268 | Y88: 0.278 | AA88: 0.18731481 | AB88: 0.481 | AC88: 0.501 | AD88: 0.512 | AE88: 0.294 | AF88: 0.291 | AG88: 0.304
A89: 0.125 | B89: 0.086 | C89: 0.086 | D89: 0.085 | E89: 0.085 | F89: 0.084 | G89: 0.087 | I89: 0.125 | J89: 0.085 | K89: 0.081 | L89: 0.083 | M89: 0.085 | N89: 0.084 | O89: 0.082 | P89: 0.083 | S89: 0.125 | T89: 0.622 | U89: 0.649 | V89: 0.66 | W89: 0.362 | X89: 0.361 | Y89: 0.372 | AA89: 0.20814815 | AB89: 0.685 | AC89: 0.742 | AD89: 0.723 | AE89: 0.411 | AF89: 0.408 | AG89: 0.416
A90: 0.13888889 | B90: 0.086 | C90: 0.086 | D90: 0.085 | E90: 0.085 | F90: 0.084 | G90: 0.087 | I90: 0.13888889 | J90: 0.086 | K90: 0.081 | L90: 0.083 | M90: 0.085 | N90: 0.084 | O90: 0.082 | P90: 0.083 | S90: 0.13888889 | T90: 0.822 | U90: 0.847 | V90: 0.858 | W90: 0.489 | X90: 0.489 | Y90: 0.502 | AA90: 0.22898148 | AB90: 0.882 | AC90: 0.935 | AD90: 0.928 | AE90: 0.557 | AF90: 0.55 | AG90: 0.555
A91: 0.15277778 | B91: 0.087 | C91: 0.086 | D91: 0.085 | E91: 0.086 | F91: 0.084 | G91: 0.087 | I91: 0.15277778 | J91: 0.085 | K91: 0.081 | L91: 0.083 | M91: 0.085 | N91: 0.084 | O91: 0.082 | P91: 0.083 | S91: 0.15277778 | T91: 1.002 | U91: 1.026 | V91: 1.036 | W91: 0.658 | X91: 0.662 | Y91: 0.676 | AA91: 0.24981481 | AB91: 1.048 | AC91: 1.098 | AD91: 1.094 | AE91: 0.743 | AF91: 0.732 | AG91: 0.738
... A124: 0.61111111 | B124: 0.359 | C124: 0.416 | D124: 0.423 | E124: 0.237 | F124: 0.182 | G124: 0.175 | I124: 0.61111111 | J124: 0.085 | K124: 0.461 | L124: 0.494 | M124: 0.398 | N124: 0.216 | O124: 0.222 | P124: 0.222 | S124: 0.61111111 | T124: 1.468 | U124: 1.507 | V124: 1.52 | W124: 1.477 | X124: 1.503 | Y124: 1.52 | AA124: 0.93731481 | AB124: 1.477 | AC124: 1.518 | AD124: 1.523 | AE124: 1.472 | AF124: 1.51 | AG124: 1.536
A125: 0.625 | B125: 0.401 | C125: 0.456 | D125: 0.466 | E125: 0.269 | F125: 0.205 | G125: 0.196 | I125: 0.625 | J125: 0.085 | K125: 0.438 | L125: 0.419 | M125: 0.435 | N125: 0.246 | O125: 0.254 | P125: 0.251 | AA125: 0.95814815 | AB125: 1.476 | AC125: 1.518 | AD125: 1.524 | AE125: 1.472 | AF125: 1.511 | AG125: 1.536
A126: 0.63888889 | B126: 0.443 | C126: 0.496 | D126: 0.506 | E126: 0.303 | F126: 0.234 | G126: 0.222 | I126: 0.63888889 | J126: 0.085 | K126: 0.472 | L126: 0.449 | M126: 0.473 | N126: 0.278 | O126: 0.295 | P126: 0.285 | AA126: 0.97898148 | AB126: 1.479 | AC126: 1.517 | AD126: 1.524 | AE126: 1.472 | AF126: 1.511 | AG126: 1.536
A127: 0.65277778 | B127: 0.487 | C127: 0.536 | D127: 0.545 | E127: 0.355 | F127: 0.267 | G127: 0.254 | I127: 0.65277778 | J127: 0.086 | K127: 0.505 | L127: 0.484 | M127: 0.512 | N127: 0.317 | O127: 0.356 | P127: 0.349 | AA127: 0.99981481 | AB127: 1.479 | AC127: 1.517 | AD127: 1.525 | AE127: 1.472 | AF127: 1.512 | AG127: 1.536
A128: 0.66666667 | B128: 0.533 | C128: 0.573 | D128: 0.585 | E128: 0.473 | F128: 0.301 | G128: 0.289 | I128: 0.66666667 | J128: 0.085 | K128: 0.539 | L128: 0.518 | M128: 0.55 | N128: 0.366 | O128: 0.395 | P128: 0.38 | AA128: 1.0206481 | AB128: 1.479 | AC128: 1.516 | AD128: 1.525 | AE128: 1.473 | AF128: 1.512 | AG128: 1.536
A129: 0.68055556 | B129: 0.576 | C129: 0.616 | D129: 0.626 | E129: 0.4 | F129: 0.35 | G129: 0.329 | I129: 0.68055556 | J129: 0.085 | K129: 0.575 | L129: 0.552 | M129: 0.588 | N129: 0.374 | O129: 0.38 | P129: 0.377 | AA129: 1.0414815 | AB129: 1.478 | AC129: 1.515 | AD129: 1.526 | AE129: 1.473 | AF129: 1.513 | AG129: 1.536
A130: 0.69444444 | B130: 0.616 | C130: 0.654 | D130: 0.663 | E130: 0.434 | F130: 0.401 | G130: 0.391 | I130: 0.69444444 | J130: 0.085 | K130: 0.61 | L130: 0.587 | M130: 0.625 | N130: 0.402 | O130: 0.407 | P130: 0.41 | AA130: 1.0623148 | AB130: 1.479 | AC130: 1.515 | AD130: 1.526 | AE130: 1.474 | AF130: 1.513 | AG130: 1.536
A131: 0.70833333 | B131: 0.654 | C131: 0.687 | D131: 0.693 | E131: 0.47 | F131: 0.398 | G131: 0.387 | I131: 0.70833333 | J131: 0.085 | K131: 0.64 | L131: 0.62 | M131: 0.657 | N131: 0.438 | O131: 0.442 | P131: 0.443 | AA131: 1.0831481 | AB131: 1.479 | AC131: 1.514 | AD131: 1.526 | AE131: 1.474 | AF131: 1.514 | AG131: 1.536
A132: 0.72222222 | B132: 0.689 | C132: 0.717 | D132: 0.72 | E132: 0.506 | F132: 0.432 | G132: 0.419 | I132: 0.72222222 | J132: 0.085 | K132: 0.664 | L132: 0.651 | M132: 0.688 | N132: 0.474 | O132: 0.477 | P132: 0.478 | AA132: 1.1039815 | AB132: 1.479 | AC132: 1.514 | AD132: 1.527 | AE132: 1.474 | AF132: 1.514 | AG132: 1.536
A133: 0.73611111 | B133: 0.719 | C133: 0.741 | D133: 0.742 | E133: 0.543 | F133: 0.468 | G133: 0.455 | I133: 0.73611111 | J133: 0.085 | K133: 0.685 | L133: 0.677 | M133: 0.713 | N133: 0.509 | O133: 0.511 | P133: 0.511 | AA133: 1.1248148 | AB133: 1.48 | AC133: 1.512 | AD133: 1.528 | AE133: 1.474 | AF133: 1.514 | AG133: 1.536
A134: 0.75 | B134: 0.745 | C134: 0.763 | D134: 0.761 | E134: 0.579 | F134: 0.505 | G134: 0.492 | I134: 0.75 | J134: 0.086 | K134: 0.705 | L134: 0.701 | M134: 0.735 | N134: 0.544 | O134: 0.545 | P134: 0.542 | AA134: 1.1456481 | AB134: 1.48 | AC134: 1.51 | AD134: 1.528 | AE134: 1.474 | AF134: 1.514 | AG134: 1.536
A135: 0.76388889 | B135: 0.767 | C135: 0.782 | D135: 0.778 | E135: 0.615 | F135: 0.542 | G135: 0.529 | I135: 0.76388889 | J135: 0.086 | K135: 0.722 | L135: 0.721 | M135: 0.753 | N135: 0.579 | O135: 0.582 | P135: 0.572 | AA135: 1.1664815 | AB135: 1.48 | AC135: 1.509 | AD135: 1.528 | AE135: 1.474 | AF135: 1.515 | AG135: 1.537
A136: 0.77777778 | B136: 0.79 | C136: 0.8 | D136: 0.791 | E136: 0.652 | F136: 0.58 | G136: 0.567 | I136: 0.77777778 | J136: 0.085 | K136: 0.737 | L136: 0.74 | M136: 0.771 | N136: 0.612 | O136: 0.615 | P136: 0.602 | AA136: 1.1873148 | AB136: 1.48 | AC136: 1.507 | AD136: 1.529 | AE136: 1.474 | AF136: 1.515 | AG136: 1.538
... A140: 0.83333333 | B140: 0.869 | C140: 0.861 | D140: 0.838 | E140: 0.754 | F140: 0.713 | G140: 0.706 | I140: 0.83333333 | J140: 0.085 | K140: 0.785 | L140: 0.802 | M140: 0.827 | N140: 0.726 | O140: 0.73 | P140: 0.726 | AA140: 1.2706481 | AB140: 1.48 | AC140: 1.496 | AD140: 1.53 | AE140: 1.474 | AF140: 1.515 | AG140: 1.537
A141: 0.84722222 | B141: 0.886 | C141: 0.873 | D141: 0.848 | E141: 0.773 | F141: 0.736 | G141: 0.731 | AA141: 1.2914815 | AB141: 1.481 | AC141: 1.493 | AD141: 1.53 | AE141: 1.474 | AF141: 1.515 | AG141: 1.538
A142: 0.86111111 | B142: 0.899 | C142: 0.885 | D142: 0.858 | E142: 0.791 | F142: 0.755 | G142: 0.752 | AA142: 1.3123148 | AB142: 1.481 | AC142: 1.493 | AD142: 1.53 | AE142: 1.474 | AF142: 1.515 | AG142: 1.537
A143: 0.875 | B143: 0.912 | C143: 0.896 | D143: 0.867 | E143: 0.807 | F143: 0.774 | G143: 0.773 | AA143: 1.3331481 | AB143: 1.481 | AC143: 1.492 | AD143: 1.53 | AE143: 1.474 | AF143: 1.515 | AG143: 1.538
A144: 0.88888889 | B144: 0.926 | C144: 0.907 | D144: 0.877 | E144: 0.822 | F144: 0.792 | G144: 0.794 | AA144: 1.3539815 | AB144: 1.481 | AC144: 1.493 | AD144: 1.53 | AE144: 1.474 | AF144: 1.515 | AG144: 1.537
A145: 0.90277778 | B145: 0.936 | C145: 0.916 | D145: 0.884 | E145: 0.834 | F145: 0.811 | G145: 0.813 | AA145: 1.3748148 | AB145: 1.482 | AC145: 1.493 | AD145: 1.53 | AE145: 1.473 | AF145: 1.515 | AG145: 1.538
A146: 0.91666667 | B146: 0.948 | C146: 0.926 | D146: 0.893 | E146: 0.848 | F146: 0.827 | G146: 0.83 | AA146: 1.3956481 | AB146: 1.481 | AC146: 1.494 | AD146: 1.53 | AE146: 1.473 | AF146: 1.514 | AG146: 1.537
A147: 0.93055556 | B147: 0.955 | C147: 0.934 | D147: 0.899 | E147: 0.86 | F147: 0.842 | G147: 0.847 | AA147: 1.4164815 | AB147: 1.482 | AC147: 1.493 | AD147: 1.531 | AE147: 1.473 | AF147: 1.514 | AG147: 1.537
A148: 0.94444444 | B148: 0.966 | C148: 0.944 | D148: 0.907 | E148: 0.874 | F148: 0.855 | G148: 0.862 | AA148: 1.4373148 | AB148: 1.481 | AC148: 1.493 | AD148: 1.531 | AE148: 1.474 | AF148: 1.514 | AG148: 1.536
A149: 0.95833333 | B149: 0.972 | C149: 0.949 | D149: 0.913 | E149: 0.883 | F149: 0.867 | G149: 0.875 | AA149: 1.4581481 | AB149: 1.481 | AC149: 1.494 | AD149: 1.531 | AE149: 1.473 | AF149: 1.514 | AG149: 1.536
A150: 0.97222222 | B150: 0.981 | C150: 0.958 | D150: 0.92 | E150: 0.895 | F150: 0.881 | G150: 0.888 | AA150: 1.4789815 | AB150: 1.481 | AC150: 1.491 | AD150: 1.531 | AE150: 1.472 | AF150: 1.513 | AG150: 1.536
A151: 0.98611111 | B151: 0.986 | C151: 0.963 | D151: 0.924 | E151: 0.905 | F151: 0.892 | G151: 0.901 | AA151: 1.4998148 | AB151: 1.481 | AC151: 1.493 | AD151: 1.53 | AE151: 1.472 | AF151: 1.513 | AG151: 1.536
A152: 1 | B152: 0.992 | C152: 0.97 | D152: 0.931 | E152: 0.917 | F152: 0.906 | G152: 0.913 | AA152: 1.5206481 | AB152: 1.481 | AC152: 1.493 | AD152: 1.531 | AE152: 1.472 | AF152: 1.514 | AG152: 1.536
AA153: 1.5414815 | AB153: 1.48 | AC153: 1.489 | AD153: 1.53 | AE153: 1.472 | AF153: 1.512 | AG153: 1.536
AA154: 1.5623148 | AB154: 1.48 | AC154: 1.488 | AD154: 1.53 | AE154: 1.47 | AF154: 1.512 | AG154: 1.535
AA155: 1.5831481 | AB155: 1.479 | AC155: 1.487 | AD155: 1.53 | AE155: 1.47 | AF155: 1.512 | AG155: 1.535
AA156: 1.6039815 | AB156: 1.479 | AC156: 1.487 | AD156: 1.53 | AE156: 1.47 | AF156: 1.512 | AG156: 1.534
AA157: 1.6248148 | AB157: 1.479 | AC157: 1.487 | AD157: 1.53 | AE157: 1.47 | AF157: 1.511 | AG157: 1.534
AA158: 1.6456481 | AB158: 1.478 | AC158: 1.486 | AD158: 1.53 | AE158: 1.469 | AF158: 1.51 | AG158: 1.534
AA159: 1.6664815 | AB159: 1.478 | AC159: 1.486 | AD159: 1.529 | AE159: 1.469 | AF159: 1.51 | AG159: 1.534
AA160: 1.6873148 | AB160: 1.477 | AC160: 1.485 | AD160: 1.528 | AE160: 1.469 | AF160: 1.51 | AG160: 1.533
AA161: 1.7081481 | AB161: 1.477 | AC161: 1.491 | AD161: 1.529 | AE161: 1.468 | AF161: 1.509 | AG161: 1.532
AA162: 1.7289815 | AB162: 1.476 | AC162: 1.485 | AD162: 1.528 | AE162: 1.467 | AF162: 1.508 | AG162: 1.532
AA163: 1.7498148 | AB163: 1.476 | AC163: 1.485 | AD163: 1.528 | AE163: 1.466 | AF163: 1.508 | AG163: 1.531
AA164: 1.7706481 | AB164: 1.476 | AC164: 1.485 | AD164: 1.528 | AE164: 1.466 | AF164: 1.508 | AG164: 1.531
... AA174: 1.9789815 | AB174: 1.472 | AC174: 1.478 | AD174: 1.523 | AE174: 1.461 | AF174: 1.5 | AG174: 1.526

Sheet SFig6A
A1: Stamm: | B1: 1) 8640 | E1: Stamm: | F1: 1) 8640
B2: 2) SB6 | F2: 2) SB6
A7: Lagtime [600] | R7: 8640 | V7: SB6 | Z7: 8640 | AA7: SB6
C8: 100 | D8: 50 | E8: 25 | F8: 12.5 | G8: 6.25 | H8: 3.125 | I8: 1.56 | J8: 0.78 | K8: 0.39 | L8: 0.19 | M8: 0.097 | N8: 0 | Q8: CCCP
C9: 1 | D9: 2 | E9: 3 | F9: 4 | G9: 5 | H9: 6 | I9: 7 | J9: 8 | K9: 9 | L9: 10 | M9: 11 | N9: 12 | Q9: 50 | R9: 303 | S9: 290 | T9: 292 | V9: 486 | W9: 511 | X9: 490 | Z9: =AVERAGE(R9:T9) -> 295 | AA9: =AVERAGE(V9:X9) -> 495.66667
B10: A | C10: 0.13568287 | D10: 0.21059028 | E10: 0.14414352 | F10: 0.1375 | G10: 0.13689815 | H10: 0.13484954 | I10: 0.13502315 | J10: 0.13534722 | K10: 0.13565972 | L10: 0.13584491 | M10: 0.13615741 | N10: 0.13900463 | O10: Lagtime [600] | Q10: 25 | R10: 207 | S10: 211 | T10: 210 | V10: 266 | W10: 266 | X10: 267 | Z10: =AVERAGE(R10:T10) -> 209.33333 | AA10: =AVERAGE(V10:X10) -> 266.33333
A11: 8640 | B11: B | C11: 0.98564815 | D11: 0.20157407 | E11: 0.14694444 | F11: 0.13747685 | G11: 0.13680556 | H11: 0.1362037 | I11: 0.13569444 | J11: 0.1365625 | K11: 0.13699074 | L11: 0.13648148 | M11: 0.13623843 | N11: 0.13686343 | O11: Lagtime [600] | Q11: 12.5 | R11: 198 | S11: 197 | T11: 198 | V11: 250 | W11: 250 | X11: 250 | Z11: =AVERAGE(R11:T11) -> 197.66667 | AA11: =AVERAGE(V11:X11) -> 250
B12: C | C12: 0.68569444 | D12: 0.2030787 | E12: 0.14587963 | F12: 0.13810185 | G12: 0.13756944 | H12: 0.13621528 | I12: 0.13674769 | J12: 0.13701389 | K12: 0.13774306 | L12: 0.13763889 | M12: 0.13740741 | N12: 0.13710648 | O12: Lagtime [600] | Q12: 0 | R12: 200 | S12: 197 | T12: 197 | V12: 243 | W12: 244 | X12: 244 | Z12: =AVERAGE(R12:T12) -> 198 | AA12: =AVERAGE(V12:X12) -> 243.66667
B13: D | C13: 0.02037037 | D13: 0.33791667 | E13: 0.18523148 | F13: 0.17399306 | G13: 0.16927083 | H13: 0.16775463 | I13: 0.16877315 | J13: 0.16769676 | K13: 0.16862269 | L13: 0.16744213 | M13: 0.16878472 | N13: 0.16881944 | O13: Lagtime [600]
A14: SB6 | B14: E | C14: 0.10328704 | D14: 0.35496528 | E14: 0.18509259 | F14: 0.17368056 | G14: 0.17090278 | H14: 0.16951389 | I14: 0.16961806 | J14: 0.1696875 | K14: 0.16956019 | L14: 0.17016204 | M14: 0.17114583 | N14: 0.16998843 | O14: Lagtime [600]
B15: F | C15: 0.44438657 | D15: 0.34070602 | E15: 0.18553241 | F15: 0.17362269 | G15: 0.17108796 | H15: 0.17121528 | I15: 0.17071759 | J15: 0.17041667 | K15: 0.16994213 | L15: 0.1697338 | M15: 0.16909722 | N15: 0.16981481 | O15: Lagtime [600]
B16: G | C16: 0.83709491 | D16: 0.62453704 | E16: 0.5912037 | F16: 0.78228009 | G16: 0.23465278 | H16: 0.39016204 | I16: 0.37800926 | J16: 0.23391204 | K16: 0.43703704 | L16: 0.34802083 | M16: 0.92777778 | N16: 0.80162037 | O16: Lagtime [600]
B17: H | C17: 0.44840278 | D17: 0.83703704 | E17: 0.72453704 | F17: 0.14239583 | G17: 0.75900463 | H17: 0.12453704 | I17: 0.37263889 | J17: 0.78773148 | K17: 0.59991898 | L17: 0.39915509 | M17: 0.80787037 | N17: ????? | O17: Lagtime [600]
A20: Lagtime [600] | R20: 8640 | V20: SB6 | Z20: 8640 | AA20: SB6
C21: 100 | D21: 50 | E21: 25 | F21: 12.5 | G21: 6.25 | H21: 3.125 | I21: 1.56 | J21: 0.78 | K21: 0.39 | L21: 0.19 | M21: 0.097 | N21: 0 | Q21: CCCP
C22: 1 | D22: 2 | E22: 3 | F22: 4 | G22: 5 | H22: 6 | I22: 7 | J22: 8 | K22: 9 | L22: 10 | M22: 11 | N22: 12 | Q22: 50 | R22: 264 | S22: 236 | T22: 281 | V22: 465 | W22: 383 | X22: 457 | Z22: =AVERAGE(R22:T22) -> 260.33333 | AA22: =AVERAGE(V22:X22) -> 435
B23: A | C23: ????? | D23: 0.18393519 | E23: 0.14858796 | F23: 0.14115741 | G23: 0.1387037 | H23: 0.13758102 | I23: 0.1381713 | J23: 0.13783565 | K23: 0.1375 | L23: 0.13784722 | M23: 0.13774306 | N23: 0.13939815 | O23: Lagtime [600] | Q23: 25 | R23: 213 | S23: 208 | T23: 214 | V23: 267 | W23: 274 | X23: 271 | Z23: =AVERAGE(R23:T23) -> 211.66667 | AA23: =AVERAGE(V23:X23) -> 270.66667
A24: 8640 | B24: B | C24: 0.75521991 | D24: 0.16402778 | E24: 0.14393519 | F24: 0.13819444 | G24: 0.13863426 | H24: 0.13894676 | I24: 0.13939815 | J24: 0.13939815 | K24: 0.1396875 | L24: 0.14012731 | M24: 0.13881944 | N24: 0.13917824 | O24: Lagtime [600] | Q24: 12.5 | R24: 203 | S24: 199 | T24: 205 | V24: 255 | W24: 263 | X24: 260 | Z24: =AVERAGE(R24:T24) -> 202.33333 | AA24: =AVERAGE(V24:X24) -> 259.33333
B25: C | C25: 0.80509259 | D25: 0.19533565 | E25: 0.14920139 | F25: 0.14258102 | G25: 0.13943287 | H25: 0.13834491 | I25: 0.13871528 | J25: 0.13869213 | K25: 0.13921296 | L25: 0.13953704 | M25: 0.13988426 | N25: 0.13795139 | O25: Lagtime [600] | Q25: 0 | R25: 200 | S25: 200 | T25: 198 | V25: 247 | W25: 250 | X25: 249 | Z25: =AVERAGE(R25:T25) -> 199.33333 | AA25: =AVERAGE(V25:X25) -> 248.66667
B26: D | C26: 0.680625 | D26: 0.32300926 | E26: 0.18569444 | F26: 0.17731481 | G26: 0.17108796 | H26: 0.17116898 | I26: 0.17167824 | J26: 0.17114583 | K26: 0.17181713 | L26: 0.17175926 | M26: 0.17215278 | N26: 0.17172454 | O26: Lagtime [600]
A27: SB6 | B27: E | C27: 0.8037037 | D27: 0.26609954 | E27: 0.19084491 | F27: 0.18277778 | G27: 0.17631944 | H27: 0.1725463 | I27: 0.17173611 | J27: 0.1706713 | K27: 0.17043981 | L27: 0.16480324 | M27: 0.17194444 | N27: 0.17372685 | O27: Lagtime [600]
B28: F | C28: 0.69861111 | D28: 0.31756944 | E28: 0.18885417 | F28: 0.18071759 | G28: 0.17300926 | H28: 0.17193287 | I28: 0.17258102 | J28: 0.17167824 | K28: 0.17172454 | L28: 0.17148148 | M28: 0.17342593 | N28: 0.17248843 | O28: Lagtime [600]
B29: G | C29: 0.85667824 | D29: 0.52037037 | E29: 0.40862269 | F29: 0.22680556 | G29: 0.32453704 | H29: 0.08287037 | I29: 0.14074074 | J29: 0.77037037 | K29: 0.68287037 | L29: 0.11412037 | M29: 0.54953704 | N29: 0.089814815 | O29: Lagtime [600]
B30: H | C30: 0.72710648 | D30: 0.26689815 | E30: 0.85748843 | F30: 0.13703704 | G30: 0.31203704 | H30: 0.59328704 | I30: 0.86561343 | J30: 0.13778935 | K30: 0.21733796 | L30: 0.32824074 | M30: 0.15673611 | N30: 0.14074074 | O30: Lagtime [600]
A33: Lagtime [600] | R33: 8640 | V33: SB6 | Z33: 8640 | AA33: SB6
C34: 100 | D34: 50 | E34: 25 | F34: 12.5 | G34: 6.25 | H34: 3.125 | I34: 1.56 | J34: 0.78 | K34: 0.39 | L34: 0.19 | M34: 0.097 | N34: 0 | Q34: CCCP
C35: 1 | D35: 2 | E35: 3 | F35: 4 | G35: 5 | H35: 6 | I35: 7 | J35: 8 | K35: 9 | L35: 10 | M35: 11 | N35: 12 | Q35: 50 | R35: 359 | S35: 326 | T35: 339 | V35: 592 | W35: 563 | X35: 598 | Z35: =AVERAGE(R35:T35) -> 341.33333 | AA35: =AVERAGE(V35:X35) -> 584.33333
B36: A | C36: 0.66025463 | D36: 0.24965278 | E36: 0.15326389 | F36: 0.14240741 | G36: 0.14186343 | H36: 0.14200231 | I36: 0.14164352 | J36: 0.14222222 | K36: 0.14258102 | L36: 0.14236111 | M36: 0.14364583 | N36: 0.14703704 | O36: Lagtime [600] | Q36: 25 | R36: 220 | S36: 220 | T36: 215 | V36: 306 | W36: 304 | X36: 303 | Z36: =AVERAGE(R36:T36) -> 218.33333 | AA36: =AVERAGE(V36:X36) -> 304.33333
B37: B | C37: 0.33127315 | D37: 0.22704861 | E37: 0.15287037 | F37: 0.14359954 | G37: 0.14238426 | H37: 0.1425463 | I37: 0.14293981 | J37: 0.14303241 | K37: 0.14350694 | L37: 0.14238426 | M37: 0.14378472 | N37: 0.14597222 | O37: Lagtime [600] | Q37: 12.5 | R37: 205 | S37: 206 | T37: 206 | V37: 252 | W37: 251 | X37: 251 | Z37: =AVERAGE(R37:T37) -> 205.66667 | AA37: =AVERAGE(V37:X37) -> 251.33333
B38: C | C38: 0.02599537 | D38: 0.23560185 | E38: 0.14979167 | F38: 0.14357639 | G38: 0.14131944 | H38: 0.1424537 | I38: 0.1424537 | J38: 0.14228009 | K38: 0.14450231 | L38: 0.14364583 | M38: 0.14398148 | N38: 0.1458912 | O38: Lagtime [600] | Q38: 0 | R38: 211 | S38: 210 | T38: 210 | V38: 248 | W38: 249 | X38: 253 | Z38: =AVERAGE(R38:T38) -> 210.33333 | AA38: =AVERAGE(V38:X38) -> 250
B39: D | C39: 0.3928588 | D39: 0.41135417 | E39: 0.18520833 | F39: 0.17519676 | G39: 0.17402778 | H39: 0.1721875 | I39: 0.17079861 | J39: 0.17021991 | K39: 0.16769676 | L39: 0.16864583 | M39: 0.16913194 | N39: 0.17271991 | O39: Lagtime [600]
B40: E | C40: 0.42141204 | D40: 0.39152778 | E40: 0.18399306 | F40: 0.17476852 | G40: 0.17386574 | H40: 0.17208333 | I40: 0.17153935 | J40: 0.16983796 | K40: 0.16811343 | L40: 0.17 | M40: 0.16935185 | N40: 0.17354167 | O40: Lagtime [600]
B41: F | C41: 0.75548611 | D41: 0.41549769 | E41: 0.18322917 | F41: 0.17484954 | G41: 0.17328704 | H41: 0.1712037 | I41: 0.17134259 | J41: 0.16888889 | K41: 0.16803241 | L41: 0.16792824 | M41: 0.16899306 | N41: 0.17586806 | O41: Lagtime [600]
B42: G | C42: 0.65673611 | D42: 0.4787037 | E42: 0.45092593 | F42: ????? | G42: 0.86759259 | H42: 0.58055556 | I42: 0.5287037 | J42: 0.036574074 | K42: 0.22549769 | L42: 0.76516204 | M42: 0.40429398 | N42: 0.525 | O42: Lagtime [600]
B43: H | C43: 0.6349537 | D43: 0.29914352 | E43: 0.73167824 | F43: 0.58287037 | G43: 0.74358796 | H43: 0.92215278 | I43: 0.72349537 | J43: 0.56501157 | K43: 0.25648148 | L43: 0.75548611 | M43: 0.74953704 | N43: 0.92037037 | O43: Lagtime [600]

Sheet SFig7A
A1: Stamm: | B1: 1) 8640 + pDR122
B2: 2) SB6 + pDR122
A7: 37°C | C7: 8640 | G7: SB6 | V7: 28°C | X7: 8640 | AB7: SB6
C10: Oszillierung | X10: Oszillierung (sec)
A12: 1. | C12: 1 | D12: 2 | E12: 3 | G12: 1 | H12: 2 | I12: 3 | L12: 8640 | P12: SB6 | V12: 1. | X12: 1 | Y12: 2 | Z12: 3 | AB12: 1 | AC12: 2 | AD12: 3 | AH12: 8640 | AL12: SB6
C13: =35.619-18.997 -> 16.622 | D13: =33.245-14.248 -> 18.997 | E13: =16.622-2.375 -> 14.247 | G13: =26.121-9.499 -> 16.622 | H13: =28.496-9.499 -> 18.997 | I13: =33.245-16.623 -> 16.622 | X13: =37.995-11.873 -> 26.122 | Y13: =61.743-30.872 -> 30.871 | Z13: =42.746-16.624 -> 26.122 | AB13: =30.871-4.749 -> 26.122 | AC13: =33.249-11.875 -> 21.374 | AD13: =42.745-14.248 -> 28.497
C14: =52.241-35.619 -> 16.622 | D14: =49.867-33.245 -> 16.622 | E14: =33.244-16.622 -> 16.622 | G14: =45.119-26.121 -> 18.998 | H14: =47.494-28.496 -> 18.998 | I14: =49.868-33.245 -> 16.623 | X14: =66.491-37.995 -> 28.496 | Y14: =94.989-61.743 -> 33.246 | Z14: =71.244-42.746 -> 28.498 | AB14: =59.871-30.871 -> 29 | AC14: =56.998-33.249 -> 23.749 | AD14: =73.616-42.745 -> 30.871
C15: =71.238-52.241 -> 18.997 | D15: =68.864-49.867 -> 18.997 | E15: =52.24-33.244 -> 18.996 | G15: =61.741-45.119 -> 16.622 | H15: =66.491-47.494 -> 18.997 | I15: =66.491-49.868 -> 16.623 | L15: GFP (Mittelwert von vier Zeitpunkten) | X15: =92.613-66.491 -> 26.122 | Y15: =123.486-94.989 -> 28.497 | Z15: =97.367-71.244 -> 26.123 | AB15: =90.237-59.367 -> 30.87 | AC15: =78.372-56.998 -> 21.374 | AD15: =99.738-73.616 -> 26.122 | AH15: GFP (Mittelwert von vier Zeitpunkten)
B16: Mittelwert | C16: =AVERAGE(C13:C15) -> 17.413667 | D16: =AVERAGE(D13:D15) -> 18.205333 | E16: =AVERAGE(E13:E15) -> 16.621667 | G16: =AVERAGE(G13:G15) -> 17.414 | H16: =AVERAGE(H13:H15) -> 18.997333 | I16: =AVERAGE(I13:I15) -> 16.622667 | W16: Mittelwert | X16: =AVERAGE(X13:X15) -> 26.913333 | Y16: =AVERAGE(Y13:Y15) -> 30.871333 | Z16: =AVERAGE(Z13:Z15) -> 26.914333 | AB16: =AVERAGE(AB13:AB15) -> 28.664 | AC16: =AVERAGE(AC13:AC15) -> 22.165667 | AD16: =AVERAGE(AD13:AD15) -> 28.496667
K17: Mittelwert | L17: 1 | M17: 2 | N17: 3 | O17: Mittelwert | P17: 1 | Q17: 2 | R17: 3 | AG17: Mittelwert | AH17: 1 | AI17: 2 | AJ17: 3 | AK17: Mittelwert | AL17: 1 | AM17: 2 | AN17: 3
K18: =AVERAGE(L18:N18) -> 2951.4167 | L18: =(4129+4860+4883+5125)/4 -> 4749.25 | M18: =(2853+2829+2423+1735)/4 -> 2460 | N18: 1645 | O18: =AVERAGE(P18:R18) -> 2333.8333 | P18: =(1490+1601+1517+1427)/4 -> 1508.75 | Q18: =(1803+2043+1697+1564)/4 -> 1776.75 | R18: 3716 | AF18: 1 | AG18: =AVERAGE(AH18:AJ18) -> 4536.6667 | AH18: =(3129+3239+3248+3281)/4 -> 3224.25 | AI18: =(5960+5819+5345+5233)/4 -> 5589.25 | AJ18: =(5221+5207+3864+4894)/4 -> 4796.5 | AK18: =AVERAGE(AL18:AN18) -> 3997.8333 | AL18: =(2548+2596+2499+2817)/4 -> 2615 | AM18: =(6668+5728+6181+6557)/4 -> 6283.5 | AN18: =(3207+3170+3035+2968)/4 -> 3095
K19: =AVERAGE(L19:N19) -> 3492.0833 | L19: =(2988+3338+3493+3760)/4 -> 3394.75 | M19: =(2969+2211+1649+2604)/4 -> 2358.25 | N19: =(4357+4563+4831+5142)/4 -> 4723.25 | O19: =AVERAGE(P19:R19) -> 5951.3333 | P19: =(12512+12952+11335+9579)/4 -> 11594.5 | Q19: =(3197+3089+3616+3327)/4 -> 3307.25 | R19: =(2813+2737+3253+3006)/4 -> 2952.25 | AF19: 2 | AG19: =AVERAGE(AH19:AJ19) -> 3165.5 | AH19: =(2065+1895+2179+1965)/4 -> 2026 | AI19: =(4606+4275+4625+4774)/4 -> 4570 | AJ19: =(2980+2583+2912+3127)/4 -> 2900.5 | AK19: =AVERAGE(AL19:AN19) -> 4388.8333 | AL19: =(3023+3127+3199+3113)/4 -> 3115.5 | AM19: =(3165+3257+3199+3206)/4 -> 3206.75 | AN19: =(7048+7041+7380+5908)/4 -> 6844.25
B20: Norm to length (Oszilierung/Länge) | K20: =AVERAGE(L20:N20) -> 2583 | L20: =(3589+3779+3305+3571)/4 -> 3561 | M20: =(1959+2605+2810+2042)/4 -> 2354 | N20: =(1966+1895+1571+1904)/4 -> 1834 | O20: =AVERAGE(P20:R20) -> 4589.8333 | P20: =(1924+2135+2147+2113)/4 -> 2079.75 | Q20: =(7756+7052+6295+6711)/4 -> 6953.5 | R20: =(4624+4577+4924+4820)/4 -> 4736.25 | W20: Norm to length (Oszilierung/Länge) | AF20: 3 | AG20: =AVERAGE(AH20:AJ20) -> 2648.5833 | AH20: =(2519+2887+2574+2658)/4 -> 2659.5 | AI20: =(2482+2514+2547+2413)/4 -> 2489 | AJ20: =(2839+2837+2610+2903)/4 -> 2797.25 | AK20: =AVERAGE(AL20:AN20) -> 3619.3333 | AL20: =(2511+2491+2593+2525)/4 -> 2530 | AM20: =(4068+4186+4363+4117)/4 -> 4183.5 | AN20: =(4142+4647+3786+4003)/4 -> 4144.5
B21: Mittelwert | F21: Mittelwert | K21: =AVERAGE(L21:N21) -> 6771.75 | L21: =(5681+6274+6375+7016)/4 -> 6336.5 | M21: =(8578+8621+8312+7871)/4 -> 8345.5 | N21: =(5806+6067+5300+5360)/4 -> 5633.25 | O21: =AVERAGE(P21:R21) -> 3845.6667 | P21: =(2787+2863+2797+2730)/4 -> 2794.25 | Q21: =(5723+5078+5113+5843)/4 -> 5439.25 | R21: =(3333+3110+3391+3380)/4 -> 3303.5 | W21: Mittelwert | AA21: Mittelwert
B22: =AVERAGE(C22:E22) -> 5.2647043 | C22: =C16/SFig7A!L32 -> 3.9070376 | D22: =D16/SFig7A!M32 -> 5.2224135 | E22: =E16/SFig7A!N32 -> 6.6646619 | F22: =AVERAGE(G22:I22) -> 5.6792867 | G22: =G16/SFig7A!P32 -> 4.1392917 | H22: =H16/SFig7A!Q32 -> 8.0565451 | I22: =I16/SFig7A!R32 -> 4.8420235 | W22: =AVERAGE(X22:Z22) -> 6.9358745 | X22: =X16/SFig7A!AH33 -> 6.0697639 | Y22: =Y16/SFig7A!AI33 -> 8.3143909 | Z22: =Z16/SFig7A!AJ33 -> 6.4234686 | AA22: =AVERAGE(AB22:AD22) -> 7.5723003 | AB22: =AB16/SFig7A!AL33 -> 7.2038201 | AC22: =AC16/SFig7A!AM33 -> 8.6314901 | AD22: =AD16/SFig7A!AN33 -> 6.8815906
K23: =AVERAGE(K18:K21) -> 3949.5625 | O23: =AVERAGE(O18:O21) -> 4180.1667 | AG23: =AVERAGE(AG18:AG20) -> 3450.25 | AK23: =AVERAGE(AK18:AK20) -> 4002
A26: 2. | C26: 1 | D26: 2 | E26: 3 | G26: 1 | H26: 2 | I26: 3 | L26: 8640 | P26: SB6 | V26: 2. | X26: 1 | Y26: 2 | Z26: 3 | AB26: 1 | AC26: 2 | AD26: 3
C27: =16.662-4.749 -> 11.913 | D27: =33.246-16.623 -> 16.623 | E27: =28.497-11.874 -> 16.623 | G27: =21.371-4.749 -> 16.622 | H27: =26.12-9.498 -> 16.622 | I27: =26.12-9.498 -> 16.622 | X27: =40.368-7.124 -> 33.244 | Y27: =35.619-11.873 -> 23.746 | Z27: =35.62-7.124 -> 28.496 | AB27: =42.741-18.996 -> 23.745 | AC27: =28.495-4.749 -> 23.746 | AD27: =42.743-18.997 -> 23.746 | AH27: 8640 | AL27: SB6
C28: =33.245-16.622 -> 16.623 | D28: =52.243-33.246 -> 18.997 | E28: =45.119-28.497 -> 16.622 | G28: =40.367-21.371 -> 18.996 | H28: =45.116-26.12 -> 18.996 | I28: =45.116-26.12 -> 18.996 | X28: =66.489-40.389 -> 26.1 | Y28: =56.99-35.619 -> 21.371 | Z28: =61.741-35.62 -> 26.121 | AB28: =64.112-42.741 -> 21.371 | AC28: =54.616-28.495 -> 26.121 | AD28: =99.734-42.743 -> 56.991
C29: =49.867-33.245 -> 16.622 | D29: =66.491-52.243 -> 14.248 | E29: =64.117-45.119 -> 18.998 | G29: =52.24-40.367 -> 11.873 | H29: =61.738-45.116 -> 16.622 | I29: =61.738-45.116 -> 16.622 | L29: Bakterienlänge (µM) | X29: =90.234-66.489 -> 23.745 | Y29: =80.736-56.99 -> 23.746 | Z29: =90.237-61.741 -> 28.496 | AB29: =85.483-64.112 -> 21.371 | AC29: =78.362-54.616 -> 23.746 | AD29: =123.48-99.743 -> 23.737
B30: Mittelwert | C30: =AVERAGE(C27:C29) -> 15.052667 | D30: =AVERAGE(D27:D29) -> 16.622667 | E30: =AVERAGE(E27:E29) -> 17.414333 | G30: =AVERAGE(G27:G29) -> 15.830333 | H30: =AVERAGE(H27:H29) -> 17.413333 | I30: =AVERAGE(I27:I29) -> 17.413333 | W30: Mittelwert | X30: =AVERAGE(X27:X29) -> 27.696333 | Y30: =AVERAGE(Y27:Y29) -> 22.954333 | Z30: =AVERAGE(Z27:Z29) -> 27.704333 | AB30: =AVERAGE(AB27:AB29) -> 22.162333 | AC30: =AVERAGE(AC27:AC29) -> 24.537667 | AD30: =AVERAGE(AD27:AD29) -> 34.824667 | AH30: Bakterienlänge (length, µM)
K31: Mittelwert | L31: 1 | M31: 2 | N31: 3 | O31: Mittelwert | P31: 1 | Q31: 2 | R31: 3
K32: =AVERAGE(L32:N32) -> 3.479 | L32: 4.457 | M32: 3.486 | N32: 2.494 | O32: =AVERAGE(P32:R32) -> 3.3326667 | P32: 4.207 | Q32: 2.358 | R32: 3.433 | AG32: Mittelwert | AH32: 1 | AI32: 2 | AJ32: 3 | AK32: Mittelwert | AL32: 1 | AM32: 2 | AN32: 3
K33: =AVERAGE(L33:N33) -> 3.4843333 | L33: 3.246 | M33: 2.72 | N33: 4.487 | O33: =AVERAGE(P33:R33) -> 3.4936667 | P33: 3.503 | Q33: 3.632 | R33: 3.346 | AF33: 1 | AG33: =AVERAGE(AH33:AJ33) -> 4.1123333 | AH33: 4.434 | AI33: 3.713 | AJ33: 4.19 | AK33: =AVERAGE(AL33:AN33) -> 3.5626667 | AL33: 3.979 | AM33: 2.568 | AN33: 4.141
B34: Norm to length (Oszilierung/Länge) | K34: =AVERAGE(L34:N34) -> 3.5813333 | L34: 3.571 | M34: 3.442 | N34: 3.731 | O34: =AVERAGE(P34:R34) -> 3.4826667 | P34: 3.443 | Q34: 3.32 | R34: 3.685 | W34: Norm to length (Oszilierung/Länge) | AF34: 2 | AG34: =AVERAGE(AH34:AJ34) -> 3.3843333 | AH34: 3.819 | AI34: 3.037 | AJ34: 3.297 | AK34: =AVERAGE(AL34:AN34) -> 3.1783333 | AL34: 3.858 | AM34: 3.066 | AN34: 2.611
B35: Mittelwert | F35: Mittelwert | K35: =AVERAGE(L35:N35) -> 3.166 | L35: 2.181 | M35: 3.369 | N35: 3.948 | O35: =AVERAGE(P35:R35) -> 3.2896667 | P35: 3.057 | Q35: 3.605 | R35: 3.207 | W35: Mittelwert | AA35: Mittelwert | AF35: 3 | AG35: =AVERAGE(AH35:AJ35) -> 3.1363333 | AH35: 2.99 | AI35: 3.417 | AJ35: 3.002 | AK35: =AVERAGE(AL35:AN35) -> 3.8513333 | AL35: 3.264 | AM35: 4.256 | AN35: 4.034
B36: =AVERAGE(C36:E36) -> 4.8765452 | C36: =C30/SFig7A!L33 -> 4.6372972 | D36: =D30/SFig7A!M33 -> 6.1112745 | E36: =E30/SFig7A!N33 -> 3.8810638 | F36: =AVERAGE(G36:I36) -> 4.8392409 | G36: =G30/SFig7A!P33 -> 4.5190789 | H36: =H30/SFig7A!Q33 -> 4.79442 | I36: =I30/SFig7A!R33 -> 5.2042239 | W36: =AVERAGE(X36:Z36) -> 7.7377885 | X36: =X30/SFig7A!AH34 -> 7.2522475 | Y36: =Y30/SFig7A!AI34 -> 7.5582263 | Z36: =Z30/SFig7A!AJ34 -> 8.4028915 | AA36: =AVERAGE(AB36:AD36) -> 9.0284468 | AB36: =AB30/SFig7A!AL34 -> 5.7445136 | AC36: =AC30/SFig7A!AM34 -> 8.0031529 | AD36: =AD30/SFig7A!AN34 -> 13.337674
K37: =AVERAGE(K32:K35) -> 3.4276667 | O37: =AVERAGE(O32:O35) -> 3.3996667
AG38: =AVERAGE(AG33:AG36) -> 3.5443333 | AK38: =AVERAGE(AK33:AK36) -> 3.5307778
A40: 3. | C40: 1 | D40: 2 | E40: 3 | G40: 1 | H40: 2 | I40: 3 | V40: 3. | X40: 1 | Y40: 2 | Z40: 3 | AB40: 1 | AC40: 2 | AD40: 3
C41: =37.992-21.37 -> 16.622 | D41: =14.247-0 -> 14.247 | E41: =33.246-18.998 -> 14.248 | G41: =30.87-16.622 -> 14.248 | H41: =26.12-9.498 -> 16.622 | I41: =35.62-21.372 -> 14.248 | X41: =52.241-26.12 -> 26.121 | Y41: =37.995-11.873 -> 26.122 | Z41: =42.742-9.498 -> 33.244 | AB41: =40.37-16.623 -> 23.747 | AC41: =42.743-7.124 -> 35.619 | AD41: =33.245-4.749 -> 28.496
C42: =56.988-37.992 -> 18.996 | D42: =30.869-14.247 -> 16.622 | E42: =49.869-33.246 -> 16.623 | G42: =47.492-30.87 -> 16.622 | H42: =40.368-26.12 -> 14.248 | I42: =54.617-35.62 -> 18.997 | X42: =80.735-52.241 -> 28.494 | Y42: =59.367-37.995 -> 21.372 | Z42: =71.237-42.742 -> 28.495 | AB42: =61.742-40.37 -> 21.372 | AC42: =75.988-42.743 -> 33.245 | AD42: =61.74-33.245 -> 28.495
C43: =75.984-56.988 -> 18.996 | D43: =52.24-30.869 -> 21.371 | E43: =64.117-49.869 -> 14.248 | G43: =64.114-47.492 -> 16.622 | H43: =54.615-40.368 -> 14.247 | I43: =71.24-54.617 -> 16.623 | X43: =109.23-80.735 -> 28.495 | Y43: =87.863-59.367 -> 28.496 | Z43: =102.107-71.237 -> 30.87 | AB43: =87.864-61.742 -> 26.122 | AC43: =104.483-75.988 -> 28.495 | AD43: =90.235-61.74 -> 28.495
B44: Mittelwert | C44: =AVERAGE(C41:C43) -> 18.204667 | D44: =AVERAGE(D41:D43) -> 17.413333 | E44: =AVERAGE(E41:E43) -> 15.039667 | G44: =AVERAGE(G41:G43) -> 15.830667 | H44: =AVERAGE(H41:H43) -> 15.039 | I44: =AVERAGE(I41:I43) -> 16.622667 | W44: Mittelwert | X44: =AVERAGE(X41:X43) -> 27.703333 | Y44: =AVERAGE(Y41:Y43) -> 25.33 | Z44: =AVERAGE(Z41:Z43) -> 30.869667 | AB44: =AVERAGE(AB41:AB43) -> 23.747 | AC44: =AVERAGE(AC41:AC43) -> 32.453 | AD44: =AVERAGE(AD41:AD43) -> 28.495333
B48: Norm to length (Oszilierung/Länge) | W48: Norm to length (Oszilierung/Länge)
B49: Mittelwert | F49: Mittelwert | W49: Mittelwert | AA49: Mittelwert
B50: =AVERAGE(C50:E50) -> 4.7293314 | C50: =C44/SFig7A!L34 -> 5.0979184 | D50: =D44/SFig7A!M34 -> 5.0590742 | E50: =E44/SFig7A!N34 -> 4.0310015 | F50: =AVERAGE(G50:I50) -> 4.5462158 | G50: =G44/SFig7A!P34 -> 4.5979282 | H50: =H44/SFig7A!Q34 -> 4.5298193 | I50: =I44/SFig7A!R34 -> 4.5109 | W50: =AVERAGE(X50:Z50) -> 8.9870992 | X50: =X44/SFig7A!AH35 -> 9.2653289 | Y50: =Y44/SFig7A!AI35 -> 7.4129353 | Z50: =Z44/SFig7A!AJ35 -> 10.283034 | AA50: =AVERAGE(AB50:AD50) -> 7.321485 | AB50: =AB44/SFig7A!AL35 -> 7.2754289 | AC50: =AC44/SFig7A!AM35 -> 7.625235 | AD50: =AD44/SFig7A!AN35 -> 7.0637911
A54: 4. | C54: 1 | D54: 2 | E54: 3 | G54: 1 | H54: 2 | I54: 3
C55: =25.671-8.557 -> 17.114 | D55: =25.476-8.492 -> 16.984 | E55: =31.298-14.227 -> 17.071 | G55: =25.603-8.534 -> 17.069 | H55: =31.477-17.169 -> 14.308 | I55: =20.018-5.719 -> 14.299
C56: =42.786-25.671 -> 17.115 | D56: =45.476-25.476 -> 20 | E56: =45.525-31.298 -> 14.227 | G56: =39.826-25.603 -> 14.223 | H56: =48.646-31.477 -> 17.169 | I56: =34.316-20.018 -> 14.298
C57: =57.048-42.786 -> 14.262 | D57: =59.444-45.291 -> 14.153 | E57: =62.597-45.525 -> 17.072 | G57: =56.895-39.826 -> 17.069 | H57: =62.954-48.646 -> 14.308 | I57: =48.615-34.316 -> 14.299
B58: Mittelwert | C58: =AVERAGE(C55:C57) -> 16.163667 | D58: =AVERAGE(D55:D57) -> 17.045667 | E58: =AVERAGE(E55:E57) -> 16.123333 | G58: =AVERAGE(G55:G57) -> 16.120333 | H58: =AVERAGE(H55:H57) -> 15.261667 | I58: =AVERAGE(I55:I57) -> 14.298667
B62: Norm to length (Oszilierung/Länge)
B63: Mittelwert | F63: Mittelwert
B64: =AVERAGE(C64:E64) -> 5.5182045 | C64: =C58/SFig7A!L35 -> 7.4111264 | D64: =D58/SFig7A!M35 -> 5.0595627 | E64: =E58/SFig7A!N35 -> 4.0839243 | F64: =AVERAGE(G64:I64) -> 4.6551016 | G64: =G58/SFig7A!P35 -> 5.2732526 | H64: =H58/SFig7A!Q35 -> 4.233472 | I64: =I58/SFig7A!R35 -> 4.4585802
