Workbook

Sheet raw
B2: RA - 70% | AC2: 70% to 100% | BD2: 100% to 70% | CE2: 70-100% [2]
B3: Time (s) | E3: SpO2 | H3: SpO2 at target SpO2 values | M3: INVOS | P3: rSO2 at target SpO2 values | U3: Equanox | X3: rSO2 at target SpO2 values | AC3: Time (s) | AF3: spO2 | AI3: SpO2 at target SpO2 values | AN3: INVOS | AQ3: rSO2 at target SpO2 values | AV3: Equanox | AY3: rSO2 at target SpO2 values | BD3: Time (s) | BG3: SpO2 | BJ3: SpO2 at target SpO2 values | BO3: INVOS | BR3: rSO2 at target SpO2 values | BW3: Equanox | BZ3: rSO2 at target SpO2 values | CE3: Time (s) | CH3: SpO2 | CK3: SpO2 at target SpO2 values | CP3: INVOS | CS3: rSO2 at target SpO2 values | CX3: Equanox | DA3: rSO2 at target SpO2 values
A4: Equanox | B4: BL | C4: 1 | D4: Delta | E4: BL | F4: 1 | G4: Delta- OK | H4: 93 | I4: 88 | J4: 82 | K4: 76 | L4: 70 | M4: BL- OK | N4: 1 | O4: Delta- OK | P4: 93 | Q4: 88 | R4: 82 | S4: 76 | T4: 70 | U4: BL- OK | V4: 1 | W4: Delta- OK | X4: 93 | Y4: 88 | Z4: 82 | AA4: 76 | AB4: 70 | AC4: BL | AD4: 1 | AE4: delta | AF4: BL | AG4: 1 | AH4: delta- OK | AI4: 70 | AJ4: 76 | AK4: 82 | AL4: 88 | AM4: 93 | AN4: BL- OK | AO4: 1 | AP4: delta- OK | AQ4: 70 | AR4: 76 | AS4: 82 | AT4: 88 | AU4: 93 | AV4: BL | AW4: 1 | AX4: delta | AY4: 70 | AZ4: 76 | BA4: 82 | BB4: 88 | BC4: 93 | BD4: BL | BE4: 1 | BF4: delta | BG4: BL | BH4: 1 | BI4: delta | BJ4: 93 | BK4: 88 | BL4: 82 | BM4: 76 | BN4: 70 | BO4: BL | BP4: 1 | BQ4: delta | BR4: 93 | BS4: 88 | BT4: 82 | BU4: 76 | BV4: 70 | BW4: BL | BX4: 1 | BY4: delta | BZ4: 93 | CA4: 88 | CB4: 82 | CC4: 76 | CD4: 70 | CE4: BL | CF4: 1 | CG4: delta | CH4: BL | CI4: 1 | CJ4: delta | CK4: 70 | CL4: 76 | CM4: 82 | CN4: 88 | CO4: 93 | CP4: BL | CQ4: 1 | CR4: delta | CS4: 70 | CT4: 76 | CU4: 82 | CV4: 88 | CW4: 93 | CX4: BL | CY4: 1 | CZ4: delta | DA4: 70 | DB4: 76 | DC4: 82 | DD4: 88 | DE4: 93
A5: S-1791 | B5: 584 | C5: 892 | D5: =(C5-B5) -> 308 | E5: 96.8 | F5: 73.1 | G5: =(E5-F5) -> 23.7 | H5: 95.885 | I5: 89.805 | J5: 84.255 | K5: 79.615 | L5: 76.83 | M5: 54 | N5: 39 | O5: =(M5-N5) -> 15 | P5: 52 | Q5: 51 | R5: 48 | S5: 44 | T5: 40 | U5: 58 | V5: 50 | W5: =(U5-V5) -> 8 | X5: 57 | Y5: 55 | Z5: 53 | AA5: 52 | AB5: 49 | AC5: 1193 | AD5: 1261 | AE5: =(AD5-AC5) -> 68 | AF5: 70.6 | AG5: 100.94 | AH5: =(AG5-AF5) -> 30.34 | AI5: 73.33 | AJ5: 70.26 | AK5: 96.085 | AL5: 100.475 | AM5: 100.785 | AN5: 34 | AO5: 50 | AP5: =(AO5-AN5) -> 16 | AQ5: 35 | AR5: 42 | AS5: 50 | AT5: 50 | AU5: 49 | AV5: 48 | AW5: 57 | AX5: =(AW5-AV5) -> 9 | AY5: 47 | AZ5: 53 | BA5: 58 | BB5: 59 | BC5: 58 | BD5: 1563 | BE5: 1899 | BF5: =(BE5-BD5) -> 336 | BG5: 101.2 | BH5: 73.1 | BI5: =(BG5-BH5) -> 28.1 | BJ5: 100.775 | BK5: 99.265 | BL5: 93.675 | BM5: 86.14 | BN5: 77.55 | BO5: 55 | BP5: 38 | BQ5: =(BO5-BP5) -> 17 | BR5: 53 | BS5: 52 | BT5: 48 | BU5: 45 | BV5: 41 | BW5: 60 | BX5: 49 | BY5: =(BW5-BX5) -> 11 | BZ5: 58 | CA5: 57 | CB5: 53 | CC5: 52 | CD5: 50 | CE5: 2200 | CF5: 2273 | CG5: =(CF5-CE5) -> 73 | CH5: 74.5 | CI5: 101.1 | CJ5: =CI5-CH5 -> 26.6 | CK5: 71.595 | CL5: 73.035 | CM5: 85.6 | CN5: 100.735 | CO5: 101.075 | CP5: 35 | CQ5: 48 | CR5: =CQ5-CP5 -> 13 | CS5: 35 | CT5: 34 | CU5: 48 | CV5: 48 | CW5: 48 | CX5: 47 | CY5: 57 | CZ5: =CY5-CX5 -> 10 | DA5: 48 | DB5: 52 | DC5: 57 | DD5: 55 | DE5: 57
A6: S-2174 | B6: 587 | C6: 840 | D6: =(C6-B6) -> 253 | E6: 95.82 | F6: 72.82 | G6: =(E6-F6) -> 23 | H6: 95.99 | I6: 92.775 | J6: 88.755 | K6: 84.025 | L6: 78.19 | M6: 69 | N6: 50 | O6: =(M6-N6) -> 19 | P6: 68 | Q6: 67 | R6: 63 | S6: 59 | T6: 55 | U6: 67 | V6: 55 | W6: =(U6-V6) -> 12 | X6: 67 | Y6: 65 | Z6: 63 | AA6: 60 | AB6: 57 | AC6: 1140 | AD6: 1279 | AE6: =(AD6-AC6) -> 139 | AF6: 69.44 | AG6: 99.4 | AH6: =(AG6-AF6) -> 29.96 | AI6: 69.55 | AJ6: 70.54 | AK6: 99.595 | AL6: 99.77 | AM6: 99.66 | AN6: 43 | AO6: 70 | AP6: =(AO6-AN6) -> 27 | AQ6: 49 | AR6: 55 | AS6: 64 | AT6: 67 | AU6: 69 | AV6: 52 | AW6: 67 | AX6: =(AW6-AV6) -> 15 | AY6: 55 | AZ6: 58 | BA6: 61 | BB6: 65 | BC6: 65 | BD6: 1580 | BE6: 1850 | BF6: =(BE6-BD6) -> 270 | BG6: 99.3 | BH6: 73.3 | BI6: =(BG6-BH6) -> 26 | BJ6: 99.465 | BK6: 99.19 | BL6: 96.45 | BM6: 89.695 | BN6: 82.22 | BO6: 73 | BP6: 54 | BQ6: =(BO6-BP6) -> 19 | BR6: 74 | BS6: 73 | BT6: 71 | BU6: 66 | BV6: 61 | BW6: 71 | BX6: 56 | BY6: =(BW6-BX6) -> 15 | BZ6: 72 | CA6: 72 | CB6: 71 | CC6: 66 | CD6: 62 | CE6: 2151 | CF6: 2269 | CG6: =(CF6-CE6) -> 118 | CH6: 69.54 | CI6: 99.6 | CJ6: =CI6-CH6 -> 30.06 | CK6: 70.485 | CL6: 70.67 | CM6: 93.13 | CN6: 99.53 | CO6: 100.29 | CP6: 43 | CQ6: 68 | CR6: =CQ6-CP6 -> 25 | CS6: 43 | CT6: 53 | CU6: 62 | CV6: 66 | CW6: 67 | CX6: 51 | CY6: 69 | CZ6: =CY6-CX6 -> 18 | DA6: 52 | DB6: 60 | DC6: 68 | DD6: 70 | DE6: 68
A7: S-2234 | B7: 582 | C7: 951 | D7: =(C7-B7) -> 369 | E7: 95.45 | F7: 77.9 | G7: =(E7-F7) -> 17.55 | H7: 94.85 | I7: 90.825 | J7: 86.945 | K7: 82.245 | L7: 79.61 | M7: 67 | N7: 47 | O7: =(M7-N7) -> 20 | P7: 65 | Q7: 63 | R7: 60 | S7: 54 | T7: 50 | U7: 69 | V7: 57 | W7: =(U7-V7) -> 12 | X7: 68 | Y7: 66 | Z7: 64 | AA7: 61 | AB7: 58 | AC7: 1253 | AD7: 1313 | AE7: =(AD7-AC7) -> 60 | AF7: 75.69 | AG7: 99.6 | AH7: =(AG7-AF7) -> 23.91 | AI7: 75.6 | AJ7: 75.575 | AK7: 82.085 | AL7: 99.24 | AM7: 99.7 | AN7: 43 | AO7: 61 | AP7: =(AO7-AN7) -> 18 | AQ7: 42 | AR7: 47 | AS7: 56 | AT7: 59 | AU7: 61 | AV7: 54 | AW7: 67 | AX7: =(AW7-AV7) -> 13 | AY7: 54 | AZ7: 58 | BA7: 64 | BB7: 65 | BC7: 66 | BD7: 1614 | BE7: 1983 | BF7: =(BE7-BD7) -> 369 | BG7: 100.3 | BH7: 76.2 | BI7: =(BG7-BH7) -> 24.1 | BJ7: 100.185 | BK7: 98.475 | BL7: 92.82 | BM7: 88.215 | BN7: 79.875 | BO7: 64 | BP7: 45 | BQ7: =(BO7-BP7) -> 19 | BR7: 64 | BS7: 63 | BT7: 60 | BU7: 56 | BV7: 50 | BW7: 69 | BX7: 55 | BY7: =(BW7-BX7) -> 14 | BZ7: 69 | CA7: 69 | CB7: 66 | CC7: 63 | CD7: 58 | CE7: xx | CF7: 2185 | CI7: 99.5 | CK7: x | CL7: x | CM7: x | CN7: x | CO7: x | CQ7: 60 | CS7: x | CT7: x | CU7: x | CV7: x | CW7: x | CY7: 66 | DA7: x | DB7: x | DC7: x | DD7: x | DE7: x
A8: S-1824 | B8: 590 | C8: 884 | D8: =(C8-B8) -> 294 | E8: 97.2 | F8: 73.8 | G8: =(E8-F8) -> 23.4 | H8: 97.305 | I8: 94.56 | J8: 90.03 | K8: 86.01 | L8: 80.915 | M8: 67 | N8: 49 | O8: =(M8-N8) -> 18 | P8: 67 | Q8: 63 | R8: 62 | S8: 60 | T8: 54 | U8: 70 | V8: 59 | W8: =(U8-V8) -> 11 | X8: 70 | Y8: 68 | Z8: 67 | AA8: 65 | AB8: 62 | AC8: 1206 | AD8: 1288 | AE8: =(AD8-AC8) -> 82 | AF8: 71.3 | AG8: 101.2 | AH8: =(AG8-AF8) -> 29.9 | AI8: 71.53 | AJ8: 73.2 | AK8: 97.885 | AL8: 101.095 | AM8: 101.155 | AN8: 41 | AO8: 65 | AP8: =(AO8-AN8) -> 24 | AQ8: 42 | AR8: 49 | AS8: 59 | AT8: 61 | AU8: 63 | AV8: 54 | AW8: 70 | AX8: =(AW8-AV8) -> 16 | AY8: 56 | AZ8: 59 | BA8: 65 | BB8: 67 | BC8: 68 | BD8: 1589 | BE8: 1921 | BF8: =(BE8-BD8) -> 332 | BG8: 100.8 | BH8: 75.2 | BI8: =(BG8-BH8) -> 25.6 | BJ8: 101.65 | BK8: 100.905 | BL8: 96.725 | BM8: 88.595 | BN8: 80.125 | BO8: 75 | BP8: 49 | BQ8: =(BO8-BP8) -> 26 | BR8: 73 | BS8: 73 | BT8: 71 | BU8: 63 | BV8: 56 | BW8: 75 | BX8: 59 | BY8: =(BW8-BX8) -> 16 | BZ8: 75 | CA8: 74 | CB8: 71 | CC8: 66 | CD8: 62 | CE8: 2222 | CF8: 2384 | CG8: =(CF8-CE8) -> 162 | CH8: 72.1 | CI8: 103.3 | CJ8: =CI8-CH8 -> 31.2 | CK8: 72.415 | CL8: 74.565 | CM8: 101.845 | CN8: 102.546 | CO8: 102.275 | CP8: 42 | CQ8: 65 | CR8: =CQ8-CP8 -> 23 | CS8: 46 | CT8: 57 | CU8: 62 | CV8: 65 | CW8: 63 | CX8: 54 | CY8: 68 | CZ8: =CY8-CX8 -> 14 | DA8: 58 | DB8: 65 | DC8: 67 | DD8: 69 | DE8: 68
A9: S-1657 | B9: 712 | C9: 1039 | D9: =(C9-B9) -> 327 | E9: 95.75 | F9: 75.58 | G9: =(E9-F9) -> 20.17 | H9: 94.98 | I9: 91 | J9: 87.38 | K9: 84.065 | L9: 79.985 | M9: 85 | N9: 64 | O9: =(M9-N9) -> 21 | P9: 82 | Q9: 80 | R9: 76 | S9: 73 | T9: 70 | U9: 78 | V9: 63 | W9: =(U9-V9) -> 15 | X9: 77 | Y9: 74 | Z9: 72 | AA9: 68 | AB9: 66 | AC9: 1341 | AD9: 1433 | AE9: =(AD9-AC9) -> 92 | AF9: 73.51 | AG9: 98.535 | AH9: =(AG9-AF9) -> 25.025 | AI9: 73.01 | AJ9: 72.995 | AK9: 93.645 | AL9: 99.04 | AM9: 98.84 | AN9: 60 | AO9: 88 | AP9: =(AO9-AN9) -> 28 | AQ9: 60 | AR9: 70 | AS9: 82 | AT9: 86 | AU9: 87 | AV9: 61 | AW9: 82 | AX9: =(AW9-AV9) -> 21 | AY9: 61 | AZ9: 70 | BA9: 78 | BB9: 80 | BC9: 82 | BD9: 1733 | BE9: 2094 | BF9: =(BE9-BD9) -> 361 | BG9: 98.345 | BH9: 75.9 | BI9: =(BG9-BH9) -> 22.445 | BJ9: 98.64 | BK9: 96.05 | BL9: 89.485 | BM9: 85.14 | BN9: 81.965 | BO9: 93 | BP9: 65 | BQ9: =(BO9-BP9) -> 28 | BR9: 93 | BS9: 89 | BT9: 84 | BU9: 79 | BV9: 74 | BW9: 84 | BX9: 65 | BY9: =(BW9-BX9) -> 19 | BZ9: 82 | CA9: 81 | CB9: 77 | CC9: 72 | CD9: 69 | CE9: 2396 | CF9: 2491 | CG9: =(CF9-CE9) -> 95 | CH9: 71.9 | CI9: 98.67 | CJ9: =CI9-CH9 -> 26.77 | CK9: 75.005 | CL9: 78.5 | CM9: 97.52 | CN9: 98.49 | CO9: 98.69 | CP9: 63 | CQ9: 91 | CR9: =CQ9-CP9 -> 28 | CS9: 63 | CT9: 74 | CU9: 88 | CV9: 91 | CW9: 92 | CX9: 62 | CY9: 85 | CZ9: =CY9-CX9 -> 23 | DA9: 64 | DB9: 74 | DC9: 83 | DD9: 86 | DE9: 86
A10: S-1654 | B10: 1743 | C10: 2197 | D10: =(C10-B10) -> 454 | E10: 95.705 | F10: 76.055 | G10: =(E10-F10) -> 19.65 | H10: 93.635 | I10: 90.345 | J10: 86.92 | K10: 82.06 | L10: 78.41 | M10: 73 | N10: 51 | O10: =(M10-N10) -> 22 | P10: 71 | Q10: 69 | R10: 64 | S10: 58 | T10: 55 | U10: 73 | V10: 55 | W10: =(U10-V10) -> 18 | X10: 71 | Y10: 69 | Z10: 65 | AA10: 60 | AB10: 59 | AC10: 2501 | AD10: 2602 | AE10: =(AD10-AC10) -> 101 | AF10: 73.68 | AG10: 99.695 | AH10: =(AG10-AF10) -> 26.015 | AI10: 75.025 | AJ10: 73.33 | AK10: 94.995 | AL10: 100.265 | AM10: 99.725 | AN10: 49 | AO10: 73 | AP10: =(AO10-AN10) -> 24 | AQ10: 49 | AR10: 59 | AS10: 67 | AT10: 68 | AU10: 73 | AV10: 59 | AW10: 77 | AX10: =(AW10-AV10) -> 18 | AY10: 56 | AZ10: 67 | BA10: 75 | BB10: 75 | BC10: 76 | BD10: 2904 | BE10: 3309 | BF10: =(BE10-BD10) -> 405 | BG10: 99.07 | BH10: 75.99 | BI10: =(BG10-BH10) -> 23.08 | BJ10: 99.82 | BK10: 97.42 | BL10: 87.565 | BM10: 83.06 | BN10: 70.15 | BO10: 78 | BP10: 52 | BQ10: =(BO10-BP10) -> 26 | BR10: 78 | BS10: 76 | BT10: 67 | BU10: 61 | BV10: 57 | BW10: 81 | BX10: 57 | BY10: =(BW10-BX10) -> 24 | BZ10: 80 | CA10: 76 | CB10: 66 | CC10: 62 | CD10: 60 | CE10: 3610 | CF10: 3715 | CG10: =(CF10-CE10) -> 105 | CH10: 75.58 | CI10: 99.21 | CJ10: =CI10-CH10 -> 23.63 | CK10: 75.435 | CL10: 76.29 | CM10: 98.53 | CN10: 99.54 | CO10: 98.65 | CP10: 49 | CQ10: 74 | CR10: =CQ10-CP10 -> 25 | CS10: 49 | CT10: 58 | CU10: 65 | CV10: 71 | CW10: 72 | CX10: 56 | CY10: 77 | CZ10: =CY10-CX10 -> 21 | DA10: 59 | DB10: 67 | DC10: 73 | DD10: 74 | DE10: 74
A12: average | D12: =AVERAGE(D5:D10) -> 334.16667 | E12: =AVERAGE(E5:E10) -> 96.120833 | F12: =AVERAGE(F5:F10) -> 74.875833 | G12: =AVERAGE(G5:G10) -> 21.245 | H12: =AVERAGE(H5:H10) -> 95.440833 | I12: =AVERAGE(I5:I10) -> 91.551667 | J12: =AVERAGE(J5:J10) -> 87.380833 | K12: =AVERAGE(K5:K10) -> 83.003333 | ... AB12: =AVERAGE(AB5:AB10) -> 58.5 | AE12: =AVERAGE(AE5:AE10) -> 90.333333 | AH12: =AVERAGE(AH5:AH10) -> 27.525 | AI12: =AVERAGE(AI5:AI10) -> 73.0075 | AJ12: =AVERAGE(AJ5:AJ10) -> 72.65 | AK12: =AVERAGE(AK5:AK10) -> 94.048333 | AL12: =AVERAGE(AL5:AL10) -> 99.980833 | AM12: =AVERAGE(AM5:AM10) -> 99.9775 | AP12: =AVERAGE(AP5:AP10) -> 22.833333 | AQ12: =AVERAGE(AQ5:AQ10) -> 46.166667 | AR12: =AVERAGE(AR5:AR10) -> 53.666667 | AS12: =AVERAGE(AS5:AS10) -> 63 | AT12: =AVERAGE(AT5:AT10) -> 65.166667 | AU12: =AVERAGE(AU5:AU10) -> 67 | AX12: =AVERAGE(AX5:AX10) -> 15.333333 | AY12: =AVERAGE(AY5:AY10) -> 54.833333 | AZ12: =AVERAGE(AZ5:AZ10) -> 60.833333 | BA12: =AVERAGE(BA5:BA10) -> 66.833333 | BB12: =AVERAGE(BB5:BB10) -> 68.5 | BC12: =AVERAGE(BC5:BC10) -> 69.166667 | BF12: =AVERAGE(BF5:BF10) -> 345.5 | BG12: =AVERAGE(BG5:BG10) -> 99.835833 | BH12: =AVERAGE(BH5:BH10) -> 74.948333 | BI12: =AVERAGE(BI5:BI10) -> 24.8875 | BJ12: =AVERAGE(BJ5:BJ10) -> 100.08917 | BK12: =AVERAGE(BK5:BK10) -> 98.550833 | BL12: =AVERAGE(BL5:BL10) -> 92.786667 | BM12: =AVERAGE(BM5:BM10) -> 86.8075 | BN12: =AVERAGE(BN5:BN10) -> 78.6475 | BQ12: =AVERAGE(BQ5:BQ10) -> 22.5 | BR12: =AVERAGE(BR5:BR10) -> 72.5 | BS12: =AVERAGE(BS5:BS10) -> 71 | BT12: =AVERAGE(BT5:BT10) -> 66.833333 | BU12: =AVERAGE(BU5:BU10) -> 61.666667 | BV12: =AVERAGE(BV5:BV10) -> 56.5 | BY12: =AVERAGE(BY5:BY10) -> 16.5 | BZ12: =AVERAGE(BZ5:BZ10) -> 72.666667 | CA12: =AVERAGE(CA5:CA10) -> 71.5 | CB12: =AVERAGE(CB5:CB10) -> 67.333333 | CC12: =AVERAGE(CC5:CC10) -> 63.5 | CD12: =AVERAGE(CD5:CD10) -> 60.166667 | CG12: =AVERAGE(CG8:CG10) -> 120.66667 | CH12: =AVERAGE(CH5:CH10) -> 72.724 | CI12: =AVERAGE(CI5:CI10) -> 100.23 | CJ12: =AVERAGE(CJ5:CJ10) -> 27.652 | CK12: =AVERAGE(CK5:CK10) -> 72.987 | CL12: =AVERAGE(CL5:CL10) -> 74.612 | CM12: =AVERAGE(CM5:CM10) -> 95.325 | CN12: =AVERAGE(CN5:CN10) -> 100.1682 | CO12: =AVERAGE(CO5:CO10) -> 100.196 | CR12: =AVERAGE(CR5:CR10) -> 22.8 | CS12: =AVERAGE(CS5:CS10) -> 47.2 | CT12: =AVERAGE(CT5:CT10) -> 55.2 | CU12: =AVERAGE(CU5:CU10) -> 65 | CV12: =AVERAGE(CV5:CV10) -> 68.2 | CW12: =AVERAGE(CW5:CW10) -> 68.4 | CZ12: =AVERAGE(CZ5:CZ10) -> 17.2 | DA12: =AVERAGE(DA5:DA10) -> 56.2 | DB12: =AVERAGE(DB5:DB10) -> 63.6 | DC12: =AVERAGE(DC5:DC10) -> 69.6 | DD12: =AVERAGE(DD5:DD10) -> 70.8 | DE12: =AVERAGE(DE5:DE10) -> 70.6
B13: Time (s) | E13: SpO2 | H13: SpO2 at target SpO2 values | M13: INVOS | P13: rSO2 at target SpO2 values | U13: Foresight | X13: rSO2 at target SpO2 values | AC13: Time (s) | AF13: spO2 | AI13: SpO2 at target SpO2 values | AN13: INVOS | AQ13: rSO2 at target SpO2 values | AV13: Foresight | AY13: rSO2 at target SpO2 values | BD13: Time (s) | BG13: SpO2 | BJ13: SpO2 at target SpO2 values | BO13: INVOS | BR13: rSO2 at target SpO2 values | BW13: Foresight | BZ13: rSO2 at target SpO2 values | CE13: Time (s) | CH13: SpO2 | CK13: SpO2 at target SpO2 values | CP13: INVOS | CS13: rSO2 at target SpO2 values | CX13: Foresight | DA13: rSO2 at target SpO2 values
A14: foresight | B14: BL | C14: 1 | D14: Delta | E14: BL | F14: 1 | G14: Delta- OK | H14: 93 | I14: 88 | J14: 82 | K14: 76 | L14: 70 | M14: BL- OK | N14: 1 | O14: Delta- OK | P14: 93 | Q14: 88 | R14: 82 | S14: 76 | T14: 70 | U14: BL- OK | V14: 1 | W14: Delta- OK | X14: 93 | Y14: 88 | Z14: 82 | AA14: 76 | AB14: 70 | AC14: BL | AD14: 1 | AE14: delta | AF14: BL | AG14: 1 | AH14: delta- OK | AI14: 70 | AJ14: 76 | AK14: 82 | AL14: 88 | AM14: 93 | AN14: BL- OK | AO14: 1 | AP14: delta- OK | AQ14: 70 | AR14: 76 | AS14: 82 | AT14: 88 | AU14: 93 | AV14: BL | AW14: 1 | AX14: delta | AY14: 70 | AZ14: 76 | BA14: 82 | BB14: 88 | BC14: 93 | BD14: BL | BE14: 1 | BF14: delta | BG14: BL | BH14: 1 | BI14: delta | BJ14: 93 | BK14: 88 | BL14: 82 | BM14: 76 | BN14: 70 | BO14: BL | BP14: 1 | BQ14: delta | BR14: 93 | BS14: 88 | BT14: 82 | BU14: 76 | BV14: 70 | BW14: BL | BX14: 1 | BY14: delta | BZ14: 93 | CA14: 88 | CB14: 82 | CC14: 76 | CD14: 70 | CE14: BL | CF14: 1 | CG14: delta | CH14: BL | CI14: 1 | CJ14: delta | CK14: 70 | CL14: 76 | CM14: 82 | CN14: 88 | CO14: 93 | CP14: BL | CQ14: 1 | CR14: delta | CS14: 70 | CT14: 76 | CU14: 82 | CV14: 88 | CW14: 93 | CX14: BL | CY14: 1 | CZ14: delta | DA14: 70 | DB14: 76 | DC14: 82 | DD14: 88 | DE14: 93
A15: S-2142 | B15: 646 | C15: 985 | D15: =(C15-B15) -> 339 | E15: 95.7 | F15: 73.4 | G15: =(E15-F15) -> 22.3 | H15: 93.56 | I15: 91.885 | J15: 87.2 | K15: 83.095 | L15: 77.85 | M15: 75 | N15: 55 | O15: =(M15-N15) -> 20 | P15: 74 | Q15: 71 | R15: 67 | S15: 63 | T15: 58 | U15: 76 | V15: 60 | W15: =(U15-V15) -> 16 | X15: 73 | Y15: 70 | Z15: 69 | AA15: 62 | AB15: 64 | AC15: 1347 | AD15: 1434 | AE15: =(AD15-AC15) -> 87 | AF15: 72.215 | AG15: 99.5 | AH15: =(AG15-AF15) -> 27.285 | AI15: 99.98 | AJ15: 100.03 | AK15: 99.57 | AL15: 99.715 | AM15: 100.34 | AN15: 51 | AO15: 79 | AP15: =(AO15-AN15) -> 28 | AQ15: 79 | AR15: 79 | AS15: 78 | AT15: 80 | AU15: 79 | AV15: 56 | AW15: 77 | AX15: =(AW15-AV15) -> 21 | AY15: 78 | AZ15: 77 | BA15: 79 | BB15: 75 | BC15: 78 | BD15: 1735 | BE15: 2053 | BF15: =(BE15-BD15) -> 318 | BG15: 99.3 | BH15: 72.92 | BI15: =(BG15-BH15) -> 26.38 | BJ15: 100 | BK15: 99.03 | BL15: 93.365 | BM15: 84.79 | BN15: 78.025 | BO15: 81 | BP15: 55 | BQ15: =(BO15-BP15) -> 26 | BR15: 79 | BS15: 77 | BT15: 74 | BU15: 68 | BV15: 62 | BW15: 79 | BX15: 58 | BY15: =(BW15-BX15) -> 21 | BZ15: 79 | CA15: 77 | CB15: 74 | CC15: 67 | CD15: 62 | CE15: 2354 | CF15: 2488 | CG15: =(CF15-CE15) -> 134 | CH15: 72.78 | CI15: 99.9 | CJ15: =CI15-CH15 -> 27.12 | CK15: 73.01 | CL15: 73.175 | CM15: 99.885 | CN15: 99.775 | CO15: 99.735 | CP15: 53 | CQ15: 81 | CR15: =CQ15-CP15 -> 28 | CS15: 53 | CT15: 65 | CU15: 74 | CV15: 77 | CW15: 79 | CX15: 57 | CY15: 75 | CZ15: =CY15-CX15 -> 18 | DA15: 58 | DB15: 66 | DC15: 75 | DD15: 77 | DE15: 79
A16: S-1806 | B16: 628 | C16: 967 | D16: =(C16-B16) -> 339 | E16: 98.7 | F16: 75.3 | G16: =(E16-F16) -> 23.4 | H16: 99.695 | I16: 97.43 | J16: 91.615 | K16: 86.76 | L16: 81.285 | M16: 60 | N16: 46 | O16: =(M16-N16) -> 14 | P16: 50 | Q16: 58 | R16: 54 | S16: 55 | T16: 48 | U16: 72 | V16: 61 | W16: =(U16-V16) -> 11 | X16: 74 | Y16: 72 | Z16: 68 | AA16: 66 | AB16: 64 | AC16: 1268 | AD16: 1423 | AE16: =(AD16-AC16) -> 155 | AF16: 74 | AG16: 101.2 | AH16: =(AG16-AF16) -> 27.2 | AI16: 73.07 | AJ16: 73.665 | AK16: 98.165 | AL16: 101.355 | AM16: 101.1 | AN16: 43 | AO16: 64 | AP16: =(AO16-AN16) -> 21 | AQ16: 48 | AR16: 56 | AS16: 58 | AT16: 61 | AU16: 62 | AV16: 60 | AW16: 77 | AX16: =(AW16-AV16) -> 17 | AY16: 61 | AZ16: 67 | BA16: 72 | BB16: 74 | BC16: 75 | BD16: 1726 | BE16: 2141 | BF16: =(BE16-BD16) -> 415 | BG16: 102.4 | BH16: 74.9 | BI16: =(BG16-BH16) -> 27.5 | BJ16: 101.865 | BK16: 101.67 | BL16: 97.505 | BM16: 88.285 | BN16: 81.925 | BO16: 68 | BP16: 49 | BQ16: =(BO16-BP16) -> 19 | BR16: 66 | BS16: 64 | BT16: 62 | BU16: 57 | BV16: 52 | BW16: 80 | BX16: 63 | BY16: =(BW16-BX16) -> 17 | BZ16: 79 | CA16: 79 | CB16: 75 | CC16: 71 | CD16: 68 | CE16: 2442 | CF16: 2607 | CG16: =(CF16-CE16) -> 165 | CH16: 72.4 | CI16: 101.2 | CJ16: =CI16-CH16 -> 28.8 | CK16: 72.56 | CL16: 74.38 | CM16: 100.915 | CN16: 101.1 | CO16: 100.835 | CP16: 43 | CQ16: 64 | CR16: =CQ16-CP16 -> 21 | CS16: 48 | CT16: 54 | CU16: 59 | CV16: 60 | CW16: 64 | CX16: 61 | CY16: 75 | CZ16: =CY16-CX16 -> 14 | DA16: 61 | DB16: 66 | DC16: 70 | DD16: 72 | DE16: 75
A17: S-1667 | B17: 929 | C17: 1297 | D17: =(C17-B17) -> 368 | E17: 95.38 | F17: 75.56 | G17: =(E17-F17) -> 19.82 | H17: 95.6 | I17: 92.995 | J17: 88.23 | K17: 83.82 | L17: 78.96 | M17: 63 | N17: 44 | O17: =(M17-N17) -> 19 | P17: 64 | Q17: 60 | R17: 56 | S17: 52 | T17: 48 | U17: 75 | V17: 58 | W17: =(U17-V17) -> 17 | X17: 76 | Y17: 74 | Z17: 71 | AA17: 69 | AB17: 62 | AC17: 1597 | AD17: 1752 | AE17: =(AD17-AC17) -> 155 | AF17: 73.03 | AG17: 99.08 | AH17: =(AG17-AF17) -> 26.05 | AI17: 73.615 | AJ17: 77.985 | AK17: 98.645 | AL17: 98.925 | AM17: 98.395 | AN17: 41 | AO17: 70 | AP17: =(AO17-AN17) -> 29 | AQ17: 43 | AR17: 64 | AS17: 68 | AT17: 70 | AU17: 70 | AV17: 56 | AW17: 83 | AX17: =(AW17-AV17) -> 27 | AY17: 57 | AZ17: 69 | BA17: 79 | BB17: 78 | BC17: 80 | BD17: 2052 | BE17: 2459 | BF17: =(BE17-BD17) -> 407 | BG17: 98.245 | BH17: 74.92 | BI17: =(BG17-BH17) -> 23.325 | BJ17: 98.72 | BK17: 97.72 | BL17: 93.77 | BM17: 85.87 | BN17: 78.445 | BO17: 71 | BP17: 43 | BQ17: =(BO17-BP17) -> 28 | BR17: 71 | BS17: 68 | BT17: 65 | BU17: 54 | BV17: 47 | BW17: 81 | BX17: 68 | BY17: =(BW17-BX17) -> 13 | BZ17: 81 | CA17: 78 | CB17: 73 | CC17: 70 | CD17: 65 | CE17: 2760 | CF17: 2875 | CG17: =(CF17-CE17) -> 115 | CH17: 73.39 | CI17: 98.57 | CJ17: =CI17-CH17 -> 25.18 | CK17: 74.04 | CL17: 78.975 | CM17: 99.065 | CN17: 98.725 | CO17: 98.455 | CP17: 43 | CQ17: 65 | CR17: =CQ17-CP17 -> 22 | CS17: 44 | CT17: 58 | CU17: 66 | CV17: 65 | CW17: 65 | CX17: 58 | CY17: 81 | CZ17: =CY17-CX17 -> 23 | DA17: 60 | DB17: 68 | DC17: 77 | DD17: 76 | DE17: 78
A18: S-1228 | B18: 572 | C18: 934 | D18: =(C18-B18) -> 362 | E18: 94.7 | F18: 77.2 | G18: =(E18-F18) -> 17.5 | H18: 94.1 | I18: 90.1 | J18: 87 | K18: 84.3 | L18: 80.8 | M18: 61 | N18: 43 | O18: =(M18-N18) -> 18 | P18: 60 | Q18: 57 | R18: 55 | S18: 51 | T18: 46 | U18: 69 | V18: 58 | W18: =(U18-V18) -> 11 | X18: 70 | Y18: 67 | Z18: 65 | AA18: 62 | AB18: 59 | AC18: 1235 | AD18: 1326 | AE18: =(AD18-AC18) -> 91 | AF18: 76 | AG18: 99.2 | AH18: =(AG18-AF18) -> 23.2 | AI18: 77.2 | AJ18: 76.9 | AK18: 96.3 | AL18: 99 | AM18: 99.2 | AN18: 37 | AO18: 52 | AP18: =(AO18-AN18) -> 15 | AQ18: 35 | AR18: 45 | AS18: 50 | AT18: 52 | AU18: 52 | AV18: 54 | AW18: 67 | AX18: =(AW18-AV18) -> 13 | AY18: 54 | AZ18: 56 | BA18: 63 | BB18: 66 | BC18: 65 | BD18: 1627 | BE18: 2077 | BF18: =(BE18-BD18) -> 450 | BG18: 99.9 | BH18: 78.1 | BI18: =(BG18-BH18) -> 21.8 | BJ18: 99.7 | BK18: 95.9 | BL18: 89 | BM18: 86.1 | BO18: 55 | BP18: 37 | BQ18: =(BO18-BP18) -> 18 | BR18: 54 | BS18: 51 | BT18: 47 | BU18: 45 | BV18: 43 | BW18: 69 | BX18: 56 | BY18: =(BW18-BX18) -> 13 | BZ18: 67 | CA18: 66 | CB18: 61 | CC18: 59 | CD18: 58 | CE18: 2379 | CF18: 2503 | CG18: =(CF18-CE18) -> 124 | CH18: 76.4 | CI18: 99.8 | CJ18: =CI18-CH18 -> 23.4 | CK18: 76.6 | CL18: 83.6 | CM18: 99.3 | CN18: 99 | CO18: 99..5 | CP18: 35 | CQ18: 47 | CR18: =CQ18-CP18 -> 12 | CS18: 38 | CT18: 44 | CU18: 51 | CV18: 50 | CW18: 48 | CX18: 54 | CY18: 63 | CZ18: =CY18-CX18 -> 9 | DA18: 53 | DB18: 59 | DC18: 65 | DD18: 64 | DE18: 64
A20: average | D20: =AVERAGE(D15:D18) -> 352 | E20: =AVERAGE(E15:E18) -> 96.12 | F20: =AVERAGE(F15:F18) -> 75.365 | G20: =AVERAGE(G15:G18) -> 20.755 | H20: =AVERAGE(H15:H18) -> 95.73875 | I20: =AVERAGE(I15:I18) -> 93.1025 | J20: =AVERAGE(J15:J18) -> 88.51125 | K20: =AVERAGE(K15:K18) -> 84.49375 | L20: =AVERAGE(L15:L18) -> 79.72375 | M20: =AVERAGE(M13:M18) -> 64.75 | N20: =AVERAGE(N13:N18) -> 37.8 | O20: =AVERAGE(O15:O18) -> 17.75 | P20: =AVERAGE(P15:P18) -> 62 | Q20: =AVERAGE(Q15:Q18) -> 61.5 | R20: =AVERAGE(R15:R18) -> 58 | S20: =AVERAGE(S15:S18) -> 55.25 | T20: =AVERAGE(T15:T18) -> 50 | U20: =AVERAGE(U13:U18) -> 73 | V20: =AVERAGE(V13:V18) -> 47.6 | W20: =AVERAGE(W15:W18) -> 13.75 | X20: =AVERAGE(X15:X18) -> 73.25 | Y20: =AVERAGE(Y15:Y18) -> 70.75 | Z20: =AVERAGE(Z15:Z18) -> 68.25 | AA20: =AVERAGE(AA15:AA18) -> 64.75 | AB20: =AVERAGE(AB15:AB18) -> 62.25 | AE20: =AVERAGE(AE15:AE18) -> 122 | AF20: =AVERAGE(AF15:AF18) -> 73.81125 | AG20: =AVERAGE(AG15:AG18) -> 99.745 | AH20: =AVERAGE(AH15:AH18) -> 25.93375 | AI20: =AVERAGE(AI15:AI18) -> 80.96625 | AJ20: =AVERAGE(AJ15:AJ18) -> 82.145 | AK20: =AVERAGE(AK15:AK18) -> 98.17 | AL20: =AVERAGE(AL15:AL18) -> 99.74875 | AM20: =AVERAGE(AM15:AM18) -> 99.75875 | AP20: =AVERAGE(AP15:AP18) -> 23.25 | AQ20: =AVERAGE(AQ15:AQ18) -> 51.25 | AR20: =AVERAGE(AR15:AR18) -> 61 | AS20: =AVERAGE(AS15:AS18) -> 63.5 | AT20: =AVERAGE(AT15:AT18) -> 65.75 | AU20: =AVERAGE(AU15:AU18) -> 65.75 | AX20: =AVERAGE(AX15:AX18) -> 19.5 | AY20: =AVERAGE(AY15:AY18) -> 62.5 | AZ20: =AVERAGE(AZ15:AZ18) -> 67.25 | BA20: =AVERAGE(BA15:BA18) -> 73.25 | BB20: =AVERAGE(BB15:BB18) -> 73.25 | BC20: =AVERAGE(BC15:BC18) -> 74.5 | BF20: =AVERAGE(BF15:BF18) -> 397.5 | BG20: =AVERAGE(BG15:BG18) -> 99.96125 | BH20: =AVERAGE(BH15:BH18) -> 75.21 | BI20: =AVERAGE(BI15:BI18) -> 24.75125 | BJ20: =AVERAGE(BJ15:BJ18) -> 100.07125 | BK20: =AVERAGE(BK15:BK18) -> 98.58 | BL20: =AVERAGE(BL15:BL18) -> 93.41 | BM20: =AVERAGE(BM15:BM18) -> 86.26125 | BN20: =AVERAGE(BN15:BN18) -> 79.465 | BQ20: =AVERAGE(BQ15:BQ18) -> 22.75 | BR20: =AVERAGE(BR15:BR18) -> 67.5 | BS20: =AVERAGE(BS15:BS18) -> 65 | BT20: =AVERAGE(BT15:BT18) -> 62 | BU20: =AVERAGE(BU15:BU18) -> 56 | BV20: =AVERAGE(BV15:BV18) -> 51 | BY20: =AVERAGE(BY15:BY18) -> 16 | BZ20: =AVERAGE(BZ15:BZ18) -> 76.5 | CA20: =AVERAGE(CA15:CA18) -> 75 | CB20: =AVERAGE(CB15:CB18) -> 70.75 | CC20: =AVERAGE(CC15:CC18) -> 66.75 | CD20: =AVERAGE(CD15:CD18) -> 63.25 | CG20: =AVERAGE(CG15:CG18) -> 134.5 | CH20: =AVERAGE(CH15:CH18) -> 73.7425 | CI20: =AVERAGE(CI15:CI18) -> 99.8675 | CJ20: =AVERAGE(CJ15:CJ18) -> 26.125 | CK20: =AVERAGE(CK15:CK18) -> 74.0525 | CL20: =AVERAGE(CL15:CL18) -> 77.5325 | CM20: =AVERAGE(CM15:CM18) -> 99.79125 | CN20: =AVERAGE(CN15:CN18) -> 99.65 | CO20: =AVERAGE(CO15:CO18) -> 99.675 | CR20: =AVERAGE(CR15:CR18) -> 20.75 | CS20: =AVERAGE(CS15:CS18) -> 45.75 | CT20: =AVERAGE(CT15:CT18) -> 55.25 | CU20: =AVERAGE(CU15:CU18) -> 62.5 | CV20: =AVERAGE(CV15:CV18) -> 63 | CW20: =AVERAGE(CW15:CW18) -> 64 | CZ20: =AVERAGE(CZ15:CZ18) -> 16 | DA20: =AVERAGE(DA15:DA18) -> 58 | DB20: =AVERAGE(DB15:DB18) -> 64.75 | DC20: =AVERAGE(DC15:DC18) -> 71.75 | DD20: =AVERAGE(DD15:DD18) -> 72.25 | DE20: =AVERAGE(DE15:DE18) -> 74

Sheet BL-normality
A1: INVOS-Equanox normality (RA - 70%) | G1: Equanox normality (RA - 70%) | M1: INVOS-Equanox normality (100 - 70%) | S1: Equanox normality (100 - 70%)
A2: Data | B2: Sorted | C2: Number | D2: Cumulative | E2: Z value | G2: Data | H2: Sorted | I2: Number | J2: Cumulative | K2: Z value | M2: Data | N2: Sorted | O2: Number | P2: Cumulative | Q2: Z value | S2: Data | T2: Sorted | U2: Number | V2: Cumulative | W2: Z value
A3: 54 | B3: 54 | C3: 1 | D3: =(C3-0.5)/6 -> 0.083333333 | E3: =NORMSINV(D3) -> -1.3829941 | G3: 58 | H3: 58 | I3: 1 | J3: =(I3-0.5)/6 -> 0.083333333 | K3: =NORMSINV(J3) -> -1.3829941 | M3: 55 | N3: 55 | O3: 1 | P3: =(O3-0.5)/6 -> 0.083333333 | Q3: =NORMSINV(P3) -> -1.3829941 | S3: 60 | T3: 60 | U3: 1 | V3: =(U3-0.5)/6 -> 0.083333333 | W3: =NORMSINV(V3) -> -1.3829941
A4: 69 | B4: 67 | C4: 2 | D4: =(C4-0.5)/6 -> 0.25 | E4: =NORMSINV(D4) -> -0.67448975 | G4: 67 | H4: 67 | I4: 2 | J4: =(I4-0.5)/6 -> 0.25 | K4: =NORMSINV(J4) -> -0.67448975 | M4: 73 | N4: 64 | O4: 2 | P4: =(O4-0.5)/6 -> 0.25 | Q4: =NORMSINV(P4) -> -0.67448975 | S4: 71 | T4: 69 | U4: 2 | V4: =(U4-0.5)/6 -> 0.25 | W4: =NORMSINV(V4) -> -0.67448975
A5: 67 | B5: 67 | C5: 3 | D5: =(C5-0.5)/6 -> 0.41666667 | E5: =NORMSINV(D5) -> -0.21042839 | G5: 69 | H5: 69 | I5: 3 | J5: =(I5-0.5)/6 -> 0.41666667 | K5: =NORMSINV(J5) -> -0.21042839 | M5: 64 | N5: 73 | O5: 3 | P5: =(O5-0.5)/6 -> 0.41666667 | Q5: =NORMSINV(P5) -> -0.21042839 | S5: 69 | T5: 71 | U5: 3 | V5: =(U5-0.5)/6 -> 0.41666667 | W5: =NORMSINV(V5) -> -0.21042839
A6: 67 | B6: 69 | C6: 4 | D6: =(C6-0.5)/6 -> 0.58333333 | E6: =NORMSINV(D6) -> 0.21042839 | G6: 70 | H6: 70 | I6: 4 | J6: =(I6-0.5)/6 -> 0.58333333 | K6: =NORMSINV(J6) -> 0.21042839 | M6: 75 | N6: 75 | O6: 4 | P6: =(O6-0.5)/6 -> 0.58333333 | Q6: =NORMSINV(P6) -> 0.21042839 | S6: 75 | T6: 75 | U6: 4 | V6: =(U6-0.5)/6 -> 0.58333333 | W6: =NORMSINV(V6) -> 0.21042839
A7: 85 | B7: 73 | C7: 5 | D7: =(C7-0.5)/6 -> 0.75 | E7: =NORMSINV(D7) -> 0.67448975 | G7: 78 | H7: 73 | I7: 5 | J7: =(I7-0.5)/6 -> 0.75 | K7: =NORMSINV(J7) -> 0.67448975 | M7: 93 | N7: 78 | O7: 5 | P7: =(O7-0.5)/6 -> 0.75 | Q7: =NORMSINV(P7) -> 0.67448975 | S7: 84 | T7: 81 | U7: 5 | V7: =(U7-0.5)/6 -> 0.75 | W7: =NORMSINV(V7) -> 0.67448975
A8: 73 | B8: 85 | C8: 6 | D8: =(C8-0.5)/6 -> 0.91666667 | E8: =NORMSINV(D8) -> 1.3829941 | G8: 73 | H8: 78 | I8: 6 | J8: =(I8-0.5)/6 -> 0.91666667 | K8: =NORMSINV(J8) -> 1.3829941 | M8: 78 | N8: 93 | O8: 6 | P8: =(O8-0.5)/6 -> 0.91666667 | Q8: =NORMSINV(P8) -> 1.3829941 | S8: 81 | T8: 84 | U8: 6 | V8: =(U8-0.5)/6 -> 0.91666667 | W8: =NORMSINV(V8) -> 1.3829941
A24: normal | G24: normal
M25: normal | S25: normal
A26: INVOS- Foresight normality (RA - 70%) | G26: Foresight normality (RA - 70%)
A27: Data | B27: Sorted | C27: Number | D27: Cumulative | E27: Z value | G27: Data | H27: Sorted | I27: Number | J27: Cumulative | K27: Z value
A28: 75 | B28: 60 | C28: 1 | D28: =(C28-0.5)/4 -> 0.125 | E28: =NORMSINV(D28) -> -1.1503494 | G28: 76 | H28: 69 | I28: 1 | J28: =(I28-0.5)/4 -> 0.125 | K28: =NORMSINV(J28) -> -1.1503494
A29: 60 | B29: 61 | C29: 2 | D29: =(C29-0.5)/4 -> 0.375 | E29: =NORMSINV(D29) -> -0.31863936 | G29: 72 | H29: 72 | I29: 2 | J29: =(I29-0.5)/4 -> 0.375 | K29: =NORMSINV(J29) -> -0.31863936 | M29: INVOS- Foresight normality (100 - 70%) | S29: Foresight normality (100 - 70%)
A30: 63 | B30: 63 | C30: 3 | D30: =(C30-0.5)/4 -> 0.625 | E30: =NORMSINV(D30) -> 0.31863936 | G30: 75 | H30: 75 | I30: 3 | J30: =(I30-0.5)/4 -> 0.625 | K30: =NORMSINV(J30) -> 0.31863936 | M30: Data | N30: Sorted | O30: Number | P30: Cumulative | Q30: Z value | S30: Data | T30: Sorted | U30: Number | V30: Cumulative | W30: Z value
A31: 61 | B31: 75 | C31: 4 | D31: =(C31-0.5)/4 -> 0.875 | E31: =NORMSINV(D31) -> 1.1503494 | G31: 69 | H31: 76 | I31: 4 | J31: =(I31-0.5)/4 -> 0.875 | K31: =NORMSINV(J31) -> 1.1503494 | M31: 81 | N31: 55 | O31: 1 | P31: =(O31-0.5)/4 -> 0.125 | Q31: =NORMSINV(P31) -> -1.1503494 | S31: 79 | T31: 69 | U31: 1 | V31: =(U31-0.5)/4 -> 0.125 | W31: =NORMSINV(V31) -> -1.1503494
M32: 68 | N32: 68 | O32: 2 | P32: =(O32-0.5)/4 -> 0.375 | Q32: =NORMSINV(P32) -> -0.31863936 | S32: 80 | T32: 79 | U32: 2 | V32: =(U32-0.5)/4 -> 0.375 | W32: =NORMSINV(V32) -> -0.31863936
M33: 71 | N33: 71 | O33: 3 | P33: =(O33-0.5)/4 -> 0.625 | Q33: =NORMSINV(P33) -> 0.31863936 | S33: 81 | T33: 80 | U33: 3 | V33: =(U33-0.5)/4 -> 0.625 | W33: =NORMSINV(V33) -> 0.31863936
M34: 55 | N34: 81 | O34: 4 | P34: =(O34-0.5)/4 -> 0.875 | Q34: =NORMSINV(P34) -> 1.1503494 | S34: 69 | T34: 81 | U34: 4 | V34: =(U34-0.5)/4 -> 0.875 | W34: =NORMSINV(V34) -> 1.1503494
A48: not normal | G48: not normal
A51: Conclusions: INVOS/Foresight data tend to be not normally distributed, so Mann-Whitney test is used | M51: normal | S51: not normal

Sheet BL-t test
A1: F test (INVOS vs Equanox) | E1: INVOS-Equanox (RA-70%) | K1: F test (INVOS vs Equanox) | O1: INVOS-Equanox (100-70%)
A2: F-Test Two-Sample for Variances | E2: t-Test: Two-Sample Assuming Equal Variances | K2: F-Test Two-Sample for Variances | O2: t-Test: Two-Sample Assuming Equal Variances
B4: INVOS | C4: Equanox | F4: INVOS | G4: Equanox | L4: INVOS | M4: Equanox | P4: INVOS | Q4: Equanox
A5: Mean | B5: 69.166667 | C5: 69.166667 | E5: Mean | F5: 69.166667 | G5: 69.166667 | K5: Mean | L5: 73 | M5: 73.333333 | O5: Mean | P5: 73 | Q5: 73.333333
A6: Variance | B6: 100.96667 | C6: 44.566667 | E6: Variance | F6: 100.96667 | G6: 44.566667 | K6: Variance | L6: 166.8 | M6: 75.466667 | O6: Variance | P6: 166.8 | Q6: 75.466667
A7: Observations | B7: 6 | C7: 6 | E7: Observations | F7: 6 | G7: 6 | K7: Observations | L7: 6 | M7: 6 | O7: Observations | P7: 6 | Q7: 6
A8: df | B8: 5 | C8: 5 | E8: Pooled Variance | F8: 72.766667 | K8: df | L8: 5 | M8: 5 | O8: Pooled Variance | P8: 121.13333
A9: F | B9: 2.2655198 | E9: Hypothesized Mean Difference | F9: 0 | K9: F | L9: 2.2102473 | O9: Hypothesized Mean Difference | P9: 0
A10: P(F<=f) one-tail | B10: 0.19518123 | E10: df | F10: 10 | K10: P(F<=f) one-tail | L10: 0.20224359 | O10: df | P10: 10
A11: F Critical one-tail | B11: 5.0503291 | E11: t Stat | F11: 0 | K11: F Critical one-tail | L11: 5.0503291 | O11: t Stat | P11: -0.052457494
A12: Variance of two are equal | E12: P(T<=t) one-tail | F12: 0.5 | K12: Variance of two are equal | O12: P(T<=t) one-tail | P12: 0.47959864
A13: F is not > Fcrit one tail | E13: t Critical one-tail | F13: 1.8124611 | K13: F is not > Fcrit one tail | O13: t Critical one-tail | P13: 1.8124611
E14: P(T<=t) two-tail | F14: 1 | O14: P(T<=t) two-tail | P14: 0.95919728
E15: t Critical two-tail | F15: 2.2281389 | O15: t Critical two-tail | P15: 2.2281389
E16: no significant difference | O16: no significant difference
E17: null hypothesis: no difference | O17: null hypothesis: no difference
E18: Normal data, okay to use | O18: Normal data, okay to use
A19: F test (INVOS vs Foresight)
A20: F-Test Two-Sample for Variances | E20: INVOS-Foresight (RA-70%) | K20: F test (INVOS vs Foresight) | O20: INVOS-Foresight (100-70%)
E21: t-Test: Two-Sample Assuming Equal Variances | K21: F-Test Two-Sample for Variances | O21: t-Test: Two-Sample Assuming Equal Variances
B22: INVOS | C22: Foresight
A23: Mean | B23: 64.75 | C23: 73 | F23: INVOS | G23: Foresight | L23: INVOS | M23: Foresight | P23: INVOS | Q23: Foresight
A24: Variance | B24: 48.25 | C24: 10 | E24: Mean | F24: 64.75 | G24: 73 | K24: Mean | L24: 68.75 | M24: 77.25 | O24: Mean | P24: 68.75 | Q24: 77.25
A25: Observations | B25: 4 | C25: 4 | E25: Variance | F25: 48.25 | G25: 10 | K25: Variance | L25: 114.91667 | M25: 30.916667 | O25: Variance | P25: 114.91667 | Q25: 30.916667
A26: df | B26: 3 | C26: 3 | E26: Observations | F26: 4 | G26: 4 | K26: Observations | L26: 4 | M26: 4 | O26: Observations | P26: 4 | Q26: 4
A27: F | B27: 4.825 | E27: Pooled Variance | F27: 29.125 | K27: df | L27: 3 | M27: 3 | O27: Pooled Variance | P27: 72.916667
A28: P(F<=f) one-tail | B28: 0.11433119 | E28: Hypothesized Mean Difference | F28: 0 | K28: F | L28: 3.7169811 | O28: Hypothesized Mean Difference | P28: 0
A29: F Critical one-tail | B29: 9.2766282 | E29: df | F29: 6 | K29: P(F<=f) one-tail | L29: 0.15473628 | O29: df | P29: 6
A30: Variance of two are equal | E30: t Stat | F30: -2.1619019 | K30: F Critical one-tail | L30: 9.2766282 | O30: t Stat | P30: -1.4077337
A31: F is not > Fcrit one tail | E31: P(T<=t) one-tail | F31: 0.036941366 | K31: Variance of two are equal | O31: P(T<=t) one-tail | P31: 0.10442536
E32: t Critical one-tail | F32: 1.9431803 | K32: F is not > Fcrit one tail | O32: t Critical one-tail | P32: 1.9431803
E33: P(T<=t) two-tail | F33: 0.073882731 | O33: P(T<=t) two-tail | P33: 0.20885072
E34: t Critical two-tail | F34: 2.4469119 | O34: t Critical two-tail | P34: 2.4469119
E35: no significant difference | O35: no significant difference
E36: null hypothesis: no difference | O36: null hypothesis: no difference
E37: Not normal data- see MW test | O37: Not normal data- see MW test

Sheet BL-MW test
A1: INVOS-Equanox RA - 70% | G1: INVOS-Foresight RA - 70% | M1: INVOS-Equanox 100 - 70% | S1: INVOS-Foresight 100 - 70%
A2: Mann-Whitney Test for Two Independent Samples | G2: Mann-Whitney Test for Two Independent Samples | M2: Mann-Whitney Test for Two Independent Samples | S2: Mann-Whitney Test for Two Independent Samples
B4: Sample 1 | C4: Sample 2 | H4: Sample 1 | I4: Sample 2 | N4: Sample 1 | O4: Sample 2 | T4: Sample 1 | U4: Sample 2
A5: count | B5: =COUNT(raw!M5:M10) -> 6 | C5: =COUNT(raw!U5:U10) -> 6 | G5: count | H5: =COUNT(raw!M15:M18) -> 4 | I5: =COUNT(raw!U15:U18) -> 4 | M5: count | N5: =COUNT(raw!BO5:BO10) -> 6 | O5: =COUNT(raw!BW5:BW10) -> 6 | S5: count | T5: =COUNT(raw!BO15:BO18) -> 4 | U5: =COUNT(raw!BW15:BW18) -> 4
A6: median | B6: =MEDIAN(raw!M5:M10) -> 68 | C6: =MEDIAN(raw!U5:U10) -> 69.5 | G6: median | H6: =MEDIAN(raw!M15:M18) -> 62 | I6: =MEDIAN(raw!U15:U18) -> 73.5 | M6: median | N6: =MEDIAN(raw!BO5:BO10) -> 74 | O6: =MEDIAN(raw!BW5:BW10) -> 73 | S6: median | T6: =MEDIAN(raw!BO15:BO18) -> 69.5 | U6: =MEDIAN(raw!BW15:BW18) -> 79.5
A7: rank sum | B7: =[1]!RANK_SUM(raw!M5:M10,raw!U5:U10,1) -> 37 | C7: =[1]!RANK_SUM(raw!U5:U10,raw!M5:M10,1) -> 41 | G7: rank sum | H7: =[1]!RANK_SUM(raw!M15:M18,raw!U15:U18,1) -> 12.5 | I7: =[1]!RANK_SUM(raw!U15:U18,raw!M15:M18,1) -> 23.5 | M7: rank sum | N7: =[1]!RANK_SUM(raw!BO5:BO10,raw!BW5:BW10,1) -> 38.5 | O7: =[1]!RANK_SUM(raw!BW5:BW10,raw!BO5:BO10,1) -> 39.5 | S7: rank sum | T7: =[1]!RANK_SUM(raw!BO15:BO18,raw!BW15:BW18,1) -> 14.5 | U7: =[1]!RANK_SUM(raw!BW15:BW18,raw!BO15:BO18,1) -> 21.5
A8: U | B8: =B5*C5+B5*(B5+1)/2-B7 -> 20 | C8: =B5*C5+C5*(C5+1)/2-C7 -> 16 | G8: U | H8: =H5*I5+H5*(H5+1)/2-H7 -> 13.5 | I8: =H5*I5+I5*(I5+1)/2-I7 -> 2.5 | M8: U | N8: =N5*O5+N5*(N5+1)/2-N7 -> 18.5 | O8: =N5*O5+O5*(O5+1)/2-O7 -> 17.5 | S8: U | T8: =T5*U5+T5*(T5+1)/2-T7 -> 11.5 | U8: =T5*U5+U5*(U5+1)/2-U7 -> 4.5
B10: one tail | C10: two tail | H10: one tail | I10: two tail | N10: one tail | O10: two tail | T10: one tail | U10: two tail
A11: alpha | B11: 0.05 | G11: alpha | H11: 0.05 | M11: alpha | N11: 0.05 | S11: alpha | T11: 0.05
A12: U | B12: =MIN(B8,C8) -> 16 | G12: U | H12: =MIN(H8,I8) -> 2.5 | M12: U | N12: =MIN(N8,O8) -> 17.5 | S12: U | T12: =MIN(T8,U8) -> 4.5
A13: mean | B13: =B5*C5/2 -> 18 | G13: mean | H13: =H5*I5/2 -> 8 | M13: mean | N13: =N5*O5/2 -> 18 | S13: mean | T13: =T5*U5/2 -> 8
A14: std dev | B14: =SQRT(B13*(B5+C5+1)/6) -> 6.244998 | G14: std dev | H14: =SQRT(H13*(H5+I5+1)/6) -> 3.4641016 | M14: std dev | N14: =SQRT(N13*(N5+O5+1)/6) -> 6.244998 | S14: std dev | T14: =SQRT(T13*(T5+U5+1)/6) -> 3.4641016
A15: z-score | B15: =ABS(ABS(B12-B13)-1/2)/B14 -> 0.24019223 | G15: z-score | H15: =ABS(ABS(H12-H13)-1/2)/H14 -> 1.4433757 | M15: z-score | N15: =ABS(ABS(N12-N13)-1/2)/N14 -> 0 | S15: z-score | T15: =ABS(ABS(T12-T13)-1/2)/T14 -> 0.8660254
A16: effect r | B16: =B15/SQRT(B5+C5) -> 0.069337525 | G16: effect r | H16: =H15/SQRT(H5+I5) -> 0.51031036 | M16: effect r | N16: =N15/SQRT(N5+O5) -> 0 | S16: effect r | T16: =T15/SQRT(T5+U5) -> 0.30618622
A17: U-crit | B17: =B13+B14*NORMSINV(B11)-1/2 -> 7.2278924 | C17: =B13+B14*NORMSINV(B11/2)-1/2 -> 5.2600288 | G17: U-crit | H17: =H13+H14*NORMSINV(H11)-1/2 -> 1.8020599 | I17: =H13+H14*NORMSINV(H11/2)-1/2 -> 0.7104856 | M17: U-crit | N17: =N13+N14*NORMSINV(N11)-1/2 -> 7.2278924 | O17: =N13+N14*NORMSINV(N11/2)-1/2 -> 5.2600288 | S17: U-crit | T17: =T13+T14*NORMSINV(T11)-1/2 -> 1.8020599 | U17: =T13+T14*NORMSINV(T11/2)-1/2 -> 0.7104856
A18: p-value | B18: =1-NORMSDIST(B15) -> 0.40509062 | C18: =2*B18 -> 0.81018124 | G18: p-value | H18: =1-NORMSDIST(H15) -> 0.074457337 | I18: =2*H18 -> 0.14891467 | M18: p-value | N18: =1-NORMSDIST(N15) -> 0.5 | O18: =2*N18 -> 1 | S18: p-value | T18: =1-NORMSDIST(T15) -> 0.19323812 | U18: =2*T18 -> 0.38647623
A19: sig (norm) | B19: =IF(B18<B11,"yes","no") -> no | C19: =IF(C18<B11,"yes","no") -> no | G19: sig (norm) | H19: =IF(H18<H11,"yes","no") -> no | I19: =IF(I18<H11,"yes","no") -> no | M19: sig (norm) | N19: =IF(N18<N11,"yes","no") -> no | O19: =IF(O18<N11,"yes","no") -> no | S19: sig (norm) | T19: =IF(T18<T11,"yes","no") -> no | U19: =IF(U18<T11,"yes","no") -> no
A21: U-crit | B21: =[1]!MCRIT(B5,C5,B11,1) -> 7 | C21: =[1]!MCRIT(B5,C5,B11,2) -> 5 | G21: U-crit | H21: =[1]!MCRIT(H5,I5,H11,1) -> 1 | I21: =[1]!MCRIT(H5,I5,H11,2) -> 0 | M21: U-crit | N21: =[1]!MCRIT(N5,O5,N11,1) -> 7 | O21: =[1]!MCRIT(N5,O5,N11,2) -> 5 | S21: U-crit | T21: =[1]!MCRIT(T5,U5,T11,1) -> 1 | U21: =[1]!MCRIT(T5,U5,T11,2) -> 0
A22: sig (table) | B22: =IF(ISNUMBER(B21),IF(B12<B21,"yes","no"),"no") -> no | C22: =IF(ISNUMBER(C21),IF(B12<C21,"yes","no"),"no") -> no | G22: sig (table) | H22: =IF(ISNUMBER(H21),IF(H12<H21,"yes","no"),"no") -> no | I22: =IF(ISNUMBER(I21),IF(H12<I21,"yes","no"),"no") -> no | M22: sig (table) | N22: =IF(ISNUMBER(N21),IF(N12<N21,"yes","no"),"no") -> no | O22: =IF(ISNUMBER(O21),IF(N12<O21,"yes","no"),"no") -> no | S22: sig (table) | T22: =IF(ISNUMBER(T21),IF(T12<T21,"yes","no"),"no") -> no | U22: =IF(ISNUMBER(U21),IF(T12<U21,"yes","no"),"no") -> no
A24: p-value | B24: =[1]!MANN_EXACT(raw!M5:M10,raw!U5:U10,1) -> 0.40909091 | C24: =2*B24 -> 0.81818182 | G24: p-value | H24: =[1]!MANN_EXACT(raw!M15:M18,raw!U15:U18,1) -> 0.057142857 | I24: =2*H24 -> 0.11428571 | M24: p-value | N24: =[1]!MANN_EXACT(raw!BO5:BO10,raw!BW5:BW10,1) -> 0.46861472 | O24: =2*N24 -> 0.93722944 | S24: p-value | T24: =[1]!MANN_EXACT(raw!BO15:BO18,raw!BW15:BW18,1) -> 0.17142857 | U24: =2*T24 -> 0.34285714
A25: sig (exact) | B25: =IF(B24<B11,"yes","no") -> no | C25: =IF(C24<B11,"yes","no") -> no | G25: sig (exact) | H25: =IF(H24<H11,"yes","no") -> no | I25: =IF(I24<H11,"yes","no") -> no | M25: sig (exact) | N25: =IF(N24<N11,"yes","no") -> no | O25: =IF(O24<N11,"yes","no") -> no | S25: sig (exact) | T25: =IF(T24<T11,"yes","no") -> no | U25: =IF(U24<T11,"yes","no") -> no
A27: Normal data, see t-test | G27: Not normal data, okay to use | M27: Normal data, see t-test | S27: Not normal data, okay to use
