Workbook

Sheet HOME
A2: CHARMS & PROBAST template
B4: Information:
B5: This Excel document is a template for data extraction and critical appraisal of a systematic review of clinical prediction model development and/or validation studies.
I8: Templates designed by: Fernandez-Felix BM 1,2 Affiliations: 1 Clinical Biostatistics Unit, Hospital Universitario Ramón y Cajal, IRYCIS, Madrid, Spain. 2 CIBER de Epidemiología y Salud Pública (CIBERESP), Madrid, Spain. Contact: borjamanuel.fernandez@salud.madrid.org
B10: Contents:
B11: - HOME: A description of the material in the file and instructions on how to use it. - SUMMARY: Table summarizing the status of the data extraction process and the assessment of bias and applicability. - CHARMS: Data extraction form - PROBAST: Risk of Bias and Applicability Assessment form - TABLES: A proposal tables containing information on study characteristics, models characteristics, and an overview of risk of bias assessment and applicability.
B19: Instructions for use:
B20: To begin data extraction (CHARMS) and risk of bias and applicability evaluation (PROBAST) of each model included in the systematic review, check in "new model" on the SUMMARY sheet. Complete the basic study information. The template can be used to evaluate up to 30 models. Go to:
B24: CHARMS (Adapted from Moons K. 2014) Complete the data extraction for each predictive model included in the systematic review. You should fill in the cells shaded in yellow. Fill in the cell with "No Information" (NI) when the information in the study report is not available. In the case of blank cells, the status of the data extraction form will be incomplete ⚠️. When all domains in the form are filled out, the data extraction will be complete ✅. Go to:
B30: PROBAST (Adapted from Wolff RF. 2019) Complete the risk of bias assessment and applicability for each model included in the systematic review. You should answer signalling questions shaded in yellow for each key domain (Participant, Predictor, Outcome and Analysis) as "Yes", "Probably yes", "Probably no", "No" or "No information". For each domain, once all signalling questions are answered, RoB and applicability assessment cells will become unblocked. Any signally question rated as "No" or "Probably no" flags the potential for bias; You will need to use your judgement to determine whether the domain should be rated as "High", "Low" or "Unclear" risk of bias, and rated for concern regarding applicability "High", "Low" or "Unclear" to your review question. When RoB assessment and applicability were rated for all domains in the form, the PROBAST assessment will be complete ✅. Go to:
B38: SUMMARY TABLES The summary tables will be automatically generated based on the information in the CHARMS and PROBAST forms. - Study Characteristics. - Model Characteristics. - Risk of Bias summary (PROBAST). Go to:

Sheet SUMMARY
B3: Summary information: | I3: 0 | J3: Incomplete
I4: 1 | J4: Complete
E5: Models included for data extraction and RoB assessment: | F5: =COUNTIF(SUMMARY!B7:B36,TRUE()) -> 9
B6: New model | C6: No model | D6: Author | E6: Publication year | F6: Publication identifier (Title/PMID/DOI) | G6: Publication journal | H6: Model name | I6: Identifier | J6: CHARMS | K6: PROBAST
B7: TRUE | C7: =IF(B7=TRUE,1,"") -> 1 | D7: Bansal et al. | E7: 2020 | F7: MACHINE LEARNING TECHNIQUES TO PREDICT IN-HOSPITAL CARDIOVASCULAR OUTCOMES IN ELDERLY PATIENTS PRESENTING WITH ACUTE MYOCARDIAL INFARCTION | G7: Journal of the American College of Cardiology | H7: XGBoost | I7: =IF(D7="","",CONCATENATE(D7,", ",E7)) -> Bansal et al., 2020 | J7: =IF(SUMMARY!B7=TRUE,IF(SUM(CHARMS!F$13,CHARMS!F$15,CHARMS!F$29,CHARMS!F$37,CHARMS!F$44,CHARMS!F$49,CHARMS!F$52,CHARMS!F$57,CHARMS!F$78,CHARMS!F$83,CHARMS!F$88)<11,0,1)) -> 1 | K7: =IF(SUMMARY!B7=TRUE,IF(SUM(COUNTBLANK(PROBAST!B$16:B$17),COUNTBLANK(PROBAST!B$30:B$31),COUNTBLANK(PROBAST!B$44:B$45),COUNTBLANK(PROBAST!B$63))>0,0,1)) -> 1
B8: TRUE | C8: =IF(B8=TRUE,2,"") -> 2 | D8: Hamilton et al. | E8: 2021 | F8: A novel tool for highly reliable and accurate prediction of multiple complications in patients undergoing percutaneous coronary intervention | G8: Circulation | H8: Random Forest | I8: =IF(D8="","",CONCATENATE(D8,", ",E8)) -> Hamilton et al., 2021 | J8: =IF(SUMMARY!B$8=TRUE,IF(SUM(CHARMS!I13,CHARMS!I15,CHARMS!I29,CHARMS!I37,CHARMS!I44,CHARMS!I49,CHARMS!I52,CHARMS!I57,CHARMS!I78,CHARMS!I83,CHARMS!I88)<11,0,1)) -> 1 | K8: =IF(SUMMARY!B8=TRUE,IF(SUM(COUNTBLANK(PROBAST!C$16:C$17),COUNTBLANK(PROBAST!C$30:C$31),COUNTBLANK(PROBAST!C$44:C$45),COUNTBLANK(PROBAST!C$63))>0,0,1)) -> 1
B9: TRUE | C9: =IF(B9=TRUE,3,"") -> 3 | D9: Hamilton et al. | E9: 2022 | F9: Merging Machine Learning and Patient Preference: A Contemporary, Comprehensive, Patient-Centered Tool for Risk Prediction Prior to Percutaneous Coronary Intervention | G9: Circulation | H9: XGBoost | I9: =IF(D9="","",CONCATENATE(D9,", ",E9)) -> Hamilton et al., 2022 | J9: =IF(SUMMARY!B$9=TRUE,IF(SUM(CHARMS!L13,CHARMS!L15,CHARMS!L29,CHARMS!L37,CHARMS!L44,CHARMS!L49,CHARMS!L52,CHARMS!L57,CHARMS!L78,CHARMS!L83,CHARMS!L88)<11,0,1)) -> 1 | K9: =IF(SUMMARY!B9=TRUE,IF(SUM(COUNTBLANK(PROBAST!D$16:D$17),COUNTBLANK(PROBAST!D$30:D$31),COUNTBLANK(PROBAST!D$44:D$45),COUNTBLANK(PROBAST!D$63))>0,0,1)) -> 1
B10: TRUE | C10: =IF(B10=TRUE,4,"") -> 4 | D10: Mortazavi et al. | E10: 2019 | F10: Comparison of Machine Learning Methods With National Cardiovascular Data Registry Models for Prediction of Risk of Bleeding After Percutaneous Coronary Intervention | G10: JAMA network open | H10: Blended model with gradient descent boosting | I10: =IF(D10="","",CONCATENATE(D10,", ",E10)) -> Mortazavi et al., 2019 | J10: =IF(SUMMARY!B$10=TRUE,IF(SUM(CHARMS!O13,CHARMS!O15,CHARMS!O29,CHARMS!O37,CHARMS!O44,CHARMS!O49,CHARMS!O52,CHARMS!O57,CHARMS!O78,CHARMS!O83,CHARMS!O88)<11,0,1)) -> 1 | K10: =IF(SUMMARY!B10=TRUE,IF(SUM(COUNTBLANK(PROBAST!E$16:E$17),COUNTBLANK(PROBAST!E$30:E$31),COUNTBLANK(PROBAST!E$44:E$45),COUNTBLANK(PROBAST!E$63))>0,0,1)) -> 1
B11: TRUE | C11: =IF(B11=TRUE,5,"") -> 5 | D11: Kulkarni et al. | E11: 2021 | F11: Artificial intelligence in percutaneous coronary intervention: improved risk prediction of PCI-related complications using an artificial neural network | G11: BMJ Innovations | H11: MLP | I11: =IF(D11="","",CONCATENATE(D11,", ",E11)) -> Kulkarni et al., 2021 | J11: =IF(SUMMARY!B$11=TRUE,IF(SUM(CHARMS!R13,CHARMS!R15,CHARMS!R29,CHARMS!R37,CHARMS!R44,CHARMS!R49,CHARMS!R52,CHARMS!R57,CHARMS!R78,CHARMS!R83,CHARMS!R88)<11,0,1)) -> 1 | K11: =IF(SUMMARY!B11=TRUE,IF(SUM(COUNTBLANK(PROBAST!F$16:F$17),COUNTBLANK(PROBAST!F$30:F$31),COUNTBLANK(PROBAST!F$44:F$45),COUNTBLANK(PROBAST!F$63))>0,0,1)) -> 1
B12: TRUE | C12: =IF(B12=TRUE,6,"") -> 6 | D12: Niimi et al. | E12: 2022 | F12: Machine learning models for prediction of adverse events after percutaneous coronary intervention | G12: Scientific Reports | H12: XGBoost | I12: =IF(D12="","",CONCATENATE(D12,", ",E12)) -> Niimi et al., 2022 | J12: =IF(SUMMARY!B$12=TRUE,IF(SUM(CHARMS!U13,CHARMS!U15,CHARMS!U29,CHARMS!U37,CHARMS!U44,CHARMS!U49,CHARMS!U52,CHARMS!U57,CHARMS!U78,CHARMS!U83,CHARMS!U88)<11,0,1)) -> 1 | K12: =IF(SUMMARY!B12=TRUE,IF(SUM(COUNTBLANK(PROBAST!G$16:G$17),COUNTBLANK(PROBAST!G$30:G$31),COUNTBLANK(PROBAST!G$44:G$45),COUNTBLANK(PROBAST!G$63))>0,0,1)) -> 1
B13: TRUE | C13: =IF(B13=TRUE,7,"") -> 7 | D13: Rayfield et al. | E13: 2020 | F13: Machine learning on high-dimensional data to predict bleeding post percutaneous coronary intervention | G13: Journal of Invasive Cardiology | H13: AI-BR model | I13: =IF(D13="","",CONCATENATE(D13,", ",E13)) -> Rayfield et al., 2020 | J13: =IF(SUMMARY!B$13=TRUE,IF(SUM(CHARMS!X13,CHARMS!X15,CHARMS!X29,CHARMS!X37,CHARMS!X44,CHARMS!X49,CHARMS!X52,CHARMS!X57,CHARMS!X78,CHARMS!X83,CHARMS!X88)<11,0,1)) -> 1 | K13: =IF(SUMMARY!B13=TRUE,IF(SUM(COUNTBLANK(PROBAST!H$16:H$17),COUNTBLANK(PROBAST!H$30:H$31),COUNTBLANK(PROBAST!H$44:H$45),COUNTBLANK(PROBAST!H$63))>0,0,1)) -> 1
B14: TRUE | C14: =IF(B14=TRUE,8,"") -> 8 | D14: Zhao et al. | E14: 2023 | F14: Machine learning for prediction of bleeding in acute myocardial infarction patients after percutaneous coronary intervention | G14: Therapeutic advances in chronic disease | H14: XGBoost | I14: =IF(D14="","",CONCATENATE(D14,", ",E14)) -> Zhao et al., 2023 | J14: =IF(SUMMARY!B$14=TRUE,IF(SUM(CHARMS!AA13,CHARMS!AA15,CHARMS!AA29,CHARMS!AA37,CHARMS!AA44,CHARMS!AA49,CHARMS!AA52,CHARMS!AA57,CHARMS!AA78,CHARMS!AA83,CHARMS!AA88)<11,0,1)) -> 1 | K14: =IF(SUMMARY!B14=TRUE,IF(SUM(COUNTBLANK(PROBAST!I$16:I$17),COUNTBLANK(PROBAST!I$30:I$31),COUNTBLANK(PROBAST!I$44:I$45),COUNTBLANK(PROBAST!I$63))>0,0,1)) -> 1
B15: TRUE | C15: =IF(B15=TRUE,9,"") -> 9 | D15: Hurley et al. | E15: 2021 | F15: A dynamic model to estimate evolving risk of major bleeding after percutaneous coronary intervention | G15: medRxiv | H15: XGBoost | I15: =IF(D15="","",CONCATENATE(D15,", ",E15)) -> Hurley et al., 2021 | J15: =IF(SUMMARY!B$15=TRUE,IF(SUM(CHARMS!AD13,CHARMS!AD15,CHARMS!AD29,CHARMS!AD37,CHARMS!AD44,CHARMS!AD49,CHARMS!AD52,CHARMS!AD57,CHARMS!AD78,CHARMS!AD83,CHARMS!AD88)<11,0,1)) -> 1 | K15: =IF(SUMMARY!B15=TRUE,IF(SUM(COUNTBLANK(PROBAST!J$16:J$17),COUNTBLANK(PROBAST!J$30:J$31),COUNTBLANK(PROBAST!J$44:J$45),COUNTBLANK(PROBAST!J$63))>0,0,1)) -> 1
B16: FALSE | C16: =IF(B16=TRUE,10,"") | D16: Fernández-Hidalgo (a) | E16: 2018 | F16: A pragmatic approach for mortality prediction after surgery in infective endocarditis: optimizing and refining EuroSCORE | G16: Clinical Microbiology and Infection | H16: Specific EuroSCORE-I | I16: =IF(D16="","",CONCATENATE(D16,", ",E16)) -> Fernández-Hidalgo (a), 2018 | J16: =IF(SUMMARY!B$16=TRUE,IF(SUM(CHARMS!AG13,CHARMS!AG15,CHARMS!AG29,CHARMS!AG37,CHARMS!AG44,CHARMS!AG49,CHARMS!AG52,CHARMS!AG57,CHARMS!AG78,CHARMS!AG83,CHARMS!AG88)<11,0,1)) -> FALSE | K16: =IF(SUMMARY!B16=TRUE,IF(SUM(COUNTBLANK(PROBAST!K$16:K$17),COUNTBLANK(PROBAST!K$30:K$31),COUNTBLANK(PROBAST!K$44:K$45),COUNTBLANK(PROBAST!K$63))>0,0,1)) -> FALSE
B17: FALSE | C17: =IF(B17=TRUE,11,"") | D17: Fernández-Hidalgo (b) | E17: 2018 | F17: A pragmatic approach for mortality prediction after surgery in infective endocarditis: optimizing and refining EuroSCORE | G17: Clinical Microbiology and Infection | H17: Specific EuroSCORE-II | I17: =IF(D17="","",CONCATENATE(D17,", ",E17)) -> Fernández-Hidalgo (b), 2018 | J17: =IF(SUMMARY!B$17=TRUE,IF(SUM(CHARMS!AJ13,CHARMS!AJ15,CHARMS!AJ29,CHARMS!AJ37,CHARMS!AJ44,CHARMS!AJ49,CHARMS!AJ52,CHARMS!AJ57,CHARMS!AJ78,CHARMS!AJ83,CHARMS!AJ88)<11,0,1)) -> FALSE | K17: =IF(SUMMARY!B17=TRUE,IF(SUM(COUNTBLANK(PROBAST!L$16:L$17),COUNTBLANK(PROBAST!L$30:L$31),COUNTBLANK(PROBAST!L$44:L$45),COUNTBLANK(PROBAST!L$63))>0,0,1)) -> FALSE
B18: FALSE | C18: =IF(B18=TRUE,12,"") | I18: =IF(D18="","",CONCATENATE(D18,", ",E18)) | J18: =IF(SUMMARY!B$18=TRUE,IF(SUM(CHARMS!AM13,CHARMS!AM15,CHARMS!AM29,CHARMS!AM37,CHARMS!AM44,CHARMS!AM49,CHARMS!AM52,CHARMS!AM57,CHARMS!AM78,CHARMS!AM83,CHARMS!AM88)<11,0,1)) -> FALSE | K18: =IF(SUMMARY!B18=TRUE,IF(SUM(COUNTBLANK(PROBAST!M$16:M$17),COUNTBLANK(PROBAST!M$30:M$31),COUNTBLANK(PROBAST!M$44:M$45),COUNTBLANK(PROBAST!M$63))>0,0,1)) -> FALSE
B19: FALSE | C19: =IF(B19=TRUE,13,"") | I19: =IF(D19="","",CONCATENATE(D19,", ",E19)) | J19: =IF(SUMMARY!B$19=TRUE,IF(SUM(CHARMS!AP13,CHARMS!AP15,CHARMS!AP29,CHARMS!AP37,CHARMS!AP44,CHARMS!AP49,CHARMS!AP52,CHARMS!AP57,CHARMS!AP78,CHARMS!AP83,CHARMS!AP88)<11,0,1)) -> FALSE | K19: =IF(SUMMARY!B19=TRUE,IF(SUM(COUNTBLANK(PROBAST!N$16:N$17),COUNTBLANK(PROBAST!N$30:N$31),COUNTBLANK(PROBAST!N$44:N$45),COUNTBLANK(PROBAST!N$63))>0,0,1)) -> FALSE
B20: FALSE | C20: =IF(B20=TRUE,14,"") | I20: =IF(D20="","",CONCATENATE(D20,", ",E20)) | J20: =IF(SUMMARY!B$20=TRUE,IF(SUM(CHARMS!AS13,CHARMS!AS15,CHARMS!AS29,CHARMS!AS37,CHARMS!AS44,CHARMS!AS49,CHARMS!AS52,CHARMS!AS57,CHARMS!AS78,CHARMS!AS83,CHARMS!AS88)<11,0,1)) -> FALSE | K20: =IF(SUMMARY!B20=TRUE,IF(SUM(COUNTBLANK(PROBAST!O$16:O$17),COUNTBLANK(PROBAST!O$30:O$31),COUNTBLANK(PROBAST!O$44:O$45),COUNTBLANK(PROBAST!O$63))>0,0,1)) -> FALSE
B21: FALSE | C21: =IF(B21=TRUE,15,"") | I21: =IF(D21="","",CONCATENATE(D21,", ",E21)) | J21: =IF(SUMMARY!B$21=TRUE,IF(SUM(CHARMS!AV13,CHARMS!AV15,CHARMS!AV29,CHARMS!AV37,CHARMS!AV44,CHARMS!AV49,CHARMS!AV52,CHARMS!AV57,CHARMS!AV78,CHARMS!AV83,CHARMS!AV88)<11,0,1)) -> FALSE | K21: =IF(SUMMARY!B21=TRUE,IF(SUM(COUNTBLANK(PROBAST!P$16:P$17),COUNTBLANK(PROBAST!P$30:P$31),COUNTBLANK(PROBAST!P$44:P$45),COUNTBLANK(PROBAST!P$63))>0,0,1)) -> FALSE
B22: FALSE | C22: =IF(B22=TRUE,16,"") | I22: =IF(D22="","",CONCATENATE(D22,", ",E22)) | J22: =IF(SUMMARY!B$22=TRUE,IF(SUM(CHARMS!AY13,CHARMS!AY15,CHARMS!AY29,CHARMS!AY37,CHARMS!AY44,CHARMS!AY49,CHARMS!AY52,CHARMS!AY57,CHARMS!AY78,CHARMS!AY83,CHARMS!AY88)<11,0,1)) -> FALSE | K22: =IF(SUMMARY!B22=TRUE,IF(SUM(COUNTBLANK(PROBAST!Q$16:Q$17),COUNTBLANK(PROBAST!Q$30:Q$31),COUNTBLANK(PROBAST!Q$44:Q$45),COUNTBLANK(PROBAST!Q$63))>0,0,1)) -> FALSE
B23: FALSE | C23: =IF(B23=TRUE,17,"") | I23: =IF(D23="","",CONCATENATE(D23,", ",E23)) | J23: =IF(SUMMARY!B$23=TRUE,IF(SUM(CHARMS!BB13,CHARMS!BB15,CHARMS!BB29,CHARMS!BB37,CHARMS!BB44,CHARMS!BB49,CHARMS!BB52,CHARMS!BB57,CHARMS!BB78,CHARMS!BB83,CHARMS!BB88)<11,0,1)) -> FALSE | K23: =IF(SUMMARY!B23=TRUE,IF(SUM(COUNTBLANK(PROBAST!R$16:R$17),COUNTBLANK(PROBAST!R$30:R$31),COUNTBLANK(PROBAST!R$44:R$45),COUNTBLANK(PROBAST!R$63))>0,0,1)) -> FALSE
B24: FALSE | C24: =IF(B24=TRUE,18,"") | I24: =IF(D24="","",CONCATENATE(D24,", ",E24)) | J24: =IF(SUMMARY!B$24=TRUE,IF(SUM(CHARMS!BE13,CHARMS!BE15,CHARMS!BE29,CHARMS!BE37,CHARMS!BE44,CHARMS!BE49,CHARMS!BE52,CHARMS!BE57,CHARMS!BE78,CHARMS!BE83,CHARMS!BE88)<11,0,1)) -> FALSE | K24: =IF(SUMMARY!B24=TRUE,IF(SUM(COUNTBLANK(PROBAST!S$16:S$17),COUNTBLANK(PROBAST!S$30:S$31),COUNTBLANK(PROBAST!S$44:S$45),COUNTBLANK(PROBAST!S$63))>0,0,1)) -> FALSE
B25: FALSE | C25: =IF(B25=TRUE,19,"") | I25: =IF(D25="","",CONCATENATE(D25,", ",E25)) | J25: =IF(SUMMARY!B$25=TRUE,IF(SUM(CHARMS!BH13,CHARMS!BH15,CHARMS!BH29,CHARMS!BH37,CHARMS!BH44,CHARMS!BH49,CHARMS!BH52,CHARMS!BH57,CHARMS!BH78,CHARMS!BH83,CHARMS!BH88)<11,0,1)) -> FALSE | K25: =IF(SUMMARY!B25=TRUE,IF(SUM(COUNTBLANK(PROBAST!T$16:T$17),COUNTBLANK(PROBAST!T$30:T$31),COUNTBLANK(PROBAST!T$44:T$45),COUNTBLANK(PROBAST!T$63))>0,0,1)) -> FALSE
B26: FALSE | C26: =IF(B26=TRUE,20,"") | I26: =IF(D26="","",CONCATENATE(D26,", ",E26)) | J26: =IF(SUMMARY!B$26=TRUE,IF(SUM(CHARMS!BK13,CHARMS!BK15,CHARMS!BK29,CHARMS!BK37,CHARMS!BK44,CHARMS!BK49,CHARMS!BK52,CHARMS!BK57,CHARMS!BK78,CHARMS!BK83,CHARMS!BK88)<11,0,1)) -> FALSE | K26: =IF(SUMMARY!B26=TRUE,IF(SUM(COUNTBLANK(PROBAST!U$16:U$17),COUNTBLANK(PROBAST!U$30:U$31),COUNTBLANK(PROBAST!U$44:U$45),COUNTBLANK(PROBAST!U$63))>0,0,1)) -> FALSE
B27: FALSE | C27: =IF(B27=TRUE,21,"") | I27: =IF(D27="","",CONCATENATE(D27,", ",E27)) | J27: =IF(SUMMARY!B$27=TRUE,IF(SUM(CHARMS!BN13,CHARMS!BN15,CHARMS!BN29,CHARMS!BN37,CHARMS!BN44,CHARMS!BN49,CHARMS!BN52,CHARMS!BN57,CHARMS!BN78,CHARMS!BN83,CHARMS!BN88)<11,0,1)) -> FALSE | K27: =IF(SUMMARY!B27=TRUE,IF(SUM(COUNTBLANK(PROBAST!V$16:V$17),COUNTBLANK(PROBAST!V$30:V$31),COUNTBLANK(PROBAST!V$44:V$45),COUNTBLANK(PROBAST!V$63))>0,0,1)) -> FALSE
B28: FALSE | C28: =IF(B28=TRUE,22,"") | I28: =IF(D28="","",CONCATENATE(D28,", ",E28)) | J28: =IF(SUMMARY!B$28=TRUE,IF(SUM(CHARMS!BQ13,CHARMS!BQ15,CHARMS!BQ29,CHARMS!BQ37,CHARMS!BQ44,CHARMS!BQ49,CHARMS!BQ52,CHARMS!BQ57,CHARMS!BQ78,CHARMS!BQ83,CHARMS!BQ88)<11,0,1)) -> FALSE | K28: =IF(SUMMARY!B28=TRUE,IF(SUM(COUNTBLANK(PROBAST!W$16:W$17),COUNTBLANK(PROBAST!W$30:W$31),COUNTBLANK(PROBAST!W$44:W$45),COUNTBLANK(PROBAST!W$63))>0,0,1)) -> FALSE
B29: FALSE | C29: =IF(B29=TRUE,23,"") | I29: =IF(D29="","",CONCATENATE(D29,", ",E29)) | J29: =IF(SUMMARY!B$29=TRUE,IF(SUM(CHARMS!BT13,CHARMS!BT15,CHARMS!BT29,CHARMS!BT37,CHARMS!BT44,CHARMS!BT49,CHARMS!BT52,CHARMS!BT57,CHARMS!BT78,CHARMS!BT83,CHARMS!BT88)<11,0,1)) -> FALSE | K29: =IF(SUMMARY!B29=TRUE,IF(SUM(COUNTBLANK(PROBAST!X$16:X$17),COUNTBLANK(PROBAST!X$30:X$31),COUNTBLANK(PROBAST!X$44:X$45),COUNTBLANK(PROBAST!X$63))>0,0,1)) -> FALSE
B30: FALSE | C30: =IF(B30=TRUE,24,"") | I30: =IF(D30="","",CONCATENATE(D30,", ",E30)) | J30: =IF(SUMMARY!B$30=TRUE,IF(SUM(CHARMS!BW13,CHARMS!BW15,CHARMS!BW29,CHARMS!BW37,CHARMS!BW44,CHARMS!BW49,CHARMS!BW52,CHARMS!BW57,CHARMS!BW78,CHARMS!BW83,CHARMS!BW88)<11,0,1)) -> FALSE | K30: =IF(SUMMARY!B30=TRUE,IF(SUM(COUNTBLANK(PROBAST!Y$16:Y$17),COUNTBLANK(PROBAST!Y$30:Y$31),COUNTBLANK(PROBAST!Y$44:Y$45),COUNTBLANK(PROBAST!Y$63))>0,0,1)) -> FALSE
B31: FALSE | C31: =IF(B31=TRUE,25,"") | I31: =IF(D31="","",CONCATENATE(D31,", ",E31)) | J31: =IF(SUMMARY!B$31=TRUE,IF(SUM(CHARMS!BZ$13,CHARMS!BZ$15,CHARMS!BZ$29,CHARMS!BZ$37,CHARMS!BZ$44,CHARMS!BZ$49,CHARMS!BZ$52,CHARMS!BZ$57,CHARMS!BZ$78,CHARMS!BZ$83,CHARMS!BZ$88)<11,0,1)) -> FALSE | K31: =IF(SUMMARY!B31=TRUE,IF(SUM(COUNTBLANK(PROBAST!Z$16:Z$17),COUNTBLANK(PROBAST!Z$30:Z$31),COUNTBLANK(PROBAST!Z$44:Z$45),COUNTBLANK(PROBAST!Z$63))>0,0,1)) -> FALSE
B32: FALSE | C32: =IF(B32=TRUE,26,"") | I32: =IF(D32="","",CONCATENATE(D32,", ",E32)) | J32: =IF(SUMMARY!B$32=TRUE,IF(SUM(CHARMS!CC$13,CHARMS!CC$15,CHARMS!CC$29,CHARMS!CC$37,CHARMS!CC$44,CHARMS!CC$49,CHARMS!CC$52,CHARMS!CC$57,CHARMS!CC$78,CHARMS!CC$83,CHARMS!CC$88)<11,0,1)) -> FALSE | K32: =IF(SUMMARY!B32=TRUE,IF(SUM(COUNTBLANK(PROBAST!AA$16:AA$17),COUNTBLANK(PROBAST!AA$30:AA$31),COUNTBLANK(PROBAST!AA$44:AA$45),COUNTBLANK(PROBAST!AA$63))>0,0,1)) -> FALSE
B33: FALSE | C33: =IF(B33=TRUE,27,"") | I33: =IF(D33="","",CONCATENATE(D33,", ",E33)) | J33: =IF(SUMMARY!B$33=TRUE,IF(SUM(CHARMS!CF$13,CHARMS!CF$15,CHARMS!CF$29,CHARMS!CF$37,CHARMS!CF$44,CHARMS!CF$49,CHARMS!CF$52,CHARMS!CF$57,CHARMS!CF$78,CHARMS!CF$83,CHARMS!CF$88)<11,0,1)) -> FALSE | K33: =IF(SUMMARY!B33=TRUE,IF(SUM(COUNTBLANK(PROBAST!AB$16:AB$17),COUNTBLANK(PROBAST!AB$30:AB$31),COUNTBLANK(PROBAST!AB$44:AB$45),COUNTBLANK(PROBAST!AB$63))>0,0,1)) -> FALSE
B34: FALSE | C34: =IF(B34=TRUE,28,"") | I34: =IF(D34="","",CONCATENATE(D34,", ",E34)) | J34: =IF(SUMMARY!B$34=TRUE,IF(SUM(CHARMS!CI$13,CHARMS!CI$15,CHARMS!CI$29,CHARMS!CI$37,CHARMS!CI$44,CHARMS!CI$49,CHARMS!CI$52,CHARMS!CI$57,CHARMS!CI$78,CHARMS!CI$83,CHARMS!CI$88)<11,0,1)) -> FALSE | K34: =IF(SUMMARY!B34=TRUE,IF(SUM(COUNTBLANK(PROBAST!B$16:AC$17),COUNTBLANK(PROBAST!AC$30:AC$31),COUNTBLANK(PROBAST!AC$44:AC$45),COUNTBLANK(PROBAST!AC$63))>0,0,1)) -> FALSE
B35: FALSE | C35: =IF(B35=TRUE,29,"") | I35: =IF(D35="","",CONCATENATE(D35,", ",E35)) | J35: =IF(SUMMARY!B$35=TRUE,IF(SUM(CHARMS!CL$13,CHARMS!CL$15,CHARMS!CL$29,CHARMS!CL$37,CHARMS!CL$44,CHARMS!CL$49,CHARMS!CL$52,CHARMS!CL$57,CHARMS!CL$78,CHARMS!CL$83,CHARMS!CL$88)<11,0,1)) -> FALSE | K35: =IF(SUMMARY!B35=TRUE,IF(SUM(COUNTBLANK(PROBAST!AD$16:AD$17),COUNTBLANK(PROBAST!AD$30:AD$31),COUNTBLANK(PROBAST!AD$44:AD$45),COUNTBLANK(PROBAST!AD$63))>0,0,1)) -> FALSE
B36: FALSE | C36: =IF(B36=TRUE,30,"") | I36: =IF(D36="","",CONCATENATE(D36,", ",E36)) | J36: =IF(SUMMARY!B$36=TRUE,IF(SUM(CHARMS!CO$13,CHARMS!CO$15,CHARMS!CO$29,CHARMS!CO$37,CHARMS!CO$44,CHARMS!CO$49,CHARMS!CO$52,CHARMS!CO$57,CHARMS!CO$78,CHARMS!CO$83,CHARMS!CO$88)<11,0,1)) -> FALSE | K36: =IF(SUMMARY!B36=TRUE,IF(SUM(COUNTBLANK(PROBAST!AE$16:AE$17),COUNTBLANK(PROBAST!AE$30:AE$31),COUNTBLANK(PROBAST!AE$44:AE$45),COUNTBLANK(PROBAST!AE$63))>0,0,1)) -> FALSE

Sheet CHARMS
A3: CHARMS checklist
A5: CHARMS checklist. Relevant items to extract from individual studies for purposes of description and assessment of risk of bias and applicability. (Adapted from Moons KG. 2014)
A6: Gen | B6: App | C6: RoB | D6: Domain/ Key items | F6: =IF(SUMMARY!C7="","",SUMMARY!I7) -> Bansal et al., 2020 | I6: =IF(SUMMARY!C8="","",SUMMARY!I8) -> Hamilton et al., 2021 | J6: Model 3 | K6: Model 4 | L6: =IF(SUMMARY!C9="","",SUMMARY!I9) -> Hamilton et al., 2022 | O6: =IF(SUMMARY!C10="","",SUMMARY!I10) -> Mortazavi et al., 2019 | R6: =IF(SUMMARY!C11="","",SUMMARY!I11) -> Kulkarni et al., 2021 | U6: =IF(SUMMARY!C12="","",SUMMARY!I12) -> Niimi et al., 2022 | X6: =IF(SUMMARY!C13="","",SUMMARY!I13) -> Rayfield et al., 2020 | AA6: =IF(SUMMARY!C14="","",SUMMARY!I14) -> Zhao et al., 2023 | AD6: =IF(SUMMARY!C15="","",SUMMARY!I15) -> Hurley et al., 2021 | AG6: =IF(SUMMARY!C16="","",SUMMARY!I16) | AJ6: =IF(SUMMARY!C17="","",SUMMARY!I17) | AM6: =IF(SUMMARY!C18="","",SUMMARY!I18) | AP6: =IF(SUMMARY!C19="","",SUMMARY!I19) | AS6: =IF(SUMMARY!C20="","",SUMMARY!I20) | AV6: =IF(SUMMARY!C21="","",SUMMARY!I21) | AY6: =IF(SUMMARY!C22="","",SUMMARY!I22) | BB6: =IF(SUMMARY!C23="","",SUMMARY!I23) | BE6: =IF(SUMMARY!C24="","",SUMMARY!I24) | BH6: =IF(SUMMARY!C25="","",SUMMARY!I25) | BK6: =IF(SUMMARY!C26="","",SUMMARY!I26) | BN6: =IF(SUMMARY!C27="","",SUMMARY!I27) | BQ6: =IF(SUMMARY!C28="","",SUMMARY!I28) | BT6: =IF(SUMMARY!C29="","",SUMMARY!I29) | BW6: =IF(SUMMARY!C30="","",SUMMARY!I30) | BZ6: =IF(SUMMARY!C31="","",SUMMARY!I31) | CC6: =IF(SUMMARY!C32="","",SUMMARY!I32) | CF6: =IF(SUMMARY!C33="","",SUMMARY!I33) | CI6: =IF(SUMMARY!C34="","",SUMMARY!I34) | CL6: =IF(SUMMARY!C35="","",SUMMARY!I35) | CO6: =IF(SUMMARY!C36="","",SUMMARY!I36)
A7: 0. Study information
A8: X | D8: 0.1 Author | F8: =IF(SUMMARY!$D7="","",SUMMARY!$D7) -> Bansal et al. | I8: =IF(SUMMARY!$D8="","",SUMMARY!$D8) -> Hamilton et al. | L8: =IF(SUMMARY!$D9="","",SUMMARY!$D9) -> Hamilton et al. | O8: =IF(SUMMARY!$D10="","",SUMMARY!$D10) -> Mortazavi et al. | R8: =IF(SUMMARY!$D11="","",SUMMARY!$D11) -> Kulkarni et al. | U8: =IF(SUMMARY!$D12="","",SUMMARY!$D12) -> Niimi et al. | X8: =IF(SUMMARY!$D13="","",SUMMARY!$D13) -> Rayfield et al. | AA8: =IF(SUMMARY!$D14="","",SUMMARY!$D14) -> Zhao et al. | AD8: =IF(SUMMARY!$D15="","",SUMMARY!$D15) -> Hurley et al. | AG8: =IF(SUMMARY!$D16="","",SUMMARY!$D16) -> Fernández-Hidalgo (a) | AJ8: =IF(SUMMARY!$D17="","",SUMMARY!$D17) -> Fernández-Hidalgo (b) | AM8: =IF(SUMMARY!$D18="","",SUMMARY!$D18) | AP8: =IF(SUMMARY!$D19="","",SUMMARY!$D19) | AS8: =IF(SUMMARY!$D20="","",SUMMARY!$D20) | AV8: =IF(SUMMARY!$D21="","",SUMMARY!$D21) | AY8: =IF(SUMMARY!$D22="","",SUMMARY!$D22) | BB8: =IF(SUMMARY!$D23="","",SUMMARY!$D23) | BE8: =IF(SUMMARY!$D24="","",SUMMARY!$D24) | BH8: =IF(SUMMARY!$D25="","",SUMMARY!$D25) | BK8: =IF(SUMMARY!$D26="","",SUMMARY!$D26) | BN8: =IF(SUMMARY!$D27="","",SUMMARY!$D27) | BQ8: =IF(SUMMARY!$D28="","",SUMMARY!$D28) | BT8: =IF(SUMMARY!$D29="","",SUMMARY!$D29) | BW8: =IF(SUMMARY!$D30="","",SUMMARY!$D30) | BZ8: =IF(SUMMARY!$D31="","",SUMMARY!$D31) | CC8: =IF(SUMMARY!$D32="","",SUMMARY!$D32) | CF8: =IF(SUMMARY!$D33="","",SUMMARY!$D33) | CI8: =IF(SUMMARY!$D34="","",SUMMARY!$D34) | CL8: =IF(SUMMARY!$D35="","",SUMMARY!$D35) | CO8: =IF(SUMMARY!$D36="","",SUMMARY!$D36)
A9: X | D9: 0.2 Publication year | F9: =IF(SUMMARY!$E7="","",SUMMARY!$E7) -> 2020 | I9: =IF(SUMMARY!$E8="","",SUMMARY!$E8) -> 2021 | L9: =IF(SUMMARY!$E9="","",SUMMARY!$E9) -> 2022 | O9: =IF(SUMMARY!$E10="","",SUMMARY!$E10) -> 2019 | R9: =IF(SUMMARY!$E11="","",SUMMARY!$E11) -> 2021 | U9: =IF(SUMMARY!$E12="","",SUMMARY!$E12) -> 2022 | X9: =IF(SUMMARY!$E13="","",SUMMARY!$E13) -> 2020 | AA9: =IF(SUMMARY!$E14="","",SUMMARY!$E14) -> 2023 | AD9: =IF(SUMMARY!$E15="","",SUMMARY!$E15) -> 2021 | AG9: =IF(SUMMARY!$E16="","",SUMMARY!$E16) -> 2018 | AJ9: =IF(SUMMARY!$E17="","",SUMMARY!$E17) -> 2018 | AM9: =IF(SUMMARY!$E18="","",SUMMARY!$E18) | AP9: =IF(SUMMARY!$E19="","",SUMMARY!$E19) | AS9: =IF(SUMMARY!$E20="","",SUMMARY!$E20) | AV9: =IF(SUMMARY!$E21="","",SUMMARY!$E21) | AY9: =IF(SUMMARY!$E22="","",SUMMARY!$E22) | BB9: =IF(SUMMARY!$E23="","",SUMMARY!$E23) | BE9: =IF(SUMMARY!$E24="","",SUMMARY!$E24) | BH9: =IF(SUMMARY!$E25="","",SUMMARY!$E25) | BK9: =IF(SUMMARY!$E26="","",SUMMARY!$E26) | BN9: =IF(SUMMARY!$E27="","",SUMMARY!$E27) | BQ9: =IF(SUMMARY!$E28="","",SUMMARY!$E28) | BT9: =IF(SUMMARY!$E29="","",SUMMARY!$E29) | BW9: =IF(SUMMARY!$E30="","",SUMMARY!$E30) | BZ9: =IF(SUMMARY!$E31="","",SUMMARY!$E31) | CC9: =IF(SUMMARY!$E32="","",SUMMARY!$E32) | CF9: =IF(SUMMARY!$E33="","",SUMMARY!$E33) | CI9: =IF(SUMMARY!$E34="","",SUMMARY!$E34) | CL9: =IF(SUMMARY!$E35="","",SUMMARY!$E35) | CO9: =IF(SUMMARY!$E36="","",SUMMARY!$E36)
A10: X | D10: 0.3 Publication identifier (Title/PMID/DOI) | F10: =IF(SUMMARY!$F7="","",SUMMARY!$F7) -> MACHINE LEARNING TECHNIQUES TO PREDICT IN-HOSPITAL CARDIOVASCULAR OUTCOMES IN ELDERLY PATIENTS PRESENTING WITH ACUTE MYOCARDIAL INFARCTION | I10: =IF(SUMMARY!$F8="","",SUMMARY!$F8) -> A novel tool for highly reliable and accurate prediction of multiple complications in patients undergoing percutaneous coronary intervention | L10: =IF(SUMMARY!$F9="","",SUMMARY!$F9) -> Merging Machine Learning and Patient Preference: A Contemporary, Comprehensive, Patient-Centered Tool for Risk Prediction Prior to Percutaneous Coronary Intervention | O10: =IF(SUMMARY!$F10="","",SUMMARY!$F10) -> Comparison of Machine Learning Methods With National Cardiovascular Data Registry Models for Prediction of Risk of Bleeding After Percutaneous Coronary Intervention | R10: =IF(SUMMARY!$F11="","",SUMMARY!$F11) -> Artificial intelligence in percutaneous coronary intervention: improved risk prediction of PCI-related complications using an artificial neural network | U10: =IF(SUMMARY!$F12="","",SUMMARY!$F12) -> Machine learning models for prediction of adverse events after percutaneous coronary intervention | X10: =IF(SUMMARY!$F13="","",SUMMARY!$F13) -> Machine learning on high-dimensional data to predict bleeding post percutaneous coronary intervention | AA10: =IF(SUMMARY!$F14="","",SUMMARY!$F14) -> Machine learning for prediction of bleeding in acute myocardial infarction patients after percutaneous coronary intervention | AD10: =IF(SUMMARY!$F15="","",SUMMARY!$F15) -> A dynamic model to estimate evolving risk of major bleeding after percutaneous coronary intervention | AG10: =IF(SUMMARY!$F16="","",SUMMARY!$F16) -> A pragmatic approach for mortality prediction after surgery in infective endocarditis: optimizing and refining EuroSCORE | AJ10: =IF(SUMMARY!$F17="","",SUMMARY!$F17) -> A pragmatic approach for mortality prediction after surgery in infective endocarditis: optimizing and refining EuroSCORE | AM10: =IF(SUMMARY!$F18="","",SUMMARY!$F18) | AP10: =IF(SUMMARY!$F19="","",SUMMARY!$F19) | AS10: =IF(SUMMARY!$F20="","",SUMMARY!$F20) | AV10: =IF(SUMMARY!$F21="","",SUMMARY!$F21) | AY10: =IF(SUMMARY!$F22="","",SUMMARY!$F22) | BB10: =IF(SUMMARY!$F23="","",SUMMARY!$F23) | BE10: =IF(SUMMARY!$F24="","",SUMMARY!$F24) | BH10: =IF(SUMMARY!$F25="","",SUMMARY!$F25) | BK10: =IF(SUMMARY!$F26="","",SUMMARY!$F26) | BN10: =IF(SUMMARY!$F27="","",SUMMARY!$F27) | BQ10: =IF(SUMMARY!$F28="","",SUMMARY!$F28) | BT10: =IF(SUMMARY!$F29="","",SUMMARY!$F29) | BW10: =IF(SUMMARY!$F30="","",SUMMARY!$F30) | BZ10: =IF(SUMMARY!$F31="","",SUMMARY!$F31) | CC10: =IF(SUMMARY!$F32="","",SUMMARY!$F32) | CF10: =IF(SUMMARY!$F33="","",SUMMARY!$F33) | CI10: =IF(SUMMARY!$F34="","",SUMMARY!$F34) | CL10: =IF(SUMMARY!$F35="","",SUMMARY!$F35) | CO10: =IF(SUMMARY!$F36="","",SUMMARY!$F36)
A11: X | D11: 0.4 Publication journal | F11: =IF(SUMMARY!$G7="","",SUMMARY!$G7) -> Journal of the American College of Cardiology | I11: =IF(SUMMARY!$G8="","",SUMMARY!$G8) -> Circulation | L11: =IF(SUMMARY!$G9="","",SUMMARY!$G9) -> Circulation | O11: =IF(SUMMARY!$G10="","",SUMMARY!$G10) -> JAMA network open | R11: =IF(SUMMARY!$G11="","",SUMMARY!$G11) -> BMJ Innovations | U11: =IF(SUMMARY!$G12="","",SUMMARY!$G12) -> Scientific Reports | X11: =IF(SUMMARY!$G13="","",SUMMARY!$G13) -> Journal of Invasive Cardiology | AA11: =IF(SUMMARY!$G14="","",SUMMARY!$G14) -> Therapeutic advances in chronic disease | AD11: =IF(SUMMARY!$G15="","",SUMMARY!$G15) -> medRxiv | AG11: =IF(SUMMARY!$G16="","",SUMMARY!$G16) -> Clinical Microbiology and Infection | AJ11: =IF(SUMMARY!$G17="","",SUMMARY!$G17) -> Clinical Microbiology and Infection | AM11: =IF(SUMMARY!$G18="","",SUMMARY!$G18) | AP11: =IF(SUMMARY!$G19="","",SUMMARY!$G19) | AS11: =IF(SUMMARY!$G20="","",SUMMARY!$G20) | AV11: =IF(SUMMARY!$G21="","",SUMMARY!$G21) | AY11: =IF(SUMMARY!$G22="","",SUMMARY!$G22) | BB11: =IF(SUMMARY!$G23="","",SUMMARY!$G23) | BE11: =IF(SUMMARY!$G24="","",SUMMARY!$G24) | BH11: =IF(SUMMARY!$G25="","",SUMMARY!$G25) | BK11: =IF(SUMMARY!$G26="","",SUMMARY!$G26) | BN11: =IF(SUMMARY!$G27="","",SUMMARY!$G27) | BQ11: =IF(SUMMARY!$G28="","",SUMMARY!$G28) | BT11: =IF(SUMMARY!$G29="","",SUMMARY!$G29) | BW11: =IF(SUMMARY!$G30="","",SUMMARY!$G30) | BZ11: =IF(SUMMARY!$G31="","",SUMMARY!$G31) | CC11: =IF(SUMMARY!$G32="","",SUMMARY!$G32) | CF11: =IF(SUMMARY!$G33="","",SUMMARY!$G33) | CI11: =IF(SUMMARY!$G34="","",SUMMARY!$G34) | CL11: =IF(SUMMARY!$G35="","",SUMMARY!$G35) | CO11: =IF(SUMMARY!$G36="","",SUMMARY!$G36)
A12: X | D12: 0.5 Model name | F12: =IF(SUMMARY!$H7="","",SUMMARY!$H7) -> XGBoost | I12: =IF(SUMMARY!$H8="","",SUMMARY!$H8) -> Random Forest | L12: =IF(SUMMARY!$H9="","",SUMMARY!$H9) -> XGBoost | O12: =IF(SUMMARY!$H10="","",SUMMARY!$H10) -> Blended model with gradient descent boosting | R12: =IF(SUMMARY!$H11="","",SUMMARY!$H11) -> MLP | U12: =IF(SUMMARY!$H12="","",SUMMARY!$H12) -> XGBoost | X12: =IF(SUMMARY!$H13="","",SUMMARY!$H13) -> AI-BR model | AA12: =IF(SUMMARY!$H14="","",SUMMARY!$H14) -> XGBoost | AD12: =IF(SUMMARY!$H15="","",SUMMARY!$H15) -> XGBoost | AG12: =IF(SUMMARY!$H16="","",SUMMARY!$H16) -> Specific EuroSCORE-I | AJ12: =IF(SUMMARY!$H17="","",SUMMARY!$H17) -> Specific EuroSCORE-II | AM12: =IF(SUMMARY!$H18="","",SUMMARY!$H18) | AP12: =IF(SUMMARY!$H19="","",SUMMARY!$H19) | AS12: =IF(SUMMARY!$H20="","",SUMMARY!$H20) | AV12: =IF(SUMMARY!$H21="","",SUMMARY!$H21) | AY12: =IF(SUMMARY!$H22="","",SUMMARY!$H22) | BB12: =IF(SUMMARY!$H23="","",SUMMARY!$H23) | BE12: =IF(SUMMARY!$H24="","",SUMMARY!$H24) | BH12: =IF(SUMMARY!$H25="","",SUMMARY!$H25) | BK12: =IF(SUMMARY!$H26="","",SUMMARY!$H26) | BN12: =IF(SUMMARY!$H27="","",SUMMARY!$H27) | BQ12: =IF(SUMMARY!$H28="","",SUMMARY!$H28) | BT12: =IF(SUMMARY!$H29="","",SUMMARY!$H29) | BW12: =IF(SUMMARY!$H30="","",SUMMARY!$H30) | BZ12: =IF(SUMMARY!$H31="","",SUMMARY!$H31) | CC12: =IF(SUMMARY!$H32="","",SUMMARY!$H32) | CF12: =IF(SUMMARY!$H33="","",SUMMARY!$H33) | CI12: =IF(SUMMARY!$H34="","",SUMMARY!$H34) | CL12: =IF(SUMMARY!$H35="","",SUMMARY!$H35) | CO12: =IF(SUMMARY!$H36="","",SUMMARY!$H36)
A13: 1. Source of data | F13: =IF(SUMMARY!$B$7=TRUE,IF(F14="",0,1),"") -> 1 | I13: =IF(SUMMARY!$B$8=TRUE,IF(I14="",0,1),"") -> 1 | L13: =IF(SUMMARY!$B$9=TRUE,IF(L14="",0,1),"") -> 1 | O13: =IF(SUMMARY!$B$10=TRUE,IF(O14="",0,1),"") -> 1 | R13: =IF(SUMMARY!$B$11=TRUE,IF(R14="",0,1),"") -> 1 | U13: =IF(SUMMARY!$B$12=TRUE,IF(U14="",0,1),"") -> 1 | X13: =IF(SUMMARY!$B$13=TRUE,IF(X14="",0,1),"") -> 1 | AA13: =IF(SUMMARY!$B$14=TRUE,IF(AA14="",0,1),"") -> 1 | AD13: =IF(SUMMARY!$B$15=TRUE,IF(AD14="",0,1),"") -> 1 | AG13: =IF(SUMMARY!$B$16=TRUE,IF(AG14="",0,1),"") | AJ13: =IF(SUMMARY!$B$17=TRUE,IF(AJ14="",0,1),"") | AM13: =IF(SUMMARY!$B$18=TRUE,IF(AM14="",0,1),"") | AP13: =IF(SUMMARY!$B$19=TRUE,IF(AP14="",0,1),"") | AS13: =IF(SUMMARY!$B$20=TRUE,IF(AS14="",0,1),"") | AV13: =IF(SUMMARY!$B$21=TRUE,IF(AV14="",0,1),"") | AY13: =IF(SUMMARY!$B$22=TRUE,IF(AY14="",0,1),"") | BB13: =IF(SUMMARY!$B$23=TRUE,IF(BB14="",0,1),"") | BE13: =IF(SUMMARY!$B$24=TRUE,IF(BE14="",0,1),"") | BH13: =IF(SUMMARY!$B$25=TRUE,IF(BH14="",0,1),"") | BK13: =IF(SUMMARY!$B$26=TRUE,IF(BK14="",0,1),"") | BN13: =IF(SUMMARY!$B$27=TRUE,IF(BN14="",0,1),"") | BQ13: =IF(SUMMARY!$B$28=TRUE,IF(BQ14="",0,1),"") | BT13: =IF(SUMMARY!$B$29=TRUE,IF(BT14="",0,1),"") | BW13: =IF(SUMMARY!$B$30=TRUE,IF(BW14="",0,1),"") | BZ13: =IF(SUMMARY!$B$31=TRUE,IF(BZ14="",0,1),"") | CC13: =IF(SUMMARY!$B$32=TRUE,IF(CC14="",0,1),"") | CF13: =IF(SUMMARY!$B$33=TRUE,IF(CF14="",0,1),"") | CI13: =IF(SUMMARY!$B$34=TRUE,IF(CI14="",0,1),"") | CL13: =IF(SUMMARY!$B$35=TRUE,IF(CL14="",0,1),"") | CO13: =IF(SUMMARY!$B$36=TRUE,IF(CO14="",0,1),"")
B14: X | C14: X | D14: 1.1 Source of data | F14: Existing registry | I14: Existing registry | L14: Existing registry | O14: Existing registry | R14: Existing registry | U14: Existing registry | X14: Existing registry | AA14: Existing registry | AD14: Existing registry | AG14: Retrospective cohort | AJ14: Retrospective cohort
A15: 2. Participants | F15: =IF(SUMMARY!$B$7=TRUE,IF(AND(COUNTBLANK(F16:F22)=0,COUNTBLANK(F24:F28)<5),1,0),"") -> 1 | I15: =IF(SUMMARY!$B$8=TRUE,IF(AND(COUNTBLANK(I16:I22)=0,COUNTBLANK(I24:I28)<5),1,0),"") -> 1 | L15: =IF(SUMMARY!$B$9=TRUE,IF(AND(COUNTBLANK(L16:L22)=0,COUNTBLANK(L24:L28)<5),1,0),"") -> 1 | O15: =IF(SUMMARY!$B$10=TRUE,IF(AND(COUNTBLANK(O16:O22)=0,COUNTBLANK(O24:O28)<5),1,0),"") -> 1 | R15: =IF(SUMMARY!$B$11=TRUE,IF(AND(COUNTBLANK(R16:R22)=0,COUNTBLANK(R24:R28)<5),1,0),"") -> 1 | U15: =IF(SUMMARY!$B$12=TRUE,IF(AND(COUNTBLANK(U16:U22)=0,COUNTBLANK(U24:U28)<5),1,0),"") -> 1 | X15: =IF(SUMMARY!$B$13=TRUE,IF(AND(COUNTBLANK(X16:X22)=0,COUNTBLANK(X24:X28)<5),1,0),"") -> 1 | AA15: =IF(SUMMARY!$B$14=TRUE,IF(AND(COUNTBLANK(AA16:AA22)=0,COUNTBLANK(AA24:AA28)<5),1,0),"") -> 1 | AD15: =IF(SUMMARY!$B$15=TRUE,IF(AND(COUNTBLANK(AD16:AD22)=0,COUNTBLANK(AD24:AD28)<5),1,0),"") -> 1 | AG15: =IF(SUMMARY!$B$16=TRUE,IF(AND(COUNTBLANK(AG16:AG22)=0,COUNTBLANK(AG24:AG28)<5),1,0),"") | AJ15: =IF(SUMMARY!$B$17=TRUE,IF(AND(COUNTBLANK(AJ16:AJ22)=0,COUNTBLANK(AJ24:AJ28)<5),1,0),"") | AM15: =IF(SUMMARY!$B$18=TRUE,IF(AND(COUNTBLANK(AM16:AM22)=0,COUNTBLANK(AM24:AM28)<5),1,0),"") | AP15: =IF(SUMMARY!$B$19=TRUE,IF(AND(COUNTBLANK(AP16:AP22)=0,COUNTBLANK(AP24:AP28)<5),1,0),"") | AS15: =IF(SUMMARY!$B$20=TRUE,IF(AND(COUNTBLANK(AS16:AS22)=0,COUNTBLANK(AS24:AS28)<5),1,0),"") | AV15: =IF(SUMMARY!$B$21=TRUE,IF(AND(COUNTBLANK(AV16:AV22)=0,COUNTBLANK(AV24:AV28)<5),1,0),"") | AY15: =IF(SUMMARY!$B$22=TRUE,IF(AND(COUNTBLANK(AY16:AY22)=0,COUNTBLANK(AY24:AY28)<5),1,0),"") | BB15: =IF(SUMMARY!$B$23=TRUE,IF(AND(COUNTBLANK(BB16:BB22)=0,COUNTBLANK(BB24:BB28)<5),1,0),"") | BE15: =IF(SUMMARY!$B$24=TRUE,IF(AND(COUNTBLANK(BE16:BE22)=0,COUNTBLANK(BE24:BE28)<5),1,0),"") | BH15: =IF(SUMMARY!$B$25=TRUE,IF(AND(COUNTBLANK(BH16:BH22)=0,COUNTBLANK(BH24:BH28)<5),1,0),"") | BK15: =IF(SUMMARY!$B$26=TRUE,IF(AND(COUNTBLANK(BK16:BK22)=0,COUNTBLANK(BK24:BK28)<5),1,0),"") | BN15: =IF(SUMMARY!$B$27=TRUE,IF(AND(COUNTBLANK(BN16:BN22)=0,COUNTBLANK(BN24:BN28)<5),1,0),"") | BQ15: =IF(SUMMARY!$B$28=TRUE,IF(AND(COUNTBLANK(BQ16:BQ22)=0,COUNTBLANK(BQ24:BQ28)<5),1,0),"") | BT15: =IF(SUMMARY!$B$29=TRUE,IF(AND(COUNTBLANK(BT16:BT22)=0,COUNTBLANK(BT24:BT28)<5),1,0),"") | BW15: =IF(SUMMARY!$B$30=TRUE,IF(AND(COUNTBLANK(BW16:BW22)=0,COUNTBLANK(BW24:BW28)<5),1,0),"") | BZ15: =IF(SUMMARY!$B$31=TRUE,IF(AND(COUNTBLANK(BZ16:BZ22)=0,COUNTBLANK(BZ24:BZ28)<5),1,0),"") | CC15: =IF(SUMMARY!$B$32=TRUE,IF(AND(COUNTBLANK(CC16:CC22)=0,COUNTBLANK(CC24:CC28)<5),1,0),"") | CF15: =IF(SUMMARY!$B$33=TRUE,IF(AND(COUNTBLANK(CF16:CF22)=0,COUNTBLANK(CF24:CF28)<5),1,0),"") | CI15: =IF(SUMMARY!$B$34=TRUE,IF(AND(COUNTBLANK(CI16:CI22)=0,COUNTBLANK(CI24:CI28)<5),1,0),"") | CL15: =IF(SUMMARY!$B$35=TRUE,IF(AND(COUNTBLANK(CL16:CL22)=0,COUNTBLANK(CL24:CL28)<5),1,0),"") | CO15: =IF(SUMMARY!$B$36=TRUE,IF(AND(COUNTBLANK(CO16:CO22)=0,COUNTBLANK(CO24:CO28)<5),1,0),"")
A16: x | B16: X | D16: 2.1 Recruitment method | F16: No information | I16: No information | L16: No information | O16: No information | R16: No information | U16: No information | X16: No information | AA16: No information | AD16: No information | AG16: Consecutive patients | AJ16: Consecutive patients
A17: X | B17: X | D17: 2.2 Recruitment dates | F17: 2005-2018 | I17: 2018-2020 | L17: 2018-2020 | O17: 2015-2017 | R17: 2009-2018 | U17: 2008-2020 | X17: 2006-2017 | AA17: 2013-2016 | AD17: 2009-2015 | AG17: 2000 - 2011 | AJ17: 2000 - 2011
A18: X | B18: X | D18: 2.3 Study setting | F18: Cleveland Clinic CathPCI | I18: BMC2 registry | L18: BMC2 registry | O18: NCDR Cath PCI 4.4 | R18: NCDR Cath PCI for BJC | U18: JCD-KiCS registry | X18: MayoClinic Health Systems | AA18: CAMI registry | AD18: NCDR CathPCI | AG18: Cardiac surgery centers | AJ18: Cardiac surgery centers
A19: X | B19: X | D19: 2.4 Study sites (Regions) | F19: USA | I19: USA | L19: USA | O19: USA | R19: USA | U19: Japan | X19: USA | AA19: China | AD19: USA | AG19: Spain | AJ19: Spain
A20: X | B20: X | D20: 2.5 Study sites (Number of centers) | F20: 1 | I20: 48 | L20: 48 | O20: 1561 | R20: 7 | U20: 15 | X20: 4 | AA20: Multicenter | AD20: 1561 | AG20: 9 | AJ20: 9
A21: X | B21: X | D21: 2.6 Criteria inclusion | F21: Patients >70 years presenting with acute myocardial infarction | I21: PCI patients | L21: PCI patients | O21: PCI patients | R21: PCI patients | U21: PCI patients | X21: PCI patients | AA21: AMI patients undergoing PCI | AD21: PCI patients | AG21: Patients who requiring cardiac surgery during the active phase of infection (while on antimicrobial therapy). | AJ21: Patients who requiring cardiac surgery during the active phase of infection (while on antimicrobial therapy).
A22: X | B22: X | D22: 2.7 Criteria exclusion | F22: No information | I22: No information | L22: No information | O22: Percutaneous coronary intervention procedures were excluded if they were not the index PCI of admission, if the hospital site had missing outcomes measures, or if the patient underwent subsequent coronary artery bypass grafting. | R22: No information | U22: excluded patients with missing indications (n = 967), those without pre- and post-procedure hemoglobin (n = 901), and those without pre- and post-procedure serum creatinine (n = 22) (analytic cohort), Missing for Hgb (6474) | X22: Any Missing data | AA22: not received PCI, only received BMS, not received DAPT | AD22: we excluded patients during readmissions, who died in the hospital, who had missing data regarding if they had any bleeding events, or who underwent coronary artery bypass grafting (CABG) during the index admission | AG22: IE cases exclusively involving pacemaker leads were not considered. Only the first episode of IE recorded for an individual patient was used. | AJ22: IE cases exclusively involving pacemaker leads were not considered. Only the first episode of IE recorded for an individual patient was used.
A23: X | B23: X | D23: 2.8 Participant description | E23: Characteristics | F23: Values | H23: Measures | I23: Values | K23: Measures | L23: Values | N23: Measures | O23: Values | Q23: Measures | R23: Values | T23: Measures | U23: Values | W23: Measures | X23: Values | Z23: Measures | AA23: Values | AC23: Measures | AD23: Values | AF23: Measures | AG23: Values | AI23: Measures | AJ23: Values | AL23: Measures | AM23: Values | AO23: Measures | AP23: Values | AR23: Measures | AS23: Values | AU23: Measures | AV23: Values | AX23: Measures | AY23: Values | BA23: Measures | BB23: Values | BD23: Measures | BE23: Values | BG23: Measures | BH23: Values | BJ23: Measures | BK23: Values | BM23: Measures | BN23: Values | BP23: Measures | BQ23: Values | BS23: Measures | BT23: Values | BV23: Measures | BW23: Values | BY23: Measures | BZ23: Values | CB23: Measures | CC23: Values | CE23: Measures | CF23: Values | CH23: Measures | CI23: Values | CK23: Measures | CL23: Values | CN23: Measures | CO23: Values | CQ23: Measures
A24: X | B24: X | D24: =IF(E24="","2.8.1 Characteristic 1", CONCATENATE("2.8.1 ", E24)) -> 2.8.1 Age of participants | E24: Age of participants | F24: 77 | H24: Median (IQR) | I24: NI | K24: Other | L24: NI | N24: Other | O24: 65 (56-73) | Q24: Median (IQR) | R24: 65.6 (12) | T24: Mean (sd) | U24: 70 (62-77) | W24: Median (IQR) | X24: 67 (58-77) | Z24: Median (IQR) | AA24: 60.08 (12.64) | AC24: Mean (sd) | AD24: 64.6 (12) | AF24: Mean (sd) | AG24: 58 (15.1) | AI24: Mean (sd) | AJ24: 58 (15.1) | AL24: Mean (sd)
A25: X | B25: X | D25: =IF(E25="","2.8.2 Characteristic 2", CONCATENATE("2.8.2 ", E25)) -> 2.8.2 CAD type | E25: CAD type | F25: Acute MI | H25: Other | I25: NI | K25: Other | L25: NI | N25: Other | O25: NI | Q25: Other | R25: Stable IHD + ACS | T25: Other | U25: ACS+SIHD | W25: Other | X25: 2.221 (82) | Z25: Other | AA25: 103 (74.6) | AC25: Other | AD25: 259 (61.1) | AF25: Other | AG25: No information | AI25: No information | AJ25: No information | AL25: No information
A26: X | B26: X | D26: =IF(E26="","2.8.3 Characteristic 3", CONCATENATE("2.8.3 ", E26)) -> 2.8.3 PCI type | E26: PCI type | F26: PCI | H26: Other | I26: PCI | K26: Other | L26: PCI | N26: Other | O26: PCI | Q26: Other | R26: PCI | T26: Other | U26: PCI | W26: Other | X26: PCI | Z26: Other | AA26: PCI | AC26: Other | AD26: PCI | AF26: Other | AG26: All | AI26: Other | AJ26: All | AL26: Other
A27: X | B27: X | D27: =IF(E27="","2.8.4 Characteristic 4", CONCATENATE("2.8.4 ", E27)) -> 2.8.4 Characteristic 4
A28: X | B28: X | D28: =IF(E28="","2.8.5 Characteristic 5", CONCATENATE("2.8.5 ", E28)) -> 2.8.5 Characteristic 5
A29: 3. Outcome to be predicted | F29: =IF(SUMMARY!$B$7=TRUE,IF(COUNTBLANK(F30:F36)>0,0,1),"") -> 1 | I29: =IF(SUMMARY!$B$8=TRUE,IF(COUNTBLANK(I30:I36)>0,0,1),"") -> 1 | L29: =IF(SUMMARY!$B$9=TRUE,IF(COUNTBLANK(L30:L36)>0,0,1),"") -> 1 | O29: =IF(SUMMARY!$B$10=TRUE,IF(COUNTBLANK(O30:O36)>0,0,1),"") -> 1 | R29: =IF(SUMMARY!$B$11=TRUE,IF(COUNTBLANK(R30:R36)>0,0,1),"") -> 1 | U29: =IF(SUMMARY!$B$12=TRUE,IF(COUNTBLANK(U30:U36)>0,0,1),"") -> 1 | X29: =IF(SUMMARY!$B$13=TRUE,IF(COUNTBLANK(X30:X36)>0,0,1),"") -> 1 | AA29: =IF(SUMMARY!$B$14=TRUE,IF(COUNTBLANK(AA30:AA36)>0,0,1),"") -> 1 | AD29: =IF(SUMMARY!$B$15=TRUE,IF(COUNTBLANK(AD30:AD36)>0,0,1),"") -> 1 | AG29: =IF(SUMMARY!$B$16=TRUE,IF(COUNTBLANK(AG30:AG36)>0,0,1),"") | AJ29: =IF(SUMMARY!$B$17=TRUE,IF(COUNTBLANK(AJ30:AJ36)>0,0,1),"") | AM29: =IF(SUMMARY!$B$18=TRUE,IF(COUNTBLANK(AM30:AM36)>0,0,1),"") | AP29: =IF(SUMMARY!$B$19=TRUE,IF(COUNTBLANK(AP30:AP36)>0,0,1),"") | AS29: =IF(SUMMARY!$B$20=TRUE,IF(COUNTBLANK(AS30:AS36)>0,0,1),"") | AV29: =IF(SUMMARY!$B$21=TRUE,IF(COUNTBLANK(AV30:AV36)>0,0,1),"") | AY29: =IF(SUMMARY!$B$22=TRUE,IF(COUNTBLANK(AY30:AY36)>0,0,1),"") | BB29: =IF(SUMMARY!$B$23=TRUE,IF(COUNTBLANK(BB30:BB36)>0,0,1),"") | BE29: =IF(SUMMARY!$B$24=TRUE,IF(COUNTBLANK(BE30:BE36)>0,0,1),"") | BH29: =IF(SUMMARY!$B$25=TRUE,IF(COUNTBLANK(BH30:BH36)>0,0,1),"") | BK29: =IF(SUMMARY!$B$26=TRUE,IF(COUNTBLANK(BK30:BK36)>0,0,1),"") | BN29: =IF(SUMMARY!$B$27=TRUE,IF(COUNTBLANK(BN30:BN36)>0,0,1),"") | BQ29: =IF(SUMMARY!$B$28=TRUE,IF(COUNTBLANK(BQ30:BQ36)>0,0,1),"") | BT29: =IF(SUMMARY!$B$29=TRUE,IF(COUNTBLANK(BT30:BT36)>0,0,1),"") | BW29: =IF(SUMMARY!$B$30=TRUE,IF(COUNTBLANK(BW30:BW36)>0,0,1),"") | BZ29: =IF(SUMMARY!$B$31=TRUE,IF(COUNTBLANK(BZ30:BZ36)>0,0,1),"") | CC29: =IF(SUMMARY!$B$32=TRUE,IF(COUNTBLANK(CC30:CC36)>0,0,1),"") | CF29: =IF(SUMMARY!$B$33=TRUE,IF(COUNTBLANK(CF30:CF36)>0,0,1),"") | CI29: =IF(SUMMARY!$B$34=TRUE,IF(COUNTBLANK(CI30:CI36)>0,0,1),"") | CL29: =IF(SUMMARY!$B$35=TRUE,IF(COUNTBLANK(CL30:CL36)>0,0,1),"") | CO29: =IF(SUMMARY!$B$36=TRUE,IF(COUNTBLANK(CO30:CO36)>0,0,1),"")
B30: X | C30: X | D30: 3.1 Outcome | F30: In-hospital bleeding | I30: In-hospital bleeding | L30: In-hospital bleeding | O30: In-hospital Bleeding | R30: In-hospital Bleeding | U30: In-hospital Bleeding | X30: In-hospital Bleeding | AA30: In-hospital Bleeding | AD30: In-hospital Bleeding | AG30: 30 days mortality | AJ30: 30 days mortality
B31: X | C31: X | D31: 3.2 Outcome definition | F31: No information | I31: In-hospital bleeding | L31: In-hospital bleeding | O31: 1) Major bleeding occurring within 72 hours after the PCI or before discharge is said to have occurred if there is a site-reported bleed (external or hematoma >10 cm, >5 cm, and >2 cm for femoral, brachial, and radial access, respectively); 2) Bleeds reflecting a post-PCI hemoglobin decrease of 3 g/dL in patients with a pre-PCI level of at least 16 g/dL; 3) Any non-surgery blood transfusion for pre procedure hemoglobin levels of at least 8 g/dL; 4) intracranial hemorrhage, cardiac tamponade, and gastrointestinal or retroperitoneal bleeding. | R31: any ONE of the following: (1) bleeding event w/in 72 hours; OR (2) haemorrhagic stroke; OR (3) tamponade; OR (4) post-PCI transfusion for patients with a pre-procedure haemoglobin >80 g/L and pre-procedure haemoglobin not missing; OR (5) absolute haemoglobin decrease from pre-PCI to post-PCI of ≥30 g/L AND pre-procedure haemoglobin ≤160 g/L AND pre-procedure haemoglobin not missing | U31: Bleeding was defined as any of the following occurring within 72 h after PCI or before hospital discharge (whichever occurs first): site-reported arterial access site bleeding; retroperitoneal, gastrointestinal, genitourinary bleeding, intracranial hemorrhage, cardiac tamponade, or post-procedure hemoglobin decrease of 3 g/dl in patients with pre-procedure haemoglobin ≤ 16 g/dl, or post procedure non-bypass surgery-related blood transfusion for patients with a pre-procedure haemoglobin ≥ 8 g/dl. | X31: bleeding within 72 hours of PCI and prior to hospital discharge. Bleeding was defined according to the National Cardiovascular Data Registry (NCDR), which considers retroperitoneal, gastrointestinal, genitourinary, and intracranial bleeding, as well as access-site hematoma, as bleeding events. | AA31: BARC type 3 or 5 of non-coronary artery bypass grafting–related bleeding | AD31: Bleeding was defined using the definition employed in prior NCDR risk models as a hemoglobin drop ≥ 3 g/dL, whole blood or packed red blood cell transfusion, or intervention/surgery at the bleeding site to reverse/stop or correct bleeding. | AG31: Death occurring within the first 30 days after cardiac surgery. | AJ31: Death occurring within the first 30 days after cardiac surgery.
C32: X | D32: 3.3 Same outcome definition for all participants | F32: Yes | I32: No information | L32: No information | O32: Yes | R32: Yes | U32: Yes | X32: Yes | AA32: Yes | AD32: Yes | AG32: Yes | AJ32: Yes
A33: X | B33: X | D33: 3.4 Type of outcome | F33: Single | I33: Single | L33: Single | O33: Single | R33: Single | U33: Single | X33: Single | AA33: Single | AD33: Single | AG33: Single | AJ33: Single
C34: X | D34: 3.5 Was the outcome assessed without knowledge of the predictors? | F34: No information | I34: No information | L34: No information | O34: No information | R34: No information | U34: No information | X34: No information | AA34: No information | AD34: No information | AG34: Unclear | AJ34: Unclear
C35: X | D35: 3.6 Were candidate predictors part of outcome? | F35: No information | I35: No information | L35: No information | O35: No | R35: No | U35: No | X35: No information | AA35: No information | AD35: No information | AG35: No | AJ35: No
B36: X | D36: 3.7 Time of outcome ocurrence | F36: In hospital | I36: In hospital | L36: In hospital | O36: In hospital | R36: In hospital | U36: In hospital | X36: In hospital | AA36: In hospital | AD36: In hospital | AG36: 30 days | AJ36: 30 days
A37: 4. Candidate predictors | F37: =IF(SUMMARY!$B$7=TRUE,IF(COUNTBLANK(F38:F43)>0,0,1),"") -> 1 | I37: =IF(SUMMARY!$B$8=TRUE,IF(COUNTBLANK(I38:I43)>0,0,1),"") -> 1 | L37: =IF(SUMMARY!$B$9=TRUE,IF(COUNTBLANK(L38:L43)>0,0,1),"") -> 1 | O37: =IF(SUMMARY!$B$10=TRUE,IF(COUNTBLANK(O38:O43)>0,0,1),"") -> 1 | R37: =IF(SUMMARY!$B$11=TRUE,IF(COUNTBLANK(R38:R43)>0,0,1),"") -> 1 | U37: =IF(SUMMARY!$B$12=TRUE,IF(COUNTBLANK(U38:U43)>0,0,1),"") -> 1 | X37: =IF(SUMMARY!$B$13=TRUE,IF(COUNTBLANK(X38:X43)>0,0,1),"") -> 1 | AA37: =IF(SUMMARY!$B$14=TRUE,IF(COUNTBLANK(AA38:AA43)>0,0,1),"") -> 1 | AD37: =IF(SUMMARY!$B$15=TRUE,IF(COUNTBLANK(AD38:AD43)>0,0,1),"") -> 1 | AG37: =IF(SUMMARY!$B$16=TRUE,IF(COUNTBLANK(AG38:AG43)>0,0,1),"") | AJ37: =IF(SUMMARY!$B$17=TRUE,IF(COUNTBLANK(AJ38:AJ43)>0,0,1),"") | AM37: =IF(SUMMARY!$B$18=TRUE,IF(COUNTBLANK(AM38:AM43)>0,0,1),"") | AP37: =IF(SUMMARY!$B$19=TRUE,IF(COUNTBLANK(AP38:AP43)>0,0,1),"") | AS37: =IF(SUMMARY!$B$20=TRUE,IF(COUNTBLANK(AS38:AS43)>0,0,1),"") | AV37: =IF(SUMMARY!$B$21=TRUE,IF(COUNTBLANK(AV38:AV43)>0,0,1),"") | AY37: =IF(SUMMARY!$B$22=TRUE,IF(COUNTBLANK(AY38:AY43)>0,0,1),"") | BB37: =IF(SUMMARY!$B$23=TRUE,IF(COUNTBLANK(BB38:BB43)>0,0,1),"") | BE37: =IF(SUMMARY!$B$24=TRUE,IF(COUNTBLANK(BE38:BE43)>0,0,1),"") | BH37: =IF(SUMMARY!$B$25=TRUE,IF(COUNTBLANK(BH38:BH43)>0,0,1),"") | BK37: =IF(SUMMARY!$B$26=TRUE,IF(COUNTBLANK(BK38:BK43)>0,0,1),"") | BN37: =IF(SUMMARY!$B$27=TRUE,IF(COUNTBLANK(BN38:BN43)>0,0,1),"") | BQ37: =IF(SUMMARY!$B$28=TRUE,IF(COUNTBLANK(BQ38:BQ43)>0,0,1),"") | BT37: =IF(SUMMARY!$B$29=TRUE,IF(COUNTBLANK(BT38:BT43)>0,0,1),"") | BW37: =IF(SUMMARY!$B$30=TRUE,IF(COUNTBLANK(BW38:BW43)>0,0,1),"") | BZ37: =IF(SUMMARY!$B$31=TRUE,IF(COUNTBLANK(BZ38:BZ43)>0,0,1),"") | CC37: =IF(SUMMARY!$B$32=TRUE,IF(COUNTBLANK(CC38:CC43)>0,0,1),"") | CF37: =IF(SUMMARY!$B$33=TRUE,IF(COUNTBLANK(CF38:CF43)>0,0,1),"") | CI37: =IF(SUMMARY!$B$34=TRUE,IF(COUNTBLANK(CI38:CI43)>0,0,1),"") | CL37: =IF(SUMMARY!$B$35=TRUE,IF(COUNTBLANK(CL38:CL43)>0,0,1),"") | CO37: =IF(SUMMARY!$B$36=TRUE,IF(COUNTBLANK(CO38:CO43)>0,0,1),"")
A38: X | D38: 4.1 Number of candidate predictors (or parameters) assessed | F38: 0 | I38: 74 | L38: 74 | O38: 0 | R38: 100 | U38: 9 | X38: 86 | AA38: 90 | AD38: 0 | AG38: 26 | AJ38: 27
A39: X | D39: 4.2 Type of predictors | F39: No information | I39: pre-procedural clinical and laboratory | L39: pre-procedural clinical and laboratory | O39: pre-procedural and diagnostic cath | R39: clinical, laboratory and PCI characteristics | U39: clinical, laboratory and PCI status | X39: clinical, laboratory and PCI characteristics | AA39: clinical, laboratory and PCI characteristics | AD39: Pre-PCI and PCI characteristics | AG39: Patient, surgery and IE related factors | AJ39: Patient, surgery and IE related factors
B40: X | D40: 4.3 Timing of predictors measurement | F40: No information | I40: No information | L40: No information | O40: pre- and post-procedural | R40: pre- and post-procedural | U40: pre-procedural | X40: pre-procedural and procedural | AA40: pre-procedural and procedural | AD40: Pre-operative | AG40: Pre-operative | AJ40: Pre-operative
C41: X | D41: 4.4 Predictors definition and measurement similar for all participants | F41: No information | I41: No information | L41: No information | O41: Yes | R41: Yes | U41: Yes | X41: Yes | AA41: Yes | AD41: Yes | AG41: No | AJ41: No
C42: X | D42: 4.5 Were predictors assessed blinded for outcome? | F42: No information | I42: No information | L42: No information | O42: No information | R42: No information | U42: No information | X42: No information | AA42: No information | AD42: No information | AG42: No information | AJ42: No information
C43: X | D43: 4.6 Handling of continuous predictors | F43: No information | I43: No information | L43: Dichotomization | O43: categorized and continuous | R43: No categorization | U43: No categorization | X43: No information | AA43: No information | AD43: No information | AG43: No information | AJ43: No information
A44: 5. Sample size | F44: =IF(SUMMARY!$B$7=TRUE,IF(COUNTBLANK(F45:F46)>0,0,1),"") -> 1 | I44: =IF(SUMMARY!$B$8=TRUE,IF(COUNTBLANK(I45:I46)>0,0,1),"") -> 1 | L44: =IF(SUMMARY!$B$9=TRUE,IF(COUNTBLANK(L45:L46)>0,0,1),"") -> 1 | O44: =IF(SUMMARY!$B$10=TRUE,IF(COUNTBLANK(O45:O46)>0,0,1),"") -> 1 | R44: =IF(SUMMARY!$B$11=TRUE,IF(COUNTBLANK(R45:R46)>0,0,1),"") -> 1 | U44: =IF(SUMMARY!$B$12=TRUE,IF(COUNTBLANK(U45:U46)>0,0,1),"") -> 1 | X44: =IF(SUMMARY!$B$13=TRUE,IF(COUNTBLANK(X45:X46)>0,0,1),"") -> 1 | AA44: =IF(SUMMARY!$B$14=TRUE,IF(COUNTBLANK(AA45:AA46)>0,0,1),"") -> 1 | AD44: =IF(SUMMARY!$B$15=TRUE,IF(COUNTBLANK(AD45:AD46)>0,0,1),"") -> 1 | AG44: =IF(SUMMARY!$B$16=TRUE,IF(COUNTBLANK(AG45:AG46)>0,0,1),"") | AJ44: =IF(SUMMARY!$B$17=TRUE,IF(COUNTBLANK(AJ45:AJ46)>0,0,1),"") | AM44: =IF(SUMMARY!$B$18=TRUE,IF(COUNTBLANK(AM45:AM46)>0,0,1),"") | AP44: =IF(SUMMARY!$B$19=TRUE,IF(COUNTBLANK(AP45:AP46)>0,0,1),"") | AS44: =IF(SUMMARY!$B$20=TRUE,IF(COUNTBLANK(AS45:AS46)>0,0,1),"") | AV44: =IF(SUMMARY!$B$21=TRUE,IF(COUNTBLANK(AV45:AV46)>0,0,1),"") | AY44: =IF(SUMMARY!$B$22=TRUE,IF(COUNTBLANK(AY45:AY46)>0,0,1),"") | BB44: =IF(SUMMARY!$B$23=TRUE,IF(COUNTBLANK(BB45:BB46)>0,0,1),"") | BE44: =IF(SUMMARY!$B$24=TRUE,IF(COUNTBLANK(BE45:BE46)>0,0,1),"") | BH44: =IF(SUMMARY!$B$25=TRUE,IF(COUNTBLANK(BH45:BH46)>0,0,1),"") | BK44: =IF(SUMMARY!$B$26=TRUE,IF(COUNTBLANK(BK45:BK46)>0,0,1),"") | BN44: =IF(SUMMARY!$B$27=TRUE,IF(COUNTBLANK(BN45:BN46)>0,0,1),"") | BQ44: =IF(SUMMARY!$B$28=TRUE,IF(COUNTBLANK(BQ45:BQ46)>0,0,1),"") | BT44: =IF(SUMMARY!$B$29=TRUE,IF(COUNTBLANK(BT45:BT46)>0,0,1),"") | BW44: =IF(SUMMARY!$B$30=TRUE,IF(COUNTBLANK(BW45:BW46)>0,0,1),"") | BZ44: =IF(SUMMARY!$B$31=TRUE,IF(COUNTBLANK(BZ45:BZ46)>0,0,1),"") | CC44: =IF(SUMMARY!$B$32=TRUE,IF(COUNTBLANK(CC45:CC46)>0,0,1),"") | CF44: =IF(SUMMARY!$B$33=TRUE,IF(COUNTBLANK(CF45:CF46)>0,0,1),"") | CI44: =IF(SUMMARY!$B$34=TRUE,IF(COUNTBLANK(CI45:CI46)>0,0,1),"") | CL44: =IF(SUMMARY!$B$35=TRUE,IF(COUNTBLANK(CL45:CL46)>0,0,1),"") | CO44: =IF(SUMMARY!$B$36=TRUE,IF(COUNTBLANK(CO45:CO46)>0,0,1),"")
A45: X | D45: 5.1 Number of participants | F45: 2038 | I45: 71963 | L45: 71963 | O45: 3316465 | R45: 28005 | U45: 16484 | X45: 15604 | AA45: 16736 | AD45: 2868808 | AG45: 779 | AJ45: 779
A46: X | D46: 5.2 Number of outcomes/events | F46: 116 | I46: 665 | L46: 631 | O46: 149724 | R46: 1016 | U46: 1784 | X46: 281 | AA46: 70 | AD46: 118327 | AG46: 208 | AJ46: 208
F47: =MAX(F45-F46,0) -> 1922 | I47: =MAX(I45-I46,0) -> 71298 | L47: =MAX(L45-L46,0) -> 71332 | O47: =MAX(O45-O46,0) -> 3166741 | R47: =MAX(R45-R46,0) -> 26989 | U47: =MAX(U45-U46,0) -> 14700 | X47: =MAX(X45-X46,0) -> 15323 | AA47: =MAX(AA45-AA46,0) -> 16666 | AD47: =MAX(AD45-AD46,0) -> 2750481 | AG47: =MAX(AG45-AG46,0) -> 571 | AJ47: =MAX(AJ45-AJ46,0) -> 571 | AM47: =MAX(AM45-AM46,0) -> 0 | AP47: =MAX(AP45-AP46,0) -> 0 | AS47: =MAX(AS45-AS46,0) -> 0 | AV47: =MAX(AV45-AV46,0) -> 0 | AY47: =MAX(AY45-AY46,0) -> 0 | BB47: =MAX(BB45-BB46,0) -> 0 | BE47: =MAX(BE45-BE46,0) -> 0 | BH47: =MAX(BH45-BH46,0) -> 0 | BK47: =MAX(BK45-BK46,0) -> 0 | BN47: =MAX(BN45-BN46,0) -> 0 | BQ47: =MAX(BQ45-BQ46,0) -> 0 | BT47: =MAX(BT45-BT46,0) -> 0 | BW47: =MAX(BW45-BW46,0) -> 0 | BZ47: =MAX(BZ45-BZ46,0) -> 0 | CC47: =MAX(CC45-CC46,0) -> 0 | CF47: =MAX(CF45-CF46,0) -> 0 | CI47: =MAX(CI45-CI46,0) -> 0 | CL47: =MAX(CL45-CL46,0) -> 0 | CO47: =MAX(CO45-CO46,0) -> 0
C48: X | D48: 5.3 Number events per variable (EPV) or per parameter (EPP) | F48: =IF(OR(F$38="",F$46=""),"",IF(F$53="Survival",IF(ISERROR(F$46/F$38),"Unknown",F$46/F$38),IF(ISERROR(MIN(F$46,F$47)/F$38),"Unknown",MIN(F$46,F$47)/F$38))) -> Unknown | I48: =IF(OR(I$38="",I$46=""),"",IF(I$53="Survival",IF(ISERROR(I$46/I$38),"Unknown",I$46/I$38),IF(ISERROR(MIN(I$46,I$47)/I$38),"Unknown",MIN(I$46,I$47)/I$38))) -> 8.9864865 | L48: =IF(OR(L$38="",L$46=""),"",IF(L$53="Survival",IF(ISERROR(L$46/L$38),"Unknown",L$46/L$38),IF(ISERROR(MIN(L$46,L$47)/L$38),"Unknown",MIN(L$46,L$47)/L$38))) -> 8.527027 | O48: =IF(OR(O$38="",O$46=""),"",IF(O$53="Survival",IF(ISERROR(O$46/O$38),"Unknown",O$46/O$38),IF(ISERROR(MIN(O$46,O$47)/O$38),"Unknown",MIN(O$46,O$47)/O$38))) -> Unknown | R48: =IF(OR(R$38="",R$46=""),"",IF(R$53="Survival",IF(ISERROR(R$46/R$38),"Unknown",R$46/R$38),IF(ISERROR(MIN(R$46,R$47)/R$38),"Unknown",MIN(R$46,R$47)/R$38))) -> 10.16 | U48: =IF(OR(U$38="",U$46=""),"",IF(U$53="Survival",IF(ISERROR(U$46/U$38),"Unknown",U$46/U$38),IF(ISERROR(MIN(U$46,U$47)/U$38),"Unknown",MIN(U$46,U$47)/U$38))) -> 198.22222 | X48: =IF(OR(X$38="",X$46=""),"",IF(X$53="Survival",IF(ISERROR(X$46/X$38),"Unknown",X$46/X$38),IF(ISERROR(MIN(X$46,X$47)/X$38),"Unknown",MIN(X$46,X$47)/X$38))) -> 3.2674419 | AA48: =IF(OR(AA$38="",AA$46=""),"",IF(AA$53="Survival",IF(ISERROR(AA$46/AA$38),"Unknown",AA$46/AA$38),IF(ISERROR(MIN(AA$46,AA$47)/AA$38),"Unknown",MIN(AA$46,AA$47)/AA$38))) -> 0.77777778 | AD48: =IF(OR(AD$38="",AD$46=""),"",IF(AD$53="Survival",IF(ISERROR(AD$46/AD$38),"Unknown",AD$46/AD$38),IF(ISERROR(MIN(AD$46,AD$47)/AD$38),"Unknown",MIN(AD$46,AD$47)/AD$38))) -> Unknown | AG48: =IF(OR(AG$38="",AG$46=""),"",IF(AG$53="Survival",IF(ISERROR(AG$46/AG$38),"Unknown",AG$46/AG$38),IF(ISERROR(MIN(AG$46,AG$47)/AG$38),"Unknown",MIN(AG$46,AG$47)/AG$38))) -> 8 | AJ48: =IF(OR(AJ$38="",AJ$46=""),"",IF(AJ$53="Survival",IF(ISERROR(AJ$46/AJ$38),"Unknown",AJ$46/AJ$38),IF(ISERROR(MIN(AJ$46,AJ$47)/AJ$38),"Unknown",MIN(AJ$46,AJ$47)/AJ$38))) -> 7.7037037 | AM48: =IF(OR(AM$38="",AM$46=""),"",IF(AM$53="Survival",IF(ISERROR(AM$46/AM$38),"Unknown",AM$46/AM$38),IF(ISERROR(MIN(AM$46,AM$47)/AM$38),"Unknown",MIN(AM$46,AM$47)/AM$38))) | AP48: =IF(OR(AP$38="",AP$46=""),"",IF(AP$53="Survival",IF(ISERROR(AP$46/AP$38),"Unknown",AP$46/AP$38),IF(ISERROR(MIN(AP$46,AP$47)/AP$38),"Unknown",MIN(AP$46,AP$47)/AP$38))) | AS48: =IF(OR(AS$38="",AS$46=""),"",IF(AS$53="Survival",IF(ISERROR(AS$46/AS$38),"Unknown",AS$46/AS$38),IF(ISERROR(MIN(AS$46,AS$47)/AS$38),"Unknown",MIN(AS$46,AS$47)/AS$38))) | AV48: =IF(OR(AV$38="",AV$46=""),"",IF(AV$53="Survival",IF(ISERROR(AV$46/AV$38),"Unknown",AV$46/AV$38),IF(ISERROR(MIN(AV$46,AV$47)/AV$38),"Unknown",MIN(AV$46,AV$47)/AV$38))) | AY48: =IF(OR(AY$38="",AY$46=""),"",IF(AY$53="Survival",IF(ISERROR(AY$46/AY$38),"Unknown",AY$46/AY$38),IF(ISERROR(MIN(AY$46,AY$47)/AY$38),"Unknown",MIN(AY$46,AY$47)/AY$38))) | BB48: =IF(OR(BB$38="",BB$46=""),"",IF(BB$53="Survival",IF(ISERROR(BB$46/BB$38),"Unknown",BB$46/BB$38),IF(ISERROR(MIN(BB$46,BB$47)/BB$38),"Unknown",MIN(BB$46,BB$47)/BB$38))) | BE48: =IF(OR(BE$38="",BE$46=""),"",IF(BE$53="Survival",IF(ISERROR(BE$46/BE$38),"Unknown",BE$46/BE$38),IF(ISERROR(MIN(BE$46,BE$47)/BE$38),"Unknown",MIN(BE$46,BE$47)/BE$38))) | BH48: =IF(OR(BH$38="",BH$46=""),"",IF(BH$53="Survival",IF(ISERROR(BH$46/BH$38),"Unknown",BH$46/BH$38),IF(ISERROR(MIN(BH$46,BH$47)/BH$38),"Unknown",MIN(BH$46,BH$47)/BH$38))) | BK48: =IF(OR(BK$38="",BK$46=""),"",IF(BK$53="Survival",IF(ISERROR(BK$46/BK$38),"Unknown",BK$46/BK$38),IF(ISERROR(MIN(BK$46,BK$47)/BK$38),"Unknown",MIN(BK$46,BK$47)/BK$38))) | BN48: =IF(OR(BN$38="",BN$46=""),"",IF(BN$53="Survival",IF(ISERROR(BN$46/BN$38),"Unknown",BN$46/BN$38),IF(ISERROR(MIN(BN$46,BN$47)/BN$38),"Unknown",MIN(BN$46,BN$47)/BN$38))) | BQ48: =IF(OR(BQ$38="",BQ$46=""),"",IF(BQ$53="Survival",IF(ISERROR(BQ$46/BQ$38),"Unknown",BQ$46/BQ$38),IF(ISERROR(MIN(BQ$46,BQ$47)/BQ$38),"Unknown",MIN(BQ$46,BQ$47)/BQ$38))) | BT48: =IF(OR(BT$38="",BT$46=""),"",IF(BT$53="Survival",IF(ISERROR(BT$46/BT$38),"Unknown",BT$46/BT$38),IF(ISERROR(MIN(BT$46,BT$47)/BT$38),"Unknown",MIN(BT$46,BT$47)/BT$38))) | BW48: =IF(OR(BW$38="",BW$46=""),"",IF(BW$53="Survival",IF(ISERROR(BW$46/BW$38),"Unknown",BW$46/BW$38),IF(ISERROR(MIN(BW$46,BW$47)/BW$38),"Unknown",MIN(BW$46,BW$47)/BW$38))) | BZ48: =IF(OR(BZ$38="",BZ$46=""),"",IF(BZ$53="Survival",IF(ISERROR(BZ$46/BZ$38),"Unknown",BZ$46/BZ$38),IF(ISERROR(MIN(BZ$46,BZ$47)/BZ$38),"Unknown",MIN(BZ$46,BZ$47)/BZ$38))) | CC48: =IF(OR(CC$38="",CC$46=""),"",IF(CC$53="Survival",IF(ISERROR(CC$46/CC$38),"Unknown",CC$46/CC$38),IF(ISERROR(MIN(CC$46,CC$47)/CC$38),"Unknown",MIN(CC$46,CC$47)/CC$38))) | CF48: =IF(OR(CF$38="",CF$46=""),"",IF(CF$53="Survival",IF(ISERROR(CF$46/CF$38),"Unknown",CF$46/CF$38),IF(ISERROR(MIN(CF$46,CF$47)/CF$38),"Unknown",MIN(CF$46,CF$47)/CF$38))) | CI48: =IF(OR(CI$38="",CI$46=""),"",IF(CI$53="Survival",IF(ISERROR(CI$46/CI$38),"Unknown",CI$46/CI$38),IF(ISERROR(MIN(CI$46,CI$47)/CI$38),"Unknown",MIN(CI$46,CI$47)/CI$38))) | CL48: =IF(OR(CL$38="",CL$46=""),"",IF(CL$53="Survival",IF(ISERROR(CL$46/CL$38),"Unknown",CL$46/CL$38),IF(ISERROR(MIN(CL$46,CL$47)/CL$38),"Unknown",MIN(CL$46,CL$47)/CL$38))) | CO48: =IF(OR(CO$38="",CO$46=""),"",IF(CO$53="Survival",IF(ISERROR(CO$46/CO$38),"Unknown",CO$46/CO$38),IF(ISERROR(MIN(CO$46,CO$47)/CO$38),"Unknown",MIN(CO$46,CO$47)/CO$38)))
A49: 6. Missing data | F49: =IF(SUMMARY!$B$7=TRUE,IF(COUNTBLANK(F50:F51)>0,0,1),"") -> 1 | I49: =IF(SUMMARY!$B$8=TRUE,IF(COUNTBLANK(I50:I51)>0,0,1),"") -> 1 | L49: =IF(SUMMARY!$B$9=TRUE,IF(COUNTBLANK(L50:L51)>0,0,1),"") -> 1 | O49: =IF(SUMMARY!$B$10=TRUE,IF(COUNTBLANK(O50:O51)>0,0,1),"") -> 1 | R49: =IF(SUMMARY!$B$11=TRUE,IF(COUNTBLANK(R50:R51)>0,0,1),"") -> 1 | U49: =IF(SUMMARY!$B$12=TRUE,IF(COUNTBLANK(U50:U51)>0,0,1),"") -> 1 | X49: =IF(SUMMARY!$B$13=TRUE,IF(COUNTBLANK(X50:X51)>0,0,1),"") -> 1 | AA49: =IF(SUMMARY!$B$14=TRUE,IF(COUNTBLANK(AA50:AA51)>0,0,1),"") -> 1 | AD49: =IF(SUMMARY!$B$15=TRUE,IF(COUNTBLANK(AD50:AD51)>0,0,1),"") -> 1 | AG49: =IF(SUMMARY!$B$16=TRUE,IF(COUNTBLANK(AG50:AG51)>0,0,1),"") | AJ49: =IF(SUMMARY!$B$17=TRUE,IF(COUNTBLANK(AJ50:AJ51)>0,0,1),"") | AM49: =IF(SUMMARY!$B$18=TRUE,IF(COUNTBLANK(AM50:AM51)>0,0,1),"") | AP49: =IF(SUMMARY!$B$19=TRUE,IF(COUNTBLANK(AP50:AP51)>0,0,1),"") | AS49: =IF(SUMMARY!$B$20=TRUE,IF(COUNTBLANK(AS50:AS51)>0,0,1),"") | AV49: =IF(SUMMARY!$B$21=TRUE,IF(COUNTBLANK(AV50:AV51)>0,0,1),"") | AY49: =IF(SUMMARY!$B$22=TRUE,IF(COUNTBLANK(AY50:AY51)>0,0,1),"") | BB49: =IF(SUMMARY!$B$23=TRUE,IF(COUNTBLANK(BB50:BB51)>0,0,1),"") | BE49: =IF(SUMMARY!$B$24=TRUE,IF(COUNTBLANK(BE50:BE51)>0,0,1),"") | BH49: =IF(SUMMARY!$B$25=TRUE,IF(COUNTBLANK(BH50:BH51)>0,0,1),"") | BK49: =IF(SUMMARY!$B$26=TRUE,IF(COUNTBLANK(BK50:BK51)>0,0,1),"") | BN49: =IF(SUMMARY!$B$27=TRUE,IF(COUNTBLANK(BN50:BN51)>0,0,1),"") | BQ49: =IF(SUMMARY!$B$28=TRUE,IF(COUNTBLANK(BQ50:BQ51)>0,0,1),"") | BT49: =IF(SUMMARY!$B$29=TRUE,IF(COUNTBLANK(BT50:BT51)>0,0,1),"") | BW49: =IF(SUMMARY!$B$30=TRUE,IF(COUNTBLANK(BW50:BW51)>0,0,1),"") | BZ49: =IF(SUMMARY!$B$31=TRUE,IF(COUNTBLANK(BZ50:BZ51)>0,0,1),"") | CC49: =IF(SUMMARY!$B$32=TRUE,IF(COUNTBLANK(CC50:CC51)>0,0,1),"") | CF49: =IF(SUMMARY!$B$33=TRUE,IF(COUNTBLANK(CF50:CF51)>0,0,1),"") | CI49: =IF(SUMMARY!$B$34=TRUE,IF(COUNTBLANK(CI50:CI51)>0,0,1),"") | CL49: =IF(SUMMARY!$B$35=TRUE,IF(COUNTBLANK(CL50:CL51)>0,0,1),"") | CO49: =IF(SUMMARY!$B$36=TRUE,IF(COUNTBLANK(CO50:CO51)>0,0,1),"")
A50: X | C50: X | D50: 6.1 Number of participants with any missing value | F50: No information | I50: No information | L50: No information | O50: 991623 | R50: No information | U50: 8364 | X50: 6268 | AA50: 45 | AD50: No information | AG50: 4 | AJ50: 4
C51: X | D51: 6.2 Handling of missing data | F51: No information | I51: No information | L51: No information | O51: No information | R51: Other | U51: Single imputation | X51: Complete-case analysis | AA51: No information | AD51: Multiple imputation | AG51: Complete-case analysis | AJ51: Complete-case analysis
A52: 7. Model development | F52: =IF(SUMMARY!$B$7=TRUE,IF(COUNTBLANK(F53:F56)>0,0,1),"") -> 1 | I52: =IF(SUMMARY!$B$8=TRUE,IF(COUNTBLANK(I53:I56)>0,0,1),"") -> 1 | L52: =IF(SUMMARY!$B$9=TRUE,IF(COUNTBLANK(L53:L56)>0,0,1),"") -> 1 | O52: =IF(SUMMARY!$B$10=TRUE,IF(COUNTBLANK(O53:O56)>0,0,1),"") -> 1 | R52: =IF(SUMMARY!$B$11=TRUE,IF(COUNTBLANK(R53:R56)>0,0,1),"") -> 1 | U52: =IF(SUMMARY!$B$12=TRUE,IF(COUNTBLANK(U53:U56)>0,0,1),"") -> 1 | X52: =IF(SUMMARY!$B$13=TRUE,IF(COUNTBLANK(X53:X56)>0,0,1),"") -> 1 | AA52: =IF(SUMMARY!$B$14=TRUE,IF(COUNTBLANK(AA53:AA56)>0,0,1),"") -> 1 | AD52: =IF(SUMMARY!$B$15=TRUE,IF(COUNTBLANK(AD53:AD56)>0,0,1),"") -> 1 | AG52: =IF(SUMMARY!$B$16=TRUE,IF(COUNTBLANK(AG53:AG56)>0,0,1),"") | AJ52: =IF(SUMMARY!$B$17=TRUE,IF(COUNTBLANK(AJ53:AJ56)>0,0,1),"") | AM52: =IF(SUMMARY!$B$18=TRUE,IF(COUNTBLANK(AM53:AM56)>0,0,1),"") | AP52: =IF(SUMMARY!$B$19=TRUE,IF(COUNTBLANK(AP53:AP56)>0,0,1),"") | AS52: =IF(SUMMARY!$B$20=TRUE,IF(COUNTBLANK(AS53:AS56)>0,0,1),"") | AV52: =IF(SUMMARY!$B$21=TRUE,IF(COUNTBLANK(AV53:AV56)>0,0,1),"") | AY52: =IF(SUMMARY!$B$22=TRUE,IF(COUNTBLANK(AY53:AY56)>0,0,1),"") | BB52: =IF(SUMMARY!$B$23=TRUE,IF(COUNTBLANK(BB53:BB56)>0,0,1),"") | BE52: =IF(SUMMARY!$B$24=TRUE,IF(COUNTBLANK(BE53:BE56)>0,0,1),"") | BH52: =IF(SUMMARY!$B$25=TRUE,IF(COUNTBLANK(BH53:BH56)>0,0,1),"") | BK52: =IF(SUMMARY!$B$26=TRUE,IF(COUNTBLANK(BK53:BK56)>0,0,1),"") | BN52: =IF(SUMMARY!$B$27=TRUE,IF(COUNTBLANK(BN53:BN56)>0,0,1),"") | BQ52: =IF(SUMMARY!$B$28=TRUE,IF(COUNTBLANK(BQ53:BQ56)>0,0,1),"") | BT52: =IF(SUMMARY!$B$29=TRUE,IF(COUNTBLANK(BT53:BT56)>0,0,1),"") | BW52: =IF(SUMMARY!$B$30=TRUE,IF(COUNTBLANK(BW53:BW56)>0,0,1),"") | BZ52: =IF(SUMMARY!$B$31=TRUE,IF(COUNTBLANK(BZ53:BZ56)>0,0,1),"") | CC52: =IF(SUMMARY!$B$32=TRUE,IF(COUNTBLANK(CC53:CC56)>0,0,1),"") | CF52: =IF(SUMMARY!$B$33=TRUE,IF(COUNTBLANK(CF53:CF56)>0,0,1),"") | CI52: =IF(SUMMARY!$B$34=TRUE,IF(COUNTBLANK(CI53:CI56)>0,0,1),"") | CL52: =IF(SUMMARY!$B$35=TRUE,IF(COUNTBLANK(CL53:CL56)>0,0,1),"") | CO52: =IF(SUMMARY!$B$36=TRUE,IF(COUNTBLANK(CO53:CO56)>0,0,1),"")
A53: X | D53: 7.1 Modelling method | F53: XGBoost | I53: Random Forest | L53: XGBoost | O53: XGBoost | R53: Neural network | U53: XGBoost | X53: Boosted classification tree | AA53: XGBoost | AD53: XGBoost | AG53: Logistic regression | AJ53: Logistic regression
C54: X | D54: 7.2 Method for selection of candidate predictors | F54: No information | I54: No information | L54: No information | O54: All available predictors | R54: No information | U54: Based on prior knowledge | X54: All available predictors | AA54: Unclear | AD54: Unclear | AG54: Based on prior knowledge | AJ54: Based on prior knowledge
C55: X | D55: 7.3 Method for selection of predictors during multivariable modelling | F55: No information | I55: No information | L55: No information | O55: Pre-specified model (not selection) | R55: Other | U55: Other | X55: Other | AA55: Other | AD55: No information | AG55: Bootstrap selection | AJ55: Bootstrap selection
B56: X | C56: X | D56: 7.4 Shrinkage of predictor weights or regression coefficients | F56: No information | I56: No information | L56: No information | O56: No | R56: No | U56: No | X56: No | AA56: No | AD56: No | AG56: No | AJ56: No
A57: 8. Model performance | F57: =IF(SUMMARY!$B$7=TRUE,IF(COUNTBLANK(F58)+COUNTBLANK(F64)+COUNTBLANK(F71)>0,0,1),"") -> 1 | I57: =IF(SUMMARY!$B$8=TRUE,IF(COUNTBLANK(I58)+COUNTBLANK(I64)+COUNTBLANK(I71)>0,0,1),"") -> 1 | L57: =IF(SUMMARY!$B$9=TRUE,IF(COUNTBLANK(L58)+COUNTBLANK(L64)+COUNTBLANK(L71)>0,0,1),"") -> 1 | O57: =IF(SUMMARY!$B$10=TRUE,IF(COUNTBLANK(O58)+COUNTBLANK(O64)+COUNTBLANK(O71)>0,0,1),"") -> 1 | R57: =IF(SUMMARY!$B$11=TRUE,IF(COUNTBLANK(R58)+COUNTBLANK(R64)+COUNTBLANK(R71)>0,0,1),"") -> 1 | U57: =IF(SUMMARY!$B$12=TRUE,IF(COUNTBLANK(U58)+COUNTBLANK(U64)+COUNTBLANK(U71)>0,0,1),"") -> 1 | X57: =IF(SUMMARY!$B$13=TRUE,IF(COUNTBLANK(X58)+COUNTBLANK(X64)+COUNTBLANK(X71)>0,0,1),"") -> 1 | AA57: =IF(SUMMARY!$B$14=TRUE,IF(COUNTBLANK(AA58)+COUNTBLANK(AA64)+COUNTBLANK(AA71)>0,0,1),"") -> 1 | AD57: =IF(SUMMARY!$B$15=TRUE,IF(COUNTBLANK(AD58)+COUNTBLANK(AD64)+COUNTBLANK(AD71)>0,0,1),"") -> 1 | AG57: =IF(SUMMARY!$B$16=TRUE,IF(COUNTBLANK(AG58)+COUNTBLANK(AG64)+COUNTBLANK(AG71)>0,0,1),"") | AJ57: =IF(SUMMARY!$B$17=TRUE,IF(COUNTBLANK(AJ58)+COUNTBLANK(AJ64)+COUNTBLANK(AJ71)>0,0,1),"") | AM57: =IF(SUMMARY!$B$18=TRUE,IF(COUNTBLANK(AM58)+COUNTBLANK(AM64)+COUNTBLANK(AM71)>0,0,1),"") | AP57: =IF(SUMMARY!$B$19=TRUE,IF(COUNTBLANK(AP58)+COUNTBLANK(AP64)+COUNTBLANK(AP71)>0,0,1),"") | AS57: =IF(SUMMARY!$B$20=TRUE,IF(COUNTBLANK(AS58)+COUNTBLANK(AS64)+COUNTBLANK(AS71)>0,0,1),"") | AV57: =IF(SUMMARY!$B$21=TRUE,IF(COUNTBLANK(AV58)+COUNTBLANK(AV64)+COUNTBLANK(AV71)>0,0,1),"") | AY57: =IF(SUMMARY!$B$22=TRUE,IF(COUNTBLANK(AY58)+COUNTBLANK(AY64)+COUNTBLANK(AY71)>0,0,1),"") | BB57: =IF(SUMMARY!$B$23=TRUE,IF(COUNTBLANK(BB58)+COUNTBLANK(BB64)+COUNTBLANK(BB71)>0,0,1),"") | BE57: =IF(SUMMARY!$B$24=TRUE,IF(COUNTBLANK(BE58)+COUNTBLANK(BE64)+COUNTBLANK(BE71)>0,0,1),"") | BH57: =IF(SUMMARY!$B$25=TRUE,IF(COUNTBLANK(BH58)+COUNTBLANK(BH64)+COUNTBLANK(BH71)>0,0,1),"") | BK57: =IF(SUMMARY!$B$26=TRUE,IF(COUNTBLANK(BK58)+COUNTBLANK(BK64)+COUNTBLANK(BK71)>0,0,1),"") | BN57: =IF(SUMMARY!$B$27=TRUE,IF(COUNTBLANK(BN58)+COUNTBLANK(BN64)+COUNTBLANK(BN71)>0,0,1),"") | BQ57: =IF(SUMMARY!$B$28=TRUE,IF(COUNTBLANK(BQ58)+COUNTBLANK(BQ64)+COUNTBLANK(BQ71)>0,0,1),"") | BT57: =IF(SUMMARY!$B$29=TRUE,IF(COUNTBLANK(BT58)+COUNTBLANK(BT64)+COUNTBLANK(BT71)>0,0,1),"") | BW57: =IF(SUMMARY!$B$30=TRUE,IF(COUNTBLANK(BW58)+COUNTBLANK(BW64)+COUNTBLANK(BW71)>0,0,1),"") | BZ57: =IF(SUMMARY!$B$31=TRUE,IF(COUNTBLANK(BZ58)+COUNTBLANK(BZ64)+COUNTBLANK(BZ71)>0,0,1),"") | CC57: =IF(SUMMARY!$B$32=TRUE,IF(COUNTBLANK(CC58)+COUNTBLANK(CC64)+COUNTBLANK(CC71)>0,0,1),"") | CF57: =IF(SUMMARY!$B$33=TRUE,IF(COUNTBLANK(CF58)+COUNTBLANK(CF64)+COUNTBLANK(CF71)>0,0,1),"") | CI57: =IF(SUMMARY!$B$34=TRUE,IF(COUNTBLANK(CI58)+COUNTBLANK(CI64)+COUNTBLANK(CI71)>0,0,1),"") | CL57: =IF(SUMMARY!$B$35=TRUE,IF(COUNTBLANK(CL58)+COUNTBLANK(CL64)+COUNTBLANK(CL71)>0,0,1),"") | CO57: =IF(SUMMARY!$B$36=TRUE,IF(COUNTBLANK(CO58)+COUNTBLANK(CO64)+COUNTBLANK(CO71)>0,0,1),"")
B58: X | D58: 8.1 Calibration measures | F58: =IF(RIGHT(IF(OR(F59="",F60="",F61="",F62=""),"",IF(CONCATENATE(IF(F59="Yes","Calibration plot / ",""),IF(F60="Yes","Slope / ",""),IF(F61="Yes","CITL / ",""),IF(F62="Yes","HL test / ",""),IF(F63="Yes",H63,""))="","Not evaluated",CONCATENATE(IF(F59="Yes","Calibration plot / ",""),IF(F60="Yes","Slope / ",""),IF(F61="Yes","CITL / ",""),IF(F62="Yes","HL test / ",""),IF(F63="Yes",H63,"")))),2)="/ ",LEFT(IF(OR(F59="",F60="",F61="",F62=""),"",IF(CONCATENATE(IF(F59="Yes","Calibration plot / ",""),IF(F60="Yes","Slope / ",""),IF(F61="Yes","CITL / ",""),IF(F62="Yes","HL test / ",""),IF(F63="Yes",H63,""))="","Not evaluated",CONCATENATE(IF(F59="Yes","Calibration plot / ",""),IF(F60="Yes","Slope / ",""),IF(F61="Yes","CITL / ",""),IF(F62="Yes","HL test / ",""),IF(F63="Yes",H63,"")))),LEN(IF(OR(F59="",F60="",F61="",F62=""),"",IF(CONCATENATE(IF(F59="Yes","Calibration plot / ",""),IF(F60="Yes","Slope / ",""),IF(F61="Yes","CITL / ",""),IF(F62="Yes","HL test / ",""),IF(F63="Yes",H63,""))="","Not evaluated",CONCATENATE(IF(F59="Yes","Calibration plot / ",""),IF(F60="Yes","Slope / ",""),IF(F61="Yes","CITL / ",""),IF(F62="Yes","HL test / ",""),IF(F63="Yes",H63,"")))))-2),IF(OR(F59="",F60="",F61="",F62=""),"",IF(CONCATENATE(IF(F59="Yes","Calibration plot / ",""),IF(F60="Yes","Slope / ",""),IF(F61="Yes","CITL / ",""),IF(F62="Yes","HL test / ",""),IF(F63="Yes",H63,""))="","Not evaluated",CONCATENATE(IF(F59="Yes","Calibration plot / ",""),IF(F60="Yes","Slope / ",""),IF(F61="Yes","CITL / ",""),IF(F62="Yes","HL test / ",""),IF(F63="Yes",H63,""))))) -> Not evaluated | I58: =IF(RIGHT(IF(OR(I59="",I60="",I61="",I62=""),"",IF(CONCATENATE(IF(I59="Yes","Calibration plot / ",""),IF(I60="Yes","Slope / ",""),IF(I61="Yes","CITL / ",""),IF(I62="Yes","HL test / ",""),IF(I63="Yes",K63,""))="","Not evaluated",CONCATENATE(IF(I59="Yes","Calibration plot / ",""),IF(I60="Yes","Slope / ",""),IF(I61="Yes","CITL / ",""),IF(I62="Yes","HL test / ",""),IF(I63="Yes",K63,"")))),2)="/ ",LEFT(IF(OR(I59="",I60="",I61="",I62=""),"",IF(CONCATENATE(IF(I59="Yes","Calibration plot / ",""),IF(I60="Yes","Slope / ",""),IF(I61="Yes","CITL / ",""),IF(I62="Yes","HL test / ",""),IF(I63="Yes",K63,""))="","Not evaluated",CONCATENATE(IF(I59="Yes","Calibration plot / ",""),IF(I60="Yes","Slope / ",""),IF(I61="Yes","CITL / ",""),IF(I62="Yes","HL test / ",""),IF(I63="Yes",K63,"")))),LEN(IF(OR(I59="",I60="",I61="",I62=""),"",IF(CONCATENATE(IF(I59="Yes","Calibration plot / ",""),IF(I60="Yes","Slope / ",""),IF(I61="Yes","CITL / ",""),IF(I62="Yes","HL test / ",""),IF(I63="Yes",K63,""))="","Not evaluated",CONCATENATE(IF(I59="Yes","Calibration plot / ",""),IF(I60="Yes","Slope / ",""),IF(I61="Yes","CITL / ",""),IF(I62="Yes","HL test / ",""),IF(I63="Yes",K63,"")))))-2),IF(OR(I59="",I60="",I61="",I62=""),"",IF(CONCATENATE(IF(I59="Yes","Calibration plot / ",""),IF(I60="Yes","Slope / ",""),IF(I61="Yes","CITL / ",""),IF(I62="Yes","HL test / ",""),IF(I63="Yes",K63,""))="","Not evaluated",CONCATENATE(IF(I59="Yes","Calibration plot / ",""),IF(I60="Yes","Slope / ",""),IF(I61="Yes","CITL / ",""),IF(I62="Yes","HL test / ",""),IF(I63="Yes",K63,""))))) -> Not evaluated | L58: =IF(RIGHT(IF(OR(L59="",L60="",L61="",L62=""),"",IF(CONCATENATE(IF(L59="Yes","Calibration plot / ",""),IF(L60="Yes","Slope / ",""),IF(L61="Yes","CITL / ",""),IF(L62="Yes","HL test / ",""),IF(L63="Yes",N63,""))="","Not evaluated",CONCATENATE(IF(L59="Yes","Calibration plot / ",""),IF(L60="Yes","Slope / ",""),IF(L61="Yes","CITL / ",""),IF(L62="Yes","HL test / ",""),IF(L63="Yes",N63,"")))),2)="/ ",LEFT(IF(OR(L59="",L60="",L61="",L62=""),"",IF(CONCATENATE(IF(L59="Yes","Calibration plot / ",""),IF(L60="Yes","Slope / ",""),IF(L61="Yes","CITL / ",""),IF(L62="Yes","HL test / ",""),IF(L63="Yes",N63,""))="","Not evaluated",CONCATENATE(IF(L59="Yes","Calibration plot / ",""),IF(L60="Yes","Slope / ",""),IF(L61="Yes","CITL / ",""),IF(L62="Yes","HL test / ",""),IF(L63="Yes",N63,"")))),LEN(IF(OR(L59="",L60="",L61="",L62=""),"",IF(CONCATENATE(IF(L59="Yes","Calibration plot / ",""),IF(L60="Yes","Slope / ",""),IF(L61="Yes","CITL / ",""),IF(L62="Yes","HL test / ",""),IF(L63="Yes",N63,""))="","Not evaluated",CONCATENATE(IF(L59="Yes","Calibration plot / ",""),IF(L60="Yes","Slope / ",""),IF(L61="Yes","CITL / ",""),IF(L62="Yes","HL test / ",""),IF(L63="Yes",N63,"")))))-2),IF(OR(L59="",L60="",L61="",L62=""),"",IF(CONCATENATE(IF(L59="Yes","Calibration plot / ",""),IF(L60="Yes","Slope / ",""),IF(L61="Yes","CITL / ",""),IF(L62="Yes","HL test / ",""),IF(L63="Yes",N63,""))="","Not evaluated",CONCATENATE(IF(L59="Yes","Calibration plot / ",""),IF(L60="Yes","Slope / ",""),IF(L61="Yes","CITL / ",""),IF(L62="Yes","HL test / ",""),IF(L63="Yes",N63,""))))) -> Not evaluated | O58: =IF(RIGHT(IF(OR(O59="",O60="",O61="",O62=""),"",IF(CONCATENATE(IF(O59="Yes","Calibration plot / ",""),IF(O60="Yes","Slope / ",""),IF(O61="Yes","CITL / ",""),IF(O62="Yes","HL test / ",""),IF(O63="Yes",Q63,""))="","Not evaluated",CONCATENATE(IF(O59="Yes","Calibration plot / ",""),IF(O60="Yes","Slope / ",""),IF(O61="Yes","CITL / ",""),IF(O62="Yes","HL test / ",""),IF(O63="Yes",Q63,"")))),2)="/ ",LEFT(IF(OR(O59="",O60="",O61="",O62=""),"",IF(CONCATENATE(IF(O59="Yes","Calibration plot / ",""),IF(O60="Yes","Slope / ",""),IF(O61="Yes","CITL / ",""),IF(O62="Yes","HL test / ",""),IF(O63="Yes",Q63,""))="","Not evaluated",CONCATENATE(IF(O59="Yes","Calibration plot / ",""),IF(O60="Yes","Slope / ",""),IF(O61="Yes","CITL / ",""),IF(O62="Yes","HL test / ",""),IF(O63="Yes",Q63,"")))),LEN(IF(OR(O59="",O60="",O61="",O62=""),"",IF(CONCATENATE(IF(O59="Yes","Calibration plot / ",""),IF(O60="Yes","Slope / ",""),IF(O61="Yes","CITL / ",""),IF(O62="Yes","HL test / ",""),IF(O63="Yes",Q63,""))="","Not evaluated",CONCATENATE(IF(O59="Yes","Calibration plot / ",""),IF(O60="Yes","Slope / ",""),IF(O61="Yes","CITL / ",""),IF(O62="Yes","HL test / ",""),IF(O63="Yes",Q63,"")))))-2),IF(OR(O59="",O60="",O61="",O62=""),"",IF(CONCATENATE(IF(O59="Yes","Calibration plot / ",""),IF(O60="Yes","Slope / ",""),IF(O61="Yes","CITL / ",""),IF(O62="Yes","HL test / ",""),IF(O63="Yes",Q63,""))="","Not evaluated",CONCATENATE(IF(O59="Yes","Calibration plot / ",""),IF(O60="Yes","Slope / ",""),IF(O61="Yes","CITL / ",""),IF(O62="Yes","HL test / ",""),IF(O63="Yes",Q63,""))))) -> Calibration plot | R58: =IF(RIGHT(IF(OR(R59="",R60="",R61="",R62=""),"",IF(CONCATENATE(IF(R59="Yes","Calibration plot / ",""),IF(R60="Yes","Slope / ",""),IF(R61="Yes","CITL / ",""),IF(R62="Yes","HL test / ",""),IF(R63="Yes",T63,""))="","Not evaluated",CONCATENATE(IF(R59="Yes","Calibration plot / ",""),IF(R60="Yes","Slope / ",""),IF(R61="Yes","CITL / ",""),IF(R62="Yes","HL test / ",""),IF(R63="Yes",T63,"")))),2)="/ ",LEFT(IF(OR(R59="",R60="",R61="",R62=""),"",IF(CONCATENATE(IF(R59="Yes","Calibration plot / ",""),IF(R60="Yes","Slope / ",""),IF(R61="Yes","CITL / ",""),IF(R62="Yes","HL test / ",""),IF(R63="Yes",T63,""))="","Not evaluated",CONCATENATE(IF(R59="Yes","Calibration plot / ",""),IF(R60="Yes","Slope / ",""),IF(R61="Yes","CITL / ",""),IF(R62="Yes","HL test / ",""),IF(R63="Yes",T63,"")))),LEN(IF(OR(R59="",R60="",R61="",R62=""),"",IF(CONCATENATE(IF(R59="Yes","Calibration plot / ",""),IF(R60="Yes","Slope / ",""),IF(R61="Yes","CITL / ",""),IF(R62="Yes","HL test / ",""),IF(R63="Yes",T63,""))="","Not evaluated",CONCATENATE(IF(R59="Yes","Calibration plot / ",""),IF(R60="Yes","Slope / ",""),IF(R61="Yes","CITL / ",""),IF(R62="Yes","HL test / ",""),IF(R63="Yes",T63,"")))))-2),IF(OR(R59="",R60="",R61="",R62=""),"",IF(CONCATENATE(IF(R59="Yes","Calibration plot / ",""),IF(R60="Yes","Slope / ",""),IF(R61="Yes","CITL / ",""),IF(R62="Yes","HL test / ",""),IF(R63="Yes",T63,""))="","Not evaluated",CONCATENATE(IF(R59="Yes","Calibration plot / ",""),IF(R60="Yes","Slope / ",""),IF(R61="Yes","CITL / ",""),IF(R62="Yes","HL test / ",""),IF(R63="Yes",T63,""))))) -> Calibration plot / Slope | U58: =IF(RIGHT(IF(OR(U59="",U60="",U61="",U62=""),"",IF(CONCATENATE(IF(U59="Yes","Calibration plot / ",""),IF(U60="Yes","Slope / ",""),IF(U61="Yes","CITL / ",""),IF(U62="Yes","HL test / ",""),IF(U63="Yes",W63,""))="","Not evaluated",CONCATENATE(IF(U59="Yes","Calibration plot / ",""),IF(U60="Yes","Slope / ",""),IF(U61="Yes","CITL / ",""),IF(U62="Yes","HL test / ",""),IF(U63="Yes",W63,"")))),2)="/ ",LEFT(IF(OR(U59="",U60="",U61="",U62=""),"",IF(CONCATENATE(IF(U59="Yes","Calibration plot / ",""),IF(U60="Yes","Slope / ",""),IF(U61="Yes","CITL / ",""),IF(U62="Yes","HL test / ",""),IF(U63="Yes",W63,""))="","Not evaluated",CONCATENATE(IF(U59="Yes","Calibration plot / ",""),IF(U60="Yes","Slope / ",""),IF(U61="Yes","CITL / ",""),IF(U62="Yes","HL test / ",""),IF(U63="Yes",W63,"")))),LEN(IF(OR(U59="",U60="",U61="",U62=""),"",IF(CONCATENATE(IF(U59="Yes","Calibration plot / ",""),IF(U60="Yes","Slope / ",""),IF(U61="Yes","CITL / ",""),IF(U62="Yes","HL test / ",""),IF(U63="Yes",W63,""))="","Not evaluated",CONCATENATE(IF(U59="Yes","Calibration plot / ",""),IF(U60="Yes","Slope / ",""),IF(U61="Yes","CITL / ",""),IF(U62="Yes","HL test / ",""),IF(U63="Yes",W63,"")))))-2),IF(OR(U59="",U60="",U61="",U62=""),"",IF(CONCATENATE(IF(U59="Yes","Calibration plot / ",""),IF(U60="Yes","Slope / ",""),IF(U61="Yes","CITL / ",""),IF(U62="Yes","HL test / ",""),IF(U63="Yes",W63,""))="","Not evaluated",CONCATENATE(IF(U59="Yes","Calibration plot / ",""),IF(U60="Yes","Slope / ",""),IF(U61="Yes","CITL / ",""),IF(U62="Yes","HL test / ",""),IF(U63="Yes",W63,""))))) -> Calibration plot | X58: =IF(RIGHT(IF(OR(X59="",X60="",X61="",X62=""),"",IF(CONCATENATE(IF(X59="Yes","Calibration plot / ",""),IF(X60="Yes","Slope / ",""),IF(X61="Yes","CITL / ",""),IF(X62="Yes","HL test / ",""),IF(X63="Yes",Z63,""))="","Not evaluated",CONCATENATE(IF(X59="Yes","Calibration plot / ",""),IF(X60="Yes","Slope / ",""),IF(X61="Yes","CITL / ",""),IF(X62="Yes","HL test / ",""),IF(X63="Yes",Z63,"")))),2)="/ ",LEFT(IF(OR(X59="",X60="",X61="",X62=""),"",IF(CONCATENATE(IF(X59="Yes","Calibration plot / ",""),IF(X60="Yes","Slope / ",""),IF(X61="Yes","CITL / ",""),IF(X62="Yes","HL test / ",""),IF(X63="Yes",Z63,""))="","Not evaluated",CONCATENATE(IF(X59="Yes","Calibration plot / ",""),IF(X60="Yes","Slope / ",""),IF(X61="Yes","CITL / ",""),IF(X62="Yes","HL test / ",""),IF(X63="Yes",Z63,"")))),LEN(IF(OR(X59="",X60="",X61="",X62=""),"",IF(CONCATENATE(IF(X59="Yes","Calibration plot / ",""),IF(X60="Yes","Slope / ",""),IF(X61="Yes","CITL / ",""),IF(X62="Yes","HL test / ",""),IF(X63="Yes",Z63,""))="","Not evaluated",CONCATENATE(IF(X59="Yes","Calibration plot / ",""),IF(X60="Yes","Slope / ",""),IF(X61="Yes","CITL / ",""),IF(X62="Yes","HL test / ",""),IF(X63="Yes",Z63,"")))))-2),IF(OR(X59="",X60="",X61="",X62=""),"",IF(CONCATENATE(IF(X59="Yes","Calibration plot / ",""),IF(X60="Yes","Slope / ",""),IF(X61="Yes","CITL / ",""),IF(X62="Yes","HL test / ",""),IF(X63="Yes",Z63,""))="","Not evaluated",CONCATENATE(IF(X59="Yes","Calibration plot / ",""),IF(X60="Yes","Slope / ",""),IF(X61="Yes","CITL / ",""),IF(X62="Yes","HL test / ",""),IF(X63="Yes",Z63,""))))) -> Not evaluated | AA58: =IF(RIGHT(IF(OR(AA59="",AA60="",AA61="",AA62=""),"",IF(CONCATENATE(IF(AA59="Yes","Calibration plot / ",""),IF(AA60="Yes","Slope / ",""),IF(AA61="Yes","CITL / ",""),IF(AA62="Yes","HL test / ",""),IF(AA63="Yes",AC63,""))="","Not evaluated",CONCATENATE(IF(AA59="Yes","Calibration plot / ",""),IF(AA60="Yes","Slope / ",""),IF(AA61="Yes","CITL / ",""),IF(AA62="Yes","HL test / ",""),IF(AA63="Yes",AC63,"")))),2)="/ ",LEFT(IF(OR(AA59="",AA60="",AA61="",AA62=""),"",IF(CONCATENATE(IF(AA59="Yes","Calibration plot / ",""),IF(AA60="Yes","Slope / ",""),IF(AA61="Yes","CITL / ",""),IF(AA62="Yes","HL test / ",""),IF(AA63="Yes",AC63,""))="","Not evaluated",CONCATENATE(IF(AA59="Yes","Calibration plot / ",""),IF(AA60="Yes","Slope / ",""),IF(AA61="Yes","CITL / ",""),IF(AA62="Yes","HL test / ",""),IF(AA63="Yes",AC63,"")))),LEN(IF(OR(AA59="",AA60="",AA61="",AA62=""),"",IF(CONCATENATE(IF(AA59="Yes","Calibration plot / ",""),IF(AA60="Yes","Slope / ",""),IF(AA61="Yes","CITL / ",""),IF(AA62="Yes","HL test / ",""),IF(AA63="Yes",AC63,""))="","Not evaluated",CONCATENATE(IF(AA59="Yes","Calibration plot / ",""),IF(AA60="Yes","Slope / ",""),IF(AA61="Yes","CITL / ",""),IF(AA62="Yes","HL test / ",""),IF(AA63="Yes",AC63,"")))))-2),IF(OR(AA59="",AA60="",AA61="",AA62=""),"",IF(CONCATENATE(IF(AA59="Yes","Calibration plot / ",""),IF(AA60="Yes","Slope / ",""),IF(AA61="Yes","CITL / ",""),IF(AA62="Yes","HL test / ",""),IF(AA63="Yes",AC63,""))="","Not evaluated",CONCATENATE(IF(AA59="Yes","Calibration plot / ",""),IF(AA60="Yes","Slope / ",""),IF(AA61="Yes","CITL / ",""),IF(AA62="Yes","HL test / ",""),IF(AA63="Yes",AC63,""))))) -> Calibration plot / HL test | AD58: =IF(RIGHT(IF(OR(AD59="",AD60="",AD61="",AD62=""),"",IF(CONCATENATE(IF(AD59="Yes","Calibration plot / ",""),IF(AD60="Yes","Slope / ",""),IF(AD61="Yes","CITL / ",""),IF(AD62="Yes","HL test / ",""),IF(AD63="Yes",AF63,""))="","Not evaluated",CONCATENATE(IF(AD59="Yes","Calibration plot / ",""),IF(AD60="Yes","Slope / ",""),IF(AD61="Yes","CITL / ",""),IF(AD62="Yes","HL test / ",""),IF(AD63="Yes",AF63,"")))),2)="/ ",LEFT(IF(OR(AD59="",AD60="",AD61="",AD62=""),"",IF(CONCATENATE(IF(AD59="Yes","Calibration plot / ",""),IF(AD60="Yes","Slope / ",""),IF(AD61="Yes","CITL / ",""),IF(AD62="Yes","HL test / ",""),IF(AD63="Yes",AF63,""))="","Not evaluated",CONCATENATE(IF(AD59="Yes","Calibration plot / ",""),IF(AD60="Yes","Slope / ",""),IF(AD61="Yes","CITL / ",""),IF(AD62="Yes","HL test / ",""),IF(AD63="Yes",AF63,"")))),LEN(IF(OR(AD59="",AD60="",AD61="",AD62=""),"",IF(CONCATENATE(IF(AD59="Yes","Calibration plot / ",""),IF(AD60="Yes","Slope / ",""),IF(AD61="Yes","CITL / ",""),IF(AD62="Yes","HL test / ",""),IF(AD63="Yes",AF63,""))="","Not evaluated",CONCATENATE(IF(AD59="Yes","Calibration plot / ",""),IF(AD60="Yes","Slope / ",""),IF(AD61="Yes","CITL / ",""),IF(AD62="Yes","HL test / ",""),IF(AD63="Yes",AF63,"")))))-2),IF(OR(AD59="",AD60="",AD61="",AD62=""),"",IF(CONCATENATE(IF(AD59="Yes","Calibration plot / ",""),IF(AD60="Yes","Slope / ",""),IF(AD61="Yes","CITL / ",""),IF(AD62="Yes","HL test / ",""),IF(AD63="Yes",AF63,""))="","Not evaluated",CONCATENATE(IF(AD59="Yes","Calibration plot / ",""),IF(AD60="Yes","Slope / ",""),IF(AD61="Yes","CITL / ",""),IF(AD62="Yes","HL test / ",""),IF(AD63="Yes",AF63,""))))) -> Calibration plot | AG58: =IF(RIGHT(IF(OR(AG59="",AG60="",AG61="",AG62=""),"",IF(CONCATENATE(IF(AG59="Yes","Calibration plot / ",""),IF(AG60="Yes","Slope / ",""),IF(AG61="Yes","CITL / ",""),IF(AG62="Yes","HL test / ",""),IF(AG63="Yes",AI63,""))="","Not evaluated",CONCATENATE(IF(AG59="Yes","Calibration plot / ",""),IF(AG60="Yes","Slope / ",""),IF(AG61="Yes","CITL / ",""),IF(AG62="Yes","HL test / ",""),IF(AG63="Yes",AI63,"")))),2)="/ ",LEFT(IF(OR(AG59="",AG60="",AG61="",AG62=""),"",IF(CONCATENATE(IF(AG59="Yes","Calibration plot / ",""),IF(AG60="Yes","Slope / ",""),IF(AG61="Yes","CITL / ",""),IF(AG62="Yes","HL test / ",""),IF(AG63="Yes",AI63,""))="","Not evaluated",CONCATENATE(IF(AG59="Yes","Calibration plot / ",""),IF(AG60="Yes","Slope / ",""),IF(AG61="Yes","CITL / ",""),IF(AG62="Yes","HL test / ",""),IF(AG63="Yes",AI63,"")))),LEN(IF(OR(AG59="",AG60="",AG61="",AG62=""),"",IF(CONCATENATE(IF(AG59="Yes","Calibration plot / ",""),IF(AG60="Yes","Slope / ",""),IF(AG61="Yes","CITL / ",""),IF(AG62="Yes","HL test / ",""),IF(AG63="Yes",AI63,""))="","Not evaluated",CONCATENATE(IF(AG59="Yes","Calibration plot / ",""),IF(AG60="Yes","Slope / ",""),IF(AG61="Yes","CITL / ",""),IF(AG62="Yes","HL test / ",""),IF(AG63="Yes",AI63,"")))))-2),IF(OR(AG59="",AG60="",AG61="",AG62=""),"",IF(CONCATENATE(IF(AG59="Yes","Calibration plot / ",""),IF(AG60="Yes","Slope / ",""),IF(AG61="Yes","CITL / ",""),IF(AG62="Yes","HL test / ",""),IF(AG63="Yes",AI63,""))="","Not evaluated",CONCATENATE(IF(AG59="Yes","Calibration plot / ",""),IF(AG60="Yes","Slope / ",""),IF(AG61="Yes","CITL / ",""),IF(AG62="Yes","HL test / ",""),IF(AG63="Yes",AI63,""))))) -> Calibration plot / Slope / CITL | AJ58: =IF(RIGHT(IF(OR(AJ59="",AJ60="",AJ61="",AJ62=""),"",IF(CONCATENATE(IF(AJ59="Yes","Calibration plot / ",""),IF(AJ60="Yes","Slope / ",""),IF(AJ61="Yes","CITL / ",""),IF(AJ62="Yes","HL test / ",""),IF(AJ63="Yes",AL63,""))="","Not evaluated",CONCATENATE(IF(AJ59="Yes","Calibration plot / ",""),IF(AJ60="Yes","Slope / ",""),IF(AJ61="Yes","CITL / ",""),IF(AJ62="Yes","HL test / ",""),IF(AJ63="Yes",AL63,"")))),2)="/ ",LEFT(IF(OR(AJ59="",AJ60="",AJ61="",AJ62=""),"",IF(CONCATENATE(IF(AJ59="Yes","Calibration plot / ",""),IF(AJ60="Yes","Slope / ",""),IF(AJ61="Yes","CITL / ",""),IF(AJ62="Yes","HL test / ",""),IF(AJ63="Yes",AL63,""))="","Not evaluated",CONCATENATE(IF(AJ59="Yes","Calibration plot / ",""),IF(AJ60="Yes","Slope / ",""),IF(AJ61="Yes","CITL / ",""),IF(AJ62="Yes","HL test / ",""),IF(AJ63="Yes",AL63,"")))),LEN(IF(OR(AJ59="",AJ60="",AJ61="",AJ62=""),"",IF(CONCATENATE(IF(AJ59="Yes","Calibration plot / ",""),IF(AJ60="Yes","Slope / ",""),IF(AJ61="Yes","CITL / ",""),IF(AJ62="Yes","HL test / ",""),IF(AJ63="Yes",AL63,""))="","Not evaluated",CONCATENATE(IF(AJ59="Yes","Calibration plot / ",""),IF(AJ60="Yes","Slope / ",""),IF(AJ61="Yes","CITL / ",""),IF(AJ62="Yes","HL test / ",""),IF(AJ63="Yes",AL63,"")))))-2),IF(OR(AJ59="",AJ60="",AJ61="",AJ62=""),"",IF(CONCATENATE(IF(AJ59="Yes","Calibration plot / ",""),IF(AJ60="Yes","Slope / ",""),IF(AJ61="Yes","CITL / ",""),IF(AJ62="Yes","HL test / ",""),IF(AJ63="Yes",AL63,""))="","Not evaluated",CONCATENATE(IF(AJ59="Yes","Calibration plot / ",""),IF(AJ60="Yes","Slope / ",""),IF(AJ61="Yes","CITL / ",""),IF(AJ62="Yes","HL test / ",""),IF(AJ63="Yes",AL63,""))))) -> Calibration plot / Slope / CITL | AM58: =IF(RIGHT(IF(OR(AM59="",AM60="",AM61="",AM62=""),"",IF(CONCATENATE(IF(AM59="Yes","Calibration plot / ",""),IF(AM60="Yes","Slope / ",""),IF(AM61="Yes","CITL / ",""),IF(AM62="Yes","HL test / ",""),IF(AM63="Yes",AO63,""))="","Not evaluated",CONCATENATE(IF(AM59="Yes","Calibration plot / ",""),IF(AM60="Yes","Slope / ",""),IF(AM61="Yes","CITL / ",""),IF(AM62="Yes","HL test / ",""),IF(AM63="Yes",AO63,"")))),2)="/ ",LEFT(IF(OR(AM59="",AM60="",AM61="",AM62=""),"",IF(CONCATENATE(IF(AM59="Yes","Calibration plot / ",""),IF(AM60="Yes","Slope / ",""),IF(AM61="Yes","CITL / ",""),IF(AM62="Yes","HL test / ",""),IF(AM63="Yes",AO63,""))="","Not evaluated",CONCATENATE(IF(AM59="Yes","Calibration plot / ",""),IF(AM60="Yes","Slope / ",""),IF(AM61="Yes","CITL / ",""),IF(AM62="Yes","HL test / ",""),IF(AM63="Yes",AO63,"")))),LEN(IF(OR(AM59="",AM60="",AM61="",AM62=""),"",IF(CONCATENATE(IF(AM59="Yes","Calibration plot / ",""),IF(AM60="Yes","Slope / ",""),IF(AM61="Yes","CITL / ",""),IF(AM62="Yes","HL test / ",""),IF(AM63="Yes",AO63,""))="","Not evaluated",CONCATENATE(IF(AM59="Yes","Calibration plot / ",""),IF(AM60="Yes","Slope / ",""),IF(AM61="Yes","CITL / ",""),IF(AM62="Yes","HL test / ",""),IF(AM63="Yes",AO63,"")))))-2),IF(OR(AM59="",AM60="",AM61="",AM62=""),"",IF(CONCATENATE(IF(AM59="Yes","Calibration plot / ",""),IF(AM60="Yes","Slope / ",""),IF(AM61="Yes","CITL / ",""),IF(AM62="Yes","HL test / ",""),IF(AM63="Yes",AO63,""))="","Not evaluated",CONCATENATE(IF(AM59="Yes","Calibration plot / ",""),IF(AM60="Yes","Slope / ",""),IF(AM61="Yes","CITL / ",""),IF(AM62="Yes","HL test / ",""),IF(AM63="Yes",AO63,""))))) | AP58: =IF(RIGHT(IF(OR(AP59="",AP60="",AP61="",AP62=""),"",IF(CONCATENATE(IF(AP59="Yes","Calibration plot / ",""),IF(AP60="Yes","Slope / ",""),IF(AP61="Yes","CITL / ",""),IF(AP62="Yes","HL test / ",""),IF(AP63="Yes",AR63,""))="","Not evaluated",CONCATENATE(IF(AP59="Yes","Calibration plot / ",""),IF(AP60="Yes","Slope / ",""),IF(AP61="Yes","CITL / ",""),IF(AP62="Yes","HL test / ",""),IF(AP63="Yes",AR63,"")))),2)="/ ",LEFT(IF(OR(AP59="",AP60="",AP61="",AP62=""),"",IF(CONCATENATE(IF(AP59="Yes","Calibration plot / ",""),IF(AP60="Yes","Slope / ",""),IF(AP61="Yes","CITL / ",""),IF(AP62="Yes","HL test / ",""),IF(AP63="Yes",AR63,""))="","Not evaluated",CONCATENATE(IF(AP59="Yes","Calibration plot / ",""),IF(AP60="Yes","Slope / ",""),IF(AP61="Yes","CITL / ",""),IF(AP62="Yes","HL test / ",""),IF(AP63="Yes",AR63,"")))),LEN(IF(OR(AP59="",AP60="",AP61="",AP62=""),"",IF(CONCATENATE(IF(AP59="Yes","Calibration plot / ",""),IF(AP60="Yes","Slope / ",""),IF(AP61="Yes","CITL / ",""),IF(AP62="Yes","HL test / ",""),IF(AP63="Yes",AR63,""))="","Not evaluated",CONCATENATE(IF(AP59="Yes","Calibration plot / ",""),IF(AP60="Yes","Slope / ",""),IF(AP61="Yes","CITL / ",""),IF(AP62="Yes","HL test / ",""),IF(AP63="Yes",AR63,"")))))-2),IF(OR(AP59="",AP60="",AP61="",AP62=""),"",IF(CONCATENATE(IF(AP59="Yes","Calibration plot / ",""),IF(AP60="Yes","Slope / ",""),IF(AP61="Yes","CITL / ",""),IF(AP62="Yes","HL test / ",""),IF(AP63="Yes",AR63,""))="","Not evaluated",CONCATENATE(IF(AP59="Yes","Calibration plot / ",""),IF(AP60="Yes","Slope / ",""),IF(AP61="Yes","CITL / ",""),IF(AP62="Yes","HL test / ",""),IF(AP63="Yes",AR63,""))))) | AS58: =IF(RIGHT(IF(OR(AS59="",AS60="",AS61="",AS62=""),"",IF(CONCATENATE(IF(AS59="Yes","Calibration plot / ",""),IF(AS60="Yes","Slope / ",""),IF(AS61="Yes","CITL / ",""),IF(AS62="Yes","HL test / ",""),IF(AS63="Yes",AU63,""))="","Not evaluated",CONCATENATE(IF(AS59="Yes","Calibration plot / ",""),IF(AS60="Yes","Slope / ",""),IF(AS61="Yes","CITL / ",""),IF(AS62="Yes","HL test / ",""),IF(AS63="Yes",AU63,"")))),2)="/ ",LEFT(IF(OR(AS59="",AS60="",AS61="",AS62=""),"",IF(CONCATENATE(IF(AS59="Yes","Calibration plot / ",""),IF(AS60="Yes","Slope / ",""),IF(AS61="Yes","CITL / ",""),IF(AS62="Yes","HL test / ",""),IF(AS63="Yes",AU63,""))="","Not evaluated",CONCATENATE(IF(AS59="Yes","Calibration plot / ",""),IF(AS60="Yes","Slope / ",""),IF(AS61="Yes","CITL / ",""),IF(AS62="Yes","HL test / ",""),IF(AS63="Yes",AU63,"")))),LEN(IF(OR(AS59="",AS60="",AS61="",AS62=""),"",IF(CONCATENATE(IF(AS59="Yes","Calibration plot / ",""),IF(AS60="Yes","Slope / ",""),IF(AS61="Yes","CITL / ",""),IF(AS62="Yes","HL test / ",""),IF(AS63="Yes",AU63,""))="","Not evaluated",CONCATENATE(IF(AS59="Yes","Calibration plot / ",""),IF(AS60="Yes","Slope / ",""),IF(AS61="Yes","CITL / ",""),IF(AS62="Yes","HL test / ",""),IF(AS63="Yes",AU63,"")))))-2),IF(OR(AS59="",AS60="",AS61="",AS62=""),"",IF(CONCATENATE(IF(AS59="Yes","Calibration plot / ",""),IF(AS60="Yes","Slope / ",""),IF(AS61="Yes","CITL / ",""),IF(AS62="Yes","HL test / ",""),IF(AS63="Yes",AU63,""))="","Not evaluated",CONCATENATE(IF(AS59="Yes","Calibration plot / ",""),IF(AS60="Yes","Slope / ",""),IF(AS61="Yes","CITL / ",""),IF(AS62="Yes","HL test / ",""),IF(AS63="Yes",AU63,""))))) | AV58: =IF(RIGHT(IF(OR(AV59="",AV60="",AV61="",AV62=""),"",IF(CONCATENATE(IF(AV59="Yes","Calibration plot / ",""),IF(AV60="Yes","Slope / ",""),IF(AV61="Yes","CITL / ",""),IF(AV62="Yes","HL test / ",""),IF(AV63="Yes",AX63,""))="","Not evaluated",CONCATENATE(IF(AV59="Yes","Calibration plot / ",""),IF(AV60="Yes","Slope / ",""),IF(AV61="Yes","CITL / ",""),IF(AV62="Yes","HL test / ",""),IF(AV63="Yes",AX63,"")))),2)="/ ",LEFT(IF(OR(AV59="",AV60="",AV61="",AV62=""),"",IF(CONCATENATE(IF(AV59="Yes","Calibration plot / ",""),IF(AV60="Yes","Slope / ",""),IF(AV61="Yes","CITL / ",""),IF(AV62="Yes","HL test / ",""),IF(AV63="Yes",AX63,""))="","Not evaluated",CONCATENATE(IF(AV59="Yes","Calibration plot / ",""),IF(AV60="Yes","Slope / ",""),IF(AV61="Yes","CITL / ",""),IF(AV62="Yes","HL test / ",""),IF(AV63="Yes",AX63,"")))),LEN(IF(OR(AV59="",AV60="",AV61="",AV62=""),"",IF(CONCATENATE(IF(AV59="Yes","Calibration plot / ",""),IF(AV60="Yes","Slope / ",""),IF(AV61="Yes","CITL / ",""),IF(AV62="Yes","HL test / ",""),IF(AV63="Yes",AX63,""))="","Not evaluated",CONCATENATE(IF(AV59="Yes","Calibration plot / ",""),IF(AV60="Yes","Slope / ",""),IF(AV61="Yes","CITL / ",""),IF(AV62="Yes","HL test / ",""),IF(AV63="Yes",AX63,"")))))-2),IF(OR(AV59="",AV60="",AV61="",AV62=""),"",IF(CONCATENATE(IF(AV59="Yes","Calibration plot / ",""),IF(AV60="Yes","Slope / ",""),IF(AV61="Yes","CITL / ",""),IF(AV62="Yes","HL test / ",""),IF(AV63="Yes",AX63,""))="","Not evaluated",CONCATENATE(IF(AV59="Yes","Calibration plot / ",""),IF(AV60="Yes","Slope / ",""),IF(AV61="Yes","CITL / ",""),IF(AV62="Yes","HL test / ",""),IF(AV63="Yes",AX63,""))))) | AY58: =IF(RIGHT(IF(OR(AY59="",AY60="",AY61="",AY62=""),"",IF(CONCATENATE(IF(AY59="Yes","Calibration plot / ",""),IF(AY60="Yes","Slope / ",""),IF(AY61="Yes","CITL / ",""),IF(AY62="Yes","HL test / ",""),IF(AY63="Yes",BA63,""))="","Not evaluated",CONCATENATE(IF(AY59="Yes","Calibration plot / ",""),IF(AY60="Yes","Slope / ",""),IF(AY61="Yes","CITL / ",""),IF(AY62="Yes","HL test / ",""),IF(AY63="Yes",BA63,"")))),2)="/ ",LEFT(IF(OR(AY59="",AY60="",AY61="",AY62=""),"",IF(CONCATENATE(IF(AY59="Yes","Calibration plot / ",""),IF(AY60="Yes","Slope / ",""),IF(AY61="Yes","CITL / ",""),IF(AY62="Yes","HL test / ",""),IF(AY63="Yes",BA63,""))="","Not evaluated",CONCATENATE(IF(AY59="Yes","Calibration plot / ",""),IF(AY60="Yes","Slope / ",""),IF(AY61="Yes","CITL / ",""),IF(AY62="Yes","HL test / ",""),IF(AY63="Yes",BA63,"")))),LEN(IF(OR(AY59="",AY60="",AY61="",AY62=""),"",IF(CONCATENATE(IF(AY59="Yes","Calibration plot / ",""),IF(AY60="Yes","Slope / ",""),IF(AY61="Yes","CITL / ",""),IF(AY62="Yes","HL test / ",""),IF(AY63="Yes",BA63,""))="","Not evaluated",CONCATENATE(IF(AY59="Yes","Calibration plot / ",""),IF(AY60="Yes","Slope / ",""),IF(AY61="Yes","CITL / ",""),IF(AY62="Yes","HL test / ",""),IF(AY63="Yes",BA63,"")))))-2),IF(OR(AY59="",AY60="",AY61="",AY62=""),"",IF(CONCATENATE(IF(AY59="Yes","Calibration plot / ",""),IF(AY60="Yes","Slope / ",""),IF(AY61="Yes","CITL / ",""),IF(AY62="Yes","HL test / ",""),IF(AY63="Yes",BA63,""))="","Not evaluated",CONCATENATE(IF(AY59="Yes","Calibration plot / ",""),IF(AY60="Yes","Slope / ",""),IF(AY61="Yes","CITL / ",""),IF(AY62="Yes","HL test / ",""),IF(AY63="Yes",BA63,""))))) | BB58: =IF(RIGHT(IF(OR(BB59="",BB60="",BB61="",BB62=""),"",IF(CONCATENATE(IF(BB59="Yes","Calibration plot / ",""),IF(BB60="Yes","Slope / ",""),IF(BB61="Yes","CITL / ",""),IF(BB62="Yes","HL test / ",""),IF(BB63="Yes",BD63,""))="","Not evaluated",CONCATENATE(IF(BB59="Yes","Calibration plot / ",""),IF(BB60="Yes","Slope / ",""),IF(BB61="Yes","CITL / ",""),IF(BB62="Yes","HL test / ",""),IF(BB63="Yes",BD63,"")))),2)="/ ",LEFT(IF(OR(BB59="",BB60="",BB61="",BB62=""),"",IF(CONCATENATE(IF(BB59="Yes","Calibration plot / ",""),IF(BB60="Yes","Slope / ",""),IF(BB61="Yes","CITL / ",""),IF(BB62="Yes","HL test / ",""),IF(BB63="Yes",BD63,""))="","Not evaluated",CONCATENATE(IF(BB59="Yes","Calibration plot / ",""),IF(BB60="Yes","Slope / ",""),IF(BB61="Yes","CITL / ",""),IF(BB62="Yes","HL test / ",""),IF(BB63="Yes",BD63,"")))),LEN(IF(OR(BB59="",BB60="",BB61="",BB62=""),"",IF(CONCATENATE(IF(BB59="Yes","Calibration plot / ",""),IF(BB60="Yes","Slope / ",""),IF(BB61="Yes","CITL / ",""),IF(BB62="Yes","HL test / ",""),IF(BB63="Yes",BD63,""))="","Not evaluated",CONCATENATE(IF(BB59="Yes","Calibration plot / ",""),IF(BB60="Yes","Slope / ",""),IF(BB61="Yes","CITL / ",""),IF(BB62="Yes","HL test / ",""),IF(BB63="Yes",BD63,"")))))-2),IF(OR(BB59="",BB60="",BB61="",BB62=""),"",IF(CONCATENATE(IF(BB59="Yes","Calibration plot / ",""),IF(BB60="Yes","Slope / ",""),IF(BB61="Yes","CITL / ",""),IF(BB62="Yes","HL test / ",""),IF(BB63="Yes",BD63,""))="","Not evaluated",CONCATENATE(IF(BB59="Yes","Calibration plot / ",""),IF(BB60="Yes","Slope / ",""),IF(BB61="Yes","CITL / ",""),IF(BB62="Yes","HL test / ",""),IF(BB63="Yes",BD63,""))))) | BE58: =IF(RIGHT(IF(OR(BE59="",BE60="",BE61="",BE62=""),"",IF(CONCATENATE(IF(BE59="Yes","Calibration plot / ",""),IF(BE60="Yes","Slope / ",""),IF(BE61="Yes","CITL / ",""),IF(BE62="Yes","HL test / ",""),IF(BE63="Yes",BG63,""))="","Not evaluated",CONCATENATE(IF(BE59="Yes","Calibration plot / ",""),IF(BE60="Yes","Slope / ",""),IF(BE61="Yes","CITL / ",""),IF(BE62="Yes","HL test / ",""),IF(BE63="Yes",BG63,"")))),2)="/ ",LEFT(IF(OR(BE59="",BE60="",BE61="",BE62=""),"",IF(CONCATENATE(IF(BE59="Yes","Calibration plot / ",""),IF(BE60="Yes","Slope / ",""),IF(BE61="Yes","CITL / ",""),IF(BE62="Yes","HL test / ",""),IF(BE63="Yes",BG63,""))="","Not evaluated",CONCATENATE(IF(BE59="Yes","Calibration plot / ",""),IF(BE60="Yes","Slope / ",""),IF(BE61="Yes","CITL / ",""),IF(BE62="Yes","HL test / ",""),IF(BE63="Yes",BG63,"")))),LEN(IF(OR(BE59="",BE60="",BE61="",BE62=""),"",IF(CONCATENATE(IF(BE59="Yes","Calibration plot / ",""),IF(BE60="Yes","Slope / ",""),IF(BE61="Yes","CITL / ",""),IF(BE62="Yes","HL test / ",""),IF(BE63="Yes",BG63,""))="","Not evaluated",CONCATENATE(IF(BE59="Yes","Calibration plot / ",""),IF(BE60="Yes","Slope / ",""),IF(BE61="Yes","CITL / ",""),IF(BE62="Yes","HL test / ",""),IF(BE63="Yes",BG63,"")))))-2),IF(OR(BE59="",BE60="",BE61="",BE62=""),"",IF(CONCATENATE(IF(BE59="Yes","Calibration plot / ",""),IF(BE60="Yes","Slope / ",""),IF(BE61="Yes","CITL / ",""),IF(BE62="Yes","HL test / ",""),IF(BE63="Yes",BG63,""))="","Not evaluated",CONCATENATE(IF(BE59="Yes","Calibration plot / ",""),IF(BE60="Yes","Slope / ",""),IF(BE61="Yes","CITL / ",""),IF(BE62="Yes","HL test / ",""),IF(BE63="Yes",BG63,""))))) | BH58: =IF(RIGHT(IF(OR(BH59="",BH60="",BH61="",BH62=""),"",IF(CONCATENATE(IF(BH59="Yes","Calibration plot / ",""),IF(BH60="Yes","Slope / ",""),IF(BH61="Yes","CITL / ",""),IF(BH62="Yes","HL test / ",""),IF(BH63="Yes",BJ63,""))="","Not evaluated",CONCATENATE(IF(BH59="Yes","Calibration plot / ",""),IF(BH60="Yes","Slope / ",""),IF(BH61="Yes","CITL / ",""),IF(BH62="Yes","HL test / ",""),IF(BH63="Yes",BJ63,"")))),2)="/ ",LEFT(IF(OR(BH59="",BH60="",BH61="",BH62=""),"",IF(CONCATENATE(IF(BH59="Yes","Calibration plot / ",""),IF(BH60="Yes","Slope / ",""),IF(BH61="Yes","CITL / ",""),IF(BH62="Yes","HL test / ",""),IF(BH63="Yes",BJ63,""))="","Not evaluated",CONCATENATE(IF(BH59="Yes","Calibration plot / ",""),IF(BH60="Yes","Slope / ",""),IF(BH61="Yes","CITL / ",""),IF(BH62="Yes","HL test / ",""),IF(BH63="Yes",BJ63,"")))),LEN(IF(OR(BH59="",BH60="",BH61="",BH62=""),"",IF(CONCATENATE(IF(BH59="Yes","Calibration plot / ",""),IF(BH60="Yes","Slope / ",""),IF(BH61="Yes","CITL / ",""),IF(BH62="Yes","HL test / ",""),IF(BH63="Yes",BJ63,""))="","Not evaluated",CONCATENATE(IF(BH59="Yes","Calibration plot / ",""),IF(BH60="Yes","Slope / ",""),IF(BH61="Yes","CITL / ",""),IF(BH62="Yes","HL test / ",""),IF(BH63="Yes",BJ63,"")))))-2),IF(OR(BH59="",BH60="",BH61="",BH62=""),"",IF(CONCATENATE(IF(BH59="Yes","Calibration plot / ",""),IF(BH60="Yes","Slope / ",""),IF(BH61="Yes","CITL / ",""),IF(BH62="Yes","HL test / ",""),IF(BH63="Yes",BJ63,""))="","Not evaluated",CONCATENATE(IF(BH59="Yes","Calibration plot / ",""),IF(BH60="Yes","Slope / ",""),IF(BH61="Yes","CITL / ",""),IF(BH62="Yes","HL test / ",""),IF(BH63="Yes",BJ63,""))))) | BK58: =IF(RIGHT(IF(OR(BK59="",BK60="",BK61="",BK62=""),"",IF(CONCATENATE(IF(BK59="Yes","Calibration plot / ",""),IF(BK60="Yes","Slope / ",""),IF(BK61="Yes","CITL / ",""),IF(BK62="Yes","HL test / ",""),IF(BK63="Yes",BM63,""))="","Not evaluated",CONCATENATE(IF(BK59="Yes","Calibration plot / ",""),IF(BK60="Yes","Slope / ",""),IF(BK61="Yes","CITL / ",""),IF(BK62="Yes","HL test / ",""),IF(BK63="Yes",BM63,"")))),2)="/ ",LEFT(IF(OR(BK59="",BK60="",BK61="",BK62=""),"",IF(CONCATENATE(IF(BK59="Yes","Calibration plot / ",""),IF(BK60="Yes","Slope / ",""),IF(BK61="Yes","CITL / ",""),IF(BK62="Yes","HL test / ",""),IF(BK63="Yes",BM63,""))="","Not evaluated",CONCATENATE(IF(BK59="Yes","Calibration plot / ",""),IF(BK60="Yes","Slope / ",""),IF(BK61="Yes","CITL / ",""),IF(BK62="Yes","HL test / ",""),IF(BK63="Yes",BM63,"")))),LEN(IF(OR(BK59="",BK60="",BK61="",BK62=""),"",IF(CONCATENATE(IF(BK59="Yes","Calibration plot / ",""),IF(BK60="Yes","Slope / ",""),IF(BK61="Yes","CITL / ",""),IF(BK62="Yes","HL test / ",""),IF(BK63="Yes",BM63,""))="","Not evaluated",CONCATENATE(IF(BK59="Yes","Calibration plot / ",""),IF(BK60="Yes","Slope / ",""),IF(BK61="Yes","CITL / ",""),IF(BK62="Yes","HL test / ",""),IF(BK63="Yes",BM63,"")))))-2),IF(OR(BK59="",BK60="",BK61="",BK62=""),"",IF(CONCATENATE(IF(BK59="Yes","Calibration plot / ",""),IF(BK60="Yes","Slope / ",""),IF(BK61="Yes","CITL / ",""),IF(BK62="Yes","HL test / ",""),IF(BK63="Yes",BM63,""))="","Not evaluated",CONCATENATE(IF(BK59="Yes","Calibration plot / ",""),IF(BK60="Yes","Slope / ",""),IF(BK61="Yes","CITL / ",""),IF(BK62="Yes","HL test / ",""),IF(BK63="Yes",BM63,""))))) | BN58: =IF(RIGHT(IF(OR(BN59="",BN60="",BN61="",BN62=""),"",IF(CONCATENATE(IF(BN59="Yes","Calibration plot / ",""),IF(BN60="Yes","Slope / ",""),IF(BN61="Yes","CITL / ",""),IF(BN62="Yes","HL test / ",""),IF(BN63="Yes",BP63,""))="","Not evaluated",CONCATENATE(IF(BN59="Yes","Calibration plot / ",""),IF(BN60="Yes","Slope / ",""),IF(BN61="Yes","CITL / ",""),IF(BN62="Yes","HL test / ",""),IF(BN63="Yes",BP63,"")))),2)="/ ",LEFT(IF(OR(BN59="",BN60="",BN61="",BN62=""),"",IF(CONCATENATE(IF(BN59="Yes","Calibration plot / ",""),IF(BN60="Yes","Slope / ",""),IF(BN61="Yes","CITL / ",""),IF(BN62="Yes","HL test / ",""),IF(BN63="Yes",BP63,""))="","Not evaluated",CONCATENATE(IF(BN59="Yes","Calibration plot / ",""),IF(BN60="Yes","Slope / ",""),IF(BN61="Yes","CITL / ",""),IF(BN62="Yes","HL test / ",""),IF(BN63="Yes",BP63,"")))),LEN(IF(OR(BN59="",BN60="",BN61="",BN62=""),"",IF(CONCATENATE(IF(BN59="Yes","Calibration plot / ",""),IF(BN60="Yes","Slope / ",""),IF(BN61="Yes","CITL / ",""),IF(BN62="Yes","HL test / ",""),IF(BN63="Yes",BP63,""))="","Not evaluated",CONCATENATE(IF(BN59="Yes","Calibration plot / ",""),IF(BN60="Yes","Slope / ",""),IF(BN61="Yes","CITL / ",""),IF(BN62="Yes","HL test / ",""),IF(BN63="Yes",BP63,"")))))-2),IF(OR(BN59="",BN60="",BN61="",BN62=""),"",IF(CONCATENATE(IF(BN59="Yes","Calibration plot / ",""),IF(BN60="Yes","Slope / ",""),IF(BN61="Yes","CITL / ",""),IF(BN62="Yes","HL test / ",""),IF(BN63="Yes",BP63,""))="","Not evaluated",CONCATENATE(IF(BN59="Yes","Calibration plot / ",""),IF(BN60="Yes","Slope / ",""),IF(BN61="Yes","CITL / ",""),IF(BN62="Yes","HL test / ",""),IF(BN63="Yes",BP63,""))))) | BQ58: =IF(RIGHT(IF(OR(BQ59="",BQ60="",BQ61="",BQ62=""),"",IF(CONCATENATE(IF(BQ59="Yes","Calibration plot / ",""),IF(BQ60="Yes","Slope / ",""),IF(BQ61="Yes","CITL / ",""),IF(BQ62="Yes","HL test / ",""),IF(BQ63="Yes",BS63,""))="","Not evaluated",CONCATENATE(IF(BQ59="Yes","Calibration plot / ",""),IF(BQ60="Yes","Slope / ",""),IF(BQ61="Yes","CITL / ",""),IF(BQ62="Yes","HL test / ",""),IF(BQ63="Yes",BS63,"")))),2)="/ ",LEFT(IF(OR(BQ59="",BQ60="",BQ61="",BQ62=""),"",IF(CONCATENATE(IF(BQ59="Yes","Calibration plot / ",""),IF(BQ60="Yes","Slope / ",""),IF(BQ61="Yes","CITL / ",""),IF(BQ62="Yes","HL test / ",""),IF(BQ63="Yes",BS63,""))="","Not evaluated",CONCATENATE(IF(BQ59="Yes","Calibration plot / ",""),IF(BQ60="Yes","Slope / ",""),IF(BQ61="Yes","CITL / ",""),IF(BQ62="Yes","HL test / ",""),IF(BQ63="Yes",BS63,"")))),LEN(IF(OR(BQ59="",BQ60="",BQ61="",BQ62=""),"",IF(CONCATENATE(IF(BQ59="Yes","Calibration plot / ",""),IF(BQ60="Yes","Slope / ",""),IF(BQ61="Yes","CITL / ",""),IF(BQ62="Yes","HL test / ",""),IF(BQ63="Yes",BS63,""))="","Not evaluated",CONCATENATE(IF(BQ59="Yes","Calibration plot / ",""),IF(BQ60="Yes","Slope / ",""),IF(BQ61="Yes","CITL / ",""),IF(BQ62="Yes","HL test / ",""),IF(BQ63="Yes",BS63,"")))))-2),IF(OR(BQ59="",BQ60="",BQ61="",BQ62=""),"",IF(CONCATENATE(IF(BQ59="Yes","Calibration plot / ",""),IF(BQ60="Yes","Slope / ",""),IF(BQ61="Yes","CITL / ",""),IF(BQ62="Yes","HL test / ",""),IF(BQ63="Yes",BS63,""))="","Not evaluated",CONCATENATE(IF(BQ59="Yes","Calibration plot / ",""),IF(BQ60="Yes","Slope / ",""),IF(BQ61="Yes","CITL / ",""),IF(BQ62="Yes","HL test / ",""),IF(BQ63="Yes",BS63,""))))) | BT58: =IF(RIGHT(IF(OR(BT59="",BT60="",BT61="",BT62=""),"",IF(CONCATENATE(IF(BT59="Yes","Calibration plot / ",""),IF(BT60="Yes","Slope / ",""),IF(BT61="Yes","CITL / ",""),IF(BT62="Yes","HL test / ",""),IF(BT63="Yes",BV63,""))="","Not evaluated",CONCATENATE(IF(BT59="Yes","Calibration plot / ",""),IF(BT60="Yes","Slope / ",""),IF(BT61="Yes","CITL / ",""),IF(BT62="Yes","HL test / ",""),IF(BT63="Yes",BV63,"")))),2)="/ ",LEFT(IF(OR(BT59="",BT60="",BT61="",BT62=""),"",IF(CONCATENATE(IF(BT59="Yes","Calibration plot / ",""),IF(BT60="Yes","Slope / ",""),IF(BT61="Yes","CITL / ",""),IF(BT62="Yes","HL test / ",""),IF(BT63="Yes",BV63,""))="","Not evaluated",CONCATENATE(IF(BT59="Yes","Calibration plot / ",""),IF(BT60="Yes","Slope / ",""),IF(BT61="Yes","CITL / ",""),IF(BT62="Yes","HL test / ",""),IF(BT63="Yes",BV63,"")))),LEN(IF(OR(BT59="",BT60="",BT61="",BT62=""),"",IF(CONCATENATE(IF(BT59="Yes","Calibration plot / ",""),IF(BT60="Yes","Slope / ",""),IF(BT61="Yes","CITL / ",""),IF(BT62="Yes","HL test / ",""),IF(BT63="Yes",BV63,""))="","Not evaluated",CONCATENATE(IF(BT59="Yes","Calibration plot / ",""),IF(BT60="Yes","Slope / ",""),IF(BT61="Yes","CITL / ",""),IF(BT62="Yes","HL test / ",""),IF(BT63="Yes",BV63,"")))))-2),IF(OR(BT59="",BT60="",BT61="",BT62=""),"",IF(CONCATENATE(IF(BT59="Yes","Calibration plot / ",""),IF(BT60="Yes","Slope / ",""),IF(BT61="Yes","CITL / ",""),IF(BT62="Yes","HL test / ",""),IF(BT63="Yes",BV63,""))="","Not evaluated",CONCATENATE(IF(BT59="Yes","Calibration plot / ",""),IF(BT60="Yes","Slope / ",""),IF(BT61="Yes","CITL / ",""),IF(BT62="Yes","HL test / ",""),IF(BT63="Yes",BV63,""))))) | BW58: =IF(RIGHT(IF(OR(BW59="",BW60="",BW61="",BW62=""),"",IF(CONCATENATE(IF(BW59="Yes","Calibration plot / ",""),IF(BW60="Yes","Slope / ",""),IF(BW61="Yes","CITL / ",""),IF(BW62="Yes","HL test / ",""),IF(BW63="Yes",BY63,""))="","Not evaluated",CONCATENATE(IF(BW59="Yes","Calibration plot / ",""),IF(BW60="Yes","Slope / ",""),IF(BW61="Yes","CITL / ",""),IF(BW62="Yes","HL test / ",""),IF(BW63="Yes",BY63,"")))),2)="/ ",LEFT(IF(OR(BW59="",BW60="",BW61="",BW62=""),"",IF(CONCATENATE(IF(BW59="Yes","Calibration plot / ",""),IF(BW60="Yes","Slope / ",""),IF(BW61="Yes","CITL / ",""),IF(BW62="Yes","HL test / ",""),IF(BW63="Yes",BY63,""))="","Not evaluated",CONCATENATE(IF(BW59="Yes","Calibration plot / ",""),IF(BW60="Yes","Slope / ",""),IF(BW61="Yes","CITL / ",""),IF(BW62="Yes","HL test / ",""),IF(BW63="Yes",BY63,"")))),LEN(IF(OR(BW59="",BW60="",BW61="",BW62=""),"",IF(CONCATENATE(IF(BW59="Yes","Calibration plot / ",""),IF(BW60="Yes","Slope / ",""),IF(BW61="Yes","CITL / ",""),IF(BW62="Yes","HL test / ",""),IF(BW63="Yes",BY63,""))="","Not evaluated",CONCATENATE(IF(BW59="Yes","Calibration plot / ",""),IF(BW60="Yes","Slope / ",""),IF(BW61="Yes","CITL / ",""),IF(BW62="Yes","HL test / ",""),IF(BW63="Yes",BY63,"")))))-2),IF(OR(BW59="",BW60="",BW61="",BW62=""),"",IF(CONCATENATE(IF(BW59="Yes","Calibration plot / ",""),IF(BW60="Yes","Slope / ",""),IF(BW61="Yes","CITL / ",""),IF(BW62="Yes","HL test / ",""),IF(BW63="Yes",BY63,""))="","Not evaluated",CONCATENATE(IF(BW59="Yes","Calibration plot / ",""),IF(BW60="Yes","Slope / ",""),IF(BW61="Yes","CITL / ",""),IF(BW62="Yes","HL test / ",""),IF(BW63="Yes",BY63,""))))) | BZ58: =IF(RIGHT(IF(OR(BZ59="",BZ60="",BZ61="",BZ62=""),"",IF(CONCATENATE(IF(BZ59="Yes","Calibration plot / ",""),IF(BZ60="Yes","Slope / ",""),IF(BZ61="Yes","CITL / ",""),IF(BZ62="Yes","HL test / ",""),IF(BZ63="Yes",CB63,""))="","Not evaluated",CONCATENATE(IF(BZ59="Yes","Calibration plot / ",""),IF(BZ60="Yes","Slope / ",""),IF(BZ61="Yes","CITL / ",""),IF(BZ62="Yes","HL test / ",""),IF(BZ63="Yes",CB63,"")))),2)="/ ",LEFT(IF(OR(BZ59="",BZ60="",BZ61="",BZ62=""),"",IF(CONCATENATE(IF(BZ59="Yes","Calibration plot / ",""),IF(BZ60="Yes","Slope / ",""),IF(BZ61="Yes","CITL / ",""),IF(BZ62="Yes","HL test / ",""),IF(BZ63="Yes",CB63,""))="","Not evaluated",CONCATENATE(IF(BZ59="Yes","Calibration plot / ",""),IF(BZ60="Yes","Slope / ",""),IF(BZ61="Yes","CITL / ",""),IF(BZ62="Yes","HL test / ",""),IF(BZ63="Yes",CB63,"")))),LEN(IF(OR(BZ59="",BZ60="",BZ61="",BZ62=""),"",IF(CONCATENATE(IF(BZ59="Yes","Calibration plot / ",""),IF(BZ60="Yes","Slope / ",""),IF(BZ61="Yes","CITL / ",""),IF(BZ62="Yes","HL test / ",""),IF(BZ63="Yes",CB63,""))="","Not evaluated",CONCATENATE(IF(BZ59="Yes","Calibration plot / ",""),IF(BZ60="Yes","Slope / ",""),IF(BZ61="Yes","CITL / ",""),IF(BZ62="Yes","HL test / ",""),IF(BZ63="Yes",CB63,"")))))-2),IF(OR(BZ59="",BZ60="",BZ61="",BZ62=""),"",IF(CONCATENATE(IF(BZ59="Yes","Calibration plot / ",""),IF(BZ60="Yes","Slope / ",""),IF(BZ61="Yes","CITL / ",""),IF(BZ62="Yes","HL test / ",""),IF(BZ63="Yes",CB63,""))="","Not evaluated",CONCATENATE(IF(BZ59="Yes","Calibration plot / ",""),IF(BZ60="Yes","Slope / ",""),IF(BZ61="Yes","CITL / ",""),IF(BZ62="Yes","HL test / ",""),IF(BZ63="Yes",CB63,""))))) | CC58: =IF(RIGHT(IF(OR(CC59="",CC60="",CC61="",CC62=""),"",IF(CONCATENATE(IF(CC59="Yes","Calibration plot / ",""),IF(CC60="Yes","Slope / ",""),IF(CC61="Yes","CITL / ",""),IF(CC62="Yes","HL test / ",""),IF(CC63="Yes",CE63,""))="","Not evaluated",CONCATENATE(IF(CC59="Yes","Calibration plot / ",""),IF(CC60="Yes","Slope / ",""),IF(CC61="Yes","CITL / ",""),IF(CC62="Yes","HL test / ",""),IF(CC63="Yes",CE63,"")))),2)="/ ",LEFT(IF(OR(CC59="",CC60="",CC61="",CC62=""),"",IF(CONCATENATE(IF(CC59="Yes","Calibration plot / ",""),IF(CC60="Yes","Slope / ",""),IF(CC61="Yes","CITL / ",""),IF(CC62="Yes","HL test / ",""),IF(CC63="Yes",CE63,""))="","Not evaluated",CONCATENATE(IF(CC59="Yes","Calibration plot / ",""),IF(CC60="Yes","Slope / ",""),IF(CC61="Yes","CITL / ",""),IF(CC62="Yes","HL test / ",""),IF(CC63="Yes",CE63,"")))),LEN(IF(OR(CC59="",CC60="",CC61="",CC62=""),"",IF(CONCATENATE(IF(CC59="Yes","Calibration plot / ",""),IF(CC60="Yes","Slope / ",""),IF(CC61="Yes","CITL / ",""),IF(CC62="Yes","HL test / ",""),IF(CC63="Yes",CE63,""))="","Not evaluated",CONCATENATE(IF(CC59="Yes","Calibration plot / ",""),IF(CC60="Yes","Slope / ",""),IF(CC61="Yes","CITL / ",""),IF(CC62="Yes","HL test / ",""),IF(CC63="Yes",CE63,"")))))-2),IF(OR(CC59="",CC60="",CC61="",CC62=""),"",IF(CONCATENATE(IF(CC59="Yes","Calibration plot / ",""),IF(CC60="Yes","Slope / ",""),IF(CC61="Yes","CITL / ",""),IF(CC62="Yes","HL test / ",""),IF(CC63="Yes",CE63,""))="","Not evaluated",CONCATENATE(IF(CC59="Yes","Calibration plot / ",""),IF(CC60="Yes","Slope / ",""),IF(CC61="Yes","CITL / ",""),IF(CC62="Yes","HL test / ",""),IF(CC63="Yes",CE63,""))))) | CF58: =IF(RIGHT(IF(OR(CF59="",CF60="",CF61="",CF62=""),"",IF(CONCATENATE(IF(CF59="Yes","Calibration plot / ",""),IF(CF60="Yes","Slope / ",""),IF(CF61="Yes","CITL / ",""),IF(CF62="Yes","HL test / ",""),IF(CF63="Yes",CH63,""))="","Not evaluated",CONCATENATE(IF(CF59="Yes","Calibration plot / ",""),IF(CF60="Yes","Slope / ",""),IF(CF61="Yes","CITL / ",""),IF(CF62="Yes","HL test / ",""),IF(CF63="Yes",CH63,"")))),2)="/ ",LEFT(IF(OR(CF59="",CF60="",CF61="",CF62=""),"",IF(CONCATENATE(IF(CF59="Yes","Calibration plot / ",""),IF(CF60="Yes","Slope / ",""),IF(CF61="Yes","CITL / ",""),IF(CF62="Yes","HL test / ",""),IF(CF63="Yes",CH63,""))="","Not evaluated",CONCATENATE(IF(CF59="Yes","Calibration plot / ",""),IF(CF60="Yes","Slope / ",""),IF(CF61="Yes","CITL / ",""),IF(CF62="Yes","HL test / ",""),IF(CF63="Yes",CH63,"")))),LEN(IF(OR(CF59="",CF60="",CF61="",CF62=""),"",IF(CONCATENATE(IF(CF59="Yes","Calibration plot / ",""),IF(CF60="Yes","Slope / ",""),IF(CF61="Yes","CITL / ",""),IF(CF62="Yes","HL test / ",""),IF(CF63="Yes",CH63,""))="","Not evaluated",CONCATENATE(IF(CF59="Yes","Calibration plot / ",""),IF(CF60="Yes","Slope / ",""),IF(CF61="Yes","CITL / ",""),IF(CF62="Yes","HL test / ",""),IF(CF63="Yes",CH63,"")))))-2),IF(OR(CF59="",CF60="",CF61="",CF62=""),"",IF(CONCATENATE(IF(CF59="Yes","Calibration plot / ",""),IF(CF60="Yes","Slope / ",""),IF(CF61="Yes","CITL / ",""),IF(CF62="Yes","HL test / ",""),IF(CF63="Yes",CH63,""))="","Not evaluated",CONCATENATE(IF(CF59="Yes","Calibration plot / ",""),IF(CF60="Yes","Slope / ",""),IF(CF61="Yes","CITL / ",""),IF(CF62="Yes","HL test / ",""),IF(CF63="Yes",CH63,""))))) | CI58: =IF(RIGHT(IF(OR(CI59="",CI60="",CI61="",CI62=""),"",IF(CONCATENATE(IF(CI59="Yes","Calibration plot / ",""),IF(CI60="Yes","Slope / ",""),IF(CI61="Yes","CITL / ",""),IF(CI62="Yes","HL test / ",""),IF(CI63="Yes",CK63,""))="","Not evaluated",CONCATENATE(IF(CI59="Yes","Calibration plot / ",""),IF(CI60="Yes","Slope / ",""),IF(CI61="Yes","CITL / ",""),IF(CI62="Yes","HL test / ",""),IF(CI63="Yes",CK63,"")))),2)="/ ",LEFT(IF(OR(CI59="",CI60="",CI61="",CI62=""),"",IF(CONCATENATE(IF(CI59="Yes","Calibration plot / ",""),IF(CI60="Yes","Slope / ",""),IF(CI61="Yes","CITL / ",""),IF(CI62="Yes","HL test / ",""),IF(CI63="Yes",CK63,""))="","Not evaluated",CONCATENATE(IF(CI59="Yes","Calibration plot / ",""),IF(CI60="Yes","Slope / ",""),IF(CI61="Yes","CITL / ",""),IF(CI62="Yes","HL test / ",""),IF(CI63="Yes",CK63,"")))),LEN(IF(OR(CI59="",CI60="",CI61="",CI62=""),"",IF(CONCATENATE(IF(CI59="Yes","Calibration plot / ",""),IF(CI60="Yes","Slope / ",""),IF(CI61="Yes","CITL / ",""),IF(CI62="Yes","HL test / ",""),IF(CI63="Yes",CK63,""))="","Not evaluated",CONCATENATE(IF(CI59="Yes","Calibration plot / ",""),IF(CI60="Yes","Slope / ",""),IF(CI61="Yes","CITL / ",""),IF(CI62="Yes","HL test / ",""),IF(CI63="Yes",CK63,"")))))-2),IF(OR(CI59="",CI60="",CI61="",CI62=""),"",IF(CONCATENATE(IF(CI59="Yes","Calibration plot / ",""),IF(CI60="Yes","Slope / ",""),IF(CI61="Yes","CITL / ",""),IF(CI62="Yes","HL test / ",""),IF(CI63="Yes",CK63,""))="","Not evaluated",CONCATENATE(IF(CI59="Yes","Calibration plot / ",""),IF(CI60="Yes","Slope / ",""),IF(CI61="Yes","CITL / ",""),IF(CI62="Yes","HL test / ",""),IF(CI63="Yes",CK63,""))))) | CL58: =IF(RIGHT(IF(OR(CL59="",CL60="",CL61="",CL62=""),"",IF(CONCATENATE(IF(CL59="Yes","Calibration plot / ",""),IF(CL60="Yes","Slope / ",""),IF(CL61="Yes","CITL / ",""),IF(CL62="Yes","HL test / ",""),IF(CL63="Yes",CN63,""))="","Not evaluated",CONCATENATE(IF(CL59="Yes","Calibration plot / ",""),IF(CL60="Yes","Slope / ",""),IF(CL61="Yes","CITL / ",""),IF(CL62="Yes","HL test / ",""),IF(CL63="Yes",CN63,"")))),2)="/ ",LEFT(IF(OR(CL59="",CL60="",CL61="",CL62=""),"",IF(CONCATENATE(IF(CL59="Yes","Calibration plot / ",""),IF(CL60="Yes","Slope / ",""),IF(CL61="Yes","CITL / ",""),IF(CL62="Yes","HL test / ",""),IF(CL63="Yes",CN63,""))="","Not evaluated",CONCATENATE(IF(CL59="Yes","Calibration plot / ",""),IF(CL60="Yes","Slope / ",""),IF(CL61="Yes","CITL / ",""),IF(CL62="Yes","HL test / ",""),IF(CL63="Yes",CN63,"")))),LEN(IF(OR(CL59="",CL60="",CL61="",CL62=""),"",IF(CONCATENATE(IF(CL59="Yes","Calibration plot / ",""),IF(CL60="Yes","Slope / ",""),IF(CL61="Yes","CITL / ",""),IF(CL62="Yes","HL test / ",""),IF(CL63="Yes",CN63,""))="","Not evaluated",CONCATENATE(IF(CL59="Yes","Calibration plot / ",""),IF(CL60="Yes","Slope / ",""),IF(CL61="Yes","CITL / ",""),IF(CL62="Yes","HL test / ",""),IF(CL63="Yes",CN63,"")))))-2),IF(OR(CL59="",CL60="",CL61="",CL62=""),"",IF(CONCATENATE(IF(CL59="Yes","Calibration plot / ",""),IF(CL60="Yes","Slope / ",""),IF(CL61="Yes","CITL / ",""),IF(CL62="Yes","HL test / ",""),IF(CL63="Yes",CN63,""))="","Not evaluated",CONCATENATE(IF(CL59="Yes","Calibration plot / ",""),IF(CL60="Yes","Slope / ",""),IF(CL61="Yes","CITL / ",""),IF(CL62="Yes","HL test / ",""),IF(CL63="Yes",CN63,""))))) | CO58: =IF(RIGHT(IF(OR(CO59="",CO60="",CO61="",CO62=""),"",IF(CONCATENATE(IF(CO59="Yes","Calibration plot / ",""),IF(CO60="Yes","Slope / ",""),IF(CO61="Yes","CITL / ",""),IF(CO62="Yes","HL test / ",""),IF(CO63="Yes",CQ63,""))="","Not evaluated",CONCATENATE(IF(CO59="Yes","Calibration plot / ",""),IF(CO60="Yes","Slope / ",""),IF(CO61="Yes","CITL / ",""),IF(CO62="Yes","HL test / ",""),IF(CO63="Yes",CQ63,"")))),2)="/ ",LEFT(IF(OR(CO59="",CO60="",CO61="",CO62=""),"",IF(CONCATENATE(IF(CO59="Yes","Calibration plot / ",""),IF(CO60="Yes","Slope / ",""),IF(CO61="Yes","CITL / ",""),IF(CO62="Yes","HL test / ",""),IF(CO63="Yes",CQ63,""))="","Not evaluated",CONCATENATE(IF(CO59="Yes","Calibration plot / ",""),IF(CO60="Yes","Slope / ",""),IF(CO61="Yes","CITL / ",""),IF(CO62="Yes","HL test / ",""),IF(CO63="Yes",CQ63,"")))),LEN(IF(OR(CO59="",CO60="",CO61="",CO62=""),"",IF(CONCATENATE(IF(CO59="Yes","Calibration plot / ",""),IF(CO60="Yes","Slope / ",""),IF(CO61="Yes","CITL / ",""),IF(CO62="Yes","HL test / ",""),IF(CO63="Yes",CQ63,""))="","Not evaluated",CONCATENATE(IF(CO59="Yes","Calibration plot / ",""),IF(CO60="Yes","Slope / ",""),IF(CO61="Yes","CITL / ",""),IF(CO62="Yes","HL test / ",""),IF(CO63="Yes",CQ63,"")))))-2),IF(OR(CO59="",CO60="",CO61="",CO62=""),"",IF(CONCATENATE(IF(CO59="Yes","Calibration plot / ",""),IF(CO60="Yes","Slope / ",""),IF(CO61="Yes","CITL / ",""),IF(CO62="Yes","HL test / ",""),IF(CO63="Yes",CQ63,""))="","Not evaluated",CONCATENATE(IF(CO59="Yes","Calibration plot / ",""),IF(CO60="Yes","Slope / ",""),IF(CO61="Yes","CITL / ",""),IF(CO62="Yes","HL test / ",""),IF(CO63="Yes",CQ63,"")))))
B59: X | D59: 8.1.1 Calibration plot | F59: No | I59: No | L59: No | O59: Yes | R59: Yes | U59: Yes | X59: No | AA59: Yes | AD59: Yes | AG59: Yes | AJ59: Yes
B60: X | D60: 8.1.2 Calibration slope | F60: No | G60: value (95% CI): | I60: No | J60: value (95% CI): | L60: No | M60: value (95% CI): | O60: No | P60: value (95% CI): | R60: Yes | S60: value (95% CI): | T60: 1.009 | U60: No | V60: value (95% CI): | X60: No | Y60: value (95% CI): | AA60: No | AB60: value (95% CI): | AD60: No | AE60: value (95% CI): | AG60: Yes | AH60: value (95% CI): | AI60: 0.93 (0.92 to 0.93) | AJ60: Yes | AK60: value (95% CI): | AL60: 0.93 (0.92 to 0.94) | AN60: value (95% CI): | AQ60: value (95% CI): | AT60: value (95% CI): | AW60: value (95% CI): | AZ60: value (95% CI): | BC60: value (95% CI): | BF60: value (95% CI): | BI60: value (95% CI): | BL60: value (95% CI): | BO60: value (95% CI): | BR60: value (95% CI): | BU60: value (95% CI): | BX60: value (95% CI): | CA60: value (95% CI): | CD60: value (95% CI): | CG60: value (95% CI): | CJ60: value (95% CI): | CM60: value (95% CI): | CP60: value (95% CI):
B61: X | D61: 8.1.3 Calibration-in-the-large (CITL) | F61: No | G61: value (95% CI): | I61: No | J61: value (95% CI): | L61: No | M61: value (95% CI): | O61: No | P61: value (95% CI): | R61: No | S61: value (95% CI): | U61: No | V61: value (95% CI): | X61: No | Y61: value (95% CI): | AA61: No | AB61: value (95% CI): | AD61: No | AE61: value (95% CI): | AG61: Yes | AH61: value (95% CI): | AI61: -0.06 (-0.07 to -0.05) | AJ61: Yes | AK61: value (95% CI): | AL61: -0.05 (-0.06 to -0.04) | AN61: value (95% CI): | AQ61: value (95% CI): | AT61: value (95% CI): | AW61: value (95% CI): | AZ61: value (95% CI): | BC61: value (95% CI): | BF61: value (95% CI): | BI61: value (95% CI): | BL61: value (95% CI): | BO61: value (95% CI): | BR61: value (95% CI): | BU61: value (95% CI): | BX61: value (95% CI): | CA61: value (95% CI): | CD61: value (95% CI): | CG61: value (95% CI): | CJ61: value (95% CI): | CM61: value (95% CI): | CP61: value (95% CI):
B62: X | D62: 8.1.4 Hosmer-Lemeshow test | F62: No | I62: No | L62: No | O62: No | R62: No | U62: No | X62: No | AA62: Yes | AD62: No | AG62: No | AJ62: No
B63: X | D63: 8.1.5 Other | F63: No | G63: Specify: | I63: No | J63: Specify: | L63: No | M63: Specify: | O63: No | P63: Specify: | R63: No | S63: Specify: | U63: No | V63: Specify: | X63: No | Y63: Specify: | AA63: No | AB63: Specify: | AD63: No | AE63: Specify: | AG63: No | AH63: Specify: | AJ63: No | AK63: Specify: | AN63: Specify: | AQ63: Specify: | AT63: Specify: | AW63: Specify: | AZ63: Specify: | BC63: Specify: | BF63: Specify: | BI63: Specify: | BL63: Specify: | BO63: Specify: | BR63: Specify: | BU63: Specify: | BX63: Specify: | CA63: Specify: | CD63: Specify: | CG63: Specify: | CJ63: Specify: | CM63: Specify: | CP63: Specify:
B64: X | D64: 8.2 Discrimination measures | F64: =IF(RIGHT(IF(OR(F65="",F66="",F67="",F68="",F69=""),"",IF(CONCATENATE(IF(F65="Yes","C-Statistic / ",""),IF(F66="Yes","D-Statistics / ",""),IF(F67="Yes","AUC graph / ",""),IF(F68="Yes","Log-rank test / ",""),IF(F69="Yes","Risk group curves / ",""),IF(F70="Yes",H70,""))="","Not evaluated",CONCATENATE(IF(F65="Yes","C-Statistic / ",""),IF(F66="Yes","D-Statistics / ",""),IF(F67="Yes","AUC graph / ",""),IF(F68="Yes","Log-rank test / ",""),IF(F69="Yes","Risk group curves / ",""),IF(F70="Yes",H70,"")))),2)="/ ",LEFT(IF(OR(F65="",F66="",F67="",F68="",F69=""),"",IF(CONCATENATE(IF(F65="Yes","C-Statistic / ",""),IF(F66="Yes","D-Statistics / ",""),IF(F67="Yes","AUC graph / ",""),IF(F68="Yes","Log-rank test / ",""),IF(F69="Yes","Risk group curves / ",""),IF(F70="Yes",H70,""))="","Not evaluated",CONCATENATE(IF(F65="Yes","C-Statistic / ",""),IF(F66="Yes","D-Statistics / ",""),IF(F67="Yes","AUC graph / ",""),IF(F68="Yes","Log-rank test / ",""),IF(F69="Yes","Risk group curves / ",""),IF(F70="Yes",H70,"")))),LEN(IF(OR(F65="",F66="",F67="",F68="",F69=""),"",IF(CONCATENATE(IF(F65="Yes","C-Statistic / ",""),IF(F66="Yes","D-Statistics / ",""),IF(F67="Yes","AUC graph / ",""),IF(F68="Yes","Log-rank test / ",""),IF(F69="Yes","Risk group curves / ",""),IF(F70="Yes",H70,""))="","Not evaluated",CONCATENATE(IF(F65="Yes","C-Statistic / ",""),IF(F66="Yes","D-Statistics / ",""),IF(F67="Yes","AUC graph / ",""),IF(F68="Yes","Log-rank test / ",""),IF(F69="Yes","Risk group curves / ",""),IF(F70="Yes",H70,"")))))-2),IF(OR(F65="",F66="",F67="",F68="",F69=""),"",IF(CONCATENATE(IF(F65="Yes","C-Statistic / ",""),IF(F66="Yes","D-Statistics / ",""),IF(F67="Yes","AUC graph / ",""),IF(F68="Yes","Log-rank test / ",""),IF(F69="Yes","Risk group curves / ",""),IF(F70="Yes",H70,""))="","Not evaluated",CONCATENATE(IF(F65="Yes","C-Statistic / ",""),IF(F66="Yes","D-Statistics / ",""),IF(F67="Yes","AUC graph / ",""),IF(F68="Yes","Log-rank test / ",""),IF(F69="Yes","Risk group curves / ",""),IF(F70="Yes",H70,""))))) -> C-Statistic | I64: =IF(RIGHT(IF(OR(I65="",I66="",I67="",I68="",I69=""),"",IF(CONCATENATE(IF(I65="Yes","C-Statistic / ",""),IF(I66="Yes","D-Statistics / ",""),IF(I67="Yes","AUC graph / ",""),IF(I68="Yes","Log-rank test / ",""),IF(I69="Yes","Risk group curves / ",""),IF(I70="Yes",K70,""))="","Not evaluated",CONCATENATE(IF(I65="Yes","C-Statistic / ",""),IF(I66="Yes","D-Statistics / ",""),IF(I67="Yes","AUC graph / ",""),IF(I68="Yes","Log-rank test / ",""),IF(I69="Yes","Risk group curves / ",""),IF(I70="Yes",K70,"")))),2)="/ ",LEFT(IF(OR(I65="",I66="",I67="",I68="",I69=""),"",IF(CONCATENATE(IF(I65="Yes","C-Statistic / ",""),IF(I66="Yes","D-Statistics / ",""),IF(I67="Yes","AUC graph / ",""),IF(I68="Yes","Log-rank test / ",""),IF(I69="Yes","Risk group curves / ",""),IF(I70="Yes",K70,""))="","Not evaluated",CONCATENATE(IF(I65="Yes","C-Statistic / ",""),IF(I66="Yes","D-Statistics / ",""),IF(I67="Yes","AUC graph / ",""),IF(I68="Yes","Log-rank test / ",""),IF(I69="Yes","Risk group curves / ",""),IF(I70="Yes",K70,"")))),LEN(IF(OR(I65="",I66="",I67="",I68="",I69=""),"",IF(CONCATENATE(IF(I65="Yes","C-Statistic / ",""),IF(I66="Yes","D-Statistics / ",""),IF(I67="Yes","AUC graph / ",""),IF(I68="Yes","Log-rank test / ",""),IF(I69="Yes","Risk group curves / ",""),IF(I70="Yes",K70,""))="","Not evaluated",CONCATENATE(IF(I65="Yes","C-Statistic / ",""),IF(I66="Yes","D-Statistics / ",""),IF(I67="Yes","AUC graph / ",""),IF(I68="Yes","Log-rank test / ",""),IF(I69="Yes","Risk group curves / ",""),IF(I70="Yes",K70,"")))))-2),IF(OR(I65="",I66="",I67="",I68="",I69=""),"",IF(CONCATENATE(IF(I65="Yes","C-Statistic / ",""),IF(I66="Yes","D-Statistics / ",""),IF(I67="Yes","AUC graph / ",""),IF(I68="Yes","Log-rank test / ",""),IF(I69="Yes","Risk group curves / ",""),IF(I70="Yes",K70,""))="","Not evaluated",CONCATENATE(IF(I65="Yes","C-Statistic / ",""),IF(I66="Yes","D-Statistics / ",""),IF(I67="Yes","AUC graph / ",""),IF(I68="Yes","Log-rank test / ",""),IF(I69="Yes","Risk group curves / ",""),IF(I70="Yes",K70,""))))) -> C-Statistic | L64: =IF(RIGHT(IF(OR(L65="",L66="",L67="",L68="",L69=""),"",IF(CONCATENATE(IF(L65="Yes","C-Statistic / ",""),IF(L66="Yes","D-Statistics / ",""),IF(L67="Yes","AUC graph / ",""),IF(L68="Yes","Log-rank test / ",""),IF(L69="Yes","Risk group curves / ",""),IF(L70="Yes",N70,""))="","Not evaluated",CONCATENATE(IF(L65="Yes","C-Statistic / ",""),IF(L66="Yes","D-Statistics / ",""),IF(L67="Yes","AUC graph / ",""),IF(L68="Yes","Log-rank test / ",""),IF(L69="Yes","Risk group curves / ",""),IF(L70="Yes",N70,"")))),2)="/ ",LEFT(IF(OR(L65="",L66="",L67="",L68="",L69=""),"",IF(CONCATENATE(IF(L65="Yes","C-Statistic / ",""),IF(L66="Yes","D-Statistics / ",""),IF(L67="Yes","AUC graph / ",""),IF(L68="Yes","Log-rank test / ",""),IF(L69="Yes","Risk group curves / ",""),IF(L70="Yes",N70,""))="","Not evaluated",CONCATENATE(IF(L65="Yes","C-Statistic / ",""),IF(L66="Yes","D-Statistics / ",""),IF(L67="Yes","AUC graph / ",""),IF(L68="Yes","Log-rank test / ",""),IF(L69="Yes","Risk group curves / ",""),IF(L70="Yes",N70,"")))),LEN(IF(OR(L65="",L66="",L67="",L68="",L69=""),"",IF(CONCATENATE(IF(L65="Yes","C-Statistic / ",""),IF(L66="Yes","D-Statistics / ",""),IF(L67="Yes","AUC graph / ",""),IF(L68="Yes","Log-rank test / ",""),IF(L69="Yes","Risk group curves / ",""),IF(L70="Yes",N70,""))="","Not evaluated",CONCATENATE(IF(L65="Yes","C-Statistic / ",""),IF(L66="Yes","D-Statistics / ",""),IF(L67="Yes","AUC graph / ",""),IF(L68="Yes","Log-rank test / ",""),IF(L69="Yes","Risk group curves / ",""),IF(L70="Yes",N70,"")))))-2),IF(OR(L65="",L66="",L67="",L68="",L69=""),"",IF(CONCATENATE(IF(L65="Yes","C-Statistic / ",""),IF(L66="Yes","D-Statistics / ",""),IF(L67="Yes","AUC graph / ",""),IF(L68="Yes","Log-rank test / ",""),IF(L69="Yes","Risk group curves / ",""),IF(L70="Yes",N70,""))="","Not evaluated",CONCATENATE(IF(L65="Yes","C-Statistic / ",""),IF(L66="Yes","D-Statistics / ",""),IF(L67="Yes","AUC graph / ",""),IF(L68="Yes","Log-rank test / ",""),IF(L69="Yes","Risk group curves / ",""),IF(L70="Yes",N70,""))))) -> C-Statistic | O64: =IF(RIGHT(IF(OR(O65="",O66="",O67="",O68="",O69=""),"",IF(CONCATENATE(IF(O65="Yes","C-Statistic / ",""),IF(O66="Yes","D-Statistics / ",""),IF(O67="Yes","AUC graph / ",""),IF(O68="Yes","Log-rank test / ",""),IF(O69="Yes","Risk group curves / ",""),IF(O70="Yes",Q70,""))="","Not evaluated",CONCATENATE(IF(O65="Yes","C-Statistic / ",""),IF(O66="Yes","D-Statistics / ",""),IF(O67="Yes","AUC graph / ",""),IF(O68="Yes","Log-rank test / ",""),IF(O69="Yes","Risk group curves / ",""),IF(O70="Yes",Q70,"")))),2)="/ ",LEFT(IF(OR(O65="",O66="",O67="",O68="",O69=""),"",IF(CONCATENATE(IF(O65="Yes","C-Statistic / ",""),IF(O66="Yes","D-Statistics / ",""),IF(O67="Yes","AUC graph / ",""),IF(O68="Yes","Log-rank test / ",""),IF(O69="Yes","Risk group curves / ",""),IF(O70="Yes",Q70,""))="","Not evaluated",CONCATENATE(IF(O65="Yes","C-Statistic / ",""),IF(O66="Yes","D-Statistics / ",""),IF(O67="Yes","AUC graph / ",""),IF(O68="Yes","Log-rank test / ",""),IF(O69="Yes","Risk group curves / ",""),IF(O70="Yes",Q70,"")))),LEN(IF(OR(O65="",O66="",O67="",O68="",O69=""),"",IF(CONCATENATE(IF(O65="Yes","C-Statistic / ",""),IF(O66="Yes","D-Statistics / ",""),IF(O67="Yes","AUC graph / ",""),IF(O68="Yes","Log-rank test / ",""),IF(O69="Yes","Risk group curves / ",""),IF(O70="Yes",Q70,""))="","Not evaluated",CONCATENATE(IF(O65="Yes","C-Statistic / ",""),IF(O66="Yes","D-Statistics / ",""),IF(O67="Yes","AUC graph / ",""),IF(O68="Yes","Log-rank test / ",""),IF(O69="Yes","Risk group curves / ",""),IF(O70="Yes",Q70,"")))))-2),IF(OR(O65="",O66="",O67="",O68="",O69=""),"",IF(CONCATENATE(IF(O65="Yes","C-Statistic / ",""),IF(O66="Yes","D-Statistics / ",""),IF(O67="Yes","AUC graph / ",""),IF(O68="Yes","Log-rank test / ",""),IF(O69="Yes","Risk group curves / ",""),IF(O70="Yes",Q70,""))="","Not evaluated",CONCATENATE(IF(O65="Yes","C-Statistic / ",""),IF(O66="Yes","D-Statistics / ",""),IF(O67="Yes","AUC graph / ",""),IF(O68="Yes","Log-rank test / ",""),IF(O69="Yes","Risk group curves / ",""),IF(O70="Yes",Q70,""))))) -> C-Statistic | R64: =IF(RIGHT(IF(OR(R65="",R66="",R67="",R68="",R69=""),"",IF(CONCATENATE(IF(R65="Yes","C-Statistic / ",""),IF(R66="Yes","D-Statistics / ",""),IF(R67="Yes","AUC graph / ",""),IF(R68="Yes","Log-rank test / ",""),IF(R69="Yes","Risk group curves / ",""),IF(R70="Yes",T70,""))="","Not evaluated",CONCATENATE(IF(R65="Yes","C-Statistic / ",""),IF(R66="Yes","D-Statistics / ",""),IF(R67="Yes","AUC graph / ",""),IF(R68="Yes","Log-rank test / ",""),IF(R69="Yes","Risk group curves / ",""),IF(R70="Yes",T70,"")))),2)="/ ",LEFT(IF(OR(R65="",R66="",R67="",R68="",R69=""),"",IF(CONCATENATE(IF(R65="Yes","C-Statistic / ",""),IF(R66="Yes","D-Statistics / ",""),IF(R67="Yes","AUC graph / ",""),IF(R68="Yes","Log-rank test / ",""),IF(R69="Yes","Risk group curves / ",""),IF(R70="Yes",T70,""))="","Not evaluated",CONCATENATE(IF(R65="Yes","C-Statistic / ",""),IF(R66="Yes","D-Statistics / ",""),IF(R67="Yes","AUC graph / ",""),IF(R68="Yes","Log-rank test / ",""),IF(R69="Yes","Risk group curves / ",""),IF(R70="Yes",T70,"")))),LEN(IF(OR(R65="",R66="",R67="",R68="",R69=""),"",IF(CONCATENATE(IF(R65="Yes","C-Statistic / ",""),IF(R66="Yes","D-Statistics / ",""),IF(R67="Yes","AUC graph / ",""),IF(R68="Yes","Log-rank test / ",""),IF(R69="Yes","Risk group curves / ",""),IF(R70="Yes",T70,""))="","Not evaluated",CONCATENATE(IF(R65="Yes","C-Statistic / ",""),IF(R66="Yes","D-Statistics / ",""),IF(R67="Yes","AUC graph / ",""),IF(R68="Yes","Log-rank test / ",""),IF(R69="Yes","Risk group curves / ",""),IF(R70="Yes",T70,"")))))-2),IF(OR(R65="",R66="",R67="",R68="",R69=""),"",IF(CONCATENATE(IF(R65="Yes","C-Statistic / ",""),IF(R66="Yes","D-Statistics / ",""),IF(R67="Yes","AUC graph / ",""),IF(R68="Yes","Log-rank test / ",""),IF(R69="Yes","Risk group curves / ",""),IF(R70="Yes",T70,""))="","Not evaluated",CONCATENATE(IF(R65="Yes","C-Statistic / ",""),IF(R66="Yes","D-Statistics / ",""),IF(R67="Yes","AUC graph / ",""),IF(R68="Yes","Log-rank test / ",""),IF(R69="Yes","Risk group curves / ",""),IF(R70="Yes",T70,""))))) -> C-Statistic / AUC graph | U64: =IF(RIGHT(IF(OR(U65="",U66="",U67="",U68="",U69=""),"",IF(CONCATENATE(IF(U65="Yes","C-Statistic / ",""),IF(U66="Yes","D-Statistics / ",""),IF(U67="Yes","AUC graph / ",""),IF(U68="Yes","Log-rank test / ",""),IF(U69="Yes","Risk group curves / ",""),IF(U70="Yes",W70,""))="","Not evaluated",CONCATENATE(IF(U65="Yes","C-Statistic / ",""),IF(U66="Yes","D-Statistics / ",""),IF(U67="Yes","AUC graph / ",""),IF(U68="Yes","Log-rank test / ",""),IF(U69="Yes","Risk group curves / ",""),IF(U70="Yes",W70,"")))),2)="/ ",LEFT(IF(OR(U65="",U66="",U67="",U68="",U69=""),"",IF(CONCATENATE(IF(U65="Yes","C-Statistic / ",""),IF(U66="Yes","D-Statistics / ",""),IF(U67="Yes","AUC graph / ",""),IF(U68="Yes","Log-rank test / ",""),IF(U69="Yes","Risk group curves / ",""),IF(U70="Yes",W70,""))="","Not evaluated",CONCATENATE(IF(U65="Yes","C-Statistic / ",""),IF(U66="Yes","D-Statistics / ",""),IF(U67="Yes","AUC graph / ",""),IF(U68="Yes","Log-rank test / ",""),IF(U69="Yes","Risk group curves / ",""),IF(U70="Yes",W70,"")))),LEN(IF(OR(U65="",U66="",U67="",U68="",U69=""),"",IF(CONCATENATE(IF(U65="Yes","C-Statistic / ",""),IF(U66="Yes","D-Statistics / ",""),IF(U67="Yes","AUC graph / ",""),IF(U68="Yes","Log-rank test / ",""),IF(U69="Yes","Risk group curves / ",""),IF(U70="Yes",W70,""))="","Not evaluated",CONCATENATE(IF(U65="Yes","C-Statistic / ",""),IF(U66="Yes","D-Statistics / ",""),IF(U67="Yes","AUC graph / ",""),IF(U68="Yes","Log-rank test / ",""),IF(U69="Yes","Risk group curves / ",""),IF(U70="Yes",W70,"")))))-2),IF(OR(U65="",U66="",U67="",U68="",U69=""),"",IF(CONCATENATE(IF(U65="Yes","C-Statistic / ",""),IF(U66="Yes","D-Statistics / ",""),IF(U67="Yes","AUC graph / ",""),IF(U68="Yes","Log-rank test / ",""),IF(U69="Yes","Risk group curves / ",""),IF(U70="Yes",W70,""))="","Not evaluated",CONCATENATE(IF(U65="Yes","C-Statistic / ",""),IF(U66="Yes","D-Statistics / ",""),IF(U67="Yes","AUC graph / ",""),IF(U68="Yes","Log-rank test / ",""),IF(U69="Yes","Risk group curves / ",""),IF(U70="Yes",W70,""))))) -> C-Statistic / AUC graph | X64: =IF(RIGHT(IF(OR(X65="",X66="",X67="",X68="",X69=""),"",IF(CONCATENATE(IF(X65="Yes","C-Statistic / ",""),IF(X66="Yes","D-Statistics / ",""),IF(X67="Yes","AUC graph / ",""),IF(X68="Yes","Log-rank test / ",""),IF(X69="Yes","Risk group curves / ",""),IF(X70="Yes",Z70,""))="","Not evaluated",CONCATENATE(IF(X65="Yes","C-Statistic / ",""),IF(X66="Yes","D-Statistics / ",""),IF(X67="Yes","AUC graph / ",""),IF(X68="Yes","Log-rank test / ",""),IF(X69="Yes","Risk group curves / ",""),IF(X70="Yes",Z70,"")))),2)="/ ",LEFT(IF(OR(X65="",X66="",X67="",X68="",X69=""),"",IF(CONCATENATE(IF(X65="Yes","C-Statistic / ",""),IF(X66="Yes","D-Statistics / ",""),IF(X67="Yes","AUC graph / ",""),IF(X68="Yes","Log-rank test / ",""),IF(X69="Yes","Risk group curves / ",""),IF(X70="Yes",Z70,""))="","Not evaluated",CONCATENATE(IF(X65="Yes","C-Statistic / ",""),IF(X66="Yes","D-Statistics / ",""),IF(X67="Yes","AUC graph / ",""),IF(X68="Yes","Log-rank test / ",""),IF(X69="Yes","Risk group curves / ",""),IF(X70="Yes",Z70,"")))),LEN(IF(OR(X65="",X66="",X67="",X68="",X69=""),"",IF(CONCATENATE(IF(X65="Yes","C-Statistic / ",""),IF(X66="Yes","D-Statistics / ",""),IF(X67="Yes","AUC graph / ",""),IF(X68="Yes","Log-rank test / ",""),IF(X69="Yes","Risk group curves / ",""),IF(X70="Yes",Z70,""))="","Not evaluated",CONCATENATE(IF(X65="Yes","C-Statistic / ",""),IF(X66="Yes","D-Statistics / ",""),IF(X67="Yes","AUC graph / ",""),IF(X68="Yes","Log-rank test / ",""),IF(X69="Yes","Risk group curves / ",""),IF(X70="Yes",Z70,"")))))-2),IF(OR(X65="",X66="",X67="",X68="",X69=""),"",IF(CONCATENATE(IF(X65="Yes","C-Statistic / ",""),IF(X66="Yes","D-Statistics / ",""),IF(X67="Yes","AUC graph / ",""),IF(X68="Yes","Log-rank test / ",""),IF(X69="Yes","Risk group curves / ",""),IF(X70="Yes",Z70,""))="","Not evaluated",CONCATENATE(IF(X65="Yes","C-Statistic / ",""),IF(X66="Yes","D-Statistics / ",""),IF(X67="Yes","AUC graph / ",""),IF(X68="Yes","Log-rank test / ",""),IF(X69="Yes","Risk group curves / ",""),IF(X70="Yes",Z70,""))))) -> C-Statistic | AA64: =IF(RIGHT(IF(OR(AA65="",AA66="",AA67="",AA68="",AA69=""),"",IF(CONCATENATE(IF(AA65="Yes","C-Statistic / ",""),IF(AA66="Yes","D-Statistics / ",""),IF(AA67="Yes","AUC graph / ",""),IF(AA68="Yes","Log-rank test / ",""),IF(AA69="Yes","Risk group curves / ",""),IF(AA70="Yes",AC70,""))="","Not evaluated",CONCATENATE(IF(AA65="Yes","C-Statistic / ",""),IF(AA66="Yes","D-Statistics / ",""),IF(AA67="Yes","AUC graph / ",""),IF(AA68="Yes","Log-rank test / ",""),IF(AA69="Yes","Risk group curves / ",""),IF(AA70="Yes",AC70,"")))),2)="/ ",LEFT(IF(OR(AA65="",AA66="",AA67="",AA68="",AA69=""),"",IF(CONCATENATE(IF(AA65="Yes","C-Statistic / ",""),IF(AA66="Yes","D-Statistics / ",""),IF(AA67="Yes","AUC graph / ",""),IF(AA68="Yes","Log-rank test / ",""),IF(AA69="Yes","Risk group curves / ",""),IF(AA70="Yes",AC70,""))="","Not evaluated",CONCATENATE(IF(AA65="Yes","C-Statistic / ",""),IF(AA66="Yes","D-Statistics / ",""),IF(AA67="Yes","AUC graph / ",""),IF(AA68="Yes","Log-rank test / ",""),IF(AA69="Yes","Risk group curves / ",""),IF(AA70="Yes",AC70,"")))),LEN(IF(OR(AA65="",AA66="",AA67="",AA68="",AA69=""),"",IF(CONCATENATE(IF(AA65="Yes","C-Statistic / ",""),IF(AA66="Yes","D-Statistics / ",""),IF(AA67="Yes","AUC graph / ",""),IF(AA68="Yes","Log-rank test / ",""),IF(AA69="Yes","Risk group curves / ",""),IF(AA70="Yes",AC70,""))="","Not evaluated",CONCATENATE(IF(AA65="Yes","C-Statistic / ",""),IF(AA66="Yes","D-Statistics / ",""),IF(AA67="Yes","AUC graph / ",""),IF(AA68="Yes","Log-rank test / ",""),IF(AA69="Yes","Risk group curves / ",""),IF(AA70="Yes",AC70,"")))))-2),IF(OR(AA65="",AA66="",AA67="",AA68="",AA69=""),"",IF(CONCATENATE(IF(AA65="Yes","C-Statistic / ",""),IF(AA66="Yes","D-Statistics / ",""),IF(AA67="Yes","AUC graph / ",""),IF(AA68="Yes","Log-rank test / ",""),IF(AA69="Yes","Risk group curves / ",""),IF(AA70="Yes",AC70,""))="","Not evaluated",CONCATENATE(IF(AA65="Yes","C-Statistic / ",""),IF(AA66="Yes","D-Statistics / ",""),IF(AA67="Yes","AUC graph / ",""),IF(AA68="Yes","Log-rank test / ",""),IF(AA69="Yes","Risk group curves / ",""),IF(AA70="Yes",AC70,""))))) -> C-Statistic / AUC graph | AD64: =IF(RIGHT(IF(OR(AD65="",AD66="",AD67="",AD68="",AD69=""),"",IF(CONCATENATE(IF(AD65="Yes","C-Statistic / ",""),IF(AD66="Yes","D-Statistics / ",""),IF(AD67="Yes","AUC graph / ",""),IF(AD68="Yes","Log-rank test / ",""),IF(AD69="Yes","Risk group curves / ",""),IF(AD70="Yes",AF70,""))="","Not evaluated",CONCATENATE(IF(AD65="Yes","C-Statistic / ",""),IF(AD66="Yes","D-Statistics / ",""),IF(AD67="Yes","AUC graph / ",""),IF(AD68="Yes","Log-rank test / ",""),IF(AD69="Yes","Risk group curves / ",""),IF(AD70="Yes",AF70,"")))),2)="/ ",LEFT(IF(OR(AD65="",AD66="",AD67="",AD68="",AD69=""),"",IF(CONCATENATE(IF(AD65="Yes","C-Statistic / ",""),IF(AD66="Yes","D-Statistics / ",""),IF(AD67="Yes","AUC graph / ",""),IF(AD68="Yes","Log-rank test / ",""),IF(AD69="Yes","Risk group curves / ",""),IF(AD70="Yes",AF70,""))="","Not evaluated",CONCATENATE(IF(AD65="Yes","C-Statistic / ",""),IF(AD66="Yes","D-Statistics / ",""),IF(AD67="Yes","AUC graph / ",""),IF(AD68="Yes","Log-rank test / ",""),IF(AD69="Yes","Risk group curves / ",""),IF(AD70="Yes",AF70,"")))),LEN(IF(OR(AD65="",AD66="",AD67="",AD68="",AD69=""),"",IF(CONCATENATE(IF(AD65="Yes","C-Statistic / ",""),IF(AD66="Yes","D-Statistics / ",""),IF(AD67="Yes","AUC graph / ",""),IF(AD68="Yes","Log-rank test / ",""),IF(AD69="Yes","Risk group curves / ",""),IF(AD70="Yes",AF70,""))="","Not evaluated",CONCATENATE(IF(AD65="Yes","C-Statistic / ",""),IF(AD66="Yes","D-Statistics / ",""),IF(AD67="Yes","AUC graph / ",""),IF(AD68="Yes","Log-rank test / ",""),IF(AD69="Yes","Risk group curves / ",""),IF(AD70="Yes",AF70,"")))))-2),IF(OR(AD65="",AD66="",AD67="",AD68="",AD69=""),"",IF(CONCATENATE(IF(AD65="Yes","C-Statistic / ",""),IF(AD66="Yes","D-Statistics / ",""),IF(AD67="Yes","AUC graph / ",""),IF(AD68="Yes","Log-rank test / ",""),IF(AD69="Yes","Risk group curves / ",""),IF(AD70="Yes",AF70,""))="","Not evaluated",CONCATENATE(IF(AD65="Yes","C-Statistic / ",""),IF(AD66="Yes","D-Statistics / ",""),IF(AD67="Yes","AUC graph / ",""),IF(AD68="Yes","Log-rank test / ",""),IF(AD69="Yes","Risk group curves / ",""),IF(AD70="Yes",AF70,""))))) -> C-Statistic | AG64: =IF(RIGHT(IF(OR(AG65="",AG66="",AG67="",AG68="",AG69=""),"",IF(CONCATENATE(IF(AG65="Yes","C-Statistic / ",""),IF(AG66="Yes","D-Statistics / ",""),IF(AG67="Yes","AUC graph / ",""),IF(AG68="Yes","Log-rank test / ",""),IF(AG69="Yes","Risk group curves / ",""),IF(AG70="Yes",AI70,""))="","Not evaluated",CONCATENATE(IF(AG65="Yes","C-Statistic / ",""),IF(AG66="Yes","D-Statistics / ",""),IF(AG67="Yes","AUC graph / ",""),IF(AG68="Yes","Log-rank test / ",""),IF(AG69="Yes","Risk group curves / ",""),IF(AG70="Yes",AI70,"")))),2)="/ ",LEFT(IF(OR(AG65="",AG66="",AG67="",AG68="",AG69=""),"",IF(CONCATENATE(IF(AG65="Yes","C-Statistic / ",""),IF(AG66="Yes","D-Statistics / ",""),IF(AG67="Yes","AUC graph / ",""),IF(AG68="Yes","Log-rank test / ",""),IF(AG69="Yes","Risk group curves / ",""),IF(AG70="Yes",AI70,""))="","Not evaluated",CONCATENATE(IF(AG65="Yes","C-Statistic / ",""),IF(AG66="Yes","D-Statistics / ",""),IF(AG67="Yes","AUC graph / ",""),IF(AG68="Yes","Log-rank test / ",""),IF(AG69="Yes","Risk group curves / ",""),IF(AG70="Yes",AI70,"")))),LEN(IF(OR(AG65="",AG66="",AG67="",AG68="",AG69=""),"",IF(CONCATENATE(IF(AG65="Yes","C-Statistic / ",""),IF(AG66="Yes","D-Statistics / ",""),IF(AG67="Yes","AUC graph / ",""),IF(AG68="Yes","Log-rank test / ",""),IF(AG69="Yes","Risk group curves / ",""),IF(AG70="Yes",AI70,""))="","Not evaluated",CONCATENATE(IF(AG65="Yes","C-Statistic / ",""),IF(AG66="Yes","D-Statistics / ",""),IF(AG67="Yes","AUC graph / ",""),IF(AG68="Yes","Log-rank test / ",""),IF(AG69="Yes","Risk group curves / ",""),IF(AG70="Yes",AI70,"")))))-2),IF(OR(AG65="",AG66="",AG67="",AG68="",AG69=""),"",IF(CONCATENATE(IF(AG65="Yes","C-Statistic / ",""),IF(AG66="Yes","D-Statistics / ",""),IF(AG67="Yes","AUC graph / ",""),IF(AG68="Yes","Log-rank test / ",""),IF(AG69="Yes","Risk group curves / ",""),IF(AG70="Yes",AI70,""))="","Not evaluated",CONCATENATE(IF(AG65="Yes","C-Statistic / ",""),IF(AG66="Yes","D-Statistics / ",""),IF(AG67="Yes","AUC graph / ",""),IF(AG68="Yes","Log-rank test / ",""),IF(AG69="Yes","Risk group curves / ",""),IF(AG70="Yes",AI70,""))))) -> C-Statistic / AUC graph | AJ64: =IF(RIGHT(IF(OR(AJ65="",AJ66="",AJ67="",AJ68="",AJ69=""),"",IF(CONCATENATE(IF(AJ65="Yes","C-Statistic / ",""),IF(AJ66="Yes","D-Statistics / ",""),IF(AJ67="Yes","AUC graph / ",""),IF(AJ68="Yes","Log-rank test / ",""),IF(AJ69="Yes","Risk group curves / ",""),IF(AJ70="Yes",AL70,""))="","Not evaluated",CONCATENATE(IF(AJ65="Yes","C-Statistic / ",""),IF(AJ66="Yes","D-Statistics / ",""),IF(AJ67="Yes","AUC graph / ",""),IF(AJ68="Yes","Log-rank test / ",""),IF(AJ69="Yes","Risk group curves / ",""),IF(AJ70="Yes",AL70,"")))),2)="/ ",LEFT(IF(OR(AJ65="",AJ66="",AJ67="",AJ68="",AJ69=""),"",IF(CONCATENATE(IF(AJ65="Yes","C-Statistic / ",""),IF(AJ66="Yes","D-Statistics / ",""),IF(AJ67="Yes","AUC graph / ",""),IF(AJ68="Yes","Log-rank test / ",""),IF(AJ69="Yes","Risk group curves / ",""),IF(AJ70="Yes",AL70,""))="","Not evaluated",CONCATENATE(IF(AJ65="Yes","C-Statistic / ",""),IF(AJ66="Yes","D-Statistics / ",""),IF(AJ67="Yes","AUC graph / ",""),IF(AJ68="Yes","Log-rank test / ",""),IF(AJ69="Yes","Risk group curves / ",""),IF(AJ70="Yes",AL70,"")))),LEN(IF(OR(AJ65="",AJ66="",AJ67="",AJ68="",AJ69=""),"",IF(CONCATENATE(IF(AJ65="Yes","C-Statistic / ",""),IF(AJ66="Yes","D-Statistics / ",""),IF(AJ67="Yes","AUC graph / ",""),IF(AJ68="Yes","Log-rank test / ",""),IF(AJ69="Yes","Risk group curves / ",""),IF(AJ70="Yes",AL70,""))="","Not evaluated",CONCATENATE(IF(AJ65="Yes","C-Statistic / ",""),IF(AJ66="Yes","D-Statistics / ",""),IF(AJ67="Yes","AUC graph / ",""),IF(AJ68="Yes","Log-rank test / ",""),IF(AJ69="Yes","Risk group curves / ",""),IF(AJ70="Yes",AL70,"")))))-2),IF(OR(AJ65="",AJ66="",AJ67="",AJ68="",AJ69=""),"",IF(CONCATENATE(IF(AJ65="Yes","C-Statistic / ",""),IF(AJ66="Yes","D-Statistics / ",""),IF(AJ67="Yes","AUC graph / ",""),IF(AJ68="Yes","Log-rank test / ",""),IF(AJ69="Yes","Risk group curves / ",""),IF(AJ70="Yes",AL70,""))="","Not evaluated",CONCATENATE(IF(AJ65="Yes","C-Statistic / ",""),IF(AJ66="Yes","D-Statistics / ",""),IF(AJ67="Yes","AUC graph / ",""),IF(AJ68="Yes","Log-rank test / ",""),IF(AJ69="Yes","Risk group curves / ",""),IF(AJ70="Yes",AL70,""))))) -> C-Statistic / AUC graph | AM64: =IF(RIGHT(IF(OR(AM65="",AM66="",AM67="",AM68="",AM69=""),"",IF(CONCATENATE(IF(AM65="Yes","C-Statistic / ",""),IF(AM66="Yes","D-Statistics / ",""),IF(AM67="Yes","AUC graph / ",""),IF(AM68="Yes","Log-rank test / ",""),IF(AM69="Yes","Risk group curves / ",""),IF(AM70="Yes",AO70,""))="","Not evaluated",CONCATENATE(IF(AM65="Yes","C-Statistic / ",""),IF(AM66="Yes","D-Statistics / ",""),IF(AM67="Yes","AUC graph / ",""),IF(AM68="Yes","Log-rank test / ",""),IF(AM69="Yes","Risk group curves / ",""),IF(AM70="Yes",AO70,"")))),2)="/ ",LEFT(IF(OR(AM65="",AM66="",AM67="",AM68="",AM69=""),"",IF(CONCATENATE(IF(AM65="Yes","C-Statistic / ",""),IF(AM66="Yes","D-Statistics / ",""),IF(AM67="Yes","AUC graph / ",""),IF(AM68="Yes","Log-rank test / ",""),IF(AM69="Yes","Risk group curves / ",""),IF(AM70="Yes",AO70,""))="","Not evaluated",CONCATENATE(IF(AM65="Yes","C-Statistic / ",""),IF(AM66="Yes","D-Statistics / ",""),IF(AM67="Yes","AUC graph / ",""),IF(AM68="Yes","Log-rank test / ",""),IF(AM69="Yes","Risk group curves / ",""),IF(AM70="Yes",AO70,"")))),LEN(IF(OR(AM65="",AM66="",AM67="",AM68="",AM69=""),"",IF(CONCATENATE(IF(AM65="Yes","C-Statistic / ",""),IF(AM66="Yes","D-Statistics / ",""),IF(AM67="Yes","AUC graph / ",""),IF(AM68="Yes","Log-rank test / ",""),IF(AM69="Yes","Risk group curves / ",""),IF(AM70="Yes",AO70,""))="","Not evaluated",CONCATENATE(IF(AM65="Yes","C-Statistic / ",""),IF(AM66="Yes","D-Statistics / ",""),IF(AM67="Yes","AUC graph / ",""),IF(AM68="Yes","Log-rank test / ",""),IF(AM69="Yes","Risk group curves / ",""),IF(AM70="Yes",AO70,"")))))-2),IF(OR(AM65="",AM66="",AM67="",AM68="",AM69=""),"",IF(CONCATENATE(IF(AM65="Yes","C-Statistic / ",""),IF(AM66="Yes","D-Statistics / ",""),IF(AM67="Yes","AUC graph / ",""),IF(AM68="Yes","Log-rank test / ",""),IF(AM69="Yes","Risk group curves / ",""),IF(AM70="Yes",AO70,""))="","Not evaluated",CONCATENATE(IF(AM65="Yes","C-Statistic / ",""),IF(AM66="Yes","D-Statistics / ",""),IF(AM67="Yes","AUC graph / ",""),IF(AM68="Yes","Log-rank test / ",""),IF(AM69="Yes","Risk group curves / ",""),IF(AM70="Yes",AO70,""))))) | AP64: =IF(RIGHT(IF(OR(AP65="",AP66="",AP67="",AP68="",AP69=""),"",IF(CONCATENATE(IF(AP65="Yes","C-Statistic / ",""),IF(AP66="Yes","D-Statistics / ",""),IF(AP67="Yes","AUC graph / ",""),IF(AP68="Yes","Log-rank test / ",""),IF(AP69="Yes","Risk group curves / ",""),IF(AP70="Yes",AR70,""))="","Not evaluated",CONCATENATE(IF(AP65="Yes","C-Statistic / ",""),IF(AP66="Yes","D-Statistics / ",""),IF(AP67="Yes","AUC graph / ",""),IF(AP68="Yes","Log-rank test / ",""),IF(AP69="Yes","Risk group curves / ",""),IF(AP70="Yes",AR70,"")))),2)="/ ",LEFT(IF(OR(AP65="",AP66="",AP67="",AP68="",AP69=""),"",IF(CONCATENATE(IF(AP65="Yes","C-Statistic / ",""),IF(AP66="Yes","D-Statistics / ",""),IF(AP67="Yes","AUC graph / ",""),IF(AP68="Yes","Log-rank test / ",""),IF(AP69="Yes","Risk group curves / ",""),IF(AP70="Yes",AR70,""))="","Not evaluated",CONCATENATE(IF(AP65="Yes","C-Statistic / ",""),IF(AP66="Yes","D-Statistics / ",""),IF(AP67="Yes","AUC graph / ",""),IF(AP68="Yes","Log-rank test / ",""),IF(AP69="Yes","Risk group curves / ",""),IF(AP70="Yes",AR70,"")))),LEN(IF(OR(AP65="",AP66="",AP67="",AP68="",AP69=""),"",IF(CONCATENATE(IF(AP65="Yes","C-Statistic / ",""),IF(AP66="Yes","D-Statistics / ",""),IF(AP67="Yes","AUC graph / ",""),IF(AP68="Yes","Log-rank test / ",""),IF(AP69="Yes","Risk group curves / ",""),IF(AP70="Yes",AR70,""))="","Not evaluated",CONCATENATE(IF(AP65="Yes","C-Statistic / ",""),IF(AP66="Yes","D-Statistics / ",""),IF(AP67="Yes","AUC graph / ",""),IF(AP68="Yes","Log-rank test / ",""),IF(AP69="Yes","Risk group curves / ",""),IF(AP70="Yes",AR70,"")))))-2),IF(OR(AP65="",AP66="",AP67="",AP68="",AP69=""),"",IF(CONCATENATE(IF(AP65="Yes","C-Statistic / ",""),IF(AP66="Yes","D-Statistics / ",""),IF(AP67="Yes","AUC graph / ",""),IF(AP68="Yes","Log-rank test / ",""),IF(AP69="Yes","Risk group curves / ",""),IF(AP70="Yes",AR70,""))="","Not evaluated",CONCATENATE(IF(AP65="Yes","C-Statistic / ",""),IF(AP66="Yes","D-Statistics / ",""),IF(AP67="Yes","AUC graph / ",""),IF(AP68="Yes","Log-rank test / ",""),IF(AP69="Yes","Risk group curves / ",""),IF(AP70="Yes",AR70,""))))) | AS64: =IF(RIGHT(IF(OR(AS65="",AS66="",AS67="",AS68="",AS69=""),"",IF(CONCATENATE(IF(AS65="Yes","C-Statistic / ",""),IF(AS66="Yes","D-Statistics / ",""),IF(AS67="Yes","AUC graph / ",""),IF(AS68="Yes","Log-rank test / ",""),IF(AS69="Yes","Risk group curves / ",""),IF(AS70="Yes",AU70,""))="","Not evaluated",CONCATENATE(IF(AS65="Yes","C-Statistic / ",""),IF(AS66="Yes","D-Statistics / ",""),IF(AS67="Yes","AUC graph / ",""),IF(AS68="Yes","Log-rank test / ",""),IF(AS69="Yes","Risk group curves / ",""),IF(AS70="Yes",AU70,"")))),2)="/ ",LEFT(IF(OR(AS65="",AS66="",AS67="",AS68="",AS69=""),"",IF(CONCATENATE(IF(AS65="Yes","C-Statistic / ",""),IF(AS66="Yes","D-Statistics / ",""),IF(AS67="Yes","AUC graph / ",""),IF(AS68="Yes","Log-rank test / ",""),IF(AS69="Yes","Risk group curves / ",""),IF(AS70="Yes",AU70,""))="","Not evaluated",CONCATENATE(IF(AS65="Yes","C-Statistic / ",""),IF(AS66="Yes","D-Statistics / ",""),IF(AS67="Yes","AUC graph / ",""),IF(AS68="Yes","Log-rank test / ",""),IF(AS69="Yes","Risk group curves / ",""),IF(AS70="Yes",AU70,"")))),LEN(IF(OR(AS65="",AS66="",AS67="",AS68="",AS69=""),"",IF(CONCATENATE(IF(AS65="Yes","C-Statistic / ",""),IF(AS66="Yes","D-Statistics / ",""),IF(AS67="Yes","AUC graph / ",""),IF(AS68="Yes","Log-rank test / ",""),IF(AS69="Yes","Risk group curves / ",""),IF(AS70="Yes",AU70,""))="","Not evaluated",CONCATENATE(IF(AS65="Yes","C-Statistic / ",""),IF(AS66="Yes","D-Statistics / ",""),IF(AS67="Yes","AUC graph / ",""),IF(AS68="Yes","Log-rank test / ",""),IF(AS69="Yes","Risk group curves / ",""),IF(AS70="Yes",AU70,"")))))-2),IF(OR(AS65="",AS66="",AS67="",AS68="",AS69=""),"",IF(CONCATENATE(IF(AS65="Yes","C-Statistic / ",""),IF(AS66="Yes","D-Statistics / ",""),IF(AS67="Yes","AUC graph / ",""),IF(AS68="Yes","Log-rank test / ",""),IF(AS69="Yes","Risk group curves / ",""),IF(AS70="Yes",AU70,""))="","Not evaluated",CONCATENATE(IF(AS65="Yes","C-Statistic / ",""),IF(AS66="Yes","D-Statistics / ",""),IF(AS67="Yes","AUC graph / ",""),IF(AS68="Yes","Log-rank test / ",""),IF(AS69="Yes","Risk group curves / ",""),IF(AS70="Yes",AU70,""))))) | AV64: =IF(RIGHT(IF(OR(AV65="",AV66="",AV67="",AV68="",AV69=""),"",IF(CONCATENATE(IF(AV65="Yes","C-Statistic / ",""),IF(AV66="Yes","D-Statistics / ",""),IF(AV67="Yes","AUC graph / ",""),IF(AV68="Yes","Log-rank test / ",""),IF(AV69="Yes","Risk group curves / ",""),IF(AV70="Yes",AX70,""))="","Not evaluated",CONCATENATE(IF(AV65="Yes","C-Statistic / ",""),IF(AV66="Yes","D-Statistics / ",""),IF(AV67="Yes","AUC graph / ",""),IF(AV68="Yes","Log-rank test / ",""),IF(AV69="Yes","Risk group curves / ",""),IF(AV70="Yes",AX70,"")))),2)="/ ",LEFT(IF(OR(AV65="",AV66="",AV67="",AV68="",AV69=""),"",IF(CONCATENATE(IF(AV65="Yes","C-Statistic / ",""),IF(AV66="Yes","D-Statistics / ",""),IF(AV67="Yes","AUC graph / ",""),IF(AV68="Yes","Log-rank test / ",""),IF(AV69="Yes","Risk group curves / ",""),IF(AV70="Yes",AX70,""))="","Not evaluated",CONCATENATE(IF(AV65="Yes","C-Statistic / ",""),IF(AV66="Yes","D-Statistics / ",""),IF(AV67="Yes","AUC graph / ",""),IF(AV68="Yes","Log-rank test / ",""),IF(AV69="Yes","Risk group curves / ",""),IF(AV70="Yes",AX70,"")))),LEN(IF(OR(AV65="",AV66="",AV67="",AV68="",AV69=""),"",IF(CONCATENATE(IF(AV65="Yes","C-Statistic / ",""),IF(AV66="Yes","D-Statistics / ",""),IF(AV67="Yes","AUC graph / ",""),IF(AV68="Yes","Log-rank test / ",""),IF(AV69="Yes","Risk group curves / ",""),IF(AV70="Yes",AX70,""))="","Not evaluated",CONCATENATE(IF(AV65="Yes","C-Statistic / ",""),IF(AV66="Yes","D-Statistics / ",""),IF(AV67="Yes","AUC graph / ",""),IF(AV68="Yes","Log-rank test / ",""),IF(AV69="Yes","Risk group curves / ",""),IF(AV70="Yes",AX70,"")))))-2),IF(OR(AV65="",AV66="",AV67="",AV68="",AV69=""),"",IF(CONCATENATE(IF(AV65="Yes","C-Statistic / ",""),IF(AV66="Yes","D-Statistics / ",""),IF(AV67="Yes","AUC graph / ",""),IF(AV68="Yes","Log-rank test / ",""),IF(AV69="Yes","Risk group curves / ",""),IF(AV70="Yes",AX70,""))="","Not evaluated",CONCATENATE(IF(AV65="Yes","C-Statistic / ",""),IF(AV66="Yes","D-Statistics / ",""),IF(AV67="Yes","AUC graph / ",""),IF(AV68="Yes","Log-rank test / ",""),IF(AV69="Yes","Risk group curves / ",""),IF(AV70="Yes",AX70,""))))) | AY64: =IF(RIGHT(IF(OR(AY65="",AY66="",AY67="",AY68="",AY69=""),"",IF(CONCATENATE(IF(AY65="Yes","C-Statistic / ",""),IF(AY66="Yes","D-Statistics / ",""),IF(AY67="Yes","AUC graph / ",""),IF(AY68="Yes","Log-rank test / ",""),IF(AY69="Yes","Risk group curves / ",""),IF(AY70="Yes",BA70,""))="","Not evaluated",CONCATENATE(IF(AY65="Yes","C-Statistic / ",""),IF(AY66="Yes","D-Statistics / ",""),IF(AY67="Yes","AUC graph / ",""),IF(AY68="Yes","Log-rank test / ",""),IF(AY69="Yes","Risk group curves / ",""),IF(AY70="Yes",BA70,"")))),2)="/ ",LEFT(IF(OR(AY65="",AY66="",AY67="",AY68="",AY69=""),"",IF(CONCATENATE(IF(AY65="Yes","C-Statistic / ",""),IF(AY66="Yes","D-Statistics / ",""),IF(AY67="Yes","AUC graph / ",""),IF(AY68="Yes","Log-rank test / ",""),IF(AY69="Yes","Risk group curves / ",""),IF(AY70="Yes",BA70,""))="","Not evaluated",CONCATENATE(IF(AY65="Yes","C-Statistic / ",""),IF(AY66="Yes","D-Statistics / ",""),IF(AY67="Yes","AUC graph / ",""),IF(AY68="Yes","Log-rank test / ",""),IF(AY69="Yes","Risk group curves / ",""),IF(AY70="Yes",BA70,"")))),LEN(IF(OR(AY65="",AY66="",AY67="",AY68="",AY69=""),"",IF(CONCATENATE(IF(AY65="Yes","C-Statistic / ",""),IF(AY66="Yes","D-Statistics / ",""),IF(AY67="Yes","AUC graph / ",""),IF(AY68="Yes","Log-rank test / ",""),IF(AY69="Yes","Risk group curves / ",""),IF(AY70="Yes",BA70,""))="","Not evaluated",CONCATENATE(IF(AY65="Yes","C-Statistic / ",""),IF(AY66="Yes","D-Statistics / ",""),IF(AY67="Yes","AUC graph / ",""),IF(AY68="Yes","Log-rank test / ",""),IF(AY69="Yes","Risk group curves / ",""),IF(AY70="Yes",BA70,"")))))-2),IF(OR(AY65="",AY66="",AY67="",AY68="",AY69=""),"",IF(CONCATENATE(IF(AY65="Yes","C-Statistic / ",""),IF(AY66="Yes","D-Statistics / ",""),IF(AY67="Yes","AUC graph / ",""),IF(AY68="Yes","Log-rank test / ",""),IF(AY69="Yes","Risk group curves / ",""),IF(AY70="Yes",BA70,""))="","Not evaluated",CONCATENATE(IF(AY65="Yes","C-Statistic / ",""),IF(AY66="Yes","D-Statistics / ",""),IF(AY67="Yes","AUC graph / ",""),IF(AY68="Yes","Log-rank test / ",""),IF(AY69="Yes","Risk group curves / ",""),IF(AY70="Yes",BA70,""))))) | BB64: =IF(RIGHT(IF(OR(BB65="",BB66="",BB67="",BB68="",BB69=""),"",IF(CONCATENATE(IF(BB65="Yes","C-Statistic / ",""),IF(BB66="Yes","D-Statistics / ",""),IF(BB67="Yes","AUC graph / ",""),IF(BB68="Yes","Log-rank test / ",""),IF(BB69="Yes","Risk group curves / ",""),IF(BB70="Yes",BD70,""))="","Not evaluated",CONCATENATE(IF(BB65="Yes","C-Statistic / ",""),IF(BB66="Yes","D-Statistics / ",""),IF(BB67="Yes","AUC graph / ",""),IF(BB68="Yes","Log-rank test / ",""),IF(BB69="Yes","Risk group curves / ",""),IF(BB70="Yes",BD70,"")))),2)="/ ",LEFT(IF(OR(BB65="",BB66="",BB67="",BB68="",BB69=""),"",IF(CONCATENATE(IF(BB65="Yes","C-Statistic / ",""),IF(BB66="Yes","D-Statistics / ",""),IF(BB67="Yes","AUC graph / ",""),IF(BB68="Yes","Log-rank test / ",""),IF(BB69="Yes","Risk group curves / ",""),IF(BB70="Yes",BD70,""))="","Not evaluated",CONCATENATE(IF(BB65="Yes","C-Statistic / ",""),IF(BB66="Yes","D-Statistics / ",""),IF(BB67="Yes","AUC graph / ",""),IF(BB68="Yes","Log-rank test / ",""),IF(BB69="Yes","Risk group curves / ",""),IF(BB70="Yes",BD70,"")))),LEN(IF(OR(BB65="",BB66="",BB67="",BB68="",BB69=""),"",IF(CONCATENATE(IF(BB65="Yes","C-Statistic / ",""),IF(BB66="Yes","D-Statistics / ",""),IF(BB67="Yes","AUC graph / ",""),IF(BB68="Yes","Log-rank test / ",""),IF(BB69="Yes","Risk group curves / ",""),IF(BB70="Yes",BD70,""))="","Not evaluated",CONCATENATE(IF(BB65="Yes","C-Statistic / ",""),IF(BB66="Yes","D-Statistics / ",""),IF(BB67="Yes","AUC graph / ",""),IF(BB68="Yes","Log-rank test / ",""),IF(BB69="Yes","Risk group curves / ",""),IF(BB70="Yes",BD70,"")))))-2),IF(OR(BB65="",BB66="",BB67="",BB68="",BB69=""),"",IF(CONCATENATE(IF(BB65="Yes","C-Statistic / ",""),IF(BB66="Yes","D-Statistics / ",""),IF(BB67="Yes","AUC graph / ",""),IF(BB68="Yes","Log-rank test / ",""),IF(BB69="Yes","Risk group curves / ",""),IF(BB70="Yes",BD70,""))="","Not evaluated",CONCATENATE(IF(BB65="Yes","C-Statistic / ",""),IF(BB66="Yes","D-Statistics / ",""),IF(BB67="Yes","AUC graph / ",""),IF(BB68="Yes","Log-rank test / ",""),IF(BB69="Yes","Risk group curves / ",""),IF(BB70="Yes",BD70,""))))) | BE64: =IF(RIGHT(IF(OR(BE65="",BE66="",BE67="",BE68="",BE69=""),"",IF(CONCATENATE(IF(BE65="Yes","C-Statistic / ",""),IF(BE66="Yes","D-Statistics / ",""),IF(BE67="Yes","AUC graph / ",""),IF(BE68="Yes","Log-rank test / ",""),IF(BE69="Yes","Risk group curves / ",""),IF(BE70="Yes",BG70,""))="","Not evaluated",CONCATENATE(IF(BE65="Yes","C-Statistic / ",""),IF(BE66="Yes","D-Statistics / ",""),IF(BE67="Yes","AUC graph / ",""),IF(BE68="Yes","Log-rank test / ",""),IF(BE69="Yes","Risk group curves / ",""),IF(BE70="Yes",BG70,"")))),2)="/ ",LEFT(IF(OR(BE65="",BE66="",BE67="",BE68="",BE69=""),"",IF(CONCATENATE(IF(BE65="Yes","C-Statistic / ",""),IF(BE66="Yes","D-Statistics / ",""),IF(BE67="Yes","AUC graph / ",""),IF(BE68="Yes","Log-rank test / ",""),IF(BE69="Yes","Risk group curves / ",""),IF(BE70="Yes",BG70,""))="","Not evaluated",CONCATENATE(IF(BE65="Yes","C-Statistic / ",""),IF(BE66="Yes","D-Statistics / ",""),IF(BE67="Yes","AUC graph / ",""),IF(BE68="Yes","Log-rank test / ",""),IF(BE69="Yes","Risk group curves / ",""),IF(BE70="Yes",BG70,"")))),LEN(IF(OR(BE65="",BE66="",BE67="",BE68="",BE69=""),"",IF(CONCATENATE(IF(BE65="Yes","C-Statistic / ",""),IF(BE66="Yes","D-Statistics / ",""),IF(BE67="Yes","AUC graph / ",""),IF(BE68="Yes","Log-rank test / ",""),IF(BE69="Yes","Risk group curves / ",""),IF(BE70="Yes",BG70,""))="","Not evaluated",CONCATENATE(IF(BE65="Yes","C-Statistic / ",""),IF(BE66="Yes","D-Statistics / ",""),IF(BE67="Yes","AUC graph / ",""),IF(BE68="Yes","Log-rank test / ",""),IF(BE69="Yes","Risk group curves / ",""),IF(BE70="Yes",BG70,"")))))-2),IF(OR(BE65="",BE66="",BE67="",BE68="",BE69=""),"",IF(CONCATENATE(IF(BE65="Yes","C-Statistic / ",""),IF(BE66="Yes","D-Statistics / ",""),IF(BE67="Yes","AUC graph / ",""),IF(BE68="Yes","Log-rank test / ",""),IF(BE69="Yes","Risk group curves / ",""),IF(BE70="Yes",BG70,""))="","Not evaluated",CONCATENATE(IF(BE65="Yes","C-Statistic / ",""),IF(BE66="Yes","D-Statistics / ",""),IF(BE67="Yes","AUC graph / ",""),IF(BE68="Yes","Log-rank test / ",""),IF(BE69="Yes","Risk group curves / ",""),IF(BE70="Yes",BG70,""))))) | BH64: =IF(RIGHT(IF(OR(BH65="",BH66="",BH67="",BH68="",BH69=""),"",IF(CONCATENATE(IF(BH65="Yes","C-Statistic / ",""),IF(BH66="Yes","D-Statistics / ",""),IF(BH67="Yes","AUC graph / ",""),IF(BH68="Yes","Log-rank test / ",""),IF(BH69="Yes","Risk group curves / ",""),IF(BH70="Yes",BJ70,""))="","Not evaluated",CONCATENATE(IF(BH65="Yes","C-Statistic / ",""),IF(BH66="Yes","D-Statistics / ",""),IF(BH67="Yes","AUC graph / ",""),IF(BH68="Yes","Log-rank test / ",""),IF(BH69="Yes","Risk group curves / ",""),IF(BH70="Yes",BJ70,"")))),2)="/ ",LEFT(IF(OR(BH65="",BH66="",BH67="",BH68="",BH69=""),"",IF(CONCATENATE(IF(BH65="Yes","C-Statistic / ",""),IF(BH66="Yes","D-Statistics / ",""),IF(BH67="Yes","AUC graph / ",""),IF(BH68="Yes","Log-rank test / ",""),IF(BH69="Yes","Risk group curves / ",""),IF(BH70="Yes",BJ70,""))="","Not evaluated",CONCATENATE(IF(BH65="Yes","C-Statistic / ",""),IF(BH66="Yes","D-Statistics / ",""),IF(BH67="Yes","AUC graph / ",""),IF(BH68="Yes","Log-rank test / ",""),IF(BH69="Yes","Risk group curves / ",""),IF(BH70="Yes",BJ70,"")))),LEN(IF(OR(BH65="",BH66="",BH67="",BH68="",BH69=""),"",IF(CONCATENATE(IF(BH65="Yes","C-Statistic / ",""),IF(BH66="Yes","D-Statistics / ",""),IF(BH67="Yes","AUC graph / ",""),IF(BH68="Yes","Log-rank test / ",""),IF(BH69="Yes","Risk group curves / ",""),IF(BH70="Yes",BJ70,""))="","Not evaluated",CONCATENATE(IF(BH65="Yes","C-Statistic / ",""),IF(BH66="Yes","D-Statistics / ",""),IF(BH67="Yes","AUC graph / ",""),IF(BH68="Yes","Log-rank test / ",""),IF(BH69="Yes","Risk group curves / ",""),IF(BH70="Yes",BJ70,"")))))-2),IF(OR(BH65="",BH66="",BH67="",BH68="",BH69=""),"",IF(CONCATENATE(IF(BH65="Yes","C-Statistic / ",""),IF(BH66="Yes","D-Statistics / ",""),IF(BH67="Yes","AUC graph / ",""),IF(BH68="Yes","Log-rank test / ",""),IF(BH69="Yes","Risk group curves / ",""),IF(BH70="Yes",BJ70,""))="","Not evaluated",CONCATENATE(IF(BH65="Yes","C-Statistic / ",""),IF(BH66="Yes","D-Statistics / ",""),IF(BH67="Yes","AUC graph / ",""),IF(BH68="Yes","Log-rank test / ",""),IF(BH69="Yes","Risk group curves / ",""),IF(BH70="Yes",BJ70,""))))) | BK64: =IF(RIGHT(IF(OR(BK65="",BK66="",BK67="",BK68="",BK69=""),"",IF(CONCATENATE(IF(BK65="Yes","C-Statistic / ",""),IF(BK66="Yes","D-Statistics / ",""),IF(BK67="Yes","AUC graph / ",""),IF(BK68="Yes","Log-rank test / ",""),IF(BK69="Yes","Risk group curves / ",""),IF(BK70="Yes",BM70,""))="","Not evaluated",CONCATENATE(IF(BK65="Yes","C-Statistic / ",""),IF(BK66="Yes","D-Statistics / ",""),IF(BK67="Yes","AUC graph / ",""),IF(BK68="Yes","Log-rank test / ",""),IF(BK69="Yes","Risk group curves / ",""),IF(BK70="Yes",BM70,"")))),2)="/ ",LEFT(IF(OR(BK65="",BK66="",BK67="",BK68="",BK69=""),"",IF(CONCATENATE(IF(BK65="Yes","C-Statistic / ",""),IF(BK66="Yes","D-Statistics / ",""),IF(BK67="Yes","AUC graph / ",""),IF(BK68="Yes","Log-rank test / ",""),IF(BK69="Yes","Risk group curves / ",""),IF(BK70="Yes",BM70,""))="","Not evaluated",CONCATENATE(IF(BK65="Yes","C-Statistic / ",""),IF(BK66="Yes","D-Statistics / ",""),IF(BK67="Yes","AUC graph / ",""),IF(BK68="Yes","Log-rank test / ",""),IF(BK69="Yes","Risk group curves / ",""),IF(BK70="Yes",BM70,"")))),LEN(IF(OR(BK65="",BK66="",BK67="",BK68="",BK69=""),"",IF(CONCATENATE(IF(BK65="Yes","C-Statistic / ",""),IF(BK66="Yes","D-Statistics / ",""),IF(BK67="Yes","AUC graph / ",""),IF(BK68="Yes","Log-rank test / ",""),IF(BK69="Yes","Risk group curves / ",""),IF(BK70="Yes",BM70,""))="","Not evaluated",CONCATENATE(IF(BK65="Yes","C-Statistic / ",""),IF(BK66="Yes","D-Statistics / ",""),IF(BK67="Yes","AUC graph / ",""),IF(BK68="Yes","Log-rank test / ",""),IF(BK69="Yes","Risk group curves / ",""),IF(BK70="Yes",BM70,"")))))-2),IF(OR(BK65="",BK66="",BK67="",BK68="",BK69=""),"",IF(CONCATENATE(IF(BK65="Yes","C-Statistic / ",""),IF(BK66="Yes","D-Statistics / ",""),IF(BK67="Yes","AUC graph / ",""),IF(BK68="Yes","Log-rank test / ",""),IF(BK69="Yes","Risk group curves / ",""),IF(BK70="Yes",BM70,""))="","Not evaluated",CONCATENATE(IF(BK65="Yes","C-Statistic / ",""),IF(BK66="Yes","D-Statistics / ",""),IF(BK67="Yes","AUC graph / ",""),IF(BK68="Yes","Log-rank test / ",""),IF(BK69="Yes","Risk group curves / ",""),IF(BK70="Yes",BM70,""))))) | BN64: =IF(RIGHT(IF(OR(BN65="",BN66="",BN67="",BN68="",BN69=""),"",IF(CONCATENATE(IF(BN65="Yes","C-Statistic / ",""),IF(BN66="Yes","D-Statistics / ",""),IF(BN67="Yes","AUC graph / ",""),IF(BN68="Yes","Log-rank test / ",""),IF(BN69="Yes","Risk group curves / ",""),IF(BN70="Yes",BP70,""))="","Not evaluated",CONCATENATE(IF(BN65="Yes","C-Statistic / ",""),IF(BN66="Yes","D-Statistics / ",""),IF(BN67="Yes","AUC graph / ",""),IF(BN68="Yes","Log-rank test / ",""),IF(BN69="Yes","Risk group curves / ",""),IF(BN70="Yes",BP70,"")))),2)="/ ",LEFT(IF(OR(BN65="",BN66="",BN67="",BN68="",BN69=""),"",IF(CONCATENATE(IF(BN65="Yes","C-Statistic / ",""),IF(BN66="Yes","D-Statistics / ",""),IF(BN67="Yes","AUC graph / ",""),IF(BN68="Yes","Log-rank test / ",""),IF(BN69="Yes","Risk group curves / ",""),IF(BN70="Yes",BP70,""))="","Not evaluated",CONCATENATE(IF(BN65="Yes","C-Statistic / ",""),IF(BN66="Yes","D-Statistics / ",""),IF(BN67="Yes","AUC graph / ",""),IF(BN68="Yes","Log-rank test / ",""),IF(BN69="Yes","Risk group curves / ",""),IF(BN70="Yes",BP70,"")))),LEN(IF(OR(BN65="",BN66="",BN67="",BN68="",BN69=""),"",IF(CONCATENATE(IF(BN65="Yes","C-Statistic / ",""),IF(BN66="Yes","D-Statistics / ",""),IF(BN67="Yes","AUC graph / ",""),IF(BN68="Yes","Log-rank test / ",""),IF(BN69="Yes","Risk group curves / ",""),IF(BN70="Yes",BP70,""))="","Not evaluated",CONCATENATE(IF(BN65="Yes","C-Statistic / ",""),IF(BN66="Yes","D-Statistics / ",""),IF(BN67="Yes","AUC graph / ",""),IF(BN68="Yes","Log-rank test / ",""),IF(BN69="Yes","Risk group curves / ",""),IF(BN70="Yes",BP70,"")))))-2),IF(OR(BN65="",BN66="",BN67="",BN68="",BN69=""),"",IF(CONCATENATE(IF(BN65="Yes","C-Statistic / ",""),IF(BN66="Yes","D-Statistics / ",""),IF(BN67="Yes","AUC graph / ",""),IF(BN68="Yes","Log-rank test / ",""),IF(BN69="Yes","Risk group curves / ",""),IF(BN70="Yes",BP70,""))="","Not evaluated",CONCATENATE(IF(BN65="Yes","C-Statistic / ",""),IF(BN66="Yes","D-Statistics / ",""),IF(BN67="Yes","AUC graph / ",""),IF(BN68="Yes","Log-rank test / ",""),IF(BN69="Yes","Risk group curves / ",""),IF(BN70="Yes",BP70,""))))) | BQ64: =IF(RIGHT(IF(OR(BQ65="",BQ66="",BQ67="",BQ68="",BQ69=""),"",IF(CONCATENATE(IF(BQ65="Yes","C-Statistic / ",""),IF(BQ66="Yes","D-Statistics / ",""),IF(BQ67="Yes","AUC graph / ",""),IF(BQ68="Yes","Log-rank test / ",""),IF(BQ69="Yes","Risk group curves / ",""),IF(BQ70="Yes",BS70,""))="","Not evaluated",CONCATENATE(IF(BQ65="Yes","C-Statistic / ",""),IF(BQ66="Yes","D-Statistics / ",""),IF(BQ67="Yes","AUC graph / ",""),IF(BQ68="Yes","Log-rank test / ",""),IF(BQ69="Yes","Risk group curves / ",""),IF(BQ70="Yes",BS70,"")))),2)="/ ",LEFT(IF(OR(BQ65="",BQ66="",BQ67="",BQ68="",BQ69=""),"",IF(CONCATENATE(IF(BQ65="Yes","C-Statistic / ",""),IF(BQ66="Yes","D-Statistics / ",""),IF(BQ67="Yes","AUC graph / ",""),IF(BQ68="Yes","Log-rank test / ",""),IF(BQ69="Yes","Risk group curves / ",""),IF(BQ70="Yes",BS70,""))="","Not evaluated",CONCATENATE(IF(BQ65="Yes","C-Statistic / ",""),IF(BQ66="Yes","D-Statistics / ",""),IF(BQ67="Yes","AUC graph / ",""),IF(BQ68="Yes","Log-rank test / ",""),IF(BQ69="Yes","Risk group curves / ",""),IF(BQ70="Yes",BS70,"")))),LEN(IF(OR(BQ65="",BQ66="",BQ67="",BQ68="",BQ69=""),"",IF(CONCATENATE(IF(BQ65="Yes","C-Statistic / ",""),IF(BQ66="Yes","D-Statistics / ",""),IF(BQ67="Yes","AUC graph / ",""),IF(BQ68="Yes","Log-rank test / ",""),IF(BQ69="Yes","Risk group curves / ",""),IF(BQ70="Yes",BS70,""))="","Not evaluated",CONCATENATE(IF(BQ65="Yes","C-Statistic / ",""),IF(BQ66="Yes","D-Statistics / ",""),IF(BQ67="Yes","AUC graph / ",""),IF(BQ68="Yes","Log-rank test / ",""),IF(BQ69="Yes","Risk group curves / ",""),IF(BQ70="Yes",BS70,"")))))-2),IF(OR(BQ65="",BQ66="",BQ67="",BQ68="",BQ69=""),"",IF(CONCATENATE(IF(BQ65="Yes","C-Statistic / ",""),IF(BQ66="Yes","D-Statistics / ",""),IF(BQ67="Yes","AUC graph / ",""),IF(BQ68="Yes","Log-rank test / ",""),IF(BQ69="Yes","Risk group curves / ",""),IF(BQ70="Yes",BS70,""))="","Not evaluated",CONCATENATE(IF(BQ65="Yes","C-Statistic / ",""),IF(BQ66="Yes","D-Statistics / ",""),IF(BQ67="Yes","AUC graph / ",""),IF(BQ68="Yes","Log-rank test / ",""),IF(BQ69="Yes","Risk group curves / ",""),IF(BQ70="Yes",BS70,""))))) | BT64: =IF(RIGHT(IF(OR(BT65="",BT66="",BT67="",BT68="",BT69=""),"",IF(CONCATENATE(IF(BT65="Yes","C-Statistic / ",""),IF(BT66="Yes","D-Statistics / ",""),IF(BT67="Yes","AUC graph / ",""),IF(BT68="Yes","Log-rank test / ",""),IF(BT69="Yes","Risk group curves / ",""),IF(BT70="Yes",BV70,""))="","Not evaluated",CONCATENATE(IF(BT65="Yes","C-Statistic / ",""),IF(BT66="Yes","D-Statistics / ",""),IF(BT67="Yes","AUC graph / ",""),IF(BT68="Yes","Log-rank test / ",""),IF(BT69="Yes","Risk group curves / ",""),IF(BT70="Yes",BV70,"")))),2)="/ ",LEFT(IF(OR(BT65="",BT66="",BT67="",BT68="",BT69=""),"",IF(CONCATENATE(IF(BT65="Yes","C-Statistic / ",""),IF(BT66="Yes","D-Statistics / ",""),IF(BT67="Yes","AUC graph / ",""),IF(BT68="Yes","Log-rank test / ",""),IF(BT69="Yes","Risk group curves / ",""),IF(BT70="Yes",BV70,""))="","Not evaluated",CONCATENATE(IF(BT65="Yes","C-Statistic / ",""),IF(BT66="Yes","D-Statistics / ",""),IF(BT67="Yes","AUC graph / ",""),IF(BT68="Yes","Log-rank test / ",""),IF(BT69="Yes","Risk group curves / ",""),IF(BT70="Yes",BV70,"")))),LEN(IF(OR(BT65="",BT66="",BT67="",BT68="",BT69=""),"",IF(CONCATENATE(IF(BT65="Yes","C-Statistic / ",""),IF(BT66="Yes","D-Statistics / ",""),IF(BT67="Yes","AUC graph / ",""),IF(BT68="Yes","Log-rank test / ",""),IF(BT69="Yes","Risk group curves / ",""),IF(BT70="Yes",BV70,""))="","Not evaluated",CONCATENATE(IF(BT65="Yes","C-Statistic / ",""),IF(BT66="Yes","D-Statistics / ",""),IF(BT67="Yes","AUC graph / ",""),IF(BT68="Yes","Log-rank test / ",""),IF(BT69="Yes","Risk group curves / ",""),IF(BT70="Yes",BV70,"")))))-2),IF(OR(BT65="",BT66="",BT67="",BT68="",BT69=""),"",IF(CONCATENATE(IF(BT65="Yes","C-Statistic / ",""),IF(BT66="Yes","D-Statistics / ",""),IF(BT67="Yes","AUC graph / ",""),IF(BT68="Yes","Log-rank test / ",""),IF(BT69="Yes","Risk group curves / ",""),IF(BT70="Yes",BV70,""))="","Not evaluated",CONCATENATE(IF(BT65="Yes","C-Statistic / ",""),IF(BT66="Yes","D-Statistics / ",""),IF(BT67="Yes","AUC graph / ",""),IF(BT68="Yes","Log-rank test / ",""),IF(BT69="Yes","Risk group curves / ",""),IF(BT70="Yes",BV70,""))))) | BW64: =IF(RIGHT(IF(OR(BW65="",BW66="",BW67="",BW68="",BW69=""),"",IF(CONCATENATE(IF(BW65="Yes","C-Statistic / ",""),IF(BW66="Yes","D-Statistics / ",""),IF(BW67="Yes","AUC graph / ",""),IF(BW68="Yes","Log-rank test / ",""),IF(BW69="Yes","Risk group curves / ",""),IF(BW70="Yes",BY70,""))="","Not evaluated",CONCATENATE(IF(BW65="Yes","C-Statistic / ",""),IF(BW66="Yes","D-Statistics / ",""),IF(BW67="Yes","AUC graph / ",""),IF(BW68="Yes","Log-rank test / ",""),IF(BW69="Yes","Risk group curves / ",""),IF(BW70="Yes",BY70,"")))),2)="/ ",LEFT(IF(OR(BW65="",BW66="",BW67="",BW68="",BW69=""),"",IF(CONCATENATE(IF(BW65="Yes","C-Statistic / ",""),IF(BW66="Yes","D-Statistics / ",""),IF(BW67="Yes","AUC graph / ",""),IF(BW68="Yes","Log-rank test / ",""),IF(BW69="Yes","Risk group curves / ",""),IF(BW70="Yes",BY70,""))="","Not evaluated",CONCATENATE(IF(BW65="Yes","C-Statistic / ",""),IF(BW66="Yes","D-Statistics / ",""),IF(BW67="Yes","AUC graph / ",""),IF(BW68="Yes","Log-rank test / ",""),IF(BW69="Yes","Risk group curves / ",""),IF(BW70="Yes",BY70,"")))),LEN(IF(OR(BW65="",BW66="",BW67="",BW68="",BW69=""),"",IF(CONCATENATE(IF(BW65="Yes","C-Statistic / ",""),IF(BW66="Yes","D-Statistics / ",""),IF(BW67="Yes","AUC graph / ",""),IF(BW68="Yes","Log-rank test / ",""),IF(BW69="Yes","Risk group curves / ",""),IF(BW70="Yes",BY70,""))="","Not evaluated",CONCATENATE(IF(BW65="Yes","C-Statistic / ",""),IF(BW66="Yes","D-Statistics / ",""),IF(BW67="Yes","AUC graph / ",""),IF(BW68="Yes","Log-rank test / ",""),IF(BW69="Yes","Risk group curves / ",""),IF(BW70="Yes",BY70,"")))))-2),IF(OR(BW65="",BW66="",BW67="",BW68="",BW69=""),"",IF(CONCATENATE(IF(BW65="Yes","C-Statistic / ",""),IF(BW66="Yes","D-Statistics / ",""),IF(BW67="Yes","AUC graph / ",""),IF(BW68="Yes","Log-rank test / ",""),IF(BW69="Yes","Risk group curves / ",""),IF(BW70="Yes",BY70,""))="","Not evaluated",CONCATENATE(IF(BW65="Yes","C-Statistic / ",""),IF(BW66="Yes","D-Statistics / ",""),IF(BW67="Yes","AUC graph / ",""),IF(BW68="Yes","Log-rank test / ",""),IF(BW69="Yes","Risk group curves / ",""),IF(BW70="Yes",BY70,""))))) | BZ64: =IF(RIGHT(IF(OR(BZ65="",BZ66="",BZ67="",BZ68="",BZ69=""),"",IF(CONCATENATE(IF(BZ65="Yes","C-Statistic / ",""),IF(BZ66="Yes","D-Statistics / ",""),IF(BZ67="Yes","AUC graph / ",""),IF(BZ68="Yes","Log-rank test / ",""),IF(BZ69="Yes","Risk group curves / ",""),IF(BZ70="Yes",CB70,""))="","Not evaluated",CONCATENATE(IF(BZ65="Yes","C-Statistic / ",""),IF(BZ66="Yes","D-Statistics / ",""),IF(BZ67="Yes","AUC graph / ",""),IF(BZ68="Yes","Log-rank test / ",""),IF(BZ69="Yes","Risk group curves / ",""),IF(BZ70="Yes",CB70,"")))),2)="/ ",LEFT(IF(OR(BZ65="",BZ66="",BZ67="",BZ68="",BZ69=""),"",IF(CONCATENATE(IF(BZ65="Yes","C-Statistic / ",""),IF(BZ66="Yes","D-Statistics / ",""),IF(BZ67="Yes","AUC graph / ",""),IF(BZ68="Yes","Log-rank test / ",""),IF(BZ69="Yes","Risk group curves / ",""),IF(BZ70="Yes",CB70,""))="","Not evaluated",CONCATENATE(IF(BZ65="Yes","C-Statistic / ",""),IF(BZ66="Yes","D-Statistics / ",""),IF(BZ67="Yes","AUC graph / ",""),IF(BZ68="Yes","Log-rank test / ",""),IF(BZ69="Yes","Risk group curves / ",""),IF(BZ70="Yes",CB70,"")))),LEN(IF(OR(BZ65="",BZ66="",BZ67="",BZ68="",BZ69=""),"",IF(CONCATENATE(IF(BZ65="Yes","C-Statistic / ",""),IF(BZ66="Yes","D-Statistics / ",""),IF(BZ67="Yes","AUC graph / ",""),IF(BZ68="Yes","Log-rank test / ",""),IF(BZ69="Yes","Risk group curves / ",""),IF(BZ70="Yes",CB70,""))="","Not evaluated",CONCATENATE(IF(BZ65="Yes","C-Statistic / ",""),IF(BZ66="Yes","D-Statistics / ",""),IF(BZ67="Yes","AUC graph / ",""),IF(BZ68="Yes","Log-rank test / ",""),IF(BZ69="Yes","Risk group curves / ",""),IF(BZ70="Yes",CB70,"")))))-2),IF(OR(BZ65="",BZ66="",BZ67="",BZ68="",BZ69=""),"",IF(CONCATENATE(IF(BZ65="Yes","C-Statistic / ",""),IF(BZ66="Yes","D-Statistics / ",""),IF(BZ67="Yes","AUC graph / ",""),IF(BZ68="Yes","Log-rank test / ",""),IF(BZ69="Yes","Risk group curves / ",""),IF(BZ70="Yes",CB70,""))="","Not evaluated",CONCATENATE(IF(BZ65="Yes","C-Statistic / ",""),IF(BZ66="Yes","D-Statistics / ",""),IF(BZ67="Yes","AUC graph / ",""),IF(BZ68="Yes","Log-rank test / ",""),IF(BZ69="Yes","Risk group curves / ",""),IF(BZ70="Yes",CB70,""))))) | CC64: =IF(RIGHT(IF(OR(CC65="",CC66="",CC67="",CC68="",CC69=""),"",IF(CONCATENATE(IF(CC65="Yes","C-Statistic / ",""),IF(CC66="Yes","D-Statistics / ",""),IF(CC67="Yes","AUC graph / ",""),IF(CC68="Yes","Log-rank test / ",""),IF(CC69="Yes","Risk group curves / ",""),IF(CC70="Yes",CE70,""))="","Not evaluated",CONCATENATE(IF(CC65="Yes","C-Statistic / ",""),IF(CC66="Yes","D-Statistics / ",""),IF(CC67="Yes","AUC graph / ",""),IF(CC68="Yes","Log-rank test / ",""),IF(CC69="Yes","Risk group curves / ",""),IF(CC70="Yes",CE70,"")))),2)="/ ",LEFT(IF(OR(CC65="",CC66="",CC67="",CC68="",CC69=""),"",IF(CONCATENATE(IF(CC65="Yes","C-Statistic / ",""),IF(CC66="Yes","D-Statistics / ",""),IF(CC67="Yes","AUC graph / ",""),IF(CC68="Yes","Log-rank test / ",""),IF(CC69="Yes","Risk group curves / ",""),IF(CC70="Yes",CE70,""))="","Not evaluated",CONCATENATE(IF(CC65="Yes","C-Statistic / ",""),IF(CC66="Yes","D-Statistics / ",""),IF(CC67="Yes","AUC graph / ",""),IF(CC68="Yes","Log-rank test / ",""),IF(CC69="Yes","Risk group curves / ",""),IF(CC70="Yes",CE70,"")))),LEN(IF(OR(CC65="",CC66="",CC67="",CC68="",CC69=""),"",IF(CONCATENATE(IF(CC65="Yes","C-Statistic / ",""),IF(CC66="Yes","D-Statistics / ",""),IF(CC67="Yes","AUC graph / ",""),IF(CC68="Yes","Log-rank test / ",""),IF(CC69="Yes","Risk group curves / ",""),IF(CC70="Yes",CE70,""))="","Not evaluated",CONCATENATE(IF(CC65="Yes","C-Statistic / ",""),IF(CC66="Yes","D-Statistics / ",""),IF(CC67="Yes","AUC graph / ",""),IF(CC68="Yes","Log-rank test / ",""),IF(CC69="Yes","Risk group curves / ",""),IF(CC70="Yes",CE70,"")))))-2),IF(OR(CC65="",CC66="",CC67="",CC68="",CC69=""),"",IF(CONCATENATE(IF(CC65="Yes","C-Statistic / ",""),IF(CC66="Yes","D-Statistics / ",""),IF(CC67="Yes","AUC graph / ",""),IF(CC68="Yes","Log-rank test / ",""),IF(CC69="Yes","Risk group curves / ",""),IF(CC70="Yes",CE70,""))="","Not evaluated",CONCATENATE(IF(CC65="Yes","C-Statistic / ",""),IF(CC66="Yes","D-Statistics / ",""),IF(CC67="Yes","AUC graph / ",""),IF(CC68="Yes","Log-rank test / ",""),IF(CC69="Yes","Risk group curves / ",""),IF(CC70="Yes",CE70,""))))) | CF64: =IF(RIGHT(IF(OR(CF65="",CF66="",CF67="",CF68="",CF69=""),"",IF(CONCATENATE(IF(CF65="Yes","C-Statistic / ",""),IF(CF66="Yes","D-Statistics / ",""),IF(CF67="Yes","AUC graph / ",""),IF(CF68="Yes","Log-rank test / ",""),IF(CF69="Yes","Risk group curves / ",""),IF(CF70="Yes",CH70,""))="","Not evaluated",CONCATENATE(IF(CF65="Yes","C-Statistic / ",""),IF(CF66="Yes","D-Statistics / ",""),IF(CF67="Yes","AUC graph / ",""),IF(CF68="Yes","Log-rank test / ",""),IF(CF69="Yes","Risk group curves / ",""),IF(CF70="Yes",CH70,"")))),2)="/ ",LEFT(IF(OR(CF65="",CF66="",CF67="",CF68="",CF69=""),"",IF(CONCATENATE(IF(CF65="Yes","C-Statistic / ",""),IF(CF66="Yes","D-Statistics / ",""),IF(CF67="Yes","AUC graph / ",""),IF(CF68="Yes","Log-rank test / ",""),IF(CF69="Yes","Risk group curves / ",""),IF(CF70="Yes",CH70,""))="","Not evaluated",CONCATENATE(IF(CF65="Yes","C-Statistic / ",""),IF(CF66="Yes","D-Statistics / ",""),IF(CF67="Yes","AUC graph / ",""),IF(CF68="Yes","Log-rank test / ",""),IF(CF69="Yes","Risk group curves / ",""),IF(CF70="Yes",CH70,"")))),LEN(IF(OR(CF65="",CF66="",CF67="",CF68="",CF69=""),"",IF(CONCATENATE(IF(CF65="Yes","C-Statistic / ",""),IF(CF66="Yes","D-Statistics / ",""),IF(CF67="Yes","AUC graph / ",""),IF(CF68="Yes","Log-rank test / ",""),IF(CF69="Yes","Risk group curves / ",""),IF(CF70="Yes",CH70,""))="","Not evaluated",CONCATENATE(IF(CF65="Yes","C-Statistic / ",""),IF(CF66="Yes","D-Statistics / ",""),IF(CF67="Yes","AUC graph / ",""),IF(CF68="Yes","Log-rank test / ",""),IF(CF69="Yes","Risk group curves / ",""),IF(CF70="Yes",CH70,"")))))-2),IF(OR(CF65="",CF66="",CF67="",CF68="",CF69=""),"",IF(CONCATENATE(IF(CF65="Yes","C-Statistic / ",""),IF(CF66="Yes","D-Statistics / ",""),IF(CF67="Yes","AUC graph / ",""),IF(CF68="Yes","Log-rank test / ",""),IF(CF69="Yes","Risk group curves / ",""),IF(CF70="Yes",CH70,""))="","Not evaluated",CONCATENATE(IF(CF65="Yes","C-Statistic / ",""),IF(CF66="Yes","D-Statistics / ",""),IF(CF67="Yes","AUC graph / ",""),IF(CF68="Yes","Log-rank test / ",""),IF(CF69="Yes","Risk group curves / ",""),IF(CF70="Yes",CH70,""))))) | CI64: =IF(RIGHT(IF(OR(CI65="",CI66="",CI67="",CI68="",CI69=""),"",IF(CONCATENATE(IF(CI65="Yes","C-Statistic / ",""),IF(CI66="Yes","D-Statistics / ",""),IF(CI67="Yes","AUC graph / ",""),IF(CI68="Yes","Log-rank test / ",""),IF(CI69="Yes","Risk group curves / ",""),IF(CI70="Yes",CK70,""))="","Not evaluated",CONCATENATE(IF(CI65="Yes","C-Statistic / ",""),IF(CI66="Yes","D-Statistics / ",""),IF(CI67="Yes","AUC graph / ",""),IF(CI68="Yes","Log-rank test / ",""),IF(CI69="Yes","Risk group curves / ",""),IF(CI70="Yes",CK70,"")))),2)="/ ",LEFT(IF(OR(CI65="",CI66="",CI67="",CI68="",CI69=""),"",IF(CONCATENATE(IF(CI65="Yes","C-Statistic / ",""),IF(CI66="Yes","D-Statistics / ",""),IF(CI67="Yes","AUC graph / ",""),IF(CI68="Yes","Log-rank test / ",""),IF(CI69="Yes","Risk group curves / ",""),IF(CI70="Yes",CK70,""))="","Not evaluated",CONCATENATE(IF(CI65="Yes","C-Statistic / ",""),IF(CI66="Yes","D-Statistics / ",""),IF(CI67="Yes","AUC graph / ",""),IF(CI68="Yes","Log-rank test / ",""),IF(CI69="Yes","Risk group curves / ",""),IF(CI70="Yes",CK70,"")))),LEN(IF(OR(CI65="",CI66="",CI67="",CI68="",CI69=""),"",IF(CONCATENATE(IF(CI65="Yes","C-Statistic / ",""),IF(CI66="Yes","D-Statistics / ",""),IF(CI67="Yes","AUC graph / ",""),IF(CI68="Yes","Log-rank test / ",""),IF(CI69="Yes","Risk group curves / ",""),IF(CI70="Yes",CK70,""))="","Not evaluated",CONCATENATE(IF(CI65="Yes","C-Statistic / ",""),IF(CI66="Yes","D-Statistics / ",""),IF(CI67="Yes","AUC graph / ",""),IF(CI68="Yes","Log-rank test / ",""),IF(CI69="Yes","Risk group curves / ",""),IF(CI70="Yes",CK70,"")))))-2),IF(OR(CI65="",CI66="",CI67="",CI68="",CI69=""),"",IF(CONCATENATE(IF(CI65="Yes","C-Statistic / ",""),IF(CI66="Yes","D-Statistics / ",""),IF(CI67="Yes","AUC graph / ",""),IF(CI68="Yes","Log-rank test / ",""),IF(CI69="Yes","Risk group curves / ",""),IF(CI70="Yes",CK70,""))="","Not evaluated",CONCATENATE(IF(CI65="Yes","C-Statistic / ",""),IF(CI66="Yes","D-Statistics / ",""),IF(CI67="Yes","AUC graph / ",""),IF(CI68="Yes","Log-rank test / ",""),IF(CI69="Yes","Risk group curves / ",""),IF(CI70="Yes",CK70,""))))) | CL64: =IF(RIGHT(IF(OR(CL65="",CL66="",CL67="",CL68="",CL69=""),"",IF(CONCATENATE(IF(CL65="Yes","C-Statistic / ",""),IF(CL66="Yes","D-Statistics / ",""),IF(CL67="Yes","AUC graph / ",""),IF(CL68="Yes","Log-rank test / ",""),IF(CL69="Yes","Risk group curves / ",""),IF(CL70="Yes",CN70,""))="","Not evaluated",CONCATENATE(IF(CL65="Yes","C-Statistic / ",""),IF(CL66="Yes","D-Statistics / ",""),IF(CL67="Yes","AUC graph / ",""),IF(CL68="Yes","Log-rank test / ",""),IF(CL69="Yes","Risk group curves / ",""),IF(CL70="Yes",CN70,"")))),2)="/ ",LEFT(IF(OR(CL65="",CL66="",CL67="",CL68="",CL69=""),"",IF(CONCATENATE(IF(CL65="Yes","C-Statistic / ",""),IF(CL66="Yes","D-Statistics / ",""),IF(CL67="Yes","AUC graph / ",""),IF(CL68="Yes","Log-rank test / ",""),IF(CL69="Yes","Risk group curves / ",""),IF(CL70="Yes",CN70,""))="","Not evaluated",CONCATENATE(IF(CL65="Yes","C-Statistic / ",""),IF(CL66="Yes","D-Statistics / ",""),IF(CL67="Yes","AUC graph / ",""),IF(CL68="Yes","Log-rank test / ",""),IF(CL69="Yes","Risk group curves / ",""),IF(CL70="Yes",CN70,"")))),LEN(IF(OR(CL65="",CL66="",CL67="",CL68="",CL69=""),"",IF(CONCATENATE(IF(CL65="Yes","C-Statistic / ",""),IF(CL66="Yes","D-Statistics / ",""),IF(CL67="Yes","AUC graph / ",""),IF(CL68="Yes","Log-rank test / ",""),IF(CL69="Yes","Risk group curves / ",""),IF(CL70="Yes",CN70,""))="","Not evaluated",CONCATENATE(IF(CL65="Yes","C-Statistic / ",""),IF(CL66="Yes","D-Statistics / ",""),IF(CL67="Yes","AUC graph / ",""),IF(CL68="Yes","Log-rank test / ",""),IF(CL69="Yes","Risk group curves / ",""),IF(CL70="Yes",CN70,"")))))-2),IF(OR(CL65="",CL66="",CL67="",CL68="",CL69=""),"",IF(CONCATENATE(IF(CL65="Yes","C-Statistic / ",""),IF(CL66="Yes","D-Statistics / ",""),IF(CL67="Yes","AUC graph / ",""),IF(CL68="Yes","Log-rank test / ",""),IF(CL69="Yes","Risk group curves / ",""),IF(CL70="Yes",CN70,""))="","Not evaluated",CONCATENATE(IF(CL65="Yes","C-Statistic / ",""),IF(CL66="Yes","D-Statistics / ",""),IF(CL67="Yes","AUC graph / ",""),IF(CL68="Yes","Log-rank test / ",""),IF(CL69="Yes","Risk group curves / ",""),IF(CL70="Yes",CN70,""))))) | CO64: =IF(RIGHT(IF(OR(CO65="",CO66="",CO67="",CO68="",CO69=""),"",IF(CONCATENATE(IF(CO65="Yes","C-Statistic / ",""),IF(CO66="Yes","D-Statistics / ",""),IF(CO67="Yes","AUC graph / ",""),IF(CO68="Yes","Log-rank test / ",""),IF(CO69="Yes","Risk group curves / ",""),IF(CO70="Yes",CQ70,""))="","Not evaluated",CONCATENATE(IF(CO65="Yes","C-Statistic / ",""),IF(CO66="Yes","D-Statistics / ",""),IF(CO67="Yes","AUC graph / ",""),IF(CO68="Yes","Log-rank test / ",""),IF(CO69="Yes","Risk group curves / ",""),IF(CO70="Yes",CQ70,"")))),2)="/ ",LEFT(IF(OR(CO65="",CO66="",CO67="",CO68="",CO69=""),"",IF(CONCATENATE(IF(CO65="Yes","C-Statistic / ",""),IF(CO66="Yes","D-Statistics / ",""),IF(CO67="Yes","AUC graph / ",""),IF(CO68="Yes","Log-rank test / ",""),IF(CO69="Yes","Risk group curves / ",""),IF(CO70="Yes",CQ70,""))="","Not evaluated",CONCATENATE(IF(CO65="Yes","C-Statistic / ",""),IF(CO66="Yes","D-Statistics / ",""),IF(CO67="Yes","AUC graph / ",""),IF(CO68="Yes","Log-rank test / ",""),IF(CO69="Yes","Risk group curves / ",""),IF(CO70="Yes",CQ70,"")))),LEN(IF(OR(CO65="",CO66="",CO67="",CO68="",CO69=""),"",IF(CONCATENATE(IF(CO65="Yes","C-Statistic / ",""),IF(CO66="Yes","D-Statistics / ",""),IF(CO67="Yes","AUC graph / ",""),IF(CO68="Yes","Log-rank test / ",""),IF(CO69="Yes","Risk group curves / ",""),IF(CO70="Yes",CQ70,""))="","Not evaluated",CONCATENATE(IF(CO65="Yes","C-Statistic / ",""),IF(CO66="Yes","D-Statistics / ",""),IF(CO67="Yes","AUC graph / ",""),IF(CO68="Yes","Log-rank test / ",""),IF(CO69="Yes","Risk group curves / ",""),IF(CO70="Yes",CQ70,"")))))-2),IF(OR(CO65="",CO66="",CO67="",CO68="",CO69=""),"",IF(CONCATENATE(IF(CO65="Yes","C-Statistic / ",""),IF(CO66="Yes","D-Statistics / ",""),IF(CO67="Yes","AUC graph / ",""),IF(CO68="Yes","Log-rank test / ",""),IF(CO69="Yes","Risk group curves / ",""),IF(CO70="Yes",CQ70,""))="","Not evaluated",CONCATENATE(IF(CO65="Yes","C-Statistic / ",""),IF(CO66="Yes","D-Statistics / ",""),IF(CO67="Yes","AUC graph / ",""),IF(CO68="Yes","Log-rank test / ",""),IF(CO69="Yes","Risk group curves / ",""),IF(CO70="Yes",CQ70,"")))))
B65: X | D65: 8.2.1 C-Statistic | F65: Yes | G65: value (95% CI): | H65: 0.76 | I65: Yes | J65: value (95% CI): | K65: 0.859 (0.846 to 0.872) | L65: Yes | M65: value (95% CI): | N65: 0.892 (0.861 to 0.922) | O65: Yes | P65: value (95% CI): | Q65: 0.82 (0.82 to 0.82) | R65: Yes | S65: value (95% CI): | T65: 0.859 (0.8363-0.8818) | U65: Yes | V65: value (95% CI): | W65: 0.79 (0.76 to 0.81) | X65: Yes | Y65: value (95% CI): | Z65: 0.873 | AA65: Yes | AB65: value (95% CI): | AC65: 0.837 (0.772-0.903) | AD65: Yes | AE65: value (95% CI): | AF65: 0.845 (0.845 to 0.845) | AG65: Yes | AH65: value (95% CI): | AI65: 0.77 (0.74 to 0.81) | AJ65: Yes | AK65: value (95% CI): | AL65: 0.77 (0.73 to 0.81) | AN65: value (95% CI): | AQ65: value (95% CI): | AT65: value (95% CI): | AW65: value (95% CI): | AZ65: value (95% CI): | BC65: value (95% CI): | BF65: value (95% CI): | BI65: value (95% CI): | BL65: value (95% CI): | BO65: value (95% CI): | BR65: value (95% CI): | BU65: value (95% CI): | BX65: value (95% CI): | CA65: value (95% CI): | CD65: value (95% CI): | CG65: value (95% CI): | CJ65: value (95% CI): | CM65: value (95% CI): | CP65: value (95% CI):
B66: X | D66: 8.2.2 D-Statistic | F66: No | G66: value (95% CI): | I66: No | J66: value (95% CI): | L66: No | M66: value (95% CI): | O66: No | P66: value (95% CI): | R66: No | S66: value (95% CI): | U66: No | V66: value (95% CI): | X66: No | Y66: value (95% CI): | AA66: No | AB66: value (95% CI): | AD66: No | AE66: value (95% CI): | AG66: No | AH66: value (95% CI): | AJ66: No | AK66: value (95% CI): | AN66: value (95% CI): | AQ66: value (95% CI): | AT66: value (95% CI): | AW66: value (95% CI): | AZ66: value (95% CI): | BC66: value (95% CI): | BF66: value (95% CI): | BI66: value (95% CI): | BL66: value (95% CI): | BO66: value (95% CI): | BR66: value (95% CI): | BU66: value (95% CI): | BX66: value (95% CI): | CA66: value (95% CI): | CD66: value (95% CI): | CG66: value (95% CI): | CJ66: value (95% CI): | CM66: value (95% CI): | CP66: value (95% CI):
B67: X | D67: 8.2.3 AUC graph | F67: No | I67: No | L67: No | O67: No | R67: Yes | U67: Yes | X67: No | AA67: Yes | AD67: No | AG67: Yes | AJ67: Yes
B68: X | D68: 8.2.4 Log-rank test (if survival analysis) | F68: Not applicable | I68: Not applicable | L68: Not applicable | O68: Not applicable | R68: Not applicable | U68: Not applicable | X68: Not applicable | AA68: Not applicable | AD68: Not applicable | AG68: Not applicable | AJ68: Not applicable
B69: X | D69: 8.2.5 Risk group curves (if survival analysis) | F69: Not applicable | I69: Not applicable | L69: Not applicable | O69: Not applicable | R69: Not applicable | U69: Not applicable | X69: Not applicable | AA69: Not applicable | AD69: Not applicable | AG69: Not applicable | AJ69: Not applicable
B70: X | D70: 8.2.6 Other | F70: No | G70: Specify: | I70: No | J70: Specify: | L70: No | M70: Specify: | O70: No | P70: Specify: | R70: No | S70: Specify: | U70: No | V70: Specify: | X70: No | Y70: Specify: | AA70: No | AB70: Specify: | AD70: No | AE70: Specify: | AG70: No | AH70: Specify: | AJ70: No | AK70: Specify: | AN70: Specify: | AQ70: Specify: | AT70: Specify: | AW70: Specify: | AZ70: Specify: | BC70: Specify: | BF70: Specify: | BI70: Specify: | BL70: Specify: | BO70: Specify: | BR70: Specify: | BU70: Specify: | BX70: Specify: | CA70: Specify: | CD70: Specify: | CG70: Specify: | CJ70: Specify: | CM70: Specify: | CP70: Specify:
