Workbook

Sheet HOME
A2: CHARMS & PROBAST template
B4: Information:
B5: This Excel document is a template for data extraction and critical appraisal of a systematic review of clinical prediction model development and/or validation studies.
I8: Templates designed by: Fernandez-Felix BM 1,2 Affiliations: 1 Clinical Biostatistics Unit, Hospital Universitario Ramón y Cajal, IRYCIS, Madrid, Spain. 2 CIBER de Epidemiología y Salud Pública (CIBERESP), Madrid, Spain. Contact: borjamanuel.fernandez@salud.madrid.org
B10: Contents:
B11: - HOME: A description of the material in the file and instructions on how to use it. - SUMMARY: Table summarizing the status of the data extraction process and the assessment of bias and applicability. - CHARMS: Data extraction form - PROBAST: Risk of Bias and Applicability Assessment form - TABLES: A proposal tables containing information on study characteristics, models characteristics, and an overview of risk of bias assessment and applicability.
B19: Instructions for use:
B20: To begin data extraction (CHARMS) and risk of bias and applicability evaluation (PROBAST) of each model included in the systematic review, check in "new model" on the SUMMARY sheet. Complete the basic study information. The template can be used to evaluate up to 30 models. Go to:
B24: CHARMS (Adapted from Moons K. 2014) Complete the data extraction for each predictive model included in the systematic review. You should fill in the cells shaded in yellow. Fill in the cell with "No Information" (NI) when the information in the study report is not available. In the case of blank cells, the status of the data extraction form will be incomplete ⚠️. When all domains in the form are filled out, the data extraction will be complete ✅. Go to:
B30: PROBAST (Adapted from Wolff RF. 2019) Complete the risk of bias assessment and applicability for each model included in the systematic review. You should answer signalling questions shaded in yellow for each key domain (Participant, Predictor, Outcome and Analysis) as "Yes", "Probably yes", "Probably no", "No" or "No information". For each domain, once all signalling questions are answered, RoB and applicability assessment cells will become unblocked. Any signally question rated as "No" or "Probably no" flags the potential for bias; You will need to use your judgement to determine whether the domain should be rated as "High", "Low" or "Unclear" risk of bias, and rated for concern regarding applicability "High", "Low" or "Unclear" to your review question. When RoB assessment and applicability were rated for all domains in the form, the PROBAST assessment will be complete ✅. Go to:
B38: SUMMARY TABLES The summary tables will be automatically generated based on the information in the CHARMS and PROBAST forms. - Study Characteristics. - Model Characteristics. - Risk of Bias summary (PROBAST). Go to:

Sheet SUMMARY
B3: Summary information: | I3: 0 | J3: Incomplete
I4: 1 | J4: Complete
E5: Models included for data extraction and RoB assessment: | F5: =COUNTIF(SUMMARY!B7:B36,TRUE()) -> 9
B6: New model | C6: No model | D6: Author | E6: Publication year | F6: Publication identifier (Title/PMID/DOI) | G6: Publication journal | H6: Model name | I6: Identifier | J6: CHARMS | K6: PROBAST
B7: TRUE | C7: =IF(B7=TRUE,1,"") -> 1 | D7: Bansal et al. | E7: 2020 | F7: MACHINE LEARNING TECHNIQUES TO PREDICT IN-HOSPITAL CARDIOVASCULAR OUTCOMES IN ELDERLY PATIENTS PRESENTING WITH ACUTE MYOCARDIAL INFARCTION | G7: Journal of the American College of Cardiology | H7: XGBoost | I7: =IF(D7="","",CONCATENATE(D7,", ",E7)) -> Bansal et al., 2020 | J7: =IF(SUMMARY!B7=TRUE,IF(SUM(CHARMS!F$13,CHARMS!F$15,CHARMS!F$29,CHARMS!F$37,CHARMS!F$44,CHARMS!F$49,CHARMS!F$52,CHARMS!F$57,CHARMS!F$78,CHARMS!F$83,CHARMS!F$88)<11,0,1)) -> 1 | K7: =IF(SUMMARY!B7=TRUE,IF(SUM(COUNTBLANK(PROBAST!B$16:B$17),COUNTBLANK(PROBAST!B$30:B$31),COUNTBLANK(PROBAST!B$44:B$45),COUNTBLANK(PROBAST!B$63))>0,0,1)) -> 1
B8: TRUE | C8: =IF(B8=TRUE,2,"") -> 2 | D8: Hamilton et al. | E8: 2021 | F8: A novel tool for highly reliable and accurate prediction of multiple complications in patients undergoing percutaneous coronary intervention | G8: Circulation | H8: Random Forest | I8: =IF(D8="","",CONCATENATE(D8,", ",E8)) -> Hamilton et al., 2021 | J8: =IF(SUMMARY!B$8=TRUE,IF(SUM(CHARMS!I13,CHARMS!I15,CHARMS!I29,CHARMS!I37,CHARMS!I44,CHARMS!I49,CHARMS!I52,CHARMS!I57,CHARMS!I78,CHARMS!I83,CHARMS!I88)<11,0,1)) -> 1 | K8: =IF(SUMMARY!B8=TRUE,IF(SUM(COUNTBLANK(PROBAST!C$16:C$17),COUNTBLANK(PROBAST!C$30:C$31),COUNTBLANK(PROBAST!C$44:C$45),COUNTBLANK(PROBAST!C$63))>0,0,1)) -> 1
B9: TRUE | C9: =IF(B9=TRUE,3,"") -> 3 | D9: Hamilton et al. | E9: 2022 | F9: Merging Machine Learning and Patient Preference: A Contemporary, Comprehensive, Patient-Centered Tool for Risk Prediction Prior to Percutaneous Coronary Intervention | G9: Circulation | H9: XGBoost | I9: =IF(D9="","",CONCATENATE(D9,", ",E9)) -> Hamilton et al., 2022 | J9: =IF(SUMMARY!B$9=TRUE,IF(SUM(CHARMS!L13,CHARMS!L15,CHARMS!L29,CHARMS!L37,CHARMS!L44,CHARMS!L49,CHARMS!L52,CHARMS!L57,CHARMS!L78,CHARMS!L83,CHARMS!L88)<11,0,1)) -> 1 | K9: =IF(SUMMARY!B9=TRUE,IF(SUM(COUNTBLANK(PROBAST!D$16:D$17),COUNTBLANK(PROBAST!D$30:D$31),COUNTBLANK(PROBAST!D$44:D$45),COUNTBLANK(PROBAST!D$63))>0,0,1)) -> 1
B10: TRUE | C10: =IF(B10=TRUE,4,"") -> 4 | D10: Mortazavi et al. | E10: 2019 | F10: Comparison of Machine Learning Methods With National Cardiovascular Data Registry Models for Prediction of Risk of Bleeding After Percutaneous Coronary Intervention | G10: JAMA network open | H10: Blended model with gradient descent boosting | I10: =IF(D10="","",CONCATENATE(D10,", ",E10)) -> Mortazavi et al., 2019 | J10: =IF(SUMMARY!B$10=TRUE,IF(SUM(CHARMS!O13,CHARMS!O15,CHARMS!O29,CHARMS!O37,CHARMS!O44,CHARMS!O49,CHARMS!O52,CHARMS!O57,CHARMS!O78,CHARMS!O83,CHARMS!O88)<11,0,1)) -> 1 | K10: =IF(SUMMARY!B10=TRUE,IF(SUM(COUNTBLANK(PROBAST!E$16:E$17),COUNTBLANK(PROBAST!E$30:E$31),COUNTBLANK(PROBAST!E$44:E$45),COUNTBLANK(PROBAST!E$63))>0,0,1)) -> 1
B11: TRUE | C11: =IF(B11=TRUE,5,"") -> 5 | D11: Kulkarni et al. | E11: 2021 | F11: Artificial intelligence in percutaneous coronary intervention: improved risk prediction of PCI-related complications using an artificial neural network | G11: BMJ Innovations | H11: MLP | I11: =IF(D11="","",CONCATENATE(D11,", ",E11)) -> Kulkarni et al., 2021 | J11: =IF(SUMMARY!B$11=TRUE,IF(SUM(CHARMS!R13,CHARMS!R15,CHARMS!R29,CHARMS!R37,CHARMS!R44,CHARMS!R49,CHARMS!R52,CHARMS!R57,CHARMS!R78,CHARMS!R83,CHARMS!R88)<11,0,1)) -> 1 | K11: =IF(SUMMARY!B11=TRUE,IF(SUM(COUNTBLANK(PROBAST!F$16:F$17),COUNTBLANK(PROBAST!F$30:F$31),COUNTBLANK(PROBAST!F$44:F$45),COUNTBLANK(PROBAST!F$63))>0,0,1)) -> 1
B12: TRUE | C12: =IF(B12=TRUE,6,"") -> 6 | D12: Niimi et al. | E12: 2022 | F12: Machine learning models for prediction of adverse events after percutaneous coronary intervention | G12: Scientific Reports | H12: XGBoost | I12: =IF(D12="","",CONCATENATE(D12,", ",E12)) -> Niimi et al., 2022 | J12: =IF(SUMMARY!B$12=TRUE,IF(SUM(CHARMS!U13,CHARMS!U15,CHARMS!U29,CHARMS!U37,CHARMS!U44,CHARMS!U49,CHARMS!U52,CHARMS!U57,CHARMS!U78,CHARMS!U83,CHARMS!U88)<11,0,1)) -> 1 | K12: =IF(SUMMARY!B12=TRUE,IF(SUM(COUNTBLANK(PROBAST!G$16:G$17),COUNTBLANK(PROBAST!G$30:G$31),COUNTBLANK(PROBAST!G$44:G$45),COUNTBLANK(PROBAST!G$63))>0,0,1)) -> 1
B13: TRUE | C13: =IF(B13=TRUE,7,"") -> 7 | D13: Rayfield et al. | E13: 2020 | F13: Machine learning on high-dimensional data to predict bleeding post percutaneous coronary intervention | G13: Journal of Invasive Cardiology | H13: AI-BR model | I13: =IF(D13="","",CONCATENATE(D13,", ",E13)) -> Rayfield et al., 2020 | J13: =IF(SUMMARY!B$13=TRUE,IF(SUM(CHARMS!X13,CHARMS!X15,CHARMS!X29,CHARMS!X37,CHARMS!X44,CHARMS!X49,CHARMS!X52,CHARMS!X57,CHARMS!X78,CHARMS!X83,CHARMS!X88)<11,0,1)) -> 1 | K13: =IF(SUMMARY!B13=TRUE,IF(SUM(COUNTBLANK(PROBAST!H$16:H$17),COUNTBLANK(PROBAST!H$30:H$31),COUNTBLANK(PROBAST!H$44:H$45),COUNTBLANK(PROBAST!H$63))>0,0,1)) -> 1
B14: TRUE | C14: =IF(B14=TRUE,8,"") -> 8 | D14: Zhao et al. | E14: 2023 | F14: Machine learning for prediction of bleeding in acute myocardial infarction patients after percutaneous coronary intervention | G14: Therapeutic advances in chronic disease | H14: XGBoost | I14: =IF(D14="","",CONCATENATE(D14,", ",E14)) -> Zhao et al., 2023 | J14: =IF(SUMMARY!B$14=TRUE,IF(SUM(CHARMS!AA13,CHARMS!AA15,CHARMS!AA29,CHARMS!AA37,CHARMS!AA44,CHARMS!AA49,CHARMS!AA52,CHARMS!AA57,CHARMS!AA78,CHARMS!AA83,CHARMS!AA88)<11,0,1)) -> 1 | K14: =IF(SUMMARY!B14=TRUE,IF(SUM(COUNTBLANK(PROBAST!I$16:I$17),COUNTBLANK(PROBAST!I$30:I$31),COUNTBLANK(PROBAST!I$44:I$45),COUNTBLANK(PROBAST!I$63))>0,0,1)) -> 1
B15: TRUE | C15: =IF(B15=TRUE,9,"") -> 9 | D15: Hurley et al. | E15: 2021 | F15: A dynamic model to estimate evolving risk of major bleeding after percutaneous coronary intervention | G15: medRxiv | H15: XGBoost | I15: =IF(D15="","",CONCATENATE(D15,", ",E15)) -> Hurley et al., 2021 | J15: =IF(SUMMARY!B$15=TRUE,IF(SUM(CHARMS!AD13,CHARMS!AD15,CHARMS!AD29,CHARMS!AD37,CHARMS!AD44,CHARMS!AD49,CHARMS!AD52,CHARMS!AD57,CHARMS!AD78,CHARMS!AD83,CHARMS!AD88)<11,0,1)) -> 1 | K15: =IF(SUMMARY!B15=TRUE,IF(SUM(COUNTBLANK(PROBAST!J$16:J$17),COUNTBLANK(PROBAST!J$30:J$31),COUNTBLANK(PROBAST!J$44:J$45),COUNTBLANK(PROBAST!J$63))>0,0,1)) -> 1
B16: FALSE | C16: =IF(B16=TRUE,10,"") | D16: Fernández-Hidalgo (a) | E16: 2018 | F16: A pragmatic approach for mortality prediction after surgery in infective endocarditis: optimizing and refining EuroSCORE | G16: Clinical Microbiology and Infection | H16: Specific EuroSCORE-I | I16: =IF(D16="","",CONCATENATE(D16,", ",E16)) -> Fernández-Hidalgo (a), 2018 | J16: =IF(SUMMARY!B$16=TRUE,IF(SUM(CHARMS!AG13,CHARMS!AG15,CHARMS!AG29,CHARMS!AG37,CHARMS!AG44,CHARMS!AG49,CHARMS!AG52,CHARMS!AG57,CHARMS!AG78,CHARMS!AG83,CHARMS!AG88)<11,0,1)) -> FALSE | K16: =IF(SUMMARY!B16=TRUE,IF(SUM(COUNTBLANK(PROBAST!K$16:K$17),COUNTBLANK(PROBAST!K$30:K$31),COUNTBLANK(PROBAST!K$44:K$45),COUNTBLANK(PROBAST!K$63))>0,0,1)) -> FALSE
B17: FALSE | C17: =IF(B17=TRUE,11,"") | D17: Fernández-Hidalgo (b) | E17: 2018 | F17: A pragmatic approach for mortality prediction after surgery in infective endocarditis: optimizing and refining EuroSCORE | G17: Clinical Microbiology and Infection | H17: Specific EuroSCORE-II | I17: =IF(D17="","",CONCATENATE(D17,", ",E17)) -> Fernández-Hidalgo (b), 2018 | J17: =IF(SUMMARY!B$17=TRUE,IF(SUM(CHARMS!AJ13,CHARMS!AJ15,CHARMS!AJ29,CHARMS!AJ37,CHARMS!AJ44,CHARMS!AJ49,CHARMS!AJ52,CHARMS!AJ57,CHARMS!AJ78,CHARMS!AJ83,CHARMS!AJ88)<11,0,1)) -> FALSE | K17: =IF(SUMMARY!B17=TRUE,IF(SUM(COUNTBLANK(PROBAST!L$16:L$17),COUNTBLANK(PROBAST!L$30:L$31),COUNTBLANK(PROBAST!L$44:L$45),COUNTBLANK(PROBAST!L$63))>0,0,1)) -> FALSE
B18: FALSE | C18: =IF(B18=TRUE,12,"") | I18: =IF(D18="","",CONCATENATE(D18,", ",E18)) | J18: =IF(SUMMARY!B$18=TRUE,IF(SUM(CHARMS!AM13,CHARMS!AM15,CHARMS!AM29,CHARMS!AM37,CHARMS!AM44,CHARMS!AM49,CHARMS!AM52,CHARMS!AM57,CHARMS!AM78,CHARMS!AM83,CHARMS!AM88)<11,0,1)) -> FALSE | K18: =IF(SUMMARY!B18=TRUE,IF(SUM(COUNTBLANK(PROBAST!M$16:M$17),COUNTBLANK(PROBAST!M$30:M$31),COUNTBLANK(PROBAST!M$44:M$45),COUNTBLANK(PROBAST!M$63))>0,0,1)) -> FALSE
B19: FALSE | C19: =IF(B19=TRUE,13,"") | I19: =IF(D19="","",CONCATENATE(D19,", ",E19)) | J19: =IF(SUMMARY!B$19=TRUE,IF(SUM(CHARMS!AP13,CHARMS!AP15,CHARMS!AP29,CHARMS!AP37,CHARMS!AP44,CHARMS!AP49,CHARMS!AP52,CHARMS!AP57,CHARMS!AP78,CHARMS!AP83,CHARMS!AP88)<11,0,1)) -> FALSE | K19: =IF(SUMMARY!B19=TRUE,IF(SUM(COUNTBLANK(PROBAST!N$16:N$17),COUNTBLANK(PROBAST!N$30:N$31),COUNTBLANK(PROBAST!N$44:N$45),COUNTBLANK(PROBAST!N$63))>0,0,1)) -> FALSE
B20: FALSE | C20: =IF(B20=TRUE,14,"") | I20: =IF(D20="","",CONCATENATE(D20,", ",E20)) | J20: =IF(SUMMARY!B$20=TRUE,IF(SUM(CHARMS!AS13,CHARMS!AS15,CHARMS!AS29,CHARMS!AS37,CHARMS!AS44,CHARMS!AS49,CHARMS!AS52,CHARMS!AS57,CHARMS!AS78,CHARMS!AS83,CHARMS!AS88)<11,0,1)) -> FALSE | K20: =IF(SUMMARY!B20=TRUE,IF(SUM(COUNTBLANK(PROBAST!O$16:O$17),COUNTBLANK(PROBAST!O$30:O$31),COUNTBLANK(PROBAST!O$44:O$45),COUNTBLANK(PROBAST!O$63))>0,0,1)) -> FALSE
B21: FALSE | C21: =IF(B21=TRUE,15,"") | I21: =IF(D21="","",CONCATENATE(D21,", ",E21)) | J21: =IF(SUMMARY!B$21=TRUE,IF(SUM(CHARMS!AV13,CHARMS!AV15,CHARMS!AV29,CHARMS!AV37,CHARMS!AV44,CHARMS!AV49,CHARMS!AV52,CHARMS!AV57,CHARMS!AV78,CHARMS!AV83,CHARMS!AV88)<11,0,1)) -> FALSE | K21: =IF(SUMMARY!B21=TRUE,IF(SUM(COUNTBLANK(PROBAST!P$16:P$17),COUNTBLANK(PROBAST!P$30:P$31),COUNTBLANK(PROBAST!P$44:P$45),COUNTBLANK(PROBAST!P$63))>0,0,1)) -> FALSE
B22: FALSE | C22: =IF(B22=TRUE,16,"") | I22: =IF(D22="","",CONCATENATE(D22,", ",E22)) | J22: =IF(SUMMARY!B$22=TRUE,IF(SUM(CHARMS!AY13,CHARMS!AY15,CHARMS!AY29,CHARMS!AY37,CHARMS!AY44,CHARMS!AY49,CHARMS!AY52,CHARMS!AY57,CHARMS!AY78,CHARMS!AY83,CHARMS!AY88)<11,0,1)) -> FALSE | K22: =IF(SUMMARY!B22=TRUE,IF(SUM(COUNTBLANK(PROBAST!Q$16:Q$17),COUNTBLANK(PROBAST!Q$30:Q$31),COUNTBLANK(PROBAST!Q$44:Q$45),COUNTBLANK(PROBAST!Q$63))>0,0,1)) -> FALSE
B23: FALSE | C23: =IF(B23=TRUE,17,"") | I23: =IF(D23="","",CONCATENATE(D23,", ",E23)) | J23: =IF(SUMMARY!B$23=TRUE,IF(SUM(CHARMS!BB13,CHARMS!BB15,CHARMS!BB29,CHARMS!BB37,CHARMS!BB44,CHARMS!BB49,CHARMS!BB52,CHARMS!BB57,CHARMS!BB78,CHARMS!BB83,CHARMS!BB88)<11,0,1)) -> FALSE | K23: =IF(SUMMARY!B23=TRUE,IF(SUM(COUNTBLANK(PROBAST!R$16:R$17),COUNTBLANK(PROBAST!R$30:R$31),COUNTBLANK(PROBAST!R$44:R$45),COUNTBLANK(PROBAST!R$63))>0,0,1)) -> FALSE
B24: FALSE | C24: =IF(B24=TRUE,18,"") | I24: =IF(D24="","",CONCATENATE(D24,", ",E24)) | J24: =IF(SUMMARY!B$24=TRUE,IF(SUM(CHARMS!BE13,CHARMS!BE15,CHARMS!BE29,CHARMS!BE37,CHARMS!BE44,CHARMS!BE49,CHARMS!BE52,CHARMS!BE57,CHARMS!BE78,CHARMS!BE83,CHARMS!BE88)<11,0,1)) -> FALSE | K24: =IF(SUMMARY!B24=TRUE,IF(SUM(COUNTBLANK(PROBAST!S$16:S$17),COUNTBLANK(PROBAST!S$30:S$31),COUNTBLANK(PROBAST!S$44:S$45),COUNTBLANK(PROBAST!S$63))>0,0,1)) -> FALSE
B25: FALSE | C25: =IF(B25=TRUE,19,"") | I25: =IF(D25="","",CONCATENATE(D25,", ",E25)) | J25: =IF(SUMMARY!B$25=TRUE,IF(SUM(CHARMS!BH13,CHARMS!BH15,CHARMS!BH29,CHARMS!BH37,CHARMS!BH44,CHARMS!BH49,CHARMS!BH52,CHARMS!BH57,CHARMS!BH78,CHARMS!BH83,CHARMS!BH88)<11,0,1)) -> FALSE | K25: =IF(SUMMARY!B25=TRUE,IF(SUM(COUNTBLANK(PROBAST!T$16:T$17),COUNTBLANK(PROBAST!T$30:T$31),COUNTBLANK(PROBAST!T$44:T$45),COUNTBLANK(PROBAST!T$63))>0,0,1)) -> FALSE
B26: FALSE | C26: =IF(B26=TRUE,20,"") | I26: =IF(D26="","",CONCATENATE(D26,", ",E26)) | J26: =IF(SUMMARY!B$26=TRUE,IF(SUM(CHARMS!BK13,CHARMS!BK15,CHARMS!BK29,CHARMS!BK37,CHARMS!BK44,CHARMS!BK49,CHARMS!BK52,CHARMS!BK57,CHARMS!BK78,CHARMS!BK83,CHARMS!BK88)<11,0,1)) -> FALSE | K26: =IF(SUMMARY!B26=TRUE,IF(SUM(COUNTBLANK(PROBAST!U$16:U$17),COUNTBLANK(PROBAST!U$30:U$31),COUNTBLANK(PROBAST!U$44:U$45),COUNTBLANK(PROBAST!U$63))>0,0,1)) -> FALSE
B27: FALSE | C27: =IF(B27=TRUE,21,"") | I27: =IF(D27="","",CONCATENATE(D27,", ",E27)) | J27: =IF(SUMMARY!B$27=TRUE,IF(SUM(CHARMS!BN13,CHARMS!BN15,CHARMS!BN29,CHARMS!BN37,CHARMS!BN44,CHARMS!BN49,CHARMS!BN52,CHARMS!BN57,CHARMS!BN78,CHARMS!BN83,CHARMS!BN88)<11,0,1)) -> FALSE | K27: =IF(SUMMARY!B27=TRUE,IF(SUM(COUNTBLANK(PROBAST!V$16:V$17),COUNTBLANK(PROBAST!V$30:V$31),COUNTBLANK(PROBAST!V$44:V$45),COUNTBLANK(PROBAST!V$63))>0,0,1)) -> FALSE
B28: FALSE | C28: =IF(B28=TRUE,22,"") | I28: =IF(D28="","",CONCATENATE(D28,", ",E28)) | J28: =IF(SUMMARY!B$28=TRUE,IF(SUM(CHARMS!BQ13,CHARMS!BQ15,CHARMS!BQ29,CHARMS!BQ37,CHARMS!BQ44,CHARMS!BQ49,CHARMS!BQ52,CHARMS!BQ57,CHARMS!BQ78,CHARMS!BQ83,CHARMS!BQ88)<11,0,1)) -> FALSE | K28: =IF(SUMMARY!B28=TRUE,IF(SUM(COUNTBLANK(PROBAST!W$16:W$17),COUNTBLANK(PROBAST!W$30:W$31),COUNTBLANK(PROBAST!W$44:W$45),COUNTBLANK(PROBAST!W$63))>0,0,1)) -> FALSE
B29: FALSE | C29: =IF(B29=TRUE,23,"") | I29: =IF(D29="","",CONCATENATE(D29,", ",E29)) | J29: =IF(SUMMARY!B$29=TRUE,IF(SUM(CHARMS!BT13,CHARMS!BT15,CHARMS!BT29,CHARMS!BT37,CHARMS!BT44,CHARMS!BT49,CHARMS!BT52,CHARMS!BT57,CHARMS!BT78,CHARMS!BT83,CHARMS!BT88)<11,0,1)) -> FALSE | K29: =IF(SUMMARY!B29=TRUE,IF(SUM(COUNTBLANK(PROBAST!X$16:X$17),COUNTBLANK(PROBAST!X$30:X$31),COUNTBLANK(PROBAST!X$44:X$45),COUNTBLANK(PROBAST!X$63))>0,0,1)) -> FALSE
B30: FALSE | C30: =IF(B30=TRUE,24,"") | I30: =IF(D30="","",CONCATENATE(D30,", ",E30)) | J30: =IF(SUMMARY!B$30=TRUE,IF(SUM(CHARMS!BW13,CHARMS!BW15,CHARMS!BW29,CHARMS!BW37,CHARMS!BW44,CHARMS!BW49,CHARMS!BW52,CHARMS!BW57,CHARMS!BW78,CHARMS!BW83,CHARMS!BW88)<11,0,1)) -> FALSE | K30: =IF(SUMMARY!B30=TRUE,IF(SUM(COUNTBLANK(PROBAST!Y$16:Y$17),COUNTBLANK(PROBAST!Y$30:Y$31),COUNTBLANK(PROBAST!Y$44:Y$45),COUNTBLANK(PROBAST!Y$63))>0,0,1)) -> FALSE
B31: FALSE | C31: =IF(B31=TRUE,25,"") | I31: =IF(D31="","",CONCATENATE(D31,", ",E31)) | J31: =IF(SUMMARY!B$31=TRUE,IF(SUM(CHARMS!BZ$13,CHARMS!BZ$15,CHARMS!BZ$29,CHARMS!BZ$37,CHARMS!BZ$44,CHARMS!BZ$49,CHARMS!BZ$52,CHARMS!BZ$57,CHARMS!BZ$78,CHARMS!BZ$83,CHARMS!BZ$88)<11,0,1)) -> FALSE | K31: =IF(SUMMARY!B31=TRUE,IF(SUM(COUNTBLANK(PROBAST!Z$16:Z$17),COUNTBLANK(PROBAST!Z$30:Z$31),COUNTBLANK(PROBAST!Z$44:Z$45),COUNTBLANK(PROBAST!Z$63))>0,0,1)) -> FALSE
B32: FALSE | C32: =IF(B32=TRUE,26,"") | I32: =IF(D32="","",CONCATENATE(D32,", ",E32)) | J32: =IF(SUMMARY!B$32=TRUE,IF(SUM(CHARMS!CC$13,CHARMS!CC$15,CHARMS!CC$29,CHARMS!CC$37,CHARMS!CC$44,CHARMS!CC$49,CHARMS!CC$52,CHARMS!CC$57,CHARMS!CC$78,CHARMS!CC$83,CHARMS!CC$88)<11,0,1)) -> FALSE | K32: =IF(SUMMARY!B32=TRUE,IF(SUM(COUNTBLANK(PROBAST!AA$16:AA$17),COUNTBLANK(PROBAST!AA$30:AA$31),COUNTBLANK(PROBAST!AA$44:AA$45),COUNTBLANK(PROBAST!AA$63))>0,0,1)) -> FALSE
B33: FALSE | C33: =IF(B33=TRUE,27,"") | I33: =IF(D33="","",CONCATENATE(D33,", ",E33)) | J33: =IF(SUMMARY!B$33=TRUE,IF(SUM(CHARMS!CF$13,CHARMS!CF$15,CHARMS!CF$29,CHARMS!CF$37,CHARMS!CF$44,CHARMS!CF$49,CHARMS!CF$52,CHARMS!CF$57,CHARMS!CF$78,CHARMS!CF$83,CHARMS!CF$88)<11,0,1)) -> FALSE | K33: =IF(SUMMARY!B33=TRUE,IF(SUM(COUNTBLANK(PROBAST!AB$16:AB$17),COUNTBLANK(PROBAST!AB$30:AB$31),COUNTBLANK(PROBAST!AB$44:AB$45),COUNTBLANK(PROBAST!AB$63))>0,0,1)) -> FALSE
B34: FALSE | C34: =IF(B34=TRUE,28,"") | I34: =IF(D34="","",CONCATENATE(D34,", ",E34)) | J34: =IF(SUMMARY!B$34=TRUE,IF(SUM(CHARMS!CI$13,CHARMS!CI$15,CHARMS!CI$29,CHARMS!CI$37,CHARMS!CI$44,CHARMS!CI$49,CHARMS!CI$52,CHARMS!CI$57,CHARMS!CI$78,CHARMS!CI$83,CHARMS!CI$88)<11,0,1)) -> FALSE | K34: =IF(SUMMARY!B34=TRUE,IF(SUM(COUNTBLANK(PROBAST!B$16:AC$17),COUNTBLANK(PROBAST!AC$30:AC$31),COUNTBLANK(PROBAST!AC$44:AC$45),COUNTBLANK(PROBAST!AC$63))>0,0,1)) -> FALSE
B35: FALSE | C35: =IF(B35=TRUE,29,"") | I35: =IF(D35="","",CONCATENATE(D35,", ",E35)) | J35: =IF(SUMMARY!B$35=TRUE,IF(SUM(CHARMS!CL$13,CHARMS!CL$15,CHARMS!CL$29,CHARMS!CL$37,CHARMS!CL$44,CHARMS!CL$49,CHARMS!CL$52,CHARMS!CL$57,CHARMS!CL$78,CHARMS!CL$83,CHARMS!CL$88)<11,0,1)) -> FALSE | K35: =IF(SUMMARY!B35=TRUE,IF(SUM(COUNTBLANK(PROBAST!AD$16:AD$17),COUNTBLANK(PROBAST!AD$30:AD$31),COUNTBLANK(PROBAST!AD$44:AD$45),COUNTBLANK(PROBAST!AD$63))>0,0,1)) -> FALSE
B36: FALSE | C36: =IF(B36=TRUE,30,"") | I36: =IF(D36="","",CONCATENATE(D36,", ",E36)) | J36: =IF(SUMMARY!B$36=TRUE,IF(SUM(CHARMS!CO$13,CHARMS!CO$15,CHARMS!CO$29,CHARMS!CO$37,CHARMS!CO$44,CHARMS!CO$49,CHARMS!CO$52,CHARMS!CO$57,CHARMS!CO$78,CHARMS!CO$83,CHARMS!CO$88)<11,0,1)) -> FALSE | K36: =IF(SUMMARY!B36=TRUE,IF(SUM(COUNTBLANK(PROBAST!AE$16:AE$17),COUNTBLANK(PROBAST!AE$30:AE$31),COUNTBLANK(PROBAST!AE$44:AE$45),COUNTBLANK(PROBAST!AE$63))>0,0,1)) -> FALSE

Sheet CHARMS
A3: CHARMS checklist
A5: CHARMS checklist. Relevant items to extract from individual studies for purposes of description and assessment of risk of bias and applicability. (Adapted from Moons KG. 2014)
A6: Gen | B6: App | C6: RoB | D6: Domain/ Key items | F6: =IF(SUMMARY!C7="","",SUMMARY!I7) -> Bansal et al., 2020 | I6: =IF(SUMMARY!C8="","",SUMMARY!I8) -> Hamilton et al., 2021 | J6: Model 3 | K6: Model 4 | L6: =IF(SUMMARY!C9="","",SUMMARY!I9) -> Hamilton et al., 2022 | O6: =IF(SUMMARY!C10="","",SUMMARY!I10) -> Mortazavi et al., 2019 | R6: =IF(SUMMARY!C11="","",SUMMARY!I11) -> Kulkarni et al., 2021 | U6: =IF(SUMMARY!C12="","",SUMMARY!I12) -> Niimi et al., 2022 | X6: =IF(SUMMARY!C13="","",SUMMARY!I13) -> Rayfield et al., 2020 | AA6: =IF(SUMMARY!C14="","",SUMMARY!I14) -> Zhao et al., 2023 | AD6: =IF(SUMMARY!C15="","",SUMMARY!I15) -> Hurley et al., 2021 | AG6: =IF(SUMMARY!C16="","",SUMMARY!I16) | AJ6: =IF(SUMMARY!C17="","",SUMMARY!I17) | AM6: =IF(SUMMARY!C18="","",SUMMARY!I18) | AP6: =IF(SUMMARY!C19="","",SUMMARY!I19) | AS6: =IF(SUMMARY!C20="","",SUMMARY!I20) | AV6: =IF(SUMMARY!C21="","",SUMMARY!I21) | AY6: =IF(SUMMARY!C22="","",SUMMARY!I22) | BB6: =IF(SUMMARY!C23="","",SUMMARY!I23) | BE6: =IF(SUMMARY!C24="","",SUMMARY!I24) | BH6: =IF(SUMMARY!C25="","",SUMMARY!I25) | BK6: =IF(SUMMARY!C26="","",SUMMARY!I26) | BN6: =IF(SUMMARY!C27="","",SUMMARY!I27) | BQ6: =IF(SUMMARY!C28="","",SUMMARY!I28) | BT6: =IF(SUMMARY!C29="","",SUMMARY!I29) | BW6: =IF(SUMMARY!C30="","",SUMMARY!I30) | BZ6: =IF(SUMMARY!C31="","",SUMMARY!I31) | CC6: =IF(SUMMARY!C32="","",SUMMARY!I32) | CF6: =IF(SUMMARY!C33="","",SUMMARY!I33) | CI6: =IF(SUMMARY!C34="","",SUMMARY!I34) | CL6: =IF(SUMMARY!C35="","",SUMMARY!I35) | CO6: =IF(SUMMARY!C36="","",SUMMARY!I36)
A7: 0. Study information
A8: X | D8: 0.1 Author | F8: =IF(SUMMARY!$D7="","",SUMMARY!$D7) -> Bansal et al. | I8: =IF(SUMMARY!$D8="","",SUMMARY!$D8) -> Hamilton et al. | L8: =IF(SUMMARY!$D9="","",SUMMARY!$D9) -> Hamilton et al. | O8: =IF(SUMMARY!$D10="","",SUMMARY!$D10) -> Mortazavi et al. | R8: =IF(SUMMARY!$D11="","",SUMMARY!$D11) -> Kulkarni et al. | U8: =IF(SUMMARY!$D12="","",SUMMARY!$D12) -> Niimi et al. | X8: =IF(SUMMARY!$D13="","",SUMMARY!$D13) -> Rayfield et al. | AA8: =IF(SUMMARY!$D14="","",SUMMARY!$D14) -> Zhao et al. | AD8: =IF(SUMMARY!$D15="","",SUMMARY!$D15) -> Hurley et al. | AG8: =IF(SUMMARY!$D16="","",SUMMARY!$D16) -> Fernández-Hidalgo (a) | AJ8: =IF(SUMMARY!$D17="","",SUMMARY!$D17) -> Fernández-Hidalgo (b) | AM8: =IF(SUMMARY!$D18="","",SUMMARY!$D18) | AP8: =IF(SUMMARY!$D19="","",SUMMARY!$D19) | AS8: =IF(SUMMARY!$D20="","",SUMMARY!$D20) | AV8: =IF(SUMMARY!$D21="","",SUMMARY!$D21) | AY8: =IF(SUMMARY!$D22="","",SUMMARY!$D22) | BB8: =IF(SUMMARY!$D23="","",SUMMARY!$D23) | BE8: =IF(SUMMARY!$D24="","",SUMMARY!$D24) | BH8: =IF(SUMMARY!$D25="","",SUMMARY!$D25) | BK8: =IF(SUMMARY!$D26="","",SUMMARY!$D26) | BN8: =IF(SUMMARY!$D27="","",SUMMARY!$D27) | BQ8: =IF(SUMMARY!$D28="","",SUMMARY!$D28) | BT8: =IF(SUMMARY!$D29="","",SUMMARY!$D29) | BW8: =IF(SUMMARY!$D30="","",SUMMARY!$D30) | BZ8: =IF(SUMMARY!$D31="","",SUMMARY!$D31) | CC8: =IF(SUMMARY!$D32="","",SUMMARY!$D32) | CF8: =IF(SUMMARY!$D33="","",SUMMARY!$D33) | CI8: =IF(SUMMARY!$D34="","",SUMMARY!$D34) | CL8: =IF(SUMMARY!$D35="","",SUMMARY!$D35) | CO8: =IF(SUMMARY!$D36="","",SUMMARY!$D36)
A9: X | D9: 0.2 Publication year | F9: =IF(SUMMARY!$E7="","",SUMMARY!$E7) -> 2020 | I9: =IF(SUMMARY!$E8="","",SUMMARY!$E8) -> 2021 | L9: =IF(SUMMARY!$E9="","",SUMMARY!$E9) -> 2022 | O9: =IF(SUMMARY!$E10="","",SUMMARY!$E10) -> 2019 | R9: =IF(SUMMARY!$E11="","",SUMMARY!$E11) -> 2021 | U9: =IF(SUMMARY!$E12="","",SUMMARY!$E12) -> 2022 | X9: =IF(SUMMARY!$E13="","",SUMMARY!$E13) -> 2020 | AA9: =IF(SUMMARY!$E14="","",SUMMARY!$E14) -> 2023 | AD9: =IF(SUMMARY!$E15="","",SUMMARY!$E15) -> 2021 | AG9: =IF(SUMMARY!$E16="","",SUMMARY!$E16) -> 2018 | AJ9: =IF(SUMMARY!$E17="","",SUMMARY!$E17) -> 2018 | AM9: =IF(SUMMARY!$E18="","",SUMMARY!$E18) | AP9: =IF(SUMMARY!$E19="","",SUMMARY!$E19) | AS9: =IF(SUMMARY!$E20="","",SUMMARY!$E20) | AV9: =IF(SUMMARY!$E21="","",SUMMARY!$E21) | AY9: =IF(SUMMARY!$E22="","",SUMMARY!$E22) | BB9: =IF(SUMMARY!$E23="","",SUMMARY!$E23) | BE9: =IF(SUMMARY!$E24="","",SUMMARY!$E24) | BH9: =IF(SUMMARY!$E25="","",SUMMARY!$E25) | BK9: =IF(SUMMARY!$E26="","",SUMMARY!$E26) | BN9: =IF(SUMMARY!$E27="","",SUMMARY!$E27) | BQ9: =IF(SUMMARY!$E28="","",SUMMARY!$E28) | BT9: =IF(SUMMARY!$E29="","",SUMMARY!$E29) | BW9: =IF(SUMMARY!$E30="","",SUMMARY!$E30) | BZ9: =IF(SUMMARY!$E31="","",SUMMARY!$E31) | CC9: =IF(SUMMARY!$E32="","",SUMMARY!$E32) | CF9: =IF(SUMMARY!$E33="","",SUMMARY!$E33) | CI9: =IF(SUMMARY!$E34="","",SUMMARY!$E34) | CL9: =IF(SUMMARY!$E35="","",SUMMARY!$E35) | CO9: =IF(SUMMARY!$E36="","",SUMMARY!$E36)
A10: X | D10: 0.3 Publication identifier (Title/PMID/DOI) | F10: =IF(SUMMARY!$F7="","",SUMMARY!$F7) -> MACHINE LEARNING TECHNIQUES TO PREDICT IN-HOSPITAL CARDIOVASCULAR OUTCOMES IN ELDERLY PATIENTS PRESENTING WITH ACUTE MYOCARDIAL INFARCTION | I10: =IF(SUMMARY!$F8="","",SUMMARY!$F8) -> A novel tool for highly reliable and accurate prediction of multiple complications in patients undergoing percutaneous coronary intervention | L10: =IF(SUMMARY!$F9="","",SUMMARY!$F9) -> Merging Machine Learning and Patient Preference: A Contemporary, Comprehensive, Patient-Centered Tool for Risk Prediction Prior to Percutaneous Coronary Intervention | O10: =IF(SUMMARY!$F10="","",SUMMARY!$F10) -> Comparison of Machine Learning Methods With National Cardiovascular Data Registry Models for Prediction of Risk of Bleeding After Percutaneous Coronary Intervention | R10: =IF(SUMMARY!$F11="","",SUMMARY!$F11) -> Artificial intelligence in percutaneous coronary intervention: improved risk prediction of PCI-related complications using an artificial neural network | U10: =IF(SUMMARY!$F12="","",SUMMARY!$F12) -> Machine learning models for prediction of adverse events after percutaneous coronary intervention | X10: =IF(SUMMARY!$F13="","",SUMMARY!$F13) -> Machine learning on high-dimensional data to predict bleeding post percutaneous coronary intervention | AA10: =IF(SUMMARY!$F14="","",SUMMARY!$F14) -> Machine learning for prediction of bleeding in acute myocardial infarction patients after percutaneous coronary intervention | AD10: =IF(SUMMARY!$F15="","",SUMMARY!$F15) -> A dynamic model to estimate evolving risk of major bleeding after percutaneous coronary intervention | AG10: =IF(SUMMARY!$F16="","",SUMMARY!$F16) -> A pragmatic approach for mortality prediction after surgery in infective endocarditis: optimizing and refining EuroSCORE | AJ10: =IF(SUMMARY!$F17="","",SUMMARY!$F17) -> A pragmatic approach for mortality prediction after surgery in infective endocarditis: optimizing and refining EuroSCORE | AM10: =IF(SUMMARY!$F18="","",SUMMARY!$F18) | AP10: =IF(SUMMARY!$F19="","",SUMMARY!$F19) | AS10: =IF(SUMMARY!$F20="","",SUMMARY!$F20) | AV10: =IF(SUMMARY!$F21="","",SUMMARY!$F21) | AY10: =IF(SUMMARY!$F22="","",SUMMARY!$F22) | BB10: =IF(SUMMARY!$F23="","",SUMMARY!$F23) | BE10: =IF(SUMMARY!$F24="","",SUMMARY!$F24) | BH10: =IF(SUMMARY!$F25="","",SUMMARY!$F25) | BK10: =IF(SUMMARY!$F26="","",SUMMARY!$F26) | BN10: =IF(SUMMARY!$F27="","",SUMMARY!$F27) | BQ10: =IF(SUMMARY!$F28="","",SUMMARY!$F28) | BT10: =IF(SUMMARY!$F29="","",SUMMARY!$F29) | BW10: =IF(SUMMARY!$F30="","",SUMMARY!$F30) | BZ10: =IF(SUMMARY!$F31="","",SUMMARY!$F31) | CC10: =IF(SUMMARY!$F32="","",SUMMARY!$F32) | CF10: =IF(SUMMARY!$F33="","",SUMMARY!$F33) | CI10: =IF(SUMMARY!$F34="","",SUMMARY!$F34) | CL10: =IF(SUMMARY!$F35="","",SUMMARY!$F35) | CO10: =IF(SUMMARY!$F36="","",SUMMARY!$F36)
A11: X | D11: 0.4 Publication journal | F11: =IF(SUMMARY!$G7="","",SUMMARY!$G7) -> Journal of the American College of Cardiology | I11: =IF(SUMMARY!$G8="","",SUMMARY!$G8) -> Circulation | L11: =IF(SUMMARY!$G9="","",SUMMARY!$G9) -> Circulation | O11: =IF(SUMMARY!$G10="","",SUMMARY!$G10) -> JAMA network open | R11: =IF(SUMMARY!$G11="","",SUMMARY!$G11) -> BMJ Innovations | U11: =IF(SUMMARY!$G12="","",SUMMARY!$G12) -> Scientific Reports | X11: =IF(SUMMARY!$G13="","",SUMMARY!$G13) -> Journal of Invasive Cardiology | AA11: =IF(SUMMARY!$G14="","",SUMMARY!$G14) -> Therapeutic advances in chronic disease | AD11: =IF(SUMMARY!$G15="","",SUMMARY!$G15) -> medRxiv | AG11: =IF(SUMMARY!$G16="","",SUMMARY!$G16) -> Clinical Microbiology and Infection | AJ11: =IF(SUMMARY!$G17="","",SUMMARY!$G17) -> Clinical Microbiology and Infection | AM11: =IF(SUMMARY!$G18="","",SUMMARY!$G18) | AP11: =IF(SUMMARY!$G19="","",SUMMARY!$G19) | AS11: =IF(SUMMARY!$G20="","",SUMMARY!$G20) | AV11: =IF(SUMMARY!$G21="","",SUMMARY!$G21) | AY11: =IF(SUMMARY!$G22="","",SUMMARY!$G22) | BB11: =IF(SUMMARY!$G23="","",SUMMARY!$G23) | BE11: =IF(SUMMARY!$G24="","",SUMMARY!$G24) | BH11: =IF(SUMMARY!$G25="","",SUMMARY!$G25) | BK11: =IF(SUMMARY!$G26="","",SUMMARY!$G26) | BN11: =IF(SUMMARY!$G27="","",SUMMARY!$G27) | BQ11: =IF(SUMMARY!$G28="","",SUMMARY!$G28) | BT11: =IF(SUMMARY!$G29="","",SUMMARY!$G29) | BW11: =IF(SUMMARY!$G30="","",SUMMARY!$G30) | BZ11: =IF(SUMMARY!$G31="","",SUMMARY!$G31) | CC11: =IF(SUMMARY!$G32="","",SUMMARY!$G32) | CF11: =IF(SUMMARY!$G33="","",SUMMARY!$G33) | CI11: =IF(SUMMARY!$G34="","",SUMMARY!$G34) | CL11: =IF(SUMMARY!$G35="","",SUMMARY!$G35) | CO11: =IF(SUMMARY!$G36="","",SUMMARY!$G36)
A12: X | D12: 0.5 Model name | F12: =IF(SUMMARY!$H7="","",SUMMARY!$H7) -> XGBoost | I12: =IF(SUMMARY!$H8="","",SUMMARY!$H8) -> Random Forest | L12: =IF(SUMMARY!$H9="","",SUMMARY!$H9) -> XGBoost | O12: =IF(SUMMARY!$H10="","",SUMMARY!$H10) -> Blended model with gradient descent boosting | R12: =IF(SUMMARY!$H11="","",SUMMARY!$H11) -> MLP | U12: =IF(SUMMARY!$H12="","",SUMMARY!$H12) -> XGBoost | X12: =IF(SUMMARY!$H13="","",SUMMARY!$H13) -> AI-BR model | AA12: =IF(SUMMARY!$H14="","",SUMMARY!$H14) -> XGBoost | AD12: =IF(SUMMARY!$H15="","",SUMMARY!$H15) -> XGBoost | AG12: =IF(SUMMARY!$H16="","",SUMMARY!$H16) -> Specific EuroSCORE-I | AJ12: =IF(SUMMARY!$H17="","",SUMMARY!$H17) -> Specific EuroSCORE-II | AM12: =IF(SUMMARY!$H18="","",SUMMARY!$H18) | AP12: =IF(SUMMARY!$H19="","",SUMMARY!$H19) | AS12: =IF(SUMMARY!$H20="","",SUMMARY!$H20) | AV12: =IF(SUMMARY!$H21="","",SUMMARY!$H21) | AY12: =IF(SUMMARY!$H22="","",SUMMARY!$H22) | BB12: =IF(SUMMARY!$H23="","",SUMMARY!$H23) | BE12: =IF(SUMMARY!$H24="","",SUMMARY!$H24) | BH12: =IF(SUMMARY!$H25="","",SUMMARY!$H25) | BK12: =IF(SUMMARY!$H26="","",SUMMARY!$H26) | BN12: =IF(SUMMARY!$H27="","",SUMMARY!$H27) | BQ12: =IF(SUMMARY!$H28="","",SUMMARY!$H28) | BT12: =IF(SUMMARY!$H29="","",SUMMARY!$H29) | BW12: =IF(SUMMARY!$H30="","",SUMMARY!$H30) | BZ12: =IF(SUMMARY!$H31="","",SUMMARY!$H31) | CC12: =IF(SUMMARY!$H32="","",SUMMARY!$H32) | CF12: =IF(SUMMARY!$H33="","",SUMMARY!$H33) | CI12: =IF(SUMMARY!$H34="","",SUMMARY!$H34) | CL12: =IF(SUMMARY!$H35="","",SUMMARY!$H35) | CO12: =IF(SUMMARY!$H36="","",SUMMARY!$H36)
A13: 1. Source of data | F13: =IF(SUMMARY!$B$7=TRUE,IF(F14="",0,1),"") -> 1 | I13: =IF(SUMMARY!$B$8=TRUE,IF(I14="",0,1),"") -> 1 | L13: =IF(SUMMARY!$B$9=TRUE,IF(L14="",0,1),"") -> 1 | O13: =IF(SUMMARY!$B$10=TRUE,IF(O14="",0,1),"") -> 1 | R13: =IF(SUMMARY!$B$11=TRUE,IF(R14="",0,1),"") -> 1 | U13: =IF(SUMMARY!$B$12=TRUE,IF(U14="",0,1),"") -> 1 | X13: =IF(SUMMARY!$B$13=TRUE,IF(X14="",0,1),"") -> 1 | AA13: =IF(SUMMARY!$B$14=TRUE,IF(AA14="",0,1),"") -> 1 | AD13: =IF(SUMMARY!$B$15=TRUE,IF(AD14="",0,1),"") -> 1 | AG13: =IF(SUMMARY!$B$16=TRUE,IF(AG14="",0,1),"") | AJ13: =IF(SUMMARY!$B$17=TRUE,IF(AJ14="",0,1),"") | AM13: =IF(SUMMARY!$B$18=TRUE,IF(AM14="",0,1),"") | AP13: =IF(SUMMARY!$B$19=TRUE,IF(AP14="",0,1),"") | AS13: =IF(SUMMARY!$B$20=TRUE,IF(AS14="",0,1),"") | AV13: =IF(SUMMARY!$B$21=TRUE,IF(AV14="",0,1),"") | AY13: =IF(SUMMARY!$B$22=TRUE,IF(AY14="",0,1),"") | BB13: =IF(SUMMARY!$B$23=TRUE,IF(BB14="",0,1),"") | BE13: =IF(SUMMARY!$B$24=TRUE,IF(BE14="",0,1),"") | BH13: =IF(SUMMARY!$B$25=TRUE,IF(BH14="",0,1),"") | BK13: =IF(SUMMARY!$B$26=TRUE,IF(BK14="",0,1),"") | BN13: =IF(SUMMARY!$B$27=TRUE,IF(BN14="",0,1),"") | BQ13: =IF(SUMMARY!$B$28=TRUE,IF(BQ14="",0,1),"") | BT13: =IF(SUMMARY!$B$29=TRUE,IF(BT14="",0,1),"") | BW13: =IF(SUMMARY!$B$30=TRUE,IF(BW14="",0,1),"") | BZ13: =IF(SUMMARY!$B$31=TRUE,IF(BZ14="",0,1),"") | CC13: =IF(SUMMARY!$B$32=TRUE,IF(CC14="",0,1),"") | CF13: =IF(SUMMARY!$B$33=TRUE,IF(CF14="",0,1),"") | CI13: =IF(SUMMARY!$B$34=TRUE,IF(CI14="",0,1),"") | CL13: =IF(SUMMARY!$B$35=TRUE,IF(CL14="",0,1),"") | CO13: =IF(SUMMARY!$B$36=TRUE,IF(CO14="",0,1),"")
B14: X | C14: X | D14: 1.1 Source of data | F14: Existing registry | I14: Existing registry | L14: Existing registry | O14: Existing registry | R14: Existing registry | U14: Existing registry | X14: Existing registry | AA14: Existing registry | AD14: Existing registry | AG14: Retrospective cohort | AJ14: Retrospective cohort
A15: 2. Participants | F15: =IF(SUMMARY!$B$7=TRUE,IF(AND(COUNTBLANK(F16:F22)=0,COUNTBLANK(F24:F28)<5),1,0),"") -> 1 | I15: =IF(SUMMARY!$B$8=TRUE,IF(AND(COUNTBLANK(I16:I22)=0,COUNTBLANK(I24:I28)<5),1,0),"") -> 1 | L15: =IF(SUMMARY!$B$9=TRUE,IF(AND(COUNTBLANK(L16:L22)=0,COUNTBLANK(L24:L28)<5),1,0),"") -> 1 | O15: =IF(SUMMARY!$B$10=TRUE,IF(AND(COUNTBLANK(O16:O22)=0,COUNTBLANK(O24:O28)<5),1,0),"") -> 1 | R15: =IF(SUMMARY!$B$11=TRUE,IF(AND(COUNTBLANK(R16:R22)=0,COUNTBLANK(R24:R28)<5),1,0),"") -> 1 | U15: =IF(SUMMARY!$B$12=TRUE,IF(AND(COUNTBLANK(U16:U22)=0,COUNTBLANK(U24:U28)<5),1,0),"") -> 1 | X15: =IF(SUMMARY!$B$13=TRUE,IF(AND(COUNTBLANK(X16:X22)=0,COUNTBLANK(X24:X28)<5),1,0),"") -> 1 | AA15: =IF(SUMMARY!$B$14=TRUE,IF(AND(COUNTBLANK(AA16:AA22)=0,COUNTBLANK(AA24:AA28)<5),1,0),"") -> 1 | AD15: =IF(SUMMARY!$B$15=TRUE,IF(AND(COUNTBLANK(AD16:AD22)=0,COUNTBLANK(AD24:AD28)<5),1,0),"") -> 1 | AG15: =IF(SUMMARY!$B$16=TRUE,IF(AND(COUNTBLANK(AG16:AG22)=0,COUNTBLANK(AG24:AG28)<5),1,0),"") | AJ15: =IF(SUMMARY!$B$17=TRUE,IF(AND(COUNTBLANK(AJ16:AJ22)=0,COUNTBLANK(AJ24:AJ28)<5),1,0),"") | AM15: =IF(SUMMARY!$B$18=TRUE,IF(AND(COUNTBLANK(AM16:AM22)=0,COUNTBLANK(AM24:AM28)<5),1,0),"") | AP15: =IF(SUMMARY!$B$19=TRUE,IF(AND(COUNTBLANK(AP16:AP22)=0,COUNTBLANK(AP24:AP28)<5),1,0),"") | AS15: =IF(SUMMARY!$B$20=TRUE,IF(AND(COUNTBLANK(AS16:AS22)=0,COUNTBLANK(AS24:AS28)<5),1,0),"") | AV15: =IF(SUMMARY!$B$21=TRUE,IF(AND(COUNTBLANK(AV16:AV22)=0,COUNTBLANK(AV24:AV28)<5),1,0),"") | AY15: =IF(SUMMARY!$B$22=TRUE,IF(AND(COUNTBLANK(AY16:AY22)=0,COUNTBLANK(AY24:AY28)<5),1,0),"") | BB15: =IF(SUMMARY!$B$23=TRUE,IF(AND(COUNTBLANK(BB16:BB22)=0,COUNTBLANK(BB24:BB28)<5),1,0),"") | BE15: =IF(SUMMARY!$B$24=TRUE,IF(AND(COUNTBLANK(BE16:BE22)=0,COUNTBLANK(BE24:BE28)<5),1,0),"") | BH15: =IF(SUMMARY!$B$25=TRUE,IF(AND(COUNTBLANK(BH16:BH22)=0,COUNTBLANK(BH24:BH28)<5),1,0),"") | BK15: =IF(SUMMARY!$B$26=TRUE,IF(AND(COUNTBLANK(BK16:BK22)=0,COUNTBLANK(BK24:BK28)<5),1,0),"") | BN15: =IF(SUMMARY!$B$27=TRUE,IF(AND(COUNTBLANK(BN16:BN22)=0,COUNTBLANK(BN24:BN28)<5),1,0),"") | BQ15: =IF(SUMMARY!$B$28=TRUE,IF(AND(COUNTBLANK(BQ16:BQ22)=0,COUNTBLANK(BQ24:BQ28)<5),1,0),"") | BT15: =IF(SUMMARY!$B$29=TRUE,IF(AND(COUNTBLANK(BT16:BT22)=0,COUNTBLANK(BT24:BT28)<5),1,0),"") | BW15: =IF(SUMMARY!$B$30=TRUE,IF(AND(COUNTBLANK(BW16:BW22)=0,COUNTBLANK(BW24:BW28)<5),1,0),"") | BZ15: =IF(SUMMARY!$B$31=TRUE,IF(AND(COUNTBLANK(BZ16:BZ22)=0,COUNTBLANK(BZ24:BZ28)<5),1,0),"") | CC15: =IF(SUMMARY!$B$32=TRUE,IF(AND(COUNTBLANK(CC16:CC22)=0,COUNTBLANK(CC24:CC28)<5),1,0),"") | CF15: =IF(SUMMARY!$B$33=TRUE,IF(AND(COUNTBLANK(CF16:CF22)=0,COUNTBLANK(CF24:CF28)<5),1,0),"") | CI15: =IF(SUMMARY!$B$34=TRUE,IF(AND(COUNTBLANK(CI16:CI22)=0,COUNTBLANK(CI24:CI28)<5),1,0),"") | CL15: =IF(SUMMARY!$B$35=TRUE,IF(AND(COUNTBLANK(CL16:CL22)=0,COUNTBLANK(CL24:CL28)<5),1,0),"") | CO15: =IF(SUMMARY!$B$36=TRUE,IF(AND(COUNTBLANK(CO16:CO22)=0,COUNTBLANK(CO24:CO28)<5),1,0),"")
A16: x | B16: X | D16: 2.1 Recruitment method | F16: No information | I16: No information | L16: No information | O16: No information | R16: No information | U16: No information | X16: No information | AA16: No information | AD16: No information | AG16: Consecutive patients | AJ16: Consecutive patients
A17: X | B17: X | D17: 2.2 Recruitment dates | F17: 2005-2018 | I17: 2018-2020 | L17: 2018-2020 | O17: 2015-2017 | R17: 2009-2018 | U17: 2008-2020 | X17: 2006-2017 | AA17: 2013-2016 | AD17: 2009-2015 | AG17: 2000 - 2011 | AJ17: 2000 - 2011
A18: X | B18: X | D18: 2.3 Study setting | F18: Cleveland Clinic CathPCI | I18: BMC2 registry | L18: BMC2 registry | O18: NCDR Cath PCI 4.4 | R18: NCDR Cath PCI for BJC | U18: JCD-KiCS registry | X18: MayoClinic Health Systems | AA18: CAMI registry | AD18: NCDR CathPCI | AG18: Cardiac surgery centers | AJ18: Cardiac surgery centers
A19: X | B19: X | D19: 2.4 Study sites (Regions) | F19: USA | I19: USA | L19: USA | O19: USA | R19: USA | U19: Japan | X19: USA | AA19: China | AD19: USA | AG19: Spain | AJ19: Spain
A20: X | B20: X | D20: 2.5 Study sites (Number of centers) | F20: 1 | I20: 48 | L20: 48 | O20: 1561 | R20: 7 | U20: 15 | X20: 4 | AA20: Multicenter | AD20: 1561 | AG20: 9 | AJ20: 9
A21: X | B21: X | D21: 2.6 Criteria inclusion | F21: Patients >70 years presenting with acute myocardial infarction | I21: PCI patients | L21: PCI patients | O21: PCI patients | R21: PCI patients | U21: PCI patients | X21: PCI patients | AA21: AMI patients undergoing PCI | AD21: PCI patients | AG21: Patients who requiring cardiac surgery during the active phase of infection (while on antimicrobial therapy). | AJ21: Patients who requiring cardiac surgery during the active phase of infection (while on antimicrobial therapy).
A22: X | B22: X | D22: 2.7 Criteria exclusion | F22: No information | I22: No information | L22: No information | O22: Percutaneous coronary intervention procedures were excluded if they were not the index PCI of admission, if the hospital site had missing outcomes measures, or if the patient underwent subsequent coronary artery bypass grafting. | R22: No information | U22: excluded patients with missing indications (n = 967), those without pre- and post-procedure hemoglobin (n = 901), and those without pre- and post-procedure serum creatinine (n = 22) (analytic cohort), Missing for Hgb (6474) | X22: Any Missing data | AA22: not received PCI, only received BMS, not received DAPT | AD22: we excluded patients during readmissions, who died in the hospital, who had missing data regarding if they had any bleeding events, or who underwent coronary artery bypass grafting (CABG) during the index admission | AG22: IE cases exclusively involving pacemaker leads were not considered. Only the first episode of IE recorded for an individual patient was used. | AJ22: IE cases exclusively involving pacemaker leads were not considered. Only the first episode of IE recorded for an individual patient was used.
A23: X | B23: X | D23: 2.8 Participant description | E23: Characteristics | F23: Values | H23: Measures | I23: Values | K23: Measures | L23: Values | N23: Measures | O23: Values | Q23: Measures | R23: Values | T23: Measures | U23: Values | W23: Measures | X23: Values | Z23: Measures | AA23: Values | AC23: Measures | AD23: Values | AF23: Measures | AG23: Values | AI23: Measures | AJ23: Values | AL23: Measures | AM23: Values | AO23: Measures | AP23: Values | AR23: Measures | AS23: Values | AU23: Measures | AV23: Values | AX23: Measures | AY23: Values | BA23: Measures | BB23: Values | BD23: Measures | BE23: Values | BG23: Measures | BH23: Values | BJ23: Measures | BK23: Values | BM23: Measures | BN23: Values | BP23: Measures | BQ23: Values | BS23: Measures | BT23: Values | BV23: Measures | BW23: Values | BY23: Measures | BZ23: Values | CB23: Measures | CC23: Values | CE23: Measures | CF23: Values | CH23: Measures | CI23: Values | CK23: Measures | CL23: Values | CN23: Measures | CO23: Values | CQ23: Measures
A24: X | B24: X | D24: =IF(E24="","2.8.1 Characteristic 1", CONCATENATE("2.8.1 ", E24)) -> 2.8.1 Age of participants | E24: Age of participants | F24: 77 | H24: Median (IQR) | I24: NI | K24: Other | L24: NI | N24: Other | O24: 65 (56-73) | Q24: Median (IQR) | R24: 65.6 (12) | T24: Mean (sd) | U24: 70 (62-77) | W24: Median (IQR) | X24: 67 (58-77) | Z24: Median (IQR) | AA24: 60.08 (12.64) | AC24: Mean (sd) | AD24: 64.6 (12) | AF24: Mean (sd) | AG24: 58 (15.1) | AI24: Mean (sd) | AJ24: 58 (15.1) | AL24: Mean (sd)
A25: X | B25: X | D25: =IF(E25="","2.8.2 Characteristic 2", CONCATENATE("2.8.2 ", E25)) -> 2.8.2 CAD type | E25: CAD type | F25: Acute MI | H25: Other | I25: NI | K25: Other | L25: NI | N25: Other | O25: NI | Q25: Other | R25: Stable IHD + ACS | T25: Other | U25: ACS+SIHD | W25: Other | X25: 2.221 (82) | Z25: Other | AA25: 103 (74.6) | AC25: Other | AD25: 259 (61.1) | AF25: Other | AG25: No information | AI25: No information | AJ25: No information | AL25: No information
A26: X | B26: X | D26: =IF(E26="","2.8.3 Characteristic 3", CONCATENATE("2.8.3 ", E26)) -> 2.8.3 PCI type | E26: PCI type | F26: PCI | H26: Other | I26: PCI | K26: Other | L26: PCI | N26: Other | O26: PCI | Q26: Other | R26: PCI | T26: Other | U26: PCI | W26: Other | X26: PCI | Z26: Other | AA26: PCI | AC26: Other | AD26: PCI | AF26: Other | AG26: All | AI26: Other | AJ26: All | AL26: Other
A27: X | B27: X | D27: =IF(E27="","2.8.4 Characteristic 4", CONCATENATE("2.8.4 ", E27)) -> 2.8.4 Characteristic 4
A28: X | B28: X | D28: =IF(E28="","2.8.5 Characteristic 5", CONCATENATE("2.8.5 ", E28)) -> 2.8.5 Characteristic 5
A29: 3. Outcome to be predicted | F29: =IF(SUMMARY!$B$7=TRUE,IF(COUNTBLANK(F30:F36)>0,0,1),"") -> 1 | I29: =IF(SUMMARY!$B$8=TRUE,IF(COUNTBLANK(I30:I36)>0,0,1),"") -> 1 | L29: =IF(SUMMARY!$B$9=TRUE,IF(COUNTBLANK(L30:L36)>0,0,1),"") -> 1 | O29: =IF(SUMMARY!$B$10=TRUE,IF(COUNTBLANK(O30:O36)>0,0,1),"") -> 1 | R29: =IF(SUMMARY!$B$11=TRUE,IF(COUNTBLANK(R30:R36)>0,0,1),"") -> 1 | U29: =IF(SUMMARY!$B$12=TRUE,IF(COUNTBLANK(U30:U36)>0,0,1),"") -> 1 | X29: =IF(SUMMARY!$B$13=TRUE,IF(COUNTBLANK(X30:X36)>0,0,1),"") -> 1 | AA29: =IF(SUMMARY!$B$14=TRUE,IF(COUNTBLANK(AA30:AA36)>0,0,1),"") -> 1 | AD29: =IF(SUMMARY!$B$15=TRUE,IF(COUNTBLANK(AD30:AD36)>0,0,1),"") -> 1 | AG29: =IF(SUMMARY!$B$16=TRUE,IF(COUNTBLANK(AG30:AG36)>0,0,1),"") | AJ29: =IF(SUMMARY!$B$17=TRUE,IF(COUNTBLANK(AJ30:AJ36)>0,0,1),"") | AM29: =IF(SUMMARY!$B$18=TRUE,IF(COUNTBLANK(AM30:AM36)>0,0,1),"") | AP29: =IF(SUMMARY!$B$19=TRUE,IF(COUNTBLANK(AP30:AP36)>0,0,1),"") | AS29: =IF(SUMMARY!$B$20=TRUE,IF(COUNTBLANK(AS30:AS36)>0,0,1),"") | AV29: =IF(SUMMARY!$B$21=TRUE,IF(COUNTBLANK(AV30:AV36)>0,0,1),"") | AY29: =IF(SUMMARY!$B$22=TRUE,IF(COUNTBLANK(AY30:AY36)>0,0,1),"") | BB29: =IF(SUMMARY!$B$23=TRUE,IF(COUNTBLANK(BB30:BB36)>0,0,1),"") | BE29: =IF(SUMMARY!$B$24=TRUE,IF(COUNTBLANK(BE30:BE36)>0,0,1),"") | BH29: =IF(SUMMARY!$B$25=TRUE,IF(COUNTBLANK(BH30:BH36)>0,0,1),"") | BK29: =IF(SUMMARY!$B$26=TRUE,IF(COUNTBLANK(BK30:BK36)>0,0,1),"") | BN29: =IF(SUMMARY!$B$27=TRUE,IF(COUNTBLANK(BN30:BN36)>0,0,1),"") | BQ29: =IF(SUMMARY!$B$28=TRUE,IF(COUNTBLANK(BQ30:BQ36)>0,0,1),"") | BT29: =IF(SUMMARY!$B$29=TRUE,IF(COUNTBLANK(BT30:BT36)>0,0,1),"") | BW29: =IF(SUMMARY!$B$30=TRUE,IF(COUNTBLANK(BW30:BW36)>0,0,1),"") | BZ29: =IF(SUMMARY!$B$31=TRUE,IF(COUNTBLANK(BZ30:BZ36)>0,0,1),"") | CC29: =IF(SUMMARY!$B$32=TRUE,IF(COUNTBLANK(CC30:CC36)>0,0,1),"") | CF29: =IF(SUMMARY!$B$33=TRUE,IF(COUNTBLANK(CF30:CF36)>0,0,1),"") | CI29: =IF(SUMMARY!$B$34=TRUE,IF(COUNTBLANK(CI30:CI36)>0,0,1),"") | CL29: =IF(SUMMARY!$B$35=TRUE,IF(COUNTBLANK(CL30:CL36)>0,0,1),"") | CO29: =IF(SUMMARY!$B$36=TRUE,IF(COUNTBLANK(CO30:CO36)>0,0,1),"")
B30: X | C30: X | D30: 3.1 Outcome | F30: In-hospital bleeding | I30: In-hospital bleeding | L30: In-hospital bleeding | O30: In-hospital Bleeding | R30: In-hospital Bleeding | U30: In-hospital Bleeding | X30: In-hospital Bleeding | AA30: In-hospital Bleeding | AD30: In-hospital Bleeding | AG30: 30 days mortality | AJ30: 30 days mortality
B31: X | C31: X | D31: 3.2 Outcome definition | F31: No information | I31: In-hospital bleeding | L31: In-hospital bleeding | O31: 1) Major bleeding occurring within 72 hours after the PCI or before discharge is said to have occurred if there is a site-reported bleed (external or hematoma >10 cm, >5 cm, and >2 cm for femoral, brachial, and radial access, respectively); 2) Bleeds reflecting a post-PCI hemoglobin decrease of 3 g/dL in patients with a pre-PCI level of at least 16 g/dL; 3) Any non-surgery blood transfusion for pre procedure hemoglobin levels of at least 8 g/dL; 4) intracranial hemorrhage, cardiac tamponade, and gastrointestinal or retroperitoneal bleeding. | R31: any ONE of the following: (1) bleeding event w/in 72 hours; OR (2) haemorrhagic stroke; OR (3) tamponade; OR (4) post-PCI transfusion for patients with a pre-procedure haemoglobin >80 g/L and pre-procedure haemoglobin not missing; OR (5) absolute haemoglobin decrease from pre-PCI to post-PCI of ≥30 g/L AND pre-procedure haemoglobin ≤160 g/L AND pre-procedure haemoglobin not missing | U31: Bleeding was defined as any of the following occurring within 72 h after PCI or before hospital discharge (whichever occurs first): site-reported arterial access site bleeding; retroperitoneal, gastrointestinal, genitourinary bleeding, intracranial hemorrhage, cardiac tamponade, or post-procedure hemoglobin decrease of 3 g/dl in patients with pre-procedure haemoglobin ≤ 16 g/dl, or post procedure non-bypass surgery-related blood transfusion for patients with a pre-procedure haemoglobin ≥ 8 g/dl. | X31: bleeding within 72 hours of PCI and prior to hospital discharge. Bleeding was defined according to the National Cardiovascular Data Registry (NCDR), which considers retroperitoneal, gastrointestinal, genitourinary, and intracranial bleeding, as well as access-site hematoma, as bleeding events. | AA31: BARC type 3 or 5 of non-coronary artery bypass grafting–related bleeding | AD31: Bleeding was defined using the definition employed in prior NCDR risk models as a hemoglobin drop ≥ 3 g/dL, whole blood or packed red blood cell transfusion, or intervention/surgery at the bleeding site to reverse/stop or correct bleeding. | AG31: Death occurring within the first 30 days after cardiac surgery. | AJ31: Death occurring within the first 30 days after cardiac surgery.
C32: X | D32: 3.3 Same outcome definition for all participants | F32: Yes | I32: No information | L32: No information | O32: Yes | R32: Yes | U32: Yes | X32: Yes | AA32: Yes | AD32: Yes | AG32: Yes | AJ32: Yes
A33: X | B33: X | D33: 3.4 Type of outcome | F33: Single | I33: Single | L33: Single | O33: Single | R33: Single | U33: Single | X33: Single | AA33: Single | AD33: Single | AG33: Single | AJ33: Single
C34: X | D34: 3.5 Was the outcome assessed without knowledge of the predictors? | F34: No information | I34: No information | L34: No information | O34: No information | R34: No information | U34: No information | X34: No information | AA34: No information | AD34: No information | AG34: Unclear | AJ34: Unclear
C35: X | D35: 3.6 Were candidate predictors part of outcome? | F35: No information | I35: No information | L35: No information | O35: No | R35: No | U35: No | X35: No information | AA35: No information | AD35: No information | AG35: No | AJ35: No
B36: X | D36: 3.7 Time of outcome ocurrence | F36: In hospital | I36: In hospital | L36: In hospital | O36: In hospital | R36: In hospital | U36: In hospital | X36: In hospital | AA36: In hospital | AD36: In hospital | AG36: 30 days | AJ36: 30 days
A37: 4. Candidate predictors | F37: =IF(SUMMARY!$B$7=TRUE,IF(COUNTBLANK(F38:F43)>0,0,1),"") -> 1 | I37: =IF(SUMMARY!$B$8=TRUE,IF(COUNTBLANK(I38:I43)>0,0,1),"") -> 1 | L37: =IF(SUMMARY!$B$9=TRUE,IF(COUNTBLANK(L38:L43)>0,0,1),"") -> 1 | O37: =IF(SUMMARY!$B$10=TRUE,IF(COUNTBLANK(O38:O43)>0,0,1),"") -> 1 | R37: =IF(SUMMARY!$B$11=TRUE,IF(COUNTBLANK(R38:R43)>0,0,1),"") -> 1 | U37: =IF(SUMMARY!$B$12=TRUE,IF(COUNTBLANK(U38:U43)>0,0,1),"") -> 1 | X37: =IF(SUMMARY!$B$13=TRUE,IF(COUNTBLANK(X38:X43)>0,0,1),"") -> 1 | AA37: =IF(SUMMARY!$B$14=TRUE,IF(COUNTBLANK(AA38:AA43)>0,0,1),"") -> 1 | AD37: =IF(SUMMARY!$B$15=TRUE,IF(COUNTBLANK(AD38:AD43)>0,0,1),"") -> 1 | AG37: =IF(SUMMARY!$B$16=TRUE,IF(COUNTBLANK(AG38:AG43)>0,0,1),"") | AJ37: =IF(SUMMARY!$B$17=TRUE,IF(COUNTBLANK(AJ38:AJ43)>0,0,1),"") | AM37: =IF(SUMMARY!$B$18=TRUE,IF(COUNTBLANK(AM38:AM43)>0,0,1),"") | AP37: =IF(SUMMARY!$B$19=TRUE,IF(COUNTBLANK(AP38:AP43)>0,0,1),"") | AS37: =IF(SUMMARY!$B$20=TRUE,IF(COUNTBLANK(AS38:AS43)>0,0,1),"") | AV37: =IF(SUMMARY!$B$21=TRUE,IF(COUNTBLANK(AV38:AV43)>0,0,1),"") | AY37: =IF(SUMMARY!$B$22=TRUE,IF(COUNTBLANK(AY38:AY43)>0,0,1),"") | BB37: =IF(SUMMARY!$B$23=TRUE,IF(COUNTBLANK(BB38:BB43)>0,0,1),"") | BE37: =IF(SUMMARY!$B$24=TRUE,IF(COUNTBLANK(BE38:BE43)>0,0,1),"") | BH37: =IF(SUMMARY!$B$25=TRUE,IF(COUNTBLANK(BH38:BH43)>0,0,1),"") | BK37: =IF(SUMMARY!$B$26=TRUE,IF(COUNTBLANK(BK38:BK43)>0,0,1),"") | BN37: =IF(SUMMARY!$B$27=TRUE,IF(COUNTBLANK(BN38:BN43)>0,0,1),"") | BQ37: =IF(SUMMARY!$B$28=TRUE,IF(COUNTBLANK(BQ38:BQ43)>0,0,1),"") | BT37: =IF(SUMMARY!$B$29=TRUE,IF(COUNTBLANK(BT38:BT43)>0,0,1),"") | BW37: =IF(SUMMARY!$B$30=TRUE,IF(COUNTBLANK(BW38:BW43)>0,0,1),"") | BZ37: =IF(SUMMARY!$B$31=TRUE,IF(COUNTBLANK(BZ38:BZ43)>0,0,1),"") | CC37: =IF(SUMMARY!$B$32=TRUE,IF(COUNTBLANK(CC38:CC43)>0,0,1),"") | CF37: =IF(SUMMARY!$B$33=TRUE,IF(COUNTBLANK(CF38:CF43)>0,0,1),"") | CI37: =IF(SUMMARY!$B$34=TRUE,IF(COUNTBLANK(CI38:CI43)>0,0,1),"") | CL37: =IF(SUMMARY!$B$35=TRUE,IF(COUNTBLANK(CL38:CL43)>0,0,1),"") | CO37: =IF(SUMMARY!$B$36=TRUE,IF(COUNTBLANK(CO38:CO43)>0,0,1),"")
A38: X | D38: 4.1 Number of candidate predictors (or parameters) assessed | F38: 0 | I38: 74 | L38: 74 | O38: 0 | R38: 100 | U38: 9 | X38: 86 | AA38: 90 | AD38: 0 | AG38: 26 | AJ38: 27
A39: X | D39: 4.2 Type of predictors | F39: No information | I39: pre-procedural clinical and laboratory | L39: pre-procedural clinical and laboratory | O39: pre-procedural and diagnostic cath | R39: clinical, laboratory and PCI characteristics | U39: clinical, laboratory and PCI status | X39: clinical, laboratory and PCI characteristics | AA39: clinical, laboratory and PCI characteristics | AD39: Pre-PCI and PCI characteristics | AG39: Patient, surgery and IE related factors | AJ39: Patient, surgery and IE related factors
B40: X | D40: 4.3 Timing of predictors measurement | F40: No information | I40: No information | L40: No information | O40: pre- and post-procedural | R40: pre- and post-procedural | U40: pre-procedural | X40: pre-procedural and procedural | AA40: pre-procedural and procedural | AD40: Pre-operative | AG40: Pre-operative | AJ40: Pre-operative
C41: X | D41: 4.4 Predictors definition and measurement similar for all participants | F41: No information | I41: No information | L41: No information | O41: Yes | R41: Yes | U41: Yes | X41: Yes | AA41: Yes | AD41: Yes | AG41: No | AJ41: No
C42: X | D42: 4.5 Were predictors assessed blinded for outcome? | F42: No information | I42: No information | L42: No information | O42: No information | R42: No information | U42: No information | X42: No information | AA42: No information | AD42: No information | AG42: No information | AJ42: No information
C43: X | D43: 4.6 Handling of continuous predictors | F43: No information | I43: No information | L43: Dichotomization | O43: categorized and continuous | R43: No categorization | U43: No categorization | X43: No information | AA43: No information | AD43: No information | AG43: No information | AJ43: No information
...

Sheet PROBAST
A3: PROBAST checklist
A5: PROBAST. Prediction model study Risk Of Bias Assessment Tool
A6: Domain/ Key questions | B6: =IF(SUMMARY!C7="","",SUMMARY!I7) -> Bansal et al., 2020 | C6: =IF(SUMMARY!C8="","",SUMMARY!I8) -> Hamilton et al., 2021 | D6: =IF(SUMMARY!C9="","",SUMMARY!I9) -> Hamilton et al., 2022 | E6: =IF(SUMMARY!C10="","",SUMMARY!I10) -> Mortazavi et al., 2019 | F6: =IF(SUMMARY!C11="","",SUMMARY!I11) -> Kulkarni et al., 2021 | G6: =IF(SUMMARY!C12="","",SUMMARY!I12) -> Niimi et al., 2022 | H6: =IF(SUMMARY!C13="","",SUMMARY!I13) -> Rayfield et al., 2020 | I6: =IF(SUMMARY!C14="","",SUMMARY!I14) -> Zhao et al., 2023 | J6: =IF(SUMMARY!C15="","",SUMMARY!I15) -> Hurley et al., 2021 | K6: =IF(SUMMARY!C16="","",SUMMARY!I16) | L6: =IF(SUMMARY!C17="","",SUMMARY!I17) | M6: =IF(SUMMARY!C18="","",SUMMARY!I18) | N6: =IF(SUMMARY!C19="","",SUMMARY!I19) | O6: =IF(SUMMARY!C20="","",SUMMARY!I20) | P6: =IF(SUMMARY!C21="","",SUMMARY!I21) | Q6: =IF(SUMMARY!C22="","",SUMMARY!I22) | R6: =IF(SUMMARY!C23="","",SUMMARY!I23) | S6: =IF(SUMMARY!C24="","",SUMMARY!I24) | T6: =IF(SUMMARY!C25="","",SUMMARY!I25) | U6: =IF(SUMMARY!C26="","",SUMMARY!I26) | V6: =IF(SUMMARY!C27="","",SUMMARY!I27) | W6: =IF(SUMMARY!C28="","",SUMMARY!I28) | X6: =IF(SUMMARY!C29="","",SUMMARY!I29) | Y6: =IF(SUMMARY!C30="","",SUMMARY!I30) | Z6: =IF(SUMMARY!C31="","",SUMMARY!I31) | AA6: =IF(SUMMARY!C32="","",SUMMARY!I32) | AB6: =IF(SUMMARY!C33="","",SUMMARY!I33) | AC6: =IF(SUMMARY!C34="","",SUMMARY!I34) | AD6: =IF(SUMMARY!C35="","",SUMMARY!I35) | AE6: =IF(SUMMARY!C36="","",SUMMARY!I36)
A7: 0. Study information
A8: 0.1 Author | B8: =IF(SUMMARY!$D7="","",SUMMARY!$D7) -> Bansal et al. | C8: =IF(SUMMARY!$D8="","",SUMMARY!$D8) -> Hamilton et al. | D8: =IF(SUMMARY!$D9="","",SUMMARY!$D9) -> Hamilton et al. | E8: =IF(SUMMARY!$D10="","",SUMMARY!$D10) -> Mortazavi et al. | F8: =IF(SUMMARY!$D11="","",SUMMARY!$D11) -> Kulkarni et al. | G8: =IF(SUMMARY!$D12="","",SUMMARY!$D12) -> Niimi et al. | H8: =IF(SUMMARY!$D13="","",SUMMARY!$D13) -> Rayfield et al. | I8: =IF(SUMMARY!$D14="","",SUMMARY!$D14) -> Zhao et al. | J8: =IF(SUMMARY!$D15="","",SUMMARY!$D15) -> Hurley et al. | K8: =IF(SUMMARY!$D16="","",SUMMARY!$D16) -> Fernández-Hidalgo (a) | L8: =IF(SUMMARY!$D17="","",SUMMARY!$D17) -> Fernández-Hidalgo (b) | M8: =IF(SUMMARY!$D18="","",SUMMARY!$D18) | N8: =IF(SUMMARY!$D19="","",SUMMARY!$D19) | O8: =IF(SUMMARY!$D20="","",SUMMARY!$D20) | P8: =IF(SUMMARY!$D21="","",SUMMARY!$D21) | Q8: =IF(SUMMARY!$D22="","",SUMMARY!$D22) | R8: =IF(SUMMARY!$D23="","",SUMMARY!$D23) | S8: =IF(SUMMARY!$D24="","",SUMMARY!$D24) | T8: =IF(SUMMARY!$D25="","",SUMMARY!$D25) | U8: =IF(SUMMARY!$D26="","",SUMMARY!$D26) | V8: =IF(SUMMARY!$D27="","",SUMMARY!$D27) | W8: =IF(SUMMARY!$D28="","",SUMMARY!$D28) | X8: =IF(SUMMARY!$D29="","",SUMMARY!$D29) | Y8: =IF(SUMMARY!$D30="","",SUMMARY!$D30) | Z8: =IF(SUMMARY!$D31="","",SUMMARY!$D31) | AA8: =IF(SUMMARY!$D32="","",SUMMARY!$D32) | AB8: =IF(SUMMARY!$D33="","",SUMMARY!$D33) | AC8: =IF(SUMMARY!$D34="","",SUMMARY!$D34) | AD8: =IF(SUMMARY!$D35="","",SUMMARY!$D35) | AE8: =IF(SUMMARY!$D36="","",SUMMARY!$D36)
A9: 0.2 Publication year | B9: =IF(SUMMARY!$E7="","",SUMMARY!$E7) -> 2020 | C9: =IF(SUMMARY!$E8="","",SUMMARY!$E8) -> 2021 | D9: =IF(SUMMARY!$E9="","",SUMMARY!$E9) -> 2022 | E9: =IF(SUMMARY!$E10="","",SUMMARY!$E10) -> 2019 | F9: =IF(SUMMARY!$E11="","",SUMMARY!$E11) -> 2021 | G9: =IF(SUMMARY!$E12="","",SUMMARY!$E12) -> 2022 | H9: =IF(SUMMARY!$E13="","",SUMMARY!$E13) -> 2020 | I9: =IF(SUMMARY!$E14="","",SUMMARY!$E14) -> 2023 | J9: =IF(SUMMARY!$E15="","",SUMMARY!$E15) -> 2021 | K9: =IF(SUMMARY!$E16="","",SUMMARY!$E16) -> 2018 | L9: =IF(SUMMARY!$E17="","",SUMMARY!$E17) -> 2018 | M9: =IF(SUMMARY!$E18="","",SUMMARY!$E18) | N9: =IF(SUMMARY!$E19="","",SUMMARY!$E19) | O9: =IF(SUMMARY!$E20="","",SUMMARY!$E20) | P9: =IF(SUMMARY!$E21="","",SUMMARY!$E21) | Q9: =IF(SUMMARY!$E22="","",SUMMARY!$E22) | R9: =IF(SUMMARY!$E23="","",SUMMARY!$E23) | S9: =IF(SUMMARY!$E24="","",SUMMARY!$E24) | T9: =IF(SUMMARY!$E25="","",SUMMARY!$E25) | U9: =IF(SUMMARY!$E26="","",SUMMARY!$E26) | V9: =IF(SUMMARY!$E27="","",SUMMARY!$E27) | W9: =IF(SUMMARY!$E28="","",SUMMARY!$E28) | X9: =IF(SUMMARY!$E29="","",SUMMARY!$E29) | Y9: =IF(SUMMARY!$E30="","",SUMMARY!$E30) | Z9: =IF(SUMMARY!$E31="","",SUMMARY!$E31) | AA9: =IF(SUMMARY!$E32="","",SUMMARY!$E32) | AB9: =IF(SUMMARY!$E33="","",SUMMARY!$E33) | AC9: =IF(SUMMARY!$E34="","",SUMMARY!$E34) | AD9: =IF(SUMMARY!$E35="","",SUMMARY!$E35) | AE9: =IF(SUMMARY!$E36="","",SUMMARY!$E36)
A10: 0.3 Publication identifier (Title/PMID/DOI) | B10: =IF(SUMMARY!$F7="","",SUMMARY!$F7) -> MACHINE LEARNING TECHNIQUES TO PREDICT IN-HOSPITAL CARDIOVASCULAR OUTCOMES IN ELDERLY PATIENTS PRESENTING WITH ACUTE MYOCARDIAL INFARCTION | C10: =IF(SUMMARY!$F8="","",SUMMARY!$F8) -> A novel tool for highly reliable and accurate prediction of multiple complications in patients undergoing percutaneous coronary intervention | D10: =IF(SUMMARY!$F9="","",SUMMARY!$F9) -> Merging Machine Learning and Patient Preference: A Contemporary, Comprehensive, Patient-Centered Tool for Risk Prediction Prior to Percutaneous Coronary Intervention | E10: =IF(SUMMARY!$F10="","",SUMMARY!$F10) -> Comparison of Machine Learning Methods With National Cardiovascular Data Registry Models for Prediction of Risk of Bleeding After Percutaneous Coronary Intervention | F10: =IF(SUMMARY!$F11="","",SUMMARY!$F11) -> Artificial intelligence in percutaneous coronary intervention: improved risk prediction of PCI-related complications using an artificial neural network | G10: =IF(SUMMARY!$F12="","",SUMMARY!$F12) -> Machine learning models for prediction of adverse events after percutaneous coronary intervention | H10: =IF(SUMMARY!$F13="","",SUMMARY!$F13) -> Machine learning on high-dimensional data to predict bleeding post percutaneous coronary intervention | I10: =IF(SUMMARY!$F14="","",SUMMARY!$F14) -> Machine learning for prediction of bleeding in acute myocardial infarction patients after percutaneous coronary intervention | J10: =IF(SUMMARY!$F15="","",SUMMARY!$F15) -> A dynamic model to estimate evolving risk of major bleeding after percutaneous coronary intervention | K10: =IF(SUMMARY!$F16="","",SUMMARY!$F16) -> A pragmatic approach for mortality prediction after surgery in infective endocarditis: optimizing and refining EuroSCORE | L10: =IF(SUMMARY!$F17="","",SUMMARY!$F17) -> A pragmatic approach for mortality prediction after surgery in infective endocarditis: optimizing and refining EuroSCORE | M10: =IF(SUMMARY!$F18="","",SUMMARY!$F18) | N10: =IF(SUMMARY!$F19="","",SUMMARY!$F19) | O10: =IF(SUMMARY!$F20="","",SUMMARY!$F20) | P10: =IF(SUMMARY!$F21="","",SUMMARY!$F21) | Q10: =IF(SUMMARY!$F22="","",SUMMARY!$F22) | R10: =IF(SUMMARY!$F23="","",SUMMARY!$F23) | S10: =IF(SUMMARY!$F24="","",SUMMARY!$F24) | T10: =IF(SUMMARY!$F25="","",SUMMARY!$F25) | U10: =IF(SUMMARY!$F26="","",SUMMARY!$F26) | V10: =IF(SUMMARY!$F27="","",SUMMARY!$F27) | W10: =IF(SUMMARY!$F28="","",SUMMARY!$F28) | X10: =IF(SUMMARY!$F29="","",SUMMARY!$F29) | Y10: =IF(SUMMARY!$F30="","",SUMMARY!$F30) | Z10: =IF(SUMMARY!$F31="","",SUMMARY!$F31) | AA10: =IF(SUMMARY!$F32="","",SUMMARY!$F32) | AB10: =IF(SUMMARY!$F33="","",SUMMARY!$F33) | AC10: =IF(SUMMARY!$F34="","",SUMMARY!$F34) | AD10: =IF(SUMMARY!$F35="","",SUMMARY!$F35) | AE10: =IF(SUMMARY!$F36="","",SUMMARY!$F36)
A11: 0.4 Publication journal | B11: =IF(SUMMARY!$G7="","",SUMMARY!$G7) -> Journal of the American College of Cardiology | C11: =IF(SUMMARY!$G8="","",SUMMARY!$G8) -> Circulation | D11: =IF(SUMMARY!$G9="","",SUMMARY!$G9) -> Circulation | E11: =IF(SUMMARY!$G10="","",SUMMARY!$G10) -> JAMA network open | F11: =IF(SUMMARY!$G11="","",SUMMARY!$G11) -> BMJ Innovations | G11: =IF(SUMMARY!$G12="","",SUMMARY!$G12) -> Scientific Reports | H11: =IF(SUMMARY!$G13="","",SUMMARY!$G13) -> Journal of Invasive Cardiology | I11: =IF(SUMMARY!$G14="","",SUMMARY!$G14) -> Therapeutic advances in chronic disease | J11: =IF(SUMMARY!$G15="","",SUMMARY!$G15) -> medRxiv | K11: =IF(SUMMARY!$G16="","",SUMMARY!$G16) -> Clinical Microbiology and Infection | L11: =IF(SUMMARY!$G17="","",SUMMARY!$G17) -> Clinical Microbiology and Infection | M11: =IF(SUMMARY!$G18="","",SUMMARY!$G18) | N11: =IF(SUMMARY!$G19="","",SUMMARY!$G19) | O11: =IF(SUMMARY!$G20="","",SUMMARY!$G20) | P11: =IF(SUMMARY!$G21="","",SUMMARY!$G21) | Q11: =IF(SUMMARY!$G22="","",SUMMARY!$G22) | R11: =IF(SUMMARY!$G23="","",SUMMARY!$G23) | S11: =IF(SUMMARY!$G24="","",SUMMARY!$G24) | T11: =IF(SUMMARY!$G25="","",SUMMARY!$G25) | U11: =IF(SUMMARY!$G26="","",SUMMARY!$G26) | V11: =IF(SUMMARY!$G27="","",SUMMARY!$G27) | W11: =IF(SUMMARY!$G28="","",SUMMARY!$G28) | X11: =IF(SUMMARY!$G29="","",SUMMARY!$G29) | Y11: =IF(SUMMARY!$G30="","",SUMMARY!$G30) | Z11: =IF(SUMMARY!$G31="","",SUMMARY!$G31) | AA11: =IF(SUMMARY!$G32="","",SUMMARY!$G32) | AB11: =IF(SUMMARY!$G33="","",SUMMARY!$G33) | AC11: =IF(SUMMARY!$G34="","",SUMMARY!$G34) | AD11: =IF(SUMMARY!$G35="","",SUMMARY!$G35) | AE11: =IF(SUMMARY!$G36="","",SUMMARY!$G36)
